Workbook

Sheet ...
D5: COTIZACION 1 | E5: COTIZACION 2 | F5: COTIZACION 3
B6: ITEMS | C6: DESCRIPCION | D6: SUBTOTALES | E6: SUBTOTALES | F6: SUBTOTALES | H6: SUBTOTALES PROMEDIO
B7: 1 | C7: FICHA NACIONAL | D7: ='Ficha Nacionales '!H24 -> 662354020 | E7: ='Ficha Nacionales '!J24 -> 488461194 | F7: ='Ficha Nacionales '!L24 -> 607646808 | H7: ='Ficha Nacionales '!N24 -> 5.8615401e+08
B8: 2 | C8: FICHA DEPARTAMENTAL | D8: ='Ficha Interdepartamental'!H22 -> 98625270 | E8: ='Ficha Interdepartamental'!J22 -> 72732405 | F8: ='Ficha Interdepartamental'!L22 -> 90479236 | H8: ='Ficha Interdepartamental'!N22 -> 87278970
C9: TOTAL COTIZACIONES | D9: =SUM(D7:D8) -> 760979290 | E9: =SUM(E7:E8) -> 561193599 | F9: =SUM(F7:F8) -> 698126044 | G9: TOTAL PROMEDO | H9: =SUM(H7:H8) -> 6.7343298e+08

Sheet Ficha Nacionales 
B2: FICHA NACIONAL | G2: Cotizacion 1 | I2: Cotizacion 2 | K2: Cotizacion 3 | M2: PROMEDIO
B3: ITEMS | C3: ACTIVIDADES | D3: DESCRIPCIÓN Y/O ESPECIFICACIONES TÉCNICAS | E3: UNIDAD DE MEDIDA | F3: CANTIDAD | G3: VR UNITARIO | H3: VR TOTAL | I3: VR UNITARIO | J3: VR TOTAL | K3: VR UNITARIO | L3: VR TOTAL | M3: VR UNITARIO | N3: VR TOTAL
B4: 1 | C4: Tiquetes Aéreos | D4: Suministro de los tiquetes aéreos para el desplazamiento de las diferentes delegaciones que participaran en representación del departamento archipiélago de San Andrés, Providencia y Santa Catalina en los diferentes eventos clasificatorios que organicen las federaciones deportivas, en búsqueda de definir los finalistas los XXIII Juegos Deportivos Nacionales y VII Juegos Paranacionales, Córdoba - Sucre 2027, Carlos Lleras Restrepo. (Ida y Regreso) | E4: PAX | F4: 128 | G4: 1412500 | H4: =F4*G4 -> 180800000 | I4: 1041666 | J4: =F4*I4 -> 133333248 | K4: 1295835 | L4: =F4*K4 -> 165866880 | M4: =(K4+I4+G4)/3 -> 1250000.3 | N4: =F4*M4 -> 1.6000004e+08
B5: 2 | C5: Alojamiento y alimentación | D5: Suministro del alojamiento en acomodación doble en hoteles categoría 4 o similares y la alimentación (desayuno, almuerzo y cena), dependiendo el número de días y la programación que se establezca. (4 noches) | E5: PAX | F5: 128 | G5: 2084850 | H5: =F5*G5 -> 266860800 | I5: 1537500 | J5: =F5*I5 -> 196800000 | K5: 1912653 | L5: =F5*K5 -> 244819584 | M5: =(K5+I5+G5)/3 -> 1845001 | N5: =F5*M5 -> 236160128
B6: 3 | C6: Uniformes de Presentación | D6: Suministro de uniformes de presentación para uso de las delegaciones que participarán en los diferentes eventos clasificatorios. Los uniformes están compuestos por Pantalón sudadera (1), camiseta tipo polo (1), gorra tipo béisbol (1), camiseta algodón cuello redondo (1) Sublimados | E6: KIT | F6: 128 | G6: 458780 | H6: =F6*G6 -> 58723840 | I6: 338333 | J6: =F6*I6 -> 43306624 | K6: 420887 | L6: =F6*K6 -> 53873536 | M6: =(K6+I6+G6)/3 -> 406000 | N6: =F6*M6 -> 51968000
B7: 4 | C7: Uniformes de competencia | D7: A los deportistas de le delegación de atletismo se les suministrará las zapatillas correspondientes. Los uniformes de las disciplinas deportivas de Karate y Taekwondo deberán cumplir con requerimientos técnicos aprobados por las respectivas federaciones y por ende autorizados para participar en competencias. Uniformes a cada delegación conforme disciplina con modelos uniformes y características similares con absorción de humedad (dry-fit), antibacteriales (anti-olor) y protección solar (UPF 30-50+) cuando corresponda. Dos juegos por cada deportista, personal del cuerpo técnico y de apoyo. Los uniformes de competencia de las otras disciplinas constan de: Camiseta: Corte ergonómico (Slim o Regular Fit) con costuras reforzadas en hombros y sisas.Técnica de Estampado Sublimación Digital de alta resolución (transferencia por calor).Pantaloneta: Cintura elástica con cordón de ajuste interno y refuerzo en la entrepierna para mayor movilidad. Medias (Complemento): Generalmente de poliamida con elastano, con tejido de toalla en la planta del pie para amortiguación.
D8: UNIFORMES DE AJEDREZ (Camiseta tipo polo (1) sudadera (1) | E8: KIT | F8: 6 | G8: 180800 | H8: =F8*G8 -> 1084800 | I8: 133333 | J8: =F8*I8 -> 799998 | K8: 165866 | L8: =F8*K8 -> 995196 | M8: =(K8+I8+G8)/3 -> 159999.67 | N8: =F8*M8 -> 959998
D9: UNIFORMES DE ATLETISMO (Camiseta transpirables (1) pantaloneta ajustabble (1), zapatillas (1) | E9: KIT | F9: 0 | G9: 305100 | H9: =F9*G9 -> 0 | I9: 225000 | J9: =F9*I9 -> 0 | K9: 279900 | L9: =F9*K9 -> 0 | M9: =(K9+I9+G9)/3 -> 270000 | N9: =F9*M9 -> 0
D10: UNIFORMES DE BALONMANO (camiseta cuello V (1) Pantaloneta (1) Medias (1) | E10: KIT | F10: 30 | G10: 180800 | H10: =F10*G10 -> 5424000 | I10: 133333 | J10: =F10*I10 -> 3999990 | K10: 165866 | L10: =F10*K10 -> 4975980 | M10: =(K10+I10+G10)/3 -> 159999.67 | N10: =F10*M10 -> 4799990
D11: UNIFORMES DE BEISBOL (Camiseta (1), Bombacho (1) Gorra (1) Medias (1) Cinturon (1) | E11: KIT | F11: 22 | G11: 316400 | H11: =F11*G11 -> 6960800 | I11: 233333 | J11: =F11*I11 -> 5133326 | K11: 290267 | L11: =F11*K11 -> 6385874 | M11: =(K11+I11+G11)/3 -> 280000 | N11: =F11*M11 -> 6160000
D12: UNIFORMES DE BOXEO (Camiseta sin Manga (1) Pantaloneta a la rodilla (1)) | E12: KIT | F12: 10 | G12: 180800 | H12: =F12*G12 -> 1808000 | I12: 133333 | J12: =F12*I12 -> 1333330 | K12: 165866 | L12: =F12*K12 -> 1658660 | M12: =(K12+I12+G12)/3 -> 159999.67 | N12: =F12*M12 -> 1599996.7
D13: UNIFORMES DE FUTBOL (camiseta cuello V (1) Pantaloneta (1) Medias (1) | E13: KIT | F13: 0 | G13: 186450 | H13: =F13*G13 -> 0 | I13: 137500 | J13: =F13*I13 -> 0 | K13: 171050 | L13: =F13*K13 -> 0 | M13: =(K13+I13+G13)/3 -> 165000 | N13: =F13*M13 -> 0
D14: UNIFORMES DE KARATE (Uwagi (Chaqueta) (1), Zubon (Pantalón) (1), Obi (Cinturón) | E14: KIT | F14: 10 | G14: 3955000 | H14: =F14*G14 -> 39550000 | I14: 2916666 | J14: =F14*I14 -> 29166660 | K14: 3628340 | L14: =F14*K14 -> 36283400 | M14: =(K14+I14+G14)/3 -> 3500002 | N14: =F14*M14 -> 35000020
D15: UNIFORMES DE SOFTBOL (Camiseta (1), Bombacho (1) Gorra (1) Medias (1) Cinturon (1) | E15: KIT | F15: 22 | G15: 316400 | H15: =F15*G15 -> 6960800 | I15: 233333 | J15: =F15*I15 -> 5133326 | K15: 290267 | L15: =F15*K15 -> 6385874 | M15: =(K15+I15+G15)/3 -> 280000 | N15: =F15*M15 -> 6160000
D16: UNIFORMES DE VOLEIBOL (camiseta cuello V (1) Pantaloneta (1) Medias (1) | E16: KIT | F16: 0 | G16: 180800 | H16: =F16*G16 -> 0 | I16: 133333 | J16: =F16*I16 -> 0 | K16: 165866 | L16: =F16*K16 -> 0 | M16: =(K16+I16+G16)/3 -> 159999.67 | N16: =F16*M16 -> 0
D17: UNIFORMES DE BALONCESTO (camiseta cuello V (1) Pantaloneta (1) Medias (1) | E17: KIT | F17: 28 | G17: 180800 | H17: =F17*G17 -> 5062400 | I17: 133333 | J17: =F17*I17 -> 3733324 | K17: 165866 | L17: =F17*K17 -> 4644248 | M17: =(K17+I17+G17)/3 -> 159999.67 | N17: =F17*M17 -> 4479990.7
D18: UNIFORMES DE FUTBOL SALON (camiseta cuello V (1) Pantaloneta (1) Medias (1) | E18: KIT | F18: 0 | G18: 180800 | H18: =F18*G18 -> 0 | I18: 133333 | J18: =F18*I18 -> 0 | K18: 165866 | L18: =F18*K18 -> 0 | M18: =(K18+I18+G18)/3 -> 159999.67 | N18: =F18*M18 -> 0
B19: 5 | C19: BOLSOS VIAJEROS DEPORTISTAS Y PERSONAL ADMIN | D19: Tula viajera mediana Active está pensada para salidas de fin de semana, ir al gym o simplemente trayectos urbanos. Confeccionada en poliéster RPET antidesgarro, tiene correas ajustables para hombro, kissing slider para mayor seguridad y 34 litros de capacidad. Dimensiones:Alto: 29 cm x Ancho: 51 cm x Profundo: 20 cm, Material:Exterior: Poliester=100%, Tamaño Mediano | E19: UND | F19: 128 | G19: 344650 | H19: =F19*G19 -> 44115200 | I19: 254166 | J19: =F19*I19 -> 32533248 | K19: 316183 | L19: =F19*K19 -> 40471424 | M19: =(K19+I19+G19)/3 -> 304999.67 | N19: =F19*M19 -> 39039957
B20: 6 | C20: Pólizas individual contra accidentes y muerte | D20: Póliza contra accidentes y muerte para cada uno de los miembros de las delegaciones que se desplazan por el término de duración de los eventos clasificatorios correspondientes. | E20: UND | F20: 128 | G20: 24860 | H20: =F20*G20 -> 3182080 | I20: 18333 | J20: =F20*I20 -> 2346624 | K20: 22806 | L20: =F20*K20 -> 2919168 | M20: =(K20+I20+G20)/3 -> 21999.667 | N20: =F20*M20 -> 2815957.3
B21: 7 | C21: Traslados IN/OUT | D21: Traslado de las delegaciones aeropuerto/ hotel aeropuerto | E21: und | F21: 256 | G21: 22600 | H21: =F21*G21 -> 5785600 | I21: 16666 | J21: =F21*I21 -> 4266496 | K21: 20733 | L21: =F21*K21 -> 5307648 | M21: =(K21+I21+G21)/3 -> 19999.667 | N21: =F21*M21 -> 5119914.7
B22: 8 | C22: Traslados Internos | D22: Traslado de las delegaciones entre el lugar de alojamiento y los escenarios deportivos, según programación 4 buses por dia | E22: dia | F22: 4 | G22: 5424000 | H22: =F22*G22 -> 21696000 | I22: 4000000 | J22: =F22*I22 -> 16000000 | K22: 4976009 | L22: =F22*K22 -> 19904036 | M22: =(K22+I22+G22)/3 -> 4800003 | N22: =F22*M22 -> 19200012
B23: 9 | C23: Bebidas isotónicas (unidades) | D23: Concentración de azúcares (carbohidratos) y sales minerales (electrolitos). | E23: und | F23: 900 | G23: 15933 | H23: =F23*G23 -> 14339700 | I23: 11750 | J23: =F23*I23 -> 10575000 | K23: 14617 | L23: =F23*K23 -> 13155300 | M23: =(K23+I23+G23)/3 -> 14100 | N23: =F23*M23 -> 12690000
D24: SUBTOTAL | H24: =SUM(H4:H23) -> 662354020 | J24: =SUM(J4:J23) -> 488461194 | L24: =SUM(L4:L23) -> 607646808 | N24: =SUM(N4:N23) -> 5.8615401e+08

Sheet Ficha Interdepartamental
B2: FICHA INTERDEPARTAMENTAL | G2: Cotizacion 1 | I2: Cotizacion 2 | K2: Cotizacion 3 | M2: PROMEDIO
B3: ITEMS | C3: ACTIVIDADES | D3: DESCRIPCIÓN Y/O ESPECIFICACIONES TÉCNICAS | E3: UNIDAD DE MEDIDA | F3: CANTIDAD | G3: VR UNITARIO | H3: VR TOTAL | I3: VR UNITARIO | J3: VR TOTAL | K3: VR UNITARIO | L3: VR TOTAL | M3: VR UNITARIO | N3: VR TOTAL
B4: 1 | C4: Tiquetes Aéreos | D4: Providencia – ADZ- Valledupar - Adz-Providencia | E4: pax | F4: 3 | G4: 2712000 | H4: =F4*G4 -> 8136000 | I4: 2000000 | J4: =F4*I4 -> 6000000 | K4: 2488000 | L4: =F4*K4 -> 7464000 | M4: =(I4+K4+G4)/3 -> 2400000 | N4: =F4*M4 -> 7200000
D5: San Andrés – Valledupar – San Andrés | E5: pax | F5: 20 | G5: 1582000 | H5: =F5*G5 -> 31640000 | I5: 1166666 | J5: =F5*I5 -> 23333320 | K5: 1451336 | L5: =F5*K5 -> 29026720 | M5: =(I5+K5+G5)/3 -> 1400000.7 | N5: =F5*M5 -> 28000013
D6: Cartagena – Valledupar - Cartagena | E6: pax | F6: 1 | G6: 678000 | H6: =F6*G6 -> 678000 | I6: 500000 | J6: =F6*I6 -> 500000 | K6: 622000 | L6: =F6*K6 -> 622000 | M6: =(I6+K6+G6)/3 -> 600000 | N6: =F6*M6 -> 600000
D7: Bucaramanga – Valledupar – Bucaramanga | E7: pax | F7: 3 | G7: 1356000 | H7: =F7*G7 -> 4068000 | I7: 1000000 | J7: =F7*I7 -> 3000000 | K7: 1244000 | L7: =F7*K7 -> 3732000 | M7: =(I7+K7+G7)/3 -> 1200000 | N7: =F7*M7 -> 3600000
D8: Barranquilla – Valledupar – Barranquilla | E8: pax | F8: 1 | G8: 1356000 | H8: =F8*G8 -> 1356000 | I8: 1000000 | J8: =F8*I8 -> 1000000 | K8: 1244000 | L8: =F8*K8 -> 1244000 | M8: =(I8+K8+G8)/3 -> 1200000 | N8: =F8*M8 -> 1200000
D9: Medellín – Valledupar – Medellín - | E9: pax | F9: 1 | G9: 1356000 | H9: =F9*G9 -> 1356000 | I9: 1000000 | J9: =F9*I9 -> 1000000 | K9: 1244000 | L9: =F9*K9 -> 1244000 | M9: =(I9+K9+G9)/3 -> 1200000 | N9: =F9*M9 -> 1200000
B10: 2 | C10: Uniformes de Presentación | D10: Suministro de uniformes de presentación para uso de las delegaciones que participarán en los diferentes eventos clasificatorios. Los uniformes están compuestos por Pantalón sudadera (1), camiseta tipo polo (1), gorra tipo béisbol (1), camiseta algodón cuello redondo (1) Sublimados | E10: kit | F10: 29 | G10: 458780 | H10: =F10*G10 -> 13304620 | I10: 338333 | J10: =F10*I10 -> 9811657 | K10: 420887 | L10: =F10*K10 -> 12205723 | M10: =(I10+K10+G10)/3 -> 406000 | N10: =F10*M10 -> 11774000
B11: 3 | C11: Uniformes de competencia Ajedrez | D11: (Camiseta tipo polo (1) sudadera (1) | E11: KIT | F11: 5 | G11: 180800 | H11: =F11*G11 -> 904000 | I11: 133333 | J11: =F11*I11 -> 666665 | K11: 165866 | L11: =F11*K11 -> 829330 | M11: =(I11+K11+G11)/3 -> 159999.67 | N11: =F11*M11 -> 799998.33
B12: 4 | C12: Uniformes de competencia de atletismo (juego) | D12: (Camiseta transpirables (1) pantaloneta ajustable (1), zapatillas (1) | E12: KIT | F12: 5 | G12: 305100 | H12: =F12*G12 -> 1525500 | I12: 225000 | J12: =F12*I12 -> 1125000 | K12: 279900 | L12: =F12*K12 -> 1399500 | M12: =(I12+K12+G12)/3 -> 270000 | N12: =F12*M12 -> 1350000
B13: 5 | C13: Uniformes de competencia de baloncesto 3 X 3 (juegos) | D13: Camisetas sin manga, pantalón corto (poliéster o algodón con tecnología de secado rápido) dry fit, anti olor y con protección solar 30-50+; calcetines. (1) Camisetas sin manga, (1) pantalón corto (poliéster o algodón con tecnología de secado rápido) dry fit, anti olor y con protección solar 30-50+; (1 par) calcetines. | E13: KIT | F13: 0 | G13: 180800 | H13: =F13*G13 -> 0 | I13: 133333 | J13: =F13*I13 -> 0 | K13: 165866 | L13: =F13*K13 -> 0 | M13: =(I13+K13+G13)/3 -> 159999.67 | N13: =F13*M13 -> 0
B14: 6 | C14: Uniformes de competencia de boxeo (juegos) | D14: Ropa ligera y transpirable (pantalones cortos y camiseta sin mangas); botas especiales para soporte de tobillo, y equipamiento de protección, vendas, protector bucal, y protector inguinal (coquilla). | E14: KIT | F14: 6 | G14: 180800 | H14: =F14*G14 -> 1084800 | I14: 133333 | J14: =F14*I14 -> 799998 | K14: 165866 | L14: =F14*K14 -> 995196 | M14: =(I14+K14+G14)/3 -> 159999.67 | N14: =F14*M14 -> 959998
B15: 7 | C15: Uniformes de competencia de Karate (juegos) | D15: Karategui (uniforme) blanco aprobado (federación Mundial de Karate), Chaqueta y pantalón blancos, sin botones, confeccionada en tela resistente y ligera para mantener movimientos fluidos (Adidas o Arawaza o cualquiera que cumplan especificaciones WKF. | E15: KIT | F15: 8 | G15: 2034000 | H15: =F15*G15 -> 16272000 | I15: 1500000 | J15: =F15*I15 -> 12000000 | K15: 1866000 | L15: =F15*K15 -> 14928000 | M15: =(I15+K15+G15)/3 -> 1800000 | N15: =F15*M15 -> 14400000
B16: 8 | C16: Uniformes de competencia de Patinaje (juegos) | D16: Trajes ultraceñidos (speed suits) de materiales elásticos como lycra/spandex, contando además con mangas o perneras largas/cortas, costuras planas para evitar roces, y cascos y guantes. | E16: KIT | F16: 3 | G16: 271200 | H16: =F16*G16 -> 813600 | I16: 200000 | J16: =F16*I16 -> 600000 | K16: 248800 | L16: =F16*K16 -> 746400 | M16: =(I16+K16+G16)/3 -> 240000 | N16: =F16*M16 -> 720000
B17: 9 | C17: Uniformes ciencias aplicadas | D17: Camiseta tipo polo (1) Pantalon largo tipo cargo (1) | E17: KIT | F17: 2 | G17: 180800 | H17: =F17*G17 -> 361600 | I17: 133333 | J17: =F17*I17 -> 266666 | K17: 165866 | L17: =F17*K17 -> 331732 | M17: =(I17+K17+G17)/3 -> 159999.67 | N17: =F17*M17 -> 319999.33
B18: 10 | C18: Pólizas individual contra accidentes y muerte | D18: Póliza contra accidentes y muerte por todo el término de los juegos incluidos los días de los traslados aéreos. | E18: und | F18: 29 | G18: 24860 | H18: =F18*G18 -> 720940 | I18: 18333 | J18: =F18*I18 -> 531657 | K18: 22806 | L18: =F18*K18 -> 661374 | M18: =(I18+K18+G18)/3 -> 21999.667 | N18: =F18*M18 -> 637990.33
B19: 11 | C19: Traslados IN/OUT | D19: Traslado de la delegación del aeropuerto al sitio asignado por la organización para el hospedaje y de regreso al aeropuerto una vez culminen los juegos | E19: und | F19: 58 | G19: 22600 | H19: =F19*G19 -> 1310800 | I19: 16666 | J19: =F19*I19 -> 966628 | K19: 20733 | L19: =F19*K19 -> 1202514 | M19: =(I19+K19+G19)/3 -> 19999.667 | N19: =F19*M19 -> 1159980.7
B20: 12 | C20: Bebidas isotónicas (unidades) | D20: Concentración de azúcares (carbohidratos) y sales minerales (electrolitos) | E20: und | F20: 320 | G20: 15933 | H20: =F20*G20 -> 5098560 | I20: 11750 | J20: =F20*I20 -> 3760000 | K20: 14617 | L20: =F20*K20 -> 4677440 | M20: =(I20+K20+G20)/3 -> 14100 | N20: =F20*M20 -> 4512000
B21: 13 | C21: BOLSOS VIAJEROS DEPORTISTAS Y PERSONAL ADMIN | D21: Tula viajera mediana Active está pensada para salidas de fin de semana, ir al gym o simplemente trayectos urbanos. Confeccionada en poliéster RPET antidesgarro, tiene correas ajustables para hombro, kissing slider para mayor seguridad y 34 litros de capacidad. Dimensiones:Alto: 29 cm x Ancho: 51 cm x Profundo: 20 cm, Material:Exterior: Poliester=100%, Tamaño Mediano | E21: und | F21: 29 | G21: 344650 | H21: =F21*G21 -> 9994850 | I21: 254166 | J21: =F21*I21 -> 7370814 | K21: 316183 | L21: =F21*K21 -> 9169307 | M21: =(I21+K21+G21)/3 -> 304999.67 | N21: =F21*M21 -> 8844990.3
C22: SUBTOTAL | H22: =SUM(H4:H21) -> 98625270 | J22: =SUM(J4:J21) -> 72732405 | L22: =SUM(L4:L21) -> 90479236 | N22: =SUM(N4:N21) -> 87278970
