Workbook

Sheet TIT-PRES
A1: ='SEGUIM-EP'!A1 -> 3810000 | B1: =3759500*1.03 -> 3872285
A3: ANEXO 2
A4: PLAN DE CONTRATACIÓN DE INSTRUCTORES AÑO 2021 PROGRAMACION REGULAR - SEGUIMIENTO A ETAPA PRODUCTIVA VIRTUAL Y PRESENCIAL
A6: Regional: CAUCA | I6: CDP No.
A7: Centro: COMERCIO Y SERVICIOS | I7: Rubro:
A8: Periodo: 2021
A9: Acta No.
A10: Tope global programado | B10: =+I34 -> 1998147800
A11: Menos Horas presente plan | H11: Elaborado por:
A12: Saldo | H12: Nombre: | I12: SUBDIRECTOR DE CENTRO - COORDINADOR MISIONAL - COORDINADOR ACADÉMICO
A13: % Utilizado | H13: Teléfono: | I13: 820-5903
A14: Nombre del Programa (TE-TP-TGO) | B14: Nombre de la competencia a desarrollar | C14: No. De personas a contratar | D14: No. De meses a contratar | E14: No. De días a contratar | F14: Fechas Previstas para la contratación | H14: Costo Hora o Costo Honorarios mes (Pesos) | I14: Costo Total (Pesos) | J14: OBSERVACIONES (PERFIL DEL INSTRUCTOR)
F15: Inicio (D-M-A) | G15: Terminación (D-M-A)
A16: 1 | B16: 2 | C16: 3 | D16: 4 | E16: 5 | F16: 6 | H16: 7 | I16: 8 | J16: 9 | IV16: =SUBTOTAL(9,A16:IU16) -> 45
A17: TITULADA PRESENCIAL PANIFICACIÓN Presencial y/o virtual | B17: Competencias técnicas del progama | C17: 1 | D17: 10 | E17: 22 | F17: 44221 | G17: 44547 | H17: =$A$1 -> 3810000 | I17: =(D17*H17+(H17/30*E17))*C17 -> 40894000 | J17: Requisitos Académicos: Preferiblemente: Ingeniero de Alimentos, profesional en gastronomía o áreas afines. Opcional:Técnico en panificación, cocina o afines. Experiencia Relacionada: Dieciocho (18) meses estarán relacionados con el ejercicio de empleos, actividades u oficios afines con su profesión objeto de la contratación. Experiencia Docente: Seis (6) meses en el ejercicio de las actividades de divulgación del conocimiento obtenida en instituciones educativas debidamente reconocidas.
A18: TITULADA PRESENCIAL GESTIÓN BANCARIA Presencial y/o virtual | B18: Competencias técnicas del programa | C18: 4 | D18: 10 | E18: 22 | F18: 44221 | G18: 44547 | H18: =$A$1 -> 3810000 | I18: =(D18*H18+(H18/30*E18))*C18 -> 163576000 | J18: Requisitos Académicos: Preferiblemente: Profesional Universitario en Ciencias Económicas o afines. Tarjeta profesional. Experiencia Relacionada: Dieciocho (18) meses estarán relacionados con el ejercicio de empleos, actividades u oficios afines con su profesión objeto de la contratación. Experiencia Docente: Seis (6) meses en el ejercicio de las actividades de divulgación del conocimiento obtenida en instituciones educativas debidamente reconocidas.
A19: TITULADA PRESENCIAL GESTIÓN CONTABLE Y FINANCIERA Presencial y/o virtual | B19: Competencias técnicas del programa | C19: 11 | D19: 10 | E19: 22 | F19: 44221 | G19: 44547 | H19: =$A$1 -> 3810000 | I19: =(D19*H19+(H19/30*E19))*C19 -> 449834000 | J19: Preferiblemente con especialización en finanzas, tributaria, costos o afines; con experiencia y manejo de software contable, financiero y de nómina. Lo mismo que formación en tecnologías de la información y las comunicaciones aplicadas para el desarrollo de las actividades propias del área contable y financiera: Alternativa 1. Requisitos Académicos: Profesional Universitarios o Tecnólogo en Contaduría pública, finanzas o afines. Opcional: Tecnólogo en Contaduría pública, finanzas, administración de empresas, economía, o afines. Tarjeta profesional. Experiencia Relacionada: Dieciocho (18) meses estarán relacionados con el ejercicio de empleos, actividades u oficios afines con su profesión objeto de la contratación. Experiencia Docente: Seis (6) meses en el ejercicio de las actividades de divulgación del conocimiento obtenida en instituciones educativas debidamente reconocidas. Alternativa 2. Requisitos Académicos: Título de técnico profesional en: Contaduría pública, finanzas, administración de empresas, economía, o afines. Experiencia Relacionada: Treinta (30) meses estarán relacionados con el ejercicio de empleos, actividades u oficios afines con su profesión objeto de la contratación. Experiencia Docente: Seis (6) meses en el ejercicio de las actividades de divulgación del conocimiento obtenida en instituciones educativas debidamente reconocidas.
A20: TITULADA PRESENCIAL GESTIÓN ADMINISTRATIVA GESTIÓN EMPRESARIAL GESTIÓN DEL TALENTO HUMANO Presencial y/o virtual | B20: Competencias técnicas del progama | C20: 4 | D20: 10 | E20: 22 | F20: 44221 | G20: 44547 | H20: =$A$1 -> 3810000 | I20: =(D20*H20+(H20/30*E20))*C20 -> 163576000 | J20: Alternativa 1 Requisitos Académicos: Profesional en Administrador de empresas, gestión empresarial, ciencias administrativas o afines, preferiblemente especialista y/o actualización en servicio al cliente. Tarjeta profesional. Experiencia Relacionada: Dieciocho (18) meses estarán relacionados con el ejercicio de empleos, actividades u oficios afines con su profesión objeto de la contratación. Experiencia Docente: Seis (6) meses en el ejercicio de las actividades de divulgación del conocimiento obtenida en instituciones educativas debidamente reconocidas. Alternativa 2 Requisitos Académicos: Tecnólogo en Gestión Empresarial o áreas afines o cuatro (4) años de estudios universitarios en mercadeo, logística o áreas afines. Experiencia Relacionada: Treinta (30) meses estarán relacionados con el ejercicio de empleos, actividades u oficios afines con su profesión objeto de la contratación. Experiencia Docente: Seis (6) meses en el ejercicio de las actividades de divulgación del conocimiento obtenida en instituciones educativas debidamente reconocidas.
A21: TITULADA PRESENCIAL GESTIÓN DOCUMENTAL Presencial y/o virtual | B21: Competencias técnicas del progama | C21: 2 | D21: 10 | E21: 22 | F21: 44221 | G21: 44547 | H21: =$A$1 -> 3810000 | I21: =(D21*H21+(H21/30*E21))*C21 -> 81788000 | J21: Requisitos Académicos: Preferiblemente: Profesiona en Ciencias de la Información y la Documentación o Archivística; Tarjeta profesional. Opcional: Egresados SENA con título de Tecnólogo en gestión documental o técnico profesional en archivo; Tarjeta profesional. Experiencia Relacionada: Dieciocho (18) meses estarán relacionados con el ejercicio de empleos, actividades u oficios afines con su profesión objeto de la contratación. Experiencia Docente: Seis (6) meses en el ejercicio de las actividades de divulgación del conocimiento obtenida en instituciones educativas debidamente reconocidas.
A22: TITULADA PRESENCIAL COCINA Presencial y/o virtual 50% FORMACIÓN 50% SEGUIMIENTO ETAPA PRODUCTIVA | B22: Competencias técnicas del progama | C22: 1 | D22: 10 | E22: 22 | F22: 44221 | G22: 44547 | H22: =$A$1 -> 3810000 | I22: =(D22*H22+(H22/30*E22))*C22 -> 40894000 | J22: Requisitos Académicos: Preferiblemente: Profesional en las áreas de gastronomía, cocina, alta cocina, culinaria o gestión hotelera. Opcional: Tecnólogo y/ técnico en las áreas de cocina, gastronomía, culinaria, gestión hotelera o gestión de alimentos y bebidas. Experiencia Relacionada: Dieciocho (18) meses estarán relacionados con el ejercicio de empleos, actividades u oficios afines con su profesión objeto de la contratación. Experiencia Docente: Seis (6) meses en el ejercicio de las actividades de divulgación del conocimiento obtenida en instituciones educativas debidamente reconocidas.
A23: TITULADA PRESENCIAL SISTEMAS Presencial y/o virtual | B23: Competencias técnicas del progama | C23: 2 | D23: 10 | E23: 22 | F23: 44221 | G23: 44547 | H23: =$A$1 -> 3810000 | I23: =(D23*H23+(H23/30*E23))*C23 -> 81788000 | J23: Requisitos Académicos: Preferiblemente: Profesional universitario en desarrollo de Software o Ingeniero de Sistemas. Opcional: Tecnologo en Análisis, diseño y desarrollo de software o afines; Tarjeta profesional. Experiencia Relacionada: Dieciocho (18) meses estarán relacionados con el ejercicio de empleos, actividades u oficios afines con su profesión objeto de la contratación. Experiencia Docente: Seis (6) meses en el ejercicio de las actividades de divulgación del conocimiento obtenida en instituciones educativas debidamente reconocidas.
A24: TITULADA PRESENCIAL ANÁLISI, DISEÑO Y DESARROLLO DE SOFTWARE Presencial y/o virtual | B24: Competencias técnicas del progama | C24: 2 | D24: 10 | E24: 22 | F24: 44221 | G24: 44547 | H24: =$A$1 -> 3810000 | I24: =(D24*H24+(H24/30*E24))*C24 -> 81788000 | J24: Opción 1: Requisitos Académicos: Profesional universitario en desarrollo de Software o Ingeniero de Sistemas. Experiencia Relacionada: Dieciocho (18) meses estarán relacionados con el ejercicio de empleos, actividades u oficios afines con el desarrollo de software. Experiencia Docente: Seis (6) meses en el ejercicio de las actividades de divulgación del conocimiento obtenida en instituciones educativas debidamente reconocidas. Opción 2: Requisitos Académicos: Tecnologo en Análisis, diseño y desarrollo de software o afines. Tarjeta profesional. Experiencia Relacionada: Treinta (30) meses estarán relacionados con el ejercicio de empleos, actividades u oficios afines con el desarrollo de software. Experiencia Docente: Seis (6) meses en el ejercicio de las actividades de divulgación del conocimiento obtenida en instituciones educativas debidamente reconocidas.
A25: TITULADA PRESENCIAL GESTIÓN LOGÍSTICA GESTIÓN EMPRESARIAL GESTIÓN DE MERCADOS Presencial y/o virtual | B25: Competencias técnicas del progama y Formación Complementaria | C25: 2 | D25: 10 | E25: 22 | F25: 44221 | G25: 44547 | H25: =$A$1 -> 3810000 | I25: =(D25*H25+(H25/30*E25))*C25 -> 81788000 | J25: Requisitos Académicos: Opción 1. Ingeniero industrial, Agroindustrial y ciencias afines. Opción 2. Tecnólogo en Logística. Opción 3. Seis (6) semestres o su equivalente en Ingeniería industrial. Opción 4. Profesiones afines, Certificación laboral en normas de competencia laboral relacionadas con la titulación de Dirección de compras. Experiencia Relacionada: Diciocho (18) meses estarán relacionados con el ejercicio de empleos, actividades u oficios afines con su profesión objeto de la contratación. Experiencia Docente: Seis (6) meses en el ejercicio de las actividades de divulgación del conocimiento obtenida en instituciones educativas debidamente reconocidas.
A26: TITULADA PRESENCIAL ENFERMERÍA Presencial y/o virtual | B26: Competencias técnicas del progama | C26: 7 | D26: 10 | E26: 22 | F26: 44221 | G26: 44547 | H26: =$A$1 -> 3810000 | I26: =(D26*H26+(H26/30*E26))*C26 -> 286258000 | J26: Requisitos Académicos: Preferiblemente: Profesional en enfermería. Opcional: Fisiotepia con posgrado en funciones asistencias y/o Salud Pública. Experiencia Relacionada: Diciocho (18) meses estarán relacionados con el ejercicio de empleos, actividades u oficios afines con su profesión objeto de la contratación. Experiencia Docente: Seis (6) meses en el ejercicio de las actividades de divulgación del conocimiento obtenida en instituciones educativas debidamente reconocidas.
A27: TITULADA PRESENCIAL ADMINISTRACIÓN EN SALUD Presencial y/o virtual | B27: Competencias técnicas del progama | C27: 3 | D27: 10 | E27: 22 | F27: 44221 | G27: 44547 | H27: =$A$1 -> 3810000 | I27: =(D27*H27+(H27/30*E27))*C27 -> 122682000 | J27: Requisitos Académicos: Profesionales en el área de la salud, Administración en Salud con Especialización Calidad en Salud o Auditoria o Seguridad Social o Gerencia en Salud. Experiencia Relacionada: Doce (12) meses estarán relacionados con el ejercicio de empleos, actividades u oficios afines con su profesión objeto de la contratación. Experiencia Docente: Doce (12) meses en el ejercicio de las actividades de divulgación del conocimiento obtenida en instituciones educativas debidamente reconocidas.
A28: TITULADA PRESENCIAL SALUD PÚBLICA Presencial y/o virtual | B28: Competencias técnicas del progama | C28: 3 | D28: 10 | E28: 22 | F28: 44221 | G28: 44547 | H28: =$A$1 -> 3810000 | I28: =(D28*H28+(H28/30*E28))*C28 -> 122682000 | J28: Requisitos Académicos: Profesionales del área de la salud con postgrado en salud pública o epidemiología. Experiencia Relacionada: Doce (12) meses estarán relacionados con el ejercicio de empleos, actividades u oficios afines con su profesión objeto de la contratación. Experiencia Docente: Doce (12) meses en el ejercicio de las actividades de divulgación del conocimiento obtenida en instituciones educativas debidamente reconocidas.
... A30: TITULADA PRESENCIAL SERVICIOS FARMACÉUTICOS Presencial y/o virtual | B30: Competencias técnicas del progama | C30: 2 | D30: 10 | E30: 22 | F30: 44221 | G30: 44547 | H30: =$A$1 -> 3810000 | I30: =(D30*H30+(H30/30*E30))*C30 -> 81788000 | J30: Requisitos Académicos: Preferiblemente: Químico farmacéutico o profesional en Regencia de farmacia. Experiencia Relacionada: Dieciocho (18) meses estarán relacionados con el ejercicio de empleos, actividades u oficios afines con su profesión objeto de la contratación. Experiencia Docente: Seis (6) meses en el ejercicio de las actividades de divulgación del conocimiento obtenida en instituciones educativas debidamente reconocidas. Opcional: Requisitos Académicos: Tecnología en Regencia de Farmacia Experiencia Relacionada: Treinta (30) meses estarán relacionados con el ejercicio de empleos, actividades u oficios afines con su profesión objeto de la contratación. Experiencia Docente: Seis (6) meses en el ejercicio de las actividades de divulgación del conocimiento obtenida en instituciones educativas debidamente reconocidas.
A31: TITULADA PRESENCIAL PELUQUERIA Y CUIDADO ESTÉTICO DE MANOS Y PIES Presencial y/o virtual | B31: Competencias técnicas del progama y Formación Complementaria | C31: 2 | D31: 10 | E31: 22 | F31: 44221 | G31: 44547 | H31: =($A$1-468000)/2 -> 1671000 | I31: =(D31*H31+(H31/30*E31))*C31 -> 35870800 | J31: Requisitos Académicos: Preferiblemente: Profesional en peluquería o belleza integral. Opcional: Técnico en peluquería o técnico en belleza integral. Experiencia Relacionada: Veinticuatro (24) meses estarán relacionados con el ejercicio de empleos, actividades u oficios afines con su profesión objeto de la contratación. Experiencia Docente: Seis (6) meses en el ejercicio de las actividades de divulgación del conocimiento obtenida en instituciones educativas debidamente reconocidas.
A32: TITULADA PRESENCIAL SEGURIDAD VIAL, CONTROL DE TRANSITO Y TRANSPORTE Presencial y/o virtual | B32: Competencias técnicas del progama y Formación Complementaria | C32: 1 | D32: 10 | E32: 22 | F32: 44221 | G32: 44547 | H32: =$A$1 -> 3810000 | I32: =(D32*H32+(H32/30*E32))*C32 -> 40894000 | J32: Opción uno. Requisitos Académicos: Profesional en derecho, investigación judicial. Experiencia Relacionada: Doce (12) meses estarán relacionados con el ejercicio de empleos, actividades u oficios afines con su profesión objeto de la contratación. Experiencia Docente: Seis (6) meses en el ejercicio de las actividades de divulgación del conocimiento obtenida en instituciones educativas debidamente reconocidas. Opción dos: Requisitos Académicos: Tecnólogo en investigación judicial y/o criminalística o afines o cuatro (4) años estudios universitarios en derecho, investigación judicial o cuatro (4) años estudios universitarios en ingeniería de transporte, industrial, mecánica, administración de empresas. Experiencia Relacionada: Doce (12) meses estarán relacionados con el ejercicio de empleos, actividades u oficios afines con su profesión objeto de la contratación. Experiencia Docente: Seis (6) meses en el ejercicio de las actividades de divulgación del conocimiento obtenida en instituciones educativas debidamente reconocidas.
A33: TITULADA PRESENCIAL SERVICIOS DE RESTAURANTE Y BAR Presencial y/o virtual | B33: Competencias técnicas del progama y Formación Complementaria | C33: 1 | D33: 10 | E33: 17 | F33: 44228 | G33: 44547 | H33: =$A$1 -> 3810000 | I33: =(D33*H33+(H33/30*E33))*C33 -> 40259000 | J33: Requisitos Académicos: Preferiblemente: Profesional en hotelería y turismo. Opcional: Tecnólogo y/o técnico en mesa y bar o gastronomía. Experiencia Relacionada: Doce (12) meses estarán relacionados con el ejercicio de empleos, actividades u oficios afines con su profesión objeto de la contratación. Experiencia Docente: Seis (6) meses en el ejercicio de las actividades de divulgación del conocimiento obtenida en instituciones educativas debidamente reconocidas.
B34: TOTAL | C34: =SUM(C17:C33) -> 50 | I34: =SUM(I17:I33) -> 1998147800
A40: FERNANDO ALFONSO ESCOBAR QUIRA | E40: HAROL ARMANDO ROSERO SALAZAR | J40: Mirtha Gilma Espinosa Urbano
A41: C.C. 10.530.994 | E41: C.C. 76.320.134 | J41: C.C. 27.450.864
A42: Subdirector | E42: Coordinador Académico | J42: Coordinadora Formación Profesional

Sheet TIT-VIRT
A1: ='SEGUIM-EP'!A1-300000 -> 3510000 | B1: =3478310*1.03 -> 3582659.3
A3: ANEXO 2
A4: PLAN DE CONTRATACIÓN DE INSTRUCTORES AÑO 2021 PROGRAMACION REGULAR - SEGUIMIENTO A ETAPA PRODUCTIVA VIRTUAL Y PRESENCIAL
A6: Regional: CAUCA | I6: CDP No.
A7: Centro: COMERCIO Y SERVICIOS | I7: RUBRO
A8: Periodo: 2021
A9: Acta No.
A10: Tope global programado | B10: =+I23 -> 263133000
A11: Menos Horas presente plan | H11: Elaborado por:
A12: Saldo | H12: Nombre: | I12: SUBDIRECTOR DE CENTRO - COORDINADOR MISIONAL - COORDINADOR ACADÉMICO
A13: % Utilizado | H13: Teléfono: | I13: 820-5903
A14: Nombre del Programa (TE-TP-TGO) | B14: Nombre de la competencia a desarrollar | C14: No. De personas a contratar | D14: No. De meses a contratar | E14: No. De días a contratar | F14: Fechas Previstas para la contratación | H14: Costo Hora o Costo Honorarios mes (Pesos) | I14: Costo Total (Pesos) | J14: OBSERVACIONES (PERFIL DEL INSTRUCTOR) | K14: 1er Pago | L14: Último Pago | N14: No. De personas a contratar | O14: No. De meses a contratar | P14: No. De días a contratar | Q14: Fechas Previstas para la contratación | S14: Costo Hora o Costo Honorarios mes (Pesos) | T14: Costo Total (Pesos)
F15: Inicio (D-M-A) | G15: Terminación (D-M-A) | K15: Días | L15: Días | Q15: Inicio (D-M-A) | R15: Terminación (D-M-A)
A16: 1 | B16: 2 | C16: 3 | D16: 4 | E16: 5 | F16: 6 | H16: 7 | I16: 8 | J16: 9 | K16: 7 | L16: 15 | N16: 3 | O16: 4 | P16: 5 | Q16: 6 | S16: 7 | T16: 8
A17: MERCADEO Virtual | B17: Competencias técnicas del progama | C17: 2 | D17: 10 | E17: 22 | F17: 44221 | G17: 44547 | H17: =$A$1 -> 3510000 | I17: =(D17*H17+(H17/30*E17))*C17 -> 75348000 | J17: Alternativa 1 Requisitos Académicos: Profesional en Administrador de empresas, gestión empresarial, ciencias administrativas o afines, preferiblemente especialista y/o actualización en servicio al cliente; Tarjeta profesional. Experiencia Relacionada: Dieciocho (18) meses estarán relacionados con el ejercicio de empleos, actividades u oficios afines con su profesión objeto de la contratación. Experiencia Docente: Seis (6) meses en el ejercicio de las actividades de divulgación del conocimiento obtenida en instituciones educativas debidamente reconocidas. Alternativa 2 Requisitos Académicos: Tecnólogo en Gestión Empresarial o áreas afines o cuatro (4) años de estudios universitarios en mercadeo, logística o áreas afines. Experiencia Relacionada: Treinta (30) meses estarán relacionados con el ejercicio de empleos, actividades u oficios afines con su profesión objeto de la contratación. Experiencia Docente: Seis (6) meses en el ejercicio de las actividades de divulgación del conocimiento obtenida en instituciones educativas debidamente reconocidas. | K17: =H17/30*K16 -> 819000
A18: ANALISIS, DISEÑO Y DESARROLLO DE SOFTWARE Virtual | B18: Competencias técnicas del progama | C18: 1 | D18: 10 | E18: 22 | F18: 44221 | G18: 44547 | H18: =$A$1 -> 3510000 | I18: =(D18*H18+(H18/30*E18))*C18 -> 37674000 | J18: Opción 1: Requisitos Académicos: Profesional universitario en desarrollo de Software o Ingeniero de Sistemas. Experiencia Relacionada: Dieciocho (18) meses estarán relacionados con el ejercicio de empleos, actividades u oficios afines con el desarrollo de software y/o redes de computadoras. Experiencia Docente: Seis (6) meses en el ejercicio de las actividades de divulgación del conocimiento obtenida en instituciones educativas debidamente reconocidas. Opción 2: Requisitos Académicos: Tecnologo en Análisis, diseño y desarrollo de software o afines. Tarjeta profesional. Experiencia Relacionada: Treinta (30) meses estarán relacionados con el ejercicio de empleos, actividades u oficios afines con el desarrollo de software y/o redes de computadoras. Experiencia Docente: Seis (6) meses en el ejercicio de las actividades de divulgación del conocimiento obtenida en instituciones educativas debidamente reconocidas.
A19: NEGOCIACIÓN INTERNACIONAL Virtual | B19: Competencias técnicas del progama | C19: 1 | D19: 10 | E19: 22 | F19: 44221 | G19: 44547 | H19: =$A$1 -> 3510000 | I19: =(D19*H19+(H19/30*E19))*C19 -> 37674000 | J19: Requisitos Académicos: Preferiblemente: Profesional universitario en programas de formación relacionados con los procesos de gestión logística en la cadena de abastecimiento, o con énfasis en planeación de las actividades del mercadeo, tales como: Ingeniero industrial, Ingeniería de mercados, logística, o alimentos, administradores de empresas, contabilidad, finanzas y ciencias afines, preferiblemente con especialización en logística o comercio internacional o negocios internacionales y ciencias afines. Opcional: Tecnólogo en Negociación Internacional. Experiencia Relacionada: Veinticuatro (24) meses estarán relacionados con el ejercicio de empleos, actividades u oficios afines con el desarrollo de software y/o redes de computadoras. Experiencia Docente: Seis (6) meses en el ejercicio de las actividades de divulgación del conocimiento obtenida en instituciones educativas debidamente reconocidas.
A20: GESTIÓN LOGÍTICA Virtual | B20: Competencias técnicas del progama | C20: 1 | D20: 10 | E20: 22 | F20: 44221 | G20: 44547 | H20: =$A$1 -> 3510000 | I20: =(D20*H20+(H20/30*E20))*C20 -> 37674000 | J20: Requisitos Académicos: Opción 1. Ingeniero industrial, Agroindustrial y ciencias afines. Opción 2. Tecnólogo en Logística. Opción 3. Seis (6) semestres o su equivalente en Ingeniería industrial. Opción 4. Profesiones afines, Certificación laboral en normas de competencia laboral relacionadas con la titulación de Dirección de compras. Experiencia Relacionada: Dieciocho (18) meses estarán relacionados con el ejercicio de empleos, actividades u oficios afines con el desarrollo de software y/o redes de computadoras. Experiencia Docente: Seis (6) meses en el ejercicio de las actividades de divulgación del conocimiento obtenida en instituciones educativas debidamente reconocidas.
A21: GUIANZA TURISTICA A distancia | B21: Competencias técnicas del progama | C21: 1 | D21: 10 | E21: 22 | F21: 44221 | G21: 44547 | H21: =$A$1 -> 3510000 | I21: =(D21*H21+(H21/30*E21))*C21 -> 37674000 | J21: Requisitos Académicos: Preferiblemente: Profesional en Administración turística y hotelera, Hotelería y turismo. Opcional: Tecnólogo en organización de eventos y/o Tecnólogo en gestión hotelera. Experiencia Relacionada: Dieciocho (18) meses estarán relacionados con el ejercicio de empleos, actividades u oficios afines con el desarrollo de software y/o redes de computadoras. Experiencia Docente: Seis (6) meses en el ejercicio de las actividades de divulgación del conocimiento obtenida en instituciones educativas debidamente reconocidas.
A22: TODOS LOS PROGRAMAS (TRANSVERSAL ÉTICA) Presencial y/o virtual | B22: ÉTICA PARA LA CONSTRUCCIÓN DE UNA CULTURA DE PAZ | C22: 1 | D22: 10 | E22: 17 | F22: 44228 | G22: 44547 | H22: =$A$1 -> 3510000 | I22: =(D22*H22+(H22/30*E22))*C22 -> 37089000 | J22: Requisitos Académicos: Preferiblemente: Licenciado en educación física o profesional en ciencias del deporte. Opcional: Tecnólogo en actividad física o entrenamiento deportivo con Especialización tecnológica relacionada con el área de conocimiento. Experiencia Relacionada: Doce (12) meses estarán relacionados con el ejercicio de empleos, actividades u oficios afines con su profesión objeto de la contratación. Experiencia Docente: Doce (12) meses en el ejercicio de las actividades de divulgación del conocimiento obtenida en instituciones educativas debidamente reconocidas.
B23: TOTAL | C23: =SUM(C17:C22) -> 7 | I23: =SUM(I17:I22) -> 263133000 | N23: =SUM(N20:N20) -> 0 | T23: =SUM(T20:T20) -> 0
A30: FERNANDO ALFONSO ESCOBAR QUIRA | E30: HAROL ARMANDO ROSERO SALAZAR | J30: Mirtha Gilma Espinosa Urbano
A31: C.C. 10.530.994 | E31: C.C. 76.320.134 | J31: C.C. 27.450.864
A32: Subdirector | E32: Coordinador Académico | J32: Coordinadora Formación Profesional

Sheet SEGUIM-EP
A1: 3810000 | B1: =3759500*1.03 -> 3872285
A3: ANEXO 2
A4: PLAN DE CONTRATACIÓN DE INSTRUCTORES AÑO 2021 PROGRAMACION REGULAR - SEGUIMIENTO A ETAPA PRODUCTIVA VIRTUAL Y PRESENCIAL
A6: Regional: CAUCA | I6: CDP No.
A7: Centro: COMERCIO Y SERVICIOS | I7: Rubro:
A8: Periodo: 2021
A9: Acta No.
A10: Tope global programado | B10: =+I19 -> 120582000
A11: Menos Horas presente plan | H11: Elaborado por:
A12: Saldo | H12: Nombre: | I12: SUBDIRECTOR DE CENTRO - COORDINADOR MISIONAL - COORDINADOR ACADÉMICO | N12: PROYECCION DE ADICIONES
A13: % Utilizado | H13: Teléfono: | I13: 820-5903
A14: Nombre del Programa (TE-TP-TGO) | B14: Nombre de la competencia a desarrollar | C14: No. De personas a contratar | D14: No. De meses a contratar | E14: No. De días a contratar | F14: Fechas Previstas para la contratación | H14: Costo Hora o Costo Honorarios mes (Pesos) | I14: Costo Total (Pesos) | J14: OBSERVACIONES (PERFIL DEL INSTRUCTOR) | K14: 1er Pago | L14: Último Pago | N14: No. De personas a contratar | O14: No. De meses a contratar | P14: No. De días a contratar | Q14: Fechas Previstas para la contratación | S14: Costo Hora o Costo Honorarios mes (Pesos) | T14: Costo Total (Pesos)
F15: Inicio (D-M-A) | G15: Terminación (D-M-A) | K15: Días | L15: Días | Q15: Inicio (D-M-A) | R15: Terminación (D-M-A)
A16: 1 | B16: 2 | C16: 3 | D16: 4 | E16: 5 | F16: 6 | H16: 7 | I16: 8 | J16: 9 | K16: 11 | L16: 15 | O16: 3 | P16: 4 | Q16: 5 | R16: 6 | T16: 7 | U16: 8
A17: SEGUIMIENTO A ETAPA PRODUCTIVA (AREA ADMINISTRATIVA) | B17: Competencias técnicas del progama | C17: 2 | D17: 11 | E17: 0 | F17: 44221 | G17: 44554 | H17: =$A$1 -> 3810000 | I17: =(D17*H17+(H17/30*E17))*C17 -> 83820000 | J17: Alternativa 1 Requisitos Académicos: Profesional en Administrador de empresas, gestión empresarial, ciencias administrativas o afines, preferiblemente especialista y/o actualización en servicio al cliente; Tarjeta profesional. Experiencia Relacionada: Dieciocho (18) meses estarán relacionados con el ejercicio de empleos, actividades u oficios afines con su profesión objeto de la contratación. Experiencia Docente: Seis (6) meses en el ejercicio de las actividades de divulgación del conocimiento obtenida en instituciones educativas debidamente reconocidas. Alternativa 2 Requisitos Académicos: Tecnólogo en Gestión Empresarial o áreas afines o cuatro (4) años de estudios universitarios en mercadeo, logística o áreas afines. Experiencia Relacionada: Treinta (30) meses estarán relacionados con el ejercicio de empleos, actividades u oficios afines con su profesión objeto de la contratación. Experiencia Docente: Seis (6) meses en el ejercicio de las actividades de divulgación del conocimiento obtenida en instituciones educativas debidamente reconocidas. | K17: =H17/30*K16 -> 1397000 | L17: =127000*30 -> 3810000
A18: SEGUIMIENTO A ETAPA PRODUCTIVA (AREA ARCHIVO) | B18: Competencias técnicas del progama | C18: 1 | D18: 11 | E18: 0 | F18: 44221 | G18: 44554 | H18: =$A$1-468000 -> 3342000 | I18: =(D18*H18+(H18/30*E18))*C18 -> 36762000 | J18: Requisitos Académicos: Preferiblemente: Profesiona en Ciencias de la Información y la Documentación o Archivística; Tarjeta profesional. Opcional: Egresados SENA con título de Tecnólogo en gestión documental o técnico profesional en archivo; Tarjeta profesional. Experiencia Relacionada: Dieciocho (18) meses estarán relacionados con el ejercicio de empleos, actividades u oficios afines con su profesión objeto de la contratación. Experiencia Docente: Seis (6) meses en el ejercicio de las actividades de divulgación del conocimiento obtenida en instituciones educativas debidamente reconocidas.
B19: TOTAL | C19: =SUM(C17:C18) -> 3 | I19: =SUM(I17:I18) -> 120582000 | N19: =SUM(N17:N18) -> 0 | T19: =SUM(T17:T18) -> 0
A24: FERNANDO ALFONSO ESCOBAR QUIRA | E24: HAROL ARMANDO ROSERO SALAZAR | J24: Mirtha Gilma Espinosa Urbano
A25: C.C. 10.530.994 | E25: C.C. 76.320.134 | J25: C.C. 27.450.864
A26: Subdirector | E26: Coordinador Académico | J26: Coordinadora Formación Profesional

Sheet TIT-TRASV
A1: ='SEGUIM-EP'!A1 -> 3810000 | B1: =3759500*1.03 -> 3872285
A3: ANEXO 2
A4: PLAN DE CONTRATACIÓN DE INSTRUCTORES AÑO 2021 PROGRAMACION REGULAR - SEGUIMIENTO A ETAPA PRODUCTIVA VIRTUAL Y PRESENCIAL
A6: Regional: CAUCA | I6: CDP No.
A7: Centro: COMERCIO Y SERVICIOS | I7: Rubro:
A8: Periodo: 2021
A9: Acta No.
A10: Tope global programado | B10: =+I25 -> 621284000
A11: Menos Horas presente plan | F11: 22200000 | H11: Elaborado por:
A12: Saldo | F12: =+F11-25283333 -> -3083333 | G12: 3083333 | H12: Nombre: | I12: SUBDIRECTOR DE CENTRO - COORDINADOR MISIONAL - COORDINADOR ACADÉMICO
A13: % Utilizado | H13: Teléfono: | I13: 820-5903
A14: Nombre del Programa (TE-TP-TGO) | B14: Nombre de la competencia a desarrollar | C14: No. de personas a contratar | D14: No. de meses a contratar | E14: No. de días a contratar | F14: Fechas Previstas para la contratación | H14: Costo Hora o Costo Honorarios mes (Pesos) | I14: Costo Total (Pesos) | J14: OBSERVACIONES (PERFIL DEL INSTRUCTOR) | O14: No. De personas a contratar | P14: No. De meses a contratar | Q14: No. De días a contratar | R14: Fechas Previstas para la contratación | T14: Costo Hora o Costo Honorarios mes (Pesos) | U14: Costo Total (Pesos)
F15: Inicio (D-M-A) | G15: Terminación (D-M-A) | R15: Inicio (D-M-A) | S15: Terminación (D-M-A)
A16: 1 | B16: 2 | C16: 3 | D16: 4 | E16: 5 | F16: 6 | H16: 7 | I16: 8 | J16: 9 | O16: 3 | P16: 4 | Q16: 5 | R16: 6 | T16: 7 | U16: 8
A17: TODOS LOS PROGRAMAS (TRANSVERSAL ÉTICA) Presencial y/o virtual | B17: ÉTICA PARA LA CONSTRUCCIÓN DE UNA CULTURA DE PAZ | C17: 2 | D17: 9 | E17: 17 | F17: 44256 | G17: 44547 | H17: =$A$1 -> 3810000 | I17: =(D17*H17+(H17/30*E17))*C17 -> 72898000 | J17: Requisitos Académicos: Preferiblemente: Licenciado en educación física o profesional en ciencias del deporte. Opcional: Tecnólogo en actividad física o entrenamiento deportivo con Especialización tecnológica relacionada con el área de conocimiento. Experiencia Relacionada: Doce (12) meses estarán relacionados con el ejercicio de empleos, actividades u oficios afines con su profesión objeto de la contratación. Experiencia Docente: Doce (12) meses en el ejercicio de las actividades de divulgación del conocimiento obtenida en instituciones educativas debidamente reconocidas.
A18: TODOS LOS PROGRAMAS (TRANSVERSAL INGLES - FRANCES) Presencial y/o virtual | B18: INGLÉS | C18: 7 | D18: 10 | E18: 17 | F18: 44228 | G18: 44547 | H18: =$A$1 -> 3810000 | I18: =(D18*H18+(H18/30*E18))*C18 -> 281813000 | J18: Requisitos Académicos: Profesional en cualquier área de conocimiento, con Nivel mínimo B2 de acuerdo con el MCER. Los exámenes admitidos deben corresponder a la lista de exámenes aprobados por la NTC 5580 (Icontec -MEN) tener una vigencia de dos (2) años, corresponder a cuatro habilidades de dominio de la lengua (comprensión oral, comprensión escrita, producción oral, producción escrita). Experiencia Relacionada: Veinticuatro (24) meses relacionados con la docencia de lengua extranjera.
A19: TODOS LOS PROGRAMAS (TRANSVERSAL CULTURA FISICA) Presencial y/o virtual | B19: ACTIVIDAD FÍSICA Y HÁBITOS DE VIDA SALUDABLE | C19: 1 | D19: 10 | E19: 17 | F19: 44228 | G19: 44547 | H19: =$A$1 -> 3810000 | I19: =(D19*H19+(H19/30*E19))*C19 -> 40259000 | J19: Requisitos Académicos: Preferiblemente: Licenciado en educación física o profesional en ciencias del deporte. Opcional: Tecnólogo en actividad física o entrenamiento deportivo con Especialización tecnológica relacionada con el área de conocimiento. Experiencia Relacionada: Doce (12) meses estarán relacionados con el ejercicio de empleos, actividades u oficios afines con su profesión objeto de la contratación. Experiencia Docente: Seis (6) meses en el ejercicio de las actividades de divulgación del conocimiento obtenida en instituciones educativas debidamente reconocidas.
A20: TODOS LOS PROGRAMAS (TRANSVERSAL AMBIENTAL) Presencial y/o virtual | B20: PROTECCIÓN PARA LA SALUD Y EL MEDIO AMBIENTE | C20: 1 | D20: 9 | E20: 17 | F20: 44256 | G20: 44547 | H20: =$A$1 -> 3810000 | I20: =(D20*H20+(H20/30*E20))*C20 -> 36449000 | J20: Requisitos Académicos: Ingeniero ambiental, Ecólogo, Profesiones afines o Profesional con especialización en gestión ambiental. Experiencia Relacionada: Dieciocho (18) meses estarán relacionados con el ejercicio de empleos, actividades u oficios afines con su profesión objeto de la contratación. Experiencia Docente: Seis (6) meses en el ejercicio de las actividades de divulgación del conocimiento obtenida en instituciones educativas debidamente reconocidas.
A21: TODOS LOS PROGRAMAS (TRANSVERSAL COMUNICACIÓN) Presencial y/o virtual | B21: COMUNICACIÓN | C21: 1 | D21: 9 | E21: 17 | F21: 44256 | G21: 44547 | H21: =$A$1 -> 3810000 | I21: =(D21*H21+(H21/30*E21))*C21 -> 36449000 | J21: Requisitos Académicos: Profesional universitario en ciencias de la comunicación, periodismo, lingüística, filología, lenguas clásicas o modernas, español y literatura. Veinticuatro (24) meses de experiencia relacionada en área de formación y seis (6) meses de experiencia docente. Experiencia Relacionada: Veinticuatro (24) meses estarán relacionados con el ejercicio de empleos, actividades u oficios afines con su profesión objeto de la contratación. Experiencia Docente: Seis (6) meses en el ejercicio de las actividades de divulgación del conocimiento obtenida en instituciones educativas debidamente reconocidas.
A22: TODOS LOS PROGRAMAS (TRANSVERSAL EMPRENDIMIENTO) Presencial y/o virtual | B22: CULTURA EMPRENDEDORA Y EMPRESARIAL | C22: 2 | D22: 10 | E22: 17 | F22: 44228 | G22: 44547 | H22: =$A$1 -> 3810000 | I22: =(D22*H22+(H22/30*E22))*C22 -> 80518000 | J22: Alternativa 1. Requisitos Académicos: Profesionales en Ciencias económicas, Mercadeo, Ingeniería industrial, Logística, o afines. Experiencia Relacionada: Dieciocho (18) meses estarán relacionados con el ejercicio de empleos, actividades u oficios afines con su profesión objeto de la contratación. Experiencia Docente: Seis (6) meses en el ejercicio de las actividades de divulgación del conocimiento obtenida en instituciones educativas debidamente reconocidas. Alternativa 2. Requisitos Académicos: Título de Tecnólogo en: ciencias económicas, ingeniería industrial, mercadeo, logística o afines. Título de Técnico Profesional en: ciencias económicas, mercadeo, ingeniería industrial, logística o afines. Experiencia Relacionada: Treinta (30) meses estarán relacionados con el ejercicio de empleos, actividades u oficios afines con su profesión objeto de la contratación. Experiencia Docente: Seis (6) meses en el ejercicio de las actividades de divulgación del conocimiento obtenida en instituciones educativas debidamente reconocidas.
A23: TODOS LOS PROGRAMAS (TRANSVERSAL MATEMATICAS) Presencial y/o virtual | B23: MATEMÁTICAS | C23: 1 | D23: 9 | E23: 17 | F23: 44256 | G23: 44547 | H23: =$A$1 -> 3810000 | I23: =(D23*H23+(H23/30*E23))*C23 -> 36449000 | J23: Requisitos Académicos: Profesional universitario en disciplina académica del núcleo básico de conocimiento en: licenciado en matemáticas o ingeniero afín al programa de formación. Experiencia Relacionada: Dieciocho (18) meses estarán relacionados con el ejercicio de empleos, actividades u oficios afines con su profesión objeto de la contratación. Experiencia Docente: Seis (6) meses en el ejercicio de las actividades de divulgación del conocimiento obtenida en instituciones educativas debidamente reconocidas.
A24: TODOS LOS PROGRAMAS (TRANSVERSAL SALUD OCUPACIONAL) Presencial y/o virtual | B24: PROTECCIÓN PARA LA SALUD Y EL MEDIO AMBIENTE | C24: 1 | D24: 9 | E24: 17 | F24: 44256 | G24: 44547 | H24: =$A$1 -> 3810000 | I24: =(D24*H24+(H24/30*E24))*C24 -> 36449000 | J24: Requisitos Académicos: Profesional especializado en seguridad y salud en el trabajo con formación en gestión o educación ambientales. Experiencia Relacionada: Dieciocho (18) meses estarán relacionados con el ejercicio de empleos, actividades u oficios afines con su profesión objeto de la contratación. Experiencia Docente: Seis (6) meses en el ejercicio de las actividades de divulgación del conocimiento obtenida en instituciones educativas debidamente reconocidas.
B25: TOTAL | C25: =SUM(C17:C24) -> 16 | I25: =SUM(I17:I24) -> 621284000 | O25: =SUM(O19:O24) -> 0 | U25: =SUM(U19:U24) -> 0
A30: FERNANDO ALFONSO ESCOBAR QUIRA | E30: HAROL ARMANDO ROSERO SALAZAR | J30: Mirtha Gilma Espinosa Urbano
A31: C.C. 10.530.994 | E31: C.C. 76.320.134 | J31: C.C. 27.450.864
A32: Subdirector | E32: Coordinador Académico | J32: Coordinadora Formación Profesional

Sheet TIT-INVES
A1: ='SEGUIM-EP'!A1 -> 3810000 | B1: =3759500*1.03 -> 3872285
A3: ANEXO 2
A4: PLAN DE CONTRATACIÓN DE INSTRUCTORES AÑO 2021 PROGRAMACION REGULAR - SEGUIMIENTO A ETAPA PRODUCTIVA VIRTUAL Y PRESENCIAL
A6: Regional: CAUCA | I6: CDP No.
A7: Centro: COMERCIO Y SERVICIOS | I7: Rubro:
A8: Periodo: 2021
A9: Acta No.
A10: Tope global programado | B10: =+I21 -> 158750000
A11: Menos Horas presente plan | H11: Elaborado por:
A12: Saldo | H12: Nombre: | I12: SUBDIRECTOR DE CENTRO - COORDINADOR MISIONAL - COORDINADOR ACADÉMICO
A13: % Utilizado | H13: Teléfono: | I13: 820-5903
A14: Nombre del Programa (TE-TP-TGO) | B14: Nombre de la competencia a desarrollar | C14: No. De personas a contratar | D14: No. De meses a contratar | E14: No. De días a contratar | F14: Fechas Previstas para la contratación | H14: Costo Hora o Costo Honorarios mes (Pesos) | I14: Costo Total (Pesos) | J14: OBSERVACIONES (PERFIL DEL INSTRUCTOR) | N14: No. De personas a contratar | O14: No. De meses a contratar | P14: No. De días a contratar | Q14: Fechas Previstas para la contratación | S14: Costo Hora o Costo Honorarios mes (Pesos) | T14: Costo Total (Pesos)
F15: Inicio (D-M-A) | G15: Terminación (D-M-A) | Q15: Inicio (D-M-A) | R15: Terminación (D-M-A)
A16: 1 | B16: 2 | C16: 3 | D16: 4 | E16: 5 | F16: 6 | H16: 7 | I16: 8 | J16: 9 | N16: 3 | O16: 4 | P16: 5 | Q16: 6 | S16: 7 | T16: 8
A17: SALUD (30% Investigación 70% Seguimiento Etapa productiva) | B17: Competencias técnicas del progama | C17: 1 | D17: 10 | E17: 15 | F17: 44221 | G17: 44540 | H17: =$A$1 -> 3810000 | I17: =(D17*H17+(H17/30*E17))*C17 -> 40005000 | J17: Requisitos Académicos: Preferiblemente: Profesional en enfermería y/o fisiotepia. Opcional: Otras áreas de la Salud. Experiencia Relacionada: Dieciocho (18) meses estarán relacionados con el ejercicio de empleos, actividades u oficios afines con su profesión objeto de la contratación. Experiencia Docente: Seis (6) meses en el ejercicio de las actividades de divulgación del conocimiento obtenida en instituciones educativas debidamente reconocidas.
A18: DESARROLLO DE SOFTWARE (30% Investigación 70% Seguimiento Etapa productiva) | B18: Competencias técnicas del progama | C18: 1 | D18: 10 | E18: 15 | F18: 44221 | G18: 44540 | H18: =$A$1 -> 3810000 | I18: =(D18*H18+(H18/30*E18))*C18 -> 40005000 | J18: Opción 1: Requisitos Académicos: Profesional universitario en desarrollo de Software o Ingeniero de Sistemas. Experiencia Relacionada: Dieciocho (18) meses estarán relacionados con el ejercicio de empleos, actividades u oficios afines al desarrollo de software. Experiencia Docente: Seis (6) meses en el ejercicio de las actividades de divulgación del conocimiento obtenida en instituciones educativas debidamente reconocidas. Opción 2: Requisitos Académicos: Tecnologo en Análisis, diseño y desarrollo de software o afines. Tarjeta profesional. Experiencia Relacionada: Treinta (30) meses estarán relacionados con el ejercicio de empleos, actividades u oficios afines al desarrollo de software. Experiencia Docente: Seis (6) meses en el ejercicio de las actividades de divulgación del conocimiento obtenida en instituciones educativas debidamente reconocidas.
A19: ANIMACIÓN DIGITAL Y 3D Presencial y/o virtual (30% Investigación 70% Formación) | B19: Competencias técnicas del programa | C19: 1 | D19: 10 | E19: 10 | F19: 44228 | G19: 44540 | H19: =$A$1 -> 3810000 | I19: =(D19*H19+(H19/30*E19))*C19 -> 39370000 | J19: Requisitos Académicos: Preferiblemente: Profesional en diseño gráfico o carreras afines en animación digital o 3D. Opcional: Tecnólogo animación digital, animación 3D, ilustración para producciones audiovisuales. Experiencia Relacionada: Dieciocho (18) meses estarán relacionados con el ejercicio de empleos, actividades u oficios afines con su profesión objeto de la contratación. Experiencia Docente: Seis (6) meses en el ejercicio de las actividades de divulgación del conocimiento obtenida en instituciones educativas debidamente reconocidas.
A20: TODOS LOS PROGRAMAS (AMBIENTAL) Presencial y/o virtual (30% Investigación 70% Formación) | B20: Protección para la salud y el medio ambiente | C20: 1 | D20: 10 | E20: 10 | F20: 44228 | G20: 44540 | H20: =$A$1 -> 3810000 | I20: =(D20*H20+(H20/30*E20))*C20 -> 39370000 | J20: Requisitos Académicos: Ingeniero ambiental, Ecólogo, Profesiones afines o Profesional con especialización en gestión ambiental. Experiencia Relacionada: Dieciocho (18) meses estarán relacionados con el ejercicio de empleos, actividades u oficios afines con su profesión objeto de la contratación. Experiencia Docente: Seis (6) meses en el ejercicio de las actividades de divulgación del conocimiento obtenida en instituciones educativas debidamente reconocidas.
B21: TOTAL | C21: =SUM(C17:C20) -> 4 | I21: =SUM(I17:I20) -> 158750000 | N21: =SUM(#REF!) -> #REF! | T21: =SUM(#REF!) -> #REF!
A26: FERNANDO ALFONSO ESCOBAR QUIRA | E26: HAROL ARMANDO ROSERO SALAZAR | J26: Mirtha Gilma Espinosa Urbano
A27: C.C. 10.530.994 | E27: C.C. 76.320.134 | J27: C.C. 27.450.864
A28: Subdirector | E28: Coordinador Académico | J28: Coordinadora Formación Profesional

Sheet INVESTIG
A1: 3700000 | B1: =3650000*1.03 -> 3759500
A4: ANEXO 2
A5: PLAN DE CONTRATACIÓN DE INSTRUCTORES AÑO 2019 PROGRAMACION REGULAR - FORMACION TITULADA RED DE SALUD Y SERVICIOS PERSONALES
A7: Regional: CAUCA | I7: CDP No.
A8: Centro: COMERCIO Y SERVICIOS | I8: Rubro: | J8: 930715-C-3603-1300-14-0-3603025-10-02-10
A9: Periodo: 2019
A10: Acta No. 001 del 9 de enero de 2019
A11: Tope global programado | B11: =+I21 -> 0
A12: Menos Horas presente plan | H12: Elaborado por:
A13: Saldo | H13: Nombre: | I13: SUBDIRECTOR DE CENTRO - COORDINADOR MISIONAL - COORDINADOR ACADÉMICO
A14: % Utilizado | H14: Teléfono: | I14: 820-5903
A15: Nombre del Programa (TE-TP-TGO) | B15: Nombre de la competencia a desarrollar | C15: No. De personas a contratar | D15: No. De meses a contratar | E15: No. De días a contratar | F15: Fechas Previstas para la contratación | H15: Costo Hora o Costo Honorarios mes (Pesos) | I15: Costo Total (Pesos) | J15: OBSERVACIONES (PERFIL DEL INSTRUCTOR) | N15: No. De personas a contratar | O15: No. De meses a contratar | P15: No. De días a contratar | Q15: Fechas Previstas para la contratación | S15: Costo Hora o Costo Honorarios mes (Pesos) | T15: Costo Total (Pesos)
F16: Inicio (D-M-A) | G16: Terminación (D-M-A) | Q16: Inicio (D-M-A) | R16: Terminación (D-M-A)
A17: 1 | B17: 2 | C17: 3 | D17: 4 | E17: 5 | F17: 6 | H17: 7 | I17: 8 | J17: 9 | N17: 3 | O17: 4 | P17: 5 | Q17: 6 | S17: 7 | T17: 8
A18: ANIMACION DIGITAL | B18: Competencias técnicas del progama | D18: 10 | E18: 0 | F18: 43497 | G18: 43708 | H18: =$A$1 -> 3700000 | I18: =(C18*D18*H18)+(H18/30*E18*C18) -> 0 | J18: Profesionales en diseño gráfico o sistemas o Tecnólogos en animación digital o afines, expertos en técnicas de animación digital, dominio de los diversos software de animación,preferiblemente con Certificación Internacional en Desarrollo de Productos de Animación sobre Plataformas Adobe o AutoDesk. Mínimo 18 meses de experiencia profesional en el área y 6 meses de experiencia docente. 50% de dedicación a INVESTIGACIÓN
A19: DESARROLLO DE SOFTWARE O PROGRAMACION. | B19: Competencias técnicas del progama | D19: 10 | E19: 0 | F19: 43497 | G19: 43708 | H19: =$A$1 -> 3700000 | I19: =(C19*D19*H19)+(H19/30*E19*C19) -> 0 | J19: El programa requiere de un equipo de instructores con Título de Tecnólogo o Cuatro (4) años de Estudios Universitarios, relacionados con la especialidad objeto de formación, preferiblemente con Certificación Internacional en Desarrollo de Soluciones de Software ya sea en Tecnologías Sun Microsystems (Java o MySQL), Microsoft (Visual Studio o SQL Server) u Oracle (Administración o Desarrollo sobre PL/SQL). Veinticuatro (24) meses de Experiencia: de los cuales Dieciocho (18) meses estarán relacionados con el ejercicio de la profesión u oficio objeto de la formación profesional y Seis (6) meses en labores de docencia. 50% de dedicación a INVESTIGACIÓN
A20: SALUD | B20: Competencias técnicas del progama | D20: 10 | E20: 0 | F20: 43497 | G20: 43708 | H20: =$A$1 -> 3700000 | I20: =(C20*D20*H20)+(H20/30*E20*C20) -> 0 | J20: Profesionales en enfermería con formación específica en PAI, mínimo 12 meses de experiencia en su desempeño profesional. mínimo 24 meses de vinculación laboral en el desempeño de funciones relacionadas con los procesos comunitarios. mínimo 12 meses de experiencia en formación y/o educación. 50% de dedicación a INVESTIGACIÓN
B21: TOTAL | C21: =SUM(C18:C20) -> 0 | I21: =SUM(I18:I20) -> 0 | N21: =SUM(N18:N18) -> 0 | T21: =SUM(T18:T18) -> 0
A28: FERNANDO ALFONSO ESCOBAR QUIRA | E28: HAROL ARMANDO ROSERO SALAZAR | J28: MIRTHA GILMA ESPINOSA
A29: C.C. | E29: C.C. 76320134 | J29: C.C.
A30: Subdirector | E30: Coordinador Académico | J30: Coordinadora Formación Profesional
L31: REVISTA INDEXADA 1 AÑO
L32: Q1
L33: Anexo 2 de colciencias. | N33: A, B, C

Sheet ARTIC
A2: ANEXO 2
A3: PLAN DE CONTRATACIÓN DE INSTRUCTORES AÑO 2021 PROGRAMA DE ARTICULACIÓN
A5: Regional: CAUCA | I5: CDP No.
A6: Centro: COMERCIO Y SERVICIOS | I6: RUBRO
A7: Periodo: 2021
A8: Acta No.
A9: Tope global programado | B9: =I23 -> 485088345
A10: Menos Horas presente plan | H10: Elaborado por:
A11: Saldo | H11: Nombre: | I11: SUBDIRECTOR DE CENTRO - COORDINADOR MISIONAL - COORDINADOR ACADÉMICO
A12: % Utilizado | H12: Teléfono: | I12: 820-5903
A13: Nombre del Programa (TE-TP-TGO) | B13: Nombre de la competencia a desarrollar | C13: No. De personas a contratar | D13: No. De meses a contratar | E13: No. De días a contratar | F13: Fechas Previstas para la contratación | H13: Costo Hora o Costo Honorarios mes (Pesos) | I13: Costo Total (Pesos) | J13: OBSERVACIONES (PERFIL DEL INSTRUCTOR) | K13: 1er Pago | L13: Último Pago
F14: Inicio (D-M-A) | G14: Terminación (D-M-A) | K14: Días | L14: Días
A15: 1 | B15: 2 | C15: 3 | D15: 4 | E15: 5 | F15: 6 | H15: 7 | I15: 8 | J15: 9 | K15: 5 | L15: 15
A16: ASISTENCIA EN ORGANIZACION DE ARCHIVOS | B16: Según el diseño curricular del programa | C16: 1 | D16: 10 | E16: 15 | F16: 25/01/2021 | G16: 44540 | H16: 3849000 | I16: =(((H16/30)*E16)+(H16*D16))*C16 -> 40414500 | J16: REQUISITOS ACADÉMICOS: PREFERIBLEMENTE: PROFESIONAL EN CIENCIAS DE LA INFORMACIÓN DE LA COMUNICACIÓN O ARCHIVISTICA; Tarjeta profesional. OPCIONAL: EGRASADO SENA CON TUITULO DE TECNOLOGO EN GESTION DOCUMENTAL O TECNICO PROFESIONAL EN ARCHIVO; Tarjeta profesional. EXPERIENCIA RELACIONADA: DIECIOCHO (18) MESES ESTARAN ESTARAN RELACIONADOS CON EL EJERCICIO DE EMPLEOS, ACTIVIDADES U OFICIOS AFINES CON SU PROFESIÓN OBJETO DE LA CONTRATACIÓN. EXPERIENCIA DOCENTE: SEIS (6) MESES EN EL EJERCICIO DE LAS ACTIVIDADES DE DIVULGACION DEL CONOCIMIENTO OBTENIDA EN INSTITUCIONES EDUCATIVAS DEBIDAMENTE RECONOCIDAS. | K16: =(H16/30)*K15 -> 641500 | L16: =(I16/30)*L15 -> 20207250
A17: TCO EN ASISTENCIA ADMINISTRATIVA | B17: Según el diseño curricular del programa | C17: 2 | D17: 10 | E17: 15 | F17: 25/01/2021 | G17: 44540 | H17: 3849990 | I17: =(C17*D17*H17)+(H17/30*E17*C17) -> 80849790 | J17: REQUISITOS ACADÉMICOS: - PROFESIONAL EN CIENCIAS ECONÓMICAS O AFINES - PROFESIONAL EN ADMINISTRACIÓN DE EMPRESAS O AFINES - PROFESIONAL EN MERCADEO O AFINES - PROFESIONAL EN INGENIERÍA INDUSTRIAL O AFINES EXPERIENCIA RELACIONADA: DOCE (12) MESES ESTARAN ESTARAN RELACIONADOS CON EL EJERCICIO DE EMPLEOS, ACTIVIDADES U OFICIOS AFINES CON SU PROFESIÓN OBJETO DE LA CONTRATACIÓN. EXPERICNCIA DOCENTE: DOCE (12) MESES EN EL EJERCICIO DE LAS ACTIVIDADES DE DIVULGACION DEL CONOCIMIENTO OBTENIDA EN INSTITUCIONES EDUCATIVAS DEBIDAMENTE RECONOCIDAS.
A18: TCO COCINA | B18: Según el diseño curricular del programa | C18: 1 | D18: 10 | E18: 15 | F18: 25/01/2021 | G18: 44540 | H18: 3849990 | I18: =(C18*D18*H18)+(H18/30*E18*C18) -> 40424895 | J18: REQUISITOS ACADÉMICOS: PREFERIBLEMENTE: PROFESIONAL EN LAS ÁREAS DE GASTRONOMÍA, COCINA, ALTA COCINA, CULINARIA O GESTIÓN HOTELERA. OPCIONAL: TECNÓLOGO Y/ TÉCNICO EN LAS ÁREAS DE COCINA, GASTRONOMÍA, CULINARIA, GESTIÓN HOTELERA O GESTIÓN DE ALIMENTOS Y BEBIDAS. EXPERIENCIA RELACIONADA: DIECIOCHO (18) MESES ESTARÁN RELACIONADOS CON EL EJERCICIO DE EMPLEOS, ACTIVIDADES U OFICIOS AFINES CON SU PROFESIÓN OBJETO DE LA CONTRATACIÓN. EXPERIENCIA DOCENTE: SEIS (6) MESES EN EL EJERCICIO DE LAS ACTIVIDADES DE DIVULGACIÓN DEL CONOCIMIENTO OBTENIDA EN INSTITUCIONES EDUCATIVAS DEBIDAMENTE RECONOCIDAS.
A19: TCO SISTEMAS | B19: Según el diseño curricular del programa | C19: 3 | D19: 10 | E19: 15 | F19: 25/01/2021 | G19: 44540 | H19: 3849990 | I19: =(C19*D19*H19)+(H19/30*E19*C19) -> 121274685 | J19: REQUISITO ACADÉMICOS: TÍTULO DE TECNÓLOGO O PROFESIONAL EN SISTEMAS, ELECTRÓNICA O PROFESIONES RELACIONADAS CON LA ESPECIALIDAD OBJETO DE FORMACIÓN. EXPERIENCIA LABORAL: DOCE (12) MESES ESTARÁN RELACIONADOS CON EL EJERCICIO DE LA PROFESIÓN U OFICIO OBJETO DE LA FORMACIÓN PROFESIONAL EXPERICNCIA DOCENTE: DOCE (12) MESES EN EL EJERCICIO DE LAS ACTIVIDADES DE DIVULGACION DEL CONOCIMIENTO OBTENIDA EN INSTITUCIONES EDUCATIVAS DEBIDAMENTE RECONOCIDAS.
A20: TCO ANIMACION TURISTICA | B20: Según el diseño curricular del programa | C20: 1 | D20: 10 | E20: 15 | F20: 25/01/2021 | G20: 44540 | H20: 3849990 | I20: =(C20*D20*H20)+(H20/30*E20*C20) -> 40424895 | J20: REQUISITOS ACADÉMICOS: TECNÓLOGO O PROFESIONAL EN ADMINISTRACIÓN TURÍSTICA Y/O HOTELERA Y PROFESIONAL EN ADMINISTRACIÓN DE EMPRESAS. EXPERIENCIA LABORAL: 2 AÑOS DE EXPERIENCIA EN EL ÁREA DE ATENCIÓN Y SERVICIO AL CLIENTE EN EMPRESAS RELACIONADAS CON EL SECTOR TURÍSTICO. Y EXPERIENCIA DOCENTE: SEIS (6) MESES EN EL EJERCICIO DE LAS ACTIVIDADES DE DIVULGACIÓN DEL CONOCIMIENTO OBTENIDA EN INSTITUCIONES EDUCATIVAS DEBIDAMENTE RECONOCIDAS.
A21: SEGUIMIENTO | B21: Según el diseño curricular del programa | C21: 2 | D21: 10 | E21: 15 | F21: 25/01/2021 | G21: 44540 | H21: 3849990 | I21: =(C21*D21*H21)+(H21/30*E21*C21) -> 80849790 | J21: REQUISITOS ACADÉMICOS: ALTERNATIVA 1: TÍTULO PROFESIONAL UNIVERSITARIO EN DISCIPLINA ACADÉMICA DEL NÚCLEO BÁSICO DE CONOCIMIENTO EN: - ADMINISTRACIÓN DE EMPRESAS. - COMUNICACIÓN SOCIAL. - MERCADEO Y PUBLICIDAD. - INGENIEROS. ALTERNATIVA 2: TECNÓLOGO O CUATRO AÑOS DE FORMACIÓN UNIVERSITARIA ASOCIADA A LOS PROGRAMAS DE FORMACIÓN PROFESIONAL QUE IMPARTIRÁ EN SU DESEMPEÑO Y DE ACUERDO AL NÚCLEO BÁSICO DE CONOCIMIENTO DEFINIDO PARA EL ÁREA TEMÁTICA: - TECNÓLOGO EN GESTIÓN EMPRESARIAL, TECNÓLOGO EN GESTIÓN BANCARIA Y DE ENTIDADES FINANCIERAS, TECNÓLOGO EN GESTIÓN INTEGRAL DEL RIESGO EN SEGUROS, TECNÓLOGO EN GESTIÓN INTEGRAL EN FONDOS DE PENSIONES Y CESANTÍAS, TECNÓLOGO EN GESTIÓN DE NEGOCIOS, TECNÓLOGO EN GESTIÓN DE NEGOCIOS FIDUCIARIOS, TECNÓLOGO EN GESTIÓN FINANCIERA Y DE TESORERÍA EXPERIENCIA LABORAL ALTERNATIVA 1: VEINTICUATRO (24) MESES DE EXPERIENCIA: DE LOS CUALES DIECIOCHO (18) MESES ESTARÁN RELACIONADOS CON EL EJERCICIO DE LA PROFESIÓN U OFICIO OBJETO DE LA FORMACIÓN PROFESIONAL. EXPERIENCIA DOCENTE:SEIS (6) MESES EN EL EJERCICIO DE LAS ACTIVIDADES DE DIVULGACIÓN DEL CONOCIMIENTO OBTENIDA EN INSTITUCIONES EDUCATIVAS DEBIDAMENTE RECONOCIDAS. ALTERNATIVA 2: TREINTA Y SEIS (36) MESES DE EXPERIENCIA: DE LOS CUALES VEINTICUATRO (24) MESES ESTARÁN RELACIONADOS CON EL EJERCICIO DE LA PROFESIÓN U OFICIO OBJETO DE LA FORMACIÓN PROFESIONAL. EXPERIENCIA DOCENTE:DOCE (12) MESES EN EL EJERCICIO DE LAS ACTIVIDADES DE DIVULGACIÓN DEL CONOCIMIENTO OBTENIDA EN INSTITUCIONES EDUCATIVAS DEBIDAMENTE RECONOCIDAS. | L21: CONTABILIZACIÓN
A22: CONTABILIZACION DE OPERACIONES COMERCIALES Y FINANCIERAS | B22: Según el diseño curricular del programa | C22: 2 | D22: 10 | E22: 15 | F22: 25/01/2021 | G22: 44540 | H22: 3849990 | I22: =(C22*D22*H22)+(H22/30*E22*C22) -> 80849790 | J22: REQUISITOS ACADÉMICOS: PROFESIONAL EN CIENCIAS ECONÓMICAS O AFINES PROFESIONAL EN ADMINISTRACIÓN DE EMPRESAS O AFINES PROFESIONAL EN MERCADEO O AFINES PROFESIONAL EN INGENIERÍA INDUSTRIAL O AFINES EXPERIENCIA LABORAL: VEINTICUATRO (24) MESES DE EXPERIENCIA: DE LOS CUALES DOCE (12) MESES ESTARÁN RELACIONADOS CON EL EJERCICIO DE LA PROFESIÓN U OFICIO OBJETO DE LA FORMACIÓN PROFESIONAL. EXPERIENCIA DOCENTE: SEIS (6) MESES EN EL EJERCICIO DE LAS ACTIVIDADES DE DIVULGACIÓN DEL CONOCIMIENTO OBTENIDA EN INSTITUCIONES EDUCATIVAS DEBIDAMENTE RECONOCIDAS.
B23: TOTAL | C23: =SUM(C16:C22) -> 12 | I23: =SUM(I16:I22) -> 485088345
A28: Fernando Alfonso Escobar Quirá | E28: Ana Alexandra Rodríguez Vargas | J28: Mirtha Gilma Espinosa Urbano
A29: C.C. 10.530.994 | E29: C.C. 25.283.835 | J29: C.C. 27.450.864
A30: Subdirector (E ) | E30: Coordinadora Académica Programas Especiales | J30: Coordinadora Formación Profesional

Sheet COMP-VIRT
A2: ANEXO 2
A3: PLAN DE CONTRATACIÓN DE INSTRUCTORES AÑO 2021 FORMACIÓN VIRTUAL COMPLEMENTARIA
A5: Regional: CAUCA | I5: CDP No.
A6: Centro: COMERCIO Y SERVICIOS | I6: RUBRO
A7: Periodo: 2021
A8: Acta No.
A9: Tope global programado | B9: =I22 -> 294300000
A10: Menos Horas presente plan | H10: Elaborado por:
A11: Saldo | H11: Nombre: | I11: SUBDIRECTOR DE CENTRO - COORDINADOR MISIONAL - COORDINADOR ACADÉMICO
A12: % Utilizado | H12: Teléfono: | I12: 820-5903
A13: Nombre del Programa (TE-TP-TGO) | B13: Nombre de la competencia a desarrollar | C13: No. De personas a contratar | D13: No. De meses a contratar | E13: No. De días a contratar | F13: Fechas Previstas para la contratación | H13: Costo Hora o Costo Honorarios mes (Pesos) | I13: Costo Total (Pesos) | J13: OBSERVACIONES (PERFIL DEL INSTRUCTOR) | K13: 1er Pago | L13: Último Pago
F14: Inicio (D-M-A) | G14: Terminación (D-M-A) | K14: Días | L14: Días
A15: 1 | B15: 2 | C15: 3 | D15: 4 | E15: 5 | F15: 6 | H15: 7 | I15: 8 | J15: 9 | K15: 5 | L15: 15
A16: Área de: Inglés y Frances | B16: Según el diseño curricular del programa Circular 237 de 2017 | C16: 4 | D16: 10 | E16: 0 | F16: 44228 | G16: 30/11/2021 | H16: 3270000 | I16: =(C16*D16*H16)+(H16/30*E16*C16) -> 130800000 | J16: REQUISITOS ACADÉMICOS: PROFESIONAL EN CUALQUIER ÁREA DE CONOCIMIENTO, CON NIVEL MÍNIMO B2 DE ACUERDO CON EL MCER. LOS EXAMENES ADMITIDOS DEBEN CORRESPONDER A LA LISTA DE EXAMENES APROBADOS POR LA NTC 5580 (ICONTEC -MEN) TENER UNA VIGENCIA DE DOS AÑOS, CORRESPONDER A CUATRO HABILIDADES DE DOMINIO DE LA LENGUA (COMPRENSIÓN ORAL, COMPRENSIÓN ESCRITA, PRODUCCIÓN ORAL, PRODUCCIÓN ESCRITA). EXPERIENCIA LABORAL: 24 (VEINTICUATRO) MESES RELACIONADOS CON LA DOCENCIA DE LENGUA EXTRANJERA. | K16: =H16/30*K15 -> 545000 | L16: =I16/30*L15 -> 65400000
A17: En el área de Mercadeo y Logistica | B17: Según el diseño curricular del programa | C17: 1 | D17: 10 | E17: 0 | F17: 44228 | G17: 30/11/2021 | H17: 3270000 | I17: =(C17*D17*H17)+(H17/30*E17*C17) -> 32700000 | J17: REQUISITOS ACADÉMICOS: PROFESIONAL EN LAS ÁREAS ADMINISTRATIVAS, ECONÓMICAS O DE MERCADEO EXPERIENCIA RELACIONADA: DOCE (12) MESES ESTARAN RELACIONADOS CON EL EJERCICIO DE EMPLEOS, ACTIVIDADES U OFICIOS AFINES CON SU PROFESIÓN OBJETO DE LA CONTRATACIÓN. EXPERICNCIA DOCENTE: SEIS (6) MESES EN EL EJERCICIO DE LAS ACTIVIDADES DE DIVULGACION DEL CONOCIMIENTO OBTENIDA EN INSTITUCIONES EDUCATIVAS DEBIDAMENTE RECONOCIDAS.
A18: En el área Contabilidad y Finanzas | B18: Según el diseño curricular del programa | C18: 1 | D18: 10 | E18: 0 | F18: 44228 | G18: 30/11/2021 | H18: 3270000 | I18: =(C18*D18*H18)+(H18/30*E18*C18) -> 32700000 | J18: REQUISITOS ACADÉMICOS: PROFESIONAL EN CONTADURÍA PÚBLICA O ADMINISTRACIÓN FINANCIERA. EXPERIENCIA RELACIONADA: DOCE (12) MESES ESTARAN RELACIONADOS CON EL EJERCICIO DE EMPLEOS, ACTIVIDADES U OFICIOS AFINES CON SU PROFESIÓN OBJETO DE LA CONTRATACIÓN. EXPERICNCIA DOCENTE: SEIS (6) MESES EN EL EJERCICIO DE LAS ACTIVIDADES DE DIVULGACION DEL CONOCIMIENTO OBTENIDA EN INSTITUCIONES EDUCATIVAS DEBIDAMENTE RECONOCIDAS Y SEIS (6) MESES EN EL ÁREA VIRTUAL.
A19: En el área SALUD | B19: Según el diseño curricular del programa | C19: 1 | D19: 10 | E19: 0 | F19: 44228 | G19: 30/11/2021 | H19: 3270000 | I19: =(C19*D19*H19)+(H19/30*E19*C19) -> 32700000 | J19: REQUISITOS ACADÉMICOS: PROFESIONAL O TECNÓLOGO DEL ÁREA DE LA SALUD CON EXPERIENCIA EN ATENCIÓN DE PERSONAS EN EL AMBIENTE PREHOSPITALARIO. EXPERIENCIA RELACIONADA: DIECIOCHO (18) MESES ESTARAN RELACIONADOS CON EL EJERCICIO DE EMPLEOS, ACTIVIDADES U OFICIOS AFINES CON LA ATENCIÓN DE PERSONAS LESIONADAS. EXPERICNCIA DOCENTE: DOCE (12) MESES EN EL EJERCICIO DE LAS ACTIVIDADES DE DIVULGACION DEL CONOCIMIENTO OBTENIDA EN INSTITUCIONES EDUCATIVAS DEBIDAMENTE RECONOCIDAS Y SEIS (6) MESES EN EL ÁREA VIRTUAL.
A20: Area de gestión documental | B20: Según el diseño curricular del programa | C20: 1 | D20: 10 | E20: 0 | F20: 44228 | G20: 30/11/2021 | H20: 3270000 | I20: =(C20*D20*H20)+(H20/30*E20*C20) -> 32700000 | J20: REQUISITOS ACADÉMICOS: PREFERIBLEMENTE: PROFESIONAL EN CIENCIAS DE LA INFORMACIÓN DE LA COMUNICACIÓN O ARCHIVISTICA; Tarjeta profesional. OPCIONAL: EGRASADO SENA CON TUITULO DE TECNOLOGO EN GESTION DOCUMENTAL O TECNICO PROFESIONAL EN ARCHIVO; Tarjeta profesional. EXPERIENCIA RELACIONADA: DIECIOCHO (18) MESES ESTARAN RELACIONADOS CON EL EJERCICIO DE EMPLEOS, ACTIVIDADES U OFICIOS AFINES CON SU PROFESIÓN OBJETO DE LA CONTRATACIÓN. EXPERICNCIA DOCENTE: SEIS (6) MESES EN EL EJERCICIO DE LAS ACTIVIDADES DE DIVULGACION DEL CONOCIMIENTO OBTENIDA EN INSTITUCIONES EDUCATIVAS DEBIDAMENTE RECONOCIDAS.
A21: Convenio DPS | B21: Según el diseño curricular del programa | C21: 1 | D21: 10 | E21: 0 | F21: 44228 | G21: 30/11/2021 | H21: 3270000 | I21: =(C21*D21*H21)+(H21/30*E21*C21) -> 32700000 | J21: REQUISITOS ACADÉMICOS: PROFESIONAL EN EL ÁREA DE HUMANIDADES, PREFERIBLEMENTE PSICOLOGÍA, SOCIOLOGÍA, TRABAJO SOCIAL, O ÁREAS AFINES, CON FORMACIÓN COMO TUTOR EXPERIENCIA RELACIONADA: DIECIOCHO (18) MESES ESTARAN RELACIONADOS CON EL EJERCICIO DE EMPLEOS, ACTIVIDADES U OFICIOS AFINES CON SU PROFESIÓN OBJETO DE LA CONTRATACIÓN. EXPERICNCIA DOCENTE: SEIS (6) MESES EN EL EJERCICIO DE LAS ACTIVIDADES DE DIVULGACION DEL CONOCIMIENTO OBTENIDA EN INSTITUCIONES EDUCATIVAS DEBIDAMENTE RECONOCIDAS Y SEIS (6) MESES EN AL ÁREA VIRTUAL.
B22: TOTAL | C22: =SUM(C16:C21) -> 9 | I22: =SUM(I16:I21) -> 294300000
A28: Fernando Alfonso Escobar Quirá | E28: Ana Alexandra Rodríguez Vargas | J28: Mirtha Gilma Espinosa Urbano
A29: C.C. 10.530.994 | E29: C.C. 25.283.835 | J29: C.C. 27.450.864
A30: Subdirector (E ) | E30: Coordinadora Académica Programas Especiales | J30: Coordinadora Formación Profesional

Sheet COMP
A2: ANEXO 2
A3: PLAN DE CONTRATACIÓN DE INSTRUCTORES AÑO 2021 PROGRAMA DE COMPLEMENTARIA REGULAR
A5: Regional: CAUCA | I5: CDP No.
A6: Centro: COMERCIO Y SERVICIOS | I6: RUBRO
A7: Periodo: 2021
A8: Acta No.
A9: Tope global programado | B9: =I24 -> 405626400
A10: Menos Horas presente plan | H10: Elaborado por:
A11: Saldo | H11: Nombre: | I11: SUBDIRECTOR DE CENTRO - COORDINADOR MISIONAL - COORDINADOR ACADÉMICO
A12: % Utilizado | H12: Teléfono: | I12: 820-5903
