Workbook
Name METAPDCC: #REF!
Name METAAFPDCC: #REF!
Name METAAFPDCC: #REF!
Name SIoNO: DATOS!$E$1:$E$2
Name METAPDCC: #REF!
Name SIoNO: DATOS!$E$1:$E$2

Sheet DATOS
A1: DATOS DEL PROCESO | E1: SI | F1: SI
A2: PROCESO: | B2: MÍNIMA CUANTÍA No. 4163.001.32.1.207-2026 | E2: NO | F2: NO
A3: OBJETO: | B3: ADQUIRIR KITS DE DESCANSO PARA LA ASISTENCIA COMO AYUDA HUMANITARIA A LAS FAMILIAS AFECTADAS POR DESASTRES EN SANTIAGO DE CALI, EN DESARROLLO DEL PROYECTO DENOMINADO "ACTUALIZACIÓN DE LOS INSTRUMENTOS DE RESPUESTA Y MANEJO DE DESASTRES EN SANTIAGO DE CALI", BP-26005456. | F3: N/A
A4: PRESUPUESTO OFICIAL ($): | B4: 51000000
A5: PRESUPUESTO OFICIAL (SMMLV): | B5: =B4/1750905 -> 29.127794
A6: FECHA DE CIERRE PROCESO | B6: 46192
A7: DATOS DEL PROPONENTE
A8: NUMERO DEL PROPONENTE: | B8: 3
A9: NOMBRE DEL PROPONENTE: | B9: SAGEM SAS | C9: % PARTIC | H9: PARTICIPACION EN EL CONSORCIO
A10: INTEGRANTES DEL PROPONENTE: | B10: SAGEM SAS | C10: 1 | H10: =B11 -> N/A | J10: =C11 -> N/A
B11: N/A | C11: N/A | H11: =B12 -> N/A | J11: =C12 -> N/A
B12: N/A | C12: N/A | H12: =B13 -> N/A | J12: =C13 -> N/A
B13: N/A | C13: N/A | H13: =B14 | J13: =C14 -> 1
C14: 1 | H14: TOTAL | J14: =SUM(J10:K13) -> 1
H15: =IF(J14>0,IF(OR(J10>=50%,J11>=50%,J12>=50%,J13>=50%),"CUMPLE","NO CUMPLE")) -> CUMPLE

Sheet EVAL
B2: =+DATOS!B2 -> MÍNIMA CUANTÍA No. 4163.001.32.1.207-2026
B3: DISTRITO DE SANTIAGO DE CALI SECRETARÍA DE GESTIÓN DEL RIESGO DE EMERGENCIAS Y DESASTRES
B4: EVALUACIÓN TÉCNICA VERIFICACIÓN DE REQUISITOS HABILITANTES
B5: ADQUIRIR KITS DE MERCADOS PARA LA ASISTENCIA COMO AYUDA HUMANITARIA A LAS FAMILIAS AFECTADAS POR DESASTRES EN SANTIAGO DE CALI, EN DESARROLLO DEL PROYECTO DENOMINADO "ACTUALIZACIÓN DE LOS INSTRUMENTOS DE RESPUESTA Y MANEJO DE DESASTRES EN SANTIAGO DE CALI", BP-26005456.
B7: PROPUESTA No. | D7: 3 | J7: INTEGRANTES | K7: =DATOS!B11 -> N/A | N7: % DE PARTICIPACIÓN | O7: =DATOS!C11 -> N/A
B9: PROPONENTE | D9: SAGEM SAS
B11: EXPERIENCIA HABILITANTE
B12: No. DE ORDEN | C12: INTEGRANTE DEL PROPONENTE QUE ACREDITA LA EXPERIENCIA | D12: ENTIDAD CONTRATANTE | E12: No. DE CONTRATO | F12: OBJETO | G12: I, C, UT, OTRA | H12: % PARTICIPACIÓN | I12: FECHA DE INICIO | J12: FECHA FINAL | K12: VALOR CONTRATO ($) | L12: SMMLV | M12: OBJETO CUMPLE CON LO SOLICITADO SI / NO | N12: CUMPLE CON LAS ACTIVIDADES EXIGIDAS SI / NO | O12: PRESENTA ACTA Y/O CERTIFICACIÓN
B13: 1 | C13: SAGEM SAS | D13: Asociacion para el desarrollo social Impacto | E13: N/A | F13: Suministro de kits de frazadas y colchonetas para atencion de emergencias por ola invernal preentada en la vereda golodrinas en la ciudad de santiago de cali. | G13: N/A | H13: 1 | I13: 13-04-2023 | J13: 16-05-2023 | K13: 74700000 | L13: =K13/1750905 -> 42.663651 | M13: SI | N13: SI | O13: SI
I14: SUMATORIA EXPERIENCIA | L14: =SUM(L13) -> 42.663651
C15: OBSERVACIONES
I16: CUMPLIMIENTO DE LAS CONDICIONES DE EXPERIENCIA | O16: CUMPLE
C17: El proponente acredita su experiencia en debida forma y técnicamente cumple con las condiciones mínimas requeridas en el presente proceso de selección, aceptando las mismas mediante la suscripción del anexo correspondiente y aportando las certificaciones solicitadas en el numeral 1 del punto No. 10.7.4 de los estudios previos. Durante la revisión de la información registrada por el proponente en la plataforma SECOP II, la Entidad evidenció que la experiencia reportada en el perfil del proveedor guarda correspondencia con la experiencia acreditada mediante los documentos aportados con la propuesta presentada dentro del presente proceso de selección.
I18: CUMPLIMIENTO DE LAS CONDICIONES TÉCNICAS - ANEXO TÉCNICO | O18: CUMPLE
I20: PERSONAL MÍNIMO | O20: No aplica
I22: OFERTA ECONÓMICA | O22: CUMPLE
I24: EVALUACIÓN DE LAS CONDICIONES DE EXPERIENCIA, TÉCNICA Y OFERTA ECONÓMICA | N24: HABILITADA
C29: I. EXPERIENCIA ESPECIFICA - DIRECTOR DE INTERVENTORÍA | K29: II. EXPERIENCIA ESPECIFICA - INGENIERO RESIDENTE DE INTERVENTORÍA
C30: NOMBRE DEL DIRECTOR DE INTERVENTORÍA | E30: WILLIAM ANDRÉS ÁVILA CARDONA | K30: NOMBRE DEL RESIDENTE DE INTERVENTORÍA | M30: DIEGO ALONSO GUEVARA
C31: DESCRIPCIÓN | G31: CUMPLE / NO CUMPLE | K31: DESCRIPCIÓN | O31: CUMPLE / NO CUMPLE
C32: 1. CUMPLE CON LOS REQUISITOS DEL PERFIL CONTENIDOS EN EL CAPÍTULO 3.4 PERSONAL MÍNIMO REQUERIDO | G32: NO CUMPLE | K32: 1. CUMPLE CON LOS REQUISITOS DEL PERFIL CONTENIDOS EN EL CAPÍTULO 3.4 PERSONAL MÍNIMO REQUERIDO | O32: NO CUMPLE
C33: FORMACIÓN ACADÉMICA ADICIONAL | K33: FORMACIÓN ACADÉMICA ADICIONAL
C34: 2. DIRECTOR DE OBRA CON POSGRADO EN LAS ÁREAS DE CONSTRUCCIÓN, ESTRUCTURAS Y/O GEOTECNIA | G34: CUMPLE | K34: 2. RESIDENTE DE OBRA CON POSGRADO EN EL ÁREA DE ESTRUCTURAS | O34: CUMPLE
C35: PUNTAJE | G35: =IF(H32="CUMPLE",IF(H34="CUMPLE",11,0),0) -> 0 | K35: PUNTAJE | O35: =IF(#REF!="CUMPLE",IF(#REF!="CUMPLE",20,0),0) -> #REF!
C36: PUNTAJE TOTAL EXPERIENCIA ESPECIFICA - DIRECTOR DE INTERVENTORÍA | G36: =H35 | K36: PUNTAJE TOTAL EXPERIENCIA ESPECIFICA – INGENIERO RESIDENTE DE INTERVENTORÍA | O36: =#REF! -> #REF!
C39: CRITERIOS PONDERABLES
C40: DESCRIPCIÓN | G40: CUMPLE / NO CUMPLE | H40: PUNTAJE
C41: FACTORES TÉCNICOS DE CALIDAD | G41: NO CUMPLE | H41: =SUM(G36,O36) -> #REF!
C42: FACTOR ECONÓMICO
C43: INCENTIVO A LA INDUSTRIA NACIONAL (LEY 816 DE 2003) | G43: CUMPLE | H43: 10
C44: INCENTIVO A EMPRENDIMIENTOS Y EMPRESAS DE MUJERES (DECRETO 1860 DE 2021) | G44: NO CUMPLE | H44: =IF(G44="CUMPLE","10","0") -> 0
C45: PUNTAJE ADICIONAL PARA MIPYMES
C46: PUNTAJE TOTAL DE LA PROPUESTA | G46: =SUM(I41:I44) -> 0
C49: OBSERVACIONES
C51: NO SE PRESENTARON LAS CERTIFICACIONES QUE ACREDITEN EL EJERCICIO EL CARGO DE DIRECTOR DE OBRA NO SE PRESENTARON LAS CERTIFICACIONES QUE ACREDITEN EL EJERCICIO EL CARGO DE RESIDENTE DE OBRA

Sheet PERSONAL MINIMO REQUERIDO
B1: MUNICIPIO DE SANTIAGO DE CALI SECRETARÍA DE GESTIÓN DEL RIESGO DE EMERGENCIAS Y DESASTRES
B2: PROCESO DE CONCURSO DE MERITOS No. 4163.001.32.1.368
B3: =DATOS!B3 -> ADQUIRIR KITS DE DESCANSO PARA LA ASISTENCIA COMO AYUDA HUMANITARIA A LAS FAMILIAS AFECTADAS POR DESASTRES EN SANTIAGO DE CALI, EN DESARROLLO DEL PROYECTO DENOMINADO "ACTUALIZACIÓN DE LOS INSTRUMENTOS DE RESPUESTA Y MANEJO DE DESASTRES EN SANTIAGO DE CALI", BP-26005456.
B4: PERSONAL MINIMO REQUERIDO
B5: NOMBRE DEL PROPONENTE | E5: =DATOS!B10 -> SAGEM SAS
B6: I. COORDINADOR Y/O DIRECTOR DE INTERVENTORÍA
B7: ITEM | C7: NOMBRE COMPLETO | D7: CEDULA | E7: TITULO PROFESIONAL | F7: AÑOS DE EXPERIENCIA MATRICULA PROFESIONAL | G7: EXPERIENCIA COMO DIRECTOR DE INTERVENTORÍA A OBRAS DE EDIFICACIONES INSTITUCIONALES (SI / NO) | H7: CONTRATOS PRESENTADOS CUMPLEN CON EL OBJETO SOLICITADO (SI / NO) | I7: CUMPLE CON LA SUMATORIA DE LOS CONTRATOS ≥ AL 100% DEL P.O (SI / NO) | O7: SI
B8: 1 | C8: AMPARO GUTIÉRREZ RODRÍGUEZ | D8: 31881201 | E8: SIN INFORMACIÓN | F8: SIN INFORMACIÓN | G8: SI | H8: SI | I8: SI | M8: =IF(AND(F8>=10,G8="SI",H8="SI",I8="SI"),"CUMPLE","NO CUMPLE") -> CUMPLE | O8: NO
B9: II. INGENIERO RESIDENTE DE INTERVENTORÍA | O9: PENDIENTE
B10: ITEM | C10: NOMBRE COMPLETO | D10: CEDULA | E10: TITULO PROFESIONAL | F10: AÑOS DE EXPERIENCIA MATRICULA PROFESIONAL | G10: EXPERIENCIA COMO RESIDENTE O DIRECTOR DE INTERVENTORÍA A OBRAS DE EDIFICACIONES INSTITUCIONALES (SI / NO) | H10: CONTRATOS PRESENTADOS CUMPLEN CON EL OBJETO SOLICITADO (SI / NO) | I10: CUMPLE CON LA SUMATORIA DE LOS CONTRATOS ≥ AL 100% DEL P.O (SI / NO) | O10: NO PRESENTA
B11: 1 | C11: LUIS CARLOS ZABALA HOL | D11: 76315525 | E11: SIN INFORMACIÓN | F11: SIN INFORMACIÓN | G11: SI | H11: SI | M11: =IF(AND(F11>=8,G11="SI",H11="SI",I11="SI"),"CUMPLE","NO CUMPLE") -> NO CUMPLE
B12: III. ARQUITECTO RESIDENTE DE INTERVENTORÍA
B13: ITEM | C13: NOMBRE COMPLETO | D13: CEDULA | E13: TITULO PROFESIONAL | F13: AÑOS DE EXPERIENCIA MATRICULA PROFESIONAL | G13: EXPERIENCIA COMO RESIDENTE O DIRECTOR DE INTERVENTORÍA A OBRAS DE EDIFICACIONES INSTITUCIONALES (SI / NO) | H13: CONTRATOS PRESENTADOS CUMPLEN CON EL OBJETO SOLICITADO (SI / NO) | I13: CUMPLE CON LA SUMATORIA DE LOS CONTRATOS ≥ AL 100% DEL P.O (SI / NO)
B14: 1 | C14: MARÍA TERESA VARONA ARCILA | D14: 31284384 | E14: SIN INFORMACIÓN | F14: SIN INFORMACIÓN | M14: =IF(AND(F14>=8,G14="SI",#REF!="SI",I14="SI"),"CUMPLE","NO CUMPLE") -> #REF!

Sheet TABLA DE SMMLV AÑO
A1: PERIODO | B1: MONTO MENSUAL
A2: 1980 | B2: 4500
A3: 1981 | B3: 5700
A4: 1982 | B4: 7410
A5: 1983 | B5: 9261
A6: 1984 | B6: 11298
A7: 1985 | B7: 13558
A8: 1986 | B8: 16810
A9: 1987 | B9: 20510
A10: 1988 | B10: 25637
A11: 1989 | B11: 32560
A12: 1990 | B12: 41025
A13: 1991 | B13: 51716
... A42: 2020 | B42: 877803
