Workbook

Sheet RUBROS
A3: CDP | B3: RUBRO | C3: DESCRIPCIÓN | D3: RECURSO | E3: FUENTE – SITUACIÓN | F3: PRESUPUESTO CDP | G3: ANEXO | H3: PRESUPUESTO OFICIAL | I3: PRESUPUESTO NO COMPROMETIDO AJUSTE DE CANTIDADES | J3: ANEXO No. 1 - 2 - 3 Y 4 | K3: ANEXO No. 5 ($155.000.000) | L3: ANEXO No. 6 ($174.000.000) | M3: ANEXO No. 7
A4: 10526 | B4: A-02-02-02-009-002 | C4: SERVICIOS DE EDUCACIÓN | D4: 20 | E4: PROPIOS CSF | F4: 241489314 | G4: 5 y 7 | H4: =+K4+M4 -> 2.4147576e+08 | I4: =+F4-H4 -> 13551.81 | K4: =+ANALISIS!V11+ANALISIS!V12+ANALISIS!V13+ANALISIS!V14+ANALISIS!V15+ANALISIS!V16+ANALISIS!V17+ANALISIS!V18+ANALISIS!V19+ANALISIS!V20+ANALISIS!V21+ANALISIS!V22+ANALISIS!V23+ANALISIS!V24+ANALISIS!V25+ANALISIS!V26+ANALISIS!V27+ANALISIS!V28+ANALISIS!V29+ANALISIS!V30+ANALISIS!V31+ANALISIS!V32+ANALISIS!V33+ANALISIS!V34 -> 1.5430884e+08 | M4: =+ANALISIS!V56+ANALISIS!V72+ANALISIS!V77+ANALISIS!V79+ANALISIS!V80+ANALISIS!V92+ANALISIS!V93+ANALISIS!V94 -> 87166917
A5: 10526 | B5: A-02-02-02-009-003 | C5: SERVICIOS PARA EL CUIDADO DE LA SALUD HUMANA Y SERVICIOS SOCIALES | D5: 20 | E5: PROPIOS CSF | F5: 198759269 | G5: 6 y 7 | H5: =+L5+M5 -> 1.9851674e+08 | I5: =+F5-H5 -> 242531.67 | L5: =+ANALISIS!V35+ANALISIS!V36+ANALISIS!V37+ANALISIS!V38+ANALISIS!V39+ANALISIS!V40+ANALISIS!V41+ANALISIS!V42+ANALISIS!V43+ANALISIS!V44+ANALISIS!V45 -> 1.0171963e+08 | M5: =+ANALISIS!V46+ANALISIS!V47+ANALISIS!V48+ANALISIS!V49+ANALISIS!V50+ANALISIS!V51+ANALISIS!V52+ANALISIS!V53+ANALISIS!V54+ANALISIS!V55+ANALISIS!V57+ANALISIS!V58+ANALISIS!V59+ANALISIS!V60+ANALISIS!V61+ANALISIS!V62+ANALISIS!V63+ANALISIS!V64+ANALISIS!V65+ANALISIS!V66+ANALISIS!V67+ANALISIS!V68+ANALISIS!V69+ANALISIS!V74+ANALISIS!V87 -> 96797107
A6: 10526 | B6: A-02-02-02-009-006 | C6: SERVICIOS RECREATIVOS, CULTURALES Y DEPORTIVOS | D6: 20 | E6: PROPIOS CSF | F6: 420284146 | G6: 7 | H6: =+M6 -> 4.1930497e+08 | I6: =+F6-H6 -> 979176.43 | M6: =+ANALISIS!V70+ANALISIS!V71+ANALISIS!V73+ANALISIS!V75+ANALISIS!V76+ANALISIS!V78+ANALISIS!V81+ANALISIS!V82+ANALISIS!V83+ANALISIS!V84+ANALISIS!V85+ANALISIS!V86+ANALISIS!V88+ANALISIS!V89+ANALISIS!V90+ANALISIS!V91+ANALISIS!V95+ANALISIS!V96+ANALISIS!V97+ANALISIS!V98+ANALISIS!V99+ANALISIS!V100 -> 4.1930497e+08
A7: 10526 | B7: A-03-04-02-037 | C7: BIENESTAR SOCIAL AFILIADOS DE LA CAJA DE RETIRO DE LAS FUERZAS MILITARES Y LA CAJA DE SUELDOS DE RETIRO DE LA POLICÍA NACIONAL, DECRETOS 2002 Y 2003 DE 1984 (NO DE PENSIONES) | D7: 20 | E7: PROPIOS CSF | F7: 203686182 | G7: 1 - 2 - 3 y 4 | H7: =+J7 -> 1.8200115e+08 | I7: =+F7-H7 -> 21685032 | J7: =+ANALISIS!V5+ANALISIS!V6+ANALISIS!V7+ANALISIS!V8+ANALISIS!V9 -> 1.8200115e+08
A8: TOTAL | F8: =SUM(F4:F7) -> 1064218911 | H8: =SUM(H4:H7) -> 1.0412986e+09 | I8: =SUM(I4:I7) -> 22920292

Sheet ANALISIS
K3: CAJA DE COMPENSACIÓN FAMILIAR COMFACUNDI | N3: CAJA DE COMPENSACIÓN FAMILIAR COMPENSAR
B4: ÍTEM | C4: RUBRO | D4: ANEXO | E4: PRODUCTO | F4: UNIDAD DE MEDIDA | G4: NECESIDAD TOTAL | H4: PROYECTADA A ADQUIRIR | I4: DÉFICIT Y/O LIMITACIÓN | J4: % DÉFICIT Y/O LIMITACIÓN | K4: VALOR UNITARIO ANTES DE IVA | L4: VALOR IVA | M4: VALOR TOTAL INCLUIDO IVA | N4: VALOR UNITARIO ANTES DE IVA | O4: VALOR IVA | P4: VALOR TOTAL INCLUIDO IVA | Q4: MENOR VALOR | R4: MAYOR VALOR | S4: MEDIANA | T4: PRECIO DE REFERENCIA | U4: PRECIO DE REFERENCIA VALOR UNITARIO INCLUIDO IVA (Según Aplique) | V4: PRECIO DE REFERENCIA VALOR TOTAL INCLUIDO IVA (Según Aplique)
B5: 1 | C5: A-03-04-02-037 | D5: ANEXO No. 01 | E5: Capacitación Virtual | F5: VALOR GLOBAL 10 horas Certificadas para 50 personas | G5: 1 | H5: 1 | I5: =+G5-H5 -> 0 | J5: =+I5/G5 -> 0 | K5: 8500000 | L5: =+K5*19% -> 1615000 | M5: =+K5+L5 -> 10115000 | N5: 8747136 | O5: =+N5*19% -> 1661955.8 | P5: =+N5+O5 -> 10409092 | Q5: =MIN(M5,P5) -> 10115000 | R5: =MAX(M5,P5) -> 10409092 | S5: =AVERAGE(M5,P5) -> 10262046 | T5: =+S5 -> 10262046 | U5: =+ROUND(T5/G5,2) -> 10262046 | V5: =+U5*H5 -> 10262046
B6: 2 | C6: A-03-04-02-037 | D6: ANEXO No. 01 | E6: Foro de Emprendimiento, Innovación y Sostenibilidad para Veteranos del Sector Defensa: Resiliencia, Responsabilidad Social, Unión de Agremiaciones y Construcción de Proyectos de Vida | F6: VALOR GLOBAL 4 horas para 50 personas | G6: 1 | H6: 1 | I6: =+G6-H6 -> 0 | J6: =+I6/G6 -> 0 | K6: 26000000 | L6: =+K6*19% -> 4940000 | M6: =+K6+L6 -> 30940000 | N6: 28074816 | O6: =+N6*19% -> 5334215 | P6: =+N6+O6 -> 33409031 | Q6: =MIN(M6,P6) -> 30940000 | R6: =MAX(M6,P6) -> 33409031 | S6: =AVERAGE(M6,P6) -> 32174516 | T6: =+S6 -> 32174516 | U6: =+ROUND(T6/G6,2) -> 32174516 | V6: =+U6*H6 -> 32174516
B7: 3 | C7: A-03-04-02-037 | D7: ANEXO No. 02 | E7: Encuentros Presenciales | F7: Valor Global | G7: 3 | H7: 1 | I7: =+G7-H7 -> 2 | J7: =+I7/G7 -> 0.66666667 | K7: 140000000 | L7: =+K7*19% -> 26600000 | M7: =+K7+L7 -> 166600000 | N7: 142712000 | O7: =+N7*19% -> 27115280 | P7: =+N7+O7 -> 169827280 | Q7: =MIN(M7,P7) -> 166600000 | R7: =MAX(M7,P7) -> 169827280 | S7: =AVERAGE(M7,P7) -> 168213640 | T7: =+S7 -> 168213640 | U7: =+ROUND(T7/G7,2) -> 56071213 | V7: =+U7*H7 -> 56071213
B8: 4 | C8: A-03-04-02-037 | D8: ANEXO No. 03 | E8: Transmisión Encuentro Virtual | F8: Valor Global | G8: 1 | H8: 1 | I8: =+G8-H8 -> 0 | J8: =+I8/G8 -> 0 | K8: 21000000 | L8: =+K8*19% -> 3990000 | M8: =+K8+L8 -> 24990000 | N8: 18325000 | O8: =+N8*19% -> 3481750 | P8: =+N8+O8 -> 21806750 | Q8: =MIN(M8,P8) -> 21806750 | R8: =MAX(M8,P8) -> 24990000 | S8: =AVERAGE(M8,P8) -> 23398375 | T8: =+S8 -> 23398375 | U8: =+ROUND(T8/G8,2) -> 23398375 | V8: =+U8*H8 -> 23398375
B9: 5 | C9: A-03-04-02-037 | D9: ANEXO No. 04 | E9: Conmemoración Día del Veterano Virtual Bogotá | F9: Valor Global | G9: 1 | H9: 1 | I9: =+G9-H9 -> 0 | J9: =+I9/G9 -> 0 | K9: 27000000 | L9: =+K9*19% -> 5130000 | M9: =+K9+L9 -> 32130000 | N9: 74000000 | O9: =+N9*19% -> 14060000 | P9: =+N9+O9 -> 88060000 | Q9: =MIN(M9,P9) -> 32130000 | R9: =MAX(M9,P9) -> 88060000 | S9: =AVERAGE(M9,P9) -> 60095000 | T9: =+S9 -> 60095000 | U9: =+ROUND(T9/G9,2) -> 60095000 | V9: =+U9*H9 -> 60095000
K10: CAJA DE COMPENSACIÓN FAMILIAR COMPENSAR | N10: CAJA DE COMPENSACIÓN FAMILIAR CAFAM
B11: 6 (*) | C11: A-02-02-02-009-002 | D11: ANEXO No. 05 | E11: Plataforma e-learnig | F11: 140 Hasta 360 (Capacidad del E-Learning) | G11: Dominios de la plataforma en la vigencia 2026 | H11: Dominios de la plataforma en la vigencia 2026 | I11: 0 | J11: 0 | K11: 0 | L11: 0 | M11: =+K11+L11 -> 0 | N11: 3680000 | O11: 0 | P11: 3680000 | Q11: =MIN(M11,P11) -> 0 | R11: =MAX(M11,P11) -> 3680000 | S11: =AVERAGE(M11,P11) -> 1840000 | T11: =+S11 -> 1840000 | U11: =+T11 -> 1840000 | V11: =+U11 -> 1840000
B12: 7 | C12: A-02-02-02-009-002 | D12: ANEXO No. 05 | E12: Manejo de herramientas tecnológicas | F12: 30 PERSONAS | G12: 4 | H12: 4 | I12: =+G12-H12 -> 0 | J12: =+I12/G12 -> 0 | K12: 7188852 | L12: 0 | M12: 7188852 | N12: 3680000 | O12: 0 | P12: 3680000 | Q12: =MIN(M12,P12) -> 3680000 | R12: =MAX(M12,P12) -> 7188852 | S12: =AVERAGE(M12,P12) -> 5434426 | T12: =+S12 -> 5434426 | U12: =ROUND(T12/G12,2) -> 1358606.5 | V12: =+U12*H12 -> 5434426
B13: 8 | C13: A-02-02-02-009-002 | D13: ANEXO No. 05 | E13: Gamificación e innovación educativa | F13: 30 PERSONAS | G13: 4 | H13: 4 | I13: =+G13-H13 -> 0 | J13: =+I13/G13 -> 0 | K13: 7188852 | L13: 0 | M13: 7188852 | N13: 3680000 | O13: 0 | P13: 3680000 | Q13: =MIN(M13,P13) -> 3680000 | R13: =MAX(M13,P13) -> 7188852 | S13: =AVERAGE(M13,P13) -> 5434426 | T13: =+S13 -> 5434426 | U13: =ROUND(T13/G13,2) -> 1358606.5 | V13: =+U13*H13 -> 5434426
B14: 9 | C14: A-02-02-02-009-002 | D14: ANEXO No. 05 | E14: Phyton aplicados para análisis de textos | F14: 30 PERSONAS | G14: 2 | H14: 2 | I14: =+G14-H14 -> 0 | J14: =+I14/G14 -> 0 | K14: 5700612 | L14: 0 | M14: 5700612 | N14: 1913600 | O14: 0 | P14: 1913600 | Q14: =MIN(M14,P14) -> 1913600 | R14: =MAX(M14,P14) -> 5700612 | S14: =AVERAGE(M14,P14) -> 3807106 | T14: =+S14 -> 3807106 | U14: =ROUND(T14/G14,2) -> 1903553 | V14: =+U14*H14 -> 3807106
B15: 10 | C15: A-02-02-02-009-002 | D15: ANEXO No. 05 | E15: Supervisión de contratos | F15: 30 PERSONAS | G15: 4 | H15: 4 | I15: =+G15-H15 -> 0 | J15: =+I15/G15 -> 0 | K15: 6743892 | L15: 0 | M15: 6743892 | N15: 3680000 | O15: 0 | P15: 3680000 | Q15: =MIN(M15,P15) -> 3680000 | R15: =MAX(M15,P15) -> 6743892 | S15: =AVERAGE(M15,P15) -> 5211946 | T15: =+S15 -> 5211946 | U15: =ROUND(T15/G15,2) -> 1302986.5 | V15: =+U15*H15 -> 5211946
B16: 11 | C16: A-02-02-02-009-002 | D16: ANEXO No. 05 | E16: Arquitectura empresarial (Gestión del Conocimiento e Innovación) | F16: 30 PERSONAS | G16: 4 | H16: 4 | I16: =+G16-H16 -> 0 | J16: =+I16/G16 -> 0 | K16: 7188852 | L16: 0 | M16: 7188852 | N16: 3680000 | O16: 0 | P16: 3680000 | Q16: =MIN(M16,P16) -> 3680000 | R16: =MAX(M16,P16) -> 7188852 | S16: =AVERAGE(M16,P16) -> 5434426 | T16: =+S16 -> 5434426 | U16: =ROUND(T16/G16,2) -> 1358606.5 | V16: =+U16*H16 -> 5434426
B17: 12 | C17: A-02-02-02-009-002 | D17: ANEXO No. 05 | E17: Gestión Ambiental | F17: 50 personas (Taller sincrónico) | G17: 4 | H17: 4 | I17: =+G17-H17 -> 0 | J17: =+I17/G17 -> 0 | K17: 8428692 | L17: 0 | M17: 8428692 | N17: 3680000 | O17: 0 | P17: 3680000 | Q17: =MIN(M17,P17) -> 3680000 | R17: =MAX(M17,P17) -> 8428692 | S17: =AVERAGE(M17,P17) -> 6054346 | T17: =+S17 -> 6054346 | U17: =ROUND(T17/G17,2) -> 1513586.5 | V17: =+U17*H17 -> 6054346
B18: 13 | C18: A-02-02-02-009-002 | D18: ANEXO No. 05 | E18: Cambio climático y Gestión de Riesgos basado en la ISO 31000 | F18: 50 personas (Taller sincrónico) | G18: 2 | H18: 2 | I18: =+G18-H18 -> 0 | J18: =+I18/G18 -> 0 | K18: 7193172 | L18: 0 | M18: 7193172 | N18: 1913600 | O18: 0 | P18: 1913600 | Q18: =MIN(M18,P18) -> 1913600 | R18: =MAX(M18,P18) -> 7193172 | S18: =AVERAGE(M18,P18) -> 4553386 | T18: =+S18 -> 4553386 | U18: =ROUND(T18/G18,2) -> 2276693 | V18: =+U18*H18 -> 4553386
B19: 14 | C19: A-02-02-02-009-002 | D19: ANEXO No. 05 | E19: Enmienda en cambio climático en relación a la ISO 9001 Y 14001 - Aplicación de la enmienda por el cambio climático en la ISO 14001 | F19: 50 personas (Taller sincrónico) | G19: 2 | H19: 2 | I19: =+G19-H19 -> 0 | J19: =+I19/G19 -> 0 | K19: 7193172 | L19: 0 | M19: 7193172 | N19: 1913600 | O19: 0 | P19: 1913600 | Q19: =MIN(M19,P19) -> 1913600 | R19: =MAX(M19,P19) -> 7193172 | S19: =AVERAGE(M19,P19) -> 4553386 | T19: =+S19 -> 4553386 | U19: =ROUND(T19/G19,2) -> 2276693 | V19: =+U19*H19 -> 4553386
B20: 15 | C20: A-02-02-02-009-002 | D20: ANEXO No. 05 | E20: Normas técnicas de Sistemas de Gestión | F20: 20 PERSONAS | G20: 2 | H20: 2 | I20: =+G20-H20 -> 0 | J20: =+I20/G20 -> 0 | K20: 4736532 | L20: 0 | M20: 4736532 | N20: 1913600 | O20: 0 | P20: 1913600 | Q20: =MIN(M20,P20) -> 1913600 | R20: =MAX(M20,P20) -> 4736532 | S20: =AVERAGE(M20,P20) -> 3325066 | T20: =+S20 -> 3325066 | U20: =ROUND(T20/G20,2) -> 1662533 | V20: =+U20*H20 -> 3325066
B21: 16 | C21: A-02-02-02-009-002 | D21: ANEXO No. 05 | E21: Especialización Método BIM | F21: 20 PERSONAS | G21: 4 | H21: 4 | I21: =+G21-H21 -> 0 | J21: =+I21/G21 -> 0 | K21: 5793492 | L21: 0 | M21: 5793492 | N21: 3680000 | O21: 0 | P21: 3680000 | Q21: =MIN(M21,P21) -> 3680000 | R21: =MAX(M21,P21) -> 5793492 | S21: =AVERAGE(M21,P21) -> 4736746 | T21: =+S21 -> 4736746 | U21: =ROUND(T21/G21,2) -> 1184186.5 | V21: =+U21*H21 -> 4736746
B22: 17 | C22: A-02-02-02-009-002 | D22: ANEXO No. 05 | E22: proyectos de inversión | F22: 20 PERSONAS | G22: 2 | H22: 2 | I22: =+G22-H22 -> 0 | J22: =+I22/G22 -> 0 | K22: 4736532 | L22: 0 | M22: 4736532 | N22: 1913600 | O22: 0 | P22: 1913600 | Q22: =MIN(M22,P22) -> 1913600 | R22: =MAX(M22,P22) -> 4736532 | S22: =AVERAGE(M22,P22) -> 3325066 | T22: =+S22 -> 3325066 | U22: =ROUND(T22/G22,2) -> 1662533 | V22: =+U22*H22 -> 3325066
B23: 18 | C23: A-02-02-02-009-002 | D23: ANEXO No. 05 | E23: Certificación modelo EFR 1000-1 | F23: 10 PERSONAS | G23: 3 | H23: 3 | I23: =+G23-H23 -> 0 | J23: =+I23/G23 -> 0 | K23: 4264212 | L23: 0 | M23: 4264212 | N23: 2796800 | O23: 0 | P23: 2796800 | Q23: =MIN(M23,P23) -> 2796800 | R23: =MAX(M23,P23) -> 4264212 | S23: =AVERAGE(M23,P23) -> 3530506 | T23: =+S23 -> 3530506 | U23: =ROUND(T23/G23,2) -> 1176835.3 | V23: =+U23*H23 -> 3530506
... B45: 53 | C45: A-02-02-02-009-003 | D45: ANEXO No. 06 | E45: Taller actividades de Medicina Preventiva | F45: Numero de intervenciones 4 Horas | G45: 4 | H45: 4 | I45: =+G45-H45 -> 0 | J45: =+I45/G45 -> 0 | K45: 605000 | L45: 0 | M45: 2420000 | N45: 3832835 | O45: 0 | P45: 3832835 | Q45: =MIN(M45,P45) -> 2420000 | R45: =MAX(M45,P45) -> 3832835 | S45: =AVERAGE(M45,P45) -> 3126417.5 | T45: =+S45 -> 3126417.5 | U45: =ROUND(T45/G45,2) -> 781604.38 | V45: =+U45*H45 -> 3126417.5
B46: 54 | C46: A-02-02-02-009-003 | D46: ANEXO No. 07 | E46: Taller educativo sobre conceptos de salud mental, identificacion de señales de alerta(estrés, ansiedad, agotamiento). Estrategias de autocuidado. | F46: HASTA 360 PAX 2 HORAS | G46: 2 | H46: 1 | I46: =+G46-H46 -> 1 | J46: =+I46/G46 -> 0.5 | K46: 1140000 | L46: 0 | M46: 2280000 | N46: 12365100 | P46: 12365100 | Q46: =MIN(M46,P46) -> 2280000 | R46: =MAX(M46,P46) -> 12365100 | S46: =AVERAGE(M46,P46) -> 7322550 | T46: =+S46 -> 7322550 | U46: =ROUND(T46/G46,2) -> 3661275 | V46: =+U46*H46 -> 3661275
B47: 55 | C47: A-02-02-02-009-003 | D47: ANEXO No. 07 | E47: Pausas puesto a puesto de técnicas de respiración conciente -Relajación guiada y Mindfulness laboral. | F47: HASTA 360 PAX 4 HORAS | G47: 4 | H47: 1 | I47: =+G47-H47 -> 3 | J47: =+I47/G47 -> 0.75 | K47: 780000 | L47: 0 | M47: 3120000 | N47: 11135620 | P47: 11135620 | Q47: =MIN(M47,P47) -> 3120000 | R47: =MAX(M47,P47) -> 11135620 | S47: =AVERAGE(M47,P47) -> 7127809.8 | T47: =+S47 -> 7127809.8 | U47: =ROUND(T47/G47,2) -> 1781952.5 | V47: =+U47*H47 -> 1781952.5
B48: 56 | C48: A-02-02-02-009-003 | D48: ANEXO No. 07 | E48: Taller de Escritura terapéutica,Arte y emociones. Música y manejo emocional.-con materiales. Taller de Mandalas: Este taller está diseñado para ofrecer una experiencia práctica y relajante a través de la creación de mandalas, un arte que fomenta la concentración, la creatividad y el equilibrio emocional. | F48: HASTA 360 PAX 2 HORAS | G48: 2 | H48: 1 | I48: =+G48-H48 -> 1 | J48: =+I48/G48 -> 0.5 | K48: 4200000 | L48: 0 | M48: 8400000 | N48: 20240880 | P48: 20240880 | Q48: =MIN(M48,P48) -> 8400000 | R48: =MAX(M48,P48) -> 20240880 | S48: =AVERAGE(M48,P48) -> 14320440 | T48: =+S48 -> 14320440 | U48: =ROUND(T48/G48,2) -> 7160220 | V48: =+U48*H48 -> 7160220
B49: 57 | C49: A-02-02-02-009-003 | D49: ANEXO No. 07 | E49: Materiales: Kit de Mandalas. Incluye: *Caja de madera pequeña con tapa en forma de mandala 12*12*5cm *Pincel * Temperas * Papeles con mensajes motivacionales | F49: HASTA 360 PAX | G49: 360 | H49: 67 | I49: =+G49-H49 -> 293 | J49: =+I49/G49 -> 0.81388889 | K49: 40912.8 | L49: 0 | M49: 14728608 | N49: 20240880 | P49: 20240880 | Q49: =MIN(M49,P49) -> 14728608 | R49: =MAX(M49,P49) -> 20240880 | S49: =AVERAGE(M49,P49) -> 17484744 | T49: =+S49 -> 17484744 | U49: =ROUND(T49/G49,2) -> 48568.73 | V49: =+U49*H49 -> 3254104.9
B50: 58 | C50: A-02-02-02-009-003 | D50: ANEXO No. 07 | E50: 1.Taller técnicas de manejo de estrés. | F50: HASTA 360 PAX 4 HORAS | G50: 4 | H50: 1 | I50: =+G50-H50 -> 3 | J50: =+I50/G50 -> 0.75 | K50: 780000 | L50: 0 | M50: 3120000 | N50: 12365100 | P50: 12365100 | Q50: =MIN(M50,P50) -> 3120000 | R50: =MAX(M50,P50) -> 12365100 | S50: =AVERAGE(M50,P50) -> 7742550 | T50: =+S50 -> 7742550 | U50: =ROUND(T50/G50,2) -> 1935637.5 | V50: =+U50*H50 -> 1935637.5
B51: 59 | C51: A-02-02-02-009-003 | D51: ANEXO No. 07 | E51: 2. Taller de regulación emocional. | F51: HASTA 360 PAX 4 HORAS | G51: 4 | H51: 1 | I51: =+G51-H51 -> 3 | J51: =+I51/G51 -> 0.75 | K51: 780000 | L51: 0 | M51: 3120000 | N51: 13335500 | P51: 13335500 | Q51: =MIN(M51,P51) -> 3120000 | R51: =MAX(M51,P51) -> 13335500 | S51: =AVERAGE(M51,P51) -> 8227750 | T51: =+S51 -> 8227750 | U51: =ROUND(T51/G51,2) -> 2056937.5 | V51: =+U51*H51 -> 2056937.5
B52: 60 | C52: A-02-02-02-009-003 | D52: ANEXO No. 07 | E52: 3. Taller de resolución de conflictos. | F52: HASTA 360 PAX 4 HORAS | G52: 4 | H52: 1 | I52: =+G52-H52 -> 3 | J52: =+I52/G52 -> 0.75 | K52: 780000 | L52: 0 | M52: 3120000 | N52: 13335500 | P52: 13335500 | Q52: =MIN(M52,P52) -> 3120000 | R52: =MAX(M52,P52) -> 13335500 | S52: =AVERAGE(M52,P52) -> 8227750 | T52: =+S52 -> 8227750 | U52: =ROUND(T52/G52,2) -> 2056937.5 | V52: =+U52*H52 -> 2056937.5
B53: 61 | C53: A-02-02-02-009-003 | D53: ANEXO No. 07 | E53: 4. liderazgo empatico: manejo de estrés en equipos de trabajo | F53: HASTA 360 PAX 4 HORAS | G53: 4 | H53: 1 | I53: =+G53-H53 -> 3 | J53: =+I53/G53 -> 0.75 | K53: 780000 | L53: 0 | M53: 3120000 | N53: 13335500 | P53: 13335500 | Q53: =MIN(M53,P53) -> 3120000 | R53: =MAX(M53,P53) -> 13335500 | S53: =AVERAGE(M53,P53) -> 8227750 | T53: =+S53 -> 8227750 | U53: =ROUND(T53/G53,2) -> 2056937.5 | V53: =+U53*H53 -> 2056937.5
B54: 62 | C54: A-02-02-02-009-003 | D54: ANEXO No. 07 | E54: 5. Manejo de crisis, Comunicación emocionalmente inteligente. | F54: HASTA 360 PAX 4 HORAS | G54: 4 | H54: 1 | I54: =+G54-H54 -> 3 | J54: =+I54/G54 -> 0.75 | K54: 780000 | L54: 0 | M54: 3120000 | N54: 13335500 | P54: 13335500 | Q54: =MIN(M54,P54) -> 3120000 | R54: =MAX(M54,P54) -> 13335500 | S54: =AVERAGE(M54,P54) -> 8227750 | T54: =+S54 -> 8227750 | U54: =ROUND(T54/G54,2) -> 2056937.5 | V54: =+U54*H54 -> 2056937.5
B55: 63 | C55: A-02-02-02-009-003 | D55: ANEXO No. 07 | E55: 6. Prevención del Sindrome burnout | F55: HASTA 360 PAX 4 HORAS | G55: 4 | H55: 1 | I55: =+G55-H55 -> 3 | J55: =+I55/G55 -> 0.75 | K55: 900000 | L55: 0 | M55: 3600000 | N55: 12365100 | P55: 12365100 | Q55: =MIN(M55,P55) -> 3600000 | R55: =MAX(M55,P55) -> 12365100 | S55: =AVERAGE(M55,P55) -> 7982550 | T55: =+S55 -> 7982550 | U55: =ROUND(T55/G55,2) -> 1995637.5 | V55: =+U55*H55 -> 1995637.5
B56: 64 | C56: A-02-02-02-009-002 | D56: ANEXO No. 07 | E56: Orientación psicológica individual: sesiones de coaching personalizado. | F56: HASTA 61 PAX 4 HORAS POR PAX * PERSONA = 244 HORAS | G56: 244 | H56: 60 | I56: =+G56-H56 -> 184 | J56: =+I56/G56 -> 0.75409836 | K56: 900000 | L56: 0 | M56: 54900000 | N56: 1392600 | P56: 1392600 | Q56: =MIN(M56,P56) -> 1392600 | R56: =MAX(M56,P56) -> 54900000 | S56: =AVERAGE(M56,P56) -> 28146300 | T56: =+S56 -> 28146300 | U56: =+ROUND(T56/G56,2) -> 115353.69 | V56: =+U56*H56 -> 6921221.4
B57: 65 | C57: A-02-02-02-009-003 | D57: ANEXO No. 07 | E57: Circuito de descarga emocional : yoga, musicoterapia, aromaterapia minfudells | F57: HASTA 150 PAX 8 HORAS / 10 Minutos por persona (3 Facilitadoras) | G57: 8 | H57: 2 | I57: =+G57-H57 -> 6 | J57: =+I57/G57 -> 0.75 | K57: 3000000 | L57: 0 | M57: 24000000 | N57: 9717551.9 | P57: 9717551.9 | Q57: =MIN(M57,P57) -> 9717551.9 | R57: =MAX(M57,P57) -> 24000000 | S57: =AVERAGE(M57,P57) -> 16858776 | T57: =+S57 -> 16858776 | U57: =ROUND(T57/G57,2) -> 2107347 | V57: =+U57*H57 -> 4214694
B58: 67 | C58: A-02-02-02-009-003 | D58: ANEXO No. 07 | E58: Circuito de Neuroestimulación - Ambientación Circuito de Neuroestimulación. Incluye: un masajeador de pies, una masajeador de cuellos y un cojín masajeador de espalda | F58: HASTA 150 PAX 8 HORAS / 10 Minutos por persona (3 Facilitadoras) | G58: 8 | H58: 2 | I58: =+G58-H58 -> 6 | J58: =+I58/G58 -> 0.75 | K58: 3000000 | L58: 0 | M58: 24000000 | N58: 29651054 | P58: 29651054 | Q58: =MIN(M58,P58) -> 24000000 | R58: =MAX(M58,P58) -> 29651054 | S58: =AVERAGE(M58,P58) -> 26825527 | T58: =+S58 -> 26825527 | U58: =ROUND(T58/G58,2) -> 3353190.9 | V58: =+U58*H58 -> 6706381.8
B59: 68 | C59: A-02-02-02-009-003 | D59: ANEXO No. 07 | E59: Clase de yoga | F59: HASTA 150 PAX 1 HORA / 20 Minutos por persona | G59: 1 | H59: 1 | I59: =+G59-H59 -> 0 | J59: =+I59/G59 -> 0 | K59: 780000 | L59: 0 | M59: 780000 | N59: 35188800 | P59: 35188800 | Q59: =MIN(M59,P59) -> 780000 | R59: =MAX(M59,P59) -> 35188800 | S59: =AVERAGE(M59,P59) -> 17984400 | T59: =+S59 -> 17984400 | U59: =ROUND(T59/G59,2) -> 17984400 | V59: =+U59*H59 -> 17984400
B60: 69 | C60: A-02-02-02-009-003 | D60: ANEXO No. 07 | E60: Taller meditando fuera del Tibet | F60: HASTA 150 PAX 1 HORA / 20 Minutos por persona | G60: 1 | H60: 1 | I60: =+G60-H60 -> 0 | J60: =+I60/G60 -> 0 | K60: 900000 | L60: 0 | M60: 900000 | N60: 30651054 | P60: 30651054 | Q60: =MIN(M60,P60) -> 900000 | R60: =MAX(M60,P60) -> 30651054 | S60: =AVERAGE(M60,P60) -> 15775527 | T60: =+S60 -> 15775527 | U60: =ROUND(T60/G60,2) -> 15775527 | V60: =+U60*H60 -> 15775527
B61: 70 | C61: A-02-02-02-009-003 | D61: ANEXO No. 07 | E61: Taller la heladeria de la desconexión - carrito de helados y entrega | F61: HASTA 360 PAX | G61: 360 | H61: 67 | I61: =+G61-H61 -> 293 | J61: =+I61/G61 -> 0.81388889 | K61: 84000 | L61: 0 | M61: 30240000 | N61: 30726000 | P61: 30726000 | Q61: =MIN(M61,P61) -> 30240000 | R61: =MAX(M61,P61) -> 30726000 | S61: =AVERAGE(M61,P61) -> 30483000 | T61: =+S61 -> 30483000 | U61: =ROUND(T61/G61,2) -> 84675 | V61: =+U61*H61 -> 5673225
B62: 71 | C62: A-02-02-02-009-003 | D62: ANEXO No. 07 | E62: Taller de Mindfullness | F62: HASTA 30 PAX | G62: 30 | H62: 5 | I62: =+G62-H62 -> 25 | J62: =+I62/G62 -> 0.83333333 | K62: 780000 | L62: 0 | M62: 780000 | N62: 9177500 | P62: 9177500 | Q62: =MIN(M62,P62) -> 780000 | R62: =MAX(M62,P62) -> 9177500 | S62: =AVERAGE(M62,P62) -> 4978750 | T62: =+S62 -> 4978750 | U62: =ROUND(T62/G62,2) -> 165958.33 | V62: =+U62*H62 -> 829791.65
B63: 72 | C63: A-02-02-02-009-003 | D63: ANEXO No. 07 | E63: Kit de Midfullness Incluye: *Bolsa *Vela aromatizánte *Frutos secos *Toalla facial *Burbujero *Aceite *Tarjeta de instrucciones para el fortalecimiento de la salud mental | F63: HASTA 30 PAX | G63: 30 | H63: 5 | I63: =+G63-H63 -> 25 | J63: =+I63/G63 -> 0.83333333 | K63: 60000 | L63: 0 | M63: 1800000 | N63: 4177500 | P63: 4177500 | Q63: =MIN(M63,P63) -> 1800000 | R63: =MAX(M63,P63) -> 4177500 | S63: =AVERAGE(M63,P63) -> 2988750 | T63: =+S63 -> 2988750 | U63: =ROUND(T63/G63,2) -> 99625 | V63: =+U63*H63 -> 498125
...
