Workbook

Sheet Datos Base
B1: Centro de costo | C1: Detalle | D1: Factor | E1: Días pernoctados | F1: Costo unitario 2026 | J1: Costo 2025 Sin IVA
B2: Acreditación en Alta Calidad | C2: Par Institucional o coordinador (119 UVT)-Resolución No.023832 del 19 de diciembre de 2022 | D2: 119 | F2: =ROUND(D2*F18,0) -> 6232506
C3: Pares academicos (UVT)-Resolución No.023832 del 19 de diciembre de 2022 | D3: 93 | F3: =ROUND(D3*F18,0) -> 4870782
C4: Par Internacional (1500 Dolares)-Resolución No.023832 del 19 de diciembre de 2022 | D4: 1500 | F4: =ROUND((D4*E20+D4)*E19,0) -> 7234409 | J4: =D4*E19 -> 6079335
C5: Gasto de viajes - 2026 DECRETO 0314 DEL 25 DE MARZO DE 2026 | D5: 1 | E5: 3.5 | F5: =ROUND((D5*F21)*E5,0) -> 2493950
C6: Gasto de viajes - 2026 Resolución No.023832 del 19 de diciembre de 2022 - (U$200 dólares) | D6: 200 | E6: 4.5 | F6: =ROUND(((D6*E20+D6)*E19)*E6,0) -> 4340645 | J6: =D6*E19*E6 -> 3647601
B7: Registro Calificado | C7: Pares academicos RC Etaapa de Radicado y Prerradicado (UVT)-Resolución No.023832 del 19 de diciembre de 2022 | D7: 53 | F7: =ROUND(D7*$F$18,0) -> 2775822
C8: Pares Institucionales (UVT)-Resolución No.023832 del 19 de diciembre de 2022 | D8: 79 | F8: =ROUND(D8*$F$18,0) -> 4137546
C9: Pares IPS (UVT)-Resolución No.023832 del 19 de diciembre de 2022 | D9: 53 | F9: =ROUND(D9*$F$18,0) -> 2775822
C10: Pares I&V (UVT)-Resolución No.023832 del 19 de diciembre de 2022 | D10: 53 | F10: =ROUND(D10*$F$18,0) -> 2775822
C11: Gasto de viajes - 2026 DECRETO 0314 DEL 25 DE MARZO DE 2026- RC - I.V - IPS | D11: 1 | E11: 3.5 | F11: =ROUND(D11*F22*E11,0) -> 1848735
C12: Gasto de viajes - 2026 DECRETO 0314 DEL 25 DE MARZO DE 2026 - Trámites Institucionales | D12: 1 | E12: 3.5 | F12: =ROUND(D12*F22*E12,0) -> 1848735
B14: Meses año | C14: Presupuesto asignado 2026 | D14: presuopuesto interventoría | F14: UVT
C15: =18348970052-2923302198 -> 15425667854 | D15: 0 | F15: Dólar
F16: Gestión
E17: Datos iniciales 2025 | F17: 2026
C18: UVT | E18: 52374 | F18: =E18 -> 52374
C19: Dólar | E19: 4052.89
C20: IVA | E20: 0.19
B21: 0.051 | C21: Gasto de viaje CNA-DECRETO 0314 DEL 25 DE MARZO DE 2026 | D21: 665941 | E21: 0.051 | F21: 712557
B22: 0 | C22: Gasto de viaje RC-DECRETO 0314 DEL 25 DE MARZO DE 2026 | D22: 493654 | F22: 528210
C23: Gastos de viaje internacionales | D23: =F6 -> 4340645 | F23: =ROUND(D23,0) -> 4340645
B24: =ROUND((7052086*5%)+7052086,0) -> 7404690 | C24: Tiquetes internacionales | D24: 5392611 | E24: 0.051 | F24: =ROUND(D24*E24+D24,0) -> 5667634
B25: =ROUND((720343*5%)+720343,0) -> 756360 | C25: Tiquetes nacionales | D25: 1103878 | F25: =ROUND(D25*E24+D25,0) -> 1160176
B26: =ROUNDUP((15803*7.2%)+15803,0) -> 16941 | C26: Comisión fiduciaria | D26: 38300 | E26: 0.051 | F26: 91855
C27: Porción transporte terrestre | D27: 100000 | E27: 0.051 | F27: =ROUNDUP(D27*E27+D27,0) -> 105100
F28: 1
B29: 2026 Necesidad 100% | C29: 2026
C30: Proyección total pares 2026 CNA | D30: Operación MEN 2025 | E30: Total Casos
B31: Pares Coordinadores | C31: 452
B32: Pares Académicos | C32: 500
B33: Pares Internacionales | C33: 40
B34: Total Pares | C34: =SUM(C31:C33) -> 992 | D34: =SUM(D31:D33) -> 0 | E34: =SUM(E31:E33) -> 0
C35: 0.7483
B37: 2026 Necesidad 100% | C37: 2026
C38: Proyección total pares 2026 RC | D38: Operación MEN 2025 | E38: Total Casos
B39: Pares RC | C39: 1164
B40: Pares Trámites Institucionales | C40: 36
B41: Pares condiciones de Prerradicado | C41: 84
B42: Pares IPS | C42: 216
...

Sheet 2026 Fiducia
B1: CNA | C1: 1 | E1: Número total de PARES CNA | G1: =B12 -> 992 | K1: =FormaResumen!C10 -> 11708854
E2: Número de proceso CNA | G2: 452
B3: RC | C3: 0.7 | E3: Número de total de PARES RC | G3: ='Datos Base'!C44 -> 1577
E4: Número de procesos RC, T. Institucionales e I&V | G4: 855
B6: ACREDITACIÓN EN ALTA CALIDAD | M6: Rezago Pares CNA
B7: Proyección total pares 2026 CNA | C7: vigencia 2026 | D7: =C1 -> 1 | E7: PRESENCIALES Con gastos de desplazamiento | G7: 1 | H7: Porción terrestre | J7: =100%-D7 -> 0 | K7: VIRTUALES sin gastos de desplazamiento
D8: N° de PARES | E8: Honorarios | F8: Gastos de desplazamiento | G8: N° de Pares | H8: Valor | J8: N° de PARES | K8: Honorarios
B9: ='Datos Base'!C31 -> 452 | C9: Pares Coordinadores | D9: =ROUND(B9*$D$7,0) -> 452 | E9: =D9*'Datos Base'!F2 -> 2817092712 | F9: =D9*'Datos Base'!F5 -> 1127265400 | G9: =ROUND(G7*D12,0) -> 992 | H9: =G9*'Datos Base'!F27 -> 104259200 | J9: =ROUND(B9*$J$7,0) -> 0 | K9: =J9*'Datos Base'!F2 -> 0 | M9: =B9-'Datos Base'!C31 -> 0
B10: ='Datos Base'!C32 -> 500 | C10: Pares Académicos | D10: =ROUND(B10*$D$7,0) -> 500 | E10: =D10*'Datos Base'!F3 -> 2435391000 | F10: =D10*'Datos Base'!F5 -> 1246975000 | J10: =ROUND(B10*$J$7,0) -> 0 | K10: =J10*'Datos Base'!F3 -> 0 | M10: =B10-'Datos Base'!C32 -> 0
B11: ='Datos Base'!C33 -> 40 | C11: Pares Internacionales | D11: =B11 -> 40 | E11: =D11*'Datos Base'!F4 -> 289376360 | F11: =D11*'Datos Base'!F6 -> 173625800 | J11: 0 | K11: =J11*'Datos Base'!F4 -> 0 | M11: =B11-'Datos Base'!#REF! -> #REF!
B12: =SUM(B9:B11) -> 992 | C12: Total | D12: =SUM(D9:D11) -> 992 | E12: =SUM(E9:E11) -> 5541860072 | F12: =SUM(F9:F11) -> 2547866200 | G12: =SUM(G9) -> 992 | H12: =SUM(H9) -> 104259200 | J12: =SUM(J9:J11) -> 0 | K12: =SUM(K9:K11) -> 0 | M12: =SUM(M9:M11) -> #REF!
E14: =E12+F12+H12 -> 8193985472 | K14: =K12 -> 0
C15: Total CNA | D15: =D12+J12 -> 992 | E15: =E14+K14 -> 8193985472
B17: REGISTRO CALIFICADO | M17: Rezago Pares RC
B18: Proyección total pares 2026 RC | C18: vigencia 2026 | D18: =C3 -> 0.7 | E18: PRESENCIALES Con gastos de desplazamiento | G18: 1 | H18: Porción terrestre | J18: =100%-D18 -> 0.3 | K18: VIRTUALES sin gastos de desplazamiento
D19: 100 | E19: Honorarios | F19: Gastos de desplazamiento | G19: N° de Pares | H19: Valor | J19: N° de PARES | K19: Honorarios
B20: ='Datos Base'!C39 -> 1164 | C20: Pares RC Radicado | D20: =ROUND(B20*$D$18,0) -> 815 | E20: =D20*'Datos Base'!F7 -> 2262294930 | F20: =D20*'Datos Base'!$F$11 -> 1506719025 | G20: =ROUND(G18*D25,0) -> 1203 | H20: =G20*'Datos Base'!F27 -> 126435300 | J20: =ROUND(B20*$J$18,0) -> 349 | K20: =J20*'Datos Base'!F7 -> 968761878 | M20: =B20-'Datos Base'!C39 -> 0
B21: ='Datos Base'!C40 -> 36 | C21: Pares Trámites Institucionales | D21: 36 | E21: =D21*'Datos Base'!F8 -> 148951656 | F21: =D21*'Datos Base'!$F$11 -> 66554460 | J21: 0 | K21: =J21*'Datos Base'!F8 -> 0 | M21: =B21-'Datos Base'!C40 -> 0
B22: ='Datos Base'!C41 -> 84 | C22: Pares RC Prerradicado | D22: =ROUND(B22*$D$18,0) -> 59 | E22: =D22*'Datos Base'!F7 -> 163773498 | F22: =D22*'Datos Base'!$F$11 -> 109075365 | J22: =ROUND(B22*$J$18,0) -> 25 | K22: =J22*'Datos Base'!F7 -> 69395550 | M22: =B22-'Datos Base'!C41 -> 0
B23: ='Datos Base'!C42 -> 216 | C23: Pares IPS | D23: =B23 -> 216 | E23: =D23*'Datos Base'!F9 -> 599577552 | F23: =D23*'Datos Base'!$F$11 -> 399326760 | J23: 0 | K23: =J23*'Datos Base'!F9 -> 0 | M23: =B23-'Datos Base'!C42 -> 0
B24: ='Datos Base'!C43 -> 77 | C24: Pares I&V | D24: =B24 -> 77 | E24: =D24*'Datos Base'!F10 -> 213738294 | F24: =D24*'Datos Base'!$F$11 -> 142352595 | J24: 0 | K24: =J24*'Datos Base'!F10 -> 0 | M24: =B24-'Datos Base'!C43 -> 0
B25: =SUM(B20:B24) -> 1577 | C25: Total | D25: =SUM(D20:D24) -> 1203 | E25: =SUM(E20:E24) -> 3388335930 | F25: =SUM(F20:F24) -> 2224028205 | G25: =SUM(G20) -> 1203 | H25: =SUM(H20) -> 126435300 | J25: =SUM(J20:J24) -> 374 | K25: =SUM(K20:K24) -> 1038157428 | M25: =SUM(M20:M24) -> 0
E27: =E25+F25+H25 -> 5738799435 | K27: =K25 -> 1038157428
C28: Total RC | D28: =D25+J25 -> 1577 | E28: =E27+K27 -> 6776956863
B30: Comisión fiduciaria
C31: 2 | E31: 1
C32: Cantidad de transacciones | D32: Valor | E32: Cantidad de transacciones | F32: Valor
A33: =(C31*D12) -> 1984 | B33: Acreditación en Alta Calidad | C33: =A33+C36 -> 2009 | D33: =C33*'Datos Base'!F26 -> 184536695 | E33: =E31*J12 -> 0 | F33: =E33*'Datos Base'!F26 -> 0
A34: =(C31*D25) -> 2406 | B34: Registro Calificado | C34: =A34+C37 -> 2440 | D34: =C34*'Datos Base'!F26 -> 224126200 | E34: =E31*J25 -> 374 | F34: =E34*'Datos Base'!F26 -> 34353770
B35: Totales | C35: =SUM(C33:C34) -> 4449 | D35: =SUM(D33:D34) -> 408662895 | E35: =SUM(E33:E34) -> 374 | F35: =SUM(F33:F34) -> 34353770
B36: Comisiones reposición por devolución CNA | C36: =ROUND((A33+E33)*D36,0) -> 25 | D36: 0.0124 | E36: =C35+E35 -> 4823
B37: Comisiones reposición por devolución RC | C37: =ROUND((A34+E34)*D36,0) -> 34
C39: Concepto | D39: Cantidad
C40: Número proyectado de transacciones por pago de honorarios | D40: =D12+D25+J25+J12 -> 2569
C41: Número proyectado de transacciones por pago de gastos de viaje | D41: =D12+D25 -> 2195
C42: Número proyectado de transacciones adicionales | D42: =C36+C37 -> 59
C43: Total transacciones | D43: =SUM(D40:D42) -> 4823
C44: Valor unitario por transacción | D44: ='Datos Base'!F26 -> 91855
C45: TOTAL comisión fiducia | D45: =D44*D43 -> 443016665
H47: Rubro | K47: Valor
...

Sheet FormaResumen
B1: CNA | F1: Proyección de trámites a atender
B2: RC | F2: 2025
C3: 2026 | F3: Total | G3: Atendidos | H3: Rezago
B4: Fiducia | C4: ='2026 Fiducia'!K48 -> 443016665 | E4: CNA | F4: ='Datos Base'!#REF! -> #REF! | G4: ='2026 Fiducia'!G2 -> 452 | H4: =G4-F4 -> #REF!
B5: Honorarios y gastos de viaje | C5: ='2026 Fiducia'!E15+'2026 Fiducia'!E28 -> 14970942335 | E5: RC | F5: ='Datos Base'!#REF! -> #REF! | G5: ='2026 Fiducia'!G4 -> 855 | H5: =G5-F5 -> #REF!
B6: Subtotal | C6: =SUM(C4:C5) -> 15413959000 | E6: TOTAL | F6: =SUM(F4:F5) -> #REF! | G6: =SUM(G4:G5) -> 1307 | H6: =G6-F6 -> #REF!
B7: Total | C7: =C6 -> 15413959000
B9: Recursos asignados Proceso | C9: ='Datos Base'!C15 -> 15425667854
B10: Saldo | C10: =C9-C7 -> 11708854
G11: 1800000000
