Workbook

Sheet Factor Multiplicador
A1: FACTOR MULTIPLICADOR
C3: CONCEPTO | I3: PORCENTAJE
A4: 1. | B4: Salarios y Prestaciones Sociales de Personal
A5: 1.1 | B5: Salarios | I5: 1
A6: 1.2 | B6: Prima anual (legal) | E6: 1 | F6: ÷ 12 = | I6: =1/12 -> 0.083333333
A7: 1.3 | B7: Cesantía | E7: 1 | F7: ÷ 12 = | I7: =1/12 -> 0.083333333
A8: 1.4 | B8: Intereses de cesantía | E8: 0.01 | F8: x 1.3. = | I8: 0.01
A9: 1.5 | B9: Vacaciones | I9: =+I7/2 -> 0.041666667
A10: 1.6 | B10: Seguridad Social (salud + pensión) | I10: 0.285
A11: 1.7 | B11: Caja de Compensación Familiar | I11: 0.04
A12: 1.8 | B12: ARP | I12: 0.025
A13: 1.9 | B13: Sena | I13: 0.02
A14: 1.10 | B14: ICBF | I14: 0.03
A15: 1.11 | B15: Otros (Auxilios varios, prestaciones extralegales, Incapacidades no cubertas) | I15: 0.01
A16: 1.12 | B16: Dotación | I16: 0.05
F17: Sub-total | I17: =SUM(I5:I16) -> 1.6783333
A18: 2. | B18: Gastos Directos
A19: 2.1 | B19: Arriendo oficina | I19: 0.03
A20: 2.2 | B20: Administración edificio | I20: 0.004
A21: 2.3 | B21: Servicios públicos | I21: 0.005
F22: Sub-total | I22: =SUM(I19:I21) -> 0.039
A23: 3. | B23: Gastos Generales
A24: 3.1 | B24: Asesoria Contable Tributaria | I24: 0.07
A25: 3.2 | B25: Equipos y mantenimiento Oficina (Aseo) | I25: 0.02
A26: 3.3 | B26: Seguros de robo e incendio | I26: 0.005
A27: 3.4 | B27: Personal Administrativo no facturado | I27: 0.01
A28: 3.9 | B28: Gastos de Representación | I28: 0.01
A29: 3.10 | B29: Impuestos | I29: 0.1
F30: Sub-total | I30: =SUM(I24:I29) -> 0.215
A31: Total | I31: =+I30+I22+I17 -> 1.9323333

Sheet 2026
A1: Relación de personal
A2: Descripción | B2: Cantidad | C2: Mes | D2: Valor mes | E2: Subtotal
A3: Coordinador del proyecto | B3: 2 | C3: 3 | D3: 3710000 | E3: =D3*C3*B3 -> 22260000
A4: Auxiliares logísticos | B4: 20 | C4: 3 | D4: 2650000 | E4: =D4*C4*B4 -> 159000000
A5: Subtotal | E5: =+SUM(E3:E4) -> 181260000
A6: Factor multiplicador | E6: =+'Factor Multiplicador'!I31 -> 1.9323333
A7: Total | E7: =+E5*E6 -> 3.5025474e+08
A9: Presupuesto Maquinaria y equipos
A10: DESCRIPCIÓN | B10: UNIDAD | C10: CANTIDAD | D10: CANT TIEMPO | E10: VALORES UNITARIOS ACTUALIZADOS | F10: SUBTOTAL
A12: Guantes tipo Ingeniero o de Vaqueta (operadores) | B12: Par | C12: =20*3*4 -> 240 | E12: ='PROMEDIOS 2026'!I4 -> 20710.76 | F12: =C12*E12 -> 4970582.3
A13: Gafas de seguridad transparentes (operadores) mensual | B13: Und | C13: =20*3*4 -> 240 | E13: ='PROMEDIOS 2026'!I5 -> 16317.377 | F13: =C13*E13 -> 3916170.5
A14: Casco de seguridad | B14: Und | C14: 40 | E14: ='PROMEDIOS 2026'!I7 -> 40490.94 | F14: =C14*E14 -> 1619637.6
A15: Camisa manga larga de jeans 1 dotación mensual | B15: Und | C15: =22*3 -> 66 | E15: ='PROMEDIOS 2026'!I8 -> 116061.29 | F15: =C15*E15 -> 7660045.5
A16: Jean rigido 1 dotacion mensual | B16: Und | C16: =3*22 -> 66 | E16: ='PROMEDIOS 2026'!I9 -> 123319.1 | F16: =C16*E16 -> 8139060.9
A17: Capucha para soldador | B17: Und | C17: 40 | E17: ='PROMEDIOS 2026'!I10 -> 66275.265 | F17: =C17*E17 -> 2651010.6
A18: Bota dielectrica | B18: Und | C18: =22*2 -> 44 | E18: ='PROMEDIOS 2026'!I11 -> 128857.96 | F18: =C18*E18 -> 5669750.2
A19: Sueter manga larga personalizado institucional de la alcaldia y del contratista 1 dotación mensual | B19: Und | C19: =22*3 -> 66 | E19: ='PROMEDIOS 2026'!I12 -> 65129.295 | F19: =C19*E19 -> 4298533.5
A20: Botas pantaneras con punta de acero | B20: Und | C20: =B3+B4 -> 22 | E20: ='PROMEDIOS 2026'!I13 -> 95526.925 | F20: =C20*E20 -> 2101592.4
A21: Cinta de Peligro rollo de 500m | B21: Rollo | C21: 5 | E21: ='PROMEDIOS 2026'!I21 -> 151787.55 | F21: =C21*E21 -> 758937.73
A22: Colombinas, señalizador vial | B22: Und | C22: 10 | E22: ='PROMEDIOS 2026'!I22 -> 144405.59 | F22: =C22*E22 -> 1444055.9
A23: Conos Viales reflectivos 70cm | B23: Und | C23: 10 | E23: ='PROMEDIOS 2026'!I23 -> 146151.92 | F23: =C23*E23 -> 1461519.2
A24: Paletas de Pare/ Siga | B24: Und | C24: 10 | E24: ='PROMEDIOS 2026'!I24 -> 102259.36 | F24: =C24*E24 -> 1022593.6
A25: AVISOS EN TRIANGULO METALICO, DOBLE CARA "AQUÍ SE ESTÁ RECUPERANDO EL ESPACIO PUBLICO" institucional 2 caras full color | B25: Und | C25: 8 | E25: ='PROMEDIOS 2026'!I31 -> 764931.16 | F25: =C25*E25 -> 6119449.2
A26: Aviso tipo vallas publicitaria (estructura metalica paral doble y tablero de 2X1) | B26: Und | C26: 15 | E26: ='PROMEDIOS 2026'!I32 -> 1069999.8 | F26: =C26*E26 -> 16049997
A27: Alquiler de retroexcavadora (Hora) | B27: Und | C27: 1 | D27: 200 | E27: ='PROMEDIOS 2026'!I40 -> 188283.09 | F27: =C27*D27*E27 -> 37656617
A28: Transporte terrestre retroexcavadora ida y vuelta | B28: Trayecto | C28: 2 | D28: 20 | E28: ='PROMEDIOS 2026'!I41 -> 485210.22 | F28: =C28*D28*E28 -> 19408409
A29: Alquiler de retroexcavadora tipo oruga caterpillar 320 (hora) | B29: Und | C29: 1 | D29: 24 | E29: ='PROMEDIOS 2026'!I42 -> 300050 | F29: =C29*D29*E29 -> 7201200
A30: Transporte terrestre en cama baja de retroexcavadora tipo oruga, caterpillar 320 ida y vuelta | B30: Trayecto | C30: 2 | D30: 4 | E30: ='PROMEDIOS 2026'!I43 -> 1347000 | F30: =C30*D30*E30 -> 10776000
A31: Vehículo tipo volqueta para transporte de residuos solidos hacia su disposición final (Valor x 1 dia) | B31: Dia | C31: 1 | D31: 45 | E31: ='PROMEDIOS 2026'!I44 -> 859745 | F31: =C31*D31*E31 -> 38688525
A32: Alquiler motocarro de carga | B32: Dia | C32: 1 | D32: 90 | E32: ='PROMEDIOS 2026'!I45 -> 221490 | F32: =C32*D32*E32 -> 19934100
A33: Vehículo tipo furgón para el transporte de bienes decomisados (Valor x 1 dia) | B33: Dia | C33: 1 | D33: 15 | E33: ='PROMEDIOS 2026'!I46 -> 870231 | F33: =C33*D33*E33 -> 13053465
A34: Alquiler carro canasta. Incluye combustible y operadores | B34: Dia | C34: 1 | D34: 15 | E34: ='PROMEDIOS 2026'!I47 -> 2353537.2 | F34: =C34*D34*E34 -> 35303058
A35: Vehículo tipo camioneta con platón para recorridos internos en el municipio (Valor x 1 dia) | B35: Dia | C35: 1 | D35: 90 | E35: ='PROMEDIOS 2026'!I56 -> 422008 | F35: =C35*D35*E35 -> 37980720
A36: Tabla para anotar | B36: Und | C36: 4 | E36: ='PROMEDIOS 2026'!I64 -> 27445.5 | F36: =C36*E36 -> 109782
A37: Lapiceros | B37: Und | C37: 13 | E37: ='PROMEDIOS 2026'!I65 -> 1582.53 | F37: =C37*E37 -> 20572.89
A38: Marcadores Permanentes | B38: Und | C38: 3 | E38: ='PROMEDIOS 2026'!I66 -> 4226.5 | F38: =C38*E38 -> 12679.5
A39: Martillo de uña de 13 onzas con mango de fibra | B39: Und | C39: 4 | E39: ='PROMEDIOS 2026'!I73 -> 47497.3 | F39: =C39*E39 -> 189989.2
A40: Mazo de 18 lb con cabo de madera | B40: Und | C40: 4 | E40: ='PROMEDIOS 2026'!I74 -> 263755 | F40: =C40*E40 -> 1055020
A41: Barra Agrícola En Acero 14 Lb | B41: Und | C41: 2 | E41: ='PROMEDIOS 2026'!I75 -> 201058.35 | F41: =C41*E41 -> 402116.7
A42: Pico de acero de unos 60 cm de largo y 5 de grueso, y un mango de madera | B42: Und | C42: 6 | E42: ='PROMEDIOS 2026'!I76 -> 100259 | F42: =C42*E42 -> 601554
...

Sheet PROMEDIOS 2026
A1: DOTACIÓN
A2: Items | B2: Descripción | C2: Unidad | D2: Cantidad | E2: INGENIERIA TECNICA DEL CARIBE | G2: ELEMVIC | I2: Promedio
E3: Valor Und | F3: Subtotal | G3: Valor Und | H3: Subtotal | I3: Valor Und | J3: Subtotal
A4: 1 | B4: Guantes tipo Ingeniero o de Vaqueta | C4: Par | D4: 1 | E4: 21684.299 | F4: =E4*D4 -> 21684.299 | G4: 19737.22 | H4: =G4*D4 -> 19737.22 | I4: =+AVERAGE(E4,G4) -> 20710.76 | J4: =I4*D4 -> 20710.76
A5: 2 | B5: Gafas de seguridad transparentes | C5: Und | D5: 1 | E5: 16263.861 | F5: =E5*D5 -> 16263.861 | G5: 16370.893 | H5: =G5*D5 -> 16370.893 | I5: =+AVERAGE(E5,G5) -> 16317.377 | J5: =I5*D5 -> 16317.377
A6: 3 | B6: Gafas de seguridad Oscuras | C6: Und | D6: 1 | E6: 16263.861 | F6: =E6*D6 -> 16263.861 | G6: 16370.818 | H6: =G6*D6 -> 16370.818 | I6: =+AVERAGE(E6,G6) -> 16317.34 | J6: =I6*D6 -> 16317.34
A7: 4 | B7: Casco de seguridad | C7: Und | D7: 1 | E7: 40745.6 | F7: =E7*D7 -> 40745.6 | G7: 40236.28 | H7: =G7*D7 -> 40236.28 | I7: =+AVERAGE(E7,G7) -> 40490.94 | J7: =I7*D7 -> 40490.94
A8: 5 | B8: Camisa manga larga de jeans | C8: Und | D8: 1 | E8: 116888.94 | F8: =E8*D8 -> 116888.94 | G8: 115233.65 | H8: =G8*D8 -> 115233.65 | I8: =+AVERAGE(E8,G8) -> 116061.29 | J8: =I8*D8 -> 116061.29
A9: 6 | B9: Jean rigido | C9: Und | D9: 1 | E9: 128221.31 | F9: =E9*D9 -> 128221.31 | G9: 118416.9 | H9: =G9*D9 -> 118416.9 | I9: =+AVERAGE(E9,G9) -> 123319.1 | J9: =I9*D9 -> 123319.1
A10: 7 | B10: Capucha par a soldador | C10: Und | D10: 1 | E10: 69012.86 | F10: =E10*D10 -> 69012.86 | G10: 63537.67 | H10: =G10*D10 -> 63537.67 | I10: =+AVERAGE(E10,G10) -> 66275.265 | J10: =I10*D10 -> 66275.265
A11: 8 | B11: Bota dielectrica | C11: Und | D11: 1 | E11: 131022.57 | F11: =E11*D11 -> 131022.57 | G11: 126693.35 | H11: =G11*D11 -> 126693.35 | I11: =+AVERAGE(E11,G11) -> 128857.96 | J11: =I11*D11 -> 128857.96
A12: 9 | B12: Sueter manga larga personalizado e institucional de la alcaldia y del contratista | C12: Und | D12: 1 | E12: 64301.65 | F12: =E12*D12 -> 64301.65 | G12: 65956.94 | H12: =G12*D12 -> 65956.94 | I12: =+AVERAGE(E12,G12) -> 65129.295 | J12: =I12*D12 -> 65129.295
A13: 10 | B13: Botas pantaneras con punta de acero | C13: Und | D13: 1 | E13: 107593.85 | F13: =E13*D13 -> 107593.85 | G13: 83460 | H13: =G13*D13 -> 83460 | I13: =+AVERAGE(E13,G13) -> 95526.925 | J13: =I13*D13 -> 95526.925
E14: Subtotal | F14: =+SUM(F4:F13) -> 711998.8 | G14: Subtotal | H14: =+SUM(H4:H13) -> 666013.72 | I14: Subtotal | J14: =+SUM(J4:J13) -> 689006.26
E15: Total | F15: =F14 -> 711998.8 | G15: Total | H15: =H14 -> 666013.72 | I15: Total | J15: =J14 -> 689006.26
A18: SEGURIDAD VIAL
A19: Items | B19: Descripción | C19: Unidad | D19: Cantidad | E19: INGENIERIA TECNICA DEL CARIBE | G19: ELEMVIC | I19: Promedio
E20: Valor Und | F20: Subtotal | G20: Valor Und | H20: Subtotal | I20: Valor Und | J20: Subtotal
A21: 1 | B21: Cinta de peligro 500mts | C21: Und | D21: 1 | E21: 156985.16 | F21: =E21*D21 -> 156985.16 | G21: 146589.94 | H21: =D21*G21 -> 146589.94 | I21: =+AVERAGE(E21,G21) -> 151787.55 | J21: =I21*D21 -> 151787.55
A22: 2 | B22: Colombina de señalización | C22: Und | D22: 1 | E22: 140089.74 | F22: =E22*D22 -> 140089.74 | G22: 148721.44 | H22: =D22*G22 -> 148721.44 | I22: =+AVERAGE(E22,G22) -> 144405.59 | J22: =I22*D22 -> 144405.59
A23: 3 | B23: Cono vial reflectivo de 70cm | C23: Und | D23: 1 | E23: 154838.37 | F23: =E23*D23 -> 154838.37 | G23: 137465.47 | H23: =D23*G23 -> 137465.47 | I23: =+AVERAGE(E23,G23) -> 146151.92 | J23: =I23*D23 -> 146151.92
A24: 4 | B24: Paletas de pare/siga | C24: Und | D24: 1 | E24: 103253.17 | F24: =E24*D24 -> 103253.17 | G24: 101265.55 | H24: =D24*G24 -> 101265.55 | I24: =+AVERAGE(E24,G24) -> 102259.36 | J24: =I24*D24 -> 102259.36
E25: Subtotal | F25: =+SUM(F21:F24) -> 555166.44 | G25: Subtotal | H25: =SUM(H21:H24) -> 534042.39 | I25: Subtotal | J25: =SUM(J21:J24) -> 544604.42
E26: Total | F26: =F25 -> 555166.44 | G26: Total | H26: =H25 -> 534042.39 | I26: Total | J26: =J25 -> 544604.42
A28: PUBLICIDAD
A29: Items | B29: Descripción | C29: Unidad | D29: Cantidad | E29: INGENIERIA TECNICA DEL CARIBE | G29: ELEMVIC | I29: Promedio
E30: Valor Und | F30: Subtotal | G30: Valor Und | H30: Subtotal | I30: Valor Und | J30: Subtotal
A31: 1 | B31: AVISOS EN TRIANGULO, DOBLE CARA "AQUÍ SE ESTÁ RECUPERANDO EL ESPACIO PUBLICO" | C31: Und | D31: 1 | E31: 751247 | F31: =+D31*E31 -> 751247 | G31: 778615.31 | H31: =D31*G31 -> 778615.31 | I31: =+AVERAGE(E31,G31) -> 764931.16 | J31: =+D31*I31 -> 764931.16
B32: AVISOS TIPO VALLA PUBLICITARIA "ESTRUCTURA METALICA PARAL DOBLE Y TABLERO DE 2X1" | C32: Und | D32: 1 | E32: 1108626.7 | F32: =+D32*E32 -> 1108626.7 | G32: 1031373 | H32: =D32*G32 -> 1031373 | I32: =+AVERAGE(E32,G32) -> 1069999.8 | J32: =+D32*I32 -> 1069999.8
E33: Subtotal | F33: =+SUM(F31:F32) -> 1859873.7 | G33: Subtotal | H33: =SUM(H31:H32) -> 1809988.3 | I33: Subtotal | J33: =+SUM(J31:J32) -> 1834931
E34: Total | F34: =F33 -> 1859873.7 | G34: Total | H34: =H33 -> 1809988.3 | I34: Total | J34: =J33 -> 1834931
A37: MAQUINARIA Y EQUIPOS
A38: Items | B38: Descripción | C38: Unidad | D38: Cantidad | E38: INGENIERIA TECNICA DEL CARIBE | G38: ELEMVIC | I38: Promedio
E39: Valor Und | F39: Subtotal | G39: Valor Und | H39: Subtotal | I39: Valor Und | J39: Subtotal
A40: 1 | B40: Alquiler de retroexcavadora. Incluye combustible, operario y aceite de dos tiempos | C40: Hora | D40: 1 | E40: 193135 | F40: =E40*D40 -> 193135 | G40: 183431.17 | H40: =G40*D40 -> 183431.17 | I40: =+AVERAGE(E40,G40) -> 188283.09 | J40: =+D40*I40 -> 188283.09
A41: 2 | B41: Transporte terrestre retroexcavadora ida y vuelta | C41: Trayecto | D41: 2 | E41: 449400 | F41: =E41*D41 -> 898800 | G41: 521020.45 | H41: =G41*D41 -> 1042040.9 | I41: =+AVERAGE(E41,G41) -> 485210.22 | J41: =I41*D41 -> 970420.45
A42: 3 | B42: Alquiler de retroexcavadora tipo oruga caterpillar 320 (hora) | C42: Hora | D42: 1 | E42: 330100 | F42: =E42*D42 -> 330100 | G42: 270000 | H42: =G42*D42 -> 270000 | I42: =+AVERAGE(E42,G42) -> 300050 | J42: =I42*D42 -> 300050
A43: 4 | B43: Transporte terrestre en cama baja de retroexcavadora tipo oruga, caterpillar 320 ida y vuelta | C43: Trayecto | D43: 2 | E43: 1294000 | F43: =E43*D43 -> 2588000 | G43: 1400000 | H43: =G43*D43 -> 2800000 | I43: =+AVERAGE(E43,G43) -> 1347000 | J43: =I43*D43 -> 2694000
A44: 5 | B44: Vehículo tipo volqueta para transporte de residuos solidos hacia su disposición final (Valor x 1 dia) (incluye combustible y aceite de dos tiempos) | C44: Dia | D44: 1 | E44: 863490 | F44: =E44*D44 -> 863490 | G44: 856000 | H44: =G44*D44 -> 856000 | I44: =+AVERAGE(E44,G44) -> 859745 | J44: =I44*D44 -> 859745
A45: 6 | B45: Alquiler motocarro de carga | C45: Dia | D45: 1 | E45: 214000 | F45: =E45*D45 -> 214000 | G45: 228980 | H45: =G45*D45 -> 228980 | I45: =+AVERAGE(E45,G45) -> 221490 | J45: =I45*D45 -> 221490
...
