Workbook
Name _Toc140149825_1: [1]JURIDICA!#REF!
Name _Toc140149825_59: #REF!
Name _Toc142149825_60: #REF!
Name AMOR: [1]JURIDICA!#REF!
Name bg: #REF!
Name FFFFFFF: #REF!
Name g: [1]JURIDICA!#REF!
Name GENERAL: [1]JURIDICA!#REF!
Name GG: [1]JURIDICA!#REF!
Name GGGGGG: #REF!
Name opcion2: '[2]CUADRO RESUMEN'!$L$21
Name opcion3: '[2]CUADRO RESUMEN'!$L$22
Name opcion4: '[2]CUADRO RESUMEN'!$L$23
Name opcion5: '[2]CUADRO RESUMEN'!$L$24
Name opcion6: '[2]CUADRO RESUMEN'!$L$25

Sheet CONSOLIDADO
A1: MUNICIPIO DE VILLETA
A2: BIENES MUEBLES E INMUEBLES
A3: EDIFICIOS
A4: EDIFICACIONES (TOTAL) | C4: =+INMUEBLES!B110 -> 44678088122 | E4: =+C4+SUM(C10:C17) -> 50166670759
A5: AD. NORMAS SISMORESISTENCIA | C5: =+INMUEBLES!B111 -> 4467809000
A6: COBERTURA DE TERRENOS | C6: =+INMUEBLES!B112 -> 4467809000
A8: BIENES
A9: DETALLE | C9: COMODATO - OBSERVACIÓN
A10: EQ. ELÉCTRICO ELECTRÓNICO | C10: =+BIENES!B19+BIENES!B21 -> 836471914
A11: EQUIPOS ELÉCTRICOS-ELECTRÓNICOS MOVIL Y PORTATIL | C11: =+BIENES!B20 -> 918193045
A12: TOTAL MAQUINARIA | C12: =+BIENES!B26 -> 461724494
A13: MUEBLES Y ENSERES - CONTENIDOS | C13: =+BIENES!B10 -> 2842132243
A14: VEHICULOS REPOSO | C14: =+'AUTOS REPOSO'!F13 -> 70000000
A15: BIENES DE ARTE | C15: =+BIENES!B31 -> 105000000
A16: DINERO | C16: =+BIENES!B32 -> 45000000
A17: STR - LABORATORIO - OTROS | C17: =+BIENES!B4 -> 210060941
A19: VEHÍCULOS
A20: DESCRIPCIÓN | B20: SOAT - VENC | C20: VALOR
A21: =+'AUTOS '!C6&" "&'AUTOS '!A6&" "&'AUTOS '!B6&" "&'AUTOS '!E6&" "&'AUTOS '!F6 -> CAMIONETA TOYOTA PRADO LC 90 SUMO 2.700cc 3 PUERTAS 2008 OIK062 | B21: =+'SOAT '!H6 -> 46370 | C21: =+'AUTOS '!G6 -> 81000000
A22: =+'AUTOS '!C7&" "&'AUTOS '!A7&" "&'AUTOS '!B7&" "&'AUTOS '!E7&" "&'AUTOS '!F7 -> CAMPERO TOYOTA PRADO 2982 CC 2013 OSD459 | B22: =+'SOAT '!H7 -> 46479 | C22: =+'AUTOS '!G7 -> 158100000
A23: =+'AUTOS '!C8&" "&'AUTOS '!A8&" "&'AUTOS '!B8&" "&'AUTOS '!E8&" "&'AUTOS '!F8 -> PICKUP TOYOTA HILUX 2015 OIK084 | B23: =+'SOAT '!H8 -> 46424 | C23: =+'AUTOS '!G8 -> 116700000
A24: =+'AUTOS '!C9&" "&'AUTOS '!A9&" "&'AUTOS '!B9&" "&'AUTOS '!E9&" "&'AUTOS '!F9 -> CAMPERO DAIHATSU F 20 1983 OIJ012 | B24: =+'SOAT '!H9 -> 46483 | C24: =+'AUTOS '!G9 -> 35100000
A25: =+'AUTOS '!C10&" "&'AUTOS '!A10&" "&'AUTOS '!B10&" "&'AUTOS '!E10&" "&'AUTOS '!F10 -> CAMIONETA CHEVROLET COLORADO 2023 KPP767 | B25: =+'SOAT '!H10 -> 46503 | C25: =+'AUTOS '!G10 -> 163900000
A26: =+'AUTOS '!C11&" "&'AUTOS '!A11&" "&'AUTOS '!B11&" "&'AUTOS '!E11&" "&'AUTOS '!F11 -> CAMION FORD F-350 5800cc 4X2 1995 OIK017 | B26: =+'SOAT '!H11 -> 46487 | C26: =+'AUTOS '!G11 -> 36300000
A27: =+'AUTOS '!C12&" "&'AUTOS '!A12&" "&'AUTOS '!B12&" "&'AUTOS '!E12&" "&'AUTOS '!F12 -> VOLQUETA INTERNATIONAL 7300 152 MT 6400 2011 SVM118 | B27: =+'SOAT '!H12 -> 46603 | C27: =+'AUTOS '!G12 -> 152500000
A28: =+'AUTOS '!C13&" "&'AUTOS '!A13&" "&'AUTOS '!B13&" "&'AUTOS '!E13&" "&'AUTOS '!F13 -> VOLQUETA CHEVROLET FVR 700P 2015 ODR626 | B28: =+'SOAT '!H13 -> 46350 | C28: =+'AUTOS '!G13 -> 236800000
A29: =+'AUTOS '!C14&" "&'AUTOS '!A14&" "&'AUTOS '!B14&" "&'AUTOS '!E14&" "&'AUTOS '!F14 -> VOLQUETA CHEVROLET FVR 700P 2015 ODR627 | B29: =+'SOAT '!H14 -> 46350 | C29: =+'AUTOS '!G14 -> 236800000
A30: =+'AUTOS '!C15&" "&'AUTOS '!A15&" "&'AUTOS '!B15&" "&'AUTOS '!E15&" "&'AUTOS '!F15 -> VOLQUETA CHEVROLET FVR 700P 2015 ODR628 | B30: =+'SOAT '!H15 -> 46350 | C30: =+'AUTOS '!G15 -> 236800000
A31: =+'AUTOS '!C16&" "&'AUTOS '!A16&" "&'AUTOS '!B16&" "&'AUTOS '!E16&" "&'AUTOS '!F16 -> VOLQUETA CHEVROLET FVR 700P 2015 ODR630 | B31: =+'SOAT '!H16 -> 46350 | C31: =+'AUTOS '!G16 -> 236800000
A32: =+'AUTOS '!C17&" "&'AUTOS '!A17&" "&'AUTOS '!B17&" "&'AUTOS '!E17&" "&'AUTOS '!F17 -> VOLQUETA CHEVROLET FVR 700P 2015 ODR631 | B32: =+'SOAT '!H17 -> 46358 | C32: =+'AUTOS '!G17 -> 236800000
... A60: =+'AUTOS '!C45&" "&'AUTOS '!A45&" "&'AUTOS '!B45&" "&'AUTOS '!E45&" "&'AUTOS '!F45 -> MOTOCICLETA HONDA XRE300 ABS 2023 DTA30G | B60: =+'SOAT '!H45 -> 46483 | C60: =+'AUTOS '!G45 -> 26500000
A68: MAQUINARIA AMARILLA
A69: =+'MAQ AMARILLA'!C5&" "&'MAQ AMARILLA'!A5&" "&'MAQ AMARILLA'!B5&" "&'MAQ AMARILLA'!E5 -> RETROEXCAVADORA JOHN DEERE 310 SJ 01 | C69: =+'MAQ AMARILLA'!D5 -> 275914189
A70: =+'MAQ AMARILLA'!C6&" "&'MAQ AMARILLA'!A6&" "&'MAQ AMARILLA'!B6&" "&'MAQ AMARILLA'!E6 -> VIBROCOMPACTADOR DINAPACK CA-150D | C70: =+'MAQ AMARILLA'!D6 -> 2.5050276e+08
A71: =+'MAQ AMARILLA'!C7&" "&'MAQ AMARILLA'!A7&" "&'MAQ AMARILLA'!B7&" "&'MAQ AMARILLA'!E7 -> MOTONIVELADORA CATERPILLAR 120 K 01 2014 | C71: =+'MAQ AMARILLA'!D7 -> 1057545947
A72: =+'MAQ AMARILLA'!C8&" "&'MAQ AMARILLA'!A8&" "&'MAQ AMARILLA'!B8&" "&'MAQ AMARILLA'!E8 -> MOTONIVELADORA CATERPILLAR 120 K 02 2014 | C72: =+'MAQ AMARILLA'!D8 -> 1054132750
A73: =+'MAQ AMARILLA'!C9&" "&'MAQ AMARILLA'!A9&" "&'MAQ AMARILLA'!B9&" "&'MAQ AMARILLA'!E9 -> MOTONIVELADORA CATERPILLAR 120 K 03 2014 | C73: =+'MAQ AMARILLA'!D9 -> 9.9121121e+08
A74: =+'MAQ AMARILLA'!C10&" "&'MAQ AMARILLA'!A10&" "&'MAQ AMARILLA'!B10&" "&'MAQ AMARILLA'!E10 -> RETROEXCAVADORA CATERPILLAR 416 E 03 2014 | C74: =+'MAQ AMARILLA'!D10 -> 4.3806297e+08
A75: =+'MAQ AMARILLA'!C11&" "&'MAQ AMARILLA'!A11&" "&'MAQ AMARILLA'!B11&" "&'MAQ AMARILLA'!E11 -> RETROEXCAVADORA CATERPILLAR 416 E 04 2014 | C75: =+'MAQ AMARILLA'!D11 -> 4.3806296e+08
A76: =+'MAQ AMARILLA'!C12&" "&'MAQ AMARILLA'!A12&" "&'MAQ AMARILLA'!B12&" "&'MAQ AMARILLA'!E12 -> VIBROCOMPACTADOR CATERPILLAR CS44 2014 | C76: =+'MAQ AMARILLA'!D12 -> 5.3098541e+08
...

Sheet INMUEBLES
A1: DireccionPredio | B1: Avaluo | C1: UBICACIÓN/ESTADO | E1: ÁREA CONSTRUIDA M2
A2: Alcaldía municipal de Villeta | B2: 2340000000 | C2: (C4 K6) | E2: 1560
A3: centro de itg ciudadana -construccion | B3: 2415625000 | C3: manzana g arenas del rio | E3: 2500
A4: C7 k2-construccion | B4: 166323581 | C4: C7 k2 | E4: 297
A5: K8 C4 - construccion CENTRAL DE ABASTO | B5: 87693577 | C5: K8 C4 | E5: 153
A6: K8 C4 - zonas duras - CENTRAL DE ABASTOS | B6: 89853573 | C6: K8 C4 | E6: 500
A7: C4 K7 55 - construccion GALERIA DE LAS CARNES | B7: 459813570 | C7: C4 K7 55 | E7: 824
A8: C4 K7 55- cobertizos y remadas | B8: 368283574 | C8: C4 K7 55 | E8: 2079
A9: C4 K7 71 - construccion PLAZOLETA DE LAS COMIDAS | B9: 160013576 | C9: C4 K7 71 | E9: 382
A10: C4 K7 93 - construcciom BOD. CENTRAL DE ABASTOS | B10: 339353571 | C10: C4 K7 93 | E10: 550
A11: Total plaza de mercado | B11: 1346835000
A12: C4 5 K5 6 - zd PARQUE PRINCIPAL | B12: 650000000 | C12: C4 5 K5 6 | E12: 4500
A13: instituto de promocion social - construccion - jardin infantil | B13: 2953357200 | C13: barrio centro | E13: 530
A14: instituto de promocion social - zonas duras . Jardin infantil | B14: 105600000 | C14: barrio centro | E14: 80
A15: palacio de justicia - construccion | B15: 1658633000 | C15: C6 8 92C 6 8 90 | E15: 1241
A16: escuela guillermo valencia - construccion | B16: 5245230000 | C16: barrio centro | E16: 3519
A17: escuela guillermo valencia - zonas duras | B17: 462000000 | C17: barrio centro | E17: 1200
A18: IED policarpa salabarrieta - construccion | B18: 2622240000 | C18: C7 KR 10 | E18: 1476
A19: IED policarpa salabarrieta - zonas duras | B19: 231000000 | C19: C7 KR 10 | E19: 600
A20: casa de la cultura - construccion | B20: 427800000 | C20: barrio recreo | E20: 50
A21: concha acustica instituto de turismo - cont | B21: 1062320000 | C21: K9 7 163 | E21: 73
A22: concha acustica e instituto de turismo- zdur | B22: 117240000 | C22: K9 7 163 | E22: 227
A23: estacion de bomberos - costruccion | B23: 1274970000 | C23: trv1#2-01 | E23: 1319
... A49: K5B E 1C 19 C 1D 5 40E (sc) - construccion | B49: 28270000 | C49: K5B E 1C 19 C 1D 5 40E | E49: 10
A50: cancha de futbol - cerramiento - BARRIO SAN JUANITO | B50: 55000000 | C50: kr6 este calle 1 A. | E50: 200 ml
A51: C1 S 1 231 (polideportivo) - zonas duras | B51: 140000000 | C51: C1 S 1 231 | E51: 400
A52: K8 4 59 C 1 8 (polideportivo) - zonas duras | B52: 31800000 | C52: K8 4 59 C 1 8 | E52: 64
A53: K10 C3SUR (polideportivo) - zonas duras | B53: 40000000 | C53: K10 C3SUR | E53: 100
A54: parque infantil acuarela rio - D1 11 110 | B54: 419650000 | C54: D1 11 110 | E54: 350
A55: ESCUELA LA ESMERALDA-CONSTRUCCIÓN | B55: 105710000 | C55: VEREDA ESMERALDA | E55: 145
A56: ESCUELA LA ESMERALDA-CANCHA MULTIPLE | B56: 30910000 | C56: VEREDA ESMERALDA | E56: 282
A57: CENTRO DE SALUD SALON COMUNAL LA ESMERALDA-CONSTRUCCIÓN | B57: 98824000 | C57: VEREDA ESMERALDA | E57: 176
A58: LOTE ESCUELA PALERMO.CONSTRUCCIÓN | B58: 84469000 | C58: VEREDA PALERMO | E58: 141
A59: ESCUELA SAN ISIDRO-CONSTRUCCIÓN | B59: 104874000 | C59: VEREDA SAN ISIDRO | E59: 297
A60: ESCUELA SAN ISIDRO-CANCHA MULTIPLE | B60: 33110000 | C60: VEREDA SAN ISIDRO | E60: 161
A61: ESCUELA SAN MATEO-CONSTRUCCIÓN 1 | B61: 387431000 | C61: VEREDA SAN MATEO | E61: 659
A62: ESCUELA SAN MATEO-CONSTRUCCIÓN 2 | B62: 913638000 | C62: VEREDA SAN MATEO | E62: 654
... A105: TANQUE VEREDA MAVE.CONSTRUCCIÓN | B105: 55000000 | C105: VEREDA MAVE | E105: 122
A110: TOTAL | B110: =+SUM(B2:B109) -> 44678088122
A111: ADECUACIÓN NORMAS SISMO RESISTENCIA | B111: =+ROUND(B110*0.1,-3) -> 4467809000
...

Sheet SEGUROS
A1: LISTADO PROGRAMA DE SEGUROS
A2: 1 | B2: Seguro todo riesgo | C2: Bienes muebles e inmuebles | D2: Incendio y/o Rayo, sustracción, equipo electrónico, rotura de maquinaria
A3: 2 | B3: Responsabilidad civil extracontractual | C3: Labores, predios y operaciones - terceras personas
A4: 3 | B4: Seguro de automóviles | C4: Daños y/o perdidas propios y a terceros
A5: 4 | B5: Todo riesgo maquinaria y equipo | C5: Daños propios y a terceros
A6: 5 | B6: Manejo Global entidades oficiales | C6: Menoscabo de fondos y bienes causado por empleados
A7: 6 | B7: Responsabilidad civil contractual | C7: Seguro accidente pasajeros
A8: 7 | B8: Seguro vida grupo | C8: Muerte

Sheet BIENES
A2: EQUIPO DE LABORATORIO - SUSTRACCIÓN TODO RIESGO
A3: DESCRIPCIÓN | B3: VALOR
A4: TOTAL ARTÍCULOS ESPECIALES - INSTRUMENTOS | B4: =+SUM(B5:B6) -> 210060941 | E4: TUBA METÁLICO COLOR AMARILLO, CON ESTUCHE COLOR GRIS. MARCA Yamaha REF. 7185L | F4: 6800000
A5: ARTÍCULOS ESPECIALES | B5: 210060941 | E5: TUBA ESTRUCTURA EN PLÁSTICO BLANCO CON PARTES METÁLICAS AMARILLAS. MARCA Yamaha REF. 7185L | F5: 16800000
E6: SAXOFON TENOR - serial AD 112200001 MARCA CONN SELMER | F6: 6171000
E7: TROMBON DE PISTON | F7: 5201951
A8: MUEBLES Y ENSERES - ALMACEN | E8: BOMBO SINFONICO DE 32 VASO DE 6 PLIEGUES | F8: 8821460
A9: DESCRIPCIÓN | B9: VALOR | E9: TIMBAL TIMBAL SINFONICO DE 239 CUERPO DE ALUMINIO | F9: 18159891
A10: TOTAL ELEMENTOS | B10: =+SUM(B11:B14) -> 2842132243 | E10: SISTEMA DE ATURDIMIENTO S | F10: 13800000
A11: CONTENIDOS EN GENERAL | B11: 2789632243
A12: MERCANCÍA EN ALMACEN | B12: 52500000 | E12: BIBLIOTECA
E13: INSTRUMENTOS
A17: EQUIPOS ELÉCTRICOS Y ELECTRÓNICOS | B17: VALOR
B18: =+SUM(B19:B23) -> 1754664959
A19: Equipos de computo en general, eléctricos y electrónicos | B19: 767184991
A20: Móviles y Portátiles | B20: 918193045
A21: Licencias - Software | B21: 69286923
A25: ROTURA DE MAQUINARIA
A26: TOTAL ROTURA DE MAQUINARIA | B26: =+SUM(B27:B29) -> 461724494
A27: Maquinaria y equipo en general | B27: 461724494
A31: BIENES DE ARTE | B31: 105000000
A32: DINERO | B32: 45000000

Sheet AUTOS 
A1: PROGRAMA DE SEGUROS
A2: MUNICIPIO DE VILLETA
A3: RELACION DE VEHICULOS
A5: MARCA | B5: TIPO | C5: CLASE | D5: CILINDRAJE | E5: MODELO | F5: PLACA | G5: VR. FASECOLDA | H5: PROPIETARIO | I5: CODIGO FASECOLDA | J5: MOTOR | K5: CHASIS | L5: OBSERVACIÓN
A6: TOYOTA | B6: PRADO LC 90 SUMO 2.700cc 3 PUERTAS | C6: CAMIONETA | D6: 2700 | E6: 2008 | F6: OIK062 | G6: 81000000 | H6: VILLETA | I6: 9008054 | J6: 80Q3774 | K6: 9FH11UJ9089021792 | N6: 46370 | O6: 232
A7: TOYOTA | B7: PRADO 2982 CC | C7: CAMPERO | D7: 2982 | E7: 2013 | F7: OSD459 | G7: 158100000 | H7: VILLETA | I7: 9008141 | J7: 1KD2259143 | K7: JTEBH9FJ8D5055273 | L7: DSL | N7: 46479 | O7: 232
A8: TOYOTA | B8: HILUX | C8: PICKUP | D8: 2494 | E8: 2015 | F8: OIK084 | G8: 116700000 | H8: VILLETA | I8: 9021051 | J8: 2KDA553848 | K8: 8AJFR22G1F4574063 | L8: DSL DOB CAB | N8: 46424 | O8: 222
A9: DAIHATSU | B9: F 20 | C9: CAMPERO | D9: 1600 | E9: 1983 | F9: OIJ012 | G9: 35100000 | H9: VILLETA | I9: 2208010 | J9: 12R2847150 | K9: JDAOOOF20-00614922 | L9: GSL | N9: 46483 | O9: 222
A10: CHEVROLET | B10: COLORADO | C10: CAMIONETA | D10: 2776 | E10: 2023 | F10: KPP767 | G10: 163900000 | H10: VILLETA | I10: 1646022 | J10: LWNF222201019 | K10: 93G148DK0PC418183 | L10: DSL DOB CAB | N10: 46503 | O10: 231
A11: FORD | B11: F-350 5800cc 4X2 | C11: CAMION | D11: 5700 | E11: 1995 | F11: OIK017 | G11: 36300000 | H11: VILLETA | I11: 3061012 | J11: 3SP12316CM | K11: AJF3SP12316 | L11: BOMBEROS | N11: 46487 | O11: 430
A12: INTERNATIONAL | B12: 7300 152 MT 6400 | C12: VOLQUETA | D12: 6400 | E12: 2011 | F12: SVM118 | G12: 152500000 | I12: 3626085 | J12: 3HTZZSER4BN345738 | K12: 3HTZZSER4BN345738 | L12: 10.7 TONELADAS | N12: 46603 | O12: 320
A13: CHEVROLET | B13: FVR 700P | C13: VOLQUETA | D13: 7790 | E13: 2015 | F13: ODR626 | G13: 236800000 | H13: VILLETA | I13: 1626093 | J13: 6HK1-662708 | K13: 9GDFVR349FB033328 | L13: 9,8 TON | N13: 46350 | O13: 320
A14: CHEVROLET | B14: FVR 700P | C14: VOLQUETA | D14: 7790 | E14: 2015 | F14: ODR627 | G14: =+G13 -> 236800000 | H14: VILLETA | I14: 1626093 | J14: 6HK1-662690 | K14: 9GDFVR340FB033329 | L14: 9,8 TON | N14: 46350 | O14: 320
A15: CHEVROLET | B15: FVR 700P | C15: VOLQUETA | D15: 7790 | E15: 2015 | F15: ODR628 | G15: =+G14 -> 236800000 | H15: VILLETA | I15: 1626093 | J15: 6HK1-662696 | K15: 9GDFVR349FB033331 | L15: 9,8 TON | N15: 46350 | O15: 320
A16: CHEVROLET | B16: FVR 700P | C16: VOLQUETA | D16: 7790 | E16: 2015 | F16: ODR630 | G16: =+G15 -> 236800000 | H16: VILLETA | I16: 1626093 | J16: 6HK1-662865 | K16: 9GDFVR341FB033338 | L16: 9,8 TON | N16: 46350 | O16: 320
A17: CHEVROLET | B17: FVR 700P | C17: VOLQUETA | D17: 7790 | E17: 2015 | F17: ODR631 | G17: =+G16 -> 236800000 | H17: VILLETA | I17: 1626093 | J17: 6HK1-662689 | K17: 9GDFVR347FB033327 | L17: 9,8 TON | N17: 46358 | O17: 320
A18: CHEVROLET | B18: FVR 700P | C18: VOLQUETA | D18: 7790 | E18: 2015 | F18: ODR633 | G18: =+G17 -> 236800000 | H18: VILLETA | I18: 1626093 | J18: 6HK1-662232 | K18: 9GDFVR342FB031615 | L18: 9,8 TON | N18: 46350 | O18: 320 | R18: 321600
A19: CHEVROLET | B19: FVR 700P | C19: VOLQUETA | D19: 7790 | E19: 2015 | F19: ODR634 | G19: =+G18 -> 236800000 | H19: VILLETA | I19: 1626093 | J19: 6HK1-662230 | K19: 9GDFVR346FB031620 | L19: 9,8 TON | N19: 46350 | O19: 320 | R19: 321600
A20: CHEVROLET | B20: FVR 700P | C20: VOLQUETA | D20: 7790 | E20: 2015 | F20: ODR635 | G20: =+G19 -> 236800000 | H20: VILLETA | I20: 1626093 | J20: 6HK1-662300 | K20: 9GDFVR343FB031624 | L20: 9,8 TON | N20: 46350 | O20: 320
A21: HINO | B21: FC 9J | C21: BUSETON | D21: 5123 | E21: 2016 | F21: OJZ514 | G21: 326700000 | H21: VILLETA | I21: 3703016 | J21: JO5ETY11292 | K21: 9F3FC9JLTGXX10678 | L21: 36 PSJ | N21: 46342 | O21: 430
A22: CHEVROLET | B22: CHR 72 | C22: BUS 35 PASAJ | D22: 7127 | E22: 2012 | F22: OIK078 | G22: 266000000 | H22: VILLETA | I22: 1603029 | J22: 6HE1-417978 | K22: 9GCLT1322CB000177 | L22: 35 PSJ | N22: 46774 | O22: 430
A23: YAMAHA | B23: XTZ125 | C23: MOTOCICLETA | D23: 125 | E23: 2011 | F23: LKW02C | G23: 5000000 | H23: VILLETA | I23: 9817110 | J23: E3B4E006400 | K23: 9FK3B2115B2006400 | N23: 46443 | O23: 120
A24: HONDA | B24: XR 125L MT 125CC | C24: MOTOCICLETA | D24: 125 | E24: 2011 | F24: LUE31C | G24: 5000000 | H24: VILLETA | I24: 3417136 | J24: JC30E-6670295 | K24: 9FMJD1922BF001566 | N24: 46270 | O24: 120
A25: HONDA | B25: XR 125L MT 125CC | C25: MOTOCICLETA | D25: 125 | E25: 2011 | F25: LUE32C | G25: 5000000 | H25: VILLETA | I25: 3417136 | J25: JC30E-6670319 | K25: 9FMJD1929BFC001547 | N25: 46270 | O25: 120
A26: HONDA | B26: XR 125L MT 125CC | C26: MOTOCICLETA | D26: 125 | E26: 2011 | F26: LUE33C | G26: 5000000 | H26: VILLETA | I26: 3417136 | J26: JC30E-6670285 | K26: 9FMJD1928BF001577 | N26: 46270 | O26: 120
A27: HONDA | B27: XR 125L MT 125CC | C27: MOTOCICLETA | D27: 125 | E27: 2011 | F27: LUE34C | G27: 5000000 | H27: VILLETA | I27: 3417136 | J27: JC30E-6670283 | K27: 9FMJD1929BF001578 | N27: 46270 | O27: 120
A28: HONDA | B28: XR 125L MT 125CC | C28: MOTOCICLETA | D28: 125 | E28: 2011 | F28: LUE35C | G28: 5000000 | H28: VILLETA | I28: 3417136 | J28: JC30E-6670282 | K28: 9FMJD1920BF001579 | N28: 46516 | O28: 120
A29: HONDA | B29: XR 125L MT 125CC | C29: MOTOCICLETA | D29: 125 | E29: 2011 | F29: LUE36C | G29: 5000000 | H29: VILLETA | I29: 3417136 | J29: JC30E-6670286 | K29: 9FMJD192XBF001573 | N29: 46516 | O29: 120
A30: HONDA | B30: XR 125L MT 125CC | C30: MOTOCICLETA | D30: 125 | E30: 2011 | F30: LUE37C | G30: 5000000 | H30: VILLETA | I30: 3417136 | J30: JC30E-6670284 | K30: 9FMJD1928BF001572 | N30: 46516 | O30: 120
A31: HONDA | B31: XR 125L MT 125CC | C31: MOTOCICLETA | D31: 125 | E31: 2011 | F31: LUE38C | G31: 5000000 | H31: VILLETA | I31: 3417136 | J31: JC30E-6670293 | K31: 9FMJD1928BF001569 | N31: 46510 | O31: 120
A32: HONDA | B32: XR 125L MT 125CC | C32: MOTOCICLETA | D32: 125 | E32: 2011 | F32: LUE40C | G32: 5000000 | H32: VILLETA | I32: 3417136 | J32: JC30E-6670297 | K32: 9FMJD1925BF001559 | N32: 46510 | O32: 120
A33: HONDA | B33: XR 125L MT 125CC | C33: MOTOCICLETA | D33: 125 | E33: 2011 | F33: LUE41C | G33: 5000000 | H33: VILLETA | I33: 3417136 | J33: JC30E-6670281 | K33: 9FMJD1920BF001582 | N33: 46270 | O33: 120
A34: HONDA | B34: XR 125L MT 125CC | C34: MOTOCICLETA | D34: 125 | E34: 2011 | F34: LUE42C | G34: 5000000 | H34: VILLETA | I34: 3417136 | J34: JC30E-6670279 | K34: 9FMJD1922BF001583 | N34: 46270 | O34: 120
... A45: HONDA | B45: XRE300 ABS | C45: MOTOCICLETA | D45: 299 | E45: 2023 | F45: DTA30G | G45: 26500000 | H45: VILLETA | I45: 3454036 | J45: ND12E2P203101 | K45: 9C2ND1220PR203099 | N45: 46483 | O45: 130
A46: TOTAL | G46: =+SUM(G6:G45) -> 3415800000
A52: 899999312 | B52: 2 | G52: 2460900000
G53: =+(G46-G52)/G52 -> 0.38802877

Sheet SOAT  (2)
A1: PROGRAMA DE SEGUROS
A2: TOMADOR/ ASEGURADO/ BENEFICIARIO: MUNICIPIO DE GUADUAS
A3: RELACION DE VEHICULOS
A5: MARCA | B5: TIPO | C5: CLASE | D5: CILINDRAJE | E5: MODELO | F5: PLACA | G5: PROPIETARIO | H5: CODIGO FASECOLDA | I5: FECHA VENCIMIENTO SOAT | J5: ASEGURADORA | K5: OBSERVACIÓN | L5: VALOR
A6: CHEVROLET | B6: B 70 | C6: BUS | D6: 7200 | E6: 2005 | F6: OIK042 | G6: GUADUAS | H6: 1603080 | I6: 43347 | J6: Previsora | K6: 35 Pasajeros | L6: 0 | N6: 1180460
A7: HINO | B7: FC9BUS | C7: BUS | D7: 5123 | E7: 2016 | F7: OJZ524 | G7: GUADUAS | H7: 3703020 | I7: 43414 | J7: Previsora | K7: 36 pasajeros | L7: 0 | N7: 1180460
A8: MITSUBISHI | B8: NATIVA V dsl | C8: CAMPERO | D8: 2800 | E8: 2008 | F8: OIK063 | G8: GUADUAS | H8: 6208125 | I8: 43226 | J8: Previsora | L8: 688760 | N8: 688760
A9: TOYOTA | B9: PRADO | C9: CAMPERO | D9: 2982 | E9: 2014 | F9: OHK957 | G9: GUADUAS | H9: 9008153 | I9: 43434 | J9: Previsora | K9: Diesel 7 psj | L9: 0 | N9: 688760
A10: =+'AUTOS '!#REF! -> #REF! | B10: =+'AUTOS '!#REF! -> #REF! | C10: =+'AUTOS '!#REF! -> #REF! | D10: =+'AUTOS '!#REF! -> #REF! | E10: =+'AUTOS '!#REF! -> #REF! | F10: =+'AUTOS '!#REF! -> #REF! | G10: =+'AUTOS '!#REF! -> #REF! | H10: =+'AUTOS '!#REF! -> #REF! | I10: 43195 | J10: Previsora | L10: 410660 | N10: 410660
A11: HONDA | B11: XR 125 | C11: MOTOCICLETA | D11: 125 | E11: 2015 | F11: PZZ72D | G11: GUADUAS | H11: 3417136 | I11: 43392 | J11: Previsora | L11: 0 | N11: 410660
A12: HONDA | B12: XR 125 | C12: MOTOCICLETA | D12: 125 | E12: 2015 | F12: PZZ26D | G12: GUADUAS | H12: 3417136 | I12: 43392 | J12: Previsora | L12: 0 | N12: 410660
A13: HONDA | B13: XR 125 | C13: MOTOCICLETA | D13: 125 | E13: 2015 | F13: PUJ34D | G13: GUADUAS | H13: 3417136 | I13: 43434 | J13: Previsora | L13: 0 | N13: 410660
A14: INTERNATIONAL | B14: 4300 SBA | C14: VOLQUETA | D14: 7636 | E14: 2008 | F14: OIK060 | G14: GUADUAS | H14: 3626007 | I14: 43413 | J14: Previsora | K14: 10 ton | L14: 0 | N14: 795710
A15: INTERNATIONAL | B15: 4300 DURASTAR SBA 4*2 | C15: VOLQUETA | D15: 7636 | E15: 2015 | F15: ODR726 | G15: GUADUAS | H15: 3626089 | I15: 43320 | J15: Previsora | K15: 9 ton | L15: 0 | N15: 795710
A16: INTERNATIONAL | B16: 4300 DURASTAR SBA 4*2 | C16: VOLQUETA | D16: 7636 | E16: 2014 | F16: ODR535 | G16: GUADUAS | H16: 3626089 | I16: 43347 | J16: Previsora | K16: 9 ton | L16: 0 | N16: 795710
A17: VOLKSWAGEN | B17: VW 17,220 | C17: VOLQUETA | D17: 8270 | E17: 2015 | F17: ODR737 | G17: GUADUAS | H17: 9226011 | I17: 43390 | J17: Previsora | K17: 10 ton | L17: 0 | N17: 795710
L18: =+SUM(L6:L17) -> 1099420 | N18: 10155340
A19: * EN AMARILLO A INCLUIR EN EL PROCESO ACTUAL | N19: =+N18-N8-N10 -> 9055920
N20: =+N19*1.05 -> 9508716
A21: VIV26D (infancia), VIV24D, VIV23D (la paz), VIV25D (cti guaduas) | B21: El comodante (mcipio) entrega al comodatario (Policia cmarca) moto con soat y TR a 2016, después el comodatario asume el costo de los 2 seguros
A22: Motocarro 858ABA no se renueva SOAT, vencido en 02-2016
A23: Soat de la camioneta bomberos OFK617 no se renueva

Sheet SOAT 
A1: PROGRAMA DE SEGUROS
A2: TOMADOR/ ASEGURADO/ BENEFICIARIO: MUNICIPIO DE VILLETA
A3: RELACION DE VEHICULOS
A5: MARCA | B5: TIPO | C5: CLASE | D5: CILINDRAJE | E5: MODELO | F5: PLACA | G5: PROPIETARIO | H5: FECHA VENCIMIENTO SOAT | I5: RENUEVA | J5: VALOR
A6: =+'AUTOS '!A6 -> TOYOTA | B6: =+'AUTOS '!B6 -> PRADO LC 90 SUMO 2.700cc 3 PUERTAS | C6: =+'AUTOS '!C6 -> CAMIONETA | D6: =+'AUTOS '!D6 -> 2700 | E6: =+'AUTOS '!E6 -> 2008 | F6: =+'AUTOS '!F6 -> OIK062 | G6: =+'AUTOS '!H6 -> VILLETA | H6: =+'AUTOS '!N6 -> 46370 | I6: SI | J6: 1274000 | L6: =+'AUTOS '!O6 -> 232 | O6: =+C6&" "&A6&" "&F6 -> CAMIONETA TOYOTA OIK062
A7: =+'AUTOS '!A7 -> TOYOTA | B7: =+'AUTOS '!B7 -> PRADO 2982 CC | C7: =+'AUTOS '!C7 -> CAMPERO | D7: =+'AUTOS '!D7 -> 2982 | E7: =+'AUTOS '!E7 -> 2013 | F7: =+'AUTOS '!F7 -> OSD459 | G7: =+'AUTOS '!H7 -> VILLETA | H7: =+'AUTOS '!N7 -> 46479 | I7: SI | J7: 1274000 | L7: =+'AUTOS '!O7 -> 232 | O7: =+C7&" "&A7&" "&F7 -> CAMPERO TOYOTA OSD459
A8: =+'AUTOS '!A8 -> TOYOTA | B8: =+'AUTOS '!B8 -> HILUX | C8: =+'AUTOS '!C8 -> PICKUP | D8: =+'AUTOS '!D8 -> 2494 | E8: =+'AUTOS '!E8 -> 2015 | F8: =+'AUTOS '!F8 -> OIK084 | G8: =+'AUTOS '!H8 -> VILLETA | H8: =+'AUTOS '!N8 -> 46424 | I8: SI | J8: 1121400 | L8: =+'AUTOS '!O8 -> 222 | O8: =+C8&" "&A8&" "&F8 -> PICKUP TOYOTA OIK084
A9: =+'AUTOS '!A9 -> DAIHATSU | B9: =+'AUTOS '!B9 -> F 20 | C9: =+'AUTOS '!C9 -> CAMPERO | D9: =+'AUTOS '!D9 -> 1600 | E9: =+'AUTOS '!E9 -> 1983 | F9: =+'AUTOS '!F9 -> OIJ012 | G9: =+'AUTOS '!H9 -> VILLETA | H9: =+'AUTOS '!N9 -> 46483 | I9: SI | J9: 1121400 | L9: =+'AUTOS '!O9 -> 222 | O9: =+C9&" "&A9&" "&F9 -> CAMPERO DAIHATSU OIJ012
A10: =+'AUTOS '!A10 -> CHEVROLET | B10: =+'AUTOS '!B10 -> COLORADO | C10: =+'AUTOS '!C10 -> CAMIONETA | D10: =+'AUTOS '!D10 -> 2776 | E10: =+'AUTOS '!E10 -> 2023 | F10: =+'AUTOS '!F10 -> KPP767 | G10: =+'AUTOS '!H10 -> VILLETA | H10: =+'AUTOS '!N10 -> 46503 | I10: SI | J10: 1110300 | L10: =+'AUTOS '!O10 -> 231 | O10: =+C10&" "&A10&" "&F10 -> CAMIONETA CHEVROLET KPP767
A11: =+'AUTOS '!A11 -> FORD | B11: =+'AUTOS '!B11 -> F-350 5800cc 4X2 | C11: =+'AUTOS '!C11 -> CAMION | D11: =+'AUTOS '!D11 -> 5700 | E11: =+'AUTOS '!E11 -> 1995 | F11: =+'AUTOS '!F11 -> OIK017 | G11: =+'AUTOS '!H11 -> VILLETA | H11: =+'AUTOS '!N11 -> 46487 | I11: SI | J11: 1510600 | L11: =+'AUTOS '!O11 -> 430 | O11: =+C11&" "&A11&" "&F11 -> CAMION FORD OIK017
A12: =+'AUTOS '!A12 -> INTERNATIONAL | B12: =+'AUTOS '!B12 -> 7300 152 MT 6400 | C12: =+'AUTOS '!C12 -> VOLQUETA | D12: =+'AUTOS '!D12 -> 6400 | E12: =+'AUTOS '!E12 -> 2011 | F12: =+'AUTOS '!F12 -> SVM118 | G12: =+'AUTOS '!H12 -> 0 | H12: =+'AUTOS '!N12 -> 46603 | I12: NO | J12: N.A. | L12: =+'AUTOS '!O12 -> 320 | O12: =+C12&" "&A12&" "&F12 -> VOLQUETA INTERNATIONAL SVM118
A13: =+'AUTOS '!A13 -> CHEVROLET | B13: =+'AUTOS '!B13 -> FVR 700P | C13: =+'AUTOS '!C13 -> VOLQUETA | D13: =+'AUTOS '!D13 -> 7790 | E13: =+'AUTOS '!E13 -> 2015 | F13: =+'AUTOS '!F13 -> ODR626 | G13: =+'AUTOS '!H13 -> VILLETA | H13: =+'AUTOS '!N13 -> 46350 | I13: SI | J13: 1282800 | L13: =+'AUTOS '!O13 -> 320 | O13: =+C13&" "&A13&" "&F13 -> VOLQUETA CHEVROLET ODR626
A14: =+'AUTOS '!A14 -> CHEVROLET | B14: =+'AUTOS '!B14 -> FVR 700P | C14: =+'AUTOS '!C14 -> VOLQUETA | D14: =+'AUTOS '!D14 -> 7790 | E14: =+'AUTOS '!E14 -> 2015 | F14: =+'AUTOS '!F14 -> ODR627 | G14: =+'AUTOS '!H14 -> VILLETA | H14: =+'AUTOS '!N14 -> 46350 | I14: SI | J14: 1282800 | L14: =+'AUTOS '!O14 -> 320 | O14: =+C14&" "&A14&" "&F14 -> VOLQUETA CHEVROLET ODR627
A15: =+'AUTOS '!A15 -> CHEVROLET | B15: =+'AUTOS '!B15 -> FVR 700P | C15: =+'AUTOS '!C15 -> VOLQUETA | D15: =+'AUTOS '!D15 -> 7790 | E15: =+'AUTOS '!E15 -> 2015 | F15: =+'AUTOS '!F15 -> ODR628 | G15: =+'AUTOS '!H15 -> VILLETA | H15: =+'AUTOS '!N15 -> 46350 | I15: SI | J15: 1282800 | L15: =+'AUTOS '!O15 -> 320 | O15: =+C15&" "&A15&" "&F15 -> VOLQUETA CHEVROLET ODR628
A16: =+'AUTOS '!A16 -> CHEVROLET | B16: =+'AUTOS '!B16 -> FVR 700P | C16: =+'AUTOS '!C16 -> VOLQUETA | D16: =+'AUTOS '!D16 -> 7790 | E16: =+'AUTOS '!E16 -> 2015 | F16: =+'AUTOS '!F16 -> ODR630 | G16: =+'AUTOS '!H16 -> VILLETA | H16: =+'AUTOS '!N16 -> 46350 | I16: SI | J16: 1282800 | L16: =+'AUTOS '!O16 -> 320 | O16: =+C16&" "&A16&" "&F16 -> VOLQUETA CHEVROLET ODR630
A17: =+'AUTOS '!A17 -> CHEVROLET | B17: =+'AUTOS '!B17 -> FVR 700P | C17: =+'AUTOS '!C17 -> VOLQUETA | D17: =+'AUTOS '!D17 -> 7790 | E17: =+'AUTOS '!E17 -> 2015 | F17: =+'AUTOS '!F17 -> ODR631 | G17: =+'AUTOS '!H17 -> VILLETA | H17: =+'AUTOS '!N17 -> 46358 | I17: SI | J17: 1282800 | L17: =+'AUTOS '!O17 -> 320 | O17: =+C17&" "&A17&" "&F17 -> VOLQUETA CHEVROLET ODR631
A18: =+'AUTOS '!A18 -> CHEVROLET | B18: =+'AUTOS '!B18 -> FVR 700P | C18: =+'AUTOS '!C18 -> VOLQUETA | D18: =+'AUTOS '!D18 -> 7790 | E18: =+'AUTOS '!E18 -> 2015 | F18: =+'AUTOS '!F18 -> ODR633 | G18: =+'AUTOS '!H18 -> VILLETA | H18: =+'AUTOS '!N18 -> 46350 | I18: SI | J18: 1282800 | L18: =+'AUTOS '!O18 -> 320 | O18: =+C18&" "&A18&" "&F18 -> VOLQUETA CHEVROLET ODR633
A19: =+'AUTOS '!A19 -> CHEVROLET | B19: =+'AUTOS '!B19 -> FVR 700P | C19: =+'AUTOS '!C19 -> VOLQUETA | D19: =+'AUTOS '!D19 -> 7790 | E19: =+'AUTOS '!E19 -> 2015 | F19: =+'AUTOS '!F19 -> ODR634 | G19: =+'AUTOS '!H19 -> VILLETA | H19: =+'AUTOS '!N19 -> 46350 | I19: SI | J19: 1282800 | L19: =+'AUTOS '!O19 -> 320 | O19: =+C19&" "&A19&" "&F19 -> VOLQUETA CHEVROLET ODR634
A20: =+'AUTOS '!A20 -> CHEVROLET | B20: =+'AUTOS '!B20 -> FVR 700P | C20: =+'AUTOS '!C20 -> VOLQUETA | D20: =+'AUTOS '!D20 -> 7790 | E20: =+'AUTOS '!E20 -> 2015 | F20: =+'AUTOS '!F20 -> ODR635 | G20: =+'AUTOS '!H20 -> VILLETA | H20: =+'AUTOS '!N20 -> 46350 | I20: SI | J20: 1282800 | L20: =+'AUTOS '!O20 -> 320 | O20: =+C20&" "&A20&" "&F20 -> VOLQUETA CHEVROLET ODR635
A21: =+'AUTOS '!A21 -> HINO | B21: =+'AUTOS '!B21 -> FC 9J | C21: =+'AUTOS '!C21 -> BUSETON | D21: =+'AUTOS '!D21 -> 5123 | E21: =+'AUTOS '!E21 -> 2016 | F21: =+'AUTOS '!F21 -> OJZ514 | G21: =+'AUTOS '!H21 -> VILLETA | H21: =+'AUTOS '!N21 -> 46342 | I21: SI | J21: 1510600 | L21: =+'AUTOS '!O21 -> 430 | O21: =+C21&" "&A21&" "&F21 -> BUSETON HINO OJZ514
A22: =+'AUTOS '!A22 -> CHEVROLET | B22: =+'AUTOS '!B22 -> CHR 72 | C22: =+'AUTOS '!C22 -> BUS 35 PASAJ | D22: =+'AUTOS '!D22 -> 7127 | E22: =+'AUTOS '!E22 -> 2012 | F22: =+'AUTOS '!F22 -> OIK078 | G22: =+'AUTOS '!H22 -> VILLETA | H22: =+'AUTOS '!N22 -> 46774 | I22: NO | J22: N.A. | L22: =+'AUTOS '!O22 -> 430 | O22: =+C22&" "&A22&" "&F22 -> BUS 35 PASAJ CHEVROLET OIK078
A23: =+'AUTOS '!A23 -> YAMAHA | B23: =+'AUTOS '!B23 -> XTZ125 | C23: =+'AUTOS '!C23 -> MOTOCICLETA | D23: =+'AUTOS '!D23 -> 125 | E23: =+'AUTOS '!E23 -> 2011 | F23: =+'AUTOS '!F23 -> LKW02C | G23: =+'AUTOS '!H23 -> VILLETA | H23: =+'AUTOS '!N23 -> 46443 | I23: SI | J23: 343300 | L23: =+'AUTOS '!O23 -> 120 | O23: =+C23&" "&A23&" "&F23 -> MOTOCICLETA YAMAHA LKW02C
A24: =+'AUTOS '!A24 -> HONDA | B24: =+'AUTOS '!B24 -> XR 125L MT 125CC | C24: =+'AUTOS '!C24 -> MOTOCICLETA | D24: =+'AUTOS '!D24 -> 125 | E24: =+'AUTOS '!E24 -> 2011 | F24: =+'AUTOS '!F24 -> LUE31C | G24: =+'AUTOS '!H24 -> VILLETA | H24: =+'AUTOS '!N24 -> 46270 | I24: SI | J24: 343300 | L24: =+'AUTOS '!O24 -> 120 | O24: =+C24&" "&A24&" "&F24 -> MOTOCICLETA HONDA LUE31C
A25: =+'AUTOS '!A25 -> HONDA | B25: =+'AUTOS '!B25 -> XR 125L MT 125CC | C25: =+'AUTOS '!C25 -> MOTOCICLETA | D25: =+'AUTOS '!D25 -> 125 | E25: =+'AUTOS '!E25 -> 2011 | F25: =+'AUTOS '!F25 -> LUE32C | G25: =+'AUTOS '!H25 -> VILLETA | H25: =+'AUTOS '!N25 -> 46270 | I25: SI | J25: 343300 | L25: =+'AUTOS '!O25 -> 120 | O25: =+C25&" "&A25&" "&F25 -> MOTOCICLETA HONDA LUE32C
A26: =+'AUTOS '!A26 -> HONDA | B26: =+'AUTOS '!B26 -> XR 125L MT 125CC | C26: =+'AUTOS '!C26 -> MOTOCICLETA | D26: =+'AUTOS '!D26 -> 125 | E26: =+'AUTOS '!E26 -> 2011 | F26: =+'AUTOS '!F26 -> LUE33C | G26: =+'AUTOS '!H26 -> VILLETA | H26: =+'AUTOS '!N26 -> 46270 | I26: SI | J26: 343300 | L26: =+'AUTOS '!O26 -> 120 | O26: =+C26&" "&A26&" "&F26 -> MOTOCICLETA HONDA LUE33C
A27: =+'AUTOS '!A27 -> HONDA | B27: =+'AUTOS '!B27 -> XR 125L MT 125CC | C27: =+'AUTOS '!C27 -> MOTOCICLETA | D27: =+'AUTOS '!D27 -> 125 | E27: =+'AUTOS '!E27 -> 2011 | F27: =+'AUTOS '!F27 -> LUE34C | G27: =+'AUTOS '!H27 -> VILLETA | H27: =+'AUTOS '!N27 -> 46270 | I27: SI | J27: 343300 | L27: =+'AUTOS '!O27 -> 120 | O27: =+C27&" "&A27&" "&F27 -> MOTOCICLETA HONDA LUE34C
A28: =+'AUTOS '!A28 -> HONDA | B28: =+'AUTOS '!B28 -> XR 125L MT 125CC | C28: =+'AUTOS '!C28 -> MOTOCICLETA | D28: =+'AUTOS '!D28 -> 125 | E28: =+'AUTOS '!E28 -> 2011 | F28: =+'AUTOS '!F28 -> LUE35C | G28: =+'AUTOS '!H28 -> VILLETA | H28: =+'AUTOS '!N28 -> 46516 | I28: SI | J28: 343300 | L28: =+'AUTOS '!O28 -> 120 | O28: =+C28&" "&A28&" "&F28 -> MOTOCICLETA HONDA LUE35C
A29: =+'AUTOS '!A29 -> HONDA | B29: =+'AUTOS '!B29 -> XR 125L MT 125CC | C29: =+'AUTOS '!C29 -> MOTOCICLETA | D29: =+'AUTOS '!D29 -> 125 | E29: =+'AUTOS '!E29 -> 2011 | F29: =+'AUTOS '!F29 -> LUE36C | G29: =+'AUTOS '!H29 -> VILLETA | H29: =+'AUTOS '!N29 -> 46516 | I29: SI | J29: 343300 | L29: =+'AUTOS '!O29 -> 120 | O29: =+C29&" "&A29&" "&F29 -> MOTOCICLETA HONDA LUE36C
A30: =+'AUTOS '!A30 -> HONDA | B30: =+'AUTOS '!B30 -> XR 125L MT 125CC | C30: =+'AUTOS '!C30 -> MOTOCICLETA | D30: =+'AUTOS '!D30 -> 125 | E30: =+'AUTOS '!E30 -> 2011 | F30: =+'AUTOS '!F30 -> LUE37C | G30: =+'AUTOS '!H30 -> VILLETA | H30: =+'AUTOS '!N30 -> 46516 | I30: SI | J30: 343300 | L30: =+'AUTOS '!O30 -> 120 | O30: =+C30&" "&A30&" "&F30 -> MOTOCICLETA HONDA LUE37C
A31: =+'AUTOS '!A31 -> HONDA | B31: =+'AUTOS '!B31 -> XR 125L MT 125CC | C31: =+'AUTOS '!C31 -> MOTOCICLETA | D31: =+'AUTOS '!D31 -> 125 | E31: =+'AUTOS '!E31 -> 2011 | F31: =+'AUTOS '!F31 -> LUE38C | G31: =+'AUTOS '!H31 -> VILLETA | H31: =+'AUTOS '!N31 -> 46510 | I31: SI | J31: 343300 | L31: =+'AUTOS '!O31 -> 120 | O31: =+C31&" "&A31&" "&F31 -> MOTOCICLETA HONDA LUE38C
A32: =+'AUTOS '!A32 -> HONDA | B32: =+'AUTOS '!B32 -> XR 125L MT 125CC | C32: =+'AUTOS '!C32 -> MOTOCICLETA | D32: =+'AUTOS '!D32 -> 125 | E32: =+'AUTOS '!E32 -> 2011 | F32: =+'AUTOS '!F32 -> LUE40C | G32: =+'AUTOS '!H32 -> VILLETA | H32: =+'AUTOS '!N32 -> 46510 | I32: SI | J32: 343300 | L32: =+'AUTOS '!O32 -> 120 | O32: =+C32&" "&A32&" "&F32 -> MOTOCICLETA HONDA LUE40C
A33: =+'AUTOS '!A33 -> HONDA | B33: =+'AUTOS '!B33 -> XR 125L MT 125CC | C33: =+'AUTOS '!C33 -> MOTOCICLETA | D33: =+'AUTOS '!D33 -> 125 | E33: =+'AUTOS '!E33 -> 2011 | F33: =+'AUTOS '!F33 -> LUE41C | G33: =+'AUTOS '!H33 -> VILLETA | H33: =+'AUTOS '!N33 -> 46270 | I33: SI | J33: 343300 | L33: =+'AUTOS '!O33 -> 120 | O33: =+C33&" "&A33&" "&F33 -> MOTOCICLETA HONDA LUE41C
A34: =+'AUTOS '!A34 -> HONDA | B34: =+'AUTOS '!B34 -> XR 125L MT 125CC | C34: =+'AUTOS '!C34 -> MOTOCICLETA | D34: =+'AUTOS '!D34 -> 125 | E34: =+'AUTOS '!E34 -> 2011 | F34: =+'AUTOS '!F34 -> LUE42C | G34: =+'AUTOS '!H34 -> VILLETA | H34: =+'AUTOS '!N34 -> 46270 | I34: SI | J34: 343300 | L34: =+'AUTOS '!O34 -> 120 | O34: =+C34&" "&A34&" "&F34 -> MOTOCICLETA HONDA LUE42C
... A43: =+'AUTOS '!A43 -> HONDA | B43: =+'AUTOS '!B43 -> XR150L E3 149CC | C43: =+'AUTOS '!C43 -> MOTOCICLETA | D43: =+'AUTOS '!D43 -> 149 | E43: =+'AUTOS '!E43 -> 2025 | F43: =+'AUTOS '!F43 -> IVO58H | G43: =+'AUTOS '!H43 -> VILLETA | H43: =+'AUTOS '!N43 -> 46369 | I43: SI | J43: 343300 | L43: =+'AUTOS '!O43 -> 120 | O43: =+C43&" "&A43&" "&F43 -> MOTOCICLETA HONDA IVO58H
A44: HONDA | B44: XRE300 ABS | C44: MOTOCICLETA | D44: 299 | E44: 2023 | F44: DTA29G | G44: VILLETA | H44: 46483 | I44: SI | J44: 761400 | L44: 130
A45: HONDA | B45: XRE300 ABS | C45: MOTOCICLETA | D45: 299 | E45: 2023 | F45: DTA30G | G45: VILLETA | H45: 46483 | I45: SI | J45: 761400 | L45: 130 | O45: =+C45&" "&A45&" "&F45 -> MOTOCICLETA HONDA DTA30G
O46: =+C46&" "&A46&" "&F46
O47: =+C47&" "&A47&" "&F47
O48: =+C48&" "&A48&" "&F48
J49: =+SUM(J6:J48) -> 27916800
...

Sheet MAQ AMARILLA
A2: MAQUINARIA AMARILLA
A4: MARCA | B4: TIPO | C4: CLASE | D4: V. ASEGURADO | E4: MODELO | F4: MOTOR | G4: SERIE
A5: JOHN DEERE | B5: 310 SJ 01 | C5: RETROEXCAVADORA | D5: 275914189 | G5: UTO310CJEA0192563
A6: DINAPACK | B6: CA-150D | C6: VIBROCOMPACTADOR | D6: 2.5050276e+08
A7: CATERPILLAR | B7: 120 K 01 | C7: MOTONIVELADORA | D7: 1057545947 | E7: 2014 | G7: JAP01849 120K
A8: CATERPILLAR | B8: 120 K 02 | C8: MOTONIVELADORA | D8: 1054132750 | E8: 2014 | G8: SZN01820
A9: CATERPILLAR | B9: 120 K 03 | C9: MOTONIVELADORA | D9: 9.9121121e+08 | E9: 2014 | G9: SZN01821
A10: CATERPILLAR | B10: 416 E 03 | C10: RETROEXCAVADORA | D10: 4.3806297e+08 | E10: 2014 | G10: MF609108
A11: CATERPILLAR | B11: 416 E 04 | C11: RETROEXCAVADORA | D11: 4.3806296e+08 | E11: 2014 | G11: MF609110
A12: CATERPILLAR | B12: CS44 | C12: VIBROCOMPACTADOR | D12: 5.3098541e+08 | E12: 2014 | G12: M4C00644
A13: FORD | B13: F 350 | C13: BOMBEROS | D13: 134689180 | E13: 1995 | G13: AJF3SP12316
A14: KUBOTA | B14: M954 -. PLACA TSM545 | C14: TRACTOR | D14: 177812318 | E14: CCC | G14: KBUMAEDRM8D20481
A15: VARIAS * | C15: DETALLE AGRICOLA * | D15: 303760926
C16: MOTOAZADA | D16: 6911708 | G16: 100026104
A17: KUBOTA | B17: M9540 | C17: TRACTOR | D17: 135703000 | G17: KBUMAEDRKL8H18892
A18: HYUNDAI | B18: R140LC-9S | C18: EXCAVADOR SOBRE ORUGAS | D18: 515600000 | E18: 2022
A24: TOTAL | D24: =+SUM(D5:D22) -> 6.3108953e+09
A40: RAMONERRE | C40: Compactador | D40: 314000000 | E40: 2026

Sheet AUTOS REPOSO
A1: PROGRAMA DE SEGUROS
A2: TOMADOR/ ASEGURADO/ BENEFICIARIO: MUNICIPIO DE VILLETA
A3: VEHÍCULOS EN REPOSO
A5: MARCA | B5: TIPO | C5: CLASE | D5: MODELO | E5: PLACA | F5: VR. FASECOLDA | G5: PROPIETARIO | H5: CODIGO FASECOLDA | I5: MOTOR | J5: CHASIS
A6: CHEVROLET | B6: C70 149 MEC DSL | C6: VOLQUETA | D6: 1988 | E6: OIO028 | F6: 70000000 | H6: 1626002
A7: CHEVROLET | B7: CAVALlER 2.8 AT 2800 | C7: AUTOMOVIL | D7: 1993 | E7: BCA465 | H7: 1633022
A8: INTERNATIONAL | B8: 4700 236 DT 466, 12 TONELADAS | C8: VOLQUETA | D8: 1998 | E8: OIK031 | H8: 3626005
A9: HONDA | B9: XR 125L MT 125CC | C9: MOTOCICLETA | D9: 2011 | E9: LUE38C | H9: 3417136
A10: HONDA | B10: XR 125L MT 125CC | C10: MOTOCICLETA | D10: 2011 | E10: LUE40C | H10: 3417136
F13: =+SUM(F6:F11) -> 70000000

Sheet OTRAS
A1: MUNICIPIO DE VILLETA
A2: RAMO | B2: VALOR ASEGURADO | C2: CARGO
A3: MANEJO GLOBAL | B3: 290000000 | C3: No Contratistas: 150
C4: No Servidores: 120
C5: Alcalde Municipal
C6: Secretaria de contratacion
C7: Secretario De Gobierno y Participación Ciudadana
C8: Secretario De Desarrolloy equidad Social
C9: Secretario De Hacienda
C10: Secretario de Planeación
C11: Jefe de Control Interno
C12: Tecnico Administrativo con funciones de Almacén
C13: Secretaria de Turismo y Sectores Economicos
C14: Secretaria General
C15: Secretaria de Desarrollo Rural
... C18: Personero
A20: Accidentes Personales - Bus pasajeros OJZ514-OIK078 | B20: 100 SMMLV
A21: IRF | B21: 330000000
A22: RC SERVIDORES PÚBLICOS | B22: 430000000 | C22: ALCALDE
C23: SECRETARIO DE GOBIERNO
C24: CONTROL INTERNO
C25: SECRETARIA DE DESARROLLO SOCIAL
C26: SECRETARIA DE DESARROLLO PARA EL CAMPO
C27: JEFE DE PLANEACION
C28: SECRETARIA DE HACIENDA
C29: ALMACENISTA
A37: RCE | B37: 950000000
A38: RESERVA | B38: 0

Sheet VIDA
A1: CARGO | B1: NOMBRE | C1: CEDULA | D1: FECHA NACIMIENTO
A2: Alcalde | B2: BERNARDO OLAYA TRIANA | C2: 3246356 | D2: 21709 | F2: =2021-YEAR(D2) -> 62
A3: Concejal | B3: EMILCE ACERO MAHECHA | C3: 21110949 | D3: 22803 | F3: =2021-YEAR(D3) -> 59
A4: Concejal | B4: FRANCISCO BELTRÁN ÁLVAREZ | C4: 11311732 | D4: 23875 | F4: =2021-YEAR(D4) -> 56
A5: Concejal | B5: RAMIRO FLÓREZ BOHÓRQUEZ | C5: 80279657 | D5: 26954 | F5: =2021-YEAR(D5) -> 48
A6: Concejal | B6: RUTH SOBEIDA GÓNGORA MANJARRES | C6: 52152178 | D6: 27493 | F6: =2021-YEAR(D6) -> 46
A7: Concejal | B7: JULIÁN CAMILO GONZÁLEZ MANRIQUE | C7: 1000834334 | D7: 37280 | F7: =2021-YEAR(D7) -> 19
A8: Concejal | B8: CARLOS MARIO OLAYA BARRERA | C8: 1018478535 | D8: 34914 | F8: =2021-YEAR(D8) -> 26
A9: Concejal | B9: ANDRÉS FELIPE PARRA NARANJO | C9: 1077975376 | D9: 35731 | F9: =2021-YEAR(D9) -> 24
A10: Concejal | B10: JOHN EDWARD ROA RAMOS | C10: 1077968183 | D10: 32312 | F10: =2021-YEAR(D10) -> 33
A11: Concejal | B11: CARLOS EDUARDO RODRÍGUEZ HERNÁNDEZ | C11: 80280707 | D11: 28138 | F11: =2021-YEAR(D11) -> 44
A12: Concejal | B12: CAMILO ANDRÉS SERRANO ROJAS | C12: 80283484 | D12: 30863 | F12: =2021-YEAR(D12) -> 37
A13: Concejal | B13: EDILSON SUAREZ ZAPATA | C13: 80282002 | D13: 29361 | F13: =2021-YEAR(D13) -> 41
... A16: Personera | B16: LIEDY JHOANA MARTINEZ RODRIGUEZ | C16: 1077968486 | D16: 32421 | F16: =2021-YEAR(D16) -> 33
A29: Sueldo del alcalde $6,824,732
B30: Valor por Asegurado: 20 Salarios

Sheet COBERTURAS-CLAUSULAS
A1: COBERTURAS Y CLAUSULADOS - RAMOS
A2: TODO RIESGO DAÑOS MATERIALES
A3: INTERÉS ASEGURABLE
A4: Edificios, estructuras, cimientos, muros de contención, cercas, escaleras externas, patios y otras construcciones separadas de las edificaciones (vías de acceso, caminos y obras de arte en obras civiles todas dentro de predios), construcciones fijas con todas sus adiciones y en general toda clase de construcciones propias y no propias, de edificios e inherentes a ellos, incluidos anexos y mejoras locativas, instalaciones sanitarias, de agua, sistema de drenaje y aguas negras, tuberías, conductos, desagües, instalaciones eléctricas, electrónicas, de comunicación, para conducción de gas, y de aire acondicionado, ascensores, instalaciones permanentes, de protección contra incendio, alarmas, cámaras y circuitos cerrados de televisión y demás instalaciones que se hallen o no por debajo del nivel del suelo y/o subterráneas, vidrios internos y externos que conforman y hacen parte de las construcciones, rampas de acceso, tanques de almacenamiento, de propiedad de la entidad. El valor asegurado incluye el costo de los honorarios por dirección de obra y/o interventoría, pero excluye el costo de estudio de suelos, cimientos, excavaciones, preparación del terreno y honorarios por diseño de planos.
A5: Mejoras locativas: Todas aquellas mejoras a los inmuebles realizadas por La Entidad, aún en el caso de que la misma no sea propietaria, para adecuarlos a sus necesidades, tales como alfombras, tapetes, cortinas, divisiones modulares, tapizados, enchapes, mejoras eléctricas, cielos rasos, incluyendo las divisiones internas de que estén dotadas las edificaciones, etc.
A6: Muebles y enseres: los muebles, escritorios, sillas, enseres, estantes y equipos de las diferentes dependencias del establecimiento asegurado, alarmas, sistemas de seguridad de toda clase (todos éstos no electrónicos); batería de cocina, útiles de escritorio y papelería, artículos decorativos y de ornamentación, planos, documentos de cartera, archivo en general, libros, bibliotecas, manuscritos, y en general los demás similares aunque no se hayan determinado específicamente, de propiedad del asegurado o por los cuales sea responsable.
A7: Equipo y Maquinaría en general: maquinaria, equipos, accesorios, herramientas, propios y complementarios de la actividad desarrollada por el Asegurado, instalaciones eléctricas, de agua, de aire, de combustibles y similares que correspondan a maquinaria; equipos para manejo y movilización de materiales, maquinaria y equipo de servicio tales como aires acondicionados, transformadores, estaciones y subestaciones eléctricas, plantas eléctricas, calderas, compresores de aire, motobombas, extractores de olores, motores de control de puertas, o sitios de acceso, compresores; equipos móviles para extinción de incendios; ascensores, grúas, malacates, maquinaria, calderas, y en general todo elemento correspondiente a maquinaria, herramienta y equipo, aunque no se haya determinado específicamente, de propiedad del asegurado o por los cuales sea responsable.
A8: Máquinas y equipos de oficina en general: las máquinas manuales de escribir, sumar, calcular y protección de cheques; electrodomésticos, relojes de control de personal y de celaduría, alarmas, sistemas de seguridad de toda clase (que no sean electrónicos); batería de cocina, útiles de escritorio y papelería, artículos decorativos y de ornamentación, y los demás similares aunque no se hayan determinado específicamente, de propiedad del asegurado o por los cuales sea responsable.
A9: Equipos eléctricos y electrónicos: Equipos y máquinas de oficina: eléctricas o electrónicas, tales como, como de sumar, calcular, de escribir, equipos de computo (computadoras considerados integralmente con todos sus accesorios de computación o procesamiento electrónico de datos, con todos sus accesorios y equipos periféricos, como son: CPU, pantallas, filtros, monitores, mouse, reguladores de voltaje, scanner, plotters, servidores, impresoras; protectores de cheques, fotocopiadoras, electrodomésticos eléctricos y electrónicos, equipos de comunicación e intercomunicación y de fax, relojes de control de personal y de celaduría, redes lógicas, equipos eléctricos y electrónicos de laboratorio (físicos, químicos, eléctricos y contención de líquidos), de ingeniería e investigación y equipos protectores para todos éstos y en general todos.
A10: Aquellos aparatos que el asegurado designe como eléctricos y electrónicos, incluyendo equipos electrónicos y/o procesadores de datos de la maquinaria y los equipos, que los comanden y/o controlen, equipo propio y complementario de la actividad desarrollada por el asegurado, aunque no se hayan mencionado específicamente, de su propiedad o por los cuales sea legalmente responsable; sean fijos o de tipo móviles y portátiles, estos últimos no requieren previo aviso en la movilización de los elementos.
A11: Dineros, monedas, cheques, bonos, obras de arte, artículos preciosos y títulos valores, documentos negociables dentro y fuera de caja fuerte en predios del asegurado. No obstante las exclusiones generales de la póliza, mediante la inclusión de esta cláusula, la compañía asume las indemnizaciones por pérdidas y/o daños de estos bienes dentro y fuera de cofres, cajas fuertes y bóvedas como consecuencia de un siniestro amparado por este seguro.
A12: Elementos de almacén e inventarios: elementos de consumo, devolutivos nuevos, recuperables, inservibles, papelería, útiles de oficina, equipos en general, repuestos y demás bienes y/o de almacén, contenidos en las diferentes dependencias de La Entidad, incluido material de empaque y de consumo tales como suministros, lubricantes, aceites, gases, combustibles, productos terminados, elementos de almacén tales como repuestos, herramientas, partes y piezas para maquinaria, dotación para empleados, muestras de los oferentes que envían a la entidad dentro de los procesos de contratación y suministro, entre otros de calzado, vestuario y similares, los cuales estén bajo responsabilidad de la entidad, y en general todo elemento que los Asegurados determinen como existencias o elementos de almacén, aunque no se hayan determinado específicamente, de su propiedad o por los cuales sea responsable.
... A640: Los amparos y/o clausulas cuyos textos o alcances no estén definidos en la ficha técnica, operan según clausulado de la compañía de seguros adjudicataria del proceso, sin ir en contravía de las condiciones particularmente solicitadas y ofertadas en el proceso

Sheet INV.DETALLADO
A2: MUNICIPIO DE VILLETA
A4: INVENTARIO DE MUEBLES ENSERES Y EQUIPO ELECTRONICO
A7: DESCPCION DEL BIEN | B7: BENEFICIARIO | C7: ENTIDAD | D7: COMODATO | E7: VALORES | F7: INCENDIO | G7: SUSTRACCION | H7: SUSTRACCION TODO RIESGO | I7: ROTURA DE MÁQUINA | J7: EQUIPO DE COMPUTO | K7: MOVILES Y PORTÁTILES | L7: TOTALES
A9: EDIFICIOS | E9: =+INMUEBLES!B110 -> 44678088122 | F9: =+E9 -> 44678088122
A10: Norma sismoresistencia - Cobertura Terrenos | E10: =+INMUEBLES!B111+INMUEBLES!B112 -> 8935618000
A11: Indice Variable 5% Edificios | F11: =+F9*0.05 -> 2.2339044e+09
A12: EQUIPOS STR - INSTRUMENTOS MUSICALES | E12: =+CONSOLIDADO!C17 -> 210060941 | H12: =+E12 -> 210060941
A13: BIBLIOTECA | E13: =+BIENES!B12 -> 52500000 | F13: =+E13 -> 52500000 | G13: =+E13 -> 52500000
A14: Indice Variable 5% Contenidos | F14: =+F13*0.05 -> 2625000 | G14: =+G13*0.05 -> 2625000
A15: MUEBLES Y ENSERES - CONTENIDOS | E15: =+BIENES!B11 -> 2789632243 | F15: =+E15 -> 2789632243 | G15: =+F15 -> 2789632243
A16: Indice Variable 5% Contenidos | F16: =+F15*0.05 -> 1.3948161e+08 | G16: =+G15*0.05 -> 1.3948161e+08
A17: EQ. ELECTRÓNICO - CORRIENTE DEBIL | E17: =+CONSOLIDADO!C10 -> 836471914 | J17: =+E17-K17 -> 6.2735394e+08 | K17: =+E17*0.25 -> 2.0911798e+08
A18: MAQUINARIA Y EQUIPO | E18: =+CONSOLIDADO!C11 -> 918193045 | F18: =+E18 -> 918193045 | G18: =+E18 -> 918193045 | I18: =+G18 -> 918193045
A19: Indice Variable 5% Contenidos | F19: =+F18*0.05 -> 45909652 | G19: =+G18*0.05 -> 45909652 | I19: =+I18*0.05 -> 45909652
A20: VEHICULOS REPOSO | E20: =+'AUTOS REPOSO'!F13 -> 70000000 | F20: =+E20 -> 70000000 | G20: =+E20 -> 70000000
A21: Indice Variable 5% Contenidos | F21: =+F20*0.05 -> 3500000 | G21: =+G20*0.05 -> 3500000
D25: SUMAS | E25: =SUM(E9:E24) -> 58490564265 | F25: =SUM(F9:F24) -> 5.0933834e+10 | G25: =SUM(G9:G24) -> 4.0218416e+09 | H25: =SUM(H9:H24) -> 210060941 | I25: =SUM(I9:I24) -> 9.641027e+08 | J25: =SUM(J9:J24) -> 6.2735394e+08 | K25: =SUM(K9:K24) -> 2.0911798e+08 | L25: =SUM(L9:L24) -> 0
D27: TOTAL | E27: =+E25 -> 58490564265 | F27: =+F25 -> 5.0933834e+10 | G27: =+G25 -> 4.0218416e+09 | H27: =+H25 -> 210060941 | I27: =+I25 -> 9.641027e+08 | J27: =+J25 -> 6.2735394e+08 | K27: =+K25 -> 2.0911798e+08 | L27: =+L25 -> 0

Sheet SINIESTROS
A1: RAMO COMERCIAL | B1: RIESGO | C1: FECHA AVISO | D1: VLR PAGADO
A2: PYME | B2: ACTOS MAL INTENCIONADOS DE TERCEROS | C2: 29/04/2021 | D2: 47376085 | F2: CR 6 No. 650-0 EDIFICIO USO MIXTO
A3: PYME | B3: ACTOS MAL INTENCIONADOS DE TERCEROS | C3: 31/05/2021 | D3: 10124085 | F3: CR 6 No. 650-0 EDIFICIO USO MIXTO
A4: PYME | B4: HUELGA, ASONADA, MOTIN, CONMOCION CIVIL | C4: 31/05/2021 | D4: 1494903242 | F4: CR 10 No. 8A-12 EDIFICIO USO MIXTO
A5: PYME | B5: HUELGA, ASONADA, MOTIN, CONMOCION CIVIL | C5: 02/09/2021 | D5: 99209132 | F5: CR 6 No. 650-0 EDIFICIO USO MIXTO
A6: PYME | B6: ACTOS MAL INTENCIONADOS DE TERCEROS | C6: 02/09/2021 | D6: 11377816 | F6: CR 6 No. 650-0 EDIFICIO USO MIXTO
A7: R. CIVIL EXTRAC. | B7: PREDIOS, LABORES Y OPERACIONES RCE | C7: 28/07/2023 | D7: 1827501 | F7: No Recuperada
A8: AUTOMÓVILES LIV. COL | B8: PERDIDA TOTAL Y/O DESTRUCCION TOTAL | C8: 22/12/2023 | D8: 13916059 | F8: IQL02C - XTZ [1] 250 MT 250CC YAMAHA 2018
A9: AUTOMÓVILES LIV. COL | B9: PERDIDA TOTAL Y/O DESTRUCCION TOTAL | C9: 22/12/2023 | D9: 13916059 | F9: IQL01C - XTZ [1] 250 MT 250CC YAMAHA 2018
A10: AUTOMÓVILES LIV. COL | B10: ASISTENCIA JURIDICA | C10: 17/04/2024 | D10: 188738 | F10: DQA782 - LUV STD [TFR] MT 2300CC 4X2 E CHEVROLET 1
A11: MANEJO | B11: EMPLEADOS PUBLICOS | C11: 02/05/2024 | D11: 14216411 | F11: MUNICIPIO DE FACATATIVA
A12: R. CIVIL | B12: ERRORES U OMISIONES | C12: 08/05/2024 | D12: 19995000 | F12: No Recuperada
A13: AUTOMÓVILES LIV. COL | B13: ,RESPONSABILIDAD CIVIL EXTRACONTRACTUAL | C13: 16/07/2024 | D13: 10154734 | F13: OJW042 - D22 FRONTIER AX MT 2500CC 4X2 T NISSAN 20
... A21: AUTOMÓVILES LIV. COL | B21: DAÑOS PARCIALES DE MENOR CUANTIA | C21: 05/07/2025 | D21: 15368422 | F21: OJW067 - COLORADO [FL] LS MT 2800CC 4X4 T CHEVROLE
A22: TRDM | B22: HURTO | C22: 22-dic-10 | D22: $ 935,000 | F22: HURTO DE UN COMPUTADOR PORTATIL TOSHIBA L455-SP5014M
A23: TRDM | B23: HURTO | C23: 04-sep-11 | D23: $ 26,064,610 | F23: HURTO DE ALGUNAS PARTES DE UN VIBROCOMPACTADOR DINAPAC CA15.
A24: TRDM | B24: HURTO | C24: 06-jul-12 | D24: $ - | F24: HURTO DE SIETE (7) COMPUTADORES Y UN (1) TV, SEDE EDUCATIVA LA ESMERALDA
A25: TRDM | B25: HURTO | C25: 17-jul-12 | D25: $ 916,600 | F25: HURTO DE UNA (1) CPU HP PRO 3000 SMALL Y UN (1) COMPUTADOR PORTATIL COMPUMAX DE LA OFICINA DE LA ALCALDIA
A26: TRDM | B26: HURTO | C26: 07-jun-12 | D26: $ - | F26: HURTO QUINCE (15) LAMPARAS DEL ALUMBRADO PÚBLICO DEL MUNICIPIO
A27: MANEJO | B27: EMPLEADOS NO IDENTIFICADOS | C27: 04-jul-13 | D27: $ 1,880,000 | F27: LUEGO DE SALIR AL ALMORZAR Y DEJAR LA PUERTA DE ACCESO PRINCIPAL DEBIDAMENTE CERRADA, AL REGRESAR UN FUNCIONARIO SE ENCUENTRAN CON LA PUERTA DE ACCESO ABIERTA SIN ESTAR FORZADA, HURTARON UN (1) COMPUTADOR
A28: AUTOS | B28: RCE | C28: 19-jul-13 | F28: VEHICULO OFICIAL DE BOMBEROS DE PLACA M6002 COLISIONA CON UNA MOTOCICLETA DE PROPIEDAD DEL SEÑOR JOSE RAFAEL SALDAÑA VANEGAS CAUSADOLE LESIONES Y DAÑOS A SU VEHICULO
A29: AUTOS | B29: RCE | C29: 21-feb-14 | D29: $ 3,500,000 | F29: DAÑOS OCASIONADOS POR EL VEHÍCULO DE PLACA SVM118 DE PROPIEDAD DEL MUNICIPIO AL VEHÍCULO DE PLACA DE CSC905 DE PROPIEDAD DE LA SEÑORA HIDALID PINEDA MATÍAS
A30: TRDM | B30: HURTO | C30: 01-abr-14 | D30: $ 19,065,078 | F30: HURTO CALIFICADO EN LA INSTITUCION EDUCATIVA DEPARTAMENTAL BAGAZAL, SE ROBARON 30 PORTATILES, 1 FILMADORA, 4 VIDEO BEAM, 2CONSOLAS DE SONIDO, 1 AVANTEL Y 1 MILLON EN EFECTIVO
A31: AUTOS | B31: PÉRDIDA PARCIAL | C31: 27-may-14 | D31: $ - | F31: DAÑOS OCASIONADOS A LA MOTOCICLETA DE PLACA LUE41C DE PROPIEDAD DEL MUNICIPIO
A32: TRDM | B32: DAÑO INTERNO | C32: 19-may-14 | D32: $ 14,727,098 | F32: DAÑOS OCASIONADOS A 3 COMPUTADORES HP DX2400, UN COMPUTADOR PORTÁTIL HP ML 11067, UN DISCO DURO INTERNO SEAGATE, UNA UPS 120VA Y 4 REGULADORES DE VOLTAJE B-AVR106 POR CAUSAS DE UNA SUBIDA DE VOLTAJE
A33: AUTOS | B33: PÉRDIDA PARCIAL | C33: 16-jul-14 | D33: $ 895,400 | F33: DAÑOS CAUSADOS AL VEHÍCULO DE PLACA OIK062 OCASIONADO POR EL GOLPE DE UNA PIEDRA DAÑANDO EL VIDRIO PANORÁMICO.
A34: AUTOS | B34: RCE | C34: 24-feb-16 | D34: $ 4,900,000 | F34: DAÑOS CAUSADOS A LA VOLQUETA CHEVROLET FVR DE PLACAS ODR631, POR ROTURA DE VIDRIO PANORAMICO Y DAÑOS A TERCEROS VEHICULO PLACAS SMN326 FORD CARGO 1721.
A35: TRDM | B35: HURTO | C35: 21-mar-16 | D35: $ - | F35: HURTO DE CAMARA DE VIDEO PANASONIC HC-V 160
A36: TRDM | B36: HURTO | C36: 23-feb-16 | D36: $ 21,840,000 | F36: HURTO DE COMPUTADORES 12 PORTATILES, 11 CARGADORES, DE LA ESCUELA NARANJAL DE VILLETA
A37: TRDM | B37: HURTO | C37: 02-oct-17 | D37: $ 30,169,352 | F37: HURTO DE 13 COMPUTADORES 1 TELEVISOR, 1 VIDEO BEAM, 5 ERGULADORES DE LA ESCUELA SALITRE RIONEGRO
A38: AUTOS | B38: PÉRDIDA PARCIAL | C38: 44158 | D38: 77000000 | F38: Vehiculo de placas OFK614
B41: Hurto portátil | C41: 44300 | D41: 1700000
