Workbook

Sheet Productos
B2: Versión: Pliegos borrador
B4: Formato 10 - Oferta Económica AMP/SDA PARA LA ADQUISICIÓN, SUMINISTRO Y DISPENSACIÓN DE MEDICAMENTOS II
B6: Proceso de Licitación Pública | K6: 45.5
B8: Segmento al que oferta | D8: Segmento 2. Compra Directa a Laboratorios | I8: determinar el precio techo
B9: Ambito | I9: y el PxQ
B10: Nombre del proponente: | I10: Como llegr al puntaje | J10: IPC SALUD | K10: 0.072
D11: RECUERDE QUE DEBE DILIGENCIAR UN PRECIO SUPERIOR A $ 1 ÚNICAMENTE PARA LOS PRODUCTOS QUE OFREZCA. NO DEBE LLENAR LAS DEMÁS CASILLAS. | H11: Porcentaje diligenciado: | I11: =1-((COUNTBLANK(P16:P2953))/(2938)) -> 0 | J11: =SUM(O16:O2953)+SUM(Comerciales!Q16:Q1436) -> 71.060317
B13: 1A | C13: Porcentaje de intermediación del proponente | O13: 1
B15: NO | C15: ATC | D15: PRINCIPIO ACTIVO | E15: CONCENTRACION | F15: FORMA FARMACEUTICA | G15: VIA DE ADMINISTRACION | H15: UNIDAD DE MEDIDA POR PRECIO OFERTADO | I15: ROTACION ESTIMADA POR AÑO | J15: COTIZACION | K15: PRECIO REF 2026 | L15: REGULACION | M15: P*Q | N15: Obligatorio | O15: DISTRIBUCION DE PUNTAJE (45.5 PUNTOS) | P15: PRECIO OFERTADO 1 | Q15: CUM OFERTADO 1 | R15: EXPEDIENTE OFERTADO 1 | S15: REGISTRO SANITARO | T15: PRESENTACION COMERCIAL | U15: FACTOR DE CONVERSION | V15: CODIGO DE BARRAS
B16: 1 | C16: N07XX07 | D16: 4 AMINOPIRIDINA (FAMPRIDINA) | E16: 10 mg | F16: TABLETA DE LIBERACION PROLONGADA | G16: ORAL | H16: TABLETA DE LIBERACION PROLONGADA | I16: 60.666667 | J16: 15227 | K16: =IF(ISNUMBER(L16),MIN(L16,ROUND((J16*(1+$K$10)),0)),ROUND((J16*(1+$K$10)),0)) -> 15228.4 | L16: 15228.4 | M16: =IF(K16=0,100*I16,I16*K16) -> 923856.27 | N16: No | O16: =(45.5*M16)/(SUM($M$16:$M$2953)+SUM(Comerciales!$O$16:$O$1436)) -> 4.3838798e-05
B17: 2 | C17: L01BC02 | D17: 5-FLUORURACILO | E17: 10 mg/mL (1%) | F17: COLIRIO OFTALMICO | G17: OFTALMICA | H17: MILILITRO | I17: 300 | K17: =IF(ISNUMBER(L17),MIN(L17,ROUND((J17*(1+$K$10)),0)),ROUND((J17*(1+$K$10)),0)) -> 0 | L17: NO REGULADO | M17: =IF(K17=0,100*I17,I17*K17) -> 30000 | N17: No | O17: =(45.5*M17)/(SUM($M$16:$M$2953)+SUM(Comerciales!$O$16:$O$1436)) -> 1.423559e-06
B18: 3 | C18: J05AR04 | D18: ABACAVIR | E18: 20 mg/mL (2%) | F18: SOLUCION ORAL | G18: ORAL | H18: MILILITRO | I18: 2 | J18: 434 | K18: =IF(ISNUMBER(L18),MIN(L18,ROUND((J18*(1+$K$10)),0)),ROUND((J18*(1+$K$10)),0)) -> 465 | L18: NO REGULADO | M18: =IF(K18=0,100*I18,I18*K18) -> 930 | N18: No | O18: =(45.5*M18)/(SUM($M$16:$M$2953)+SUM(Comerciales!$O$16:$O$1436)) -> 4.413033e-08
B19: 4 | C19: J05AF06 | D19: ABACAVIR (SULFATO) | E19: 300 mg (base) | F19: TABLETA | G19: ORAL | H19: TABLETA | I19: 2 | J19: 1261 | K19: =IF(ISNUMBER(L19),MIN(L19,ROUND((J19*(1+$K$10)),0)),ROUND((J19*(1+$K$10)),0)) -> 1352 | L19: NO REGULADO | M19: =IF(K19=0,100*I19,I19*K19) -> 2704 | N19: No | O19: =(45.5*M19)/(SUM($M$16:$M$2953)+SUM(Comerciales!$O$16:$O$1436)) -> 1.2831012e-07
B20: 5 | C20: J05AR02 | D20: ABACAVIR + LAMIVUDINA | E20: (600 + 300)mg | F20: TABLETA RECUBIERTA | G20: ORAL | H20: TABLETA RECUBIERTA | I20: 331 | J20: 1819 | K20: =IF(ISNUMBER(L20),MIN(L20,ROUND((J20*(1+$K$10)),0)),ROUND((J20*(1+$K$10)),0)) -> 1950 | L20: 29310 | M20: =IF(K20=0,100*I20,I20*K20) -> 645450 | N20: No | O20: =(45.5*M20)/(SUM($M$16:$M$2953)+SUM(Comerciales!$O$16:$O$1436)) -> 3.0627873e-05
B21: 6 | C21: J05AR13 | D21: ABACAVIR + LAMIVUDINA + DOLUTEGRAVIR | E21: (600 + 300 + 50)mg | F21: TABLETA RECUBIERTA | G21: ORAL | H21: TABLETA RECUBIERTA | I21: 8101 | J21: 17684.5 | K21: =IF(ISNUMBER(L21),MIN(L21,ROUND((J21*(1+$K$10)),0)),ROUND((J21*(1+$K$10)),0)) -> 18958 | L21: 62310 | M21: =IF(K21=0,100*I21,I21*K21) -> 153578758 | N21: Sí | O21: =(45.5*M21)/(SUM($M$16:$M$2953)+SUM(Comerciales!$O$16:$O$1436)) -> 0.0072876143
B22: 7 | C22: L04AA24 | D22: ABATACEPT | E22: 125 mg | F22: SOLUCION INYECTABLE | G22: SUBCUTANEA | H22: JERINGA PRELLENADA | I22: 728.91667 | J22: 680183 | K22: =IF(ISNUMBER(L22),MIN(L22,ROUND((J22*(1+$K$10)),0)),ROUND((J22*(1+$K$10)),0)) -> 680183.75 | L22: 680183.75 | M22: =IF(K22=0,100*I22,I22*K22) -> 4.9579727e+08 | N22: Sí | O22: =(45.5*M22)/(SUM($M$16:$M$2953)+SUM(Comerciales!$O$16:$O$1436)) -> 0.023526556
B23: 8 | C23: L04AA24 | D23: ABATACEPT | E23: 250 mg | F23: POLVO LIOFILIZADO PARA SOLUCION INYECTABLE | G23: INTRAVENOSA | H23: VIAL | I23: 88.5 | J23: 1360367 | K23: =IF(ISNUMBER(L23),MIN(L23,ROUND((J23*(1+$K$10)),0)),ROUND((J23*(1+$K$10)),0)) -> 1360367.5 | L23: 1360367.5 | M23: =IF(K23=0,100*I23,I23*K23) -> 1.2039252e+08 | N23: Sí | O23: =(45.5*M23)/(SUM($M$16:$M$2953)+SUM(Comerciales!$O$16:$O$1436)) -> 0.0057128622
B24: 9 | C24: L01XE50 | D24: ABEMACICLIB | E24: 150 mg | F24: TABLETA RECUBIERTA | G24: ORAL | H24: TABLETA RECUBIERTA | I24: 4035 | K24: =IF(ISNUMBER(L24),MIN(L24,ROUND((J24*(1+$K$10)),0)),ROUND((J24*(1+$K$10)),0)) -> 0 | L24: NO REGULADO | M24: =IF(K24=0,100*I24,I24*K24) -> 403500 | N24: No | O24: =(45.5*M24)/(SUM($M$16:$M$2953)+SUM(Comerciales!$O$16:$O$1436)) -> 1.9146869e-05
B25: 10 | C25: L01XE50 | D25: ABEMACICLIB | E25: 100 mg | F25: TABLETA RECUBIERTA | G25: ORAL | H25: TABLETA RECUBIERTA | I25: 1052.7273 | K25: =IF(ISNUMBER(L25),MIN(L25,ROUND((J25*(1+$K$10)),0)),ROUND((J25*(1+$K$10)),0)) -> 0 | L25: NO REGULADO | M25: =IF(K25=0,100*I25,I25*K25) -> 105272.73 | N25: No | O25: =(45.5*M25)/(SUM($M$16:$M$2953)+SUM(Comerciales!$O$16:$O$1436)) -> 4.9953981e-06
B26: 11 | C26: L01XE50 | D26: ABEMACICLIB | E26: 50 mg | F26: TABLETA RECUBIERTA | G26: ORAL | H26: TABLETA RECUBIERTA | I26: 61 | K26: =IF(ISNUMBER(L26),MIN(L26,ROUND((J26*(1+$K$10)),0)),ROUND((J26*(1+$K$10)),0)) -> 0 | L26: NO REGULADO | M26: =IF(K26=0,100*I26,I26*K26) -> 6100 | N26: No | O26: =(45.5*M26)/(SUM($M$16:$M$2953)+SUM(Comerciales!$O$16:$O$1436)) -> 2.8945701e-07
B27: 12 | C27: L02BX03 | D27: ABIRATERONA | E27: 250 mg | F27: TABLETA | G27: ORAL | H27: TABLETA | I27: 46748.5 | J27: 7193.5 | K27: =IF(ISNUMBER(L27),MIN(L27,ROUND((J27*(1+$K$10)),0)),ROUND((J27*(1+$K$10)),0)) -> 7711 | L27: 78045 | M27: =IF(K27=0,100*I27,I27*K27) -> 3.6047768e+08 | N27: Sí | O27: =(45.5*M27)/(SUM($M$16:$M$2953)+SUM(Comerciales!$O$16:$O$1436)) -> 0.017105376
B28: 13 | C28: L02BX03 | D28: ABIRATERONA | E28: 500 mg | F28: TABLETA | G28: ORAL | H28: TABLETA | I28: 5240 | J28: 149623.81 | K28: =IF(ISNUMBER(L28),MIN(L28,ROUND((J28*(1+$K$10)),0)),ROUND((J28*(1+$K$10)),0)) -> 156090 | L28: 156090 | M28: =IF(K28=0,100*I28,I28*K28) -> 817911600 | N28: Sí | O28: =(45.5*M28)/(SUM($M$16:$M$2953)+SUM(Comerciales!$O$16:$O$1436)) -> 0.038811515
B29: 14 | C29: L01EL02 | D29: ACALABRUTINIB | E29: 100 mg | F29: TABLETA RECUBIERTA | G29: ORAL | H29: TABLETA RECUBIERTA | I29: 82.818182 | K29: =IF(ISNUMBER(L29),MIN(L29,ROUND((J29*(1+$K$10)),0)),ROUND((J29*(1+$K$10)),0)) -> 0 | L29: NO REGULADO | M29: =IF(K29=0,100*I29,I29*K29) -> 8281.8182 | N29: No | O29: =(45.5*M29)/(SUM($M$16:$M$2953)+SUM(Comerciales!$O$16:$O$1436)) -> 3.9298857e-07
B30: 15 | C30: M01AB16 | D30: ACECLOFENACO | E30: 100 mg | F30: TAB/CAPS/GRAG/COMP | G30: ORAL | H30: TAB/CAPS/GRAG/COMP/PERLA | I30: 2581 | J30: 3785 | K30: =IF(ISNUMBER(L30),MIN(L30,ROUND((J30*(1+$K$10)),0)),ROUND((J30*(1+$K$10)),0)) -> 4058 | L30: NO REGULADO | M30: =IF(K30=0,100*I30,I30*K30) -> 10473698 | N30: No | O30: =(45.5*M30)/(SUM($M$16:$M$2953)+SUM(Comerciales!$O$16:$O$1436)) -> 0.00049699758
B31: 16 | C31: M01AB16 | D31: ACECLOFENACO | E31: 200 mg | F31: TABLETA/CAPSULA/GRAGEA/COMPRIMIDO/PERLA/LIBERACION MODIFICADA | G31: ORAL | H31: TAB/CAPS/GRAG/COMP/PERLA | I31: 1182.4167 | J31: 7084 | K31: =IF(ISNUMBER(L31),MIN(L31,ROUND((J31*(1+$K$10)),0)),ROUND((J31*(1+$K$10)),0)) -> 7594 | L31: NO REGULADO | M31: =IF(K31=0,100*I31,I31*K31) -> 8979272.2 | N31: No | O31: =(45.5*M31)/(SUM($M$16:$M$2953)+SUM(Comerciales!$O$16:$O$1436)) -> 0.00042608414
B32: 17 | C32: A06AB05 | D32: ACEITE DE RICINO | E32: (0.15+18.5+8)g/100g | F32: SOLUCION/SUSPENSION | G32: ORAL | H32: MILILITRO | I32: 842.66667 | J32: 1807 | K32: =IF(ISNUMBER(L32),MIN(L32,ROUND((J32*(1+$K$10)),0)),ROUND((J32*(1+$K$10)),0)) -> 1937 | L32: NO REGULADO | M32: =IF(K32=0,100*I32,I32*K32) -> 1632245.3 | N32: No | O32: =(45.5*M32)/(SUM($M$16:$M$2953)+SUM(Comerciales!$O$16:$O$1436)) -> 7.7453254e-05
B33: 18 | C33: NO REGISTRA | D33: ACEITE VEGETAL + SIMETICONA | E33: (20+125)mg | F33: TAB/CAPS/GRAG/COMP | G33: ORAL | H33: NO REGISTRA | I33: 8 | K33: =IF(ISNUMBER(L33),MIN(L33,ROUND((J33*(1+$K$10)),0)),ROUND((J33*(1+$K$10)),0)) -> 0 | L33: NO REGISTRA | M33: =IF(K33=0,100*I33,I33*K33) -> 800 | N33: No | O33: =(45.5*M33)/(SUM($M$16:$M$2953)+SUM(Comerciales!$O$16:$O$1436)) -> 3.7961575e-08
B34: 19 | C34: M01AB11 | D34: ACEMETACINA | E34: 60mg | F34: TAB/CAPS/GRAG/COMP | G34: ORAL | H34: TABLETA/CAPSULA/GRAGEA/COMPRIMIDO/PERLA | I34: 2 | J34: 6137.89 | K34: =IF(ISNUMBER(L34),MIN(L34,ROUND((J34*(1+$K$10)),0)),ROUND((J34*(1+$K$10)),0)) -> 6580 | L34: NO REGULADO | M34: =IF(K34=0,100*I34,I34*K34) -> 13160 | N34: No | O34: =(45.5*M34)/(SUM($M$16:$M$2953)+SUM(Comerciales!$O$16:$O$1436)) -> 6.244679e-07
B35: 20 | C35: D07AC14 | D35: ACEPONATO DE METILPREDNISOLONA | E35: 0.001 | F35: EMULSION/LOCION | G35: TÓPICA | H35: GRAMOS | I35: 2232.5 | J35: 2569 | K35: =IF(ISNUMBER(L35),MIN(L35,ROUND((J35*(1+$K$10)),0)),ROUND((J35*(1+$K$10)),0)) -> 2754 | L35: NO REGULADO | M35: =IF(K35=0,100*I35,I35*K35) -> 6148305 | N35: No | O35: =(45.5*M35)/(SUM($M$16:$M$2953)+SUM(Comerciales!$O$16:$O$1436)) -> 0.00029174917
B36: 21 | C36: NO REGISTRA | D36: ACEPONATO DE METILPREDNISOLONA | E36: 0.001 | F36: CREMA/UNGUENTO | G36: TOPICO | H36: NO REGISTRA | I36: 1083 | J36: 87928.2 | K36: =IF(ISNUMBER(L36),MIN(L36,ROUND((J36*(1+$K$10)),0)),ROUND((J36*(1+$K$10)),0)) -> 94259 | L36: NO REGISTRA | M36: =IF(K36=0,100*I36,I36*K36) -> 102082497 | N36: Sí | O36: =(45.5*M36)/(SUM($M$16:$M$2953)+SUM(Comerciales!$O$16:$O$1436)) -> 0.0048440154
B37: 22 | C37: N02BE01 | D37: ACETAMINOFEN | E37: 500mg | F37: TAB/CAPS/GRAG/COMP | G37: ORAL | H37: TABLETA/CAPSULA/GRAGEA/COMPRIMIDO/PERLA | I37: 11983772 | J37: 46 | K37: =IF(ISNUMBER(L37),MIN(L37,ROUND((J37*(1+$K$10)),0)),ROUND((J37*(1+$K$10)),0)) -> 49 | L37: NO REGULADO | M37: =IF(K37=0,100*I37,I37*K37) -> 5.872048e+08 | N37: Sí | O37: =(45.5*M37)/(SUM($M$16:$M$2953)+SUM(Comerciales!$O$16:$O$1436)) -> 0.027864024
B38: 23 | C38: N02BE01 | D38: ACETAMINOFEN | E38: 150mg/5mL (3%) | F38: SOLUCION/SUSPENSION | G38: ORAL | H38: MILILITRO | I38: 332293 | J38: 95 | K38: =IF(ISNUMBER(L38),MIN(L38,ROUND((J38*(1+$K$10)),0)),ROUND((J38*(1+$K$10)),0)) -> 102 | L38: NO REGULADO | M38: =IF(K38=0,100*I38,I38*K38) -> 33893886 | N38: Sí | O38: =(45.5*M38)/(SUM($M$16:$M$2953)+SUM(Comerciales!$O$16:$O$1436)) -> 0.0016083316
B39: 24 | C39: N02BE01 | D39: ACETAMINOFEN | E39: 160mg/5mL (3,2%) | F39: SOLUCION/SUSPENSION | G39: ORAL | H39: MILILITRO | I39: 15528 | J39: 98 | K39: =IF(ISNUMBER(L39),MIN(L39,ROUND((J39*(1+$K$10)),0)),ROUND((J39*(1+$K$10)),0)) -> 105 | L39: NO REGULADO | M39: =IF(K39=0,100*I39,I39*K39) -> 1630440 | N39: No | O39: =(45.5*M39)/(SUM($M$16:$M$2953)+SUM(Comerciales!$O$16:$O$1436)) -> 7.7367587e-05
B40: 25 | C40: N02BE01 | D40: ACETAMINOFEN | E40: 325mg | F40: TAB/CAPS/GRAG/COMP | G40: ORAL | H40: TAB/CAPS/GRAG/COMP/PERLA | I40: 7311 | J40: 366 | K40: =IF(ISNUMBER(L40),MIN(L40,ROUND((J40*(1+$K$10)),0)),ROUND((J40*(1+$K$10)),0)) -> 392 | L40: NO REGULADO | M40: =IF(K40=0,100*I40,I40*K40) -> 2865912 | N40: No | O40: =(45.5*M40)/(SUM($M$16:$M$2953)+SUM(Comerciales!$O$16:$O$1436)) -> 0.00013599317
B41: 26 | C41: N02BE01 | D41: ACETAMINOFEN | E41: 250mg/5mL (5%) | F41: SOLUCION/SUSPENSIÓN | G41: ORAL | H41: MILILITRO | I41: 5531.9091 | J41: 226 | K41: =IF(ISNUMBER(L41),MIN(L41,ROUND((J41*(1+$K$10)),0)),ROUND((J41*(1+$K$10)),0)) -> 242 | L41: NO REGULADO | M41: =IF(K41=0,100*I41,I41*K41) -> 1338722 | N41: No | O41: =(45.5*M41)/(SUM($M$16:$M$2953)+SUM(Comerciales!$O$16:$O$1436)) -> 6.3524994e-05
B42: 27 | C42: N02BE01 | D42: ACETAMINOFEN | E42: 100mg/mL (10%) | F42: SOLUCION/SUSPENSION | G42: ORAL | H42: MILILITRO | I42: 1413.5 | J42: 84 | K42: =IF(ISNUMBER(L42),MIN(L42,ROUND((J42*(1+$K$10)),0)),ROUND((J42*(1+$K$10)),0)) -> 90 | L42: NO REGULADO | M42: =IF(K42=0,100*I42,I42*K42) -> 127215 | N42: No | O42: =(45.5*M42)/(SUM($M$16:$M$2953)+SUM(Comerciales!$O$16:$O$1436)) -> 6.0366021e-06
B43: 28 | C43: N02BE01 | D43: ACETAMINOFEN | E43: 100mg | F43: TABLETA/CAPSULA/GRAGEA/COMPRIMIDO/PERLA/MASTICABLE | G43: ORAL | H43: TAB/CAPS/GRAG/COMP/PERLA | I43: 2 | J43: 1095 | K43: =IF(ISNUMBER(L43),MIN(L43,ROUND((J43*(1+$K$10)),0)),ROUND((J43*(1+$K$10)),0)) -> 1174 | L43: NO REGULADO | M43: =IF(K43=0,100*I43,I43*K43) -> 2348 | N43: No | O43: =(45.5*M43)/(SUM($M$16:$M$2953)+SUM(Comerciales!$O$16:$O$1436)) -> 1.1141722e-07
B44: 29 | C44: N02BE01 | D44: ACETAMINOFEN | E44: 10mg/mL (1%) | F44: AMP/VIAL/JP | G44: PARENTERAL | H44: AMP/VIAL/JP/DISPOS | I44: 6937.8333 | J44: 13941 | K44: =IF(ISNUMBER(L44),MIN(L44,ROUND((J44*(1+$K$10)),0)),ROUND((J44*(1+$K$10)),0)) -> 14945 | L44: NO REGULADO | M44: =IF(K44=0,100*I44,I44*K44) -> 1.0368592e+08 | N44: Sí | O44: =(45.5*M44)/(SUM($M$16:$M$2953)+SUM(Comerciales!$O$16:$O$1436)) -> 0.0049201009
B45: 30 | C45: N02BE51 | D45: ACETAMINOFEN + ACIDO ACETIL SALICILICO + CAFEINA | E45: (200-500)+(200-500)+(20-80)mg | F45: TAB/CAPS/GRAG/COMP | G45: ORAL | H45: TABLETA/CAPSULA/GRAGEA/COMPRIMIDO/PERLA | I45: 56460.455 | J45: 1575 | K45: =IF(ISNUMBER(L45),MIN(L45,ROUND((J45*(1+$K$10)),0)),ROUND((J45*(1+$K$10)),0)) -> 1688 | L45: NO REGULADO | M45: =IF(K45=0,100*I45,I45*K45) -> 95305247 | N45: Sí | O45: =(45.5*M45)/(SUM($M$16:$M$2953)+SUM(Comerciales!$O$16:$O$1436)) -> 0.0045224216
B46: 31 | C46: N02BE51 | D46: ACETAMINOFEN + CAFEINA | E46: [500+(50-65)]mg | F46: TAB/CAPS/GRAG/COMP | G46: ORAL | H46: TABLETA/CAPSULA/GRAGEA/COMPRIMIDO/PERLA | I46: 62085.833 | J46: 552 | K46: =IF(ISNUMBER(L46),MIN(L46,ROUND((J46*(1+$K$10)),0)),ROUND((J46*(1+$K$10)),0)) -> 592 | L46: NO REGULADO | M46: =IF(K46=0,100*I46,I46*K46) -> 36754813 | N46: Sí | O46: =(45.5*M46)/(SUM($M$16:$M$2953)+SUM(Comerciales!$O$16:$O$1436)) -> 0.0017440882
...

Sheet Listas
C4: Nacional
C5: Región 1
C6: Región 2
C7: Región 3
C8: Región 4
C9: Región 5
C10: Región 1 y Región 2
C11: Región 1 y Región 3
C12: Región 1 y Región 4
C13: Región 1 y Región 5
C14: Región 2 y Región 3
C15: Región 2 y Región 4
... C19: Región 4 y Región 5

Sheet Comerciales
B2: Versión: Pliegos borrador
B4: Formato 10 - Oferta Económica AMP/SDA PARA LA ADQUISICIÓN, SUMINISTRO Y DISPENSACIÓN DE MEDICAMENTOS II
B6: Proceso de Licitación Pública
C8: Segmento al que oferta | E8: Segmento 2. Compra Directa a Laboratorios
C9: Ambito
C10: Nombre del proponente:
D11: RECUERDE QUE DEBE DILIGENCIAR UN PRECIO SUPERIOR A $ 1 ÚNICAMENTE PARA LOS PRODUCTOS QUE OFREZCA | H11: Porcentaje diligenciado: | I11: =1-((COUNTBLANK(R16:R1436))/(1421)) -> 0
M13: IPC SALUD | N13: 0.072
B15: NO | C15: ATC | D15: PRINCIPIO ACTIVO | E15: CONCENTRACION | F15: FORMA FARMACEUTICA | G15: VIA DE ADMINISTRACION | H15: UNIDAD DE MEDIDA POR PRECIO OFERTADO | I15: ROTACION ESTIMADA POR AÑO | J15: NOMBRE COMERCIAL | K15: CUM | L15: EXPEDIENTE | M15: PRECIO TECHO | N15: PRECIO REF. 2026 | O15: pxq | P15: Obligatorio | Q15: DISTRIBUCION DE PUNTAJE (45.5 PUNTOS) | R15: PRECIO OFERTADO 1 | S15: CUM OFERTADO 1 | T15: EXPEDIENTE OFERTADO 1 | U15: REGISTRO SANITARO | V15: PRESENTACION COMERCIAL | W15: FACTOR DE CONVERSION | X15: CODIGO DE BARRAS
B16: 1 | C16: L02BX03 | D16: ABIRATERONA | E16: 250 mg | F16: TABLETA | G16: ORAL | H16: TABLETA | I16: 36960 | J16: ZYTIGA | K16: 20036026-1 | L16: 20036026 | N16: =ROUND((M16*(1+$N$13)),0) -> 0 | O16: =IF(N16=0,100*I16,I16*N16) -> 3696000 | P16: Sí | Q16: =(45.5*O16)/SUM($O$16:$O$1436) -> 0.00040020209
B17: 2 | C17: D11AH08 | D17: ABROCITINIB | E17: 200 mg | F17: TABLETA RECUBIERTA | G17: ORAL | H17: NO REGISTRA | I17: 630 | J17: CIBINQO | K17: 20210312-1 | L17: 20210312 | N17: =ROUND((M17*(1+$N$13)),0) -> 0 | O17: =IF(N17=0,100*I17,I17*N17) -> 63000 | Q17: =(45.5*O17)/SUM($O$16:$O$1436) -> 6.8216265e-06
B18: 3 | C18: D11AH08 | D18: ABROCITINIB | E18: 100 mg | F18: TABLETA RECUBIERTA | G18: ORAL | H18: NO REGISTRA | I18: 300 | J18: CIBINQO | K18: 20210286-1 | L18: 20210286 | N18: =ROUND((M18*(1+$N$13)),0) -> 0 | O18: =IF(N18=0,100*I18,I18*N18) -> 30000 | Q18: =(45.5*O18)/SUM($O$16:$O$1436) -> 3.2483936e-06
B19: 4 | C19: D11AH08 | D19: ABROCITINIB | E19: 50 mg | F19: TABLETA RECUBIERTA | G19: ORAL | H19: NO REGISTRA | I19: 30 | J19: CIBINQO | K19: 20210314-1 | L19: 20210314 | N19: =ROUND((M19*(1+$N$13)),0) -> 0 | O19: =IF(N19=0,100*I19,I19*N19) -> 3000 | Q19: =(45.5*O19)/SUM($O$16:$O$1436) -> 3.2483936e-07
B20: 5 | C20: NO APLICA | D20: ACEITE DE DUCHA | E20: 400 mL | F20: EMULSION | G20: TOPICA (EXTERNA) | H20: NO REGISTRA | I20: 83 | J20: EUCERIN PH5 DUCHA PIEL FCO X 400 mL | K20: NO REGISTRA | L20: 19947951 | N20: =ROUND((M20*(1+$N$13)),0) -> 0 | O20: =IF(N20=0,100*I20,I20*N20) -> 8300 | Q20: =(45.5*O20)/SUM($O$16:$O$1436) -> 8.9872222e-07
B21: 6 | C21: NO APLICA | D21: ACEITE DE DUCHA | E21: 1 LITRO | F21: ACEITE | G21: TOPICA (EXTERNA) | H21: NO REGISTRA | I21: 8 | J21: ATODERM ACEITE DE DUCHA FCO X 1 LITRO | K21: NO REGISTRA | L21: 20145229 | N21: =ROUND((M21*(1+$N$13)),0) -> 0 | O21: =IF(N21=0,100*I21,I21*N21) -> 800 | Q21: =(45.5*O21)/SUM($O$16:$O$1436) -> 8.6623828e-08
B22: 7 | C22: A11CB99 | D22: ACEITE DE HIGADO DE BACALAO + VITAMINA A + VITAMINA D | E22: 360 mL | F22: EMULSION ORAL | G22: ORAL | H22: NO REGISTRA | I22: 1 | J22: EMULSION DE SCOTT X 360 mL | K22: NO REGISTRA | L22: 20003504 | N22: =ROUND((M22*(1+$N$13)),0) -> 0 | O22: =IF(N22=0,100*I22,I22*N22) -> 100 | Q22: =(45.5*O22)/SUM($O$16:$O$1436) -> 1.0827979e-08
B23: 8 | C23: NO APLICA | D23: ACEITE DE ONAGRA | E23: COMBINACION | F23: CAPSULA BLANDA | G23: ORAL | H23: NO REGISTRA | I23: 100 | J23: EVENNING PRIMROSE OIL 500 mg | K23: NO REGISTRA | L23: 20014918 | N23: =ROUND((M23*(1+$N$13)),0) -> 0 | O23: =IF(N23=0,100*I23,I23*N23) -> 10000 | Q23: =(45.5*O23)/SUM($O$16:$O$1436) -> 1.0827979e-06
B24: 9 | C24: NO APLICA | D24: ACEITE DUCHA PIEL SENSIBLE | E24: 200 mL | F24: ACEITE | G24: TOPICA (EXTERNA) | H24: NO REGISTRA | I24: 83 | J24: EUCERIN ACEITE DUCHA PIEL SENSIBLE X 200 mL | K24: NO REGISTRA | L24: 19947951 | M24: 105371 | N24: =ROUND((M24*(1+$N$13)),0) -> 112958 | O24: =IF(N24=0,100*I24,I24*N24) -> 9375514 | P24: Sí | Q24: =(45.5*O24)/SUM($O$16:$O$1436) -> 0.0010151786
B25: 10 | C25: N02BE01 | D25: ACETAMINOFEN | E25: 10mg/mL (1%) | F25: AMP/VIAL/JP SLN PARA INFUSION | G25: PAR | H25: NO REGISTRA | I25: 2356 | J25: PARACETAMOL 10 mg/mL SOLUCION P/INFUSION FCO X 100 mL | K25: NO REGISTRA | L25: 20048683 | M25: 19916 | N25: =ROUND((M25*(1+$N$13)),0) -> 21350 | O25: =IF(N25=0,100*I25,I25*N25) -> 50300600 | P25: Sí | Q25: =(45.5*O25)/SUM($O$16:$O$1436) -> 0.0054465382
B26: 11 | C26: N02BE01 | D26: ACETAMINOFEN | E26: 500mg | F26: TAB/CAPS/GRAG/COMP | G26: ORAL | H26: TABLETA/CAPSULA/GRAGEA/COMPRIMIDO/PERLA | I26: 2242.5 | J26: DOLEX ACTIVGEL 500 mg CAJA X 10 CAPSULAS LIQUIDAS | K26: 20058810-1 | L26: 20058810 | M26: 1386.32 | N26: =ROUND((M26*(1+$N$13)),0) -> 1486 | O26: =IF(N26=0,100*I26,I26*N26) -> 3332355 | Q26: =(45.5*O26)/SUM($O$16:$O$1436) -> 0.00036082669
B27: 12 | C27: N02BE01 | D27: ACETAMINOFEN | E27: 500mg | F27: TABLETA RECUBIERTA | G27: ORAL | H27: NO REGISTRA | I27: 750 | J27: DOLEX 500 mg CAJA X 200 TABLETAS RECUBIERTAS | K27: NO REGISTRA | L27: 20068891 | M27: 587 | N27: =ROUND((M27*(1+$N$13)),0) -> 629 | O27: =IF(N27=0,100*I27,I27*N27) -> 471750 | Q27: =(45.5*O27)/SUM($O$16:$O$1436) -> 5.1080989e-05
B28: 13 | C28: N02BE01 | D28: ACETAMINOFEN | E28: 160mg/5mL (3,2%) | F28: SOLUCION/SUSPENSION | G28: ORAL | H28: FRASCO/TUBO | I28: 102.44444 | J28: ACETAMINOFEN (DOLEX NIÑOS 3,2%) | K28: 20164282-1 | L28: 20164282 | M28: 12575.53 | N28: =ROUND((M28*(1+$N$13)),0) -> 13481 | O28: =IF(N28=0,100*I28,I28*N28) -> 1381053.6 | Q28: =(45.5*O28)/SUM($O$16:$O$1436) -> 0.00014954018
B29: 14 | C29: N02BE51 | D29: ACETAMINOFEN + CAFEINA | E29: [500+(50-65)]mg | F29: TABLETA/CAPSULA/GRAGEA/COMPRIMIDO/PERLA | G29: ORAL | H29: TABLETA/CAPSULA/GRAGEA/COMPRIMIDO/PERLA | I29: 34199.714 | J29: 19992272-14 | K29: 19992272-14 | L29: 19992272 | M29: 1402 | N29: =ROUND((M29*(1+$N$13)),0) -> 1503 | O29: =IF(N29=0,100*I29,I29*N29) -> 51402171 | P29: Sí | Q29: =(45.5*O29)/SUM($O$16:$O$1436) -> 0.005565816
B30: 15 | C30: N02BE51 | D30: ACETAMINOFEN + CAFEINA | E30: [500+(50-65)]mg | F30: TABLETA RECUBIERTA | G30: ORAL | H30: NO REGISTRA | I30: 2600 | J30: DOLEX FORTE NF OPTIZORB X 48 TABLETAS RECUBIERTAS | K30: NO REGISTRA | L30: 20071759 | M30: 1903 | N30: =ROUND((M30*(1+$N$13)),0) -> 2040 | O30: =IF(N30=0,100*I30,I30*N30) -> 5304000 | Q30: =(45.5*O30)/SUM($O$16:$O$1436) -> 0.00057431598
B31: 16 | C31: N02BE51 | D31: ACETAMINOFEN + CAFEINA | E31: [500+(50-65)]mg | F31: TABLETA | G31: ORAL | H31: NO REGISTRA | I31: 60 | J31: ADOREM PLUS 500/50 mg CAJA X 100 TABLETAS | K31: NO REGISTRA | L31: 19935345 | M31: 238 | N31: =ROUND((M31*(1+$N$13)),0) -> 255 | O31: =IF(N31=0,100*I31,I31*N31) -> 15300 | Q31: =(45.5*O31)/SUM($O$16:$O$1436) -> 1.6566807e-06
B32: 17 | C32: N02BE51 | D32: ACETAMINOFEN + CAFEINA | E32: [500+(50-65)]mg | F32: TABLETA RECUBIERTA | G32: ORAL | H32: NO REGISTRA | I32: 1 | J32: ANTALGINE FORTE TABLETAS | K32: NO REGISTRA | L32: 51729 | M32: 274 | N32: =ROUND((M32*(1+$N$13)),0) -> 294 | O32: =IF(N32=0,100*I32,I32*N32) -> 294 | Q32: =(45.5*O32)/SUM($O$16:$O$1436) -> 3.1834257e-08
B33: 18 | C33: N02BE71 | D33: ACETAMINOFEN + CODEINA | E33: (325+30)mg | F33: TABLETA | G33: ORAL | H33: NO REGISTRA | I33: 34280 | J33: ALGIMIDE F 325/30 mg CAJA X 100 TABLETAS | K33: NO REGISTRA | L33: 24032 | M33: 291 | N33: =ROUND((M33*(1+$N$13)),0) -> 312 | O33: =IF(N33=0,100*I33,I33*N33) -> 10695360 | P33: Sí | Q33: =(45.5*O33)/SUM($O$16:$O$1436) -> 0.0011580913
B34: 19 | C34: N02AJ06 | D34: ACETAMINOFEN + CODEINA | E34: (325+8)mg | F34: TABLETA | G34: ORAL | H34: NO REGISTRA | I34: 11160 | J34: WINADEINE 325/8 mg CAJA X 100 TABLETAS | K34: NO REGISTRA | L34: 27363 | M34: 262 | N34: =ROUND((M34*(1+$N$13)),0) -> 281 | O34: =IF(N34=0,100*I34,I34*N34) -> 3135960 | P34: Sí | Q34: =(45.5*O34)/SUM($O$16:$O$1436) -> 0.00033956108
B35: 20 | C35: N02BE51 | D35: ACETAMINOFEN + CODEINA | E35: (325+15)mg | F35: TABLETA | G35: ORAL | H35: NO REGISTRA | I35: 3300 | J35: ALGIMIDE 325/15 mg CAJA X 100 TABLETAS. | K35: NO REGISTRA | L35: 58027 | M35: 333 | N35: =ROUND((M35*(1+$N$13)),0) -> 357 | O35: =IF(N35=0,100*I35,I35*N35) -> 1178100 | P35: Sí | Q35: =(45.5*O35)/SUM($O$16:$O$1436) -> 0.00012756442
B36: 21 | C36: N02BE51 | D36: ACETAMINOFEN + CODEINA | E36: (325+8)mg | F36: TABLETA | G36: ORAL | H36: NO REGISTRA | I36: 2420 | J36: ACETAMINOFEN+CODEINA MK 325/8 mg CAJA X 20 TABLETAS | K36: NO REGISTRA | L36: 20031822 | M36: 262 | N36: =ROUND((M36*(1+$N$13)),0) -> 281 | O36: =IF(N36=0,100*I36,I36*N36) -> 680020 | Q36: =(45.5*O36)/SUM($O$16:$O$1436) -> 7.363242e-05
B37: 22 | C37: N02AJ06 | D37: ACETAMINOFEN + CODEINA | E37: (325+30)mg | F37: TABLETA | G37: ORAL | H37: NO REGISTRA | I37: 1 | J37: WINADEINE F 325/30 mg CAJA X 100 TABLETAS | K37: NO REGISTRA | L37: 51522 | M37: 291 | N37: =ROUND((M37*(1+$N$13)),0) -> 312 | O37: =IF(N37=0,100*I37,I37*N37) -> 312 | Q37: =(45.5*O37)/SUM($O$16:$O$1436) -> 3.3783293e-08
B38: 23 | C38: N02BE71 | D38: ACETAMINOFEN + CODEINA | E38: (325+30)mg | F38: TABLETA | G38: ORAL | H38: NO REGISTRA | I38: 1 | J38: ACETAMINOFEN+CODEINA 325/30 mg NOVAMED CAJA X 200 TABLETAS | K38: NO REGISTRA | L38: 20038519 | M38: 291 | N38: =ROUND((M38*(1+$N$13)),0) -> 312 | O38: =IF(N38=0,100*I38,I38*N38) -> 312 | Q38: =(45.5*O38)/SUM($O$16:$O$1436) -> 3.3783293e-08
B39: 24 | C39: N02AA59 | D39: ACETAMINOFEN + CODEINA | E39: (325+30)mg | F39: TABLETA | G39: ORAL | H39: NO REGISTRA | I39: 1 | J39: NODOL FORTE 325/30 mg CAJA X 100 TABLETAS | K39: NO REGISTRA | L39: 20046741 | M39: 291 | N39: =ROUND((M39*(1+$N$13)),0) -> 312 | O39: =IF(N39=0,100*I39,I39*N39) -> 312 | Q39: =(45.5*O39)/SUM($O$16:$O$1436) -> 3.3783293e-08
B40: 25 | C40: N02BE51 | D40: ACETAMINOFEN + CODEINA | E40: (325+8)mg | F40: TABLETA | G40: ORAL | H40: NO REGISTRA | I40: 1 | J40: NODOL SIMPLE 325/8 mg CAJA X 100 TABLETAS | K40: NO REGISTRA | L40: 20046832 | M40: 262 | N40: =ROUND((M40*(1+$N$13)),0) -> 281 | O40: =IF(N40=0,100*I40,I40*N40) -> 281 | Q40: =(45.5*O40)/SUM($O$16:$O$1436) -> 3.042662e-08
B41: 26 | C41: N02AA59 | D41: ACETAMINOFEN + CODEINA | E41: (325+30)mg | F41: TABLETA | G41: ORAL | H41: NO REGISTRA | I41: 1 | J41: ACODEIN 30/325 mg CAJA X 30 TABLETAS | K41: NO REGISTRA | L41: 20108542 | M41: 291 | N41: =ROUND((M41*(1+$N$13)),0) -> 312 | O41: =IF(N41=0,100*I41,I41*N41) -> 312 | Q41: =(45.5*O41)/SUM($O$16:$O$1436) -> 3.3783293e-08
B42: 27 | C42: N02BE51 | D42: ACETAMINOFEN + FENILEFRINA + CETIRIZINA | E42: 3%+0.1%+0.05% | F42: SOLUCION ORAL | G42: ORAL | H42: NO REGISTRA | I42: 8 | J42: NOXPIRIN JUNIOR JARABE X 120 mL | K42: NO REGISTRA | L42: 19978618 | N42: =ROUND((M42*(1+$N$13)),0) -> 0 | O42: =IF(N42=0,100*I42,I42*N42) -> 800 | Q42: =(45.5*O42)/SUM($O$16:$O$1436) -> 8.6623828e-08
B43: 28 | C43: N02BE51 | D43: ACETAMINOFEN + HIDROCODONA | E43: (325+5)mg | F43: TABLETA RECUBIERTA | G43: ORAL | H43: NO REGISTRA | I43: 87835 | J43: DOLOFF 5-325 X 30 TABLETAS RECUBIERTAS | K43: NO REGISTRA | L43: 20082896 | M43: 1495 | N43: =ROUND((M43*(1+$N$13)),0) -> 1603 | O43: =IF(N43=0,100*I43,I43*N43) -> 140799505 | P43: Sí | Q43: =(45.5*O43)/SUM($O$16:$O$1436) -> 0.01524574
B44: 29 | C44: N02BE71 | D44: ACETAMINOFEN + HIDROCODONA | E44: (325+5)mg | F44: TABLETA/CAPSULA/GRAGEA/COMPRIMIDO/PERLA | G44: ORAL | H44: TABLETA/CAPSULA/GRAGEA/COMPRIMIDO/PERLA | I44: 24154.545 | J44: ACETAMINOFEN + HIDROCODONA (SINALGEN) | K44: 20061322-5 | L44: 20061322 | M44: 1713 | N44: =ROUND((M44*(1+$N$13)),0) -> 1836 | O44: =IF(N44=0,100*I44,I44*N44) -> 44347745 | P44: Sí | Q44: =(45.5*O44)/SUM($O$16:$O$1436) -> 0.0048019644
B45: 30 | C45: N02BE71 | D45: ACETAMINOFEN + HIDROCODONA | E45: (325+10)mg | F45: TABLETA | G45: ORAL | H45: NO REGISTRA | I45: 7310 | J45: SINALGEN MAX 10/325 mg CAJA X 30 TABLETAS | K45: NO REGISTRA | L45: 20113430 | M45: 1806 | N45: =ROUND((M45*(1+$N$13)),0) -> 1936 | O45: =IF(N45=0,100*I45,I45*N45) -> 14152160 | P45: Sí | Q45: =(45.5*O45)/SUM($O$16:$O$1436) -> 0.0015323929
B46: 31 | C46: N02BE71 | D46: ACETAMINOFEN + HIDROCODONA | E46: (325+5)mg | F46: TABLETA | G46: ORAL | H46: NO REGISTRA | I46: 3310 | J46: FENALGEX 325/5 mg CAJA X 30 TABLETAS | K46: NO REGISTRA | L46: 20103181 | M46: 415 | N46: =ROUND((M46*(1+$N$13)),0) -> 445 | O46: =IF(N46=0,100*I46,I46*N46) -> 1472950 | P46: Sí | Q46: =(45.5*O46)/SUM($O$16:$O$1436) -> 0.00015949071
...

Sheet TEMP
A1: NO | B1: ATC | C1: PRINCIPIO ACTIVO | D1: COTIZACION + IPC SALUD 7.20%
A2: 586 | B2: A16AB17 | C2: CERLIPONASA | D2: 95515368
A3: 2743 | B3: B01AC21 | C3: TREPROSTINIL | D3: 70271639
A4: 10 | B4: N02BE01 | C4: ACETAMINOFEN | D4: 50300600
A5: 947 | B5: B02BX06 | C5: EMICIZUMAB | D5: 41077825
A6: 2744 | B6: B01AC21 | C6: TREPROSTINIL | D6: 35135819
A7: 759 | B7: L01XC24 | C7: DARATUMUMAB | D7: 28370060
A8: 1205 | B8: NO REGISTRA | C8: FORMULA LACTEA EXTENSAMENTE HIDROLIZADA (PURAMINO) | D8: 25347011
A9: 311 | B9: L01XC32 | C9: ATEZOLIZUMAB | D9: 22457441
A10: 2236 | B10: L03AX16 | C10: PLERIXAFOR | D10: 21448514
A11: 2742 | B11: B01AC21-2 | C11: TREPROSTINIL | D11: 17567910
A12: 1471 | B12: L01XC11 | C12: IPILIMUMAB | D12: 16808414
A13: 2053 | B13: L01XC15 | C13: OBINUTUZUMAB | D13: 15495867
... A2869: 2590 | B2869: NO REGISTRA | C2869: SUPLEMENTO DIETARIO A BASE DE POLIPEPTIDOS HIDROLIZADOS DE ORIGEN NATURAL | D2869: 0
A2870: 2591 | B2870: 0 | C2870: SUPLEMENTO DIETARIO A BASE DE PROBIOTICOS | D2870: 0
A2871: 2592 | B2871: NO REGISTRA | C2871: SUPLEMENTO DIETARIO A BASE DE PROBIOTICOS (MULTIFLORA PLUS) | D2871: 0
A2872: 2593 | B2872: NO REGISTRA | C2872: SUPLEMENTO DIETARIO CON VITAMINAS B12, B6, ÁCIDO FÓLICO Y BIOTINA (METHYL B-12 | D2872: 0
A2873: 2594 | B2873: NO REGISTRA | C2873: SUPLEMENTO DIETARIO INMUNOMODULADOR (FENSIKAN) | D2873: 0
A2874: 2595 | B2874: NO REGISTRA | C2874: SUPLEMENTO DIETARIO CON CITRATO DE MAGNESIO | D2874: 0
A2875: 2600 | B2875: NO REGISTRA | C2875: SUSTITUTO DE PLASMA | D2875: 0
A2876: 2609 | B2876: FORMULA MAGISTRAL | C2876: TACROLIMUS + ACIDO HIALURONICO | D2876: 0
A2877: 2613 | B2877: NO REGISTRA | C2877: TAFLUPROST | D2877: 0
A2878: 2625 | B2878: NO REGISTRA | C2878: TECLOZAN | D2878: 0
A2879: 2628 | B2879: C09CA07 | C2879: TELMISARTAN | D2879: 0
A2880: 2639 | B2880: NO REGISTRA | C2880: TEMSIROLIMUS | D2880: 0
A2881: 2654 | B2881: H05AA02 | C2881: TERIPARATIDA | D2881: 0
A2882: 2657 | B2882: G03BA03 | C2882: TESTOSTERONA | D2882: 0
... A2950: 8 | B2950: NO APLICA | C2950: ACEITE DE ONAGRA | D2950: 0
