Workbook

Sheet ANALISIS DE MERCADO
A3: ANEXO No. 5 CUADRO COMPARATIVO DE PRECIOS | D3: Energy Solution S.A.S | G3: ELECTRICIVILES SAS | J3: NARIÑO CREA SAS | M3: ANALISIS ESTADISTICO DE LAS FUENTES DE INFORMACION | W3: VARIABLES ESTADISTICAS PRECIO UNITARIO (IVA INCLUIDO
A4: CONSOLIDADO REPUESTOS | D4: COTIZACION 1 | G4: COTIZACION 2 | J4: COTIZACION 3 | M4: MENOR VALOR COTIZADO | N4: MAYOR VALOR COTIZADO | O4: PROMEDIO COTIZADO | P4: MEDIANA COTIZADO | Q4: MEDIA GEOMETRICA COTIZADO | R4: DESVIACION MENOR Y MAYOR VALOR COTIZADO | S4: % DISPERSIÓN | T4: VALOR DE REFERENCIA IVA INCLUIDO | U4: CRITERIO | V4: VALOR DE REFERENCIA REDONDEADO
A5: Ítem | B5: Descripción Elementos | C5: Cant. | D5: Valor Unitario | E5: IVA | F5: Valor Total Unitario IVA INCLUIDO | G5: Valor Unitario | H5: IVA | I5: Valor Total Unitario IVA INCLUIDO | J5: Valor Unitario | K5: IVA | L5: Valor Total Unitario IVA INCLUIDO | W5: PROMEDIO (Valor Unitario IVA Incluido) | X5: DESVIACION ESTANDAR | Y5: COEFICIENTE DE VARIACIÓN
A6: 1 | B6: PATCH CORD FIBRA ÓPTICA MULTIMODAL DUPLEX SC-SC - 3 METROS | C6: 1 | D6: ='Energy Solution S.A.S'!D6 -> 166758.53 | E6: ='Energy Solution S.A.S'!E6 -> 31684 | F6: ='Energy Solution S.A.S'!F6 -> 198442.53 | G6: ='ELECTRICIVILES SAS'!D6 -> 182202.35 | H6: ='ELECTRICIVILES SAS'!E6 -> 34618 | I6: ='ELECTRICIVILES SAS'!F6 -> 216820.35 | J6: ='NARIÑO CREA SAS'!D6 -> 206582.76 | K6: ='NARIÑO CREA SAS'!E6 -> 39251 | L6: ='NARIÑO CREA SAS'!F6 -> 245833.76 | M6: =MIN(F6,I6,L6) -> 198442.53 | N6: =MAX(F6,I6,L6) -> 245833.76 | O6: =AVERAGE(F6,I6,L6) -> 220365.55 | P6: =MEDIAN(F6,I6,L6) -> 216820.35 | Q6: =GEOMEAN(F6,I6,L6) -> 219512.26 | R6: =STDEVA(N6,O6) -> 18008.746 | S6: =R6/M6 -> 0.090750434 | T6: =IF(S6<=5%,M6,O6) -> 220365.55 | U6: =IF(T6=M6,"MENOR VALOR","PROMEDIO") -> PROMEDIO | V6: =ROUND(T6,0) -> 220366 | W6: =ROUND(AVERAGE(F6,I6,L6),0) -> 220366 | X6: =ROUND(STDEVA(D6,G6,J6),0) -> 20079 | Y6: =X6/W6 -> 0.091116597
A7: =A6+1 -> 2 | B7: PATCH CORD FIBRA ÓPTICA MULTIMODAL DUPLEX PC-SC - 3 METROS | C7: 1 | D7: ='Energy Solution S.A.S'!D7 -> 159453.74 | E7: ='Energy Solution S.A.S'!E7 -> 30296 | F7: ='Energy Solution S.A.S'!F7 -> 189749.74 | G7: ='ELECTRICIVILES SAS'!D7 -> 191995.32 | H7: ='ELECTRICIVILES SAS'!E7 -> 36479 | I7: ='ELECTRICIVILES SAS'!F7 -> 228474.32 | J7: ='NARIÑO CREA SAS'!D7 -> 195037.96 | K7: ='NARIÑO CREA SAS'!E7 -> 37057 | L7: ='NARIÑO CREA SAS'!F7 -> 232094.96 | M7: =MIN(F7,I7,L7) -> 189749.74 | N7: =MAX(F7,I7,L7) -> 232094.96 | O7: =AVERAGE(F7,I7,L7) -> 216773.01 | P7: =MEDIAN(F7,I7,L7) -> 228474.32 | Q7: =GEOMEAN(F7,I7,L7) -> 215887.8 | R7: =STDEVA(N7,O7) -> 10834.256 | S7: =R7/M7 -> 0.057097606 | T7: =IF(S7<=5%,M7,O7) -> 216773.01 | U7: =IF(T7=M7,"MENOR VALOR","PROMEDIO") -> PROMEDIO | V7: =ROUND(T7,0) -> 216773 | W7: =ROUND(AVERAGE(F7,I7,L7),0) -> 216773 | X7: =ROUND(STDEVA(D7,G7,J7),0) -> 19725 | Y7: =X7/W7 -> 0.090993805
A8: =A7+1 -> 3 | B8: CINTA PARA BACKUP HP LTO 7 ULTRIUM 6TB RW DATA + LABEL | C8: 1 | D8: ='Energy Solution S.A.S'!D8 -> 1924106.7 | E8: ='Energy Solution S.A.S'!E8 -> 365580 | F8: ='Energy Solution S.A.S'!F8 -> 2289686.7 | G8: ='ELECTRICIVILES SAS'!D8 -> 1905095.1 | H8: ='ELECTRICIVILES SAS'!E8 -> 361968 | I8: ='ELECTRICIVILES SAS'!F8 -> 2267063.1 | J8: ='NARIÑO CREA SAS'!D8 -> 1562613 | K8: ='NARIÑO CREA SAS'!E8 -> 296896 | L8: ='NARIÑO CREA SAS'!F8 -> 1859509 | M8: =MIN(F8,I8,L8) -> 1859509 | N8: =MAX(F8,I8,L8) -> 2289686.7 | O8: =AVERAGE(F8,I8,L8) -> 2138752.9 | P8: =MEDIAN(F8,I8,L8) -> 2267063.1 | Q8: =GEOMEAN(F8,I8,L8) -> 2129181.3 | R8: =STDEVA(N8,O8) -> 106726.26 | S8: =R8/M8 -> 0.057394863 | T8: =IF(S8<=5%,M8,O8) -> 2138752.9 | U8: =IF(T8=M8,"MENOR VALOR","PROMEDIO") -> PROMEDIO | V8: =ROUND(T8,0) -> 2138753 | W8: =ROUND(AVERAGE(F8,I8,L8),0) -> 2138753 | X8: =ROUND(STDEVA(D8,G8,J8),0) -> 203442 | Y8: =X8/W8 -> 0.095121784
A9: =A8+1 -> 4 | B9: CINTA PARA BACKUP HP LTO 8 ULTRIUM 12TB RW DATA + LABEL | C9: 1 | D9: ='Energy Solution S.A.S'!D9 -> 2240642.7 | E9: ='Energy Solution S.A.S'!E9 -> 425722 | F9: ='Energy Solution S.A.S'!F9 -> 2666364.7 | G9: ='ELECTRICIVILES SAS'!D9 -> 2775074.7 | H9: ='ELECTRICIVILES SAS'!E9 -> 527264 | I9: ='ELECTRICIVILES SAS'!F9 -> 3302338.7 | J9: ='NARIÑO CREA SAS'!D9 -> 2890460 | K9: ='NARIÑO CREA SAS'!E9 -> 549187 | L9: ='NARIÑO CREA SAS'!F9 -> 3439647 | M9: =MIN(F9,I9,L9) -> 2666364.7 | N9: =MAX(F9,I9,L9) -> 3439647 | O9: =AVERAGE(F9,I9,L9) -> 3136116.8 | P9: =MEDIAN(F9,I9,L9) -> 3302338.7 | Q9: =GEOMEAN(F9,I9,L9) -> 3117106.8 | R9: =STDEVA(N9,O9) -> 214628.28 | S9: =R9/M9 -> 0.080494721 | T9: =IF(S9<=5%,M9,O9) -> 3136116.8 | U9: =IF(T9=M9,"MENOR VALOR","PROMEDIO") -> PROMEDIO | V9: =ROUND(T9,0) -> 3136117 | W9: =ROUND(AVERAGE(F9,I9,L9),0) -> 3136117 | X9: =ROUND(STDEVA(D9,G9,J9),0) -> 346697 | Y9: =X9/W9 -> 0.11054977
A10: =A9+1 -> 5 | B10: HPE MSL LTO-7 FC DRIVE UPGRADE KIT P/N:N7P36A | C10: 1 | D10: ='Energy Solution S.A.S'!D10 -> 27203109 | E10: ='Energy Solution S.A.S'!E10 -> 5168591 | F10: ='Energy Solution S.A.S'!F10 -> 32371700 | G10: ='ELECTRICIVILES SAS'!D10 -> 27369054 | H10: ='ELECTRICIVILES SAS'!E10 -> 5200120 | I10: ='ELECTRICIVILES SAS'!F10 -> 32569174 | J10: ='NARIÑO CREA SAS'!D10 -> 21941821 | K10: ='NARIÑO CREA SAS'!E10 -> 4168946 | L10: ='NARIÑO CREA SAS'!F10 -> 26110767 | M10: =MIN(F10,I10,L10) -> 26110767 | N10: =MAX(F10,I10,L10) -> 32569174 | O10: =AVERAGE(F10,I10,L10) -> 30350547 | P10: =MEDIAN(F10,I10,L10) -> 32371700 | Q10: =GEOMEAN(F10,I10,L10) -> 30194694 | R10: =STDEVA(N10,O10) -> 1568806.2 | S10: =R10/M10 -> 0.060082731 | T10: =IF(S10<=5%,M10,O10) -> 30350547 | U10: =IF(T10=M10,"MENOR VALOR","PROMEDIO") -> PROMEDIO | V10: =ROUND(T10,0) -> 30350547 | W10: =ROUND(AVERAGE(F10,I10,L10),0) -> 30350547 | X10: =ROUND(STDEVA(D10,G10,J10),0) -> 3086626 | Y10: =X10/W10 -> 0.10169919
A11: =A10+1 -> 6 | B11: HPE SYNERGY12000 CTO FRAME 1XFLM 10X FAN P/N:797740-B21 | C11: 1 | D11: ='Energy Solution S.A.S'!D11 -> 48593615 | E11: ='Energy Solution S.A.S'!E11 -> 9232787 | F11: ='Energy Solution S.A.S'!F11 -> 57826402 | G11: ='ELECTRICIVILES SAS'!D11 -> 37892221 | H11: ='ELECTRICIVILES SAS'!E11 -> 7199522 | I11: ='ELECTRICIVILES SAS'!F11 -> 45091743 | J11: ='NARIÑO CREA SAS'!D11 -> 40702344 | K11: ='NARIÑO CREA SAS'!E11 -> 7733445 | L11: ='NARIÑO CREA SAS'!F11 -> 48435789 | M11: =MIN(F11,I11,L11) -> 45091743 | N11: =MAX(F11,I11,L11) -> 57826402 | O11: =AVERAGE(F11,I11,L11) -> 50451312 | P11: =MEDIAN(F11,I11,L11) -> 48435789 | Q11: =GEOMEAN(F11,I11,L11) -> 50172206 | R11: =STDEVA(N11,O11) -> 5214976.6 | S11: =R11/M11 -> 0.11565258 | T11: =IF(S11<=5%,M11,O11) -> 50451312 | U11: =IF(T11=M11,"MENOR VALOR","PROMEDIO") -> PROMEDIO | V11: =ROUND(T11,0) -> 50451312 | W11: =ROUND(AVERAGE(F11,I11,L11),0) -> 50451312 | X11: =ROUND(STDEVA(D11,G11,J11),0) -> 5548104 | Y11: =X11/W11 -> 0.10996947
A12: =A11+1 -> 7 | B12: HPE SY 480 GEN10 CTO CMPT MDL P/N:871940-B21 | D12: ='Energy Solution S.A.S'!D12 -> 32716734 | E12: ='Energy Solution S.A.S'!E12 -> 6216179 | F12: ='Energy Solution S.A.S'!F12 -> 38932913 | G12: ='ELECTRICIVILES SAS'!D12 -> 34370220 | H12: ='ELECTRICIVILES SAS'!E12 -> 6530342 | I12: ='ELECTRICIVILES SAS'!F12 -> 40900562 | J12: ='NARIÑO CREA SAS'!D12 -> 36980499 | K12: ='NARIÑO CREA SAS'!E12 -> 7026295 | L12: ='NARIÑO CREA SAS'!F12 -> 44006794 | M12: =MIN(F12,I12,L12) -> 38932913 | N12: =MAX(F12,I12,L12) -> 44006794 | O12: =AVERAGE(F12,I12,L12) -> 41280089 | P12: =MEDIAN(F12,I12,L12) -> 40900562 | Q12: =GEOMEAN(F12,I12,L12) -> 41227655 | R12: =STDEVA(N12,O12) -> 1928071.1 | S12: =R12/M12 -> 0.04952291 | T12: =IF(S12<=5%,M12,O12) -> 38932913 | U12: =IF(T12=M12,"MENOR VALOR","PROMEDIO") -> MENOR VALOR | V12: =ROUND(T12,0) -> 38932913 | W12: =ROUND(AVERAGE(F12,I12,L12),0) -> 41280089 | X12: =ROUND(STDEVA(D12,G12,J12),0) -> 2149700 | Y12: =X12/W12 -> 0.052075954
A13: =A12+1 -> 8 | B13: HPE SY 480/660 GEN10 XEON-G 5218 FIO KIT P/N:P07342-L21 | C13: 1 | D13: ='Energy Solution S.A.S'!D13 -> 7409298.7 | E13: ='Energy Solution S.A.S'!E13 -> 1407767 | F13: ='Energy Solution S.A.S'!F13 -> 8817065.7 | G13: ='ELECTRICIVILES SAS'!D13 -> 6781272.4 | H13: ='ELECTRICIVILES SAS'!E13 -> 1288442 | I13: ='ELECTRICIVILES SAS'!F13 -> 8069714.4 | J13: ='NARIÑO CREA SAS'!D13 -> 8407310.1 | K13: ='NARIÑO CREA SAS'!E13 -> 1597389 | L13: ='NARIÑO CREA SAS'!F13 -> 10004699 | M13: =MIN(F13,I13,L13) -> 8069714.4 | N13: =MAX(F13,I13,L13) -> 10004699 | O13: =AVERAGE(F13,I13,L13) -> 8963826.4 | P13: =MEDIAN(F13,I13,L13) -> 8817065.7 | Q13: =GEOMEAN(F13,I13,L13) -> 8928847.9 | R13: =STDEVA(N13,O13) -> 736008.12 | S13: =R13/M13 -> 0.091206217 | T13: =IF(S13<=5%,M13,O13) -> 8963826.4 | U13: =IF(T13=M13,"MENOR VALOR","PROMEDIO") -> PROMEDIO | V13: =ROUND(T13,0) -> 8963826 | W13: =ROUND(AVERAGE(F13,I13,L13),0) -> 8963826 | X13: =ROUND(STDEVA(D13,G13,J13),0) -> 820004 | Y13: =X13/W13 -> 0.091479241
A14: =A13+1 -> 9 | B14: HPE SY 480/660 GEN10 XEON-G 5218 KIT P/N:P07342-B21 | C14: 1 | D14: ='Energy Solution S.A.S'!D14 -> 7956847.1 | E14: ='Energy Solution S.A.S'!E14 -> 1511801 | F14: ='Energy Solution S.A.S'!F14 -> 9468648.1 | G14: ='ELECTRICIVILES SAS'!D14 -> 6608228.9 | H14: ='ELECTRICIVILES SAS'!E14 -> 1255563 | I14: ='ELECTRICIVILES SAS'!F14 -> 7863791.9 | J14: ='NARIÑO CREA SAS'!D14 -> 7889416.1 | K14: ='NARIÑO CREA SAS'!E14 -> 1498989 | L14: ='NARIÑO CREA SAS'!F14 -> 9388405.1 | M14: =MIN(F14,I14,L14) -> 7863791.9 | N14: =MAX(F14,I14,L14) -> 9468648.1 | O14: =AVERAGE(F14,I14,L14) -> 8906948.4 | P14: =MEDIAN(F14,I14,L14) -> 9388405.1 | Q14: =GEOMEAN(F14,I14,L14) -> 8875045.8 | R14: =STDEVA(N14,O14) -> 397181.66 | S14: =R14/M14 -> 0.050507651 | T14: =IF(S14<=5%,M14,O14) -> 8906948.4 | U14: =IF(T14=M14,"MENOR VALOR","PROMEDIO") -> PROMEDIO | V14: =ROUND(T14,0) -> 8906948 | W14: =ROUND(AVERAGE(F14,I14,L14),0) -> 8906948 | X14: =ROUND(STDEVA(D14,G14,J14),0) -> 759908 | Y14: =X14/W14 -> 0.085316317
A15: =A14+1 -> 10 | B15: HPE 64GB 4RX4 PC4-2933Y-L SMART KIT P/N:P00926-B21 | C15: 1 | D15: ='Energy Solution S.A.S'!D15 -> 3874979 | E15: ='Energy Solution S.A.S'!E15 -> 736246 | F15: ='Energy Solution S.A.S'!F15 -> 4611225 | G15: ='ELECTRICIVILES SAS'!D15 -> 4310369.9 | H15: ='ELECTRICIVILES SAS'!E15 -> 818970 | I15: ='ELECTRICIVILES SAS'!F15 -> 5129339.9 | J15: ='NARIÑO CREA SAS'!D15 -> 4351079 | K15: ='NARIÑO CREA SAS'!E15 -> 826705 | L15: ='NARIÑO CREA SAS'!F15 -> 5177784 | M15: =MIN(F15,I15,L15) -> 4611225 | N15: =MAX(F15,I15,L15) -> 5177784 | O15: =AVERAGE(F15,I15,L15) -> 4972783 | P15: =MEDIAN(F15,I15,L15) -> 5129339.9 | Q15: =GEOMEAN(F15,I15,L15) -> 4966006 | R15: =STDEVA(N15,O15) -> 144957.6 | S15: =R15/M15 -> 0.031435811 | T15: =IF(S15<=5%,M15,O15) -> 4611225 | U15: =IF(T15=M15,"MENOR VALOR","PROMEDIO") -> MENOR VALOR | V15: =ROUND(T15,0) -> 4611225 | W15: =ROUND(AVERAGE(F15,I15,L15),0) -> 4972783 | X15: =ROUND(STDEVA(D15,G15,J15),0) -> 263911 | Y15: =X15/W15 -> 0.053071087
A16: =A15+1 -> 11 | B16: HPE 240GB SATA RI SFF SC DS SSD P/N:P04556-B21 | C16: 1 | D16: ='Energy Solution S.A.S'!D16 -> 18617661 | E16: ='Energy Solution S.A.S'!E16 -> 3537356 | F16: ='Energy Solution S.A.S'!F16 -> 22155017 | G16: ='ELECTRICIVILES SAS'!D16 -> 18510218 | H16: ='ELECTRICIVILES SAS'!E16 -> 3516941 | I16: ='ELECTRICIVILES SAS'!F16 -> 22027159 | J16: ='NARIÑO CREA SAS'!D16 -> 16574693 | K16: ='NARIÑO CREA SAS'!E16 -> 3149192 | L16: ='NARIÑO CREA SAS'!F16 -> 19723885 | M16: =MIN(F16,I16,L16) -> 19723885 | N16: =MAX(F16,I16,L16) -> 22155017 | O16: =AVERAGE(F16,I16,L16) -> 21302020 | P16: =MEDIAN(F16,I16,L16) -> 22027159 | Q16: =GEOMEAN(F16,I16,L16) -> 21271968 | R16: =STDEVA(N16,O16) -> 603159.61 | S16: =R16/M16 -> 0.030580162 | T16: =IF(S16<=5%,M16,O16) -> 19723885 | U16: =IF(T16=M16,"MENOR VALOR","PROMEDIO") -> MENOR VALOR | V16: =ROUND(T16,0) -> 19723885 | W16: =ROUND(AVERAGE(F16,I16,L16),0) -> 21302020 | X16: =ROUND(STDEVA(D16,G16,J16),0) -> 1149747 | Y16: =X16/W16 -> 0.053973614
A17: =A16+1 -> 12 | B17: HPE 96W SMART STORAGE BATTERY 260MM CBL P/N:P01367-B21 | C17: 1 | D17: ='Energy Solution S.A.S'!D17 -> 1208992.7 | E17: ='Energy Solution S.A.S'!E17 -> 229709 | F17: ='Energy Solution S.A.S'!F17 -> 1438701.7 | G17: ='ELECTRICIVILES SAS'!D17 -> 1366374.6 | H17: ='ELECTRICIVILES SAS'!E17 -> 259611 | I17: ='ELECTRICIVILES SAS'!F17 -> 1625985.6 | J17: ='NARIÑO CREA SAS'!D17 -> 1400353.7 | K17: ='NARIÑO CREA SAS'!E17 -> 266067 | L17: ='NARIÑO CREA SAS'!F17 -> 1666420.7 | M17: =MIN(F17,I17,L17) -> 1438701.7 | N17: =MAX(F17,I17,L17) -> 1666420.7 | O17: =AVERAGE(F17,I17,L17) -> 1577036 | P17: =MEDIAN(F17,I17,L17) -> 1625985.6 | Q17: =GEOMEAN(F17,I17,L17) -> 1573828.4 | R17: =STDEVA(N17,O17) -> 63204.564 | S17: =R17/M17 -> 0.043931669 | T17: =IF(S17<=5%,M17,O17) -> 1438701.7 | U17: =IF(T17=M17,"MENOR VALOR","PROMEDIO") -> MENOR VALOR | V17: =ROUND(T17,0) -> 1438702 | W17: =ROUND(AVERAGE(F17,I17,L17),0) -> 1577036 | X17: =ROUND(STDEVA(D17,G17,J17),0) -> 102097 | Y17: =X17/W17 -> 0.064739803
A18: =A17+1 -> 13 | B18: HPE SMART ARRAY P204I-C SR GEN10 CTRLR P/N:804424-B21 | C18: 1 | D18: ='Energy Solution S.A.S'!D18 -> 1563628.6 | E18: ='Energy Solution S.A.S'!E18 -> 297089 | F18: ='Energy Solution S.A.S'!F18 -> 1860717.6 | G18: ='ELECTRICIVILES SAS'!D18 -> 2005223.4 | H18: ='ELECTRICIVILES SAS'!E18 -> 380992 | I18: ='ELECTRICIVILES SAS'!F18 -> 2386215.4 | J18: ='NARIÑO CREA SAS'!D18 -> 1906333.3 | K18: ='NARIÑO CREA SAS'!E18 -> 362203 | L18: ='NARIÑO CREA SAS'!F18 -> 2268536.3 | M18: =MIN(F18,I18,L18) -> 1860717.6 | N18: =MAX(F18,I18,L18) -> 2386215.4 | O18: =AVERAGE(F18,I18,L18) -> 2171823.1 | P18: =MEDIAN(F18,I18,L18) -> 2268536.3 | Q18: =GEOMEAN(F18,I18,L18) -> 2159626.4 | R18: =STDEVA(N18,O18) -> 151598.23 | S18: =R18/M18 -> 0.081472991 | T18: =IF(S18<=5%,M18,O18) -> 2171823.1 | U18: =IF(T18=M18,"MENOR VALOR","PROMEDIO") -> PROMEDIO | V18: =ROUND(T18,0) -> 2171823 | W18: =ROUND(AVERAGE(F18,I18,L18),0) -> 2171823 | X18: =ROUND(STDEVA(D18,G18,J18),0) -> 231744 | Y18: =X18/W18 -> 0.10670483
A19: =A18+1 -> 14 | B19: HPE SYNERGY 3820C 10/20GB CNA P/N:777430-B21 | C19: 1 | D19: ='Energy Solution S.A.S'!D19 -> 16425029 | E19: ='Energy Solution S.A.S'!E19 -> 3120755 | F19: ='Energy Solution S.A.S'!F19 -> 19545784 | G19: ='ELECTRICIVILES SAS'!D19 -> 14305670 | H19: ='ELECTRICIVILES SAS'!E19 -> 2718077 | I19: ='ELECTRICIVILES SAS'!F19 -> 17023747 | J19: ='NARIÑO CREA SAS'!D19 -> 15769352 | K19: ='NARIÑO CREA SAS'!E19 -> 2996177 | L19: ='NARIÑO CREA SAS'!F19 -> 18765529 | M19: =MIN(F19,I19,L19) -> 17023747 | N19: =MAX(F19,I19,L19) -> 19545784 | O19: =AVERAGE(F19,I19,L19) -> 18445020 | P19: =MEDIAN(F19,I19,L19) -> 18765529 | Q19: =GEOMEAN(F19,I19,L19) -> 18414348 | R19: =STDEVA(N19,O19) -> 778357.48 | S19: =R19/M19 -> 0.045721865 | T19: =IF(S19<=5%,M19,O19) -> 17023747 | U19: =IF(T19=M19,"MENOR VALOR","PROMEDIO") -> MENOR VALOR | V19: =ROUND(T19,0) -> 17023747 | W19: =ROUND(AVERAGE(F19,I19,L19),0) -> 18445020 | X19: =ROUND(STDEVA(D19,G19,J19),0) -> 1085047 | Y19: =X19/W19 -> 0.058826014
A20: =A19+1 -> 15 | B20: HPE SYNERGY 3830C 16G FC HBA P/N:777452-B21 | C20: 1 | D20: ='Energy Solution S.A.S'!D20 -> 733442.76 | E20: ='Energy Solution S.A.S'!E20 -> 139354 | F20: ='Energy Solution S.A.S'!F20 -> 872796.76 | G20: ='ELECTRICIVILES SAS'!D20 -> 801368.26 | H20: ='ELECTRICIVILES SAS'!E20 -> 152260 | I20: ='ELECTRICIVILES SAS'!F20 -> 953628.26 | J20: ='NARIÑO CREA SAS'!D20 -> 908598.96 | K20: ='NARIÑO CREA SAS'!E20 -> 172634 | L20: ='NARIÑO CREA SAS'!F20 -> 1081233 | M20: =MIN(F20,I20,L20) -> 872796.76 | N20: =MAX(F20,I20,L20) -> 1081233 | O20: =AVERAGE(F20,I20,L20) -> 969219.33 | P20: =MEDIAN(F20,I20,L20) -> 953628.26 | Q20: =GEOMEAN(F20,I20,L20) -> 965466.42 | R20: =STDEVA(N20,O20) -> 79205.602 | S20: =R20/M20 -> 0.090749194 | T20: =IF(S20<=5%,M20,O20) -> 969219.33 | U20: =IF(T20=M20,"MENOR VALOR","PROMEDIO") -> PROMEDIO | V20: =ROUND(T20,0) -> 969219 | W20: =ROUND(AVERAGE(F20,I20,L20),0) -> 969219 | X20: =ROUND(STDEVA(D20,G20,J20),0) -> 88310 | Y20: =X20/W20 -> 0.091114598
A21: =A20+1 -> 16 | B21: HPE 64GB 2RX4 PC4-2933Y-R SMART KIT P/N:P00930-B21 | D21: ='Energy Solution S.A.S'!D21 -> 4023204.6 | E21: ='Energy Solution S.A.S'!E21 -> 764409 | F21: ='Energy Solution S.A.S'!F21 -> 4787613.6 | G21: ='ELECTRICIVILES SAS'!D21 -> 4546929.5 | H21: ='ELECTRICIVILES SAS'!E21 -> 863917 | I21: ='ELECTRICIVILES SAS'!F21 -> 5410846.5 | J21: ='NARIÑO CREA SAS'!D21 -> 4660003.1 | K21: ='NARIÑO CREA SAS'!E21 -> 885401 | L21: ='NARIÑO CREA SAS'!F21 -> 5545404.1 | M21: =MIN(F21,I21,L21) -> 4787613.6 | N21: =MAX(F21,I21,L21) -> 5545404.1 | O21: =AVERAGE(F21,I21,L21) -> 5247954.7 | P21: =MEDIAN(F21,I21,L21) -> 5410846.5 | Q21: =GEOMEAN(F21,I21,L21) -> 5237280.5 | R21: =STDEVA(N21,O21) -> 210328.48 | S21: =R21/M21 -> 0.0439318 | T21: =IF(S21<=5%,M21,O21) -> 4787613.6 | U21: =IF(T21=M21,"MENOR VALOR","PROMEDIO") -> MENOR VALOR | V21: =ROUND(T21,0) -> 4787614 | W21: =ROUND(AVERAGE(F21,I21,L21),0) -> 5247955 | X21: =ROUND(STDEVA(D21,G21,J21),0) -> 339751 | Y21: =X21/W21 -> 0.064739694
A22: =A21+1 -> 17 | B22: HPE 32GB 2RX4 PC4-2933Y-R SMART KIT P/N:P00924-B21 | C22: 1 | D22: ='Energy Solution S.A.S'!D22 -> 2266116.9 | E22: ='Energy Solution S.A.S'!E22 -> 430562 | F22: ='Energy Solution S.A.S'!F22 -> 2696678.9 | G22: ='ELECTRICIVILES SAS'!D22 -> 2274387.4 | H22: ='ELECTRICIVILES SAS'!E22 -> 432134 | I22: ='ELECTRICIVILES SAS'!F22 -> 2706521.4 | J22: ='NARIÑO CREA SAS'!D22 -> 2003900.6 | K22: ='NARIÑO CREA SAS'!E22 -> 380741 | L22: ='NARIÑO CREA SAS'!F22 -> 2384641.6 | M22: =MIN(F22,I22,L22) -> 2384641.6 | N22: =MAX(F22,I22,L22) -> 2706521.4 | O22: =AVERAGE(F22,I22,L22) -> 2595947.3 | P22: =MEDIAN(F22,I22,L22) -> 2696678.9 | Q22: =GEOMEAN(F22,I22,L22) -> 2591520.2 | R22: =STDEVA(N22,O22) -> 78187.685 | S22: =R22/M22 -> 0.032788023 | T22: =IF(S22<=5%,M22,O22) -> 2384641.6 | U22: =IF(T22=M22,"MENOR VALOR","PROMEDIO") -> MENOR VALOR | V22: =ROUND(T22,0) -> 2384642 | W22: =ROUND(AVERAGE(F22,I22,L22),0) -> 2595947 | X22: =ROUND(STDEVA(D22,G22,J22),0) -> 153834 | Y22: =X22/W22 -> 0.059259299
A23: =A22+1 -> 18 | B23: HPE 480GB SATA RI SFF SC DS SSD P/N:P04560-B21 | C23: 1 | D23: ='Energy Solution S.A.S'!D23 -> 6695770.8 | E23: ='Energy Solution S.A.S'!E23 -> 1272196 | F23: ='Energy Solution S.A.S'!F23 -> 7967966.8 | G23: ='ELECTRICIVILES SAS'!D23 -> 5820018.3 | H23: ='ELECTRICIVILES SAS'!E23 -> 1105803 | I23: ='ELECTRICIVILES SAS'!F23 -> 6925821.3 | J23: ='NARIÑO CREA SAS'!D23 -> 6049985.8 | K23: ='NARIÑO CREA SAS'!E23 -> 1149497 | L23: ='NARIÑO CREA SAS'!F23 -> 7199482.8 | M23: =MIN(F23,I23,L23) -> 6925821.3 | N23: =MAX(F23,I23,L23) -> 7967966.8 | O23: =AVERAGE(F23,I23,L23) -> 7364423.6 | P23: =MEDIAN(F23,I23,L23) -> 7199482.8 | Q23: =GEOMEAN(F23,I23,L23) -> 7351456.1 | R23: =STDEVA(N23,O23) -> 426769.45 | S23: =R23/M23 -> 0.061620049 | T23: =IF(S23<=5%,M23,O23) -> 7364423.6 | U23: =IF(T23=M23,"MENOR VALOR","PROMEDIO") -> PROMEDIO | V23: =ROUND(T23,0) -> 7364424 | W23: =ROUND(AVERAGE(F23,I23,L23),0) -> 7364424 | X23: =ROUND(STDEVA(D23,G23,J23),0) -> 454031 | Y23: =X23/W23 -> 0.061651936
A24: =A23+1 -> 19 | B24: HPE VC SE 40GB F8 MODULE P/N:794502-B23 | C24: 1 | D24: ='Energy Solution S.A.S'!D24 -> 6016687.6 | E24: ='Energy Solution S.A.S'!E24 -> 1143171 | F24: ='Energy Solution S.A.S'!F24 -> 7159858.6 | G24: ='ELECTRICIVILES SAS'!D24 -> 6053390.8 | H24: ='ELECTRICIVILES SAS'!E24 -> 1150144 | I24: ='ELECTRICIVILES SAS'!F24 -> 7203534.8 | J24: ='NARIÑO CREA SAS'!D24 -> 4853014.5 | K24: ='NARIÑO CREA SAS'!E24 -> 922073 | L24: ='NARIÑO CREA SAS'!F24 -> 5775087.5 | M24: =MIN(F24,I24,L24) -> 5775087.5 | N24: =MAX(F24,I24,L24) -> 7203534.8 | O24: =AVERAGE(F24,I24,L24) -> 6712827 | P24: =MEDIAN(F24,I24,L24) -> 7159858.6 | Q24: =GEOMEAN(F24,I24,L24) -> 6678355.9 | R24: =STDEVA(N24,O24) -> 346982.8 | S24: =R24/M24 -> 0.060082692 | T24: =IF(S24<=5%,M24,O24) -> 6712827 | U24: =IF(T24=M24,"MENOR VALOR","PROMEDIO") -> PROMEDIO | V24: =ROUND(T24,0) -> 6712827 | W24: =ROUND(AVERAGE(F24,I24,L24),0) -> 6712827 | X24: =ROUND(STDEVA(D24,G24,J24),0) -> 682689 | Y24: =X24/W24 -> 0.10169918
A25: =A24+1 -> 20 | B25: HPE B-SERIES 16GB SFP+SW XCVR P/N:QK724A | C25: 1 | D25: ='Energy Solution S.A.S'!D25 -> 1787815.1 | E25: ='Energy Solution S.A.S'!E25 -> 339685 | F25: ='Energy Solution S.A.S'!F25 -> 2127500.1 | G25: ='ELECTRICIVILES SAS'!D25 -> 1701806.7 | H25: ='ELECTRICIVILES SAS'!E25 -> 323343 | I25: ='ELECTRICIVILES SAS'!F25 -> 2025149.7 | J25: ='NARIÑO CREA SAS'!D25 -> 1924493.1 | K25: ='NARIÑO CREA SAS'!E25 -> 365654 | L25: ='NARIÑO CREA SAS'!F25 -> 2290147.1 | M25: =MIN(F25,I25,L25) -> 2025149.7 | N25: =MAX(F25,I25,L25) -> 2290147.1 | O25: =AVERAGE(F25,I25,L25) -> 2147599 | P25: =MEDIAN(F25,I25,L25) -> 2127500.1 | Q25: =GEOMEAN(F25,I25,L25) -> 2144848.9 | R25: =STDEVA(N25,O25) -> 100796.74 | S25: =R25/M25 -> 0.04977249 | T25: =IF(S25<=5%,M25,O25) -> 2025149.7 | U25: =IF(T25=M25,"MENOR VALOR","PROMEDIO") -> MENOR VALOR | V25: =ROUND(T25,0) -> 2025150 | W25: =ROUND(AVERAGE(F25,I25,L25),0) -> 2147599 | X25: =ROUND(STDEVA(D25,G25,J25),0) -> 112300 | Y25: =X25/W25 -> 0.052290954
A26: =A25+1 -> 21 | B26: HP BLC QSFP+ TO QSFP+ DAC 3M OPTION P/N:9CP950020F | C26: 1 | D26: ='Energy Solution S.A.S'!D26 -> 3583708.6 | E26: ='Energy Solution S.A.S'!E26 -> 680905 | F26: ='Energy Solution S.A.S'!F26 -> 4264613.6 | G26: ='ELECTRICIVILES SAS'!D26 -> 3221717.9 | H26: ='ELECTRICIVILES SAS'!E26 -> 612126 | I26: ='ELECTRICIVILES SAS'!F26 -> 3833843.9 | J26: ='NARIÑO CREA SAS'!D26 -> 3565609.1 | K26: ='NARIÑO CREA SAS'!E26 -> 677466 | L26: ='NARIÑO CREA SAS'!F26 -> 4243075.1 | M26: =MIN(F26,I26,L26) -> 3833843.9 | N26: =MAX(F26,I26,L26) -> 4264613.6 | O26: =AVERAGE(F26,I26,L26) -> 4113844.2 | P26: =MEDIAN(F26,I26,L26) -> 4243075.1 | Q26: =GEOMEAN(F26,I26,L26) -> 4108957.1 | R26: =STDEVA(N26,O26) -> 106610.09 | S26: =R26/M26 -> 0.027807625 | T26: =IF(S26<=5%,M26,O26) -> 3833843.9 | U26: =IF(T26=M26,"MENOR VALOR","PROMEDIO") -> MENOR VALOR | V26: =ROUND(T26,0) -> 3833844 | W26: =ROUND(AVERAGE(F26,I26,L26),0) -> 4113844 | X26: =ROUND(STDEVA(D26,G26,J26),0) -> 203971 | Y26: =X26/W26 -> 0.049581608
A27: =A26+1 -> 22 | B27: HPE STOREONCE GEN4 10GBE-T NETWORK CARD P/N:CZ3952Y2HQ | C27: 1 | D27: ='Energy Solution S.A.S'!D27 -> 2475735.5 | E27: ='Energy Solution S.A.S'!E27 -> 470390 | F27: ='Energy Solution S.A.S'!F27 -> 2946125.5 | G27: ='ELECTRICIVILES SAS'!D27 -> 2265887.4 | H27: ='ELECTRICIVILES SAS'!E27 -> 430519 | I27: ='ELECTRICIVILES SAS'!F27 -> 2696406.4 | J27: ='NARIÑO CREA SAS'!D27 -> 2809210 | K27: ='NARIÑO CREA SAS'!E27 -> 533750 | L27: ='NARIÑO CREA SAS'!F27 -> 3342960 | M27: =MIN(F27,I27,L27) -> 2696406.4 | N27: =MAX(F27,I27,L27) -> 3342960 | O27: =AVERAGE(F27,I27,L27) -> 2995163.9 | P27: =MEDIAN(F27,I27,L27) -> 2946125.5 | Q27: =GEOMEAN(F27,I27,L27) -> 2983476.3 | R27: =STDEVA(N27,O27) -> 245928.92 | S27: =R27/M27 -> 0.091206177 | T27: =IF(S27<=5%,M27,O27) -> 2995163.9 | U27: =IF(T27=M27,"MENOR VALOR","PROMEDIO") -> PROMEDIO | V27: =ROUND(T27,0) -> 2995164 | W27: =ROUND(AVERAGE(F27,I27,L27),0) -> 2995164 | X27: =ROUND(STDEVA(D27,G27,J27),0) -> 273995 | Y27: =X27/W27 -> 0.091479131
A28: =A27+1 -> 23 | B28: HPE STORAGE PERF FILE CONTROLLER P/N:2M20010JWD | C28: 1 | D28: ='Energy Solution S.A.S'!D28 -> 8331503.3 | E28: ='Energy Solution S.A.S'!E28 -> 1582986 | F28: ='Energy Solution S.A.S'!F28 -> 9914489.3 | G28: ='ELECTRICIVILES SAS'!D28 -> 7371863.1 | H28: ='ELECTRICIVILES SAS'!E28 -> 1400654 | I28: ='ELECTRICIVILES SAS'!F28 -> 8772517.1 | J28: ='NARIÑO CREA SAS'!D28 -> 7743421.8 | K28: ='NARIÑO CREA SAS'!E28 -> 1471250 | L28: ='NARIÑO CREA SAS'!F28 -> 9214671.8 | M28: =MIN(F28,I28,L28) -> 8772517.1 | N28: =MAX(F28,I28,L28) -> 9914489.3 | O28: =AVERAGE(F28,I28,L28) -> 9300559.4 | P28: =MEDIAN(F28,I28,L28) -> 9214671.8 | Q28: =GEOMEAN(F28,I28,L28) -> 9288768.7 | R28: =STDEVA(N28,O28) -> 434113.99 | S28: =R28/M28 -> 0.049485681 | T28: =IF(S28<=5%,M28,O28) -> 8772517.1 | U28: =IF(T28=M28,"MENOR VALOR","PROMEDIO") -> MENOR VALOR | V28: =ROUND(T28,0) -> 8772517 | W28: =ROUND(AVERAGE(F28,I28,L28),0) -> 9300559 | X28: =ROUND(STDEVA(D28,G28,J28),0) -> 483874 | Y28: =X28/W28 -> 0.052026335
A29: =A28+1 -> 24 | B29: HPE SN1100Q 16GB 2P FC HBA P/N:P9D94A | C29: 1 | D29: ='Energy Solution S.A.S'!D29 -> 3800488.3 | E29: ='Energy Solution S.A.S'!E29 -> 722093 | F29: ='Energy Solution S.A.S'!F29 -> 4522581.3 | G29: ='ELECTRICIVILES SAS'!D29 -> 3838414.6 | H29: ='ELECTRICIVILES SAS'!E29 -> 729299 | I29: ='ELECTRICIVILES SAS'!F29 -> 4567713.6 | J29: ='NARIÑO CREA SAS'!D29 -> 3690126.2 | K29: ='NARIÑO CREA SAS'!E29 -> 701124 | L29: ='NARIÑO CREA SAS'!F29 -> 4391250.2 | M29: =MIN(F29,I29,L29) -> 4391250.2 | N29: =MAX(F29,I29,L29) -> 4567713.6 | O29: =AVERAGE(F29,I29,L29) -> 4493848.4 | P29: =MEDIAN(F29,I29,L29) -> 4522581.3 | Q29: =GEOMEAN(F29,I29,L29) -> 4493221.3 | R29: =STDEVA(N29,O29) -> 52230.608 | S29: =R29/M29 -> 0.011894245 | T29: =IF(S29<=5%,M29,O29) -> 4391250.2 | U29: =IF(T29=M29,"MENOR VALOR","PROMEDIO") -> MENOR VALOR | V29: =ROUND(T29,0) -> 4391250 | W29: =ROUND(AVERAGE(F29,I29,L29),0) -> 4493848 | X29: =ROUND(STDEVA(D29,G29,J29),0) -> 77036 | Y29: =X29/W29 -> 0.017142547
A30: =A29+1 -> 25 | B30: HPE SN3000B OPTIONAL POWER SUPPLY P/N:QW939A | C30: 1 | D30: ='Energy Solution S.A.S'!D30 -> 9000205.7 | E30: ='Energy Solution S.A.S'!E30 -> 1710039 | F30: ='Energy Solution S.A.S'!F30 -> 10710245 | G30: ='ELECTRICIVILES SAS'!D30 -> 7266919.6 | H30: ='ELECTRICIVILES SAS'!E30 -> 1380715 | I30: ='ELECTRICIVILES SAS'!F30 -> 8647634.6 | J30: ='NARIÑO CREA SAS'!D30 -> 7938022.7 | K30: ='NARIÑO CREA SAS'!E30 -> 1508224 | L30: ='NARIÑO CREA SAS'!F30 -> 9446246.7 | M30: =MIN(F30,I30,L30) -> 8647634.6 | N30: =MAX(F30,I30,L30) -> 10710245 | O30: =AVERAGE(F30,I30,L30) -> 9601375.3 | P30: =MEDIAN(F30,I30,L30) -> 9446246.7 | Q30: =GEOMEAN(F30,I30,L30) -> 9564273.8 | R30: =STDEVA(N30,O30) -> 784089.07 | S30: =R30/M30 -> 0.09067093 | T30: =IF(S30<=5%,M30,O30) -> 9601375.3 | U30: =IF(T30=M30,"MENOR VALOR","PROMEDIO") -> PROMEDIO | V30: =ROUND(T30,0) -> 9601375 | W30: =ROUND(AVERAGE(F30,I30,L30),0) -> 9601375 | X30: =ROUND(STDEVA(D30,G30,J30),0) -> 873965 | Y30: =X30/W30 -> 0.091024983
A31: =A30+1 -> 26 | B31: HPE 3PAR 8000 1.2TB+SW 10K SFF HDD P/N:K2P93B | C31: 1 | D31: ='Energy Solution S.A.S'!D31 -> 17883696 | E31: ='Energy Solution S.A.S'!E31 -> 3397902 | F31: ='Energy Solution S.A.S'!F31 -> 21281598 | G31: ='ELECTRICIVILES SAS'!D31 -> 17818664 | H31: ='ELECTRICIVILES SAS'!E31 -> 3385546 | I31: ='ELECTRICIVILES SAS'!F31 -> 21204210 | J31: ='NARIÑO CREA SAS'!D31 -> 17716374 | K31: ='NARIÑO CREA SAS'!E31 -> 3366111 | L31: ='NARIÑO CREA SAS'!F31 -> 21082485 | M31: =MIN(F31,I31,L31) -> 21082485 | N31: =MAX(F31,I31,L31) -> 21281598 | O31: =AVERAGE(F31,I31,L31) -> 21189431 | P31: =MEDIAN(F31,I31,L31) -> 21204210 | Q31: =GEOMEAN(F31,I31,L31) -> 21189273 | R31: =STDEVA(N31,O31) -> 65171.66 | S31: =R31/M31 -> 0.0030912702 | T31: =IF(S31<=5%,M31,O31) -> 21082485 | U31: =IF(T31=M31,"MENOR VALOR","PROMEDIO") -> MENOR VALOR | V31: =ROUND(T31,0) -> 21082485 | W31: =ROUND(AVERAGE(F31,I31,L31),0) -> 21189431 | X31: =ROUND(STDEVA(D31,G31,J31),0) -> 84349 | Y31: =X31/W31 -> 0.0039807109
A32: =A31+1 -> 27 | B32: HPE 3PAR 8000 920GB+SW SFF FE SSD P/N:K2P90B | C32: 1 | D32: ='Energy Solution S.A.S'!D32 -> 42829796 | E32: ='Energy Solution S.A.S'!E32 -> 8137661 | F32: ='Energy Solution S.A.S'!F32 -> 50967457 | G32: ='ELECTRICIVILES SAS'!D32 -> 49274501 | H32: ='ELECTRICIVILES SAS'!E32 -> 9362155 | I32: ='ELECTRICIVILES SAS'!F32 -> 58636656 | J32: ='NARIÑO CREA SAS'!D32 -> 47831283 | K32: ='NARIÑO CREA SAS'!E32 -> 9087944 | L32: ='NARIÑO CREA SAS'!F32 -> 56919227 | M32: =MIN(F32,I32,L32) -> 50967457 | N32: =MAX(F32,I32,L32) -> 58636656 | O32: =AVERAGE(F32,I32,L32) -> 55507780 | P32: =MEDIAN(F32,I32,L32) -> 56919227 | Q32: =GEOMEAN(F32,I32,L32) -> 55408159 | R32: =STDEVA(N32,O32) -> 2212449.2 | S32: =R32/M32 -> 0.043409056 | T32: =IF(S32<=5%,M32,O32) -> 50967457 | U32: =IF(T32=M32,"MENOR VALOR","PROMEDIO") -> MENOR VALOR | V32: =ROUND(T32,0) -> 50967457 | W32: =ROUND(AVERAGE(F32,I32,L32),0) -> 55507780 | X32: =ROUND(STDEVA(D32,G32,J32),0) -> 3382109 | Y32: =X32/W32 -> 0.06093036
A33: =A32+1 -> 28 | B33: HPE 3PAR 8000 8TB+SW 7.2K LFF HDD P/N:P9B44B | C33: 1 | D33: ='Energy Solution S.A.S'!D33 -> 17143858 | E33: ='Energy Solution S.A.S'!E33 -> 3257333 | F33: ='Energy Solution S.A.S'!F33 -> 20401191 | G33: ='ELECTRICIVILES SAS'!D33 -> 15799242 | H33: ='ELECTRICIVILES SAS'!E33 -> 3001856 | I33: ='ELECTRICIVILES SAS'!F33 -> 18801098 | J33: ='NARIÑO CREA SAS'!D33 -> 16727868 | K33: ='NARIÑO CREA SAS'!E33 -> 3178295 | L33: ='NARIÑO CREA SAS'!F33 -> 19906163 | M33: =MIN(F33,I33,L33) -> 18801098 | N33: =MAX(F33,I33,L33) -> 20401191 | O33: =AVERAGE(F33,I33,L33) -> 19702817 | P33: =MEDIAN(F33,I33,L33) -> 19906163 | Q33: =GEOMEAN(F33,I33,L33) -> 19691347 | R33: =STDEVA(N33,O33) -> 493824.99 | S33: =R33/M33 -> 0.026265753 | T33: =IF(S33<=5%,M33,O33) -> 18801098 | U33: =IF(T33=M33,"MENOR VALOR","PROMEDIO") -> MENOR VALOR | V33: =ROUND(T33,0) -> 18801098 | W33: =ROUND(AVERAGE(F33,I33,L33),0) -> 19702817 | X33: =ROUND(STDEVA(D33,G33,J33),0) -> 688402 | Y33: =X33/W33 -> 0.034939268
... A47: =A46+1 -> 42 | B47: FUENTE DE ALIMENTACIÓN 460 WATTS DL360 G7 | C47: 1 | D47: ='Energy Solution S.A.S'!D47 -> 706810.95 | E47: ='Energy Solution S.A.S'!E47 -> 134294 | F47: ='Energy Solution S.A.S'!F47 -> 841104.95 | G47: ='ELECTRICIVILES SAS'!D47 -> 615609.54 | H47: ='ELECTRICIVILES SAS'!E47 -> 116966 | I47: ='ELECTRICIVILES SAS'!F47 -> 732575.54 | J47: ='NARIÑO CREA SAS'!D47 -> 678595.51 | K47: ='NARIÑO CREA SAS'!E47 -> 128933 | L47: ='NARIÑO CREA SAS'!F47 -> 807528.51 | M47: =MIN(F47,I47,L47) -> 732575.54 | N47: =MAX(F47,I47,L47) -> 841104.95 | O47: =AVERAGE(F47,I47,L47) -> 793736.33 | P47: =MEDIAN(F47,I47,L47) -> 807528.51 | Q47: =GEOMEAN(F47,I47,L47) -> 792416.46 | R47: =STDEVA(N47,O47) -> 33494.67 | S47: =R47/M47 -> 0.045721797 | T47: =IF(S47<=5%,M47,O47) -> 732575.54 | U47: =IF(T47=M47,"MENOR VALOR","PROMEDIO") -> MENOR VALOR | V47: =ROUND(T47,0) -> 732576 | W47: =ROUND(AVERAGE(F47,I47,L47),0) -> 793736 | X47: =ROUND(STDEVA(D47,G47,J47),0) -> 46692 | Y47: =X47/W47 -> 0.058825604
A48: =A47+1 -> 43 | B48: DISCOS SAS/SATA7200 RPM 500GB DL360 G7 | D48: ='Energy Solution S.A.S'!D48 -> 921871.17 | E48: ='Energy Solution S.A.S'!E48 -> 175156 | F48: ='Energy Solution S.A.S'!F48 -> 1097027.2 | G48: ='ELECTRICIVILES SAS'!D48 -> 1007247.4 | H48: ='ELECTRICIVILES SAS'!E48 -> 191377 | I48: ='ELECTRICIVILES SAS'!F48 -> 1198624.4 | J48: ='NARIÑO CREA SAS'!D48 -> 1142026.7 | K48: ='NARIÑO CREA SAS'!E48 -> 216985 | L48: ='NARIÑO CREA SAS'!F48 -> 1359011.7 | M48: =MIN(F48,I48,L48) -> 1097027.2 | N48: =MAX(F48,I48,L48) -> 1359011.7 | O48: =AVERAGE(F48,I48,L48) -> 1218221.1 | P48: =MEDIAN(F48,I48,L48) -> 1198624.4 | Q48: =GEOMEAN(F48,I48,L48) -> 1213504 | R48: =STDEVA(N48,O48) -> 99553.985 | S48: =R48/M48 -> 0.090748879 | T48: =IF(S48<=5%,M48,O48) -> 1218221.1 | U48: =IF(T48=M48,"MENOR VALOR","PROMEDIO") -> PROMEDIO | V48: =ROUND(T48,0) -> 1218221 | W48: =ROUND(AVERAGE(F48,I48,L48),0) -> 1218221 | X48: =ROUND(STDEVA(D48,G48,J48),0) -> 110998 | Y48: =X48/W48 -> 0.091114831
A49: =A48+1 -> 44 | B49: MEMORIA MÓDULOS 6 GB (3 X 2 GB) PC3-10600R (DDR3-1333) DL360 G7 | C49: 1 | D49: ='Energy Solution S.A.S'!D49 -> 542087.04 | E49: ='Energy Solution S.A.S'!E49 -> 102997 | F49: ='Energy Solution S.A.S'!F49 -> 645084.04 | G49: ='ELECTRICIVILES SAS'!D49 -> 652717.04 | H49: ='ELECTRICIVILES SAS'!E49 -> 124016 | I49: ='ELECTRICIVILES SAS'!F49 -> 776733.04 | J49: ='NARIÑO CREA SAS'!D49 -> 663060.95 | K49: ='NARIÑO CREA SAS'!E49 -> 125982 | L49: ='NARIÑO CREA SAS'!F49 -> 789042.95 | M49: =MIN(F49,I49,L49) -> 645084.04 | N49: =MAX(F49,I49,L49) -> 789042.95 | O49: =AVERAGE(F49,I49,L49) -> 736953.34 | P49: =MEDIAN(F49,I49,L49) -> 776733.04 | Q49: =GEOMEAN(F49,I49,L49) -> 733943.97 | R49: =STDEVA(N49,O49) -> 36832.914 | S49: =R49/M49 -> 0.057097854 | T49: =IF(S49<=5%,M49,O49) -> 736953.34 | U49: =IF(T49=M49,"MENOR VALOR","PROMEDIO") -> PROMEDIO | V49: =ROUND(T49,0) -> 736953 | W49: =ROUND(AVERAGE(F49,I49,L49),0) -> 736953 | X49: =ROUND(STDEVA(D49,G49,J49),0) -> 67058 | Y49: =X49/W49 -> 0.090993591
A50: =A49+1 -> 45 | B50: BOARD PROLIANT DL140 | C50: 1 | D50: ='Energy Solution S.A.S'!D50 -> 2652675.2 | E50: ='Energy Solution S.A.S'!E50 -> 504008 | F50: ='Energy Solution S.A.S'!F50 -> 3156683.2 | G50: ='ELECTRICIVILES SAS'!D50 -> 2626464.9 | H50: ='ELECTRICIVILES SAS'!E50 -> 499028 | I50: ='ELECTRICIVILES SAS'!F50 -> 3125492.9 | J50: ='NARIÑO CREA SAS'!D50 -> 2154301 | K50: ='NARIÑO CREA SAS'!E50 -> 409317 | L50: ='NARIÑO CREA SAS'!F50 -> 2563618 | M50: =MIN(F50,I50,L50) -> 2563618 | N50: =MAX(F50,I50,L50) -> 3156683.2 | O50: =AVERAGE(F50,I50,L50) -> 2948598 | P50: =MEDIAN(F50,I50,L50) -> 3125492.9 | Q50: =GEOMEAN(F50,I50,L50) -> 2935402.1 | R50: =STDEVA(N50,O50) -> 147138.45 | S50: =R50/M50 -> 0.057394844 | T50: =IF(S50<=5%,M50,O50) -> 2948598 | U50: =IF(T50=M50,"MENOR VALOR","PROMEDIO") -> PROMEDIO | V50: =ROUND(T50,0) -> 2948598 | W50: =ROUND(AVERAGE(F50,I50,L50),0) -> 2948598 | X50: =ROUND(STDEVA(D50,G50,J50),0) -> 280477 | Y50: =X50/W50 -> 0.095122156
A51: =A50+1 -> 46 | B51: FUENTE DE ALIMENTACIÓN CA 120/230 V (50/60 HZ) - 650 VATIOS | C51: 1 | D51: ='Energy Solution S.A.S'!D51 -> 552497.37 | E51: ='Energy Solution S.A.S'!E51 -> 104974 | F51: ='Energy Solution S.A.S'!F51 -> 657471.37 | G51: ='ELECTRICIVILES SAS'!D51 -> 684277.55 | H51: ='ELECTRICIVILES SAS'!E51 -> 130013 | I51: ='ELECTRICIVILES SAS'!F51 -> 814290.55 | J51: ='NARIÑO CREA SAS'!D51 -> 712729.25 | K51: ='NARIÑO CREA SAS'!E51 -> 135419 | L51: ='NARIÑO CREA SAS'!F51 -> 848148.25 | M51: =MIN(F51,I51,L51) -> 657471.37 | N51: =MAX(F51,I51,L51) -> 848148.25 | O51: =AVERAGE(F51,I51,L51) -> 773303.39 | P51: =MEDIAN(F51,I51,L51) -> 814290.55 | Q51: =GEOMEAN(F51,I51,L51) -> 768615.85 | R51: =STDEVA(N51,O51) -> 52923.306 | S51: =R51/M51 -> 0.080495226 | T51: =IF(S51<=5%,M51,O51) -> 773303.39 | U51: =IF(T51=M51,"MENOR VALOR","PROMEDIO") -> PROMEDIO | V51: =ROUND(T51,0) -> 773303 | W51: =ROUND(AVERAGE(F51,I51,L51),0) -> 773303 | X51: =ROUND(STDEVA(D51,G51,J51),0) -> 85489 | Y51: =X51/W51 -> 0.11055046
A52: =A51+1 -> 47 | B52: DISCOS HDD 2 X 250GB 7200 RPM SATA | C52: 1 | D52: ='Energy Solution S.A.S'!D52 -> 1569168.4 | E52: ='Energy Solution S.A.S'!E52 -> 298142 | F52: ='Energy Solution S.A.S'!F52 -> 1867310.4 | G52: ='ELECTRICIVILES SAS'!D52 -> 1410666.5 | H52: ='ELECTRICIVILES SAS'!E52 -> 268027 | I52: ='ELECTRICIVILES SAS'!F52 -> 1678693.5 | J52: ='NARIÑO CREA SAS'!D52 -> 1561243.3 | K52: ='NARIÑO CREA SAS'!E52 -> 296636 | L52: ='NARIÑO CREA SAS'!F52 -> 1857879.3 | M52: =MIN(F52,I52,L52) -> 1678693.5 | N52: =MAX(F52,I52,L52) -> 1867310.4 | O52: =AVERAGE(F52,I52,L52) -> 1801294.4 | P52: =MEDIAN(F52,I52,L52) -> 1857879.3 | Q52: =GEOMEAN(F52,I52,L52) -> 1799154.6 | R52: =STDEVA(N52,O52) -> 46680.35 | S52: =R52/M52 -> 0.027807547 | T52: =IF(S52<=5%,M52,O52) -> 1678693.5 | U52: =IF(T52=M52,"MENOR VALOR","PROMEDIO") -> MENOR VALOR | V52: =ROUND(T52,0) -> 1678694 | W52: =ROUND(AVERAGE(F52,I52,L52),0) -> 1801294 | X52: =ROUND(STDEVA(D52,G52,J52),0) -> 89311 | Y52: =X52/W52 -> 0.049581579
A53: =A52+1 -> 48 | B53: MEMORIA MÓDULOS DDR2 SDRAM2 GB / 32 GB | C53: 1 | D53: ='Energy Solution S.A.S'!D53 -> 526043.22 | E53: ='Energy Solution S.A.S'!E53 -> 99948 | F53: ='Energy Solution S.A.S'!F53 -> 625991.22 | G53: ='ELECTRICIVILES SAS'!D53 -> 410196.81 | H53: ='ELECTRICIVILES SAS'!E53 -> 77937 | I53: ='ELECTRICIVILES SAS'!F53 -> 488133.81 | J53: ='NARIÑO CREA SAS'!D53 -> 440617.4 | K53: ='NARIÑO CREA SAS'!E53 -> 83717 | L53: ='NARIÑO CREA SAS'!F53 -> 524334.4 | M53: =MIN(F53,I53,L53) -> 488133.81 | N53: =MAX(F53,I53,L53) -> 625991.22 | O53: =AVERAGE(F53,I53,L53) -> 546153.14 | P53: =MEDIAN(F53,I53,L53) -> 524334.4 | Q53: =GEOMEAN(F53,I53,L53) -> 543131.71 | R53: =STDEVA(N53,O53) -> 56454.045 | S53: =R53/M53 -> 0.11565281 | T53: =IF(S53<=5%,M53,O53) -> 546153.14 | U53: =IF(T53=M53,"MENOR VALOR","PROMEDIO") -> PROMEDIO | V53: =ROUND(T53,0) -> 546153 | W53: =ROUND(AVERAGE(F53,I53,L53),0) -> 546153 | X53: =ROUND(STDEVA(D53,G53,J53),0) -> 60060 | Y53: =X53/W53 -> 0.10996918
A54: =A53+1 -> 49 | B54: MEMORIA 2 GB/ 144 GBDDR3 SDRAM1333 MHZPC3­10600 DL360 G6 | C54: 1 | D54: ='Energy Solution S.A.S'!D54 -> 485683.35 | E54: ='Energy Solution S.A.S'!E54 -> 92280 | F54: ='Energy Solution S.A.S'!F54 -> 577963.35 | G54: ='ELECTRICIVILES SAS'!D54 -> 557636.44 | H54: ='ELECTRICIVILES SAS'!E54 -> 105951 | I54: ='ELECTRICIVILES SAS'!F54 -> 663587.44 | J54: ='NARIÑO CREA SAS'!D54 -> 505200.62 | K54: ='NARIÑO CREA SAS'!E54 -> 95988 | L54: ='NARIÑO CREA SAS'!F54 -> 601188.62 | M54: =MIN(F54,I54,L54) -> 577963.35 | N54: =MAX(F54,I54,L54) -> 663587.44 | O54: =AVERAGE(F54,I54,L54) -> 614246.47 | P54: =MEDIAN(F54,I54,L54) -> 601188.62 | Q54: =GEOMEAN(F54,I54,L54) -> 613201.3 | R54: =STDEVA(N54,O54) -> 34889.333 | S54: =R54/M54 -> 0.060365995 | T54: =IF(S54<=5%,M54,O54) -> 614246.47 | U54: =IF(T54=M54,"MENOR VALOR","PROMEDIO") -> PROMEDIO | V54: =ROUND(T54,0) -> 614246 | W54: =ROUND(AVERAGE(F54,I54,L54),0) -> 614246 | X54: =ROUND(STDEVA(D54,G54,J54),0) -> 37210 | Y54: =X54/W54 -> 0.060578335
A55: =A54+1 -> 50 | B55: DISCO DURO 250 GBSERIAL ATA­300 DL360 G6 | C55: 1 | D55: ='Energy Solution S.A.S'!D55 -> 1095657.5 | E55: ='Energy Solution S.A.S'!E55 -> 208175 | F55: ='Energy Solution S.A.S'!F55 -> 1303832.5 | G55: ='ELECTRICIVILES SAS'!D55 -> 1102017.3 | H55: ='ELECTRICIVILES SAS'!E55 -> 209383 | I55: ='ELECTRICIVILES SAS'!F55 -> 1311400.3 | J55: ='NARIÑO CREA SAS'!D55 -> 1077151.1 | K55: ='NARIÑO CREA SAS'!E55 -> 204659 | L55: ='NARIÑO CREA SAS'!F55 -> 1281810.1 | M55: =MIN(F55,I55,L55) -> 1281810.1 | N55: =MAX(F55,I55,L55) -> 1311400.3 | O55: =AVERAGE(F55,I55,L55) -> 1299014.3 | P55: =MEDIAN(F55,I55,L55) -> 1303832.5 | Q55: =GEOMEAN(F55,I55,L55) -> 1298953.4 | R55: =STDEVA(N55,O55) -> 8758.2065 | S55: =R55/M55 -> 0.0068326864 | T55: =IF(S55<=5%,M55,O55) -> 1281810.1 | U55: =IF(T55=M55,"MENOR VALOR","PROMEDIO") -> MENOR VALOR | V55: =ROUND(T55,0) -> 1281810 | W55: =ROUND(AVERAGE(F55,I55,L55),0) -> 1299014 | X55: =ROUND(STDEVA(D55,G55,J55),0) -> 12918 | Y55: =X55/W55 -> 0.0099444656
...

Sheet Energy Solution S.A.S
A3: COTIZACION 1
A5: Ítem | B5: Descripción Elementos | C5: Cant. A cotizar | D5: Valor Unitario | E5: IVA | F5: Valor Total Unitario
A6: 1 | B6: PATCH CORD FIBRA ÓPTICA MULTIMODAL DUPLEX SC-SC - 3 METROS | C6: 1 | D6: 166758.53 | E6: =ROUND(D6*19%,0) -> 31684 | F6: =D6+E6 -> 198442.53
A7: =A6+1 -> 2 | B7: PATCH CORD FIBRA ÓPTICA MULTIMODAL DUPLEX PC-SC - 3 METROS | C7: 1 | D7: 159453.74 | E7: =ROUND(D7*19%,0) -> 30296 | F7: =D7+E7 -> 189749.74
A8: =A7+1 -> 3 | B8: CINTA PARA BACKUP HP LTO 7 ULTRIUM 6TB RW DATA + LABEL | C8: 1 | D8: 1924106.7 | E8: =ROUND(D8*19%,0) -> 365580 | F8: =D8+E8 -> 2289686.7
A9: =A8+1 -> 4 | B9: CINTA PARA BACKUP HP LTO 8 ULTRIUM 12TB RW DATA + LABEL | C9: 1 | D9: 2240642.7 | E9: =ROUND(D9*19%,0) -> 425722 | F9: =D9+E9 -> 2666364.7
A10: =A9+1 -> 5 | B10: HPE MSL LTO-7 FC DRIVE UPGRADE KIT P/N:N7P36A | C10: 1 | D10: 27203109 | E10: =ROUND(D10*19%,0) -> 5168591 | F10: =D10+E10 -> 32371700
A11: =A10+1 -> 6 | B11: HPE SYNERGY12000 CTO FRAME 1XFLM 10X FAN P/N:797740-B21 | C11: 1 | D11: 48593615 | E11: =ROUND(D11*19%,0) -> 9232787 | F11: =D11+E11 -> 57826402
A12: =A11+1 -> 7 | B12: HPE SY 480 GEN10 CTO CMPT MDL P/N:871940-B21 | D12: 32716734 | E12: =ROUND(D12*19%,0) -> 6216179 | F12: =D12+E12 -> 38932913
A13: =A12+1 -> 8 | B13: HPE SY 480/660 GEN10 XEON-G 5218 FIO KIT P/N:P07342-L21 | C13: 1 | D13: 7409298.7 | E13: =ROUND(D13*19%,0) -> 1407767 | F13: =D13+E13 -> 8817065.7
A14: =A13+1 -> 9 | B14: HPE SY 480/660 GEN10 XEON-G 5218 KIT P/N:P07342-B21 | C14: 1 | D14: 7956847.1 | E14: =ROUND(D14*19%,0) -> 1511801 | F14: =D14+E14 -> 9468648.1
A15: =A14+1 -> 10 | B15: HPE 64GB 4RX4 PC4-2933Y-L SMART KIT P/N:P00926-B21 | C15: 1 | D15: 3874979 | E15: =ROUND(D15*19%,0) -> 736246 | F15: =D15+E15 -> 4611225
A16: =A15+1 -> 11 | B16: HPE 240GB SATA RI SFF SC DS SSD P/N:P04556-B21 | C16: 1 | D16: 18617661 | E16: =ROUND(D16*19%,0) -> 3537356 | F16: =D16+E16 -> 22155017
A17: =A16+1 -> 12 | B17: HPE 96W SMART STORAGE BATTERY 260MM CBL P/N:P01367-B21 | C17: 1 | D17: 1208992.7 | E17: =ROUND(D17*19%,0) -> 229709 | F17: =D17+E17 -> 1438701.7
A18: =A17+1 -> 13 | B18: HPE SMART ARRAY P204I-C SR GEN10 CTRLR P/N:804424-B21 | C18: 1 | D18: 1563628.6 | E18: =ROUND(D18*19%,0) -> 297089 | F18: =D18+E18 -> 1860717.6
A19: =A18+1 -> 14 | B19: HPE SYNERGY 3820C 10/20GB CNA P/N:777430-B21 | C19: 1 | D19: 16425029 | E19: =ROUND(D19*19%,0) -> 3120755 | F19: =D19+E19 -> 19545784
A20: =A19+1 -> 15 | B20: HPE SYNERGY 3830C 16G FC HBA P/N:777452-B21 | C20: 1 | D20: 733442.76 | E20: =ROUND(D20*19%,0) -> 139354 | F20: =D20+E20 -> 872796.76
A21: =A20+1 -> 16 | B21: HPE 64GB 2RX4 PC4-2933Y-R SMART KIT P/N:P00930-B21 | D21: 4023204.6 | E21: =ROUND(D21*19%,0) -> 764409 | F21: =D21+E21 -> 4787613.6
A22: =A21+1 -> 17 | B22: HPE 32GB 2RX4 PC4-2933Y-R SMART KIT P/N:P00924-B21 | C22: 1 | D22: 2266116.9 | E22: =ROUND(D22*19%,0) -> 430562 | F22: =D22+E22 -> 2696678.9
A23: =A22+1 -> 18 | B23: HPE 480GB SATA RI SFF SC DS SSD P/N:P04560-B21 | C23: 1 | D23: 6695770.8 | E23: =ROUND(D23*19%,0) -> 1272196 | F23: =D23+E23 -> 7967966.8
A24: =A23+1 -> 19 | B24: HPE VC SE 40GB F8 MODULE P/N:794502-B23 | C24: 1 | D24: 6016687.6 | E24: =ROUND(D24*19%,0) -> 1143171 | F24: =D24+E24 -> 7159858.6
A25: =A24+1 -> 20 | B25: HPE B-SERIES 16GB SFP+SW XCVR P/N:QK724A | C25: 1 | D25: 1787815.1 | E25: =ROUND(D25*19%,0) -> 339685 | F25: =D25+E25 -> 2127500.1
A26: =A25+1 -> 21 | B26: HP BLC QSFP+ TO QSFP+ DAC 3M OPTION P/N:9CP950020F | C26: 1 | D26: 3583708.6 | E26: =ROUND(D26*19%,0) -> 680905 | F26: =D26+E26 -> 4264613.6
A27: =A26+1 -> 22 | B27: HPE STOREONCE GEN4 10GBE-T NETWORK CARD P/N:CZ3952Y2HQ | C27: 1 | D27: 2475735.5 | E27: =ROUND(D27*19%,0) -> 470390 | F27: =D27+E27 -> 2946125.5
A28: =A27+1 -> 23 | B28: HPE STORAGE PERF FILE CONTROLLER P/N:2M20010JWD | C28: 1 | D28: 8331503.3 | E28: =ROUND(D28*19%,0) -> 1582986 | F28: =D28+E28 -> 9914489.3
A29: =A28+1 -> 24 | B29: HPE SN1100Q 16GB 2P FC HBA P/N:P9D94A | C29: 1 | D29: 3800488.3 | E29: =ROUND(D29*19%,0) -> 722093 | F29: =D29+E29 -> 4522581.3
A30: =A29+1 -> 25 | B30: HPE SN3000B OPTIONAL POWER SUPPLY P/N:QW939A | C30: 1 | D30: 9000205.7 | E30: =ROUND(D30*19%,0) -> 1710039 | F30: =D30+E30 -> 10710245
A31: =A30+1 -> 26 | B31: HPE 3PAR 8000 1.2TB+SW 10K SFF HDD P/N:K2P93B | C31: 1 | D31: 17883696 | E31: =ROUND(D31*19%,0) -> 3397902 | F31: =D31+E31 -> 21281598
A32: =A31+1 -> 27 | B32: HPE 3PAR 8000 920GB+SW SFF FE SSD P/N:K2P90B | C32: 1 | D32: 42829796 | E32: =ROUND(D32*19%,0) -> 8137661 | F32: =D32+E32 -> 50967457
A33: =A32+1 -> 28 | B33: HPE 3PAR 8000 8TB+SW 7.2K LFF HDD P/N:P9B44B | C33: 1 | D33: 17143858 | E33: =ROUND(D33*19%,0) -> 3257333 | F33: =D33+E33 -> 20401191
... A47: =A46+1 -> 42 | B47: FUENTE DE ALIMENTACIÓN 460 WATTS DL360 G7 | C47: 1 | D47: 706810.95 | E47: =ROUND(D47*19%,0) -> 134294 | F47: =D47+E47 -> 841104.95
A48: =A47+1 -> 43 | B48: DISCOS SAS/SATA7200 RPM 500GB DL360 G7 | D48: 921871.17 | E48: =ROUND(D48*19%,0) -> 175156 | F48: =D48+E48 -> 1097027.2
A49: =A48+1 -> 44 | B49: MEMORIA MÓDULOS 6 GB (3 X 2 GB) PC3-10600R (DDR3-1333) DL360 G7 | C49: 1 | D49: 542087.04 | E49: =ROUND(D49*19%,0) -> 102997 | F49: =D49+E49 -> 645084.04
A50: =A49+1 -> 45 | B50: BOARD PROLIANT DL140 | C50: 1 | D50: 2652675.2 | E50: =ROUND(D50*19%,0) -> 504008 | F50: =D50+E50 -> 3156683.2
A51: =A50+1 -> 46 | B51: FUENTE DE ALIMENTACIÓN CA 120/230 V (50/60 HZ) - 650 VATIOS | C51: 1 | D51: 552497.37 | E51: =ROUND(D51*19%,0) -> 104974 | F51: =D51+E51 -> 657471.37
A52: =A51+1 -> 47 | B52: DISCOS HDD 2 X 250GB 7200 RPM SATA | C52: 1 | D52: 1569168.4 | E52: =ROUND(D52*19%,0) -> 298142 | F52: =D52+E52 -> 1867310.4
A53: =A52+1 -> 48 | B53: MEMORIA MÓDULOS DDR2 SDRAM2 GB / 32 GB | C53: 1 | D53: 526043.22 | E53: =ROUND(D53*19%,0) -> 99948 | F53: =D53+E53 -> 625991.22
A54: =A53+1 -> 49 | B54: MEMORIA 2 GB/ 144 GBDDR3 SDRAM1333 MHZPC3­10600 DL360 G6 | C54: 1 | D54: 485683.35 | E54: =ROUND(D54*19%,0) -> 92280 | F54: =D54+E54 -> 577963.35
A55: =A54+1 -> 50 | B55: DISCO DURO 250 GBSERIAL ATA­300 DL360 G6 | C55: 1 | D55: 1095657.5 | E55: =ROUND(D55*19%,0) -> 208175 | F55: =D55+E55 -> 1303832.5
A56: =A55+1 -> 51 | B56: FUENTE DE ALIMENTACIÓN CA 120/230 V ( 50/60 HZ ) DL360 G6 | C56: 1 | D56: 685980.34 | E56: =ROUND(D56*19%,0) -> 130336 | F56: =D56+E56 -> 816316.34
...

Sheet ELECTRICIVILES SAS
A3: COTIZACION 2
A5: Ítem | B5: Descripción Elementos | C5: Cant. A cotizar | D5: Valor Unitario | E5: IVA | F5: Valor Total Unitario
A6: 1 | B6: PATCH CORD FIBRA ÓPTICA MULTIMODAL DUPLEX SC-SC - 3 METROS | C6: 1 | D6: 182202.35 | E6: =ROUND(D6*19%,0) -> 34618 | F6: =D6+E6 -> 216820.35
A7: =A6+1 -> 2 | B7: PATCH CORD FIBRA ÓPTICA MULTIMODAL DUPLEX PC-SC - 3 METROS | C7: 1 | D7: 191995.32 | E7: =ROUND(D7*19%,0) -> 36479 | F7: =D7+E7 -> 228474.32
A8: =A7+1 -> 3 | B8: CINTA PARA BACKUP HP LTO 7 ULTRIUM 6TB RW DATA + LABEL | C8: 1 | D8: 1905095.1 | E8: =ROUND(D8*19%,0) -> 361968 | F8: =D8+E8 -> 2267063.1
A9: =A8+1 -> 4 | B9: CINTA PARA BACKUP HP LTO 8 ULTRIUM 12TB RW DATA + LABEL | C9: 1 | D9: 2775074.7 | E9: =ROUND(D9*19%,0) -> 527264 | F9: =D9+E9 -> 3302338.7
A10: =A9+1 -> 5 | B10: HPE MSL LTO-7 FC DRIVE UPGRADE KIT P/N:N7P36A | C10: 1 | D10: 27369054 | E10: =ROUND(D10*19%,0) -> 5200120 | F10: =D10+E10 -> 32569174
A11: =A10+1 -> 6 | B11: HPE SYNERGY12000 CTO FRAME 1XFLM 10X FAN P/N:797740-B21 | C11: 1 | D11: 37892221 | E11: =ROUND(D11*19%,0) -> 7199522 | F11: =D11+E11 -> 45091743
A12: =A11+1 -> 7 | B12: HPE SY 480 GEN10 CTO CMPT MDL P/N:871940-B21 | D12: 34370220 | E12: =ROUND(D12*19%,0) -> 6530342 | F12: =D12+E12 -> 40900562
A13: =A12+1 -> 8 | B13: HPE SY 480/660 GEN10 XEON-G 5218 FIO KIT P/N:P07342-L21 | C13: 1 | D13: 6781272.4 | E13: =ROUND(D13*19%,0) -> 1288442 | F13: =D13+E13 -> 8069714.4
A14: =A13+1 -> 9 | B14: HPE SY 480/660 GEN10 XEON-G 5218 KIT P/N:P07342-B21 | C14: 1 | D14: 6608228.9 | E14: =ROUND(D14*19%,0) -> 1255563 | F14: =D14+E14 -> 7863791.9
A15: =A14+1 -> 10 | B15: HPE 64GB 4RX4 PC4-2933Y-L SMART KIT P/N:P00926-B21 | C15: 1 | D15: 4310369.9 | E15: =ROUND(D15*19%,0) -> 818970 | F15: =D15+E15 -> 5129339.9
A16: =A15+1 -> 11 | B16: HPE 240GB SATA RI SFF SC DS SSD P/N:P04556-B21 | C16: 1 | D16: 18510218 | E16: =ROUND(D16*19%,0) -> 3516941 | F16: =D16+E16 -> 22027159
A17: =A16+1 -> 12 | B17: HPE 96W SMART STORAGE BATTERY 260MM CBL P/N:P01367-B21 | C17: 1 | D17: 1366374.6 | E17: =ROUND(D17*19%,0) -> 259611 | F17: =D17+E17 -> 1625985.6
A18: =A17+1 -> 13 | B18: HPE SMART ARRAY P204I-C SR GEN10 CTRLR P/N:804424-B21 | C18: 1 | D18: 2005223.4 | E18: =ROUND(D18*19%,0) -> 380992 | F18: =D18+E18 -> 2386215.4
A19: =A18+1 -> 14 | B19: HPE SYNERGY 3820C 10/20GB CNA P/N:777430-B21 | C19: 1 | D19: 14305670 | E19: =ROUND(D19*19%,0) -> 2718077 | F19: =D19+E19 -> 17023747
A20: =A19+1 -> 15 | B20: HPE SYNERGY 3830C 16G FC HBA P/N:777452-B21 | C20: 1 | D20: 801368.26 | E20: =ROUND(D20*19%,0) -> 152260 | F20: =D20+E20 -> 953628.26
A21: =A20+1 -> 16 | B21: HPE 64GB 2RX4 PC4-2933Y-R SMART KIT P/N:P00930-B21 | D21: 4546929.5 | E21: =ROUND(D21*19%,0) -> 863917 | F21: =D21+E21 -> 5410846.5
A22: =A21+1 -> 17 | B22: HPE 32GB 2RX4 PC4-2933Y-R SMART KIT P/N:P00924-B21 | C22: 1 | D22: 2274387.4 | E22: =ROUND(D22*19%,0) -> 432134 | F22: =D22+E22 -> 2706521.4
A23: =A22+1 -> 18 | B23: HPE 480GB SATA RI SFF SC DS SSD P/N:P04560-B21 | C23: 1 | D23: 5820018.3 | E23: =ROUND(D23*19%,0) -> 1105803 | F23: =D23+E23 -> 6925821.3
A24: =A23+1 -> 19 | B24: HPE VC SE 40GB F8 MODULE P/N:794502-B23 | C24: 1 | D24: 6053390.8 | E24: =ROUND(D24*19%,0) -> 1150144 | F24: =D24+E24 -> 7203534.8
A25: =A24+1 -> 20 | B25: HPE B-SERIES 16GB SFP+SW XCVR P/N:QK724A | C25: 1 | D25: 1701806.7 | E25: =ROUND(D25*19%,0) -> 323343 | F25: =D25+E25 -> 2025149.7
A26: =A25+1 -> 21 | B26: HP BLC QSFP+ TO QSFP+ DAC 3M OPTION P/N:9CP950020F | C26: 1 | D26: 3221717.9 | E26: =ROUND(D26*19%,0) -> 612126 | F26: =D26+E26 -> 3833843.9
A27: =A26+1 -> 22 | B27: HPE STOREONCE GEN4 10GBE-T NETWORK CARD P/N:CZ3952Y2HQ | C27: 1 | D27: 2265887.4 | E27: =ROUND(D27*19%,0) -> 430519 | F27: =D27+E27 -> 2696406.4
A28: =A27+1 -> 23 | B28: HPE STORAGE PERF FILE CONTROLLER P/N:2M20010JWD | C28: 1 | D28: 7371863.1 | E28: =ROUND(D28*19%,0) -> 1400654 | F28: =D28+E28 -> 8772517.1
A29: =A28+1 -> 24 | B29: HPE SN1100Q 16GB 2P FC HBA P/N:P9D94A | C29: 1 | D29: 3838414.6 | E29: =ROUND(D29*19%,0) -> 729299 | F29: =D29+E29 -> 4567713.6
A30: =A29+1 -> 25 | B30: HPE SN3000B OPTIONAL POWER SUPPLY P/N:QW939A | C30: 1 | D30: 7266919.6 | E30: =ROUND(D30*19%,0) -> 1380715 | F30: =D30+E30 -> 8647634.6
A31: =A30+1 -> 26 | B31: HPE 3PAR 8000 1.2TB+SW 10K SFF HDD P/N:K2P93B | C31: 1 | D31: 17818664 | E31: =ROUND(D31*19%,0) -> 3385546 | F31: =D31+E31 -> 21204210
A32: =A31+1 -> 27 | B32: HPE 3PAR 8000 920GB+SW SFF FE SSD P/N:K2P90B | C32: 1 | D32: 49274501 | E32: =ROUND(D32*19%,0) -> 9362155 | F32: =D32+E32 -> 58636656
A33: =A32+1 -> 28 | B33: HPE 3PAR 8000 8TB+SW 7.2K LFF HDD P/N:P9B44B | C33: 1 | D33: 15799242 | E33: =ROUND(D33*19%,0) -> 3001856 | F33: =D33+E33 -> 18801098
... A47: =A46+1 -> 42 | B47: FUENTE DE ALIMENTACIÓN 460 WATTS DL360 G7 | C47: 1 | D47: 615609.54 | E47: =ROUND(D47*19%,0) -> 116966 | F47: =D47+E47 -> 732575.54
A48: =A47+1 -> 43 | B48: DISCOS SAS/SATA7200 RPM 500GB DL360 G7 | D48: 1007247.4 | E48: =ROUND(D48*19%,0) -> 191377 | F48: =D48+E48 -> 1198624.4
A49: =A48+1 -> 44 | B49: MEMORIA MÓDULOS 6 GB (3 X 2 GB) PC3-10600R (DDR3-1333) DL360 G7 | C49: 1 | D49: 652717.04 | E49: =ROUND(D49*19%,0) -> 124016 | F49: =D49+E49 -> 776733.04
A50: =A49+1 -> 45 | B50: BOARD PROLIANT DL140 | C50: 1 | D50: 2626464.9 | E50: =ROUND(D50*19%,0) -> 499028 | F50: =D50+E50 -> 3125492.9
A51: =A50+1 -> 46 | B51: FUENTE DE ALIMENTACIÓN CA 120/230 V (50/60 HZ) - 650 VATIOS | C51: 1 | D51: 684277.55 | E51: =ROUND(D51*19%,0) -> 130013 | F51: =D51+E51 -> 814290.55
A52: =A51+1 -> 47 | B52: DISCOS HDD 2 X 250GB 7200 RPM SATA | C52: 1 | D52: 1410666.5 | E52: =ROUND(D52*19%,0) -> 268027 | F52: =D52+E52 -> 1678693.5
A53: =A52+1 -> 48 | B53: MEMORIA MÓDULOS DDR2 SDRAM2 GB / 32 GB | C53: 1 | D53: 410196.81 | E53: =ROUND(D53*19%,0) -> 77937 | F53: =D53+E53 -> 488133.81
A54: =A53+1 -> 49 | B54: MEMORIA 2 GB/ 144 GBDDR3 SDRAM1333 MHZPC3­10600 DL360 G6 | C54: 1 | D54: 557636.44 | E54: =ROUND(D54*19%,0) -> 105951 | F54: =D54+E54 -> 663587.44
A55: =A54+1 -> 50 | B55: DISCO DURO 250 GBSERIAL ATA­300 DL360 G6 | C55: 1 | D55: 1102017.3 | E55: =ROUND(D55*19%,0) -> 209383 | F55: =D55+E55 -> 1311400.3
A56: =A55+1 -> 51 | B56: FUENTE DE ALIMENTACIÓN CA 120/230 V ( 50/60 HZ ) DL360 G6 | C56: 1 | D56: 569712.48 | E56: =ROUND(D56*19%,0) -> 108245 | F56: =D56+E56 -> 677957.48
...

Sheet NARIÑO CREA SAS
A3: COTIZACION 2
A5: Ítem | B5: Descripción Elementos | C5: Cant. A cotizar | D5: Valor Unitario | E5: IVA | F5: Valor Total Unitario
A6: 1 | B6: PATCH CORD FIBRA ÓPTICA MULTIMODAL DUPLEX SC-SC - 3 METROS | C6: 1 | D6: 206582.76 | E6: =ROUND(D6*19%,0) -> 39251 | F6: =D6+E6 -> 245833.76
A7: =A6+1 -> 2 | B7: PATCH CORD FIBRA ÓPTICA MULTIMODAL DUPLEX PC-SC - 3 METROS | C7: 1 | D7: 195037.96 | E7: =ROUND(D7*19%,0) -> 37057 | F7: =D7+E7 -> 232094.96
A8: =A7+1 -> 3 | B8: CINTA PARA BACKUP HP LTO 7 ULTRIUM 6TB RW DATA + LABEL | C8: 1 | D8: 1562613 | E8: =ROUND(D8*19%,0) -> 296896 | F8: =D8+E8 -> 1859509
A9: =A8+1 -> 4 | B9: CINTA PARA BACKUP HP LTO 8 ULTRIUM 12TB RW DATA + LABEL | C9: 1 | D9: 2890460 | E9: =ROUND(D9*19%,0) -> 549187 | F9: =D9+E9 -> 3439647
A10: =A9+1 -> 5 | B10: HPE MSL LTO-7 FC DRIVE UPGRADE KIT P/N:N7P36A | C10: 1 | D10: 21941821 | E10: =ROUND(D10*19%,0) -> 4168946 | F10: =D10+E10 -> 26110767
A11: =A10+1 -> 6 | B11: HPE SYNERGY12000 CTO FRAME 1XFLM 10X FAN P/N:797740-B21 | C11: 1 | D11: 40702344 | E11: =ROUND(D11*19%,0) -> 7733445 | F11: =D11+E11 -> 48435789
A12: =A11+1 -> 7 | B12: HPE SY 480 GEN10 CTO CMPT MDL P/N:871940-B21 | D12: 36980499 | E12: =ROUND(D12*19%,0) -> 7026295 | F12: =D12+E12 -> 44006794
A13: =A12+1 -> 8 | B13: HPE SY 480/660 GEN10 XEON-G 5218 FIO KIT P/N:P07342-L21 | C13: 1 | D13: 8407310.1 | E13: =ROUND(D13*19%,0) -> 1597389 | F13: =D13+E13 -> 10004699
A14: =A13+1 -> 9 | B14: HPE SY 480/660 GEN10 XEON-G 5218 KIT P/N:P07342-B21 | C14: 1 | D14: 7889416.1 | E14: =ROUND(D14*19%,0) -> 1498989 | F14: =D14+E14 -> 9388405.1
A15: =A14+1 -> 10 | B15: HPE 64GB 4RX4 PC4-2933Y-L SMART KIT P/N:P00926-B21 | C15: 1 | D15: 4351079 | E15: =ROUND(D15*19%,0) -> 826705 | F15: =D15+E15 -> 5177784
A16: =A15+1 -> 11 | B16: HPE 240GB SATA RI SFF SC DS SSD P/N:P04556-B21 | C16: 1 | D16: 16574693 | E16: =ROUND(D16*19%,0) -> 3149192 | F16: =D16+E16 -> 19723885
A17: =A16+1 -> 12 | B17: HPE 96W SMART STORAGE BATTERY 260MM CBL P/N:P01367-B21 | C17: 1 | D17: 1400353.7 | E17: =ROUND(D17*19%,0) -> 266067 | F17: =D17+E17 -> 1666420.7
A18: =A17+1 -> 13 | B18: HPE SMART ARRAY P204I-C SR GEN10 CTRLR P/N:804424-B21 | C18: 1 | D18: 1906333.3 | E18: =ROUND(D18*19%,0) -> 362203 | F18: =D18+E18 -> 2268536.3
A19: =A18+1 -> 14 | B19: HPE SYNERGY 3820C 10/20GB CNA P/N:777430-B21 | C19: 1 | D19: 15769352 | E19: =ROUND(D19*19%,0) -> 2996177 | F19: =D19+E19 -> 18765529
A20: =A19+1 -> 15 | B20: HPE SYNERGY 3830C 16G FC HBA P/N:777452-B21 | C20: 1 | D20: 908598.96 | E20: =ROUND(D20*19%,0) -> 172634 | F20: =D20+E20 -> 1081233
A21: =A20+1 -> 16 | B21: HPE 64GB 2RX4 PC4-2933Y-R SMART KIT P/N:P00930-B21 | D21: 4660003.1 | E21: =ROUND(D21*19%,0) -> 885401 | F21: =D21+E21 -> 5545404.1
A22: =A21+1 -> 17 | B22: HPE 32GB 2RX4 PC4-2933Y-R SMART KIT P/N:P00924-B21 | C22: 1 | D22: 2003900.6 | E22: =ROUND(D22*19%,0) -> 380741 | F22: =D22+E22 -> 2384641.6
A23: =A22+1 -> 18 | B23: HPE 480GB SATA RI SFF SC DS SSD P/N:P04560-B21 | C23: 1 | D23: 6049985.8 | E23: =ROUND(D23*19%,0) -> 1149497 | F23: =D23+E23 -> 7199482.8
A24: =A23+1 -> 19 | B24: HPE VC SE 40GB F8 MODULE P/N:794502-B23 | C24: 1 | D24: 4853014.5 | E24: =ROUND(D24*19%,0) -> 922073 | F24: =D24+E24 -> 5775087.5
A25: =A24+1 -> 20 | B25: HPE B-SERIES 16GB SFP+SW XCVR P/N:QK724A | C25: 1 | D25: 1924493.1 | E25: =ROUND(D25*19%,0) -> 365654 | F25: =D25+E25 -> 2290147.1
A26: =A25+1 -> 21 | B26: HP BLC QSFP+ TO QSFP+ DAC 3M OPTION P/N:9CP950020F | C26: 1 | D26: 3565609.1 | E26: =ROUND(D26*19%,0) -> 677466 | F26: =D26+E26 -> 4243075.1
A27: =A26+1 -> 22 | B27: HPE STOREONCE GEN4 10GBE-T NETWORK CARD P/N:CZ3952Y2HQ | C27: 1 | D27: 2809210 | E27: =ROUND(D27*19%,0) -> 533750 | F27: =D27+E27 -> 3342960
A28: =A27+1 -> 23 | B28: HPE STORAGE PERF FILE CONTROLLER P/N:2M20010JWD | C28: 1 | D28: 7743421.8 | E28: =ROUND(D28*19%,0) -> 1471250 | F28: =D28+E28 -> 9214671.8
A29: =A28+1 -> 24 | B29: HPE SN1100Q 16GB 2P FC HBA P/N:P9D94A | C29: 1 | D29: 3690126.2 | E29: =ROUND(D29*19%,0) -> 701124 | F29: =D29+E29 -> 4391250.2
A30: =A29+1 -> 25 | B30: HPE SN3000B OPTIONAL POWER SUPPLY P/N:QW939A | C30: 1 | D30: 7938022.7 | E30: =ROUND(D30*19%,0) -> 1508224 | F30: =D30+E30 -> 9446246.7
A31: =A30+1 -> 26 | B31: HPE 3PAR 8000 1.2TB+SW 10K SFF HDD P/N:K2P93B | C31: 1 | D31: 17716374 | E31: =ROUND(D31*19%,0) -> 3366111 | F31: =D31+E31 -> 21082485
A32: =A31+1 -> 27 | B32: HPE 3PAR 8000 920GB+SW SFF FE SSD P/N:K2P90B | C32: 1 | D32: 47831283 | E32: =ROUND(D32*19%,0) -> 9087944 | F32: =D32+E32 -> 56919227
A33: =A32+1 -> 28 | B33: HPE 3PAR 8000 8TB+SW 7.2K LFF HDD P/N:P9B44B | C33: 1 | D33: 16727868 | E33: =ROUND(D33*19%,0) -> 3178295 | F33: =D33+E33 -> 19906163
... A47: =A46+1 -> 42 | B47: FUENTE DE ALIMENTACIÓN 460 WATTS DL360 G7 | C47: 1 | D47: 678595.51 | E47: =ROUND(D47*19%,0) -> 128933 | F47: =D47+E47 -> 807528.51
A48: =A47+1 -> 43 | B48: DISCOS SAS/SATA7200 RPM 500GB DL360 G7 | D48: 1142026.7 | E48: =ROUND(D48*19%,0) -> 216985 | F48: =D48+E48 -> 1359011.7
A49: =A48+1 -> 44 | B49: MEMORIA MÓDULOS 6 GB (3 X 2 GB) PC3-10600R (DDR3-1333) DL360 G7 | C49: 1 | D49: 663060.95 | E49: =ROUND(D49*19%,0) -> 125982 | F49: =D49+E49 -> 789042.95
A50: =A49+1 -> 45 | B50: BOARD PROLIANT DL140 | C50: 1 | D50: 2154301 | E50: =ROUND(D50*19%,0) -> 409317 | F50: =D50+E50 -> 2563618
A51: =A50+1 -> 46 | B51: FUENTE DE ALIMENTACIÓN CA 120/230 V (50/60 HZ) - 650 VATIOS | C51: 1 | D51: 712729.25 | E51: =ROUND(D51*19%,0) -> 135419 | F51: =D51+E51 -> 848148.25
A52: =A51+1 -> 47 | B52: DISCOS HDD 2 X 250GB 7200 RPM SATA | C52: 1 | D52: 1561243.3 | E52: =ROUND(D52*19%,0) -> 296636 | F52: =D52+E52 -> 1857879.3
A53: =A52+1 -> 48 | B53: MEMORIA MÓDULOS DDR2 SDRAM2 GB / 32 GB | C53: 1 | D53: 440617.4 | E53: =ROUND(D53*19%,0) -> 83717 | F53: =D53+E53 -> 524334.4
A54: =A53+1 -> 49 | B54: MEMORIA 2 GB/ 144 GBDDR3 SDRAM1333 MHZPC3­10600 DL360 G6 | C54: 1 | D54: 505200.62 | E54: =ROUND(D54*19%,0) -> 95988 | F54: =D54+E54 -> 601188.62
A55: =A54+1 -> 50 | B55: DISCO DURO 250 GBSERIAL ATA­300 DL360 G6 | C55: 1 | D55: 1077151.1 | E55: =ROUND(D55*19%,0) -> 204659 | F55: =D55+E55 -> 1281810.1
A56: =A55+1 -> 51 | B56: FUENTE DE ALIMENTACIÓN CA 120/230 V ( 50/60 HZ ) DL360 G6 | C56: 1 | D56: 680166.94 | E56: =ROUND(D56*19%,0) -> 129232 | F56: =D56+E56 -> 809398.94
...
