Workbook
Name _Toc224153542: 'ESPECIFICACIONES TECNICAS'!$F$61
Name _Toc224153544: 'ESPECIFICACIONES TECNICAS'!$F$87
Name _Toc224153545: 'ESPECIFICACIONES TECNICAS'!$F$90
Name _Toc224153546: 'ESPECIFICACIONES TECNICAS'!$F$91
Name _Toc224153548: 'ESPECIFICACIONES TECNICAS'!$F$131
Name _Toc224153549: 'ESPECIFICACIONES TECNICAS'!$F$140
Name _Toc224153550: 'ESPECIFICACIONES TECNICAS'!$F$148
Name _Toc224153556: 'ESPECIFICACIONES TECNICAS'!#REF!
Name _Toc224153562: 'ESPECIFICACIONES TECNICAS'!$F$236
Name _Toc224153568: 'ESPECIFICACIONES TECNICAS'!$E$285
Name _Toc224153572: 'ESPECIFICACIONES TECNICAS'!$F$341
Name _Toc224153575: 'ESPECIFICACIONES TECNICAS'!$F$371

Sheet ESPECIFICACIONES TECNICAS
A2: Rev | B2: conteo | C2: ITEM | K2: Cotización 1 | M2: Cotización 2 | O2: Cotización 3 | Q2: TOMA DE DECISIONES | X2: RELACIÓN COTIZACIONES
D3: CARPETA | E3: MATERIALES E INSUMOS | F3: DESCRIPCIÓN | G3: CANTIDAD | H3: Unidad de medida | I3: Tiempo | J3: Unidad de medida | K3: Valor unitario sin IVA | L3: Valor total Sin IVA | M3: Valor unitario sin IVA | N3: Valor total Sin IVA | O3: Valor unitario sin IVA | P3: Valor total Sin IVA | Q3: PROMEDIO UNITARIO | R3: TOTAL PROMEDIO SIN IVA | S3: DESVIACIÓN ESTANDAR | T3: COEFICIENTE DE VARIACIÓN PROMEDIO | U3: MEDIANA UNITARIO | V3: TOTAL MEDIANA SIN IVA | W3: COEFICIENTE DE VARIACIÓN MEDIANA | X3: Cotización 1 | Y3: Cotización 2 | Z3: Cotización 3
A4: TH | C4: 1 | D4: 1 | E4: coordinador(a) general | F4: Profesional en Ciencias Humanas, Sociales, Administrativas, Educación o afines, con posgrado en Gerencia social, experiencia mínima de 3 años en coordinación de proyectos sociales | G4: 1 | H4: persona | I4: 6 | J4: meses | K4: 7996001 | L4: =+K4*G4*I4 -> 47976006 | Q4: =+AVERAGE(K4,M4,O4) -> 7996001 | R4: =+Q4*G4*I4 -> 47976006 | S4: =_xlfn.STDEV.P(K4,M4,O4) -> 0 | T4: =+S4/Q4 -> 0 | U4: =+MEDIAN(K4,M4,O4) -> 7996001 | V4: =+U4*G4*I4 -> 47976006 | W4: =+S4/U4 -> 0 | X4: TABLA DE HONORARIOS DE LA SECRETARIA DISTRITAL DE GOBIERNO
A5: TH | B5: =+COUNT(K5,M5,O5) -> 1 | C5: 2 | D5: 2 | E5: Profesional administrativo | F5: Profesional en Administración, Contaduría, Economía o áreas afines. Experiencia: Mínimo dos (2) años en apoyo administrativo y/o financiero en la ejecución de proyectos, manejo de bases de datos, control documental, elaboración de informes y seguimiento de información. | G5: 1 | H5: persona | I5: 6 | J5: meses | K5: 5860001 | L5: =+K5*G5*I5 -> 35160006 | Q5: =+AVERAGE(K5,M5,O5) -> 5860001 | R5: =+Q5*G5*I5 -> 35160006 | S5: =_xlfn.STDEV.P(K5,M5,O5) -> 0 | T5: =+S5/Q5 -> 0 | U5: =+MEDIAN(K5,M5,O5) -> 5860001 | V5: =+U5*G5*I5 -> 35160006 | W5: =+S5/U5 -> 0 | X5: TABLA DE HONORARIOS DE LA SECRETARIA DISTRITAL DE GOBIERNO
A6: TH | B6: =+COUNT(K6,M6,O6) -> 1 | C6: 3 | D6: 3 | E6: Profesional en Comunicación Social | F6: Profesional en Comunicación Social, Audiovisual o áreas afines. Experiencia: Mínimo dos (2) años en procesos comunitarios, producción de contenidos y estrategias comunicativas con enfoque social o de género. Deberá liderar la estrategia de comunicación, producción de contenidos y difusión. | G6: 1 | H6: persona | I6: 6 | J6: meses | K6: 5860001 | L6: =+K6*G6*I6 -> 35160006 | Q6: =+AVERAGE(K6,M6,O6) -> 5860001 | R6: =+Q6*G6*I6 -> 35160006 | S6: =_xlfn.STDEV.P(K6,M6,O6) -> 0 | T6: =+S6/Q6 -> 0 | U6: =+MEDIAN(K6,M6,O6) -> 5860001 | V6: =+U6*G6*I6 -> 35160006 | W6: =+S6/U6 -> 0 | X6: TABLA DE HONORARIOS DE LA SECRETARIA DISTRITAL DE GOBIERNO
A7: TH | B7: =+COUNT(K7,M7,O7) -> 1 | C7: 4 | D7: 4 | E7: PROFESIONAL PSICOSOCIAL | F7: Profesional en Psicología, Trabajo Social o áreas afines. Experiencia mínima de dos (2) años en acompañamiento psicosocial, intervención comunitaria o trabajo con población vulnerable, preferiblemente con mujeres. Deberá apoyar procesos de bienestar emocional, orientación y manejo de situaciones sensibles durante el desarrollo de las actividades | G7: 1 | H7: persona | I7: 6 | J7: meses | K7: 5860001 | L7: =+K7*G7*I7 -> 35160006 | Q7: =+AVERAGE(K7,M7,O7) -> 5860001 | R7: =+Q7*G7*I7 -> 35160006 | S7: =_xlfn.STDEV.P(K7,M7,O7) -> 0 | T7: =+S7/Q7 -> 0 | U7: =+MEDIAN(K7,M7,O7) -> 5860001 | V7: =+U7*G7*I7 -> 35160006 | W7: =+S7/U7 -> 0 | X7: TABLA DE HONORARIOS DE LA SECRETARIA DISTRITAL DE GOBIERNO
A8: TH | B8: =+COUNT(K8,M8,O8) -> 1 | C8: 5 | D8: 5 | E8: PROFESIONAL DE SEGUIMIENTO Y EVALUACIÓN | F8: Profesional en áreas sociales, administrativas o económicas. Experiencia mínima de dos (2) años en seguimiento, monitoreo o evaluación de proyectos. Responsable del diseño de instrumentos, consolidación de información, indicadores y elaboración de informes. | G8: 1 | H8: persona | I8: 6 | J8: meses | K8: 5860001 | L8: =+K8*G8*I8 -> 35160006 | Q8: =+AVERAGE(K8,M8,O8) -> 5860001 | R8: =+Q8*G8*I8 -> 35160006 | S8: =_xlfn.STDEV.P(K8,M8,O8) -> 0 | T8: =+S8/Q8 -> 0 | U8: =+MEDIAN(K8,M8,O8) -> 5860001 | V8: =+U8*G8*I8 -> 35160006 | W8: =+S8/U8 -> 0 | X8: TABLA DE HONORARIOS DE LA SECRETARIA DISTRITAL DE GOBIERNO
A9: TH | B9: =+COUNT(K9,M9,O9) -> 1 | C9: 6 | D9: 6 | E9: gestores/as de inscripción | F9: Técnica en áreas sociales, administrativas o de la salud, con 1 año de experiencia en actividades comunitarias o de inscripción en proyectos sociales. Con habilidades en atención al público, manejo de bases de datos y uso de herramientas digitales. | G9: 12 | H9: persona | I9: 2 | J9: meses | K9: 3224001 | L9: =+K9*G9*I9 -> 77376024 | Q9: =+AVERAGE(K9,M9,O9) -> 3224001 | R9: =+Q9*G9*I9 -> 77376024 | S9: =_xlfn.STDEV.P(K9,M9,O9) -> 0 | T9: =+S9/Q9 -> 0 | U9: =+MEDIAN(K9,M9,O9) -> 3224001 | V9: =+U9*G9*I9 -> 77376024 | W9: =+S9/U9 -> 0 | X9: TABLA DE HONORARIOS DE LA SECRETARIA DISTRITAL DE GOBIERNO
A10: TH | B10: =+COUNT(K10,M10,O10) -> 1 | C10: 7 | D10: 7 | E10: Diseñador (a) gráfico | F10: Profesional en Diseño Gráfico o áreas afines. Experiencia: Mínimo 1 año en diseño de piezas digitales e infografías; experiencia en visualización de información o mapas. Acreditación: Diploma o acta de grado y portafolio. Funciones: Diseño del mapa digital, diagramación de la información georreferenciada y adaptación a lineamientos institucionales. | G10: 3 | H10: persona | I10: 6 | J10: meses | K10: 5114001 | L10: =+K10*G10*I10 -> 92052018 | Q10: =+AVERAGE(K10,M10,O10) -> 5114001 | R10: =+Q10*G10*I10 -> 92052018 | S10: =_xlfn.STDEV.P(K10,M10,O10) -> 0 | T10: =+S10/Q10 -> 0 | U10: =+MEDIAN(K10,M10,O10) -> 5114001 | V10: =+U10*G10*I10 -> 92052018 | W10: =+S10/U10 -> 0 | X10: TABLA DE HONORARIOS DE LA SECRETARIA DISTRITAL DE GOBIERNO
A11: TH | B11: =+COUNT(K11,M11,O11) -> 1 | C11: 8 | D11: 8 | E11: community manager | F11: profesional en comunicación digital, diseño o afines. Experiencia mínima de un (1) año en gestión de redes sociales, análisis de métricas, posicionamiento digital y difusión de campañas sociales con enfoque comunitario. | G11: 1 | H11: persona | I11: 6 | J11: meses | K11: 5114001 | L11: =+K11*G11*I11 -> 30684006 | Q11: =+AVERAGE(K11,M11,O11) -> 5114001 | R11: =+Q11*G11*I11 -> 30684006 | S11: =_xlfn.STDEV.P(K11,M11,O11) -> 0 | T11: =+S11/Q11 -> 0 | U11: =+MEDIAN(K11,M11,O11) -> 5114001 | V11: =+U11*G11*I11 -> 30684006 | W11: =+S11/U11 -> 0 | X11: TABLA DE HONORARIOS DE LA SECRETARIA DISTRITAL DE GOBIERNO
A12: TH | B12: =+COUNT(K12,M12,O12) -> 3 | C12: 9 | D12: 9 | E12: Lenguaje de señas | F12: Certificación vigente en interpretación de LSC. Experiencia de 1 año en eventos. | G12: 2 | H12: persona | I12: 2 | J12: presentación | K12: 520000 | L12: =+K12*G12*I12 -> 2080000 | M12: =(455000*5.35%)+455000 -> 479342.5 | N12: =+M12*I12*G12 -> 1917370 | O12: =(500000*5.35%)+500000 -> 526750 | P12: =+O12*I12*G12 -> 2107000 | Q12: =+AVERAGE(K12,M12,O12) -> 508697.5 | R12: =+Q12*G12*I12 -> 2034790 | S12: =_xlfn.STDEV.P(K12,M12,O12) -> 20939.24 | T12: =+S12/Q12 -> 0.041162459 | U12: =+MEDIAN(K12,M12,O12) -> 520000 | V12: =+U12*G12*I12 -> 2080000 | W12: =+S12/U12 -> 0.040267769 | X12: CORPOINDECOL | Y12: MEDICOS SIN FORNTERAS | Z12: ANIMAL CITY
A13: TH | B13: =+COUNT(K13,M13,O13) -> 1 | C13: 10 | D13: 11 | E13: Profesional social | F13: Perfil: Profesional en Trabajo Social, Psicología, Sociología, Ciencia Política o áreas afines. Experiencia: Mínimo dos (2) años en intervención comunitaria con población vulnerable, especialmente mujeres, en procesos de acompañamiento social y fortalecimiento de capacidades con enfoque de género y derechos. Acreditación: Diploma o acta de grado y certificaciones de experiencia relacionada. | G13: 2 | H13: persona | I13: 6 | J13: meses | K13: 5860001 | L13: =+K13*G13*I13 -> 70320012 | Q13: =+AVERAGE(K13,M13,O13) -> 5860001 | R13: =+Q13*G13*I13 -> 70320012 | S13: =_xlfn.STDEV.P(K13,M13,O13) -> 0 | T13: =+S13/Q13 -> 0 | U13: =+MEDIAN(K13,M13,O13) -> 5860001 | V13: =+U13*G13*I13 -> 70320012 | W13: =+S13/U13 -> 0 | X13: TABLA DE HONORARIOS DE LA SECRETARIA DISTRITAL DE GOBIERNO
A14: 1 | F14: Meta 2 - 2026: Vincular 400 mujeres para el ejercicio de derechos y el fortalecimiento de su autonomía económica
A15: TH | B15: =+COUNT(K15,M15,O15) -> 1 | C15: 11 | D15: 10 | E15: Coordinador de la meta | F15: Perfil: Profesional en áreas sociales, económicas, administrativas o afines. Experiencia: Mínimo tres (3) años en coordinación de proyectos sociales o de desarrollo económico, con experiencia en trabajo con población vulnerable, especialmente mujeres, y en procesos de fortalecimiento de capacidades con enfoque de género. Acreditación: Diploma o acta de grado y certificaciones de experiencia relacionada. | G15: 1 | H15: persona | I15: 4 | J15: meses | K15: 5860001 | L15: =+K15*G15*I15 -> 23440004 | Q15: =+AVERAGE(K15,M15,O15) -> 5860001 | R15: =+Q15*G15*I15 -> 23440004 | S15: =_xlfn.STDEV.P(K15,M15,O15) -> 0 | T15: =+S15/Q15 -> 0 | U15: =+MEDIAN(K15,M15,O15) -> 5860001 | V15: =+U15*G15*I15 -> 23440004 | W15: =+S15/U15 -> 0 | X15: TABLA DE HONORARIOS DE LA SECRETARIA DISTRITAL DE GOBIERNO
A16: TH | B16: =+COUNT(K16,M16,O16) -> 1 | C16: 12 | D16: 13 | E16: Profesional en emprendimiento | F16: Perfil: Profesional en Administración, Economía, Contaduría, Ingeniería Industrial, Mercadeo o áreas afines. Experiencia: Mínimo dos (2) años en fortalecimiento de emprendimientos o generación de ingresos, con población vulnerable, especialmente mujeres, promoviendo autonomía económica con enfoque de género. Acreditación: Diploma o acta de grado y certificaciones de experiencia relacionada. | G16: 1 | H16: persona | I16: 4 | J16: meses | K16: 5860001 | L16: =+K16*G16*I16 -> 23440004 | Q16: =+AVERAGE(K16,M16,O16) -> 5860001 | R16: =+Q16*G16*I16 -> 23440004 | S16: =_xlfn.STDEV.P(K16,M16,O16) -> 0 | T16: =+S16/Q16 -> 0 | U16: =+MEDIAN(K16,M16,O16) -> 5860001 | V16: =+U16*G16*I16 -> 23440004 | W16: =+S16/U16 -> 0 | X16: TABLA DE HONORARIOS DE LA SECRETARIA DISTRITAL DE GOBIERNO
A17: 1 | F17: COMPONENTE 1 – PP 54149 DDifMujer. Apoyo económico para mujeres en vulnerabilidad económica, que contribuya a la reducción de la feminización de la pobreza.
A18: 1 | F18: Entrega de apoyos económicos para fortalecimiento productivo
A19: C | B19: =+COUNT(K19,M19,O19) -> 3 | C19: 13 | D19: 15 | E19: BONO TIPO 1 | F19: Valor simbolico en dinero por $5.000.000 libre de impuestos | G19: 50 | H19: unidad | K19: =+(5950000*100)/119 -> 5000000 | L19: =K19*G19 -> 250000000 | M19: =+(5950000*100)/119 -> 5000000 | N19: =+M19*G19 -> 250000000 | O19: =+(5950000*100)/119 -> 5000000 | P19: =+O19*G19 -> 250000000 | Q19: =+AVERAGE(K19,M19,O19) -> 5000000 | R19: =+Q19*G19 -> 250000000 | S19: =_xlfn.STDEV.P(K19,M19,O19) -> 0 | T19: =+S19/Q19 -> 0 | U19: =+MEDIAN(K19,M19,O19) -> 5000000 | V19: =+U19*G19 -> 250000000 | W19: =+S19/U19 -> 0 | X19: BONO | Y19: BONO | Z19: BONO
A20: C | B20: =+COUNT(K20,M20,O20) -> 3 | C20: 14 | D20: 16 | E20: BONO TIPO 2 | F20: Valor simbolico en dinero por $1.000.000 libre de impuestos | G20: 50 | H20: unidad | K20: =+(1190000*100)/119 -> 1000000 | L20: =K20*G20 -> 50000000 | M20: =+(1190000*100)/119 -> 1000000 | N20: =+M20*G20 -> 50000000 | O20: =+(1190000*100)/119 -> 1000000 | P20: =+O20*G20 -> 50000000 | Q20: =+AVERAGE(K20,M20,O20) -> 1000000 | R20: =+Q20*G20 -> 50000000 | S20: =_xlfn.STDEV.P(K20,M20,O20) -> 0 | T20: =+S20/Q20 -> 0 | U20: =+MEDIAN(K20,M20,O20) -> 1000000 | V20: =+U20*G20 -> 50000000 | W20: =+S20/U20 -> 0 | X20: BONO | Y20: BONO | Z20: BONO
A21: C | B21: =+COUNT(K21,M21,O21) -> 3 | C21: 15 | D21: 17 | E21: Alquiler Espacio de Formación | F21: Alquiler de salon comunal con aforo para minimo (25 - 50 personas), con todo el equipamiento tecnologico (sonido, proyector, microfonos), silleteria, espacio para alimentacion minimo uno (1) baño para el desarrollo del fortalecimiento | G21: 20 | H21: sesiones | I21: 2 | J21: horas | K21: 0 | L21: =+K21*G21*I21 -> 0 | M21: 200000 | N21: =+M21*I21*G21 -> 8000000 | O21: 350000 | P21: =+O21*I21*G21 -> 14000000 | Q21: =+AVERAGE(M21,O21) -> 275000 | R21: =+Q21*G21*I21 -> 11000000 | S21: =_xlfn.STDEV.P(M21,O21) -> 75000 | T21: =+S21/Q21 -> 0.27272727 | U21: =+MEDIAN(M21,O21) -> 275000 | V21: =+U21*G21*I21 -> 11000000 | W21: =+S21/U21 -> 0.27272727 | Y21: FUNDACION GESTION SOCIAL CON PROPOSITO | Z21: ASESOL
A22: TH | B22: =+COUNT(K22,M22,O22) -> 1 | C22: 16 | D22: 18 | E22: Profesional formador con enfoque en emprendimiento y género | F22: Perfil: Profesional en áreas administrativas, económicas, sociales o afines. Experiencia: Mínimo dos (2) años en formación a población vulnerable, especialmente mujeres, en fortalecimiento de emprendimientos o generación de ingresos, con conocimientos en enfoque de género, derechos de las mujeres y metodologías participativas. Acreditación: Diploma o acta de grado y certificaciones de experiencia relacionada. | G22: 2 | H22: persona | I22: 10 | J22: sesión | K22: =+(5860001/30) -> 195333.37 | L22: =+K22*G22*I22 -> 3906667.3 | Q22: =+AVERAGE(K22,M22,O22) -> 195333.37 | R22: =+Q22*G22*I22 -> 3906667.3 | S22: =_xlfn.STDEV.P(K22,M22,O22) -> 0 | T22: =+S22/Q22 -> 0 | U22: =+MEDIAN(K22,M22,O22) -> 195333.37 | V22: =+U22*G22*I22 -> 3906667.3 | W22: =+S22/U22 -> 0 | X22: TABLA DE HONORARIOS DE LA SECRETARIA DISTRITAL DE GOBIERNO
A23: C | B23: =+COUNT(K23,M23,O23) -> 3 | C23: 17 | D23: 19 | E23: Estacion de Café | F23: Servicio de cafetería (tinto, aromática y agua): Operario + presentación mesa + vasos de cartón bebida caliente 4 oz. + mezclador + azúcar + crema para café+snack Para: 100 personas Duración del evento aprox. 6 horas. Transporte incluido | G23: 1 | H23: unidad | I23: 20 | J23: sesión | K23: =+(874650*100)/119 -> 735000 | L23: =+K23*G23*I23 -> 14700000 | M23: =+(1276560*100)/119 -> 1072739.5 | N23: =+M23*I23*G23 -> 21454790 | O23: =+(1480000*100)/119 -> 1243697.5 | P23: =+O23*I23*G23 -> 24873950 | Q23: =+AVERAGE(K23,M23,O23) -> 1017145.7 | R23: =+Q23*G23*I23 -> 20342913 | S23: =_xlfn.STDEV.P(K23,M23,O23) -> 211362.7 | T23: =+S23/Q23 -> 0.20779984 | U23: =+MEDIAN(K23,M23,O23) -> 1072739.5 | V23: =+U23*G23*I23 -> 21454790 | W23: =+S23/U23 -> 0.19703078 | X23: COPAE | Y23: el cafetal | Z23: La Vittoria
A24: C | B24: =+COUNT(K24,M24,O24) -> 3 | C24: 18 | D24: 20 | E24: Alquiler Espacio de Formación | F24: Alquiler de espacio comunitario y social con aforo para minimo (100 - 200 personas), con todo el equipamiento tecnologico (sonido, proyector, microfonos), silleteria, espacio para alimentacion minimo dos (2) baño para el desarrollo del fortalecimiento | G24: 1 | H24: unidad | I24: 1 | J24: día | K24: 0 | L24: =+K24*G24*I24 -> 0 | M24: 700000 | N24: =+M24*I24*G24 -> 700000 | O24: 750000 | P24: =+O24*I24*G24 -> 750000 | Q24: =+AVERAGE(M24,O24) -> 725000 | R24: =+Q24*G24*I24 -> 725000 | S24: =_xlfn.STDEV.P(M24,O24) -> 25000 | T24: =+S24/Q24 -> 0.034482759 | U24: =+MEDIAN(K24,M24,O24) -> 700000 | V24: =+U24*G24*I24 -> 700000 | W24: =+S24/U24 -> 0.035714286 | Y24: FUNDACION GESTION SOCIAL CON PROPOSITO | Z24: ASESOL
A25: TH | B25: =+COUNT(K25,M25,O25) -> 1 | C25: 19 | D25: 21 | E25: Maestro/a de Ceremonias | F25: Perfil: Técnico o profesional en comunicación, locución o áreas afines. Experiencia: Mínimo un (1) año en conducción de eventos sociales o comunitarios, preferiblemente en actividades dirigidas a población vulnerable, con enfoque inclusivo y de género. Acreditación: Certificado de estudios y certificaciones de experiencia. | G25: 1 | H25: persona | I25: 1 | J25: día | K25: =+(3224001/30) -> 107466.7 | L25: =+K25*G25*I25 -> 107466.7 | Q25: =+AVERAGE(K25,M25,O25) -> 107466.7 | R25: =+Q25*G25*I25 -> 107466.7 | S25: =_xlfn.STDEV.P(K25,M25,O25) -> 0 | T25: =+S25/Q25 -> 0 | U25: =+MEDIAN(K25,M25,O25) -> 107466.7 | V25: =+U25*G25*I25 -> 107466.7 | W25: =+S25/U25 -> 0 | X25: TABLA DE HONORARIOS DE LA SECRETARIA DISTRITAL DE GOBIERNO
A26: C | B26: =+COUNT(K26,M26,O26) -> 3 | C26: 20 | D26: 22 | E26: Estacion de Café | F26: Servicio de cafetería (tinto, aromática y agua): Operario + presentación mesa + vasos de cartón bebida caliente 4 oz. + mezclador + azúcar + crema para café+snack Para: 200 personas Duración del evento aprox. 6 horas. Transporte incluido | G26: 1 | H26: unidad | I26: 1 | J26: día | K26: =+(1180050*100)/119 -> 991638.66 | L26: =+K26*G26*I26 -> 991638.66 | M26: =+(2553120*100)/119 -> 2145479 | N26: =+M26*I26*G26 -> 2145479 | O26: =+(2680000*100)/119 -> 2252100.8 | P26: =+O26*I26*G26 -> 2252100.8 | Q26: =+AVERAGE(K26,M26,O26) -> 1796406.2 | R26: =+Q26*G26*I26 -> 1796406.2 | S26: =_xlfn.STDEV.P(K26,M26,O26) -> 570718.91 | T26: =+S26/Q26 -> 0.31770037 | U26: =+MEDIAN(K26,M26,O26) -> 2145479 | V26: =+U26*G26*I26 -> 2145479 | W26: =+S26/U26 -> 0.26601002 | X26: CORPAE | Y26: el cafetal | Z26: La Vittoria
A27: C | B27: =+COUNT(K27,M27,O27) -> 3 | C27: 21 | D27: 23 | E27: Refrigerio | F27: PRODUCTO SÓLIDO PRINCIPAL: Un (1) sándwich tipo baguette de jamón, queso, lechuga y salsas de 250 gr; y/o un (1) sándwich tipo baguette de pollo, lechuga y salsas de 250 gr; y/o un (1) perro caliente de mínimo 14 cm. COMPLEMENTO: Un (1) brownie de mínimo 80 gr. BEBIDA: Un (1) jugo natural de fruta, mínimo 200 ml, sin adición de azúcar, conservantes, colorantes ni saborizantes artificiales, entregado en envase individual apto para consumo. FRUTA DE TEMPORADA: Una (1) porción de fruta de mínimo 120 gr, como manzana, pera, banano, mango, pitaya, granadilla u otra fruta de temporada. Nota: No se permiten bebidas azucaradas, gaseosas ni productos ultraprocesados. El refrigerio deberá entregarse en empaque individual, en bandeja elaborada en cartón 100% reciclable y biodegradable, ser balanceado y cumplir con la normatividad vigente en cuanto a condiciones organolépticas, conservación, transporte y entrega en el sitio de las reuniones. | G27: 110 | H27: unidad | K27: =+(18000*100)/119 -> 15126.05 | L27: =K27*G27 -> 1663865.5 | M27: =+(19500*100)/119 -> 16386.555 | N27: =G27*M27 -> 1802521 | O27: =+(18500*100)/119 -> 15546.218 | P27: =G27*O27 -> 1710084 | Q27: =+AVERAGE(K27,M27,O27) -> 15686.275 | R27: =+Q27*G27 -> 1725490.2 | S27: =_xlfn.STDEV.P(K27,M27,O27) -> 524.04165 | T27: =+S27/Q27 -> 0.033407655 | U27: =+MEDIAN(K27,M27,O27) -> 15546.218 | V27: =+U27*G27 -> 1710084 | W27: =+S27/U27 -> 0.033708625 | X27: BETTY CAMPOS MORALES | Y27: MANUFACTURAS ALIMENTICIAS | Z27: YARA ALIMENTOS
A28: TH | B28: =+COUNT(K28,M28,O28) -> 1 | C28: 22 | D28: 24 | E28: Auxiliar logístico | F28: Perfil: Bachiller o técnico. Experiencia: Mínimo seis (6) meses en apoyo logístico de eventos, desarrollo de actividades operativas del evento como entrega de incentivos, logística, registro y atención a participantes. Acreditación: Certificado de estudios y/o certificaciones de experiencia Incluye: Alimentación y transporte | G28: 8 | H28: persona | I28: 1 | J28: día | K28: =+(1602000/30) -> 53400 | L28: =+K28*G28*I28 -> 427200 | Q28: =+AVERAGE(K28,M28,O28) -> 53400 | R28: =+Q28*G28*I28 -> 427200 | S28: =_xlfn.STDEV.P(K28,M28,O28) -> 0 | T28: =+S28/Q28 -> 0 | U28: =+MEDIAN(K28,M28,O28) -> 53400 | V28: =+U28*G28*I28 -> 427200 | W28: =+S28/U28 -> 0 | X28: TABLA DE HONORARIOS DE LA SECRETARIA DISTRITAL DE GOBIERNO
A29: 1 | F29: COMPONENTE 2 – PP 54149 DDifMujer. MUESTRAS DE EXPERIENCIAS Y BONO REDIMIBLE
A30: TH | B30: =+COUNT(K30,M30,O30) -> 1 | C30: 23 | D30: 25 | E30: Auxiliar logístico | F30: Perfil: Bachiller o técnico. Experiencia: Mínimo seis (6) meses en apoyo logístico de eventos, desarrollo de actividades operativas del evento como entrega de incentivos, logística, registro y atención a participantes. Acreditación: Certificado de estudios y/o certificaciones de experiencia Incluye: Alimentación y transporte | G30: 4 | H30: persona | I30: 5 | J30: día | K30: =+(1602000/30) -> 53400 | L30: =+K30*G30*I30 -> 1068000 | Q30: =+AVERAGE(K30,M30,O30) -> 53400 | R30: =+Q30*G30*I30 -> 1068000 | S30: =_xlfn.STDEV.P(K30,M30,O30) -> 0 | T30: =+S30/Q30 -> 0 | U30: =+MEDIAN(K30,M30,O30) -> 53400 | V30: =+U30*G30*I30 -> 1068000 | W30: =+S30/U30 -> 0 | X30: TABLA DE HONORARIOS DE LA SECRETARIA DISTRITAL DE GOBIERNO
A31: TH | B31: =+COUNT(K31,M31,O31) -> 1 | C31: 24 | D31: 26 | E31: Auxiliar administrativa | F31: Perfil: Bachiller. Experiencia : Mínimo veinticuatro (24) meses de experiencia en apoyo administrativo a la ejecución de proyectos sociales, realizando actividades de archivo, manejo documental, apoyo logístico y seguimiento básico. Acreditación: Certificado de estudios y certificaciones de experiencia laboral | G31: 1 | H31: unidad | I31: 3 | J31: meses | K31: 2146001 | L31: =+K31*G31*I31 -> 6438003 | Q31: =+AVERAGE(K31,M31,O31) -> 2146001 | R31: =+Q31*G31*I31 -> 6438003 | S31: =_xlfn.STDEV.P(K31,M31,O31) -> 0 | T31: =+S31/Q31 -> 0 | U31: =+MEDIAN(K31,M31,O31) -> 2146001 | V31: =+U31*G31*I31 -> 6438003 | W31: =+S31/U31 -> 0 | X31: TABLA DE HONORARIOS DE LA SECRETARIA DISTRITAL DE GOBIERNO
A32: C | B32: =+COUNT(K32,M32,O32) -> 3 | C32: 25 | D32: 27 | E32: Incentivo – Bono redimible | F32: Incentivo económico-Bono redimible en almacén o empresa de grandes superficies. Valor: Quinientos mil pesos ($500.000) por beneficiario. Entrega: Bono físico o digital, válido para redención según condiciones del proveedor. | G32: 100 | H32: unidad | K32: =+(595000*100)/119 -> 500000 | L32: =K32*G32 -> 50000000 | M32: =+(595000*100)/119 -> 500000 | N32: =G32*M32 -> 50000000 | O32: =+(595000*100)/119 -> 500000 | P32: =G32*O32 -> 50000000 | Q32: =+AVERAGE(K32,M32,O32) -> 500000 | R32: =+Q32*G32 -> 50000000 | S32: =_xlfn.STDEV.P(K32,M32,O32) -> 0 | T32: =+S32/Q32 -> 0 | U32: =+MEDIAN(K32,M32,O32) -> 500000 | V32: =+U32*G32 -> 50000000 | W32: =+S32/U32 -> 0 | X32: BONO | Y32: BONO | Z32: BONO
A33: C | B33: =+COUNT(K33,M33,O33) -> 3 | C33: 26 | D33: 28 | E33: Alquiler de carpas | F33: carpa 2 x 2 a 4 aguas con laterales Incluye: Transporte, montaje, anclaje, desmontaje y retiro al finalizar el evento. Entrega: Carpas instaladas, seguras y operativas en los puntos definidos. | G33: 20 | H33: unidad | I33: 5 | J33: día | K33: =(226100*5.35%)+160000 -> 172096.35 | L33: =+K33*G33*I33 -> 17209635 | M33: =+(190400*100)/119 -> 160000 | N33: =+M33*I33*G33 -> 16000000 | O33: 109243 | P33: =+O33*I33*G33 -> 10924300 | Q33: =+AVERAGE(K33,M33,O33) -> 147113.12 | R33: =+Q33*G33*I33 -> 14711312 | S33: =_xlfn.STDEV.P(K33,M33,O33) -> 27229.76 | T33: =+S33/Q33 -> 0.18509403 | U33: =+MEDIAN(K33,M33,O33) -> 160000 | V33: =+U33*G33*I33 -> 16000000 | W33: =+S33/U33 -> 0.170186 | X33: D&R PRODUCCIONES | Y33: TECNICARPAS | Z33: NEMESIS
A34: C | B34: =+COUNT(K34,M34,O34) -> 3 | C34: 27 | D34: 29 | E34: Alquiler Sillas plásticas | F34: Sillas plasticas sin brazos de medidas Profundidad : 52.5 cm ; Alto : 87.5 cm; Color Blanco); (En alquiler y todo incluye puesta en sitio y recogida al finalizar el evento) Los elementos, de acuerdo con las cantidades solicitadas, han sido consolidados de manera unificada para evitar repeticiones. Dichos insumos y sus respectivas cantidades serán distribuidos según las necesidades específicas de cada una de las actividades programadas. | G34: 40 | H34: unidad | I34: 5 | J34: día | K34: =+(2142*100)/119 -> 1800 | L34: =+K34*G34*I34 -> 360000 | M34: =+(1700.51*100)/119 -> 1429 | N34: =+M34*I34*G34 -> 285800 | O34: =+(2975*100)/119 -> 2500 | P34: =+O34*I34*G34 -> 500000 | Q34: =+AVERAGE(K34,M34,O34) -> 1909.6667 | R34: =+Q34*G34*I34 -> 381933.33 | S34: =_xlfn.STDEV.P(K34,M34,O34) -> 444.0573 | T34: =+S34/Q34 -> 0.23253132 | U34: =+MEDIAN(K34,M34,O34) -> 1800 | V34: =+U34*G34*I34 -> 360000 | W34: =+S34/U34 -> 0.2466985 | X34: Aquileresbogota | Y34: Alvaro castañeda | Z34: MYM
A35: C | B35: =+COUNT(K35,M35,O35) -> 3 | C35: 28 | D35: 30 | E35: Alquiler Mesas | F35: Mesa plegable tipo portafolio de 1.8 metros con estructura reforzada y fácil transporte. Incluye transporte | G35: 20 | H35: unidad | I35: 5 | J35: día | K35: =+(21420*100)/119 -> 18000 | L35: =+K35*G35*I35 -> 1800000 | M35: =+(12000*100)/119 -> 10084.034 | N35: =+M35*I35*G35 -> 1008403.4 | O35: =+(22900*100)/119 -> 19243.697 | P35: =+O35*I35*G35 -> 1924369.7 | Q35: =+AVERAGE(K35,M35,O35) -> 15775.91 | R35: =+Q35*G35*I35 -> 1577591 | S35: =_xlfn.STDEV.P(K35,M35,O35) -> 4056.6646 | T35: =+S35/Q35 -> 0.25714298 | U35: =+MEDIAN(K35,M35,O35) -> 18000 | V35: =+U35*G35*I35 -> 1800000 | W35: =+S35/U35 -> 0.22537026 | X35: Alquileres bogota | Y35: MYM | Z35: Alvaro castañeda
A36: C | B36: =+COUNT(K36,M36,O36) -> 3 | C36: 29 | D36: 31 | E36: Parlante | F36: Tipo: Amplificador o parlante activo con conexión inalámbrica o cableada. Potencia: Mínimo 80W – 120W, ideal para espacios abiertos o medianos. Conectividad: Bluetooth Entrada USB Entrada auxiliar (3.5 mm o RCA) Batería recargable o conexión directa a corriente. Incluye: Perilla de control de volumen, bajos y agudos. Uso previsto: Apoyo en jornadas lúdicas, educativas o comunitarias que requieren proyección de audio o música ambiental. Alquiler y todo incluye puesta en sitio y recogida al finalizar el evento Los elementos, de acuerdo con las cantidades solicitadas, han sido consolidados de manera unificada para evitar repeticiones. Dichos insumos y sus respectivas cantidades serán distribuidos según las necesidades específicas de cada una de las actividades programadas. | G36: 2 | H36: unidad | I36: 5 | J36: día | K36: =+(416500*100)/119 -> 350000 | L36: =+K36*G36*I36 -> 3500000 | M36: =+(571200*100)/119 -> 480000 | N36: =+M36*I36*G36 -> 4800000 | O36: =+(416500*100)/119 -> 350000 | P36: =+O36*I36*G36 -> 3500000 | Q36: =+AVERAGE(K36,M36,O36) -> 393333.33 | R36: =+Q36*G36*I36 -> 3933333.3 | S36: =_xlfn.STDEV.P(K36,M36,O36) -> 61282.588 | T36: =+S36/Q36 -> 0.15580319 | U36: =+MEDIAN(K36,M36,O36) -> 350000 | V36: =+U36*G36*I36 -> 3500000 | W36: =+S36/U36 -> 0.17509311 | X36: TK PRODUCCIONES | Y36: D&R PRODUCCIONES | Z36: NEMESIS
A37: C | B37: =+COUNT(K37,M37,O37) -> 3 | C37: 30 | D37: 32 | E37: Base para Parlante | F37: Trípode Soporte Para Bafle Parlantes 90-125cm Hasta 40kg Color Negro. | G37: 2 | H37: unidad | I37: 1 | K37: =+(82999*100)/119 -> 69747.059 | L37: =+K37*G37*I37 -> 139494.12 | M37: =+(79900*100)/119 -> 67142.857 | N37: =+M37*I37*G37 -> 134285.71 | O37: =+(129900*100)/119 -> 109159.66 | P37: =+O37*I37*G37 -> 218319.33 | Q37: =+AVERAGE(K37,M37,O37) -> 82016.527 | R37: =+Q37*G37*I37 -> 164033.05 | S37: =_xlfn.STDEV.P(K37,M37,O37) -> 19222.52 | T37: =+S37/Q37 -> 0.23437373 | U37: =+MEDIAN(K37,M37,O37) -> 69747.059 | V37: =+U37*G37*I37 -> 139494.12 | W37: =+S37/U37 -> 0.2756033 | X37: FALABELLA | Y37: LUEGOPAGO | Z37: KALLEY
A38: C | B38: =+COUNT(K38,M38,O38) -> 3 | C38: 31 | D38: 33 | E38: ALQUILER DE JUEGO DE MICROFONO INALAMBRICO | F38: Micrófono profesional con o sin manos libres para eventos, debe tener capacidad de operación de baterías recargables o de alta duración. Unidad. | G38: 1 | H38: unidad | I38: 5 | J38: día | K38: =+(214200*100)/119 -> 180000 | L38: =+K38*G38*I38 -> 900000 | M38: =+(190400*100)/119 -> 160000 | N38: =+M38*I38*G38 -> 800000 | O38: =+(238000*100)/119 -> 200000 | P38: =+O38*I38*G38 -> 1000000 | Q38: =+AVERAGE(K38,M38,O38) -> 180000 | R38: =+Q38*G38*I38 -> 900000 | S38: =_xlfn.STDEV.P(K38,M38,O38) -> 16329.932 | T38: =+S38/Q38 -> 0.090721842 | U38: =+MEDIAN(K38,M38,O38) -> 180000 | V38: =+U38*G38*I38 -> 900000 | W38: =+S38/U38 -> 0.090721842 | X38: TK PRODUCCIONES | Y38: D&R PRODUCCIONES | Z38: NEMESIS
A39: TH | B39: =+COUNT(K39,M39,O39) -> 1 | C39: 32 | D39: 34 | E39: Presentadora | F39: Perfil: Técnico o persona con experiencia en animación o presentación de eventos. Experiencia: Mínimo un (1) año en actividades de animación o promoción en eventos comunitarios, preferiblemente con población vulnerable, especialmente mujeres, con enfoque de género. Acreditación: Certificaciones de experiencia relacionada. | G39: 1 | H39: persona | I39: 5 | J39: día | K39: =+(3224001/30) -> 107466.7 | L39: =+K39*G39*I39 -> 537333.5 | Q39: =+AVERAGE(K39,M39,O39) -> 107466.7 | R39: =+Q39*G39*I39 -> 537333.5 | S39: =_xlfn.STDEV.P(K39,M39,O39) -> 0 | T39: =+S39/Q39 -> 0 | U39: =+MEDIAN(K39,M39,O39) -> 107466.7 | V39: =+U39*G39*I39 -> 537333.5 | W39: =+S39/U39 -> 0 | X39: TABLA DE HONORARIOS DE LA SECRETARIA DISTRITAL DE GOBIERNO
A40: C | B40: =+COUNT(K40,M40,O40) -> 3 | C40: 33 | D40: 35 | E40: Pendon | F40: Pendón publicitario en lona de PVC o lona vinílica, para cada emprendimiento, con medidas de 50x70cm (deberá contener nombre del emprendimiento y canales de comunicación disponibles) | G40: 100 | H40: unidad | K40: =+(21658*100)/119 -> 18200 | L40: =K40*G40 -> 1820000 | M40: =+(12495*100)/119 -> 10500 | N40: =G40*M40 -> 1050000 | O40: =+(17255*100)/119 -> 14500 | P40: =G40*O40 -> 1450000 | Q40: =+AVERAGE(K40,M40,O40) -> 14400 | R40: =+Q40*G40 -> 1440000 | S40: =_xlfn.STDEV.P(K40,M40,O40) -> 3144.307 | T40: =+S40/Q40 -> 0.21835465 | U40: =+MEDIAN(K40,M40,O40) -> 14500 | V40: =+U40*G40 -> 1450000 | W40: =+S40/U40 -> 0.21684876 | X40: KAVAS PRINT | Y40: SOLUCIONES TRIADA | Z40: CASTELL GRAPHICS
A41: C | B41: =+COUNT(K41,M41,O41) -> 3 | C41: 34 | D41: 36 | E41: Pendon | F41: Pendones en lona PVC o lona vinílica, con medidas de 180x80 cms y soporte tipo araña de 180x80 cms (allí será relacionado el contenido con enfoque incluyente, cultural, festivo y de reconocimiento a las mujeres) este esta definido por la alcaldia local para identificar el evento. | G41: 2 | H41: unidad | K41: =+(214200*100)/119 -> 180000 | L41: =K41*G41 -> 360000 | M41: =+(226100*100)/119 -> 190000 | N41: =G41*M41 -> 380000 | O41: =+(214200*100)/119 -> 180000 | P41: =G41*O41 -> 360000 | Q41: =+AVERAGE(K41,M41,O41) -> 183333.33 | R41: =+Q41*G41 -> 366666.67 | S41: =_xlfn.STDEV.P(K41,M41,O41) -> 4714.0452 | T41: =+S41/Q41 -> 0.025712974 | U41: =+MEDIAN(K41,M41,O41) -> 180000 | V41: =+U41*G41 -> 360000 | W41: =+S41/U41 -> 0.02618914 | X41: KAVAS PRINT | Y41: SOLUCIONES TRIADA | Z41: CASTELL GRAPHICS
...

Sheet Hoja1

Sheet METAS
C1: TOTAL PROMEDIO SIN IVA | D1: IVA | E1: TOTAL PROMEDIO | F1: TOTAL MEDIANA SIN IVA | G1: IVA | H1: TOTAL MEDIANA | K1: TOTAL PROMEDIO SIN IVA | L1: IVA | M1: TOTAL PROMEDIO | N1: % SOBRE TOTAL | O1: TOTAL MEDIANA SIN IVA | P1: IVA | Q1: TOTAL MEDIANA | R1: % SOBRE TOTAL | T1: PROYECTO | U1: DISPONIBLE | V1: DIFERENCIA TOTAL PROMEDIO | W1: DIFERENCIA TOTAL MEDIANA
B2: TH GENERAL | C2: =SUM('ESPECIFICACIONES TECNICAS'!R4:R13) -> 461082880 | D2: =C2*19% -> 87605747 | E2: =C2+D2 -> 5.4868863e+08 | F2: =SUM('ESPECIFICACIONES TECNICAS'!V4:V13) -> 461128090 | G2: =F2*19% -> 87614337 | H2: =F2+G2 -> 5.4874243e+08 | J2: TH GENERAL | K2: =C2 -> 461082880 | L2: =K2*19% -> 87605747 | M2: =K2+L2 -> 5.4868863e+08 | N2: =M2/$M$8 -> 0.14212274 | O2: =F2 -> 461128090 | P2: =O2*19% -> 87614337 | Q2: =O2+P2 -> 5.4874243e+08 | R2: =Q2/$Q$8 -> 0.14146499 | V2: =M2 -> 5.4868863e+08 | W2: =Q2 -> 5.4874243e+08 | AA2: TOTAL MEDIANA | AF2: TOTAL PROMEDIO
B3: Meta 2 - 2026: Vincular 400 mujeres para el ejercicio de derechos y el fortalecimiento de su autonomía económica | C3: =C4+C5+C7+C8 -> 7.0838138e+08 | D3: =C3*19% -> 1.3459246e+08 | E3: =C3+D3 -> 8.4297384e+08 | F3: =F4+F5+F7+F8 -> 7.0850147e+08 | G3: =F3*19% -> 1.3461528e+08 | H3: =F3+G3 -> 8.4311675e+08 | J3: META 2 AUTO_ECO | K3: =SUM('ESPECIFICACIONES TECNICAS'!R15:R85) -> 7.0838138e+08 | L3: =K3*19% -> 1.3459246e+08 | M3: =K3+L3 -> 8.4297384e+08 | N3: =M3/$M$8 -> 0.21834926 | O3: =SUM('ESPECIFICACIONES TECNICAS'!V15:V85) -> 7.0850147e+08 | P3: =O3*19% -> 1.3461528e+08 | Q3: =O3+P3 -> 8.4311675e+08 | R3: =Q3/$Q$8 -> 0.21735425 | T3: 2375 | U3: 1238295000 | V3: =U3-M3 -> 3.9532116e+08 | W3: =U3-Q3 -> 3.9517825e+08 | Y3: 2375 | Z3: META 2 AUTO_ECO | AA3: =Q3+Q7 -> 9.6211675e+08 | AD3: 2375 | AE3: META 2 AUTO_ECO | AF3: =M3+M7 -> 9.6197384e+08
B4: TH | C4: =SUM('ESPECIFICACIONES TECNICAS'!R15:R16) -> 46880008 | D4: =C4*19% -> 8907201.5 | E4: =C4+D4 -> 55787210 | F4: =SUM('ESPECIFICACIONES TECNICAS'!V15:V16) -> 46880008 | G4: =F4*19% -> 8907201.5 | H4: =F4+G4 -> 55787210 | J4: META 3 CUIDADORAS | K4: =SUM('ESPECIFICACIONES TECNICAS'!R88:R185) -> 1.2256894e+09 | L4: =K4*19% -> 2.3288099e+08 | M4: =K4+L4 -> 1.4585704e+09 | N4: =M4/$M$8 -> 0.37780268 | O4: =SUM('ESPECIFICACIONES TECNICAS'!V88:V185) -> 1.2299653e+09 | P4: =O4*19% -> 2.3369341e+08 | Q4: =O4+P4 -> 1.4636587e+09 | R4: =Q4/$Q$8 -> 0.37732905 | T4: 2375 | U4: 1228825000 | V4: =U4-M4 -> -2.2974542e+08 | W4: =U4-Q4 -> -2.348337e+08 | Y4: 2375 | Z4: META 3 CUIDADORAS | AA4: =Q4 -> 1.4636587e+09 | AB4: =AA4-U4 -> 2.348337e+08 | AD4: 2375 | AE4: META 3 CUIDADORAS | AF4: =M4 -> 1.4585704e+09 | AG4: =AF4-U4 -> 2.2974542e+08
B5: COMPONENTE 1 – PP 54149 DDifMujer. Apoyo económico para mujeres en vulnerabilidad económica, que contribuya a la reducción de la feminización de la pobreza. | C5: =C6 -> 3.4003114e+08 | D5: =C5*19% -> 64605917 | E5: =C5+D5 -> 4.0463706e+08 | F5: =F6 -> 3.4145169e+08 | G5: =F5*19% -> 64875821 | H5: =F5+G5 -> 4.0632751e+08 | J5: META 4 INT SOCIAL | K5: =SUM('ESPECIFICACIONES TECNICAS'!R188:R237) -> 75320275 | L5: =K5*19% -> 14310852 | M5: =K5+L5 -> 89631127 | N5: =M5/$M$8 -> 0.023216486 | O5: =SUM('ESPECIFICACIONES TECNICAS'!V188:V237) -> 78087475 | P5: =O5*19% -> 14836620 | Q5: =O5+P5 -> 92924095 | R5: =Q5/$Q$8 -> 0.023955694 | T5: 2375 | U5: 837734000 | V5: =U5-M5 -> 7.4810287e+08 | W5: =U5-Q5 -> 7.448099e+08 | Y5: 2375 | Z5: META 4 INT SOCIAL | AA5: =Q5+Q2 -> 6.4166652e+08 | AD5: 2375 | AE5: META 4 INT SOCIAL | AF5: =M5+M2 -> 6.3831975e+08
A6: Act | B6: Entrega de apoyos económicos para fortalecimiento productivo | C6: =SUM('ESPECIFICACIONES TECNICAS'!R19:R28) -> 3.4003114e+08 | D6: =C6*19% -> 64605917 | E6: =C6+D6 -> 4.0463706e+08 | F6: =SUM('ESPECIFICACIONES TECNICAS'!V19:V28) -> 3.4145169e+08 | G6: =F6*19% -> 64875821 | H6: =F6+G6 -> 4.0632751e+08 | J6: META VIOLENCIAS | K6: =SUM('ESPECIFICACIONES TECNICAS'!R239:R399) -> 6.7378424e+08 | L6: =K6*19% -> 1.2801901e+08 | M6: =K6+L6 -> 8.0180325e+08 | N6: =M6/$M$8 -> 0.20768515 | O6: =SUM('ESPECIFICACIONES TECNICAS'!V239:V399) -> 6.8198004e+08 | P6: =O6*19% -> 1.2957621e+08 | Q6: =O6+P6 -> 8.1155624e+08 | R6: =Q6/$Q$8 -> 0.209218 | T6: 2380 | U6: 862335000 | V6: =U6-M6 -> 60531753 | W6: =U6-Q6 -> 50778757 | Y6: 2380 | Z6: META VIOLENCIAS | AA6: =Q6 -> 8.1155624e+08 | AD6: 2380 | AE6: META VIOLENCIAS | AF6: =M6 -> 8.0180325e+08
A7: Act | B7: COMPONENTE 2 – PP 54149 DDifMujer. MUESTRAS DE EXPERIENCIAS Y BONO REDIMIBLE | C7: =SUM('ESPECIFICACIONES TECNICAS'!R30:R45) -> 88854776 | D7: =C7*19% -> 16882407 | E7: =C7+D7 -> 1.0573718e+08 | F7: =SUM('ESPECIFICACIONES TECNICAS'!V30:V45) -> 89765968 | G7: =F7*19% -> 17055534 | H7: =F7+G7 -> 1.068215e+08 | J7: PLAN DE MEDIOS | K7: ='ESPECIFICACIONES TECNICAS'!R400 -> 100000000 | L7: =K7*19% -> 19000000 | M7: =K7+L7 -> 119000000 | N7: =M7/$M$8 -> 0.030823687 | O7: ='ESPECIFICACIONES TECNICAS'!V400 -> 100000000 | P7: =O7*19% -> 19000000 | Q7: =O7+P7 -> 119000000 | R7: =Q7/$Q$8 -> 0.030678024 | V7: =U7-M7 -> -119000000 | W7: =U7-Q7 -> -119000000
B8: Componente 3 – PP 54149 DDifMujer. Posicionamiento del liderazgo de las mujeres desde el enfoque de género, derechos y memoria histórica | C8: =SUM(C9:C11) -> 2.3261545e+08 | D8: =C8*19% -> 44196936 | E8: =C8+D8 -> 2.7681239e+08 | F8: =SUM(F9:F11) -> 2.3040381e+08 | G8: =F8*19% -> 43776724 | H8: =F8+G8 -> 2.7418053e+08 | J8: TOTAL | K8: =SUM(K2:K7) -> 3.2442582e+09 | L8: =SUM(L2:L7) -> 6.1640906e+08 | M8: =K8+L8 -> 3.8606673e+09 | O8: =SUM(O2:O7) -> 3.2596624e+09 | P8: =O8*19% -> 6.1933585e+08 | Q8: =O8+P8 -> 3.8789982e+09 | U8: =SUM(U3:U6) -> 4167189000 | AA8: TOTAL MEDIANA | AB8: SOBRANTE | AF8: TOTAL PROMEDIO METAS | AG8: SOBRANTE
A9: Act | B9: A.Conversatorio de memoria histórica de las mujeres de Engativá | C9: =SUM('ESPECIFICACIONES TECNICAS'!R48:R58) -> 54054859 | D9: =C9*19% -> 10270423 | E9: =C9+D9 -> 64325282 | F9: =SUM('ESPECIFICACIONES TECNICAS'!V48:V58) -> 54601197 | G9: =F9*19% -> 10374228 | H9: =F9+G9 -> 64975425 | Y9: 2375 | Z9: META 2 AUTO_ECO | AA9: =AA3+AB4 -> 1.1969505e+09 | AB9: =U3-AA9 -> 41344548 | AD9: 2375 | AE9: META 2 AUTO_ECO | AF9: =AF3+AG4 -> 1.1917193e+09 | AG9: =U3-AF9 -> 46575732
A10: Act | B10: B.Conmemoración de fechas emblemáticas | C10: ='ESPECIFICACIONES TECNICAS'!R60 -> 10000000 | D10: =C10*19% -> 1900000 | E10: =C10+D10 -> 11900000 | F10: ='ESPECIFICACIONES TECNICAS'!V60 -> 10000000 | G10: =F10*19% -> 1900000 | H10: =F10+G10 -> 11900000 | Y10: 2375 | Z10: META 3 CUIDADORAS | AA10: =U4 -> 1228825000 | AB10: =U4-AA10 -> 0 | AD10: 2375 | AE10: META 3 CUIDADORAS | AF10: =U4 -> 1228825000 | AG10: =U4-AF10 -> 0
A11: Act | B11: Componente 4. Curso de manicura | C11: =SUM('ESPECIFICACIONES TECNICAS'!R62:R85) -> 1.685606e+08 | D11: =C11*19% -> 32026513 | E11: =C11+D11 -> 2.0058711e+08 | F11: =SUM('ESPECIFICACIONES TECNICAS'!V62:V85) -> 1.6580261e+08 | G11: =F11*19% -> 31502496 | H11: =F11+G11 -> 1.9730511e+08 | Y11: 2375 | Z11: META 4 INT SOCIAL | AA11: =AA5 -> 6.4166652e+08 | AB11: =U5-AA11-1 -> 1.9606748e+08 | AD11: 2375 | AE11: META 4 INT SOCIAL | AF11: =AF5 -> 6.3831975e+08 | AG11: =U5-AF11 -> 1.9941425e+08
B12: Meta 3 - 2026: Vincular 750 mujeres cuidadoras a estrategias de cuidado Iniciativa PP: 54150: DDifMujer Engativá cuida a las Cuidadoras | C12: =C13+C14+C19 -> 1.2256894e+09 | D12: =C12*19% -> 2.3288099e+08 | E12: =C12+D12 -> 1.4585704e+09 | F12: =F13+F14+F19 -> 1.2299653e+09 | G12: =F12*19% -> 2.3369341e+08 | H12: =F12+G12 -> 1.4636587e+09 | Y12: 2380 | Z12: META VIOLENCIAS | AA12: =AA6 -> 8.1155624e+08 | AB12: =U6-AA12 -> 50778757 | AD12: 2380 | AE12: META VIOLENCIAS | AF12: =AF6 -> 8.0180325e+08 | AG12: =U6-AF12 -> 60531753
B13: TH GENERAL | C13: =SUM('ESPECIFICACIONES TECNICAS'!R88:R89) -> 70320012 | D13: =C13*19% -> 13360802 | E13: =C13+D13 -> 83680814 | F13: =SUM('ESPECIFICACIONES TECNICAS'!V88:V89) -> 70320012 | G13: =F13*19% -> 13360802 | H13: =F13+G13 -> 83680814 | AA13: =AA9+AA10+AA11+AA12 -> 3.8789982e+09 | AB13: =SUM(AB9:AB12) -> 2.8819078e+08 | AF13: =AF9+AF10+AF11+AF12 -> 3.8606673e+09 | AG13: =SUM(AG9:AG12) -> 3.0652173e+08
B14: Componente 1 – PP 54150 DDifMujer. Escenarios de respiro, bienestar físico, emocional y/o mental | C14: =C15+C16+C17+C18 -> 8.5710679e+08 | D14: =C14*19% -> 1.6285029e+08 | E14: =C14+D14 -> 1.0199571e+09 | F14: =F15+F16+F17+F18 -> 8.5784281e+08 | G14: =F14*19% -> 1.6299013e+08 | H14: =F14+G14 -> 1.0208329e+09
A15: Act | B15: a. Taller de natación para cuidadoras | C15: =SUM('ESPECIFICACIONES TECNICAS'!R92:R105) -> 3.6067446e+08 | D15: =C15*19% -> 68528146 | E15: =C15+D15 -> 4.292026e+08 | F15: =SUM('ESPECIFICACIONES TECNICAS'!V92:V105) -> 3.559054e+08 | G15: =F15*19% -> 67622026 | H15: =F15+G15 -> 4.2352743e+08
A16: Act | B16: b. Taller de bisutería | C16: =SUM('ESPECIFICACIONES TECNICAS'!R107:R130) -> 2.4637242e+08 | D16: =C16*19% -> 46810759 | E16: =C16+D16 -> 2.9318317e+08 | F16: =SUM('ESPECIFICACIONES TECNICAS'!V107:V130) -> 250879160 | G16: =F16*19% -> 47667040 | H16: =F16+G16 -> 2.985462e+08
A17: Act | B17: c. Cocina saludable y huertas urbanas | C17: =SUM('ESPECIFICACIONES TECNICAS'!R132:R139) -> 1.5415612e+08 | D17: =C17*19% -> 29289664 | E17: =C17+D17 -> 1.8344579e+08 | F17: =SUM('ESPECIFICACIONES TECNICAS'!V132:V139) -> 1.5509523e+08 | G17: =F17*19% -> 29468093 | H17: =F17+G17 -> 1.8456332e+08
A18: Act | B18: d. Tai chí para mujeres cuidadoras | C18: =SUM('ESPECIFICACIONES TECNICAS'!R141:R147) -> 95903795 | D18: =C18*19% -> 18221721 | E18: =C18+D18 -> 1.1412552e+08 | F18: =SUM('ESPECIFICACIONES TECNICAS'!V141:V147) -> 95963015 | G18: =F18*19% -> 18232973 | H18: =F18+G18 -> 1.1419599e+08
B19: Componente 2 – PP 54150 DDifMujer. Estrategias pedagógicas, de sensibilización y comunicación sobre la labor de cuidado | C19: =C20+C21+C22+C23+C24 -> 2.9826263e+08 | D19: =C19*19% -> 56669900 | E19: =C19+D19 -> 3.5493253e+08 | F19: =F20+F21+F22+F23+F24 -> 3.0180248e+08 | G19: =F19*19% -> 57342471 | H19: =F19+G19 -> 3.5914495e+08
A20: Act | B20: a. Encuentro formativo: estrategias de respiro, bienestar e intercambio de saberes para mujeres cuidadoras | C20: =SUM('ESPECIFICACIONES TECNICAS'!R150:R157) -> 76656053 | D20: =C20*19% -> 14564650 | E20: =C20+D20 -> 91220703 | F20: =SUM('ESPECIFICACIONES TECNICAS'!V150:V157) -> 79335912 | G20: =F20*19% -> 15073823 | H20: =F20+G20 -> 94409735
A21: Act | B21: b. Transformación cultural con muralismo colectivo | C21: =SUM('ESPECIFICACIONES TECNICAS'!R159:R166) -> 37956343 | D21: =C21*19% -> 7211705.1 | E21: =C21+D21 -> 45168048 | F21: =SUM('ESPECIFICACIONES TECNICAS'!V159:V166) -> 37318230 | G21: =F21*19% -> 7090463.7 | H21: =F21+G21 -> 44408694
A22: Act | B22: c. Certificado en saberes de cuidado | C22: =SUM('ESPECIFICACIONES TECNICAS'!R168:R173) -> 94859662 | D22: =C22*19% -> 18023336 | E22: =C22+D22 -> 1.12883e+08 | F22: =SUM('ESPECIFICACIONES TECNICAS'!V168:V173) -> 96717298 | G22: =F22*19% -> 18376287 | H22: =F22+G22 -> 1.1509358e+08
A23: Act | B23: d. Caracterización georeferenciación y fortalecimiento saberes y espacios de cuidado comunitario local. | C23: =SUM('ESPECIFICACIONES TECNICAS'!R175:R176) -> 17925101 | D23: =C23*19% -> 3405769.2 | E23: =C23+D23 -> 21330870 | F23: =SUM('ESPECIFICACIONES TECNICAS'!V175:V176) -> 17922020 | G23: =F23*19% -> 3405183.8 | H23: =F23+G23 -> 21327204
A24: Act | B24: e. Estrategias de comunicación sobre temas de cuidado | C24: =SUM('ESPECIFICACIONES TECNICAS'!R178:R185) -> 70865471 | D24: =C24*19% -> 13464439 | E24: =C24+D24 -> 84329910 | F24: =SUM('ESPECIFICACIONES TECNICAS'!V178:V185) -> 70509017 | G24: =F24*19% -> 13396713 | H24: =F24+G24 -> 83905731
B25: Meta 4 - 2026: Vincular 200 personas en procesos para la prevención de violencias en el contexto familiar y/o violencia sexual | C25: =C26+C27+C28+C32 -> 75320275 | D25: =C25*19% -> 14310852 | E25: =C25+D25 -> 89631127 | F25: =F26+F27+F28+F32 -> 78087475 | G25: =F25*19% -> 14836620 | H25: =F25+G25 -> 92924095
B26: TH | C26: =SUM('ESPECIFICACIONES TECNICAS'!R188:R189) -> 447733.4 | D26: =C26*19% -> 85069.346 | E26: =C26+D26 -> 532802.75 | F26: =SUM('ESPECIFICACIONES TECNICAS'!V188:V189) -> 447733.4 | G26: =F26*19% -> 85069.346 | H26: =F26+G26 -> 532802.75
A27: Act | B27: Componente 1: Prevención de violencia en el contexto familiar, violencia sexual y promoción y garantía de derechos | C27: =SUM('ESPECIFICACIONES TECNICAS'!R190:R202) -> 5784788.2 | D27: =C27*19% -> 1099109.8 | E27: =C27+D27 -> 6883898 | F27: =SUM('ESPECIFICACIONES TECNICAS'!V190:V202) -> 5742605 | G27: =F27*19% -> 1091095 | H27: =F27+G27 -> 6833700
B28: Componente 2: Posicionamiento y promoción del buen trato en jornadas locales | C28: =C29+C30+C31 -> 57367751 | D28: =C28*19% -> 10899873 | E28: =C28+D28 -> 68267624 | F28: =F29+F30+F31 -> 60177135 | G28: =F28*19% -> 11433656 | H28: =F28+G28 -> 71610790
A29: Act | B29: a. Festival de talentos "En mi barrio soy feliz" | C29: =SUM('ESPECIFICACIONES TECNICAS'!R205:R217) -> 21659104 | D29: =C29*19% -> 4115229.8 | E29: =C29+D29 -> 25774334 | F29: =SUM('ESPECIFICACIONES TECNICAS'!V205:V217) -> 21822592 | G29: =F29*19% -> 4146292.4 | H29: =F29+G29 -> 25968884
A30: Act | B30: b. Cine foro juvenil “Saca lo mejor de ti” | C30: =SUM('ESPECIFICACIONES TECNICAS'!R219:R225) -> 3867651.8 | D30: =C30*19% -> 734853.83 | E30: =C30+D30 -> 4602505.6 | F30: =SUM('ESPECIFICACIONES TECNICAS'!V219:V225) -> 3693435.4 | G30: =F30*19% -> 701752.72 | H30: =F30+G30 -> 4395188.1
A31: Act | B31: c. Foro Interinstitucional por el Buen Trato - “Compromiso Local por Familias Libres de Violencia” | C31: =SUM('ESPECIFICACIONES TECNICAS'!R227:R235) -> 31840996 | D31: =C31*19% -> 6049789.1 | E31: =C31+D31 -> 37890785 | F31: =SUM('ESPECIFICACIONES TECNICAS'!V227:V235) -> 34661108 | G31: =F31*19% -> 6585610.4 | H31: =F31+G31 -> 41246718
A32: Act | B32: Componente 3: Seguimiento y evaluación del proyecto | C32: ='ESPECIFICACIONES TECNICAS'!R237 -> 11720002 | D32: =C32*19% -> 2226800.4 | E32: =C32+D32 -> 13946802 | F32: ='ESPECIFICACIONES TECNICAS'!V237 -> 11720002 | G32: =F32*19% -> 2226800.4 | H32: =F32+G32 -> 13946802
B33: Meta - 2026: Vincular 1000 personas en acciones para la prevención del feminicidio y la violencia contra la mujer. | C33: =C34+C35+C38+C42 -> 6.7378424e+08 | D33: =C33*19% -> 1.2801901e+08 | E33: =C33+D33 -> 8.0180325e+08 | F33: =F34+F35+F38+F42 -> 6.8198004e+08 | G33: =F33*19% -> 1.2957621e+08 | H33: =F33+G33 -> 8.1155624e+08
B34: TH | C34: =SUM('ESPECIFICACIONES TECNICAS'!R239:R241) -> 58600010 | D34: =C34*19% -> 11134002 | E34: =C34+D34 -> 69734012 | F34: =SUM('ESPECIFICACIONES TECNICAS'!V239:V241) -> 58600010 | G34: =F34*19% -> 11134002 | H34: =F34+G34 -> 69734012
B35: Componente 1 - 55568 DDifMujer: Fechas conmemorativas 25N y 4D. | C35: =C36+C37 -> 1.4138639e+08 | D35: =C35*19% -> 26863413 | E35: =C35+D35 -> 1.682498e+08 | F35: =F36+F37 -> 1.4442857e+08 | G35: =F35*19% -> 27441428 | H35: =F35+G35 -> 1.7187e+08
A36: Act | B36: a. Carrera de la mujer - 5K | C36: =SUM('ESPECIFICACIONES TECNICAS'!R244:R269) -> 1.3051086e+08 | D36: =C36*19% -> 24797064 | E36: =C36+D36 -> 1.5530793e+08 | F36: =SUM('ESPECIFICACIONES TECNICAS'!V244:V269) -> 1.3376004e+08 | G36: =F36*19% -> 25414407 | H36: =F36+G36 -> 1.5917444e+08
A37: Act | B37: b. Acto de memoria por la vida de las mujeres. | C37: =SUM('ESPECIFICACIONES TECNICAS'!R271:R284) -> 10875524 | D37: =C37*19% -> 2066349.5 | E37: =C37+D37 -> 12941873 | F37: =SUM('ESPECIFICACIONES TECNICAS'!V271:V284) -> 10668534 | G37: =F37*19% -> 2027021.6 | H37: =F37+G37 -> 12695556
B38: Componente 2 - 55568 DDifMujer: Resignificación de espacios inseguros, prevención de acoso callejero y acoso sexual | C38: =C39+C40+C41 -> 2.0093853e+08 | D38: =C38*19% -> 38178321 | E38: =C38+D38 -> 2.3911686e+08 | F38: =F39+F40+F41 -> 2.0602647e+08 | G38: =F38*19% -> 39145030 | H38: =F38+G38 -> 2.451715e+08
A39: Act | B39: a. Muralismo colectivo | C39: =SUM('ESPECIFICACIONES TECNICAS'!R287:R307) -> 63374886 | D39: =C39*19% -> 12041228 | E39: =C39+D39 -> 75416115 | F39: =SUM('ESPECIFICACIONES TECNICAS'!V287:V307) -> 68801339 | G39: =F39*19% -> 13072254 | H39: =F39+G39 -> 81873593
A40: Act | B40: b. Intervenciones de urbanismo táctico | C40: =SUM('ESPECIFICACIONES TECNICAS'!R309:R321) -> 63755046 | D40: =C40*19% -> 12113459 | E40: =C40+D40 -> 75868505 | F40: =SUM('ESPECIFICACIONES TECNICAS'!V309:V321) -> 63738361 | G40: =F40*19% -> 12110289 | H40: =F40+G40 -> 75848650
...
