Workbook

Sheet PPTO GENERAL
C2: TRANSMILENIO S.A.
C5: SUBGERENCIA DE INFRAESTRUCTURA - DIRECCIÓN DE CONSTRUCCIONES Y MANTENIMIENTO
B9: OBJETO DE LA SOLICITUD | C9: ESTIMAR LOS COSTOS BAJO LA MODALIDAD DE PRECIOS UNITARIOS, LA INTERVENCIÓN Y MODIFICACIÓN DE LA PLATAFORMA DE ALIMENTACIÓN DEL PORTAL 20 DE JULIO PARA LA CORRECTA INTEGRACIÓN CON EL SISTEMA DE CABLE AÉREO TRANSMICABLE SAN CRISTÓBAL
B13: Empresa: | E13: Nit: | J13: Fecha:
B14: Representante legal: | E14: Cargo: | J14: Fecha de caducidad:
B15: E-mail: | E15: Dirección: | J15: Tel - Cel:
B17: INSTRUCCIONES PARA EL DILIGENCIAMIENTO DEL FORMATO PROPUESTA ECONOMICA
B18: • Por favor diligenciar solo las celdas en AMARILLO. • El valor de la cotización debe ser expresado en pesos colombianos. • Los valores deberán aproximarse por exceso o por defecto al entero más cercano así: (i) si es igual o superior a 50 centavos, se aproxima al entero siguiente; (ii) si es inferior a 50 centavos se baja al entero anterior. • Unidad de medida: Mantenga la unidad de medida registrada en el formato, no es modificable ni ajustable. Realice sus cálculos en función de la unidad de medida asignada. • Cantidad estimada: Realice sus cálculos en función de la cantidad. • Costo Unitario (sin IVA): Registre el valor unitario por cada unidad de medida de cada elemento. • IVA (%): Registre el valor en porcentaje del IVA. Ejemplo: 19% • Costo Unitario (con IVA): La celda se encuentra formulada, por lo que no se requiere su diligenciamiento ni modificación. • Costo Total (con IVA): La celda se encuentra formulada, por lo que no se requiere su diligenciamiento ni modificación. • TOTAL: La celda se encuentra formulada, por lo que no se requiere su diligenciamiento ni modificación.
B30: Plazo de ejecución | C30: 5 meses
B32: ACTIVIDADES DE OBRA
B33: ITEM | C33: ACTIVIDAD | D33: DESCRIPCIÓN O COMPLEMENTO | E33: UND | F33: CANTIDAD | G33: V. UNITARIO (Sin IVA) | H33: V. TOTAL | I33: OBSERVACIONES
B34: 1 | C34: Preliminares | F34: =MEMORIA!L43 | H34: =H35+H42+H45+H65 -> 0
B35: 1.1 | C35: Demoliciones | F35: =MEMORIA!L44 | H35: =SUM(H36:H41) -> 0
B36: 1.1.1 | C36: Demolición concreto estructural (Incluye cargue manual). | D36: Demolición de elementos estructurales existentes (Cuarto técnico TMSA, baños consorcio, cuarto técnico RB y taquillas) | E36: M3 | F36: =MEMORIA!L45 -> 36.51181 | H36: =Tabla1[[#This Row],[CANTIDAD]]*Tabla1[[#This Row],[V. UNITARIO (Sin IVA)]] -> 0
B37: 1.1.2 | C37: Demolición de placa (Incluye cargue manual). No incluye transporte y disposición de residuos | D37: Demolición de placas de contrapiso, profundidad 15 cm (Cuarto técnico TMSA, baños consorcio, cuarto técnico RB y taquillas) | E37: M2 | F37: =MEMORIA!L72 -> 129.0952 | H37: =Tabla1[[#This Row],[CANTIDAD]]*Tabla1[[#This Row],[V. UNITARIO (Sin IVA)]] -> 0
B38: 1.1.3 | C38: Corte de pavimento (Incluye cortador de concreto, operario e insumos) | D38: Corte de pavimento para construcción de cimentación | E38: ML | F38: =MEMORIA!L99 -> 157.64 | H38: =Tabla1[[#This Row],[CANTIDAD]]*Tabla1[[#This Row],[V. UNITARIO (Sin IVA)]] -> 0
B39: 1.1.4 | C39: Demolición de loseta A-50 sobre mortero | D39: Demolición o desmonte de loseta toperol o podotáctil 0.4 x 0.4 m | E39: M2 | F39: =MEMORIA!L126 -> 21.6 | H39: =Tabla1[[#This Row],[CANTIDAD]]*Tabla1[[#This Row],[V. UNITARIO (Sin IVA)]] -> 0
B40: 1.1.5 | C40: Demolición manual de sardinel existente (Incluye cargue de residuos). No incluye transporte y disposición final | E40: ML | F40: =MEMORIA!L153 -> 61.65 | H40: =Tabla1[[#This Row],[CANTIDAD]]*Tabla1[[#This Row],[V. UNITARIO (Sin IVA)]] -> 0
B41: 1.1.6 | C41: Demolición de muros en mamposteria de bloque de arcilla E=0.15 m | E41: M2 | F41: =MEMORIA!L179 -> 71.6326 | H41: =Tabla1[[#This Row],[CANTIDAD]]*Tabla1[[#This Row],[V. UNITARIO (Sin IVA)]] -> 0
B42: 1.2 | C42: Excavaciones | H42: =SUM(H43:H44) -> 0
B43: 1.2.1 | C43: Excavaciones para obras con retrocargador (Incluye cargue de residuos) | D43: Excavación para actividades referentes a: cimentación y conexiones. E= 55 cm | E43: M3 | F43: =MEMORIA!L206 -> 31.19666 | H43: =Tabla1[[#This Row],[CANTIDAD]]*Tabla1[[#This Row],[V. UNITARIO (Sin IVA)]] -> 0
B44: 1.2.2 | C44: Transporte y disposición final de escombros en sitio autorizado | E44: M3 | F44: =F36+(F37*0.15)+(F39*0.5)+(F40*0.8*0.22)+(F41*0.15)+F43 -> 119.46804 | H44: =Tabla1[[#This Row],[CANTIDAD]]*Tabla1[[#This Row],[V. UNITARIO (Sin IVA)]] -> 0
B45: 1.3 | C45: Desmontes | H45: =SUM(H46:H64) -> 0
B46: 1.3.1 | C46: Desmonte de luminaria de 70 W | E46: UND | F46: =MEMORIA!L233 -> 15 | H46: =Tabla1[[#This Row],[CANTIDAD]]*Tabla1[[#This Row],[V. UNITARIO (Sin IVA)]] -> 0
B47: 1.3.2 | C47: Desmonte de vidrio templado existente en barandas con limite troncal | D47: Altura de vidrio 50cm | E47: ML | F47: =MEMORIA!L260 -> 87.11 | H47: =Tabla1[[#This Row],[CANTIDAD]]*Tabla1[[#This Row],[V. UNITARIO (Sin IVA)]] -> 0
B48: 1.3.3 | C48: Desmonte de división de vidrio templado con soportes en acero inoxidable | E48: M2 | F48: =MEMORIA!L287 -> 20.44 | H48: =Tabla1[[#This Row],[CANTIDAD]]*Tabla1[[#This Row],[V. UNITARIO (Sin IVA)]] -> 0
B49: 1.3.4 | C49: Desmonte de ventana en vidrio templado | D49: Desmonte de ventanas de taquillas | E49: M2 | F49: =MEMORIA!L314 -> 17.2 | H49: =Tabla1[[#This Row],[CANTIDAD]]*Tabla1[[#This Row],[V. UNITARIO (Sin IVA)]] -> 0
B50: 1.3.5 | C50: Desmonte de puertas | D50: Desmonte de puertas (Cuartos técnicos, taquillas y baños) | E50: UND | F50: 7 | H50: =Tabla1[[#This Row],[CANTIDAD]]*Tabla1[[#This Row],[V. UNITARIO (Sin IVA)]] -> 0
B51: 1.3.6 | C51: Desmonte de persiana o celosia de ventilación | E51: ML | F51: =MEMORIA!L341 -> 35.02 | H51: =Tabla1[[#This Row],[CANTIDAD]]*Tabla1[[#This Row],[V. UNITARIO (Sin IVA)]] -> 0
B52: 1.3.7 | C52: Desmonte de sanitarios | E52: UND | F52: 2 | H52: =Tabla1[[#This Row],[CANTIDAD]]*Tabla1[[#This Row],[V. UNITARIO (Sin IVA)]] -> 0
B53: 1.3.8 | C53: Desmonte de lavamanos | E53: UND | F53: 2 | H53: =Tabla1[[#This Row],[CANTIDAD]]*Tabla1[[#This Row],[V. UNITARIO (Sin IVA)]] -> 0
B54: 1.3.9 | C54: Desmonte de orinal | E54: UND | F54: 1 | H54: =Tabla1[[#This Row],[CANTIDAD]]*Tabla1[[#This Row],[V. UNITARIO (Sin IVA)]] -> 0
B55: 1.3.10 | C55: Desmonte y traslado de equipo de autoservicio (recarga de saldo) | E55: UND | F55: 4 | H55: =Tabla1[[#This Row],[CANTIDAD]]*Tabla1[[#This Row],[V. UNITARIO (Sin IVA)]] -> 0
B56: 1.3.12 | C56: Desmonte de tableros de control de energía | D56: Tableros existentes cuarto técnico TMSA y cuarto Técnico RB | E56: UND | F56: =SUM(MEMORIA!K347:K348)+MEMORIA!K353 -> 3 | H56: =Tabla1[[#This Row],[CANTIDAD]]*Tabla1[[#This Row],[V. UNITARIO (Sin IVA)]] -> 0
B57: 1.3.13 | C57: Desmonte de tablero de control de iluminación | D57: Tableros existentes cuarto técnico TMSA | E57: UND | F57: =MEMORIA!L349 -> 1 | H57: =Tabla1[[#This Row],[CANTIDAD]]*Tabla1[[#This Row],[V. UNITARIO (Sin IVA)]] -> 0
B58: 1.3.14 | C58: Desmonte de cajas (Red de telefonos, y voz y datos) | E58: UND | F58: =SUM(MEMORIA!L350:L351) -> 2 | H58: =Tabla1[[#This Row],[CANTIDAD]]*Tabla1[[#This Row],[V. UNITARIO (Sin IVA)]] -> 0
B59: 1.3.15 | C59: Clausura o retiro de derivación de red de suministro de energía (Red de suministro hacia tableros y de tableros hacia otros elementos). Incluye desmonte de tomacorrientes, switches y otros accesorios. | E59: GLB | F59: 1 | H59: =Tabla1[[#This Row],[CANTIDAD]]*Tabla1[[#This Row],[V. UNITARIO (Sin IVA)]] -> 0
B60: 1.3.16 | C60: Clausura o retiro de derivación de red de voz y datos. Incluye desmonte de accesorios | E60: GLB | F60: 1 | H60: =Tabla1[[#This Row],[CANTIDAD]]*Tabla1[[#This Row],[V. UNITARIO (Sin IVA)]] -> 0
B61: 1.3.17 | C61: Desmonte de rack cuarto TMSA | D61: Reubicación hacia cuartos nuevos | E61: UND | F61: 1 | H61: =Tabla1[[#This Row],[CANTIDAD]]*Tabla1[[#This Row],[V. UNITARIO (Sin IVA)]] -> 0
B62: 1.3.18 | C62: Desconexión de elementos sanitarios a puntos de suministro de agua potable | D62: Desconexión de derivaciones de suministro de agua potable de: 2 sanitarios, 1 orinal y 2 lavamanos. Dejar acometida principal de red de agua potable para utilizarla o ampliarla hacia baños nuevos | E62: GLB | F62: 1 | H62: =Tabla1[[#This Row],[CANTIDAD]]*Tabla1[[#This Row],[V. UNITARIO (Sin IVA)]] -> 0
...

Sheet MEMORIA
B2: Esquema de obras a realizar | G2: Distribución actual plataforma de alimentación
B20: CAPÍTULO | C20: PRELIMINARES | D20: ITEM | E20: ='PPTO GENERAL'!B36 -> 1.1.1 | F20: DESCRIPCIÓN | G20: LOCALIZACIÓN | H20: DIMENSIONES (M) | K20: UNIDAD | L20: M3
F21: ='PPTO GENERAL'!C36 -> Demolición concreto estructural (Incluye cargue manual). | K21: No. Elementos | L21: Total Unt.
H22: Ancho | I22: Largo | J22: Alto
G23: Cuarto técnico y disponible | H23: 0.25 | I23: 1.97 | J23: 2.82 | K23: 2 | L23: =IF(COUNT(H23:K23),IF(COUNT(H23),H23,1)*IF(COUNT(I23),I23,1)*IF(COUNT(J23),J23,1)*IF(COUNT(K23),K23,1),"") -> 2.7777
G24: Cubierta cuarto técnico y disponible | H24: 8.6 | I24: 1.97 | J24: 0.2 | L24: =IF(COUNT(H24:K24),IF(COUNT(H24),H24,1)*IF(COUNT(I24),I24,1)*IF(COUNT(J24),J24,1)*IF(COUNT(K24),K24,1),"") -> 3.3884
G25: Baños, Cuarto de Aseo, Cuarto Electrico y Almacen RB | H25: 0.2 | I25: =1.21+1.2+0.5 -> 2.91 | J25: 2.82 | L25: =IF(COUNT(H25:K25),IF(COUNT(H25),H25,1)*IF(COUNT(I25),I25,1)*IF(COUNT(J25),J25,1)*IF(COUNT(K25),K25,1),"") -> 1.64124
H26: 0.2 | I26: 0.6 | J26: 2.58 | L26: =IF(COUNT(H26:K26),IF(COUNT(H26),H26,1)*IF(COUNT(I26),I26,1)*IF(COUNT(J26),J26,1)*IF(COUNT(K26),K26,1),"") -> 0.3096
H27: 0.2 | I27: 0.2 | J27: 2.82 | K27: 3 | L27: =IF(COUNT(H27:K27),IF(COUNT(H27),H27,1)*IF(COUNT(I27),I27,1)*IF(COUNT(J27),J27,1)*IF(COUNT(K27),K27,1),"") -> 0.3384
H28: 0.15 | I28: =0.65+1.06+2.9+2.3+1.35+2.9+1.2+2.75 -> 15.11 | J28: 2.82 | L28: =IF(COUNT(H28:K28),IF(COUNT(H28),H28,1)*IF(COUNT(I28),I28,1)*IF(COUNT(J28),J28,1)*IF(COUNT(K28),K28,1),"") -> 6.39153
G29: Puertas | H29: 0.15 | I29: =0.73+0.78+0.74 -> 2.25 | J29: 2.1 | K29: -1 | L29: =IF(COUNT(H29:K29),IF(COUNT(H29),H29,1)*IF(COUNT(I29),I29,1)*IF(COUNT(J29),J29,1)*IF(COUNT(K29),K29,1),"") -> -0.70875
G30: Taquillas | H30: 0.15 | I30: =3.95+3.8+3.8+3.8+1.42 -> 16.77 | J30: 2.82 | L30: =IF(COUNT(H30:K30),IF(COUNT(H30),H30,1)*IF(COUNT(I30),I30,1)*IF(COUNT(J30),J30,1)*IF(COUNT(K30),K30,1),"") -> 7.09371
H31: 0.2 | I31: 1.16 | J31: 2,82 | L31: =IF(COUNT(H31:K31),IF(COUNT(H31),H31,1)*IF(COUNT(I31),I31,1)*IF(COUNT(J31),J31,1)*IF(COUNT(K31),K31,1),"") -> 0.232
H32: 0.2 | I32: 0.2 | J32: 2.82 | K32: 10 | L32: =IF(COUNT(H32:K32),IF(COUNT(H32),H32,1)*IF(COUNT(I32),I32,1)*IF(COUNT(J32),J32,1)*IF(COUNT(K32),K32,1),"") -> 1.128
G33: Puertas | H33: 0.2 | I33: 0.8 | J33: 2.1 | K33: -1 | L33: =IF(COUNT(H33:K33),IF(COUNT(H33),H33,1)*IF(COUNT(I33),I33,1)*IF(COUNT(J33),J33,1)*IF(COUNT(K33),K33,1),"") -> -0.336
G34: Cubierta | H34: 47.96 | J34: 0.2 | L34: =IF(COUNT(H34:K34),IF(COUNT(H34),H34,1)*IF(COUNT(I34),I34,1)*IF(COUNT(J34),J34,1)*IF(COUNT(K34),K34,1),"") -> 9.592
G35: Para intalación de sardinel | H35: 0.3 | I35: 20.58 | J35: 0.27 | L35: =IF(COUNT(H35:K35),IF(COUNT(H35),H35,1)*IF(COUNT(I35),I35,1)*IF(COUNT(J35),J35,1)*IF(COUNT(K35),K35,1),"") -> 1.66698
G36: Para instalación de sardinel | H36: 0.3 | I36: 37 | J36: 0.27 | L36: =IF(COUNT(H36:K36),IF(COUNT(H36),H36,1)*IF(COUNT(I36),I36,1)*IF(COUNT(J36),J36,1)*IF(COUNT(K36),K36,1),"") -> 2.997
L37: =IF(COUNT(H37:K37),IF(COUNT(H37),H37,1)*IF(COUNT(I37),I37,1)*IF(COUNT(J37),J37,1)*IF(COUNT(K37),K37,1),"")
L38: =IF(COUNT(H38:K38),IF(COUNT(H38),H38,1)*IF(COUNT(I38),I38,1)*IF(COUNT(J38),J38,1)*IF(COUNT(K38),K38,1),"")
L39: =IF(COUNT(H39:K39),IF(COUNT(H39),H39,1)*IF(COUNT(I39),I39,1)*IF(COUNT(J39),J39,1)*IF(COUNT(K39),K39,1),"")
L40: =IF(COUNT(H40:K40),IF(COUNT(H40),H40,1)*IF(COUNT(I40),I40,1)*IF(COUNT(J40),J40,1)*IF(COUNT(K40),K40,1),"")
L41: =IF(COUNT(H41:K41),IF(COUNT(H41),H41,1)*IF(COUNT(I41),I41,1)*IF(COUNT(J41),J41,1)*IF(COUNT(K41),K41,1),"")
L42: =IF(COUNT(H42:K42),IF(COUNT(H42),H42,1)*IF(COUNT(I42),I42,1)*IF(COUNT(J42),J42,1)*IF(COUNT(K42),K42,1),"")
L43: =IF(COUNT(H43:K43),IF(COUNT(H43),H43,1)*IF(COUNT(I43),I43,1)*IF(COUNT(J43),J43,1)*IF(COUNT(K43),K43,1),"")
L44: =IF(COUNT(H44:K44),IF(COUNT(H44),H44,1)*IF(COUNT(I44),I44,1)*IF(COUNT(J44),J44,1)*IF(COUNT(K44),K44,1),"")
G45: TOTAL | L45: =SUM(L23:L44) -> 36.51181
B47: CAPÍTULO | C47: PRELIMINARES | D47: ITEM | E47: ='PPTO GENERAL'!B37 -> 1.1.2 | F47: DESCRIPCIÓN | G47: LOCALIZACIÓN | H47: DIMENSIONES | K47: UNIDAD | L47: M2
F48: ='PPTO GENERAL'!C37 -> Demolición de placa (Incluye cargue manual). No incluye transporte y disposición de residuos | K48: No. Elementos | L48: Total Unt.
H49: Ancho | I49: Largo | J49: Alto
G50: Placa de contra piso taquillas | H50: 57.49 | L50: =IF(COUNT(H50:K50),IF(COUNT(H50),H50,1)*IF(COUNT(I50),I50,1)*IF(COUNT(J50),J50,1)*IF(COUNT(K50),K50,1),"") -> 57.49
G51: Placa de contra piso cuartos TMSA | H51: 2.27 | I51: 9.2 | L51: =IF(COUNT(H51:K51),IF(COUNT(H51),H51,1)*IF(COUNT(I51),I51,1)*IF(COUNT(J51),J51,1)*IF(COUNT(K51),K51,1),"") -> 20.884
G52: Placa de contrapiso - Zona para nuevas obras | H52: 41.27 | L52: =IF(COUNT(H52:K52),IF(COUNT(H52),H52,1)*IF(COUNT(I52),I52,1)*IF(COUNT(J52),J52,1)*IF(COUNT(K52),K52,1),"") -> 41.27
G53: Para redes hidraulicas | L53: =IF(COUNT(H53:K53),IF(COUNT(H53),H53,1)*IF(COUNT(I53),I53,1)*IF(COUNT(J53),J53,1)*IF(COUNT(K53),K53,1),"")
G54: Baños CEX | H54: 4.48 | I54: 1.44 | L54: =IF(COUNT(H54:K54),IF(COUNT(H54),H54,1)*IF(COUNT(I54),I54,1)*IF(COUNT(J54),J54,1)*IF(COUNT(K54),K54,1),"") -> 6.4512
G55: Pasillo Cable | H55: 1 | I55: 3 | L55: =IF(COUNT(H55:K55),IF(COUNT(H55),H55,1)*IF(COUNT(I55),I55,1)*IF(COUNT(J55),J55,1)*IF(COUNT(K55),K55,1),"") -> 3
L56: =IF(COUNT(H56:K56),IF(COUNT(H56),H56,1)*IF(COUNT(I56),I56,1)*IF(COUNT(J56),J56,1)*IF(COUNT(K56),K56,1),"")
L57: =IF(COUNT(H57:K57),IF(COUNT(H57),H57,1)*IF(COUNT(I57),I57,1)*IF(COUNT(J57),J57,1)*IF(COUNT(K57),K57,1),"")
L58: =IF(COUNT(H58:K58),IF(COUNT(H58),H58,1)*IF(COUNT(I58),I58,1)*IF(COUNT(J58),J58,1)*IF(COUNT(K58),K58,1),"")
L59: =IF(COUNT(H59:K59),IF(COUNT(H59),H59,1)*IF(COUNT(I59),I59,1)*IF(COUNT(J59),J59,1)*IF(COUNT(K59),K59,1),"")
...
