Workbook
Name \0: #REF!
Name \00: #REF!
Name \a: #REF!
Name \AA: [1]LIQUIDACION!#REF!
Name \b: [2]STRSUMM0!#REF!
Name \bb: [2]STRSUMM0!#REF!
Name \E: #REF!
Name \EE: #REF!
Name \G: #REF!
Name \k: '[3]7422CW00'!#REF!
Name \l: [4]STRSUMM0!#REF!
Name \M: #REF!
Name \ñ: '[5]7422CW00'!#REF!
Name \P: #REF!
Name \R: #REF!
Name \s: #REF!
Name \V: #REF!
Name \X: [0]!ERR
Name \Z: [0]!ERR
Name _________AFC1: [6]INV!$A$25:$D$28
Name _________AFC3: [6]INV!$F$25:$I$28
Name _________AFC5: [6]INV!$K$25:$N$28
Name _________BGC1: [6]INV!$A$5:$D$8
Name _________BGC3: [6]INV!$F$5:$I$8
Name _________BGC5: [6]INV!$K$5:$N$8
Name _________CAC1: [6]INV!$A$19:$D$22
Name _________CAC3: [6]INV!$F$19:$I$22
Name _________CAC5: [6]INV!$K$19:$N$22
Name _________PJ50: #REF!
Name _________SBC1: [6]INV!$A$12:$D$15
Name _________SBC3: [6]INV!$F$12:$I$15
Name _________SBC5: [6]INV!$K$12:$N$15
Name ________AFC1: [6]INV!$A$25:$D$28
Name ________AFC3: [6]INV!$F$25:$I$28
Name ________AFC5: [6]INV!$K$25:$N$28
Name ________BGC1: [6]INV!$A$5:$D$8
Name ________BGC3: [6]INV!$F$5:$I$8
Name ________BGC5: [6]INV!$K$5:$N$8
Name ________CAC1: [6]INV!$A$19:$D$22
Name ________CAC3: [6]INV!$F$19:$I$22
Name ________CAC5: [6]INV!$K$19:$N$22
Name ________MA2: #REF!
Name ________PJ50: #REF!
Name ________SBC1: [6]INV!$A$12:$D$15
Name ________SBC3: [6]INV!$F$12:$I$15
Name ________SBC5: [6]INV!$K$12:$N$15
Name _______AFC1: [6]INV!$A$25:$D$28
Name _______AFC3: [6]INV!$F$25:$I$28
Name _______AFC5: [6]INV!$K$25:$N$28
Name _______BGC1: [6]INV!$A$5:$D$8
Name _______BGC3: [6]INV!$F$5:$I$8
Name _______BGC5: [6]INV!$K$5:$N$8
Name _______CAC1: [6]INV!$A$19:$D$22
Name _______CAC3: [6]INV!$F$19:$I$22
Name _______CAC5: [6]INV!$K$19:$N$22
Name _______MA2: #REF!
Name _______PJ50: #REF!
Name _______SBC1: [6]INV!$A$12:$D$15
Name _______SBC3: [6]INV!$F$12:$I$15
Name _______SBC5: [6]INV!$K$12:$N$15

Sheet Desglose
A1: CÓDIGO | B1: DESCRIPCIÓN | C1: UNIDAD | D1: CANTIDAD | E1: COSTO PESO | F1: TOTAL PESO
A2: 1 | B2: PRELIMINARES
A3: 1.01 | B3: Localización, trazado y replanteo del proyecto. Se utilizará equipo de precisión, personal experto. Se hará con la frecuencia que lo indique la interventoria. incluye demarcación con pintura, línea de trazado, corte de piso, libretas, planos. | C3: Día | D3: =+VLOOKUP(A3,MEMORIAS!_xlnm.Print_Area,7,0) -> 4 | E3: =+'Análisis de precios unitarios'!F26 -> 835180 | F3: =+D3*E3 -> 3340720
A4: 2 | B4: MOVIMIENTOS DE TIERRA
A5: 2.01 | B5: Conformación y compactación de la calzada existente manual | C5: m2 | D5: =+VLOOKUP(A5,MEMORIAS!_xlnm.Print_Area,7,0) -> 692.5 | E5: =+'Análisis de precios unitarios'!F48 -> 20456.65 | F5: =+D5*E5 -> 14166230
A6: 2.02 | B6: Excavación mecanica en material heterogéneo, bajo cualquier grado de humedad, medido in situ, incluye botada. | C6: M3 | D6: =+VLOOKUP(A6,MEMORIAS!_xlnm.Print_Area,7,0) -> 95.57 | E6: =+'Análisis de precios unitarios'!F73 -> 52987.452 | F6: =+D6*E6 -> 5064010.8
A7: 2.03 | B7: Lleno compactado con material del sitio manual | C7: M3 | D7: =+VLOOKUP(A7,MEMORIAS!_xlnm.Print_Area,7,0) -> 19.39 | E7: =+'Análisis de precios unitarios'!F95 -> 39358.25 | F7: =+D7*E7 -> 763156.47
A8: 3 | B8: CONSTRUCCIÓN DE VÍA
A9: 3.01 | B9: Placa Huellas (par) en concreto de 20,7 Mpa (3000 psi) e = 0,15 m a c/u = 0,90 m. | C9: M | D9: =+VLOOKUP(A9,MEMORIAS!_xlnm.Print_Area,7,0) -> 138.5 | E9: =+'Análisis de precios unitarios'!F131 -> 406244.24 | F9: =+D9*E9 -> 56264827
A10: 3.02 | B10: Concreto de 20,7 Mpa (3000 psi) (producción), Para sobre anchos y viga | C10: M3 | D10: =+VLOOKUP(A10,MEMORIAS!_xlnm.Print_Area,7,0) -> 21.37 | E10: =+'Análisis de precios unitarios'!F168 -> 1651824 | F10: =+D10*E10 -> 35299479
A11: 3.03 | B11: Concreto ciclópeo (producción) | C11: M3 | D11: =+VLOOKUP(A11,MEMORIAS!_xlnm.Print_Area,7,0) -> 39.47 | E11: =+'Análisis de precios unitarios'!F201 -> 1028029.8 | F11: =+D11*E11 -> 40576335
A12: 3.04 | B12: Suministro Acero de Fy=4200 (4,200 Kg/Cm²), para cunetas (Según Diseño) Incluye Figurado y Colocación. | C12: Kg | D12: =+VLOOKUP(A12,MEMORIAS!_xlnm.Print_Area,7,0) -> 5103.52 | E12: =+'Análisis de precios unitarios'!F227 -> 9546.43 | F12: =+D12*E12 -> 48720396
A13: 3.05 | B13: Construcción de cunetas de 0,7m de ancho y 0,15m de espesor. Concreto preparado en obra de 21 MPa.. Incluye suministro, transporte e instalación del concreto, mano de obra, vibrado, protección y curado, para estructuras de acuerdo con las diferentes dimensiones establecidas en los planos y diseños. El acero de refuerzo se paga en su item respectivo. | C13: M | D13: =+VLOOKUP(A13,MEMORIAS!_xlnm.Print_Area,7,0) -> 277 | E13: =+'Análisis de precios unitarios'!F263 -> 191411.57 | F13: =+D13*E13 -> 53021006
A14: 4 | B14: OBRAS DE DRENAJE
A15: 4.01 | B15: Zanja colectora en concreto de 20,7 Mpa a = 0,60 e = 0,10 h = 0,30 m | C15: M | D15: =+VLOOKUP(A15,MEMORIAS!_xlnm.Print_Area,7,0) -> 121.5 | E15: =+'Análisis de precios unitarios'!F300 -> 206022.79 | F15: =+D15*E15 -> 25031769
A16: SUBTOTAL | B16: TOTAL | C16: TOTAL | D16: TOTAL | E16: TOTAL | F16: =SUM(F2:F15) -> 2.8224793e+08
A17: ADMINISTRACIÓN | E17: =+ADMINISTRACIÓN!F28 -> 0.21138559 | F17: =+F16*E17 -> 59663145
A18: APORTE MUNICIPIO | F18: 341058054
A19: APORTE OAC | F19: =+F20-F18 -> 853020.24
A20: TOTAL OBRA | F20: =+F16+F17 -> 3.4191107e+08
F22: 341058054

Sheet ADMINISTRACIÓN
A1: CALCULO DETALLADO DEL VALOR PORCENTUAL DEL A.U.
A4: Duración estimada del Proyecto en meses | F4: 2.5
A5: Costo directo total del Proyecto | F5: =+Desglose!F16 -> 2.8224793e+08
A6: A.I.U. Asumido para el cálculo | B6: =+F28 -> 0.21138559 | F6: =ROUND((F5)*B6,0) -> 59663145
A7: Valor total estimado del Proyecto | F7: =SUM(F5:F6) -> 3.4191107e+08
A8: DESCRIPCION | B8: UNIDAD | C8: CANTIDAD | D8: VR UNITARIO | E8: DEDICACIÒN Y/O PORCENTAJE DE UTILIZACIÓN | F8: VR. TOTAL
A9: GASTOS ARRENDAMIENTO Y OFICINA
A10: Transportes | B10: Mes | C10: =+F4 -> 2.5 | D10: 1000000 | E10: 1 | F10: =+ROUND(D10*C10*E10,0) -> 2500000
A11: Arrendamiento Almacén y/o bodega | B11: Mes | C11: =+F4 -> 2.5 | D11: 800000 | E11: 1 | F11: =+ROUND(D11*C11*E11,0) -> 2000000
A12: GASTOS DE LEGALIZACIÓN E IMPUESTOS
A13: Póliza de Cumplimiento | B13: % | C13: 0.002 | D13: =+$F$7 -> 3.4191107e+08 | E13: 1 | F13: =+ROUND(D13*C13*E13,0) -> 683822
A14: Póliza calidad del servicio | B14: % | C14: 0.002 | D14: =+$F$7 -> 3.4191107e+08 | E14: 1 | F14: =+ROUND(D14*C14*E14,0) -> 683822
A15: Póliza de Salarios y Prestaciones Sociales | B15: % | C15: 0.0005 | D15: =+$F$7 -> 3.4191107e+08 | E15: 1 | F15: =+ROUND(D15*C15*E15,0) -> 170956
A16: Póliza de Estabilidad | B16: % | C16: 0.002 | D16: =+$F$7 -> 3.4191107e+08 | E16: 1 | F16: =+ROUND(D16*C16*E16,0) -> 683822
A17: Póliza de Responsabilidad Civil | B17: % | C17: 0.0012 | D17: =+$F$7 -> 3.4191107e+08 | E17: 1 | F17: =+ROUND(D17*C17*E17,0) -> 410293
A18: Estampillas municipales | B18: % | C18: 0.05 | D18: =+$F$7 -> 3.4191107e+08 | E18: 1 | F18: =+ROUND(D18*C18*E18,0) -> 17095554
A19: PERSONAL TÉCNICO
A20: Ingeniero y/o arquitecto Director (Con Prestac. Sociales) | B20: Mes | C20: =+F4 -> 2.5 | D20: 6000000 | E20: 0.3 | F20: =+ROUND(D20*C20*E20,0) -> 4500000
A21: Ingeniero y/o arquitecto Residente (Con Prestac. Sociales) | B21: Mes | C21: =+F4 -> 2.5 | D21: 5600000 | E21: 1 | F21: =+ROUND(D21*C21*E21,0) -> 14000000
A22: Residente SG-SST | B22: Mes | C22: 0 | D22: 4000000 | E22: 1 | F22: =+ROUND(D22*C22*E22,0) -> 0
A23: Valor total de los Costos de Legalización y Administración | F23: =SUM(F10:F22) -> 42728269
A24: Valor porcentual de la Legalización y Administración | F24: =((F23/F5)) -> 0.15138559
A25: Valor porcentual de los Imprevistos | F25: 0.01
A26: Valor porcentual de la Utilidad estimada | F26: 0.05
A28: Valor Total porcentual del A.U. | F28: =SUM(F24:F27) -> 0.21138559

Sheet MEMORIAS
A1: CAPITULO: | B1: =+'[202]Desglose V2'!$B$2 -> PRELIMINARES | G1: ELABORÓ: | H1: FECHA:
G2: =+'[202]Desglose V2'!$B$32 -> LEÓN ESNAIDER QUIROZ OSORIO | H2: =+$I$4 -> 46106
A3: ITEM | B3: =+VLOOKUP(A4,Desglose!$A$2:$D$15,2,0) -> Localización, trazado y replanteo del proyecto. Se utilizará equipo de precisión, personal experto. Se hará con la frecuencia que lo indique la interventoria. incluye demarcación con pintura, línea de trazado, corte de piso, libretas, planos. | G3: Total | H3: UNIDAD:
A4: 1.01 | G4: =+F14 -> 4 | H4: =+VLOOKUP(A4,Desglose!$A$2:$D$15,3,0) -> Día | I4: 46106
A5: UBICACIÓN | B5: LARGO | C5: ANCHO | D5: ALTURA | E5: CANT. | F5: TOTAL | G5: DETALLES
A6: Placa huella | E6: 4 | F6: =PRODUCT(B6:E6) -> 4
F11: =PRODUCT(B11:E11) -> 0
F12: =PRODUCT(B12:E12) -> 0
F13: =PRODUCT(B13:E13) -> 0
E14: TOTAL | F14: =ROUND((SUM(F6:F13)),2) -> 4
A15: CAPITULO: | B15: =+'[202]Desglose V2'!$B$4 -> MOVIMIENTOS DE TIERRA | G15: ELABORÓ: | H15: FECHA:
G16: =+'[202]Desglose V2'!$B$32 -> LEÓN ESNAIDER QUIROZ OSORIO | H16: =+$I$4 -> 46106
A17: ITEM | B17: =+VLOOKUP(A18,Desglose!$A$2:$D$15,2,0) -> Conformación y compactación de la calzada existente manual | G17: Total | H17: UNIDAD:
A18: 2.01 | G18: =+F28 -> 692.5 | H18: =+VLOOKUP(A18,Desglose!$A$2:$D$15,3,0) -> m2
A19: UBICACIÓN | B19: LARGO | C19: ANCHO | D19: ALTURA | E19: CANT. | F19: TOTAL | G19: DETALLES
A20: Placa huella | B20: 138.5 | C20: 5 | E20: 1 | F20: =PRODUCT(B20:E20) -> 692.5
F25: =PRODUCT(B25:E25) -> 0
F26: =PRODUCT(B26:E26) -> 0
F27: =PRODUCT(B27:E27) -> 0
E28: TOTAL | F28: =ROUND((SUM(F20:F27)),2) -> 692.5
A29: CAPITULO: | B29: =+'[202]Desglose V2'!$B$4 -> MOVIMIENTOS DE TIERRA | G29: ELABORÓ: | H29: FECHA:
G30: =+'[202]Desglose V2'!$B$32 -> LEÓN ESNAIDER QUIROZ OSORIO | H30: =+$I$4 -> 46106
A31: ITEM | B31: =+VLOOKUP(A32,Desglose!$A$2:$D$15,2,0) -> Excavación mecanica en material heterogéneo, bajo cualquier grado de humedad, medido in situ, incluye botada. | G31: Total | H31: UNIDAD:
A32: 2.02 | G32: =+F42 -> 95.57 | H32: =+VLOOKUP(A32,Desglose!$A$2:$D$15,3,0) -> M3
A33: UBICACIÓN | B33: LARGO | C33: ANCHO | D33: ALTURA | E33: CANT. | F33: TOTAL | G33: DETALLES
A34: Placa huella | B34: =+B20 -> 138.5 | C34: 4.6 | D34: 0.15 | E34: 1 | F34: =PRODUCT(B34:E34) -> 95.565
F39: =PRODUCT(B39:E39) -> 0
F40: =PRODUCT(B40:E40) -> 0
F41: =PRODUCT(B41:E41) -> 0
E42: TOTAL | F42: =ROUND((SUM(F34:F41)),2) -> 95.57
A43: CAPITULO: | B43: =+'[202]Desglose V2'!$B$4 -> MOVIMIENTOS DE TIERRA | G43: ELABORÓ: | H43: FECHA:
G44: =+'[202]Desglose V2'!$B$32 -> LEÓN ESNAIDER QUIROZ OSORIO | H44: =+$I$4 -> 46106
A45: ITEM | B45: =+VLOOKUP(A46,Desglose!$A$2:$D$15,2,0) -> Lleno compactado con material del sitio manual | G45: Total | H45: UNIDAD:
A46: 2.03 | G46: =+F56 -> 19.39 | H46: =+VLOOKUP(A46,Desglose!$A$2:$D$15,3,0) -> M3
A47: UBICACIÓN | B47: LARGO | C47: ANCHO | D47: ALTURA | E47: CANT. | F47: TOTAL | G47: DETALLES
A48: Placa huella | B48: =+B20 -> 138.5 | C48: 0.7 | D48: 0.1 | E48: 2 | F48: =PRODUCT(B48:E48) -> 19.39
F53: =PRODUCT(B53:E53) -> 0
F54: =PRODUCT(B54:E54) -> 0
F55: =PRODUCT(B55:E55) -> 0
E56: TOTAL | F56: =ROUND((SUM(F48:F55)),2) -> 19.39
...

Sheet Análisis de precios unitarios
A1: CÓDIGO | B1: 1.01 | E1: UNIDAD | F1: Día
A2: DESCRIPCIÓN | B2: Localización, trazado y replanteo del proyecto. Se utilizará equipo de precisión, personal experto. Se hará con la frecuencia que lo indique la interventoria. incluye demarcación con pintura, línea de trazado, corte de piso, libretas, planos.
A4: CÓDIGO | B4: DESCRIPCIÓN | C4: UNIDAD | D4: CANTIDAD | E4: PRECIO | F4: TOTAL
A6: 1 - Mano de Obra
A7: MOB010 | B7: Comisión topografía (topógrafo + Cadenero 1 + 2 Cadeneros 2) | C7: Día | D7: 1.05 | E7: 500000 | F7: =D7*E7 -> 525000
E8: TOTAL 1 | F8: =F7 -> 525000
A10: 2 - Equipos
A11: 1 - % Mano de Obra | B11: Herramienta menor | C11: % | F11: 26250
A12: EQU011 | B12: Equipo completo de topografía | C12: Día | D12: 1 | E12: 220000 | F12: =D12*E12 -> 220000
E13: TOTAL 2 | F13: =F11+F12 -> 246250
A15: 3 - Materiales
A16: MAT,116 | B16: Cuartón de sajo 2" x 4" x 2,9 m | C16: M | D16: 3 | E16: 7500 | F16: =D16*E16 -> 22500
A17: MAT,222 | B17: Listón sajo de 5 x 3 cm x 2,5 m (varilla) | C17: M | D17: 3 | E17: 5000 | F17: =D17*E17 -> 15000
A18: MAT,334 | B18: Puntilla de 3" | C18: Lb | D18: 0.02 | E18: 9000 | F18: =D18*E18 -> 180
E19: TOTAL 3 | F19: =F16+F17+F18 -> 37680
A21: 5 - Otros
A22: 2 - % Mano de Obra | B22: Acarreo interno | C22: % | F22: 26250
E23: TOTAL 5 | F23: =F22 -> 26250
E26: COSTO DIRECTO | F26: =F8+F13+F19+F23 -> 835180
A29: CÓDIGO | B29: 2.01 | E29: UNIDAD | F29: m2
A30: DESCRIPCIÓN | B30: Conformación y compactación de la calzada existente manual
A32: CÓDIGO | B32: DESCRIPCIÓN | C32: UNIDAD | D32: CANTIDAD | E32: PRECIO | F32: TOTAL
A34: 1 - Mano de Obra
A35: MOB015 | B35: Cuadrilla E 1 Of + 1 Ay (jornal + prestaciones) | C35: Día | D35: 0.05 | E35: 290121 | F35: =D35*E35 -> 14506.05
E36: TOTAL 1 | F36: =F35 -> 14506.05
A38: 2 - Equipos
A39: 1 - % Mano de Obra | B39: Herramienta menor | C39: % | F39: 725.3
A40: EQU034 | B40: Compactador manual (canguro) | C40: Día | D40: 0.05 | E40: 90000 | F40: =D40*E40 -> 4500
E41: TOTAL 2 | F41: =F39+F40 -> 5225.3
A43: 5 - Otros
A44: 2 - % Mano de Obra | B44: Acarreo interno | C44: % | F44: 725.3
E45: TOTAL 5 | F45: =F44 -> 725.3
E48: COSTO DIRECTO | F48: =F36+F41+F45 -> 20456.65
A51: CÓDIGO | B51: 2.02 | E51: UNIDAD | F51: M3
A52: DESCRIPCIÓN | B52: Excavación mecanica en material heterogéneo, bajo cualquier grado de humedad, medido in situ, incluye botada.
A54: CÓDIGO | B54: DESCRIPCIÓN | C54: UNIDAD | D54: CANTIDAD | E54: PRECIO | F54: TOTAL
A56: 1 - Mano de Obra
A57: MOB00375363 | B57: Ayudante practico (jornal + prestaciones) | C57: Día | D57: 0.002 | E57: 107936 | F57: =D57*E57 -> 215.872
E58: TOTAL 1 | F58: =F57 -> 215.872
A60: 2 - Equipos
...
