Workbook
Name ___U1052: #REF!
Name ___U1052: #REF!
Name ___U1052: #REF!
Name __EST1: #REF!
Name __EST1: #REF!
Name __EST10: #REF!
Name __EST10: #REF!
Name __EST10: #REF!
Name __EST10: #REF!
Name __EST11: #REF!
Name __EST11: #REF!
Name __EST11: #REF!
Name __EST11: #REF!
Name __EST12: #REF!
Name __EST12: #REF!
Name __EST12: #REF!
Name __EST12: #REF!
Name __EST13: #REF!
Name __EST13: #REF!
Name __EST13: #REF!
Name __EST13: #REF!
Name __EST14: #REF!
Name __EST14: #REF!
Name __EST14: #REF!
Name __EST14: #REF!
Name __EST15: #REF!
Name __EST15: #REF!
Name __EST15: #REF!
Name __EST15: #REF!
Name __EST16: #REF!
Name __EST16: #REF!
Name __EST16: #REF!
Name __EST16: #REF!
Name __EST17: #REF!
Name __EST17: #REF!
Name __EST17: #REF!
Name __EST17: #REF!
Name __EST18: #REF!
Name __EST18: #REF!
Name __EST18: #REF!
Name __EST18: #REF!
Name __EST19: #REF!
Name __EST19: #REF!
Name __EST19: #REF!
Name __EST19: #REF!
Name __EST2: #REF!
Name __EST2: #REF!
Name __EST2: #REF!
Name __EST2: #REF!
Name __EST3: #REF!
Name __EST3: #REF!
Name __EST4: #REF!
Name __EST4: #REF!
Name __EST4: #REF!
Name __EST4: #REF!
Name __EST5: #REF!
Name __EST5: #REF!
Name __EST5: #REF!
Name __EST5: #REF!
Name __EST6: #REF!

Sheet BASE
E2: FORMATO CUADRO DE TABULACIÓN Y ANÁLISIS DE DATOS ESTADÍSTICOS - ESTUDIO DE SECTOR
E3: CÓDIGO: GCON-FM-029 | M3: VERSIÓN: 3
E4: FECHA DE APLICACIÓN: DICIEMBRE DE 2021
B6: TABULACION INICIAL COTIZACIONES, CONTRATACIONES VIGENCIA ANTERIOR DE LA UAERMV Y CONTRATACIONES SIMILARES DE OTRAS ENTIDADES PARA EL ESTUDIO DE SECTOR PRESUPUESTO | F6: COTIZACIONES GESTIONADAS PARA EL ESTUDIO DE SECTOR | H6: CONTRATACIONES ANTERIORES UAERMV | M6: CONTRATACIONES SIMILARES OTRAS ENTIDADES VIGENCIA | N6: "PRESTAR EL SERVICIO DE MANTENIMIENTO E INGENIERÍA PARA LAS MÁQUINAS Y EQUIPOS INDUSTRIALES DE LA SEDE PRODUCCIÓN DE LA UAERMV"
H7: Contrato Nro. 902 de 2024 | I7: Contrato Nro. 645 de 2023 | J7: Contrato Nro. 631 de 2021 | K7: Contrato Nro. 562 de 2020 | L7: Contrato Nro. 460 de 2019 | M7: Visor de Precios Unitarios de Referencia 2024-I Fase II + M.O. 2025
F8: GECOLSA | G8: IMC SAS | H8: IMC SAS | I8: IMC SAS | J8: AUTOCARS INGENIERIA SAS | K8: REIMPODIESEL S.A.S | L8: IMC SAS | M8: IDU
B9: ITEM | C9: DESCRIPCIÓN | D9: UNIDAD DE MEDIDA | E9: CANTIDAD | F9: VALOR UNITARIO INCLUIDO IVA | H9: VALOR UNITARIO INCLUIDO IVA A PRECIO FEB 2025 | M9: VALOR UNITARIO INCLUIDO IVA A PRECIO FEB 2025 | N9: MUESTRA | O9: VALOR PROMEDIO UNITARIO | P9: VALOR PROMEDIO TOTAL | Q9: DESVIACION ESTANDAR | R9: COEF VARIACION | S9: MARGEN DE CONFIABILIDAD | T9: NIVEL DE CONFIABILIDAD DE LOS DATOS
B10: 1 | C10: MANO DE OBRA TÉCNICO MECÁNICO ACTIVIDADES DE DIAGNÓSTICO Y MANTENIMIENTO PREVENTIVO Y/O CORRECTIVO PARA COMPONENTES O SISTEMAS MECÁNICOS, NEUMÁTICOS Y/O ACTIVIDADES RELACIONADAS A REALIZAR POR UN TÉCNICO MECÁNICO CALIFICADO. | D10: HORA | E10: 1 | G10: 195220 | H10: 156055.94 | I10: 116892 | J10: 91400 | K10: 87353 | L10: 87291 | N10: =COUNT(F10:M10) -> 6 | O10: =IFERROR(ROUND(AVERAGE(F10:M10),0),0) -> 122369 | P10: =IFERROR(ROUND(+O10*E10,0),0) -> 122369 | Q10: =IFERROR(STDEVP(F10:M10),0) -> 40595.035 | R10: =IFERROR(Q10/O10*100,0) -> 33.17428 | S10: =IFERROR(100-R10,0) -> 66.82572 | T10: =IF(S10>70,"ALTO","BAJO") -> BAJO
B11: 2 | C11: MANO DE OBRA TÉCNICO ELÉCTRICISTA ACTIVIDADES DE DIAGNÓSTICO Y MANTENIMIENTO PREVENTIVO Y/O CORRECTIVO PARA COMPONENTES O SISTEMAS ELÉCTRICOS Y/O ACTIVIDADES RELACIONADAS A REALIZAR POR UN TÉCNICO ELECTRICISTA CALIFICADO. | D11: HORA | E11: 1 | G11: 153892 | H11: 135825.99 | I11: 117760 | J11: 91400 | K11: 87353 | L11: 87291 | N11: =COUNT(F11:M11) -> 6 | O11: =IFERROR(ROUND(AVERAGE(F11:M11),0),0) -> 112254 | P11: =IFERROR(ROUND(+O11*E11,0),0) -> 112254 | Q11: =IFERROR(STDEVP(F11:M11),0) -> 25812.717 | R11: =IFERROR(Q11/O11*100,0) -> 22.99492 | S11: =IFERROR(100-R11,0) -> 77.00508 | T11: =IF(S11>70,"ALTO","BAJO") -> ALTO
B12: 3 | C12: MANO DE OBRA ESPECIALIZADA Actividades de diagnóstico, mantenimiento preventivo, mantenimiento correctivo y/o mantenimiento predictivo que requieren de un técnico especialista, tales como actividades de calibración, verificación, instrumentación y/o intervención de sistemas o equipos electrónicos, térmicos, de pesaje, entre otros. De igual forma incluye actividades de fabricación o manufactura de partes y componentes que deben deberán cumplir requerimientos de diseño específicos del fabricante de cada equipo industrial de la UAERMV. Incluye el levantamiento de información para fabricación directamente con la parte o componente afectada o con repuestos disponibles en el stock de la UAERMV. También podrán estar disponibles planos de fabricantes para algunas partes y componentes de mayor rotación y que corresponden a piezas de desgaste, tales como paletas, recubrimientos, brazos de mezclador, o repuestos necesarios de fabricación tales como trunnios, ejes y diferentes piezas de máquinas. Los procesos de manufactura requeridos pueden incluir procesos de mecanizado, fresado, fundición, conformado de chapa, corte, rolado, entre otros.Igualmente podrán ser requeridas actividades de Diseño para la fabricación de partes y componentes. | D12: HORA | E12: 1 | G12: 242861 | H12: 214349.69 | I12: 185839 | J12: 111200 | K12: 104318 | L12: 108027 | N12: =COUNT(F12:M12) -> 6 | O12: =IFERROR(ROUND(AVERAGE(F12:M12),0),0) -> 161099 | P12: =IFERROR(ROUND(+O12*E12,0),0) -> 161099 | Q12: =IFERROR(STDEVP(F12:M12),0) -> 55772.391 | R12: =IFERROR(Q12/O12*100,0) -> 34.619949 | S12: =IFERROR(100-R12,0) -> 65.380051 | T12: =IF(S12>70,"ALTO","BAJO") -> BAJO
B13: 4 | C13: MANTENIMIENTO PREVENTIVO MOTOR ELECTRICO 100 a 150 HP - 440V - 4P - LAVAR DEVANADO Y HORNEAR - VERIFICAR AJUSTES - REEMPLAZAR RODAMIENTOS - PRUEBA DE RESISTENCIA DE AISLANTE -BARNIZADO DE AISLANTE - VIBRACION - PINTURA - PRUEBAS DE ARRANQUE | D13: UND | E13: 1 | G13: 16155949 | H13: 13642684 | I13: 11129419 | J13: 8724000 | K13: 9702896 | L13: 9250297 | N13: =COUNT(F13:M13) -> 6 | O13: =IFERROR(ROUND(AVERAGE(F13:M13),0),0) -> 11434208 | P13: =IFERROR(ROUND(+O13*E13,0),0) -> 11434208 | Q13: =IFERROR(STDEVP(F13:M13),0) -> 2657606.6 | R13: =IFERROR(Q13/O13*100,0) -> 23.242595 | S13: =IFERROR(100-R13,0) -> 76.757405 | T13: =IF(S13>70,"ALTO","BAJO") -> ALTO
B14: 5 | C14: MANTENIMIENTO PREVENTIVO MOTOR ELECTRICO 75HP a 100 HP - 440V - LAVAR DEVANADO Y HORNEAR - VERIFICAR AJUSTES - REEMPLAZAR RODAMIENTOS - PRUEBA DE RESISTENCIA DE AISLANTE -BARNIZADO DE AISLANTE - VIBRACION - PINTURA - PRUEBAS DE ARRANQUE | D14: UND | E14: 1 | G14: 12299329 | H14: 10386011 | I14: 8472693 | J14: 6243000 | K14: 6837230 | L14: 6535756 | N14: =COUNT(F14:M14) -> 6 | O14: =IFERROR(ROUND(AVERAGE(F14:M14),0),0) -> 8462336 | P14: =IFERROR(ROUND(+O14*E14,0),0) -> 8462336 | Q14: =IFERROR(STDEVP(F14:M14),0) -> 2224907.5 | R14: =IFERROR(Q14/O14*100,0) -> 26.291883 | S14: =IFERROR(100-R14,0) -> 73.708117 | T14: =IF(S14>70,"ALTO","BAJO") -> ALTO
B15: 6 | C15: MANTENIMIENTO PREVENTIVO MOTOR ELECTRICO 40HP A 75 HP- 440V - LAVAR DEVANADO Y HORNEAR - VERIFICAR AJUSTES - REEMPLAZAR RODAMIENTOS - PRUEBA DE RESISTENCIA DE AISLANTE -BARNIZADO DE AISLANTE - VIBRACION - PINTURA - PRUEBAS DE ARRANQUE | D15: UND | E15: 1 | G15: 10081078 | H15: 8512838.3 | I15: 6944598 | J15: 4712000 | K15: 5310366 | L15: 5139376 | N15: =COUNT(F15:M15) -> 6 | O15: =IFERROR(ROUND(AVERAGE(F15:M15),0),0) -> 6783376 | P15: =IFERROR(ROUND(+O15*E15,0),0) -> 6783376 | Q15: =IFERROR(STDEVP(F15:M15),0) -> 1960228 | R15: =IFERROR(Q15/O15*100,0) -> 28.897529 | S15: =IFERROR(100-R15,0) -> 71.102471 | T15: =IF(S15>70,"ALTO","BAJO") -> ALTO
B16: 7 | C16: MANTENIMIENTO GENERAL DE LA CALDERAS PARA ACEITE TERMICO 500,000 A 750,000 KCAL / HR, LIMPIADO DE PARED, CAMBIO DE EMPAQUETADURAS, DESHOLLINADO DE TUBERIA INTERNA, REVISION DE REFRACTARIO, LAVADO GENERAL, PUESTA EN MARCHA | D16: UND | E16: 1 | G16: 6202841 | H16: 4901437.2 | I16: 3600033 | J16: 2632000 | K16: 2969802 | L16: 2765181 | N16: =COUNT(F16:M16) -> 6 | O16: =IFERROR(ROUND(AVERAGE(F16:M16),0),0) -> 3845216 | P16: =IFERROR(ROUND(+O16*E16,0),0) -> 3845216 | Q16: =IFERROR(STDEVP(F16:M16),0) -> 1299925.1 | R16: =IFERROR(Q16/O16*100,0) -> 33.806296 | S16: =IFERROR(100-R16,0) -> 66.193704 | T16: =IF(S16>70,"ALTO","BAJO") -> BAJO
B17: 8 | C17: MANTENIMIENTO GENERAL PREVENTIVO QUEMADOR RIELLO LS130 Incluye: - Verificación, Limpieza General Exterior e Interior del quemador y cada uno de sus componentes ( Damper de Aire, carcaza interior , exterior y Ventilador) - Revisión y mantenimiento al difusor, boquillas, electrodos y cables de alta. - Revisión y limpieza Unidad detección de llama e Ignición (Transformador de Alta) - Limpieza y Calibración de los electrodos de Ignición / Ionización, fotocelda - Revisión del funcionamiento de las válvulas solenoides. - Verificación del funcionamiento de los Presóstatos de gas y de aire. - Verificación del funcionamiento del control de llama. CALIBRACIÓN ESTEQUIOMETRICA DEL QUEMADOR. - Verificación, y calibración de válvulas Principales del quemador - Realizará calibración de caudal según grafica de calibración. - Realizará calibración Entrada de Aire para el quemador (Dámper del aire). - Ajustarán Presiones estáticas y dinámicas de acuerdo a curva de fabricante. - Realizarán pruebas de calibración en proceso. ANALISIS DE GASES CON EQUIPO DIGITAL. - Toma de análisis de gases antes y después de la calibración. - Impresión inmediata y entrega de resultados de combustión. - Equipo calibrado y certificado. LIMPIEZA Y AJUSTE DEL TABLERO ELECTRICO Y LA INSTRUMENTACION - Limpieza y ajuste de contactos del tablero - Limpieza y ajuste de los controles de presión - Verificar amperaje de motores - Verificar voltaje de entrada para motores y mando REVISIÓN FINAL PARA ENTREGA - Pruebas de Funcionamiento y Operación del quemador. - Informe técnico con resultados y parámetros de calibración. - Asesoría y Capacitación a los operadores del quemador. ELSERVICIO DE MANTENIMIENTO INCLUYE. (GARANTÍA DE OPERACIÓN) - Dos paradas de emergencia durante los próximos 45 días. - Dos Visitas de seguimiento cada 20 días, en los siguientes 2 meses; programadas con producción. - Incluye, Insumos de Limpieza (desengrasante, Lija, Limpiador Electrónico) | D17: UND | E17: 1 | G17: 26028087 | H17: 19125899 | I17: 12223711 | N17: =COUNT(F17:M17) -> 3 | O17: =IFERROR(ROUND(AVERAGE(F17:M17),0),0) -> 19125899 | P17: =IFERROR(ROUND(+O17*E17,0),0) -> 19125899 | Q17: =IFERROR(STDEVP(F17:M17),0) -> 5635612.9 | R17: =IFERROR(Q17/O17*100,0) -> 29.465872 | S17: =IFERROR(100-R17,0) -> 70.534128 | T17: =IF(S17>70,"ALTO","BAJO") -> ALTO
B18: 9 | C18: MANTENIMIENTO EN GENERAL COMPRESOR INDUSTRIAL ATLAS COPCO GA37, SUMINISTRO Y CAMBIO DE: ACEITE, FILTRO DE ACEITE Y FILTRO DE AIRE ( DE ACUERDO CON ESPECIFICACIONES DEL FABRICANTE), REVISIÓN , AJUSTE Y LIMPIEZA DEL TABLERO ELECTRICO, REVISION DEL SISTEMA NEUMATICO, ASEO, | D18: UND | E18: 1 | G18: 3817139 | H18: 3082026.9 | I18: 2346915 | J18: 1716000 | L18: 1752840 | N18: =COUNT(F18:M18) -> 5 | O18: =IFERROR(ROUND(AVERAGE(F18:M18),0),0) -> 2542984 | P18: =IFERROR(ROUND(+O18*E18,0),0) -> 2542984 | Q18: =IFERROR(STDEVP(F18:M18),0) -> 807553.27 | R18: =IFERROR(Q18/O18*100,0) -> 31.756129 | S18: =IFERROR(100-R18,0) -> 68.243871 | T18: =IF(S18>70,"ALTO","BAJO") -> BAJO
B19: 10 | C19: MANTENIMIENTO GENERAL DEL TRANSFORMADOR 800 KVA 11,4 KV - 440V Mantenimiento general de transformador inmersos en aceite EL mantenimiento preventivo de los transformadores incluye al menos siguientes acciones. 1. Termo filtrado y vaciado de aceite 2. Regeneración del aceite dieléctrico 3. Lavado y secado de parte activa 4. Suministro, cambio e implementación de aceite dieléctrico, bushings, válvulas, accesorios 5. Informe técnica de mantenimiento. | D19: UND | E19: 1 | G19: 23991139 | H19: 17817525 | I19: 11643911 | J19: 7362000 | K19: 8221100 | L19: 7532343 | N19: =COUNT(F19:M19) -> 6 | O19: =IFERROR(ROUND(AVERAGE(F19:M19),0),0) -> 12761336 | P19: =IFERROR(ROUND(+O19*E19,0),0) -> 12761336 | Q19: =IFERROR(STDEVP(F19:M19),0) -> 6191810.4 | R19: =IFERROR(Q19/O19*100,0) -> 48.52008 | S19: =IFERROR(100-R19,0) -> 51.47992 | T19: =IF(S19>70,"ALTO","BAJO") -> BAJO
B20: 11 | C20: MANTENINIENTO PREDICTIVO TRANSFORMADOR 800 KVA 11,4 KV - 440V Consiste en la toma de la muestra del aceite del transformador y realizar el diagnostico completo que contemple los siguientes análisis. 1. Análisis dieléctrico 2. Análisis cromatográfico 3. Análisis de PBC'S 4. Análisis de contenido de furanos 5. Informe técnico de diagnostico | D20: UND | E20: 1 | G20: 9402586 | H20: 7939892.7 | I20: 6477200 | J20: 4331000 | K20: 4987739 | L20: 4809111 | N20: =COUNT(F20:M20) -> 6 | O20: =IFERROR(ROUND(AVERAGE(F20:M20),0),0) -> 6324588 | P20: =IFERROR(ROUND(+O20*E20,0),0) -> 6324588 | Q20: =IFERROR(STDEVP(F20:M20),0) -> 1833248.5 | R20: =IFERROR(Q20/O20*100,0) -> 28.986054 | S20: =IFERROR(100-R20,0) -> 71.013946 | T20: =IF(S20>70,"ALTO","BAJO") -> ALTO
B21: 12 | C21: MANTENINIENTO PREDICTIVO TRANSFORMADOR 30 KVA 11,4 KV - 440V Consiste en la toma de la muestra del aceite del transformador y realizar el diagnostico completo que contemple los siguientes análisis. 1. Análisis dieléctrico 2. Análisis cromatográfico 3. Análisis de PBC'S 4. Análisis de contenido de furanos 5. Informe técnico de diagnostico | D21: UND | E21: 1 | G21: 9265099 | H21: 6858723.9 | I21: 4452349 | J21: 2621000 | K21: 3759678 | L21: 3360584 | N21: =COUNT(F21:M21) -> 6 | O21: =IFERROR(ROUND(AVERAGE(F21:M21),0),0) -> 5052906 | P21: =IFERROR(ROUND(+O21*E21,0),0) -> 5052906 | Q21: =IFERROR(STDEVP(F21:M21),0) -> 2302707.7 | R21: =IFERROR(Q21/O21*100,0) -> 45.571948 | S21: =IFERROR(100-R21,0) -> 54.428052 | T21: =IF(S21>70,"ALTO","BAJO") -> BAJO
B22: 13 | C22: MANTENINIENTO PREDICTIVO TRANSFORMADOR 500 KVA 11,4 KV - 440V Consiste en la toma de la muestra del aceite del transformador y realizar el diagnostico completo que contemple los siguientes análisis. 1. Análisis dieléctrico 2. Análisis cromatográfico 3. Análisis de PBC'S 4. Análisis de contenido de furanos 5. Informe técnico de diagnostico | D22: UND | E22: 1 | G22: 15121112 | H22: 11079570 | I22: 7038028 | J22: 4263000 | K22: 4858271 | L22: 4635288 | N22: =COUNT(F22:M22) -> 6 | O22: =IFERROR(ROUND(AVERAGE(F22:M22),0),0) -> 7832545 | P22: =IFERROR(ROUND(+O22*E22,0),0) -> 7832545 | Q22: =IFERROR(STDEVP(F22:M22),0) -> 4002250.4 | R22: =IFERROR(Q22/O22*100,0) -> 51.097701 | S22: =IFERROR(100-R22,0) -> 48.902299 | T22: =IF(S22>70,"ALTO","BAJO") -> BAJO
B23: 14 | C23: MANTENIMIENTO GENERAL DEL TRANSFORMADOR 30 KVA 11,4 KV - 220V Mantenimiento general de transformador inmersos en aceite EL mantenimiento preventivo de los transformadores incluye al menos siguientes acciones. 1. Termo filtrado y vaciado de aceite 2. Regeneración del aceite dieléctrico 3. Lavado y secado de parte activa 4. Suministro, cambio e implementación de aceite dieléctrico, bushings, válvulas, accesorios 5. Informe técnica de mantenimiento. | D23: UND | E23: 1 | G23: 5416289 | H23: 4716291.8 | I23: 4016295 | J23: 2832000 | K23: 3161420 | L23: 2897055 | N23: =COUNT(F23:M23) -> 6 | O23: =IFERROR(ROUND(AVERAGE(F23:M23),0),0) -> 3839892 | P23: =IFERROR(ROUND(+O23*E23,0),0) -> 3839892 | Q23: =IFERROR(STDEVP(F23:M23),0) -> 970337.94 | R23: =IFERROR(Q23/O23*100,0) -> 25.269928 | S23: =IFERROR(100-R23,0) -> 74.730072 | T23: =IF(S23>70,"ALTO","BAJO") -> ALTO
B24: 15 | C24: MANTENIMIENTO GENERAL DEL TRANSFORMADOR 500 KVA 11,4 KV - 220V Mantenimiento general de transformador inmersos en aceite EL mantenimiento preventivo de los transformadores incluye al menos siguientes acciones. 1. Termo filtrado y vaciado de aceite 2. Regeneración del aceite dieléctrico 3. Lavado y secado de parte activa 4. Suministro, cambio e implementación de aceite dieléctrico, bushings, válvulas, accesorios 5. Informe técnica de mantenimiento. | D24: UND | E24: 1 | G24: 21836252 | H24: 16164818 | I24: 10493384 | J24: 6230000 | K24: 6959334 | L24: 6373521 | N24: =COUNT(F24:M24) -> 6 | O24: =IFERROR(ROUND(AVERAGE(F24:M24),0),0) -> 11342885 | P24: =IFERROR(ROUND(+O24*E24,0),0) -> 11342885 | Q24: =IFERROR(STDEVP(F24:M24),0) -> 5832882.8 | R24: =IFERROR(Q24/O24*100,0) -> 51.423274 | S24: =IFERROR(100-R24,0) -> 48.576726 | T24: =IF(S24>70,"ALTO","BAJO") -> BAJO
B25: 16 | C25: MANTENIMIENTO PREDICTIVO BANCO CONDENSADORES 400 KVA- 440 VAC Que incluye: 1. Control del funcionamiento de contactores 2.Verificación del funcionamiento de relé varimétrico 3.Medición de la corriente nominal de los pasos 4.Medición de aislación 5.Medición de capacidad. 6.Medición de corriente de trabajo 7. Limpieza y reajuste de conexiones 9. Informe técnico del mantenimiento | D25: UND | E25: 1 | G25: 13546608 | H25: 10778807 | I25: 8011006 | J25: 6273000 | K25: 6094521 | L25: 6663227 | N25: =COUNT(F25:M25) -> 6 | O25: =IFERROR(ROUND(AVERAGE(F25:M25),0),0) -> 8561195 | P25: =IFERROR(ROUND(+O25*E25,0),0) -> 8561195 | Q25: =IFERROR(STDEVP(F25:M25),0) -> 2738535.3 | R25: =IFERROR(Q25/O25*100,0) -> 31.987769 | S25: =IFERROR(100-R25,0) -> 68.012231 | T25: =IF(S25>70,"ALTO","BAJO") -> BAJO
B26: 17 | C26: MANTENIMIENTO PREDICTIVO BANCO CONDENSADORES 300 KVA- 440 VAC Que incluye: 1. Control del funcionamiento de contactores 2.Verificación del funcionamiento de relé varimétrico 3.Medición de la corriente nominal de los pasos 4.Medición de aislación 5.Medición de capacidad. 6.Medición de corriente de trabajo 7. Limpieza y reajuste de conexiones 9. Informe técnico del mantenimiento | D26: UND | E26: 1 | G26: 9713978 | H26: 8314630.1 | I26: 6915282 | J26: 5266000 | K26: 6066324 | L26: 5417493 | N26: =COUNT(F26:M26) -> 6 | O26: =IFERROR(ROUND(AVERAGE(F26:M26),0),0) -> 6948951 | P26: =IFERROR(ROUND(+O26*E26,0),0) -> 6948951 | Q26: =IFERROR(STDEVP(F26:M26),0) -> 1605631 | R26: =IFERROR(Q26/O26*100,0) -> 23.106092 | S26: =IFERROR(100-R26,0) -> 76.893908 | T26: =IF(S26>70,"ALTO","BAJO") -> ALTO
B27: 18 | C27: MANTENIMIENTO PREDICTIVO VARIADORES ABB ACS 355 POTENCIA 4 HP A 440 V Que incluye: 1. Limpieza general 2. Revisión de los codensadores en las tarjetas de potencia y de control 3. Revisión de los condensadores de potencia. 4. Revisión de las resistencias de carga y de freno. 5. Revisión general de los circuitos. 6. Levantamiento de hoja de vida, con backup de la programacion. 7. Tropicalización de tarjetas. 8. Informe de mantenimiento | D27: UND | E27: 1 | G27: 1744276 | H27: 1378360.5 | I27: 1012444 | J27: 711000 | K27: 860368 | L27: 911414 | N27: =COUNT(F27:M27) -> 6 | O27: =IFERROR(ROUND(AVERAGE(F27:M27),0),0) -> 1102977 | P27: =IFERROR(ROUND(+O27*E27,0),0) -> 1102977 | Q27: =IFERROR(STDEVP(F27:M27),0) -> 352254.21 | R27: =IFERROR(Q27/O27*100,0) -> 31.936678 | S27: =IFERROR(100-R27,0) -> 68.063322 | T27: =IF(S27>70,"ALTO","BAJO") -> BAJO
B28: 19 | C28: MANTENIMIENTO PREDICTIVO VARIADORES ABB ACS 355 POTENCIA 70 HP A 440 V Que incluye: 1. Limpieza general 2. Revisión de los codensadores en las tarjetas de potencia y de control 3. Revisión de los condensadores de potencia. 4. Revisión de las resistencias de carga y de freno. 5. Revisión general de los circuitos. 6. Levantamiento de hoja de vida, con backup de la programacion. 7. Tropicalización de tarjetas. 8. Informe de mantenimiento | D28: UND | E28: 1 | G28: 5239046 | H28: 4424044.9 | I28: 3609044 | J28: 1545000 | K28: 1693023 | L28: 1490825 | N28: =COUNT(F28:M28) -> 6 | O28: =IFERROR(ROUND(AVERAGE(F28:M28),0),0) -> 3000164 | P28: =IFERROR(ROUND(+O28*E28,0),0) -> 3000164 | Q28: =IFERROR(STDEVP(F28:M28),0) -> 1500832.5 | R28: =IFERROR(Q28/O28*100,0) -> 50.025014 | S28: =IFERROR(100-R28,0) -> 49.974986 | T28: =IF(S28>70,"ALTO","BAJO") -> BAJO
B29: 20 | C29: MANTENIMIENTO PREDICTIVO VARIADORES ABB ACS 355 POTENCIA 150 HP A 440 V Que incluye: 1. Limpieza general 2. Revisión de los codensadores en las tarjetas de potencia y de control 3. Revisión de los condensadores de potencia. 4. Revisión de las resistencias de carga y de freno. 5. Revisión general de los circuitos. 6. Levantamiento de hoja de vida, con backup de la programacion. 7. Tropicalización de tarjetas. 8. Informe de mantenimiento | D29: UND | E29: 1 | G29: 6912750 | H29: 5462409.9 | I29: 4012070 | J29: 2400000 | K29: 2546568 | L29: 2084599 | N29: =COUNT(F29:M29) -> 6 | O29: =IFERROR(ROUND(AVERAGE(F29:M29),0),0) -> 3903066 | P29: =IFERROR(ROUND(+O29*E29,0),0) -> 3903066 | Q29: =IFERROR(STDEVP(F29:M29),0) -> 1775187.8 | R29: =IFERROR(Q29/O29*100,0) -> 45.481879 | S29: =IFERROR(100-R29,0) -> 54.518121 | T29: =IF(S29>70,"ALTO","BAJO") -> BAJO
B30: 21 | C30: CALIBRACION BASCULA CAMIONERA DE 80 TON. EFECTUADA POR UN LABORATORIO ACREDITADO POR ONAC, de acuerdo al método de comparación directa con pesas patrón y/o sustitución de carga; realizando pruebas de Excentricidad de Carga, Repetibilidad y Exactitud de Carga. DEBE ENTREGARSE EL CERTIFICADO. | D30: UND | E30: 1 | G30: 17373038 | H30: 14670440 | I30: 11967842 | J30: 8002000 | K30: 8776505 | L30: 7735137 | N30: =COUNT(F30:M30) -> 6 | O30: =IFERROR(ROUND(AVERAGE(F30:M30),0),0) -> 11420827 | P30: =IFERROR(ROUND(+O30*E30,0),0) -> 11420827 | Q30: =IFERROR(STDEVP(F30:M30),0) -> 3618313.5 | R30: =IFERROR(Q30/O30*100,0) -> 31.681712 | S30: =IFERROR(100-R30,0) -> 68.318288 | T30: =IF(S30>70,"ALTO","BAJO") -> BAJO
B31: 22 | C31: MANTENIMIENTO PREVENTIVO BASCULA CAMIONERA DE 80 TON VERIFICACION Y AJUSTE CELDAS DE CARGA, SISTEMAS ELECTRICO Y MECANICO, PRUEBAS DE REPETIBILIDAD: AJUSTE CON PESAS CALIBRADAS y/o sustitución de carga. ENTREGA PROTOCOLOS DE VERIFICACIÓN. ENTREGA COPIA CERTIFICADO DE CALIBRACION DE LAS PESAS UTILIZADAS EXPEDIDA POR LABORATORIO ACREDITADO. | D31: UND | E31: 1 | G31: 5490919 | H31: 4338896.7 | I31: 3186875 | N31: =COUNT(F31:M31) -> 3 | O31: =IFERROR(ROUND(AVERAGE(F31:M31),0),0) -> 4338897 | P31: =IFERROR(ROUND(+O31*E31,0),0) -> 4338897 | Q31: =IFERROR(STDEVP(F31:M31),0) -> 940622.02 | R31: =IFERROR(Q31/O31*100,0) -> 21.678828 | S31: =IFERROR(100-R31,0) -> 78.321172 | T31: =IF(S31>70,"ALTO","BAJO") -> ALTO
B32: 23 | C32: SERVICIO DE BALANCEO DINÁMICO EN CAMPO, DE ROTOR EN ALUMINIO D=740MM, SE ENTREGA REPORTE TÉCNICO Y DE NORMATIVIDAD, INCLUYENDO UN ANÁLISIS DE LAS CONDICIONES DEL EQUIPO BASADO EN GRAFICAS DE TIEMPO Y FRECUENCIA. | D32: UND | E32: 1 | G32: 6615179 | H32: 5586102.7 | I32: 4557027 | J32: 2910000 | K32: 3326517 | L32: 3215731 | N32: =COUNT(F32:M32) -> 6 | O32: =IFERROR(ROUND(AVERAGE(F32:M32),0),0) -> 4368426 | P32: =IFERROR(ROUND(+O32*E32,0),0) -> 4368426 | Q32: =IFERROR(STDEVP(F32:M32),0) -> 1360606 | R32: =IFERROR(Q32/O32*100,0) -> 31.146368 | S32: =IFERROR(100-R32,0) -> 68.853632 | T32: =IF(S32>70,"ALTO","BAJO") -> BAJO
B33: 24 | C33: SERVICIO DE BALANCEO DINÁMICO EN CAMPO, DE ROTOR DE EXHAUSTOR EN ACERO D=900 MM, SE ENTREGA REPORTE TÉCNICO Y DE NORMATIVIDAD, INCLUYENDO UN ANÁLISIS DE LAS CONDICIONES DEL EQUIPO BASADO EN GRAFICAS DE TIEMPO Y FRECUENCIA. | D33: UND | E33: 1 | G33: 7138826 | H33: 6028289.7 | I33: 4917754 | J33: 3083000 | K33: 3524310 | L33: 3406937 | N33: =COUNT(F33:M33) -> 6 | O33: =IFERROR(ROUND(AVERAGE(F33:M33),0),0) -> 4683186 | P33: =IFERROR(ROUND(+O33*E33,0),0) -> 4683186 | Q33: =IFERROR(STDEVP(F33:M33),0) -> 1495933.1 | R33: =IFERROR(Q33/O33*100,0) -> 31.942636 | S33: =IFERROR(100-R33,0) -> 68.057364 | T33: =IF(S33>70,"ALTO","BAJO") -> BAJO
B34: 25 | C34: ABRAZADERA PLASTICA 15 CM PAQUETE 100 UN | D34: UND | E34: 1 | G34: 55062 | H34: 40771.738 | I34: 26482 | J34: 16600 | K34: 16818 | L34: 15649 | N34: =COUNT(F34:M34) -> 6 | O34: =IFERROR(ROUND(AVERAGE(F34:M34),0),0) -> 28564 | P34: =IFERROR(ROUND(+O34*E34,0),0) -> 28564 | Q34: =IFERROR(STDEVP(F34:M34),0) -> 14738.898 | R34: =IFERROR(Q34/O34*100,0) -> 51.599558 | S34: =IFERROR(100-R34,0) -> 48.400442 | T34: =IF(S34>70,"ALTO","BAJO") -> BAJO
B35: 26 | C35: ABRAZADERA PLASTICA 30 CM PAQUETE 100 UN | D35: UND | E35: 1 | G35: 59184 | H35: 46781.353 | I35: 34378 | J35: 27200 | K35: 26523 | L35: 24666 | N35: =COUNT(F35:M35) -> 6 | O35: =IFERROR(ROUND(AVERAGE(F35:M35),0),0) -> 36455 | P35: =IFERROR(ROUND(+O35*E35,0),0) -> 36455 | Q35: =IFERROR(STDEVP(F35:M35),0) -> 12588.587 | R35: =IFERROR(Q35/O35*100,0) -> 34.531852 | S35: =IFERROR(100-R35,0) -> 65.468148 | T35: =IF(S35>70,"ALTO","BAJO") -> BAJO
B36: 27 | C36: ABRAZADERAS INOXIDABLE 2", TORNILLO Y TUERCA , Paquete de 5 Und | D36: UND | E36: 1 | G36: 78002 | H36: 62381.252 | I36: 46760 | L36: 37709 | N36: =COUNT(F36:M36) -> 4 | O36: =IFERROR(ROUND(AVERAGE(F36:M36),0),0) -> 56213 | P36: =IFERROR(ROUND(+O36*E36,0),0) -> 56213 | Q36: =IFERROR(STDEVP(F36:M36),0) -> 15366.889 | R36: =IFERROR(Q36/O36*100,0) -> 27.336895 | S36: =IFERROR(100-R36,0) -> 72.663105 | T36: =IF(S36>70,"ALTO","BAJO") -> ALTO
B37: 28 | C37: ACEITE DE TRANSFERENCIA TERMICA, VISCOSIDAD CST, 40 °C - 46 , RANGO MÁXIMO DE TEMP. 315°C, CANECA 55 GALONES | D37: UND | E37: 1 | G37: 6096638 | H37: 5148228.2 | I37: 4199818 | J37: 2625900 | K37: 3159499 | L37: 2939934 | N37: =COUNT(F37:M37) -> 6 | O37: =IFERROR(ROUND(AVERAGE(F37:M37),0),0) -> 4028336 | P37: =IFERROR(ROUND(+O37*E37,0),0) -> 4028336 | Q37: =IFERROR(STDEVP(F37:M37),0) -> 1256168.8 | R37: =IFERROR(Q37/O37*100,0) -> 31.183319 | S37: =IFERROR(100-R37,0) -> 68.816681 | T37: =IF(S37>70,"ALTO","BAJO") -> BAJO
B38: 29 | C38: ACEITE GEAR 630 PARA REDUCTORES POR 55 GALONES | D38: UND | E38: 1 | G38: 11545145 | H38: 8546596.4 | I38: 5548047 | J38: 2827400 | K38: 3162540 | L38: 3158225 | N38: =COUNT(F38:M38) -> 6 | O38: =IFERROR(ROUND(AVERAGE(F38:M38),0),0) -> 5797992 | P38: =IFERROR(ROUND(+O38*E38,0),0) -> 5797992 | Q38: =IFERROR(STDEVP(F38:M38),0) -> 3250268.2 | R38: =IFERROR(Q38/O38*100,0) -> 56.058515 | S38: =IFERROR(100-R38,0) -> 43.941485 | T38: =IF(S38>70,"ALTO","BAJO") -> BAJO
B39: 30 | C39: ACEITE HIDRAULICO ISO 68 ( POR CANECA X 55 GAL ONES) | D39: UND | E39: 1 | G39: 10237511 | H39: 7672490.4 | I39: 5107469 | J39: 3256200 | K39: 3297578 | L39: 2705898 | N39: =COUNT(F39:M39) -> 6 | O39: =IFERROR(ROUND(AVERAGE(F39:M39),0),0) -> 5379524 | P39: =IFERROR(ROUND(+O39*E39,0),0) -> 5379524 | Q39: =IFERROR(STDEVP(F39:M39),0) -> 2736269.6 | R39: =IFERROR(Q39/O39*100,0) -> 50.864529 | S39: =IFERROR(100-R39,0) -> 49.135471 | T39: =IF(S39>70,"ALTO","BAJO") -> BAJO
B40: 31 | C40: ACEITE SINTETICO PARA COMPRESORES DE AIRE | D40: GALON | E40: 1 | G40: 1231832 | H40: 479586.59 | I40: 327342 | J40: 293100 | L40: 337842 | N40: =COUNT(F40:M40) -> 5 | O40: =IFERROR(ROUND(AVERAGE(F40:M40),0),0) -> 533941 | P40: =IFERROR(ROUND(+O40*E40,0),0) -> 533941 | Q40: =IFERROR(STDEVP(F40:M40),0) -> 354724.85 | R40: =IFERROR(Q40/O40*100,0) -> 66.435215 | S40: =IFERROR(100-R40,0) -> 33.564785 | T40: =IF(S40>70,"ALTO","BAJO") -> BAJO
B41: 32 | C41: ACETILENO INDUSTRIAL (PROCESO DE OXICORTE) CILINDRO POR 10 KG | D41: KG | E41: 1 | G41: 166151 | H41: 131328.19 | I41: 96505 | J41: 76400 | K41: 144850 | L41: 148936 | N41: =COUNT(F41:M41) -> 6 | O41: =IFERROR(ROUND(AVERAGE(F41:M41),0),0) -> 127362 | P41: =IFERROR(ROUND(+O41*E41,0),0) -> 127362 | Q41: =IFERROR(STDEVP(F41:M41),0) -> 31200.6 | R41: =IFERROR(Q41/O41*100,0) -> 24.497574 | S41: =IFERROR(100-R41,0) -> 75.502426 | T41: =IF(S41>70,"ALTO","BAJO") -> ALTO
B42: 33 | C42: ACOPLE DE CADENA CON CARCAZA , REF. 100-20 | D42: UND | E42: 1 | G42: 3119772 | H42: 2669501.9 | I42: 2219232 | J42: 1775700 | K42: 1674706 | L42: 1464108 | N42: =COUNT(F42:M42) -> 6 | O42: =IFERROR(ROUND(AVERAGE(F42:M42),0),0) -> 2153837 | P42: =IFERROR(ROUND(+O42*E42,0),0) -> 2153837 | Q42: =IFERROR(STDEVP(F42:M42),0) -> 584736.04 | R42: =IFERROR(Q42/O42*100,0) -> 27.148574 | S42: =IFERROR(100-R42,0) -> 72.851426 | T42: =IF(S42>70,"ALTO","BAJO") -> ALTO
...

Sheet TABLA DINÁMICA
A3: Suma de CANTIDAD | B3: Conf.
A4: MUESTRA | B4: ALTO | C4: BAJO | D4: Total general
A5: 1 | B5: 178 | D5: 178
A6: 2 | B6: 34 | C6: 26 | D6: 60
A7: 3 | B7: 42 | C7: 1 | D7: 43
A8: 4 | B8: 218 | C8: 24 | D8: 242
A9: 5 | B9: 93 | C9: 56 | D9: 149
A10: 6 | B10: 275 | C10: 182 | D10: 457
A11: 7 | B11: 1 | C11: 5 | D11: 6
A12: Total general | B12: 841 | C12: 294 | D12: 1135

Sheet FM-029 INICIAL
E2: FORMATO CUADRO DE TABULACIÓN Y ANÁLISIS DE DATOS ESTADÍSTICOS - ESTUDIO DE SECTOR
E3: CÓDIGO: GCON-FM-029 | L3: VERSIÓN 4
E4: FECHA DE APLICACIÓN: AGOSTO DE 2025
B6: TABULACIÓN INICIAL COTIZACIONES, CONTRATACIONES VIGENCIA ANTERIOR DE LA UAERMV Y CONTRATACIONES SIMILARES DE OTRAS ENTIDADES PARA EL ESTUDIO DE SECTOR PRESUPUESTO | F6: COTIZACIONES GESTIONADAS PARA EL ESTUDIO DE SECTOR | H6: CONTRATACIONES ANTERIORES UAERMV | M6: "PRESTAR EL SERVICIO DE MANTENIMIENTO E INGENIERÍA PARA LOS EQUIPOS Y PLANTAS INDUSTRIALES DE LAS SEDES DE LA UNIDAD ADMINISTRATIVA ESPECIAL DE REHABILITACIÓN Y MANTENIMIENTO VIAL – UAERMV, CON EL FIN DE GARANTIZAR SU ADECUADA OPERACIÓN Y DISPONIBILIDAD EN APOYO AL CUMPLIMIENTO DE LAS FUNCIONES MISIONALES DE LA ENTIDAD "
H7: Contrato Nro. 650 de 2025 | I7: Contrato Nro. 902 de 2024 | J7: Contrato Nro. 645 de 2023 | K7: Contrato Nro. 631 de 2021 | L7: Contrato Nro. 562 de 2020
F8: 1. IMC S.A.S. | G8: 2. AUTOCARS INGENIERIA SAS | H8: AUTOCARS INGENIERIA SAS | I8: IMC S.A.S. | J8: IMC S.A.S. | K8: AUTOCARS INGENIERIA SAS | L8: REIMPODIESEL S.A.S
B9: ITEM | C9: DESCRIPCIÓN | D9: UNID DE MEDIDA | E9: CANTIDAD | F9: VALOR UNITARIO INCLUIDO IVA | H9: VALOR UNITARIO INCLUIDO IVA | M9: MUESTRA | N9: VALOR PROMEDIO UNITARIO | O9: VALOR PROMEDIO TOTAL | P9: DESVIACION ESTANDAR | Q9: COEF VARIACION | R9: MARGEN DE CONFIABILIDAD | S9: NIVEL DE CONFIABILIDAD DE LOS DATOS
B10: 1 | C10: MANO DE OBRA TÉCNICO MECÁNICO ACTIVIDADES DE DIAGNÓSTICO Y MANTENIMIENTO PREVENTIVO Y/O CORRECTIVO PARA COMPONENTES O SISTEMAS MECÁNICOS, NEUMÁTICOS Y/O ACTIVIDADES RELACIONADAS A REALIZAR POR UN TÉCNICO MECÁNICO CALIFICADO. | D10: HORA | E10: 1 | F10: 186826.7 | G10: 261086 | H10: 174347.05 | I10: 176409.15 | J10: 139632.02 | K10: 133386.63 | L10: 134967.29 | M10: =COUNTIF(F10:L10,">0") -> 7 | N10: =IFERROR(ROUND(AVERAGEIF(F10:L10,">0"),0),0) -> 172379 | O10: =IFERROR(ROUND(+N10*E10,0),0) -> 172379 | P10: {=IFERROR(_xlfn.STDEV.P(IF((F10:L10<>0)*(F10:L10<>""), F10:L10)), 0)} -> 41559.231 | Q10: =IFERROR(P10/N10*100,0) -> 24.109219 | R10: =IFERROR(100-Q10,0) -> 75.890781 | S10: =IF(R10>70,"ALTO","BAJO") -> ALTO
B11: 2 | C11: MANO DE OBRA TÉCNICO ELÉCTRICISTA ACTIVIDADES DE DIAGNÓSTICO Y MANTENIMIENTO PREVENTIVO Y/O CORRECTIVO PARA COMPONENTES O SISTEMAS ELÉCTRICOS Y/O ACTIVIDADES RELACIONADAS A REALIZAR POR UN TÉCNICO ELECTRICISTA CALIFICADO. | D11: HORA | E11: 1 | F11: 151891.85 | G11: 193602 | H11: 152250.31 | I11: 153540.75 | J11: 140668.88 | K11: 133386.63 | L11: 134967.29 | M11: =COUNTIF(F11:L11,">0") -> 7 | N11: =IFERROR(ROUND(AVERAGEIF(F11:L11,">0"),0),0) -> 151473 | O11: =IFERROR(ROUND(+N11*E11,0),0) -> 151473 | P11: {=IFERROR(_xlfn.STDEV.P(IF((F11:L11<>0)*(F11:L11<>""), F11:L11)), 0)} -> 18883.826 | Q11: =IFERROR(P11/N11*100,0) -> 12.466794 | R11: =IFERROR(100-Q11,0) -> 87.533206 | S11: =IF(R11>70,"ALTO","BAJO") -> ALTO
B12: 3 | C12: MANO DE OBRA ESPECIALIZADA Actividades de diagnóstico, mantenimiento preventivo, mantenimiento correctivo y/o mantenimiento predictivo que requieren de un técnico especialista, tales como actividades de calibración, verificación, instrumentación y/o intervención de sistemas o equipos electrónicos, térmicos, de pesaje, entre otros. De igual forma incluye actividades de fabricación o manufactura de partes y componentes que deben deberán cumplir requerimientos de diseño específicos del fabricante de cada equipo industrial de la UAERMV. Incluye el levantamiento de información para fabricación directamente con la parte o componente afectada o con repuestos disponibles en el stock de la UAERMV. También podrán estar disponibles planos de fabricantes para algunas partes y componentes de mayor rotación y que corresponden a piezas de desgaste, tales como paletas, recubrimientos, brazos de mezclador, o repuestos necesarios de fabricación tales como trunnios, ejes y diferentes piezas de máquinas. Los procesos de manufactura requeridos pueden incluir procesos de mecanizado, fresado, fundición, conformado de chapa, corte, rolado, entre otros.Igualmente podrán ser requeridas actividades de Diseño para la fabricación de partes y componentes. | D12: HORA | E12: 1 | F12: 242861 | G12: 413121 | H12: 240381.79 | I12: 242305.72 | J12: 221991.89 | K12: 162282.2 | L12: 161179.56 | M12: =COUNTIF(F12:L12,">0") -> 7 | N12: =IFERROR(ROUND(AVERAGEIF(F12:L12,">0"),0),0) -> 240589 | O12: =IFERROR(ROUND(+N12*E12,0),0) -> 240589 | P12: {=IFERROR(_xlfn.STDEV.P(IF((F12:L12<>0)*(F12:L12<>""), F12:L12)), 0)} -> 77973.538 | Q12: =IFERROR(P12/N12*100,0) -> 32.409436 | R12: =IFERROR(100-Q12,0) -> 67.590564 | S12: =IF(R12>70,"ALTO","BAJO") -> BAJO
B13: 4 | C13: MANTENIMIENTO PREVENTIVO MOTOR ELECTRICO 100 a 150 HP - 440V - 4P - LAVAR DEVANADO Y HORNEAR - VERIFICAR AJUSTES - REEMPLAZAR RODAMIENTOS - PRUEBA DE RESISTENCIA DE AISLANTE -BARNIZADO DE AISLANTE - VIBRACION - PINTURA - PRUEBAS DE ARRANQUE | D13: UND | E13: 1 | F13: 15885456 | G13: 20811969 | H13: 14855518 | I13: 15421997 | J13: 13294522 | K13: 12731564 | L13: 14991741 | M13: =COUNTIF(F13:L13,">0") -> 7 | N13: =IFERROR(ROUND(AVERAGEIF(F13:L13,">0"),0),0) -> 15427538 | O13: =IFERROR(ROUND(+N13*E13,0),0) -> 15427538 | P13: {=IFERROR(_xlfn.STDEV.P(IF((F13:L13<>0)*(F13:L13<>""), F13:L13)), 0)} -> 2435950.3 | Q13: =IFERROR(P13/N13*100,0) -> 15.789624 | R13: =IFERROR(100-Q13,0) -> 84.210376 | S13: =IF(R13>70,"ALTO","BAJO") -> ALTO
B14: 5 | C14: MANTENIMIENTO PREVENTIVO MOTOR ELECTRICO 75HP a 100 HP - 440V - LAVAR DEVANADO Y HORNEAR - VERIFICAR AJUSTES - REEMPLAZAR RODAMIENTOS - PRUEBA DE RESISTENCIA DE AISLANTE -BARNIZADO DE AISLANTE - VIBRACION - PINTURA - PRUEBAS DE ARRANQUE | D14: UND | E14: 1 | F14: 12146537 | G14: 14037878 | H14: 10326454 | I14: 11740580 | J14: 10120960 | K14: 9110861.3 | L14: 10564061 | M14: =COUNTIF(F14:L14,">0") -> 7 | N14: =IFERROR(ROUND(AVERAGEIF(F14:L14,">0"),0),0) -> 11149619 | O14: =IFERROR(ROUND(+N14*E14,0),0) -> 11149619 | P14: {=IFERROR(_xlfn.STDEV.P(IF((F14:L14<>0)*(F14:L14<>""), F14:L14)), 0)} -> 1508086.4 | Q14: =IFERROR(P14/N14*100,0) -> 13.525901 | R14: =IFERROR(100-Q14,0) -> 86.474099 | S14: =IF(R14>70,"ALTO","BAJO") -> ALTO
B15: 6 | C15: MANTENIMIENTO PREVENTIVO MOTOR ELECTRICO 40HP A 75 HP- 440V - LAVAR DEVANADO Y HORNEAR - VERIFICAR AJUSTES - REEMPLAZAR RODAMIENTOS - PRUEBA DE RESISTENCIA DE AISLANTE -BARNIZADO DE AISLANTE - VIBRACION - PINTURA - PRUEBAS DE ARRANQUE | D15: UND | E15: 1 | F15: 9937439.4 | G15: 15599884 | H15: 8243869.1 | I15: 9623104 | J15: 8295591.4 | K15: 6876562.3 | L15: 8204935.3 | M15: =COUNTIF(F15:L15,">0") -> 7 | N15: =IFERROR(ROUND(AVERAGEIF(F15:L15,">0"),0),0) -> 9540198 | O15: =IFERROR(ROUND(+N15*E15,0),0) -> 9540198 | P15: {=IFERROR(_xlfn.STDEV.P(IF((F15:L15<>0)*(F15:L15<>""), F15:L15)), 0)} -> 2645531.6 | Q15: =IFERROR(P15/N15*100,0) -> 27.730364 | R15: =IFERROR(100-Q15,0) -> 72.269636 | S15: =IF(R15>70,"ALTO","BAJO") -> ALTO
B16: 7 | C16: MANTENIMIENTO GENERAL DE LA CALDERAS PARA ACEITE TERMICO 500,000 A 750,000 KCAL / HR, LIMPIADO DE PARED, CAMBIO DE EMPAQUETADURAS, DESHOLLINADO DE TUBERIA INTERNA, REVISION DE REFRACTARIO, LAVADO GENERAL, PUESTA EN MARCHA | D16: UND | E16: 1 | F16: 6219756.8 | G16: 7270998 | H16: 3998869.8 | I16: 5540694.9 | J16: 4300378.9 | K16: 3841067.9 | L16: 4588578.9 | M16: =COUNTIF(F16:L16,">0") -> 7 | N16: =IFERROR(ROUND(AVERAGEIF(F16:L16,">0"),0),0) -> 5108621 | O16: =IFERROR(ROUND(+N16*E16,0),0) -> 5108621 | P16: {=IFERROR(_xlfn.STDEV.P(IF((F16:L16<>0)*(F16:L16<>""), F16:L16)), 0)} -> 1186779.7 | Q16: =IFERROR(P16/N16*100,0) -> 23.230921 | R16: =IFERROR(100-Q16,0) -> 76.769079 | S16: =IF(R16>70,"ALTO","BAJO") -> ALTO
B17: 8 | C17: MANTENIMIENTO GENERAL PREVENTIVO QUEMADOR RIELLO LS130 Incluye: - Verificación, Limpieza General Exterior e Interior del quemador y cada uno de sus componentes ( Damper de Aire, carcaza interior , exterior y Ventilador) - Revisión y mantenimiento al difusor, boquillas, electrodos y cables de alta. - Revisión y limpieza Unidad detección de llama e Ignición (Transformador de Alta) - Limpieza y Calibración de los electrodos de Ignición / Ionización, fotocelda - Revisión del funcionamiento de las válvulas solenoides. - Verificación del funcionamiento de los Presóstatos de gas y de aire. - Verificación del funcionamiento del control de llama. CALIBRACIÓN ESTEQUIOMETRICA DEL QUEMADOR. - Verificación, y calibración de válvulas Principales del quemador - Realizará calibración de caudal según grafica de calibración. - Realizará calibración Entrada de Aire para el quemador (Dámper del aire). - Ajustarán Presiones estáticas y dinámicas de acuerdo a curva de fabricante. - Realizarán pruebas de calibración en proceso. ANALISIS DE GASES CON EQUIPO DIGITAL. - Toma de análisis de gases antes y después de la calibración. - Impresión inmediata y entrega de resultados de combustión. - Equipo calibrado y certificado. LIMPIEZA Y AJUSTE DEL TABLERO ELECTRICO Y LA INSTRUMENTACION - Limpieza y ajuste de contactos del tablero - Limpieza y ajuste de los controles de presión - Verificar amperaje de motores - Verificar voltaje de entrada para motores y mando REVISIÓN FINAL PARA ENTREGA - Pruebas de Funcionamiento y Operación del quemador. - Informe técnico con resultados y parámetros de calibración. - Asesoría y Capacitación a los operadores del quemador. ELSERVICIO DE MANTENIMIENTO INCLUYE. (GARANTÍA DE OPERACIÓN) - Dos paradas de emergencia durante los próximos 45 días. - Dos Visitas de seguimiento cada 20 días, en los siguientes 2 meses; programadas con producción. - Incluye, Insumos de Limpieza (desengrasante, Lija, Limpiador Electrónico) | D17: UND | E17: 1 | F17: 21421007 | G17: 23585413 | H17: 17222423 | I17: 21620346 | J17: 14601696 | K17: 0 | L17: 0 | M17: =COUNTIF(F17:L17,">0") -> 5 | N17: =IFERROR(ROUND(AVERAGEIF(F17:L17,">0"),0),0) -> 19690177 | O17: =IFERROR(ROUND(+N17*E17,0),0) -> 19690177 | P17: {=IFERROR(_xlfn.STDEV.P(IF((F17:L17<>0)*(F17:L17<>""), F17:L17)), 0)} -> 3282579.2 | Q17: =IFERROR(P17/N17*100,0) -> 16.671151 | R17: =IFERROR(100-Q17,0) -> 83.328849 | S17: =IF(R17>70,"ALTO","BAJO") -> ALTO
B18: 9 | C18: MANTENIMIENTO EN GENERAL COMPRESOR INDUSTRIAL ATLAS COPCO GA37, SUMINISTRO Y CAMBIO DE: ACEITE, FILTRO DE ACEITE Y FILTRO DE AIRE ( DE ACUERDO CON ESPECIFICACIONES DEL FABRICANTE), REVISIÓN , AJUSTE Y LIMPIEZA DEL TABLERO ELECTRICO, REVISION DEL SISTEMA NEUMATICO, ASEO, | D18: UND | E18: 1 | F18: 13359986 | H18: 0 | I18: 3483992.6 | J18: 2803480.9 | K18: 2504282.9 | L18: 0 | M18: =COUNTIF(F18:L18,">0") -> 4 | N18: =IFERROR(ROUND(AVERAGEIF(F18:L18,">0"),0),0) -> 5537936 | O18: =IFERROR(ROUND(+N18*E18,0),0) -> 5537936 | P18: {=IFERROR(_xlfn.STDEV.P(IF((F18:L18<>0)*(F18:L18<>""), F18:L18)), 0)} -> 4529996 | Q18: =IFERROR(P18/N18*100,0) -> 81.799355 | R18: =IFERROR(100-Q18,0) -> 18.200645 | S18: =IF(R18>70,"ALTO","BAJO") -> BAJO
B19: 10 | C19: MANTENIMIENTO GENERAL DEL TRANSFORMADOR 800 KVA 11,4 KV - 440V Mantenimiento general de transformador inmersos en aceite EL mantenimiento preventivo de los transformadores incluye al menos siguientes acciones. 1. Termo filtrado y vaciado de aceite 2. Regeneración del aceite dieléctrico 3. Lavado y secado de parte activa 4. Suministro, cambio e implementación de aceite dieléctrico, bushings, válvulas, accesorios 5. Informe técnica de mantenimiento. | D19: UND | E19: 1 | F19: 20311978 | H19: 19019666 | I19: 20141331 | J19: 13909103 | K19: 10743899 | L19: 12702249 | M19: =COUNTIF(F19:L19,">0") -> 6 | N19: =IFERROR(ROUND(AVERAGEIF(F19:L19,">0"),0),0) -> 16138038 | O19: =IFERROR(ROUND(+N19*E19,0),0) -> 16138038 | P19: {=IFERROR(_xlfn.STDEV.P(IF((F19:L19<>0)*(F19:L19<>""), F19:L19)), 0)} -> 3821462.3 | Q19: =IFERROR(P19/N19*100,0) -> 23.679845 | R19: =IFERROR(100-Q19,0) -> 76.320155 | S19: =IF(R19>70,"ALTO","BAJO") -> ALTO
B20: 11 | C20: MANTENINIENTO PREDICTIVO TRANSFORMADOR 800 KVA 11,4 KV - 440V Consiste en la toma de la muestra del aceite del transformador y realizar el diagnostico completo que contemple los siguientes análisis. 1. Análisis dieléctrico 2. Análisis cromatográfico 3. Análisis de PBC'S 4. Análisis de contenido de furanos 5. Informe técnico de diagnostico | D20: UND | E20: 1 | F20: 9402586 | H20: 8223305.1 | I20: 8975433.4 | J20: 7737266.4 | K20: 6320541.5 | L20: 7706451 | M20: =COUNTIF(F20:L20,">0") -> 6 | N20: =IFERROR(ROUND(AVERAGEIF(F20:L20,">0"),0),0) -> 8060931 | O20: =IFERROR(ROUND(+N20*E20,0),0) -> 8060931 | P20: {=IFERROR(_xlfn.STDEV.P(IF((F20:L20<>0)*(F20:L20<>""), F20:L20)), 0)} -> 993486.18 | Q20: =IFERROR(P20/N20*100,0) -> 12.324708 | R20: =IFERROR(100-Q20,0) -> 87.675292 | S20: =IF(R20>70,"ALTO","BAJO") -> ALTO
B21: 12 | C21: MANTENINIENTO PREDICTIVO TRANSFORMADOR 30 KVA 11,4 KV - 440V Consiste en la toma de la muestra del aceite del transformador y realizar el diagnostico completo que contemple los siguientes análisis. 1. Análisis dieléctrico 2. Análisis cromatográfico 3. Análisis de PBC'S 4. Análisis de contenido de furanos 5. Informe técnico de diagnostico | D21: UND | E21: 1 | F21: 9265099 | H21: 7475848 | I21: 7753255.8 | J21: 5318503.4 | K21: 3825014.8 | L21: 5808999.7 | M21: =COUNTIF(F21:L21,">0") -> 6 | N21: =IFERROR(ROUND(AVERAGEIF(F21:L21,">0"),0),0) -> 6574453 | O21: =IFERROR(ROUND(+N21*E21,0),0) -> 6574453 | P21: {=IFERROR(_xlfn.STDEV.P(IF((F21:L21<>0)*(F21:L21<>""), F21:L21)), 0)} -> 1787195.4 | Q21: =IFERROR(P21/N21*100,0) -> 27.18394 | R21: =IFERROR(100-Q21,0) -> 72.81606 | S21: =IF(R21>70,"ALTO","BAJO") -> ALTO
B22: 13 | C22: MANTENINIENTO PREDICTIVO TRANSFORMADOR 500 KVA 11,4 KV - 440V Consiste en la toma de la muestra del aceite del transformador y realizar el diagnostico completo que contemple los siguientes análisis. 1. Análisis dieléctrico 2. Análisis cromatográfico 3. Análisis de PBC'S 4. Análisis de contenido de furanos 5. Informe técnico de diagnostico | D22: UND | E22: 1 | F22: 13627871 | H22: 11819836 | I22: 12524596 | J22: 8407197.1 | K22: 6221304.1 | L22: 7506412.7 | M22: =COUNTIF(F22:L22,">0") -> 6 | N22: =IFERROR(ROUND(AVERAGEIF(F22:L22,">0"),0),0) -> 10017869 | O22: =IFERROR(ROUND(+N22*E22,0),0) -> 10017869 | P22: {=IFERROR(_xlfn.STDEV.P(IF((F22:L22<>0)*(F22:L22<>""), F22:L22)), 0)} -> 2765214.2 | Q22: =IFERROR(P22/N22*100,0) -> 27.602819 | R22: =IFERROR(100-Q22,0) -> 72.397181 | S22: =IF(R22>70,"ALTO","BAJO") -> ALTO
B23: 14 | C23: MANTENIMIENTO GENERAL DEL TRANSFORMADOR 30 KVA 11,4 KV - 220V Mantenimiento general de transformador inmersos en aceite EL mantenimiento preventivo de los transformadores incluye al menos siguientes acciones. 1. Termo filtrado y vaciado de aceite 2. Regeneración del aceite dieléctrico 3. Lavado y secado de parte activa 4. Suministro, cambio e implementación de aceite dieléctrico, bushings, válvulas, accesorios 5. Informe técnica de mantenimiento. | D23: UND | E23: 1 | F23: 5416289 | G23: 9327769.9 | H23: 4962185.1 | I23: 5331402.4 | J23: 4797620 | K23: 4132942.4 | L23: 4884643.8 | M23: =COUNTIF(F23:L23,">0") -> 7 | N23: =IFERROR(ROUND(AVERAGEIF(F23:L23,">0"),0),0) -> 5550408 | O23: =IFERROR(ROUND(+N23*E23,0),0) -> 5550408 | P23: {=IFERROR(_xlfn.STDEV.P(IF((F23:L23<>0)*(F23:L23<>""), F23:L23)), 0)} -> 1590128.5 | Q23: =IFERROR(P23/N23*100,0) -> 28.648858 | R23: =IFERROR(100-Q23,0) -> 71.351142 | S23: =IF(R23>70,"ALTO","BAJO") -> ALTO
B24: 15 | C24: MANTENIMIENTO GENERAL DEL TRANSFORMADOR 500 KVA 11,4 KV - 220V Mantenimiento general de transformador inmersos en aceite EL mantenimiento preventivo de los transformadores incluye al menos siguientes acciones. 1. Termo filtrado y vaciado de aceite 2. Regeneración del aceite dieléctrico 3. Lavado y secado de parte activa 4. Suministro, cambio e implementación de aceite dieléctrico, bushings, válvulas, accesorios 5. Informe técnica de mantenimiento. | D24: UND | E24: 1 | F24: 21836252 | G24: 17227548 | H24: 17252949 | I24: 18273074 | J24: 12534754 | K24: 9091889.5 | L24: 10752721 | M24: =COUNTIF(F24:L24,">0") -> 7 | N24: =IFERROR(ROUND(AVERAGEIF(F24:L24,">0"),0),0) -> 15281313 | O24: =IFERROR(ROUND(+N24*E24,0),0) -> 15281313 | P24: {=IFERROR(_xlfn.STDEV.P(IF((F24:L24<>0)*(F24:L24<>""), F24:L24)), 0)} -> 4241861.7 | Q24: =IFERROR(P24/N24*100,0) -> 27.75849 | R24: =IFERROR(100-Q24,0) -> 72.24151 | S24: =IF(R24>70,"ALTO","BAJO") -> ALTO
B25: 16 | C25: MANTENIMIENTO PREDICTIVO BANCO CONDENSADORES 400 KVA- 440 VAC Que incluye: 1. Control del funcionamiento de contactores 2.Verificación del funcionamiento de relé varimétrico 3.Medición de la corriente nominal de los pasos 4.Medición de aislación 5.Medición de capacidad. 6.Medición de corriente de trabajo 7. Limpieza y reajuste de conexiones 9. Informe técnico del mantenimiento | D25: UND | E25: 1 | F25: 13546608 | G25: 10631909 | H25: 10380099 | I25: 12184606 | J25: 9569457.1 | K25: 9154642.5 | L25: 9416516.7 | M25: =COUNTIF(F25:L25,">0") -> 7 | N25: =IFERROR(ROUND(AVERAGEIF(F25:L25,">0"),0),0) -> 10697691 | O25: =IFERROR(ROUND(+N25*E25,0),0) -> 10697691 | P25: {=IFERROR(_xlfn.STDEV.P(IF((F25:L25<>0)*(F25:L25<>""), F25:L25)), 0)} -> 1498940.3 | Q25: =IFERROR(P25/N25*100,0) -> 14.011811 | R25: =IFERROR(100-Q25,0) -> 85.988189 | S25: =IF(R25>70,"ALTO","BAJO") -> ALTO
B26: 17 | C26: MANTENIMIENTO PREDICTIVO BANCO CONDENSADORES 300 KVA- 440 VAC Que incluye: 1. Control del funcionamiento de contactores 2.Verificación del funcionamiento de relé varimétrico 3.Medición de la corriente nominal de los pasos 4.Medición de aislación 5.Medición de capacidad. 6.Medición de corriente de trabajo 7. Limpieza y reajuste de conexiones 9. Informe técnico del mantenimiento | D26: UND | E26: 1 | F26: 9713978 | G26: 9070415.6 | H26: 8522696.6 | I26: 9399045 | J26: 8260572.3 | K26: 7685054.6 | L26: 9372950.1 | M26: =COUNTIF(F26:L26,">0") -> 7 | N26: =IFERROR(ROUND(AVERAGEIF(F26:L26,">0"),0),0) -> 8860673 | O26: =IFERROR(ROUND(+N26*E26,0),0) -> 8860673 | P26: {=IFERROR(_xlfn.STDEV.P(IF((F26:L26<>0)*(F26:L26<>""), F26:L26)), 0)} -> 674094.23 | Q26: =IFERROR(P26/N26*100,0) -> 7.6077091 | R26: =IFERROR(100-Q26,0) -> 92.392291 | S26: =IF(R26>70,"ALTO","BAJO") -> ALTO
B27: 18 | C27: MANTENIMIENTO PREDICTIVO VARIADORES ABB ACS 355 POTENCIA 4 HP A 440 V Que incluye: 1. Limpieza general 2. Revisión de los codensadores en las tarjetas de potencia y de control 3. Revisión de los condensadores de potencia. 4. Revisión de las resistencias de carga y de freno. 5. Revisión general de los circuitos. 6. Levantamiento de hoja de vida, con backup de la programacion. 7. Tropicalización de tarjetas. 8. Informe de mantenimiento | D27: UND | E27: 1 | F27: 1744276 | G27: 2487871.6 | H27: 1340747.9 | I27: 1558129.7 | J27: 1209403.6 | K27: 1037613.7 | L27: 1329336.6 | M27: =COUNTIF(F27:L27,">0") -> 7 | N27: =IFERROR(ROUND(AVERAGEIF(F27:L27,">0"),0),0) -> 1529626 | O27: =IFERROR(ROUND(+N27*E27,0),0) -> 1529626 | P27: {=IFERROR(_xlfn.STDEV.P(IF((F27:L27<>0)*(F27:L27<>""), F27:L27)), 0)} -> 444896.6 | Q27: =IFERROR(P27/N27*100,0) -> 29.085319 | R27: =IFERROR(100-Q27,0) -> 70.914681 | S27: =IF(R27>70,"ALTO","BAJO") -> ALTO
B28: 19 | C28: MANTENIMIENTO PREDICTIVO VARIADORES ABB ACS 355 POTENCIA 70 HP A 440 V Que incluye: 1. Limpieza general 2. Revisión de los codensadores en las tarjetas de potencia y de control 3. Revisión de los condensadores de potencia. 4. Revisión de las resistencias de carga y de freno. 5. Revisión general de los circuitos. 6. Levantamiento de hoja de vida, con backup de la programacion. 7. Tropicalización de tarjetas. 8. Informe de mantenimiento | D28: UND | E28: 1 | F28: 5239046 | G28: 5017067.4 | H28: 4182924.1 | I28: 5001039.9 | J28: 4311142.9 | K28: 2254730.2 | L28: 2615854.4 | M28: =COUNTIF(F28:L28,">0") -> 7 | N28: =IFERROR(ROUND(AVERAGEIF(F28:L28,">0"),0),0) -> 4088829 | O28: =IFERROR(ROUND(+N28*E28,0),0) -> 4088829 | P28: {=IFERROR(_xlfn.STDEV.P(IF((F28:L28<>0)*(F28:L28<>""), F28:L28)), 0)} -> 1108963.8 | Q28: =IFERROR(P28/N28*100,0) -> 27.121794 | R28: =IFERROR(100-Q28,0) -> 72.878206 | S28: =IF(R28>70,"ALTO","BAJO") -> ALTO
B29: 20 | C29: MANTENIMIENTO PREDICTIVO VARIADORES ABB ACS 355 POTENCIA 150 HP A 440 V Que incluye: 1. Limpieza general 2. Revisión de los codensadores en las tarjetas de potencia y de control 3. Revisión de los condensadores de potencia. 4. Revisión de las resistencias de carga y de freno. 5. Revisión general de los circuitos. 6. Levantamiento de hoja de vida, con backup de la programacion. 7. Tropicalización de tarjetas. 8. Informe de mantenimiento | D29: UND | E29: 1 | F29: 6912750 | G29: 6950150.1 | H29: 5320458.7 | I29: 6174831 | J29: 4792573.1 | K29: 3502493.5 | L29: 3934648.9 | M29: =COUNTIF(F29:L29,">0") -> 7 | N29: =IFERROR(ROUND(AVERAGEIF(F29:L29,">0"),0),0) -> 5369701 | O29: =IFERROR(ROUND(+N29*E29,0),0) -> 5369701 | P29: {=IFERROR(_xlfn.STDEV.P(IF((F29:L29<>0)*(F29:L29<>""), F29:L29)), 0)} -> 1276624.7 | Q29: =IFERROR(P29/N29*100,0) -> 23.774595 | R29: =IFERROR(100-Q29,0) -> 76.225405 | S29: =IF(R29>70,"ALTO","BAJO") -> ALTO
B30: 21 | C30: CALIBRACION BASCULA CAMIONERA DE 80 TON. EFECTUADA POR UN LABORATORIO ACREDITADO POR ONAC, de acuerdo al método de comparación directa con pesas patrón y/o sustitución de carga; realizando pruebas de Excentricidad de Carga, Repetibilidad y Exactitud de Carga. DEBE ENTREGARSE EL CERTIFICADO. | D30: UND | E30: 1 | F30: 17373038 | G30: 16400727 | H30: 13807264 | I30: 16583796 | J30: 14296051 | K30: 11677897 | L30: 13560394 | M30: =COUNTIF(F30:L30,">0") -> 7 | N30: =IFERROR(ROUND(AVERAGEIF(F30:L30,">0"),0),0) -> 14814167 | O30: =IFERROR(ROUND(+N30*E30,0),0) -> 14814167 | P30: {=IFERROR(_xlfn.STDEV.P(IF((F30:L30<>0)*(F30:L30<>""), F30:L30)), 0)} -> 1885547.1 | Q30: =IFERROR(P30/N30*100,0) -> 12.727999 | R30: =IFERROR(100-Q30,0) -> 87.272001 | S30: =IF(R30>70,"ALTO","BAJO") -> ALTO
B31: 22 | C31: MANTENIMIENTO PREVENTIVO BASCULA CAMIONERA DE 80 TON VERIFICACION Y AJUSTE CELDAS DE CARGA, SISTEMAS ELECTRICO Y MECANICO, PRUEBAS DE REPETIBILIDAD: AJUSTE CON PESAS CALIBRADAS y/o sustitución de carga. ENTREGA PROTOCOLOS DE VERIFICACIÓN. ENTREGA COPIA CERTIFICADO DE CALIBRACION DE LAS PESAS UTILIZADAS EXPEDIDA POR LABORATORIO ACREDITADO. | D31: UND | E31: 1 | F31: 5490919 | G31: 5511482.6 | H31: 4644145.5 | I31: 4904786.4 | J31: 3806845.7 | K31: 0 | L31: 0 | M31: =COUNTIF(F31:L31,">0") -> 5 | N31: =IFERROR(ROUND(AVERAGEIF(F31:L31,">0"),0),0) -> 4871636 | O31: =IFERROR(ROUND(+N31*E31,0),0) -> 4871636 | P31: {=IFERROR(_xlfn.STDEV.P(IF((F31:L31<>0)*(F31:L31<>""), F31:L31)), 0)} -> 629212.92 | Q31: =IFERROR(P31/N31*100,0) -> 12.915844 | R31: =IFERROR(100-Q31,0) -> 87.084156 | S31: =IF(R31>70,"ALTO","BAJO") -> ALTO
B32: 23 | C32: SERVICIO DE BALANCEO DINÁMICO EN CAMPO, DE ROTOR EN ALUMINIO D=740MM, SE ENTREGA REPORTE TÉCNICO Y DE NORMATIVIDAD, INCLUYENDO UN ANÁLISIS DE LAS CONDICIONES DEL EQUIPO BASADO EN GRAFICAS DE TIEMPO Y FRECUENCIA. | D32: UND | E32: 1 | F32: 5862040.7 | G32: 9594076.3 | H32: 5289548.8 | I32: 6314656.2 | J32: 5443545.3 | K32: 4246773.4 | L32: 5139731.7 | M32: =COUNTIF(F32:L32,">0") -> 7 | N32: =IFERROR(ROUND(AVERAGEIF(F32:L32,">0"),0),0) -> 5984339 | O32: =IFERROR(ROUND(+N32*E32,0),0) -> 5984339 | P32: {=IFERROR(_xlfn.STDEV.P(IF((F32:L32<>0)*(F32:L32<>""), F32:L32)), 0)} -> 1588438.4 | Q32: =IFERROR(P32/N32*100,0) -> 26.543256 | R32: =IFERROR(100-Q32,0) -> 73.456744 | S32: =IF(R32>70,"ALTO","BAJO") -> ALTO
B33: 24 | C33: SERVICIO DE BALANCEO DINÁMICO EN CAMPO, DE ROTOR DE EXHAUSTOR EN ACERO D=900 MM, SE ENTREGA REPORTE TÉCNICO Y DE NORMATIVIDAD, INCLUYENDO UN ANÁLISIS DE LAS CONDICIONES DEL EQUIPO BASADO EN GRAFICAS DE TIEMPO Y FRECUENCIA. | D33: UND | E33: 1 | F33: 6331082.3 | G33: 9728938.9 | H33: 5663149.7 | I33: 6814514.3 | J33: 5874447.7 | K33: 4499244.8 | L33: 5445337.6 | M33: =COUNTIF(F33:L33,">0") -> 7 | N33: =IFERROR(ROUND(AVERAGEIF(F33:L33,">0"),0),0) -> 6336674 | O33: =IFERROR(ROUND(+N33*E33,0),0) -> 6336674 | P33: {=IFERROR(_xlfn.STDEV.P(IF((F33:L33<>0)*(F33:L33<>""), F33:L33)), 0)} -> 1538725.7 | Q33: =IFERROR(P33/N33*100,0) -> 24.282861 | R33: =IFERROR(100-Q33,0) -> 75.717139 | S33: =IF(R33>70,"ALTO","BAJO") -> ALTO
B34: 25 | C34: ABRAZADERA PLASTICA 15 CM PAQUETE 100 UN | D34: UND | E34: 1 | F34: 52089.8 | G34: 68062.463 | H34: 36913.037 | I34: 46089.29 | J34: 31633.775 | K34: 24225.58 | L34: 25985.139 | M34: =COUNTIF(F34:L34,">0") -> 7 | N34: =IFERROR(ROUND(AVERAGEIF(F34:L34,">0"),0),0) -> 40714 | O34: =IFERROR(ROUND(+N34*E34,0),0) -> 40714 | P34: {=IFERROR(_xlfn.STDEV.P(IF((F34:L34<>0)*(F34:L34<>""), F34:L34)), 0)} -> 14599.149 | Q34: =IFERROR(P34/N34*100,0) -> 35.857811 | R34: =IFERROR(100-Q34,0) -> 64.142189 | S34: =IF(R34>70,"ALTO","BAJO") -> BAJO
... B68: 59 | C68: Mantenimiento correctivo - BOMBA VIKING KK224 - ENCHAQUETADA - Cambio de bujes; Cambio de rodamientos; rectificacion de eje y cambio de empaquetadura por desgaste. | D68: UND | E68: 1 | F68: 15483910 | G68: 18531573 | H68: 14748227 | I68: 15253591 | J68: 0 | K68: 0 | L68: 0 | M68: =COUNTIF(F68:L68,">0") -> 4 | N68: =IFERROR(ROUND(AVERAGEIF(F68:L68,">0"),0),0) -> 16004325 | O68: =IFERROR(ROUND(+N68*E68,0),0) -> 16004325 | P68: {=IFERROR(_xlfn.STDEV.P(IF((F68:L68<>0)*(F68:L68<>""), F68:L68)), 0)} -> 1483172.2 | Q68: =IFERROR(P68/N68*100,0) -> 9.2673209 | R68: =IFERROR(100-Q68,0) -> 90.732679 | S68: =IF(R68>70,"ALTO","BAJO") -> ALTO
B69: 60 | C69: BOMBA VIKING LQ34 - ENCHAQUETADA CARCAZA EN ACERO ENCAMISADA PARA ALTAS TEMPERATURAS. SALIDA EN FLANCHE CLASS 125 ANSI 2 1/2". ORIENTADA A 90º. BUJES EN BRONCE. EJE EN ACERO. PASADOR DEL TENSOR EN ACERO REFORZADO. | D69: UND | E69: 1 | F69: 49988449 | H69: 40066867 | I69: 27601399 | J69: 27394923 | K69: 26881492 | L69: 30192569 | M69: =COUNTIF(F69:L69,">0") -> 6 | N69: =IFERROR(ROUND(AVERAGEIF(F69:L69,">0"),0),0) -> 33687616 | O69: =IFERROR(ROUND(+N69*E69,0),0) -> 33687616 | P69: {=IFERROR(_xlfn.STDEV.P(IF((F69:L69<>0)*(F69:L69<>""), F69:L69)), 0)} -> 8578953.9 | Q69: =IFERROR(P69/N69*100,0) -> 25.466195 | R69: =IFERROR(100-Q69,0) -> 74.533805 | S69: =IF(R69>70,"ALTO","BAJO") -> ALTO
B70: 61 | C70: BOMBA ZIHI ZTND 050160 0AA-002 | D70: UND | E70: 1 | F70: 38055965 | G70: 31554577 | H70: 31318094 | I70: 34476006 | J70: 26758302 | K70: 28864049 | L70: 29762081 | M70: =COUNTIF(F70:L70,">0") -> 7 | N70: =IFERROR(ROUND(AVERAGEIF(F70:L70,">0"),0),0) -> 31541296 | O70: =IFERROR(ROUND(+N70*E70,0),0) -> 31541296 | P70: {=IFERROR(_xlfn.STDEV.P(IF((F70:L70<>0)*(F70:L70<>""), F70:L70)), 0)} -> 3470564.3 | Q70: =IFERROR(P70/N70*100,0) -> 11.00324 | R70: =IFERROR(100-Q70,0) -> 88.99676 | S70: =IF(R70>70,"ALTO","BAJO") -> ALTO
B71: 62 | C71: Mantenimiento correctivo - BOMBA ZIHI ZTND 050160 0AA-002 - Cambio de bujes; Cambio de rodamientos; rectificacion de eje y cambio de empaquetadura por desgaste. | D71: UND | E71: 1 | F71: 18068400 | H71: 0 | I71: 18911968 | J71: 0 | K71: 0 | L71: 0 | M71: =COUNTIF(F71:L71,">0") -> 2 | N71: =IFERROR(ROUND(AVERAGEIF(F71:L71,">0"),0),0) -> 18490184 | O71: =IFERROR(ROUND(+N71*E71,0),0) -> 18490184 | P71: {=IFERROR(_xlfn.STDEV.P(IF((F71:L71<>0)*(F71:L71<>""), F71:L71)), 0)} -> 421784.07 | Q71: =IFERROR(P71/N71*100,0) -> 2.2811242 | R71: =IFERROR(100-Q71,0) -> 97.718876 | S71: =IF(R71>70,"ALTO","BAJO") -> ALTO
B72: 63 | C72: BOMBA ZIHI ZTND 032125…200-500 CAUDAL MX 1000 M2 X H VELOCIDAD 3600RPM TEM 350°C BRIDAS DIN EN 1092-2 PN 16 / 25 1) | D72: UND | E72: 1 | F72: 46119094 | G72: 50046909 | H72: 38570803 | I72: 39542706 | J72: 30690831 | K72: 0 | L72: 0 | M72: =COUNTIF(F72:L72,">0") -> 5 | N72: =IFERROR(ROUND(AVERAGEIF(F72:L72,">0"),0),0) -> 40994068 | O72: =IFERROR(ROUND(+N72*E72,0),0) -> 40994068 | P72: {=IFERROR(_xlfn.STDEV.P(IF((F72:L72<>0)*(F72:L72<>""), F72:L72)), 0)} -> 6668660.5 | Q72: =IFERROR(P72/N72*100,0) -> 16.267379 | R72: =IFERROR(100-Q72,0) -> 83.732621 | S72: =IF(R72>70,"ALTO","BAJO") -> ALTO
B73: 64 | C73: Mantenimiento correctivo - BOMBA ZIHI ZTND 032125 - Cambio de bujes; Cambio de rodamientos; rectificacion de eje y cambio de empaquetadura por desgaste. | D73: UND | E73: 1 | F73: 18152087 | H73: 0 | I73: 18999563 | J73: 0 | K73: 0 | L73: 0 | M73: =COUNTIF(F73:L73,">0") -> 2 | N73: =IFERROR(ROUND(AVERAGEIF(F73:L73,">0"),0),0) -> 18575825 | O73: =IFERROR(ROUND(+N73*E73,0),0) -> 18575825 | P73: {=IFERROR(_xlfn.STDEV.P(IF((F73:L73<>0)*(F73:L73<>""), F73:L73)), 0)} -> 423738.09 | Q73: =IFERROR(P73/N73*100,0) -> 2.2811266 | R73: =IFERROR(100-Q73,0) -> 97.718873 | S73: =IF(R73>70,"ALTO","BAJO") -> ALTO
B74: 65 | C74: BOQUILLA OXICORTE ACETILENO | D74: UND | E74: 1 | F74: 166574.36 | G74: 251568.13 | H74: 130792.22 | I74: 159476.39 | J74: 123819.91 | K74: 110766.36 | L74: 117603.69 | M74: =COUNTIF(F74:L74,">0") -> 7 | N74: =IFERROR(ROUND(AVERAGEIF(F74:L74,">0"),0),0) -> 151514 | O74: =IFERROR(ROUND(+N74*E74,0),0) -> 151514 | P74: {=IFERROR(_xlfn.STDEV.P(IF((F74:L74<>0)*(F74:L74<>""), F74:L74)), 0)} -> 45210.11 | Q74: =IFERROR(P74/N74*100,0) -> 29.838899 | R74: =IFERROR(100-Q74,0) -> 70.161101 | S74: =IF(R74>70,"ALTO","BAJO") -> ALTO
B75: 66 | C75: BOQUILLA OXICORTE OXIGENO | D75: UND | E75: 1 | F75: 178367.15 | G75: 208917.79 | H75: 133857.66 | I75: 161512.77 | J75: 118500.63 | K75: 114414.79 | L75: 125485.14 | M75: =COUNTIF(F75:L75,">0") -> 7 | N75: =IFERROR(ROUND(AVERAGEIF(F75:L75,">0"),0),0) -> 148722 | O75: =IFERROR(ROUND(+N75*E75,0),0) -> 148722 | P75: {=IFERROR(_xlfn.STDEV.P(IF((F75:L75<>0)*(F75:L75<>""), F75:L75)), 0)} -> 32770.168 | Q75: =IFERROR(P75/N75*100,0) -> 22.034513 | R75: =IFERROR(100-Q75,0) -> 77.965487 | S75: =IF(R75>70,"ALTO","BAJO") -> ALTO
...

Sheet FM-029 DEPURADO
E2: FORMATO CUADRO DE TABULACIÓN Y ANÁLISIS DE DATOS ESTADÍSTICOS - ESTUDIO DE SECTOR
E3: CÓDIGO: GCON-FM-029 | L3: VERSIÓN 4
E4: FECHA DE APLICACIÓN: AGOSTO DE 2025
B6: TABULACIÓN INICIAL COTIZACIONES, CONTRATACIONES VIGENCIA ANTERIOR DE LA UAERMV Y CONTRATACIONES SIMILARES DE OTRAS ENTIDADES PARA EL ESTUDIO DE SECTOR PRESUPUESTO | F6: COTIZACIONES GESTIONADAS PARA EL ESTUDIO DE SECTOR | H6: CONTRATACIONES ANTERIORES UAERMV | M6: "PRESTAR EL SERVICIO DE MANTENIMIENTO E INGENIERÍA PARA LOS EQUIPOS Y PLANTAS INDUSTRIALES DE LAS SEDES DE LA UNIDAD ADMINISTRATIVA ESPECIAL DE REHABILITACIÓN Y MANTENIMIENTO VIAL – UAERMV, CON EL FIN DE GARANTIZAR SU ADECUADA OPERACIÓN Y DISPONIBILIDAD EN APOYO AL CUMPLIMIENTO DE LAS FUNCIONES MISIONALES DE LA ENTIDAD "
H7: Contrato Nro. 650 de 2025 | I7: Contrato Nro. 902 de 2024 | J7: Contrato Nro. 645 de 2023 | K7: Contrato Nro. 631 de 2021 | L7: Contrato Nro. 562 de 2020
F8: 1. IMC S.A.S. | G8: 2. AUTOCARS INGENIERIA SAS | H8: AUTOCARS INGENIERIA SAS | I8: IMC S.A.S. | J8: IMC S.A.S. | K8: AUTOCARS INGENIERIA SAS | L8: REIMPODIESEL S.A.S
B9: ITEM | C9: DESCRIPCIÓN | D9: UNID DE MEDIDA | E9: CANTIDAD | F9: VALOR UNITARIO INCLUIDO IVA | H9: VALOR UNITARIO INCLUIDO IVA | M9: MUESTRA | N9: VALOR PROMEDIO UNITARIO | O9: VALOR PROMEDIO TOTAL | P9: DESVIACION ESTANDAR | Q9: COEF VARIACION | R9: MARGEN DE CONFIABILIDAD | S9: NIVEL DE CONFIABILIDAD DE LOS DATOS
B10: 1 | C10: MANO DE OBRA TÉCNICO MECÁNICO ACTIVIDADES DE DIAGNÓSTICO Y MANTENIMIENTO PREVENTIVO Y/O CORRECTIVO PARA COMPONENTES O SISTEMAS MECÁNICOS, NEUMÁTICOS Y/O ACTIVIDADES RELACIONADAS A REALIZAR POR UN TÉCNICO MECÁNICO CALIFICADO. | D10: HORA | E10: 1 | F10: 186826.7 | G10: 261086 | H10: 174347.05 | I10: 176409.15 | J10: 139632.02 | K10: 133386.63 | L10: 134967.29 | M10: =COUNTIF(F10:L10,">0") -> 7 | N10: =IFERROR(ROUND(AVERAGEIF(F10:L10,">0"),0),0) -> 172379 | O10: =IFERROR(ROUND(+N10*E10,0),0) -> 172379 | P10: {=IFERROR(_xlfn.STDEV.P(IF((F10:L10<>0)*(F10:L10<>""), F10:L10)), 0)} -> 41559.231 | Q10: =IFERROR(P10/N10*100,0) -> 24.109219 | R10: =IFERROR(100-Q10,0) -> 75.890781 | S10: =IF(R10>70,"ALTO","BAJO") -> ALTO
