Workbook
Name _1: #REF!
Name _2: #REF!
Name A: #REF!
Name A_impresión_IM: #REF!
Name aaa: #REF!
Name Auxiliarjal: #REF!
Name B: #REF!
Name basecaro: #REF!
Name basejuliet1: #REF!
Name basemetroabril2017: #REF!
Name basemetroabril2017final: #REF!
Name BLOQUE: #REF!
Name cargo: #REF!
Name CLASE: #REF!
Name correoelectronico: #REF!
Name COSTOM2: #REF!
Name Dólar: #REF!
Name epsypension: #REF!
Name Factor: #REF!
Name JJJJ: #REF!
Name lineainstitucional: #REF!
Name mesabril: #REF!
Name nuevosoi: #REF!
Name origenaux: #REF!
Name pagojuliethjunio: #REF!
Name Profesional: #REF!
Name profesionaljal: #REF!
Name SVASFD: #REF!
Name TCRM: #REF!
Name TCRM_al_03_MAYO_2000: #REF!
Name Títulos_a_imprimir_IM: #REF!
Name TOP: #REF!
Name TRM: #REF!

Sheet METODOLOGÍA DE EVALUACIÓN
B2: UNIDAD ADMINISTRATIVA ESPECIAL CUERPO OFICIAL DE BOMBEROS -UAECOB
B4: Formato No 3 Condiciones tecnicas adicionales por evaluar
B5: METODOLOGÍA DE EVALUACIÓN - APLICABLE A TODAS LAS PÓLIZAS
B6: El Asegurado precisa que las condiciones, coberturas, cláusulas, límites y/o plazo indicados a continuación no son de obligatorio ofrecimiento y las aseguradoras participantes tienen la postedad de decidir su ofrecimiento. Para su evaluación se considerarán los siguientes criterios que corresponden a los generales aplicables, por lo tanto en el caso que se estipulen criterios particulares dentro del contenido de las condiciones, estos primarán sobre los generales: Las aseguradoras deben tener en cuenta que el ofrecimiento de condiciones que presten beneficio a la Entidad adicionales a las relacionadas en cada póliza pero que son en exceso a las mismas; no serán objeto de asignación de puntaje adicional a esos exceso y solo evaluables con base en los criterios que esten definidos en cada condición, no obstante la presentación de éstas obliga a la Aseguradora a su otorgamiento en caso de que el contrato le sea adjudicado y el oferente con la firma de la propuesta acepta esta condición.
B7: CONDICIONES ADICIONALES QUE CONTIENEN SOLO TEXTO: | D7: Se otorgará el máximo puntaje asignado a las propuestas que las ofrezcan con el mismo texto y bajo las mismas condiciones o en condiciones superiores en beneficio de la Entidad. Las propuestas que modifiquen el texto, sin que ello conlleve a la pérdida de la aplicabilidad y/u operatividad de la condición, se le asignará el 50% del puntaje y las propuestas que no las ofrezcan se calificarán con cero (0) puntos.
B8: CONDICIONES ADICIONALES QUE APLIQUEN PARA OFERTAS DE LÍMITES Y/O VALORES FIJOS QUE SE REGISTREN EN TABLAS Y/O CONTENGAN RANGOS Y/O VALORES CON BASE EN LOS CUALES SE DEBE EFECTUAR EL OFRECIMIENTO. | D8: Las aseguradoras deben tener en cuenta: 1. Para acceder a calificación, el oferente deberá registrar en forma expresa y de manera clara, el valor y/o límite que ofrece. En aquellos casos que se exprese valores en COL$ o en SMMLV para realizar una evaluación equitativa, se podrá homologar el ofrecimiento a alguna de las dos constantes COL$ o SMMLV. 2. Se otorga el máximo puntaje a la propuesta que dentro del rango o tabla se aproxime al máximo sublímite o plazo requerido y las demas ofertas se calificaran en forma proporcional a la propuesta calificada con el máximo puntaje. 3. En el caso de presentar propuesta por un valor y/o límite diferente al establecido en los rangos de la tabla, se tomará para la asignación de puntaje, el monto y/o límite del rango inmediatamente anterior al del valor ofrecido y el oferente acepta esta condición con la firma de la oferta y, de ser adjudicada la propuesta, expedirá la póliza con el valor indicado en la propuesta.
B9: CONDICIONES ADICIONALES | D9: NOTA: Las aseguradoras deben señalar expresamente en su propuesta las Condiciones Adicionales que ofrece especificando los límites, periodos y demás información necesaria para su evaluación de acuerdo con las condiciones de cada una de ellas, en caso que manifieste "SE OTORGA" ó "SI" u otra expresión que implica que si esta otorgando la condición, pero no está especificado, se entenderá que las mismas fueron ofrecidas al máximo límite, sublímite o periodos o plazos y por lo tanto se asignará el mayor puntaje de esta condición, al límite, sublímite o períodos o plazos requerido y de ser adjudicada la propuesta, la aseguradora expedirá la póliza con las condiciones máximas exigidas de ese criterio en particular.
B10: CONDICIONES ADICIONALES | D10: NOTA: Las aseguradoras deben señalar expresamente en su propuesta las Condiciones Adicionales que ofrece especificando los límites, periodos y demás información necesaria para su evaluación de acuerdo con las condiciones de cada una de ellas, en caso que manifieste "SE OTORGA" ó "SI" u otra expresión que implica que si esta otorgando la condición, pero no está especificado, se entenderá que las mismas fueron ofrecidas al máximo límite, sublímite o periodos o plazos y por lo tanto se asignará el mayor puntaje de esta condición, al límite, sublímite o períodos o plazos requerido y de ser adjudicada la propuesta, la aseguradora expedirá la póliza con las condiciones máximas exigidas de ese criterio en particular.
B11: By: Tiger | G11: VERSIÓN: JUN 2026

Sheet G1. COND ADIC. TRDMC
B3: =+'METODOLOGÍA DE EVALUACIÓN'!B2:G2 -> UNIDAD ADMINISTRATIVA ESPECIAL CUERPO OFICIAL DE BOMBEROS -UAECOB
B4: Formato No 3 Condiciones tecnicas adicionales por evaluar
B5: GRUPO No. 1
B6: 1. PÓLIZA DE SEGURO DE TODO RIESGO DAÑOS MATERIALES COMBINADOS
B7: OBJETO DEL SEGURO
B8: Amparar todos los activos (bienes inmuebles y muebles) de propiedad de la UNIDAD ADMINISTRATIVA ESPECIAL CUERPO OFICIAL DE BOMBEROS-UAECOB, o aquellos que se encuentren bajo su control, tenencia, responsabilidad o custodia, contra los daños o pérdidas materiales a consecuencia de cualquier riesgo, tanto por eventos internos o externos y en general los recibidos a cualquier título o por los que tenga algún interés asegurable, ubicados en el territorio nacional o por aquellos que por su naturaleza se deban trasladar a nivel mundial, dentro o fuera de las instalaciones del asegurado y/o en predios de terceros o a la intemperie y los utilizados en desarrollo del objeto social de la UAECOB.
B9: INFORMACIÓN GENERAL:
B10: TOMADOR: | C10: =+B3 -> UNIDAD ADMINISTRATIVA ESPECIAL CUERPO OFICIAL DE BOMBEROS -UAECOB | G10: NIT | H10: =+'G1 COND ADIC. AUTOMÓVILES'!H11 -> 899.999.061-9
B11: ASEGURADO: | C11: =+C10 -> UNIDAD ADMINISTRATIVA ESPECIAL CUERPO OFICIAL DE BOMBEROS -UAECOB | G11: =+G10 -> NIT | H11: =+H10 -> 899.999.061-9
B12: BENEFICIARIO: | C12: =+C10 -> UNIDAD ADMINISTRATIVA ESPECIAL CUERPO OFICIAL DE BOMBEROS -UAECOB | G12: =+G11 -> NIT | H12: =+H10 -> 899.999.061-9
B13: NOTA: | C13: CADA SUBLÍMITE O GASTOS OFRECIDOS EN FORMA ADICIONAL QUEDA CONTEMPLADO DENTRO DEL LÍMITE ASEGURADO.
B14: CRITERIOS DE EVALUACIÓN:
B15: CONDICIÓN REQUERIDA PARA EVALUACIÓN | E15: CRITERIO DE EVALUACIÓN | F15: PUNTAJE ESTABLECIDO | G15: OFRECIMIENTO DEL PROPONENTE | H15: PUNTAJE OBTENIDO POR EL PROPONENTE
B16: HURTO Y HURTO CALIFICADO Sublímite de $10.000.000.000 evento / agregado anual combinado para todos los bienes. NOTA: Solo se acepta propuesta en los límites señados en los siguientes rangos. Ofrecimientos de otros valores diferentes serán evaluados con cero (0) puntos), excepto que sea superior al último rango. | D16: PUNTOS | E16: Se califica el aumento adicional del sublímite Hasta un monto total de $15.000.000.000 incluido el básico SIN COBRO DE PRIMA ADICIONAL | F16: =+D19 -> 8
B17: Límite adicional al básico mayor a $500.000.000 y hasta $1.000.000.000: | D17: 2
B18: Límite adicional al básico mayor a $1.000.000.000 y hasta $2.000.000.000: | D18: 6
B19: Límite adicional al básico mayor a $3.000.000.000 y hasta $5.000.000.000: | D19: 8
B20: GASTOS ADICIONALES. Sublímite por la suma de $10.000.000.000, incluido en el valor asegurado,sin aplicación de deducible y combinado para los gastos relacionados en en Anexo No. 1. NOTA: Solo se acepta propuesta en los límites señados en los siguientes rangos. Ofrecimientos de otros valores diferentes serán evaluados con cero (0) puntos), excepto que sea superior al último rango. | D20: PUNTOS | E20: Se califica el aumento adicional del sublímite Hasta un monto total de $15.000.000.000 incluido el básico SIN COBRO DE PRIMA ADICIONAL | F20: =+D23 -> 8
B21: Límite adicional al básico mayor a $500.000.000 y hasta $1.000.000.000: | D21: 2
B22: Límite adicional al básico mayor a $1.000.000.000 y hasta $2.000.000.000: | D22: 6
B23: Límite adicional al básico mayor a $3.000.000.000 y hasta $5.000.000.000: | D23: 8
B24: ANTICIPO DE INDEMNIZACIÓN DEL 50%. NOTA 1: Si el aumento adicional del porcentaje de anticipo es condicionado a la demostración de la ocurrencia y cuantía, se califica con cero (0) puntos este factor. NOTA 2: Solo se acepta propuesta en los límites señados en los siguientes rangos. | D24: PUNTOS | E24: Se califica el aumento adicional del porcentaje ofrecido. Bajo la definición del texto de la condición obligatoria y sin estar condicionada a la demostración de ocurrencia y cuantía. | F24: =+D27 -> 3
B25: Límite adicional al básico mayor al 10% y hasta el 25%. | D25: 1
B26: Límite adicional al básico mayor al 25% y hasta el 35%. | D26: 2
B27: Límite adicional al básico mayor al 35% y hasta el 50%. | D27: 3
B28: RENUNCIA A LA APLICACIÓN DE SEGURO INSUFICIENTE Y/O INFRASEGURO Siempre y cuando la diferencia entre el valor asegurado y el valor asegurable no sea superior al 15%. NOTA: Solo se acepta propuesta en los límites señados en los siguientes rangos. Ofrecimientos de otros valores diferentes serán evaluados con cero (0) puntos), excepto que sea superior al último rango. | D28: PUNTOS | E28: Se califica en Condiciones Adicionales el aumento adicional del porcentaje ofrecido. Hasta un máximo del 25% incluido el básico | F28: =+D31 -> 3
B29: Porcentaje adicional mayor al 2% y hasta el 5%: | D29: 1
B30: Porcentaje adicional mayor al 5% y hasta el 7%: | D30: 2
B31: Porcentaje adicional mayor al 7% y hasta el 10%: | D31: 3
B32: CLÁUSULA DE NO TASACIÓN EN CASO DE SINIESTRO Sublímite de hasta $600.000.000, por siniestro. NOTA: Solo se acepta propuesta en los límites señados en los siguientes rangos. Ofrecimientos de otros valores diferentes serán evaluados con cero (0) puntos), excepto que sea superior al último rango. | D32: PUNTOS | E32: Se califica el aumento adicional del sublímite Hasta un monto total de $800.000.000 incluido el básico SIN COBRO DE PRIMA ADICIONAL | F32: =+D35 -> 5
B33: Límite adicional al básico mayor a $25.000.000 y hasta $50.000.000: | D33: 2
B34: Límite adicional al básico mayor a $50.000.000 y hasta $100.000.000: | D34: 3
B35: Límite adicional al básico mayor a $100.000.000 y hasta $200.000.000: | D35: 5
B36: AUTORIZACIÓN EXPRESA AL ASEGURADO PARA ATENCIÓN DE DAÑOS POR SINIESTROS CUYO VALOR NO EXCEDA $300.000.000. NOTA: Solo se acepta propuesta en los límites señados en los siguientes rangos. Ofrecimientos de otros valores diferentes serán evaluados con cero (0) puntos), excepto que sea superior al último rango. | D36: PUNTOS | E36: Se califica el aumento adicional del sublímite para la autorización expresa para la atención de siniestros. Hasta un monto total de $500.000.000 incluido el básico | F36: =+D39 -> 3
B37: Límite adicional al básico mayor a $75.000.000 y hasta $100.000.000: | D37: 1
B38: Límite adicional al básico mayor a $100.000.000 y hasta $150.000.000: | D38: 2
B39: Límite adicional al básico mayor a $150.000.000 y hasta $200.000.000: | D39: 3
B40: MÁXIMO CALIFICACIÓN | F40: =SUM(F16:F39) -> 30 | G40: CALIFICACIÓN DEL PROPONENTE | H40: =SUM(H16:H39) -> 0
B41: By: Tiger | H41: =+'METODOLOGÍA DE EVALUACIÓN'!G11 -> VERSIÓN: JUN 2026

Sheet G1. COND ADIC. MANEJO GLOBAL
B3: =+'G1. COND ADIC. TRDMC'!B3:H3 -> UNIDAD ADMINISTRATIVA ESPECIAL CUERPO OFICIAL DE BOMBEROS -UAECOB
B5: Formato No 3 Condiciones tecnicas adicionales por evaluar
B6: GRUPO No. 1
B7: 2. PÓLIZA DE SEGURO GLOBAL DE MANEJO PARA ENTIDADES OFICIALES
B8: OBJETO DEL SEGURO
B9: Amparar los riesgos que impliquen menoscabo de los fondos y/o bienes de propiedad de la UNIDAD ADMINISTRATIVA ESPECIAL CUERPO OFICIAL DE BOMBEROS -UAECOB, o que estén bajo su tenencia, control y/o responsabilidad causados por acciones u omisiones de sus servidores, que incurran en delitos contra la administración pública o fallos con responsabilidad fiscal, por incumplimiento de las disposiciones legales y reglamentarias, incluyendo el costo de la rendición de cuentas en caso de abandono del cargo o fallecimiento del empleado, en concordancia con la Resolución 014249 del 15 de mayo de 1992, aprobada por la Contraloría General de la República.
B10: INFORMACIÓN GENERAL:
B11: TOMADOR: | C11: =+B3 -> UNIDAD ADMINISTRATIVA ESPECIAL CUERPO OFICIAL DE BOMBEROS -UAECOB | G11: NIT. | H11: =+'G1. COND ADIC. TRDMC'!H10 -> 899.999.061-9
B12: ASEGURADO: | C12: =+C11 -> UNIDAD ADMINISTRATIVA ESPECIAL CUERPO OFICIAL DE BOMBEROS -UAECOB | G12: NIT. | H12: =+H11 -> 899.999.061-9
B13: BENEFICIARIO: | C13: =+C11 -> UNIDAD ADMINISTRATIVA ESPECIAL CUERPO OFICIAL DE BOMBEROS -UAECOB | G13: NIT. | H13: =+H11 -> 899.999.061-9
B14: NOTA: | C14: CADA SUBLÍMITE O GASTOS OFRECIDOS EN FORMA ADICIONAL QUEDA CONTEMPLADO DENTRO DEL LÍMITE ASEGURADO.
B15: CRITERIOS DE EVALUACIÓN:
B16: CONDICIÓN REQUERIDA PARA EVALUACIÓN | E16: CRITERIO DE EVALUACIÓN | F16: PUNTAJE ESTABLECIDO | G16: OFRECIMIENTO DEL OFERENTE | H16: PUNTAJE OBTENIDO POR EL OFERENTE
B17: INCREMENTO DEL LÍMITE BÁSICO PARA LA COBERTURA DE MANEJO GLOBAL. LÍMITE $1.050.000.000 EVENTO / AGREGADO ANUAL NOTA: Solo se acepta propuesta en los límites señados en los siguientes rangos. Ofrecimientos de otros valores diferentes serán evaluados con cero (0) puntos), excepto que sea superior al último rango. | D17: PUNTOS | E17: Se califica el aumento adicional del límite asegurado. Hasta un monto total de $3.050.000.000 incluido el básico SIN COBRO DE PRIMA | F17: =+D21 -> 20
B18: Límite adicional al básico mayor a $250.000.000 y hasta $500.000.000 | D18: 5
B19: Límite adicional al básico mayor a $500.000.000 y hasta $1.000.000.000 | D19: 10
B20: Límite adicional al básico mayor a $1.000.000.000 y hasta $1.500.000.000 | D20: 15
B21: Límite adicional al básico mayor a $1.500.000.000 y hasta $2.000.000.000 | D21: 20
B22: ANTICIPO DE INDEMNIZACIÓN DEL 50%. NOTA 1: Si el aumento adicional del porcentaje de anticipo es condicionado a la demostración de la ocurrencia y cuantía, se califica con cero (0) puntos este factor. NOTA 2: Solo se acepta propuesta en los límites señados en los siguientes rangos. | D22: PUNTOS | E22: Se califica el aumento adicional del porcentaje ofrecido. Bajo la definición del texto de la condición obligatoria y sin estar condicionada a la demostración de ocurrencia y cuantía. | F22: =+D25 -> 10
B23: Límite adicional al básico mayor al 10% y hasta el 25%. | D23: 2
B24: Límite adicional al básico mayor al 25% y hasta el 35%. | D24: 5
B25: Límite adicional al básico mayor al 35% y hasta el 50%. | D25: 10
B26: MÁXIMO CALIFICACIÓN | F26: =SUM(F17:F25) -> 30 | G26: CALIFICACIÓN DEL OFERENTE | H26: =SUM(H17:H25) -> 0
B27: By: Tiger | H27: =+'METODOLOGÍA DE EVALUACIÓN'!G11 -> VERSIÓN: JUN 2026

Sheet G1. COND ADIC. RCE
B3: =+'METODOLOGÍA DE EVALUACIÓN'!B2:G2 -> UNIDAD ADMINISTRATIVA ESPECIAL CUERPO OFICIAL DE BOMBEROS -UAECOB
B5: Formato No 3 Condiciones tecnicas adicionales por evaluar
B6: GRUPO No. 1
B7: 3. PÓLIZA DE SEGURO DE RESPONSABILIDAD CIVIL EXTRACONTRACTUAL
B8: OBJETO DEL SEGURO
B9: Amparar los perjuicios patrimoniales y extrapatrimoniales que cause la UNIDAD ADMINISTRATIVA ESPECIAL CUERPO OFICIAL DE BOMBEROS -UAECOB, como consecuencia de la Responsabilidad Civil Extracontractual originada dentro o fuera de sus instalaciones, en el desarrollo de sus actividades o en lo relacionado con ella, lo mismo que los actos de sus empleados y funcionarios o el personal para el apoyo a la gestión administrativa dentro y fuera del territorio nacional o por bienes que se encuentren bajo tenencia, control y/o responsabilidad . Nota: Se entenderán como terceros todos los servidores públicos, empleados y funcionarios permanentes, o temporales, o estudiantes en práctica o pasantias, o contratistas, o subcontratistas, o asistentes a cursos, capacitaciones, seminarios, simulacros, etc., al igual las personas voluntarias que presten servicios al asegurado, incluyendo miembros de las Directivas y cada una de las personas que circulen, ingresen, accedan o se encuentren en los predios de asegurado o por los cuales es responsable en su aseguramiento, independientemente que el asegurado le esté prestando un servicio objeto de su razón social.
B10: INFORMACIÓN GENERAL:
B11: TOMADOR: | C11: =+B3 -> UNIDAD ADMINISTRATIVA ESPECIAL CUERPO OFICIAL DE BOMBEROS -UAECOB | G11: NIT. | H11: =+'G1. COND ADIC. TRDMC'!H10 -> 899.999.061-9
B12: ASEGURADO: | C12: =+C11 -> UNIDAD ADMINISTRATIVA ESPECIAL CUERPO OFICIAL DE BOMBEROS -UAECOB | G12: NIT. | H12: =+H11 -> 899.999.061-9
B13: BENEFICIARIOS: | C13: TERCEROS AFECTADOS
B14: NOTA: | C14: CADA SUBLÍMITE O GASTOS OFRECIDOS EN FORMA ADICIONAL QUEDA CONTEMPLADO DENTRO DEL LÍMITE ASEGURADO.
B15: CRITERIOS DE EVALUACIÓN:
B16: CONDICIÓN REQUERIDA PARA EVALUACIÓN | E16: CRITERIO DE EVALUACIÓN | F16: PUNTAJE ESTABLECIDO | G16: OFRECIMIENTO DEL OFERENTE | H16: PUNTAJE OBTENIDO POR EL OFERENTE
B17: INCREMENTO DEL LÍMITE BÁSICO PARA LA COBERTURA DE RESPONSABILIDAD CIVIL EXTRACONTRACTUAL $5.000.000.000 EVENTO / AGREGADO ANUAL NOTA: Solo se acepta propuesta en los límites señados en los siguientes rangos. Ofrecimientos de otros valores diferentes serán evaluados con cero (0) puntos), excepto que sea superior al último rango. | D17: PUNTOS | E17: Se califica el aumento adicional del límite asegurado. Hasta un monto total de $7.000.000.000 incluido el básico SIN COBRO DE PRIMA ADICIONAL | F17: =+D20 -> 15
B18: Límite adicional al básico mayor a $300.000.000 y hasta $500.000.000 | D18: 5
B19: Límite adicional al básico mayor a $500.000.000 y hasta $1.000.000.000 | D19: 10
B20: Límite adicional al básico mayor a $1.000.000.000 y hasta $2.000.000.000 | D20: 15
B21: GASTOS MÉDICOS (sin aplicación de deducibles). Sublímite $300.000.000 persona / $800.000.000 agregado anual. NOTA: Solo se acepta propuesta en los límites señados en los siguientes rangos. Ofrecimientos de otros valores diferentes serán evaluados con cero (0) puntos), excepto que sea superior al último rango. | E21: Se califica el aumento adicional del límite asegurado SIN COBRO DE PRIMA ADICIONAL
B22: Rangos para el sublímite por evento | D22: PUNTOS | E22: Se califica el aumento adicional del sublímite persona. Hasta un monto total de $400.000.000 incluido el básico | F22: =+D25 -> 6
B23: Límite adicional al básico mayor a $30.000.000 y hasta $60.000.000 | D23: 2
B24: Límite adicional al básico mayor a $60.000.000 y hasta $80.000.000 | D24: 4
B25: Límite adicional al básico mayor a $80.000.000 y hasta $100.000.000 | D25: 6
B26: Rangos para el sublímite agregado anual | E26: Se califica el aumento adicional del sublímite agregado anual Hasta un monto total de $1.800.000.000 incluido el básico | F26: =+D29 -> 6
B27: Límite adicional al básico mayor a $300.000.000 y hasta $500.000.000 | D27: 2
B28: Límite adicional al básico mayor a $500.000.000 y hasta $800.000.000 | D28: 4
B29: Límite adicional al básico mayor a $800.000.000 y hasta $1.000.000.000 | D29: 6
B30: ANTICIPO DE INDEMNIZACIÓN DEL 60%. NOTA 1: Si el aumento adicional del porcentaje de anticipo es condicionado a la demostración de la ocurrencia y cuantía, se califica con cero (0) puntos este factor. NOTA 2: Solo se acepta propuesta en los límites señados en los siguientes rangos. | D30: PUNTOS | E30: Se califica el aumento adicional del porcentaje ofrecido. Bajo la definición del texto de la condición obligatoria y sin estar condicionada a la demostración de ocurrencia y cuantía. | F30: =+D33 -> 3
B31: Límite adicional al básico mayor al 10% y hasta el 20%. | D31: 1
B32: Límite adicional al básico mayor al 20% y hasta el 30%. | D32: 2
B33: Límite adicional al básico mayor al 30% y hasta el 40%. | D33: 3
B34: MÁXIMO CALIFICACIÓN | F34: =SUM(F17:F33) -> 30 | G34: CALIFICACIÓN DEL OFERENTE | H34: =SUM(H17:H33) -> 0
B35: By: Tiger | H35: =+'METODOLOGÍA DE EVALUACIÓN'!G11 -> VERSIÓN: JUN 2026

Sheet G1. COND ADIC. TRANSP MCÍAS
B3: UNIDAD ADMINISTRATIVA ESPECIAL CUERPO OFICIAL DE BOMBEROS
B5: Formato No 3 Condiciones tecnicas adicionales por evaluar
B6: GRUPO No. 1
B7: 4. PÓLIZA DE TRANSPORTE DE MERCANCÍAS
B8: OBJETO DEL SEGURO
B9: Amparar las pérdidas y los daños materiales causados como consecuencia de los eventos que constituyen los amparos mencionados, en el transporte de cualquier tipo de mercancías nuevas y usadas incluida maquinaría, por cualquier medio de transporte, de los bienes de su propiedad, bajo tenencia, responsabilidad y/o control; propios del giro normal de las actividades de la UNIDAD ADMINISTRATIVA ESPECIAL CUERPO OFICIAL DE BOMBEROS -UAECOB.
B10: INFORMACIÓN GENERAL:
B11: TOMADOR: | C11: =+B3 -> UNIDAD ADMINISTRATIVA ESPECIAL CUERPO OFICIAL DE BOMBEROS | G11: NIT. | H11: 899.999.061-9
B12: ASEGURADO: | C12: =+B3 -> UNIDAD ADMINISTRATIVA ESPECIAL CUERPO OFICIAL DE BOMBEROS | G12: NIT. | H12: =H11 -> 899.999.061-9
B13: BENEFICIARIO: | C13: =+B3 -> UNIDAD ADMINISTRATIVA ESPECIAL CUERPO OFICIAL DE BOMBEROS | G13: NIT. | H13: =+H11 -> 899.999.061-9
B14: NOTA: | C14: CADA SUBLÍMITE O GASTOS OFRECIDOS EN FORMA ADICIONAL QUEDA CONTEMPLADO DENTRO DEL LÍMITE ASEGURADO.
B15: CRITERIOS DE EVALUACIÓN:
B16: CONDICIÓN REQUERIDA PARA EVALUACIÓN | D16: PUNTOS | E16: CRITERIO DE EVALUACIÓN | F16: PUNTAJE ESTABLECIDO | G16: OFRECIMIENTO DEL OFERENTE | H16: PUNTAJE OBTENIDO POR EL OFERENTE
B17: ANTICIPO DE INDEMNIZACIÓN DEL 60%. NOTA 1: Si el aumento adicional del porcentaje de anticipo es condicionado a la demostración de la ocurrencia y cuantía, se califica con cero (0) puntos este factor. NOTA 2: Solo se acepta propuesta en los límites señalados en los siguientes rangos. | D17: PUNTOS | E17: Se califica el aumento adicional del porcentaje ofrecido. Bajo la definición del texto de la condición obligatoria y sin estar condicionada a la demostración de ocurrencia y cuantía. | F17: =+D20 -> 15
B18: Límite adicional al básico mayor al 10% y hasta el 25%. | D18: 5
B19: Límite adicional al básico mayor al 25% y hasta el 35%. | D19: 10
B20: Límite adicional al básico mayor al 35% y hasta el 40%. | D20: 15
B21: COMPROMISO PARA EL PAGO DE LAS INDEMNIZACIONES Plazo de diez (10) días hábiles. | D21: 15 | E21: Se califica el menor número de días hábiles una vez demostrada ocurrencia y cuantía. | F21: 15
B22: MÁXIMO CALIFICACIÓN | F22: =SUM(F17:F21) -> 30 | G22: CALIFICACIÓN DEL OFERENTE | H22: =SUM(H17:H21) -> 0
B23: By: Tiger | H23: =+'G1. COND ADIC. TRDMC'!H41 -> VERSIÓN: JUN 2026

Sheet G1 COND ADIC. AUTOMÓVILES
B3: UNIDAD ADMINISTRATIVA ESPECIAL CUERPO OFICIAL DE BOMBEROS
B5: Formato No 3 Condiciones tecnicas adicionales por evaluar
B6: GRUPO No. 1
B7: 4. PÓLIZA DE AUTOMÓVILES
B8: OBJETO DEL SEGURO
B9: Amparar a la UNIDAD ADMINISTRATIVA ESPECIAL CUERPO OFICIAL DE BOMBEROS-UAECOB, por los perjuicios que cause patrimonial (daños materiales incluyendo daño emergente y lucro cesante) y extrapatrimonialmnte (incluidos el daño moral, daño fisiológico y daño a la vida en relación), al igual que los daños a bienes o lesiones o muerte a terceros. De igual forma se amparan los daños y/o pérdidas que afecten a los vehículos de su propiedad, bajo tenencia, control o por los que sea legalmente responsable o incluidos aquellos recibidos por parte de otras entidades para el desarrollo misional de la UAECOB.
B10: INFORMACIÓN GENERAL:
B11: TOMADOR: | C11: =+B3 -> UNIDAD ADMINISTRATIVA ESPECIAL CUERPO OFICIAL DE BOMBEROS | G11: NIT. | H11: 899.999.061-9
B12: ASEGURADO: | C12: =+C11 -> UNIDAD ADMINISTRATIVA ESPECIAL CUERPO OFICIAL DE BOMBEROS | G12: NIT. | H12: =+H11 -> 899.999.061-9
B13: BENEFICIARIO: | C13: UNIDAD ADMINISTRATIVA ESPECIAL CUERPO OFICIAL DE BOMBEROS / RCE LOS TERCEROS AFECTADOS | G13: NIT.
B14: NOTA: | C14: CADA SUBLÍMITE O GASTOS OFRECIDOS EN FORMA ADICIONAL QUEDA CONTEMPLADO DENTRO DEL LÍMITE ASEGURADO.
B15: CRITERIOS DE EVALUACIÓN:
B16: CONDICIÓN REQUERIDA PARA EVALUACIÓN | E16: CRITERIO DE EVALUACIÓN | F16: PUNTAJE ESTABLECIDO | G16: OFRECIMIENTO DEL OFERENTE | H16: PUNTAJE OBTENIDO POR EL OFERENTE
B17: INCREMENTO DEL LÍMITE BÁSICO PARA LA COBERTURA DE RESPONSABILIDAD CIVIL EXTRACONTRACTUAL EVENTO /AGREGADO ANUAL. NOTA: Solo se acepta propuesta en los límites señados en los siguientes rangos. Ofrecimientos de otros valores diferentes serán evaluados con cero (0) puntos), excepto que sea superior al último rango. | E17: Se califica el aumento adicional del límite asegurado SIN COBRO DE PRIMA | F17: =+D21 -> 10
B18: Al proponente que ofrezca únicamente el límite básico exigido de $1.600.000.000 / $1.600.000.000 / $3.200.000.000, ó Límite único combinado de $4.000.000.000, se evaluara con CERO (0) puntos. Solo se acepta propuesta en los límites a continuación señalados, ofrecimientos de otros valores diferentes serán evaluados con cero (0) puntos). | D18: PUNTOS
B19: Al proponente que ofrezca límite de: $1.800.000.000 / $1.800.000.000 / $3.600.000.000. O límite único combinado de $4.200.000.000. | D19: 2
B20: Al proponente que ofrezca límite de: $2.000.000.000 / $2.000.000.000 / $4.000.000.000. O límite único combinado de $4.500.000.000. | D20: 5
B21: Al proponente que ofrezca límite de: $2.500.000.000 / $2.500.000.000 / $5.000.000.000. O límite único combinado de $5.500.000.000. | D21: 10
B22: GASTOS DE TRANSPORTE POR PÉRDIDAS TOTALES (Daños y/o Hurto) (esta condición no aplica para motos y vehiculos pesados.) Limite de $100.000 diarios y hasta (120) días | E22: Se califica el aumento adicional del (incluido el básico) monto de los gastos de transporte. | F22: 3
B23: GASTOS DE TRANSPORTE POR PÉRDIDAS PARCIALES (Daños y/o Hurto) (esta condición no aplica para motos y vehiculos pesados.) Limite de $ 55.000 diarios y hasta (120) días | E23: Se califica el aumento adicional del (incluido el básico) monto de los gastos de transporte. | F23: 3
B24: GASTOS DE BODEGAJE Limite de $10.000.000 | E24: Se califica el aumento adicional del monto de los gastos de bodegaje. Hasta $15.000.000 incluido el básico. | F24: =+D27 -> 3
B25: Límite adicional al básico mayor a $500.000 y hasta $1.000.000 | D25: 1
B26: Límite adicional al básico mayor a $1.000.000 y hasta $2.000.000. | D26: 2
B27: Límite adicional al básico mayor a $2.000.000 y hasta $5.000.000: | D27: 3
B28: ANTICIPO DE INDEMNIZACIÓN DEL 80%. NOTA 1: Si el aumento adicional del porcentaje de anticipo es condicionado a la demostración de la ocurrencia y cuantía, se califica con cero (0) puntos este factor. NOTA 2: Solo se acepta propuesta en los límites señados en los siguientes rangos. | D28: PUNTOS | E28: Se califica el aumento adicional del porcentaje ofrecido. Bajo la definición del texto de la condición obligatoria y sin estar condicionada a la demostración de ocurrencia y cuantía. | F28: =+D31 -> 3
B29: Límite adicional al básico mayor al 5% y hasta el 10%. | D29: 1
B30: Límite adicional al básico mayor al 10% y hasta el 15%. | D30: 2
B31: Límite adicional al básico mayor al 15% y hasta el 20%. | D31: 3
B32: AMPARO AUTOMÁTICO DE VEHÍCULOS NUEVOS Y USADOS Sublímite de $4.000.000.000 por vehículo y término de 150 días de aviso. | E32: Se califica el aumento adicional del monto del sublímite para este amparo. | F32: 2.5
B33: AMPARO AUTOMÁTICO DE EQUIPOS Y ACCESORIOS Sublímite de $ 5.000.000.000 por vehículo y término de 90 días de aviso. | E33: Se califica el aumento adicional del monto del sublímite para este amparo. | F33: 2.5
B34: GASTOS DE GRÚA PARA VEHÍCULOS DE TERCEROS, AFECTADOS EN ACCIDENTES EN LOS CUALES SEA EVIDENTE LA RESPONSABILIDAD DEL ASEGURADO. Se paga por rembolso el servicio prestado de grúa al tercero. | E34: Se califica el otorgamiento de este servicio. | F34: 3
B35: MÁXIMO CALIFICACIÓN | F35: =SUM(F17:F34) -> 30 | G35: CALIFICACIÓN DEL OFERENTE | H35: =SUM(H17:H34) -> 0
B36: By: Tiger | H36: =+'G1. COND ADIC. TRDMC'!H41 -> VERSIÓN: JUN 2026

Sheet G1 COND. ADIC TR. EQ. Y M
B3: UNIDAD ADMINISTRATIVA ESPECIAL CUERPO OFICIAL DE BOMBEROS
B5: Formato No 3 Condiciones tecnicas adicionales por evaluar
B6: GRUPO No. 1
B7: 6. PÓLIZA DE SEGURO DE TODO RIESGO EQUIPO Y MAQUINARÍA
B8: OBJETO DEL SEGURO
B9: Amparar las pérdidas o daños materiales que afecten a los Equipos y Maquinarías de propiedad de la UNIDAD ADMINISTRATIVA ESPECIAL CUERPO OFICIAL DE BOMBEROS-UAECOB, o aquellos que se encuentren bajo su control, tenencia, responsabilidad o custodia, ubicados en el territorio nacional contra los daños o pérdidas materiales a consecuencia de cualquier riesgo, tanto por eventos internos o externos, incluyendo las pérdidas consecuenciales por todo concepto dentro o fuera de las instalaciones del asegurado y/o en predios de terceros y los utilizados en desarrollo del objeto social de la UAECOB.
B10: INFORMACIÓN GENERAL:
B11: TOMADOR: | C11: =+B3 -> UNIDAD ADMINISTRATIVA ESPECIAL CUERPO OFICIAL DE BOMBEROS | G11: NIT. | H11: 899.999.061-9
B12: ASEGURADO: | C12: =+C11 -> UNIDAD ADMINISTRATIVA ESPECIAL CUERPO OFICIAL DE BOMBEROS | G12: NIT. | H12: =+H11 -> 899.999.061-9
B13: BENEFICIARIO: | C13: =+C11 -> UNIDAD ADMINISTRATIVA ESPECIAL CUERPO OFICIAL DE BOMBEROS | G13: NIT. | H13: =+H12 -> 899.999.061-9
B14: NOTA: | C14: CADA SUBLÍMITE O GASTOS OFRECIDOS EN FORMA ADICIONAL QUEDA CONTEMPLADO DENTRO DEL LÍMITE ASEGURADO.
B15: CRITERIOS DE EVALUACIÓN:
B16: CONDICIÓN REQUERIDA PARA EVALUACIÓN | E16: CRITERIO DE EVALUACIÓN | F16: PUNTAJE ESTABLECIDO | G16: OFRECIMIENTO DEL OFERENTE | H16: PUNTAJE OBTENIDO POR EL OFERENTE
B17: GASTOS ADICIONALES. Sublímite por la suma de $5.000.000.000, incluido en el valor asegurado,sin aplicación de deducible y combinado para los siguientes gastos y coberturas. NOTA: Se califica a partir de ofrecimiento adicional igual o superior a $100.000.000 | E17: Se califica el aumento adicional del sublímite Hasta un monto total de $8.000.000.000 incluido el básico SIN COBRO DE PRIMA | F17: 6
B18: ANTICIPO DE INDEMNIZACIÓN DEL 60%. NOTA 1: Si el aumento adicional del porcentaje de anticipo es condicionado a la demostración de la ocurrencia y cuantía, se califica con cero (0) puntos este factor. NOTA 2: Solo se acepta propuesta en los límites señados en los siguientes rangos. | D18: PUNTOS | E18: Se califica el aumento adicional del porcentaje ofrecido. Bajo la definición del texto de la condición obligatoria y sin estar condicionada a la demostración de ocurrencia y cuantía. | F18: 6
B19: Límite adicional al básico mayor al 5% y hasta el10%. | D19: 2
B20: Límite adicional al básico mayor al 10% y hasta el 20%. | D20: 4
B21: Límite adicional al básico mayor al 20% y hasta el 40%. | D21: 6
B22: RENUNCIA A LA APLICACIÓN DE SEGURO INSUFICIENTE Y/O INFRASEGURO Siempre y cuando la diferencia entre el valor asegurado y el valor asegurable no sea superior al 15%. | D22: 5 | E22: Se califica en Condiciones Adicionales el aumento adicional del porcentaje ofrecido. Hasta un máximo del 20% | F22: 5
B23: CLÁUSULA DE NO TASACIÓN EN CASO DE SINIESTRO Sublímite de hasta $300.000.000, por siniestro. | D23: 5 | E23: Se califica el aumento adicional del sublímite Hasta un monto total de $500.000.000. Incluido el básico | F23: 5
B24: LÍMITE AGREGADO DE INDEMNIZACIÓN Sublímite $50.000.000 evento/agregado vigencia | D24: 8 | E24: Se califica el aumento adicional del sublímite Hasta un monto total de $300.000.000. Incluido el básico | F24: 8
B25: MÁXIMO CALIFICACIÓN | F25: =SUM(F17:F24) -> 30 | G25: CALIFICACIÓN DEL OFERENTE | H25: =SUM(H17:H23) -> 0
B26: By: Tiger | H26: =+'G1. COND ADIC. TRDMC'!H41 -> VERSIÓN: JUN 2026

Sheet G1 COND ADIC. CASCO BARCO
B3: UNIDAD ADMINISTRATIVA ESPECIAL CUERPO OFICIAL DE BOMBEROS -UAECOB
B5: Formato No 3 Condiciones tecnicas adicionales por evaluar
B6: GRUPO No. 1
B7: 7. PÓLIZA DE CASCO BARCO
B8: OBJETO DEL SEGURO
B9: Amparar los daños y/o pérdidas y gastos en que tenga que incurrir la UNIDAD ADMINISTRATIVA ESPECIAL CUERPO OFICIAL DE BOMBEROS -UAECOB, a consecuencia de los riesgos a que está expuesta en el giro de las actividades desarrolladas con el equipo marítimo y fluvial y demás embarcaciones incluyendo sus equipos y accesorios, de propiedad o por las que sea legalmente responsable la UAECOB, así como los daños a bienes y/o lesiones y/o muerte de terceros, por causa de accidentes en el giro propio de su misionalidad.
B10: INFORMACIÓN GENERAL:
B11: TOMADOR: | C11: =+B3 -> UNIDAD ADMINISTRATIVA ESPECIAL CUERPO OFICIAL DE BOMBEROS -UAECOB | G11: NIT. | H11: 899.999.061-9
B12: ASEGURADO: | C12: NOMBRE DE LA ENTIDAD Y/O CARGOS ASEGURADOS | G12: NIT. | H12: =+H11 -> 899.999.061-9
B13: BENEFICIARIO: | C13: NOMBRE DE LA ENTIDAD Y/O CARGOS ASEGURADOS Y/O TERCEROS AFECTADOS | G13: NIT. | H13: =+H11 -> 899.999.061-9
B14: NOTA: | C14: CADA SUBLÍMITE O GASTOS OFRECIDOS EN FORMA ADICIONAL QUEDA CONTEMPLADO DENTRO DEL LÍMITE ASEGURADO.
B15: CRITERIOS DE EVALUACIÓN:
B16: CONDICIÓN REQUERIDA PARA EVALUACIÓN | E16: CRITERIO DE EVALUACIÓN | F16: PUNTAJE ESTABLECIDO | G16: OFRECIMIENTO DEL OFERENTE | H16: PUNTAJE OBTENIDO POR EL OFERENTE
B17: INCREMENTO DEL LÍMITE BÁSICO PARA LA COBERTURA PANDI | E17: Se califica el aumento adicional al porcentaje del límite asegurado, únicamente relacionados en la tabla de rangos en la condición requerida para la evaluación. SIN COBRO DE PRIMA | F17: =+D22 -> 15
B18: SUBLÍMITE DE CUARENTA POR CIENTO (40%) DEL VALOR ASEGURADO DE CADA EMBARCACIÓN. Incluido los Gastos de Defensa. NOTA: Solo se acepta propuesta en los límites señalados en los siguientes rangos. | D18: PUNTOS
B19: Límite adicional al básico mayor al 10% y hasta el 20%. | D19: 4
B20: Límite adicional al básico mayor al 20% y hasta el 30%. | D20: 6
B21: Límite adicional al básico mayor al 30% y hasta el 50%. | D21: 10
B22: Ofrecimiento adicional superior al 50% y hasta el 60% | D22: 15
B23: INCREMENTO DEL LÍMITE POR EVENTO PARA LA COBERTURA DE GASTOS MÉDICOS (sin aplicación de deducibles). Sublímite $50.000.000 Evento / $100.000.000 Agregado Anual. NOTA: Solo se acepta propuesta en los límites señados en los siguientes rangos. Ofrecimientos de otros valores diferentes serán evaluados con cero (0) puntos), excepto que sea superior al último rango. | E23: Se califica el aumento adicional del límite asegurado, únicamente relacionados en la tabla de rangos en la condición requerida para la evaluación. SIN COBRO DE PRIMA | F23: =D28 -> 5
B24: RANGOS | D24: PUNTOS
B25: Rangos para el sublímite por evento | D25: PUNTOS | E25: Se califica el aumento adicional del sublímite evento. Hasta un monto total de $100.000.000 incluido el básico
B26: Límite adicional al básico mayor a $10.000.000 y hasta $20.000.000 | D26: 2
B27: Límite adicional al básico mayor a $20.000.000 y hasta $30.000.000 | D27: 4
B28: Límite adicional al básico mayor a $30.000.000 y hasta $50.000.000 | D28: 5
B29: Rangos para el sublímite agregado anual | D29: PUNTOS | E29: Se califica el aumento adicional del sublímite agregado anual Hasta un monto total de $200.000.000 incluido el básico | F29: =D32 -> 5
B30: Límite adicional al básico mayor a $20.000.000 y hasta $50.000.000 | D30: 2
B31: Límite adicional al básico mayor a $50.000.000 y hasta $80.000.000 | D31: 4
B32: Límite adicional al básico mayor a $80.000.000 y hasta $100.000.000 | D32: 5
B33: ANTICIPO DE INDEMNIZACIÓN DEL 60%. NOTA 1: Si el aumento adicional del porcentaje de anticipo es condicionado a la demostración de la ocurrencia y cuantía, se califica con cero (0) puntos este factor. NOTA 2: Solo se acepta propuesta en los límites señados en los siguientes rangos. | D33: PUNTOS | E33: Se califica el aumento adicional del porcentaje ofrecido. Bajo la definición del texto de la condición obligatoria y sin estar condicionada a la demostración de ocurrencia y cuantía. | F33: =+D36 -> 5
B34: Límite adicional al básico mayor al 5% y hasta el10%. | D34: 1
B35: Límite adicional al básico mayor al 10% y hasta el 20%. | D35: 3
B36: Límite adicional al básico mayor al 20% y hasta el 40%. | D36: 5
B37: MÁXIMO CALIFICACIÓN | F37: =SUM(F17:F36) -> 30 | G37: CALIFICACIÓN DEL OFERENTE | H37: =SUM(H17:H36) -> 0
B38: By: Tiger | H38: =+'G1 COND. ADIC TR. EQ. Y M'!H26 -> VERSIÓN: JUN 2026

Sheet G1 RC BRIGADISTAS 
B3: UNIDAD ADMINISTRATIVA ESPECIAL CUERPO OFICIAL DE BOMBEROS
B5: Formato No 3 Condiciones tecnicas adicionales por evaluar
B6: GRUPO No. 1
B7: 8. PÓLIZA DE SEGURO DE RESPONSABILIDAD CIVIL CONTRACTUAL BRIGADISTAS
B8: OBJETO DEL SEGURO
B9: Amparar a la UNIDAD ADMINISTRATIVA ESPECIAL CUERPO OFICIAL DE BOMBEROS -UAECOB, como consecuencia de la Responsabilidad Civil Contractual y los Accidentes Personales originadas dentro o fuera de sus instalaciones, en el desarrollo de sus actividades o en lo relacionado con ella y en concordancia con lo establecido en el Artículo 10 de la Resolución 0256 de 2014 por medio de la cual se reglamenta la conformación, capacitación y entrenamiento para las brigadas contra incendios impartidas por la UAECOB.
B10: INFORMACIÓN GENERAL:
B11: TOMADOR: | C11: UNIDAD ADMINISTRATIVA ESPECIAL CUERPO OFICIAL DE BOMBEROS | G11: NIT. | H11: =+'G1 COND ADIC. CASCO BARCO'!H11 -> 899.999.061-9
B12: ASEGURADO: | C12: =+C11 -> UNIDAD ADMINISTRATIVA ESPECIAL CUERPO OFICIAL DE BOMBEROS | G12: NIT. | H12: =+H11 -> 899.999.061-9
B13: BENEFICIARIO: | C13: TERCEROS AFECTADOS Y/O BENEFICIARIOS
B14: CRITERIOS DE EVALUACIÓN:
B15: CONDICIÓN REQUERIDA PARA EVALUACIÓN | E15: CRITERIO DE EVALUACIÓN | F15: PUNTAJE ESTABLECIDO | G15: OFRECIMIENTO DEL OFERENTE | H15: PUNTAJE OBTENIDO POR EL OFERENTE
B16: LÍMITE ASEGURADO: $60.000.000 por persona y $1.500.000.000 evento / agregado anual. | E16: Se califica el aumento adicional del límite asegurado POR PERSONA SIN COBRO DE PRIMA Hasta un monto total de $120.000.000 | F16: =+D21 -> 10
B18: Rangos para el sublímite por evento | D18: PUNTOS
B19: Límite adicional al básico mayor a $10.000.000 y hasta $25.000.000 | D19: 4
B20: Límite adicional al básico mayor a $25.000.000 y hasta $45.000.000 | D20: 6
B21: Límite adicional al básico mayor a $45.000.000 y hasta $60.000.000 | D21: 10
B22: Rangos para el sublímite agregado anual. | D22: PUNTOS | E22: Se califica el aumento adicional del límite asegurado agregado anual. SIN COBRO DE PRIMA Hasta un monto total de $3.000.000.000 | F22: =+D25 -> 10
B23: Límite adicional al básico mayor a $100.000.000 y hasta $500.000.000 | D23: 4
B24: Límite adicional al básico mayor a $500.000.000 y hasta $.1.000.000.000 | D24: 6
B25: Límite adicional al básico mayor a $1.000.000.00 y hasta $1.500.000.000 | D25: 10
B26: ANTICIPO DE INDEMNIZACIÓN DEL 60%. NOTA 1: Si el aumento adicional del porcentaje de anticipo es condicionado a la demostración de la ocurrencia y cuantía, se califica con cero (0) puntos este factor. NOTA 2: Solo se acepta propuesta en los límites señados en los siguientes rangos. | D26: PUNTOS | E26: Se califica el aumento adicional del porcentaje ofrecido. Bajo la definición del texto de la condición obligatoria y sin estar condicionada a la demostración de ocurrencia y cuantía. | F26: =+D29 -> 10
B27: Límite adicional al básico mayor al 5% y hasta el10%. | D27: 4
B28: Límite adicional al básico mayor al 10% y hasta el 20%. | D28: 6
B29: Límite adicional al básico mayor al 20% y hasta el 40%. | D29: 10
B30: MÁXIMO CALIFICACIÓN | F30: =SUM(F14:F29) -> 30 | G30: CALIFICACIÓN DEL OFERENTE | H30: =SUM(H14:H29) -> 0
B31: By: Tiger | H31: =+'G1 COND. ADIC TR. EQ. Y M'!H26 -> VERSIÓN: JUN 2026

Sheet G1. COND ADIC. SEMOVIENTES
B3: UNIDAD ADMINISTRATIVA ESPECIAL CUERPO OFICIAL DE BOMBEROS
B5: Formato No 3 Condiciones tecnicas adicionales por evaluar
B6: GRUPO No. 1
B7: 9.PÓLIZA DE SEMOVIENTES
B8: OBJETO DEL SEGURO
B9: Amparar los Caninos de propiedad de la UNIDAD ADMINISTRATIVA ESPECIAL CUERPO OFICIAL DE BOMBEROS -UAECOB, bajo su responsabilidad, cuidado, tenencia y/o control, y en general los recibidos a cualquier título y/o por los que tenga algún interés asegurable. NOTA: Se permite la presentación de oferta de esta cobertura, bajo póliza(s) o anexo(s) de cualquier ramo o ramos que tenga aprobado(s) el proponente, siempre y cuando cumpla con las condiciones exigidas en el presente Pliego de Condiciones.
B10: INFORMACIÓN GENERAL:
B11: TOMADOR: | C11: UNIDAD ADMINISTRATIVA ESPECIAL CUERPO OFICIAL DE BOMBEROS | F11: NIT. | G11: 899.999.061-9
B12: ASEGURADO: | C12: UNIDAD ADMINISTRATIVA ESPECIAL CUERPO OFICIAL DE BOMBEROS | F12: NIT. | G12: 899.999.061-9
B13: BENEFICIARIO: | C13: UNIDAD ADMINISTRATIVA ESPECIAL CUERPO OFICIAL DE BOMBEROS | F13: NIT. | G13: 899.999.061-9
B14: CRITERIOS DE EVALUACIÓN:
B15: CONDICIÓN REQUERIDA PARA EVALUACIÓN SIN COBRO DE PRIMA ADICIONAL | D15: CRITERIO DE EVALUACIÓN | E15: PUNTAJE ESTABLECIDO | F15: OFRECIMIENTO | G15: PUNTAJE OBTENIDO
B16: ANEXO DE CIRUGIA. Sublímite de $100.000.000 evento / agregado anual | D16: Se califica el aumento adicional del sublímite evento /vigencia Hasta un monto total de $300.000.000 | E16: 10
B17: GASTOS MÉDICOS VETERINARIOS EN CASO DE ACCIDENTE Sublímite de $30.000.000 evento / $200.000.000 agregado anual | D17: Se califica el aumento adicional del sublímite del evento Hasta un monto total de $60.000.000 | E17: 5
D18: Se califica el aumento adicional del sublímite para agregado anual Hasta un monto total de $400.000.000 | E18: 5
B19: GASTOS PROFILÁCTICOS Sublímite de $150.000.000 agregado anual | D19: Se califica el aumento adicional del sublímite evento /vigencia Hasta un monto total de $300.000.000 | E19: 5
B20: ANTICIPO DE INDEMNIZACIÓN DEL 60%. NOTA 1: Si el aumento adicional del porcentaje de anticipo es condicionado a la demostración de la ocurrencia y cuantía, se califica con cero (0) puntos este factor. NOTA 2: Solo se acepta propuesta en los límites señados en los siguientes rangos. | D20: Se califica el aumento adicional del porcentaje ofrecido. Bajo la definición del texto de la condición obligatoria y sin estar condicionada a la demostración de ocurrencia y cuantía. PUNTOS | E20: 5
B21: Límite adicional al básico mayor al 5% y hasta el10%. | D21: 2
B22: Límite adicional al básico mayor al 10% y hasta el 20%. | D22: 4
B23: Límite adicional al básico mayor al 20% y hasta el 40%. | D23: 5
B24: MÁXIMO CALIFICACIÓN | E24: =SUM(E16:E23) -> 30 | F24: CALIFICACIÓN DEL OFERENTE | G24: =SUM(G16:G23) -> 0
B25: By: Tiger | G25: =+'G1 RC BRIGADISTAS '!H31 -> VERSIÓN: JUN 2026

Sheet G2. COND ADIC. RIESGO CYB
B3: UNIDAD ADMINISTRATIVA ESPECIAL CUERPO OFICIAL DE BOMBEROS
B5: Formato No 3 Condiciones tecnicas adicionales por evaluar
B6: GRUPO No. 2
B7: 10. PÓLIZA DE RIESGO CIBERNÉTICO (RESPONSABILIDAD CIVIL PROTECCIÓN DE DATOS)
B8: OBJETO DEL SEGURO
B9: Cubrir las pérdidas patrimoniales y Gastos de Defensa por la eventual responsabilidad de la UNIDAD ADMINISTRATIVA ESPECIAL CUERPO OFICIAL DE BOMBEROS -UAECOB, por pérdidas o daños ocasionados a terceros, y por los daños o pérdidas a sus propios bienes e intereses, derivados de situaciones de riesgo en el manejo de información, que son objeto de la cobertura de la póliza, dentro y fuera del Territorio Nacional.
B10: INFORMACIÓN GENERAL:
B11: TOMADOR: | C11: UNIDAD ADMINISTRATIVA ESPECIAL CUERPO OFICIAL DE BOMBEROS | G11: NIT. | H11: 899.999.061-9
B12: ASEGURADO: | C12: =+C11 -> UNIDAD ADMINISTRATIVA ESPECIAL CUERPO OFICIAL DE BOMBEROS | G12: NIT. | H12: =+H11 -> 899.999.061-9
B13: BENEFICIARIO: | C13: =+C11 -> UNIDAD ADMINISTRATIVA ESPECIAL CUERPO OFICIAL DE BOMBEROS | G13: NIT. | H13: =+H11 -> 899.999.061-9
B14: NOTA: | C14: CADA SUBLÍMITE O GASTOS OFRECIDOS EN FORMA ADICIONAL QUEDA CONTEMPLADO DENTRO DEL LÍMITE ASEGURADO.
B15: CRITERIOS DE EVALUACIÓN:
B16: CONDICIÓN REQUERIDA PARA EVALUACIÓN | E16: CRITERIO DE EVALUACIÓN | F16: PUNTAJE ESTABLECIDO | G16: OFRECIMIENTO DEL OFERENTE | H16: PUNTAJE OBTENIDO POR EL OFERENTE
B17: INCREMENTO DEL LÍMITE BÁSICO DE $2.000.000.000 PARA LA COBERTURA DE RESPONSABILIDAD CIVIL PROTECCIÓN DE DATOS - RIESGO CIBERNÉTICO. NOTA: Solo se acepta propuesta en los límites señados en los siguientes rangos. Ofrecimientos de otros valores diferentes serán evaluados con cero (0) puntos), excepto que sea superior al último rango. | D17: PUNTOS | E17: Se califica el aumento adicional del límite asegurado. SIN COBRO DE PRIMA | F17: =+D21 -> 10
B18: Límite adicional al básico mayor a $300.000.000 y hasta $500.000.000 | D18: 1
B19: Límite adicional al básico mayor a $500.000.000 y hasta $1.000.000.000 | D19: 4
B20: Límite adicional al básico mayor a $1.000.000.000 y hasta $2.000.000.000 | D20: 7
B21: Límite adicional superior a $2.500.000.000 | D21: 10
B22: RESTITUCIÓN DE LA IMAGEN DE LA ENTIDAD Sublimite del 50% del límite asegurado por reclamo y en la vigencia. | D22: PUNTOS | E22: Se califica el aumento adicional del porcentaje ofrecido. | F22: =+D25 -> 2
B23: Límite adicional al básico mayor al 10% y hasta el 25%. | D23: 1
B24: Límite adicional al básico mayor al 25% y hasta el 35%. | D24: 1.5
B25: Límite adicional al básico mayor al 35% y hasta el 50%. | D25: 2
B26: RESTITUCIÓN DE LA IMAGEN PERSONAL Sublimite del 50% del límite asegurado por reclamo y en el agregado anual. | D26: PUNTOS | E26: Se califica el aumento adicional del porcentaje ofrecido. | F26: =+D29 -> 2
B27: Límite adicional al básico mayor al 10% y hasta el 25%. | D27: 1
B28: Límite adicional al básico mayor al 25% y hasta el 35%. | D28: 1.5
B29: Límite adicional al básico mayor al 35% y hasta el 50%. | D29: 2
B30: CIBER EXTORSIÓN Sublimite del 50% del límite asegurado por reclamo y en el agregado anual. | D30: PUNTOS | E30: Se califica el aumento adicional del porcentaje ofrecido. | F30: =D33 -> 2
B31: Límite adicional al básico mayor al 10% y hasta el 25%. | D31: 1
B32: Límite adicional al básico mayor al 25% y hasta el 35%. | D32: 1.5
B33: Límite adicional al básico mayor al 35% y hasta el 50%. | D33: 2
B34: INVESTIGACIÓN Sublimite del 50% del límite asegurado por reclamo y en la vigencia. | D34: PUNTOS | E34: Se califica el aumento adicional del porcentaje ofrecido. | F34: =+D37 -> 2
B35: Límite adicional al básico mayor al 10% y hasta el 25%. | D35: 1
B36: Límite adicional al básico mayor al 25% y hasta el 35%. | D36: 1.5
B37: Límite adicional al básico mayor al 35% y hasta el 50%. | D37: 2
B38: NOTIFICACIÓN Y MONITOREO Sublimite del 50% del límite asegurado por reclamo y en la vigencia. NOTA: Solo se acepta propuesta en los límites señados en los siguientes rangos. | D38: PUNTOS | E38: Se califica el aumento adicional del porcentaje ofrecido. | F38: =+D41 -> 2
B39: Límite adicional al básico mayor al 10% y hasta el 25%. | D39: 1
B40: Límite adicional al básico mayor al 25% y hasta el 35%. | D40: 1.5
B41: Límite adicional al básico mayor al 35% y hasta el 50%. | D41: 2
B42: DATOS ELECTRÓNICOS Sublimite del 50% del límite asegurado por reclamo y en la vigencia. NOTA: Solo se acepta propuesta en los límites señados en los siguientes rangos. | D42: PUNTOS | E42: Se califica el aumento adicional del porcentaje ofrecido. | F42: =+D45 -> 2
B43: Límite adicional al básico mayor al 10% y hasta el 25%. | D43: 1
...

Sheet G4 . COND ADIC. RCSP
B3: UNIDAD ADMINISTRATIVA ESPECIAL CUERPO OFICIAL DE BOMBEROS -UAECOB
B5: Formato No 3 Condiciones tecnicas adicionales por evaluar
B6: GRUPO No. 4
B7: 12. PÓLIZA DE RESPONSABILIDAD CIVIL SERVIDORES PÚBLICOS
B8: OBJETO DEL SEGURO
B9: Amparar los perjuicios patrimoniales causados a terceros y/o a la UNIDAD ADMINISTRATIVA ESPECIAL CUERPO OFICIAL DE BOMBEROS, provenientes de la responsabilidad civil de los servidores públicos y/o funcionarios con regímenes de responsabilidad similares a los de los servidores públicos, en el desempeño de las funciones de los cargos asegurados, por toda acción u omisión, correcta o incorrecta, culposa, real o presunta, así como los perjuicios que les sean imputable y los ocasionados por juicios de responsabilidad fiscal. Amparar los gastos de defensa (tales como, pero sin limitarse a: honorarios profesionales de abogados defensores, gastos y costas procesales y cauciones judiciales) según los límites por etapas procesales establecidos en este documento, en todo tipo de procesos, incluidos, pero sin limitarse a: procesos fiscales, procesos disciplinarios, procesos penales siempre que se trate de delitos no dolosos, procesos civiles, procesos administrativos (incluidos los de reparación directa); indagaciones, investigaciones preliminares, procesos internos y cualquier otro en los que se discuta la responsabilidad correspondiente a los cargos asegurados y en general los incurridos para defenderse en cualquier tipo de investigación o proceso adelantados por organismos oficial de vigilancia y control o entes de investigación según los límites por: tipos de procesos y etapas procesales establecidos en este documento.
B10: INFORMACIÓN GENERAL:
B11: TOMADOR: | C11: =+B3 -> UNIDAD ADMINISTRATIVA ESPECIAL CUERPO OFICIAL DE BOMBEROS -UAECOB | G11: NIT. | H11: 899.999.061-9
B12: ASEGURADO: | C12: NOMBRE DE LA ENTIDAD Y/O CARGOS ASEGURADOS | G12: NIT. | H12: =+H11 -> 899.999.061-9
B13: BENEFICIARIO: | C13: NOMBRE DE LA ENTIDAD Y/O CARGOS ASEGURADOS Y/O TERCEROS AFECTADOS | G13: NIT. | H13: =+H11 -> 899.999.061-9
B14: NOTA: | C14: CADA SUBLÍMITE O GASTOS OFRECIDOS EN FORMA ADICIONAL QUEDA CONTEMPLADO DENTRO DEL LÍMITE ASEGURADO.
B15: CRITERIOS DE EVALUACIÓN:
B16: CONDICIÓN REQUERIDA PARA EVALUACIÓN | E16: CRITERIO DE EVALUACIÓN | F16: PUNTAJE ESTABLECIDO | G16: OFRECIMIENTO DEL OFERENTE | H16: PUNTAJE OBTENIDO POR EL OFERENTE
B17: INCREMENTO DEL LÍMITE BÁSICO PARA LA COBERTURA DE PERJUICIOS O DETRIMENTO PATRIMONIAL. | E17: Se califica el aumento adicional del límite asegurado, únicamente relacionados en la tabla de rangos en la condición requerida para la evaluación. SIN COBRO DE PRIMA | F17: =+D22 -> 4
B18: Límite de $3.000.000.000 evento /agregado anual. Incluido los Gastos de Defensa. NOTA: Solo se acepta propuesta en los límites señados en los siguientes rangos. Ofrecimientos de otros valores diferentes serán evaluados con cero (0) puntos), excepto que sea superior al último rango. | D18: PUNTOS
B19: Ofrecimiento adicional superior a $400.000.000 y hasta $600.000.000 | D19: 1
B20: Ofrecimiento adicional superior a 600.000.000 y hasta $1.000.000.000 | D20: 2
B21: Ofrecimiento adicional superior a $1.000.000.000 y hasta $2.000.000.000 | D21: 3
B22: Ofrecimiento adicional superior a $2.000.000.000 y hasta $3.000.000.000 | D22: 4
B23: INCREMENTO DEL LÍMITE BÁSICO PARA LA COBERTURA DE GASTOS DE DEFENSA. Incluidos en el límite de Perjuicios o Detrimento Patrimonial sin cobro de prima. NOTA: Solo se acepta propuesta en los límites señados en los siguientes rangos. Ofrecimientos de otros valores diferentes serán evaluados con cero (0) puntos), excepto que sea superior al último rango. | E23: Se califica el aumento adicional del límite asegurado, únicamente relacionados en la tabla de rangos en la condición requerida para la evaluación. SIN COBRO DE PRIMA | F23: =+D29 -> 12
B24: Límite de $2.050.000.000 evento / agregado anual. Incluidos en el límite de Perjuicios o Detrimento Patrimonial sin cobro de prima. | D24: PUNTOS
B25: Ofrecimiento adicional de $100.000.000 al límite básico. | D25: 2
B26: Ofrecimiento adicional de $300.000.000 al límite básico. | D26: 4
B27: Ofrecimiento adicional de $500.000.000 al límite básico. | D27: 6
B28: Ofrecimiento adicional de $600.000.000 al límite básico. | D28: 8
B29: Ofrecimiento adicional de $800.000.000 al límite básico. | D29: 12
B30: ANTICIPO DE INDEMNIZACIÓN PARA EL PAGO DE HONORARIOS DEL 70%. NOTA: Si el aumento adicional del porcentaje de anticipo es condicionado a la demostración de la ocurrencia y cuantía, se califica con cero (0) puntos este factor. | E30: Se califica el aumento adicional del porcentaje ofrecido. Bajo la definición del texto de la condición obligatoria y sin estar condicionada a la demostración de ocurrencia y cuantía. | F30: 2
B31: INCREMENTO DEL SUBLÍMITE DE GASTOS DE DEFENSA EN LOS PROCESOS DE INDAGACIÓN O INVESTIGACIONES PRELIMINARES o INDAGACIONES PREVIAS Y EN LA VINCULACIÓN PROCESAL HASTA FALLO QUE HAGA TRANSITO A COSA JUZGADA Incluidos en el límite de Perjuicios o Detrimento Patrimonial sin cobro de prima. | E31: Se califica el aumento adicional del límite asegurado conforme los valores indicados en los rangos. Cualquier valor diferente a los límites señalados en los rangos se califica con cero (0) puntos. SIN COBRO DE PRIMA | F31: =+D36 -> 10
B32: SUBLÍMITE POR CARGO ASEGURADO
B33: El sublímite ofertado debe ser una cifra única aplicable para el Alcalde, los Secretarios y Demás Cargos asegurados | D33: PUNTOS
B34: Límite adicional al básico: $10.000.000 evento /vigencia | D34: 3
B35: Límite adicional al básico: $20.000.000 evento /vigencia | D35: 5
B36: Límite adicional al básico: $50.000.000 evento /vigencia | D36: 10
B37: NOTIFICACIÓN DE HECHOS O CIRCUNSTANCIAS. Si durante la vigencia de la póliza o del periodo extendido de reclamaciones, un asegurado o la entidad tomadora tuvieren conocimiento de cualquier hecho o circunstancia que razonablemente pudiera dar lugar en el futuro, a un siniestro o a generar una reclamación, los asegurados y/o la entidad tomadora, según fuere el caso, darán aviso a la compañía de seguros antes de la terminación de la vigencia de la póliza. En caso que con posterioridad a la terminación de la vigencia de la póliza efectivamente se formalice una reclamación derivada de los hechos o circunstancias que fueron notificados a la compañía de seguros en la forma establecida en esta cláusula, dicha reclamación se considerará presentada por primera vez en el mismo momento en que los hechos y circunstancias que la originaron fueron debidamente notificados o avisados a la aseguradora, razón por la cual la cobertura procederá bajo la póliza que se encontraba vigente en ese momento. | E37: Se califica el otorgamiento de esta condición | F37: 2
B38: MÁXIMO CALIFICACIÓN | F38: =SUM(F17:F37) -> 30 | G38: CALIFICACIÓN DEL OFERENTE | H38: =SUM(H17:H30) -> 0
B39: By: Tiger | H39: =+'G1 RC BRIGADISTAS '!H31 -> VERSIÓN: JUN 2026

Sheet G4. COND ADIC. IRF
B3: UNIDAD ADMINISTRATIVA ESPECIAL CUERPO OFICIAL DE BOMBEROS
B5: Formato No 3 Condiciones tecnicas adicionales por evaluar
B6: GRUPO No. 4
B7: 13. PÓLIZA DE INFIDELIDAD Y RIESGOS FINANCIEROS
B8: OBJETO DEL SEGURO
B9: Amparar a la UNIDAD ADMINISTRATIVA ESPECIAL CUERPO OFICIAL DE BOMBEROS-UAECOB, las pérdidas, gastos y daños como consecuencia de actos deshonestos o fraudulentos cometidos por empleados del asegurado, solos o en concurso con otros, o con terceros, con la intención manifiesta de hacer que el asegurado sufra dicha pérdida. Se extienen el objeto del seguro a amparar el patrimonio del asegurado por la pérdida o daños de bienes propios y no propios por los cuales el Asegurado sea responsable tales como dineros efectivo y dinero en todas sus formas y representaciones, títulos valores y cualquier documento y forma material o inmaterial de representación de dinero, como consecuencia de los riesgos a que está expuesto el Asegurado en el giro normal de su actividad social.
B10: INFORMACIÓN GENERAL:
B11: TOMADOR: | C11: =+B3 -> UNIDAD ADMINISTRATIVA ESPECIAL CUERPO OFICIAL DE BOMBEROS | G11: NIT. | H11: 899.999.061-9
B12: ASEGURADO: | C12: =+C11 -> UNIDAD ADMINISTRATIVA ESPECIAL CUERPO OFICIAL DE BOMBEROS | G12: NIT. | H12: =+H11 -> 899.999.061-9
B13: BENEFICIARIO: | C13: =+C11 -> UNIDAD ADMINISTRATIVA ESPECIAL CUERPO OFICIAL DE BOMBEROS | G13: NIT. | H13: =+H11 -> 899.999.061-9
B14: NOTA: | C14: CADA SUBLÍMITE O GASTOS OFRECIDOS EN FORMA ADICIONAL QUEDA CONTEMPLADO DENTRO DEL LÍMITE ASEGURADO.
B15: CRITERIOS DE EVALUACIÓN:
B16: CONDICIÓN REQUERIDA PARA EVALUACIÓN | E16: CRITERIO DE EVALUACIÓN | F16: PUNTAJE ESTABLECIDO | G16: OFRECIMIENTO DEL OFERENTE | H16: PUNTAJE OBTENIDO POR EL OFERENTE
B17: COBERTURA DE HUELGA, MOTIN, CONMOCIÓN CIVIL O POPULAR Y ACTOS MAL INTENCIONADOS DE TERCEROS (TEXTO NMA-1387) Sublímite de $1.000.000.000 evento / agregado anual. | E17: Se califica el aumento adicional del valor ofrecido | F17: =+D21 -> 8
B18: Superior a $100.000.000 y hasta $200.000.000 | D18: 2
B19: Superior a $200.000.000 y hasta $300.000.000 | D19: 4
B20: Superior a $300.000.000 y hasta $400.000.000 | D20: 6
B21: Superior a $400.000.000 y hasta $500.000.000 | D21: 8
B22: COBERTURA PARA COSTOS DE LIMPIEZA Sublímite de $700.000.000 evento / agregado anual. | E22: Se califica el aumento adicional del valor ofrecido | F22: =+D25 -> 8
B23: Superior a $100.000.000 y hasta $200.000.000 | D23: 3
B24: Superior a $200.000.000 y hasta $300.000.000 | D24: 5
B25: Superior a $300.000.000 y hasta $400.000.000 | D25: 8
B26: ANTICIPO DE INDEMNIZACIÓN DEL 70%. NOTA 1: Si el aumento adicional del porcentaje de anticipo es condicionado a la demostración de la ocurrencia y cuantía, se califica con cero (0) puntos este factor. NOTA 2: Solo se acepta propuesta en los límites señados en los siguientes rangos. | D26: PUNTOS | E26: Se califica el aumento adicional del porcentaje ofrecido. Bajo la definición del texto de la condición obligatoria y sin estar condicionada a la demostración de ocurrencia y cuantía. | F26: 5
B27: Límite adicional al básico mayor al 5% y hasta el 10%. | D27: 1
B28: Límite adicional al básico mayor al 10% y hasta el 20%. | D28: 3
B29: Límite adicional al básico mayor al 20% y hasta el 30%. | D29: 5
B30: BONO POR NO RECLAMACIÓN DIEZ (10%) POR CIENTO Está entendido y acordado que se otorga un descuento 10% de bono por no reclamación, pagadero a la expiración como devolución de prima bruta. Queda expresamente convenido y aceptado que la aseguradora efectuará el pago de la devolución del monto a que tenga derecho la entidad asegurada, por concepto de la Cláusula de Bono por no Reclamación, sin sujetar el mismo a la renovación y/o prórroga de la póliza, con la misma aseguradora y/o reaseguradores siempre y cuando la vigencia sea mínimo de un año. De igual forma se acuerdo que la aseguradora presentará a la entidad asegurada la liquidación de la devolución correspondiente, dentro de los treinta (30) días siguientes a la fecha de vencimiento de cada período anual de la vigencia de la póliza previa certificación expedida por el asegurado a la expiración de la póliza de no conocimiento de hechos o circunstancias que puedan afectar la póliza. “Lo anterior sujeto a carta de liberación de responsabilidad por parte del asegurado”. | E30: Se califica el otorgamiento de Bono por No reclamación | F30: 5
B31: OFRECIMIENTO DE ESTUDIO DE RIESGOS CON COSTO A CARGO DE LA ASEGURADORA (SURVEY) Las recomendaciones, sugerencias y/o demás aspectos que se deriven del resultado de este estudio, no generarán exigencia de implementación de medidas de prevención y/o control de riesgo, aplicación de garantías o cualquier tipo de compromiso para el asegurado, así como la modificación de las condiciones ofertadas. El estudio deberá realizarse dentro de los cuatro (4) primeros meses de la vigencia de la póliza, para lo cual la aseguradora se compromete a presentar dentro de los primeros treinta (30) dias calendarios, contados a partir de la fecha del inicio de la vigencia de la póliza, el cronograma en el que se indiquen las actividades que desarrollará para tal efecto y los funcionarios y/o firma externa que llevarán a cabo las mismas. | E31: Se califica el otorgamiento del Estudio de Riesgos | F31: 4
B32: MÁXIMO CALIFICACIÓN | F32: =SUM(F17:F31) -> 30 | G32: CALIFICACIÓN DEL OFERENTE | H32: =SUM(H26:H31) -> 0
B33: By: Tiger | H33: =+'G1 RC BRIGADISTAS '!H31 -> VERSIÓN: JUN 2026

Sheet G5. COND ADIC. DRONES
B3: =C11 -> UNIDAD ADMINISTRATIVA ESPECIAL CUERPO OFICIAL DE BOMBEROS -UAECOB
B5: Formato No 3 Condiciones tecnicas adicionales por evaluar
B6: GRUPO No. 5 | K6: .
B7: SEGURO DE CASCO AVIACIÓN (DRONES)
B8: OBJETO DEL SEGURO
