Workbook

Sheet G1. CALIF. DEDUCIBLES TRDM
B2: UNIDAD ADMINISTRATIVA ESPECIAL CUERPO OFICIAL DE BOMBEROS -UAECOB
B3: Formato No 4 Mejora en deducibls por evaluar
B4: GRUPO No. 1
B5: 1. PÓLIZA DE SEGURO DE TODO RIESGO DAÑOS MATERIALES COMBINADOS
B6: OBJETO DEL SEGURO:
B7: Amparar todos los activos (bienes inmuebles y muebles) de propiedad de la UNIDAD ADMINISTRATIVA ESPECIAL CUERPO OFICIAL DE BOMBEROS-UAECOB, o aquellos que se encuentren bajo su control, tenencia, responsabilidad o custodia, contra los daños o pérdidas materiales a consecuencia de cualquier riesgo, tanto por eventos internos o externos y en general los recibidos a cualquier título o por los que tenga algún interés asegurable, ubicados en el territorio nacional o por aquellos que por su naturaleza se deban trasladar a nivel mundial, dentro o fuera de las instalaciones del asegurado y/o en predios de terceros o a la intemperie y los utilizados en desarrollo del objeto social de la UAECOB.
B8: INFORMACIÓN GENERAL:
B9: TOMADOR: | C9: =+B2 -> UNIDAD ADMINISTRATIVA ESPECIAL CUERPO OFICIAL DE BOMBEROS -UAECOB | I9: NIT. | J9: 899.999.061-9
B10: ASEGURADO: | C10: =+C9 -> UNIDAD ADMINISTRATIVA ESPECIAL CUERPO OFICIAL DE BOMBEROS -UAECOB | I10: NIT. | J10: 899.999.061-9
B11: BENEFICIARIO: | C11: =+C9 -> UNIDAD ADMINISTRATIVA ESPECIAL CUERPO OFICIAL DE BOMBEROS -UAECOB | I11: NIT. | J11: 899.999.061-9
B12: CRITERIOS DE EVALUACIÓN:
B13: Los criterios establecidos tienen como objeto que la Entidad pueda obtener los mejores deducibles que le permitan lograr la mayor indemnización posible, frente a las pérdidas que pueda sufrir derivadas de un evento súbito e imprevisto que no depende de la voluntad del asegurado.
B14: DEDUCIBLES ACTUALES:
B15: Actualmente UNIDAD ADMINISTRATIVA ESPECIAL CUERPO OFICIAL DE BOMBEROS -UAECOB, tiene únicamente los siguientes deducibles aplicables:
B16: TERREMOTO, TEMBLOR, ERUPCION VOLCANICA: | E16: 1% DEL VALOR ASEGURABLE DEL ÍTEM AFECTADO
B17: ACTOS MAL INTENCIONADOS DE TERCEROS ASONADA, MOTÍN, CONMOCIÓN CIVIL O POPULAR Y HUELGA (INCLUIDO TERRORISMO Y SABOTAJE). | E17: 1% SOBRE EL VALOR DE LA PERDIDA, SIN MINIMO
B18: HURTO Y HURTO CALIFICADO | E18: 3% SOBRE EL VALOR DE LA PERDIDA, MINIMO 2 SMMLV SOBRE VALOR DE LA PERDIDA
B19: EQUIPO MOVILES Y PORTATILES | E19: 3% SOBRE EL VALOR DE LA PERDIDA, MINIMO 2 SMMLV SOBRE VALOR DE LA PERDIDA
B20: DEMÁS EVENTOS Y/O AMPAROS | E20: 5% SOBRE EL VALOR DE LA PERDIDA, MINIMO 1 SMMLV SOBRE VALOR DE LA PERDIDA
B21: PARÁMETROS PARA LA CALIFICACIÓN
B22: Para calificación del deducible se realizará aplicando los criterios aquí indicados y los puntajes señalados en las tablas de rangos relacionadas en estas.
B23: CALIFICACIÓN APLICABLE AL AMPARO DE TERREMOTO, TEMBLOR Y/O ERUPCIÓN VOLCÁNICA
B24: Las aseguradoras deben presentar únicamente propuestas de deducibles aplicables sobre el valor asegurado y/o valor asegurable, DEL ITEM AFECTADO DENTRO DEL PREDIO ASEGURADO para el amparo de Terremoto, temblor y/o erupción volcánica; propuestas que ofrezcan sobre el valor asegurado TOTAL y/o valor asegurable TOTAL, SERÁN OBJETO DE RECHAZO.
B25: De acuerdo con lo anterior y para los fines pertinentes de deducible y a efectos de la determinación del “valor asegurado o asegurable del ITEM AFECTADO DENTRO DEL PREDIO ASEGURADO”, se considerarán las siguientes definiciones:
B26: DEFINICIONES | E26: PREDIO ASEGURADO Es el sitio de ocurrencia del siniestro donde la Entidad lleva a cabo actividades y en el cual se encuentran contenidos los bienes asegurados, ya sea en uno o varios edificios o a la intemperie, si están diseñados para ello.
E27: ÍTEM AFECTADO Corresponde a la agrupación de bienes de iguales o similares características, tales como: Edificios, bienes muebles, equipos eléctricos, equipos electrónicos, maquinaria, equipo, mercancías, dineros y otros bienes de la Entidad en alcance de la definición establecida en las Anexo No. 1 Condiciones Obligatorias (Mínimas Técnicas).
E28: VALOR ASEGURADO O ASEGURABLE DEL ITEM AFECTADO DENTRO DEL PREDIO ASEGURADO Corresponde al monto asegurado o asegurable de los bienes contenidos en cada predio; es decir, los bienes correspondientes a los ítems de: Edificios, bienes muebles, equipos eléctricos, equipos electrónicos, maquinaria, equipo, mercancías, dineros y otros bienes de la Entidad en alcance de la definición establecida en las Anexo No. 1 Condiciones Obligatorias (Mínimas Técnicas).
E29: Se aclara que en caso de siniestro por pérdida o daño, que afecte solo algunos de los items antes citados, el valor asegurado o valor asegurable considerado para la aplicación del deducible corresponderá solamente al item o ítems correspondientes a los bienes afectados.
B30: TABLA DE CALIFICACIÓN
B32: Para efectos de la evaluación, se tendrán los siguientes ítems y puntajes: | F32: PUNTOS
B33: TERREMOTO, TEMBLOR Y/O ERUPCIÓN VOLCÁNICA: | F33: 2
B34: ACTOS MAL INTENCIONADOS DE TERCEROS ASONADA, MOTÍN, CONMOCIÓN CIVIL O POPULAR Y HUELGA (INCLUIDO TERRORISMO Y SABOTAJE). | E34: 4 | F34: 2
B35: HURTO Y HURTO CALIFICADO | E35: 2 | F35: 2
B36: =B19 -> EQUIPO MOVILES Y PORTATILES | F36: 2
B37: DEMÁS EVENTOS Y/O AMPAROS | E37: 2 | F37: 2
B38: TOTAL PUNTOS | F38: =SUM(F33:J37) -> 10
B39: NOTA: Para efectos de la evaluación y en aquellas tablas en los cuales se tengan rangos, en caso que el oferente indique "SE OTORGA" ó "SI" u otra expresión que implica que si esta otorgando el deducible, la Entidad entenderá que estos deducibles fueron ofrecidos con el valor del MÍNIMO RANGO y por lo tanto se asignará el puntaje respectivo de este rango y la aseguradora en caso de ser adjudicada su propuesta, expedirá la póliza con las condiciones mínimas de ese criterio en particular.
B40: 1- TERREMOTO, TEMBLOR Y/O ERUPCIÓN VOLCÁNICA: dos (2) puntos
B41: RANGO DEL DEDUCIBLES PORCENTUAL | E41: PUNTAJE SOBRE EL VALOR DE LA PERDIDA | I41: DEDUCIBLE OFERTADO | J41: PUNTOS OBTENIDOS
B42: Sin deducible | E42: 2,00 Puntos
...

Sheet G1. CALIF. DEDUCIBLES MANEJO
B2: =+'G1. CALIF. DEDUCIBLES TRDM'!B2 -> UNIDAD ADMINISTRATIVA ESPECIAL CUERPO OFICIAL DE BOMBEROS -UAECOB
B3: Formato No 4 Mejora en deducibls por evaluar
B4: GRUPO No. 1
B5: 2. PÓLIZA DE SEGURO GLOBAL DE MANEJO PARA ENTIDADES OFICIALES
B6: OBJETO DEL SEGURO
B7: Amparar los riesgos que impliquen menoscabo de los fondos y/o bienes de propiedad de la UNIDAD ADMINISTRATIVA ESPECIAL CUERPO OFICIAL DE BOMBEROS -UAECOB, o que estén bajo su tenencia, control y/o responsabilidad causados por acciones u omisiones de sus servidores, que incurran en delitos contra la administración pública o fallos con responsabilidad fiscal, por incumplimiento de las disposiciones legales y reglamentarias, incluyendo el costo de la rendición de cuentas en caso de abandono del cargo o fallecimiento del empleado, en concordancia con la Resolución 014249 del 15 de mayo de 1992, aprobada por la Contraloría General de la República.
B8: INFORMACIÓN GENERAL:
B9: TOMADOR: | C9: =+'G1. CALIF. DEDUCIBLES TRDM'!C9 -> UNIDAD ADMINISTRATIVA ESPECIAL CUERPO OFICIAL DE BOMBEROS -UAECOB | I9: NIT. | J9: =+'G1. CALIF. DEDUCIBLES TRDM'!J9 -> 899.999.061-9
B10: ASEGURADO: | C10: =+C9 -> UNIDAD ADMINISTRATIVA ESPECIAL CUERPO OFICIAL DE BOMBEROS -UAECOB | I10: NIT. | J10: =+J9 -> 899.999.061-9
B11: BENEFICIARIO: | C11: =+C9 -> UNIDAD ADMINISTRATIVA ESPECIAL CUERPO OFICIAL DE BOMBEROS -UAECOB | I11: NIT. | J11: =+J9 -> 899.999.061-9
B12: CRITERIOS DE EVALUACIÓN:
B13: Los criterios establecidos tienen como objeto que la Entidad pueda obtener los mejores deducibles que le permitan lograr la mayor indemnización posible, frente a las pérdidas que pueda sufrir derivadas de un evento súbito e imprevisto que no depende de la voluntad del asegurado.
B14: DEDUCIBLES ACTUALES:
B15: Actualmente UNIDAD ADMINISTRATIVA ESPECIAL CUERPO OFICIAL DE BOMBEROS -UAECOB, tiene únicamente los siguientes deducibles aplicables:
B16: TODA Y CADA PÉRDIDA | E16: 2,0% sobre el valor de la pérdida, mínimo 0,5 SMMLV sobre el valor de la pérdida
B17: DEMÁS EVENTOS Y/O AMPAROS: | E17: SIN DEDUCIBLE
B18: TABLA DE CALIFICACIÓN
B19: Para efectos de la evaluación, se tendrán los siguientes ítems y puntajes: | F19: PUNTOS
B20: TODA Y CADA PÉRDIDA | F20: 10
B21: TOTAL PUNTOS | F21: =SUM(F20) -> 10
B22: NOTA: Para efectos de la evaluación y en aquellas tablas en los cuales se tengan rangos, en caso que el oferente indique "SE OTORGA" ó "SI" u otra expresión que implica que si esta otorgando el deducible, la Entidad entenderá que estos deducibles fueron ofrecidos con el valor del MÍNIMO RANGO y por lo tanto se asignará el puntaje respectivo de este rango y la aseguradora en caso de ser adjudicada su propuesta, expedirá la póliza con las condiciones mínimas de ese criterio en particular.
B23: 1. EMPLEADOS NO IDENTIFICADOS Diez (10) puntos
B24: RANGO DE DEDUCIBLES PORCENTUAL | E24: PUNTAJE SOBRE EL VALOR DE LA PERDIDA | I24: DEDUCIBLE OFERTADO | J24: PUNTOS OBTENIDOS
B25: Sin deducible | E25: 6,00 Puntos | I25: (INDICAR EL DEDUCIBLE OFERTADO)
B26: Superior a 0,00% y hasta 0,50 % | E26: 4,00 Puntos
B27: Superior a 0,50% y hasta 1,00% | E27: 2,00 Puntos
B28: Superior a 1,00% y hasta 2,00% | E28: 1,00 Puntos
B29: Superior a 2,00% | E29: SE RECHAZA LA OFERTA | K29: ESTA CONDICIÓN DEBE QUEDAR EN LAS CAUSALES DE RECHAZO EN LOS PLIEGOS
B30: RANGO DEL DEDUCIBLES MÍNIMOS | E30: PUNTAJE SOBRE EL VALOR DE LA PERDIDA | I30: DEDUCIBLE OFERTADO | J30: PUNTOS OBTENIDOS
B31: Sin deducible | E31: 4,00 Puntos | I31: (INDICAR EL DEDUCIBLE OFERTADO)
B32: Superior a 0,00 SMMLV y hasta 0, 25 SMMLV | E32: 2,00 Puntos
B33: Superior a 0,25 SMMLV y hasta 0,50 SMMLV | E33: 1,00 Puntos
B34: Superior a 0,50 SMMLV | E34: SE RECHAZA LA OFERTA | K34: ESTA CONDICIÓN DEBE QUEDAR EN LAS CAUSALES DE RECHAZO EN LOS PLIEGOS
B35: By: Tiger | J35: =+'G1. CALIF. DEDUCIBLES TRDM'!J115 -> VERSIÓN: ABR 2026

Sheet G1. CALIF. DED. TR EQyMAQ
B2: UNIDAD ADMINISTRATIVA ESPECIAL CUERPO OFICIAL DE BOMBEROS
B3: Formato No 4 Mejora en deducibls por evaluar
B4: GRUPO No. 1
B5: 3. PÓLIZA DE SEGURO DE TODO RIESGO EQUIPO Y MAQUINARÍA
B6: CRITERIOS DE EVALUACIÓN:
B7: Amparar las pérdidas o daños materiales que afecten a los Equipos y Maquinarías de propiedad de la UNIDAD ADMINISTRATIVA ESPECIAL CUERPO OFICIAL DE BOMBEROS-UAECOB, o aquellos que se encuentren bajo su control, tenencia, responsabilidad o custodia, ubicados en el territorio nacional contra los daños o pérdidas materiales a consecuencia de cualquier riesgo, tanto por eventos internos o externos, incluyendo las pérdidas consecuenciales por todo concepto dentro o fuera de las instalaciones del asegurado y/o en predios de terceros y los utilizados en desarrollo del objeto social de la UAECOB.
B8: DEDUCIBLES ACTUALES:
B9: Actualmente la UNIDAD ADMINISTRATIVA ESPECIAL CUERPO OFICIAL DE BOMBEROS, tiene únicamente los siguientes deducibles aplicables:
B10: TERREMOTO, TEMBLOR, ERUPCION VOLCANICA: | E10: 1,0% SOBRE EL VALOR DE LA PÉRDIDA, SIN MINIMO.
B11: ACTOS MAL INTENCIONADOS DE TERCEROS ASONADA, MOTÍN, CONMOCIÓN CIVIL O POPULAR Y HUELGA (INCLUIDO TERRORISMO Y SABOTAJE). | E11: 1,0% SOBRE EL VALOR DE LA PÉRDIDA, SIN MINIMO.
B12: DEMÁS EVENTOS Y/O AMPAROS | E12: 5,0% SOBRE EL VALOR DE LA PÉRDIDA, MINIMO 1SMMLV.
B13: PARÁMETROS PARA LA CALIFICACIÓN
B14: Para calificación del deducible se realizará aplicando los criterios aquí indicados y los puntajes señalados en las tablas de rangos relacionadas en estas.
B15: CALIFICACIÓN APLICABLE AL AMPARO DE TERREMOTO, TEMBLOR Y/O ERUPCIÓN VOLCÁNICA
B16: Las aseguradoras deben presentar únicamente propuestas de deducibles aplicables sobre el valor asegurado y/o valor asegurable, DEL ITEM AFECTADO DENTRO DEL PREDIO ASEGURADO para el amparo de Terremoto, temblor y/o erupción volcánica; propuestas que ofrezcan sobre el valor asegurado TOTAL y/o valor asegurable TOTAL, SERÁN OBJETO DE RECHAZO.
B17: De acuerdo con lo anterior y para los fines pertinentes de deducible y a efectos de la determinación del “valor asegurado o asegurable del ITEM AFECTADO DENTRO DEL PREDIO ASEGURADO”, se considerarán las siguientes definiciones:
B18: DEFINICIONES | E18: PREDIO ASEGURADO Es el sitio de ocurrencia del siniestro donde la Entidad lleva a cabo actividades y en el cual se encuentran contenidos los bienes asegurados, ya sea en uno o varios edificios o a la intemperie, si están diseñados para ello.
E19: ÍTEM AFECTADO Corresponde a la agrupación de bienes de iguales o similares características, tales como: Edificios, bienes muebles, equipos eléctricos, equipos electrónicos, maquinaria, equipo, mercancías, dineros y otros bienes de la Entidad en alcance de la definición establecida en las Anexo No. 1 Condiciones Obligatorias (Mínimas Técnicas).
E20: VALOR ASEGURADO O ASEGURABLE DEL ITEM AFECTADO DENTRO DEL PREDIO ASEGURADO Corresponde al monto asegurado o asegurable de los bienes contenidos en cada predio; es decir, los bienes correspondientes a los ítems de: Edificios, bienes muebles, equipos eléctricos, equipos electrónicos, maquinaria, equipo, mercancías, dineros y otros bienes de la Entidad en alcance de la definición establecida en las Anexo No. 1 Condiciones Obligatorias (Mínimas Técnicas).
E21: Se aclara que en caso de siniestro por pérdida o daño, que afecte solo algunos de los items antes citados, el valor asegurado o valor asegurable considerado para la aplicación del deducible corresponderá solamente al item o ítems correspondientes a los bienes afectados.
B22: TABLA DE CALIFICACIÓN
B24: Para efectos de la evaluación, se tendrán los siguientes ítems y puntajes: | E24: PUNTOS
B25: TERREMOTO, TEMBLOR Y/O ERUPCIÓN VOLCÁNICA: | E25: 2
B26: ACTOS MAL INTENCIONADOS DE TERCEROS ASONADA, MOTÍN, CONMOCIÓN CIVIL O POPULAR Y HUELGA (INCLUIDO TERRORISMO Y SABOTAJE). | E26: 2
B27: DEMÁS EVENTOS Y/O AMPAROS | E27: 6
B28: TOTAL PUNTOS | E28: =SUM(E25:H27) -> 10
B29: 1- TERREMOTO, TEMBLOR Y/O ERUPCIÓN VOLCÁNICA: dos (2) puntos.
B30: RANGO DE DEDUCIBLES | E30: PUNTAJE SOBRE EL VALOR DE LA PERDIDA
B31: Sin deducible | E31: 2,00 Puntos
B32: Superior a 0,0% y hasta 0,2% | E32: 1,80 Puntos
B33: Superior a 0,2% y hasta 0,4% | E33: 1,50 Puntos
B34: Superior a 0,4% y hasta 0,6% | E34: 1,00 Puntos
B35: Superior a 0,6% y hasta 0,8% | E35: 0,50 Puntos
B36: Superior a 0,8% y hasta 1,0% | E36: 0,05 Puntos
B37: Superior a 1,0% | E37: SE RECHAZA LA OFERTA
B38: 2- ACTOS MAL INTENCIONADOS DE TERCEROS ASONADA, MOTÍN, CONMOCIÓN CIVIL O POPULAR Y HUELGA (INCLUIDO TERRORISMO Y SABOTAJE): dos (2) puntos.
B39: RANGO DEL DEDUCIBLES | E39: PUNTAJE SOBRE EL VALOR DE LA PERDIDA
B40: Sin deducible | E40: 2,00 Puntos
B41: Superior a 0,0% y hasta 0,2% | E41: 1,80 Puntos
B42: Superior a 0,2% y hasta 0,4% | E42: 1,50 Puntos
...

Sheet G2. CALIF DEDUCIBLES CASCO
B2: UNIDAD ADMINISTRATIVA ESPECIAL CUERPO OFICIAL DE BOMBEROS -UAECOB
B3: FORMATO No. __ EVALUACIÓN DE DEDUCIBLES
B4: GRUPO No. 1
B5: 6. PÓLIZA DE CASCO BARCO
B6: OBJETO DEL SEGURO
B7: Amparar los daños y/o pérdidas y gastos en que tenga que incurrir la UNIDAD ADMINISTRATIVA ESPECIAL CUERPO OFICIAL DE BOMBEROS -UAECOB, a consecuencia de los riesgos a que está expuesta en el giro de las actividades desarrolladas con el equipo marítimo y fluvial y demás embarcaciones incluyendo sus equipos y accesorios, de propiedad o por las que sea legalmente responsable la UNIDAD ADMINISTRATIVA ESPECIAL CUERPO OFICIAL DE BOMBEROS -UAECOB, así como los daños a bienes y/o lesiones y/o muerte de terceros, por causa de accidentes en el giro propio de su misionalidad.
B8: INFORMACIÓN GENERAL:
B9: TOMADOR: | C9: =+B2 -> UNIDAD ADMINISTRATIVA ESPECIAL CUERPO OFICIAL DE BOMBEROS -UAECOB | I9: NIT. | J9: 899.999.061-9
B10: ASEGURADO: | C10: =+B2 -> UNIDAD ADMINISTRATIVA ESPECIAL CUERPO OFICIAL DE BOMBEROS -UAECOB | I10: NIT. | J10: =+J9 -> 899.999.061-9
B11: BENEFICIARIO: | C11: =+B2 -> UNIDAD ADMINISTRATIVA ESPECIAL CUERPO OFICIAL DE BOMBEROS -UAECOB | I11: NIT. | J11: =+J9 -> 899.999.061-9
B13: Los criterios establecidos tienen como objeto que la Entidad pueda obtener los mejores deducibles que le permitan lograr la mayor indemnización posible, frente a las pérdidas que pueda sufrir derivadas de un evento súbito e imprevisto que no depende de la voluntad del asegurado.
B14: DEDUCIBLES ACTUALES Y MÁXIMOS ACEPTABLES:
B15: Actualmente la UNIDAD ADMINISTRATIVA ESPECIAL CUERPO OFICIAL DE BOMBEROS -UAECOB, tiene únicamente el siguiente deducible aplicable:
B16: TODA Y CADA PÉRDIDA | E16: 0,45 SMMLV SOBRE EL VALOR DE LA PÉRDIDA.
B17: NOTA: Para efectos de la evaluación y en aquellas tablas en los cuales se tengan rangos, en caso que el oferente indique "SE OTORGA" ó "SI" u otra expresión que implica que si esta otorgando el deducible, la Entidad entenderá que estos deducibles fueron ofrecidos con el valor del MÍNIMO RANGO y por lo tanto se asignará el puntaje respectivo de este rango y la aseguradora en caso de ser adjudicada su propuesta, expedirá la póliza con las condiciones mínimas de ese criterio en particular.
B18: TABLA DE CALIFICACIÓN
B20: Para efectos de la evaluación, se tendrán los siguientes ítems y puntajes: | E20: PUNTOS
B21: TODA Y CADA PÉRDIDA | E21: 5
B22: TOTAL PUNTOS | E22: =(E21) -> 5
B23: 1- TODA Y CADA PÉRDIDA: CINCO (5) puntos
B24: RANGO DE DEDUCIBLES PORCENTUAL | E24: PUNTAJE SOBRE EL VALOR DE LA PERDIDA | I24: DEDUCIBLE OFERTADO | J24: PUNTOS OBTENIDOS
B25: Sin deducible | E25: 5,00 Puntos | I25: (INDICAR EL DEDUCIBLE OFERTADO) | J25: (INDICAR EL DEDUCIBLE OFERTADO)
B26: Superior a 0,0 SMMLV y hasta 0, 10 SMMLV | E26: 4,00 Puntos
B27: Superior a 0,10 SMMLV y hasta 0,25 SMMLV | E27: 3,00 Puntos
B28: Superior a 0,25 SMMLV y hasta 0,35 SMMLV | E28: 2,00 Puntos
B29: Superior a 0,35 SMMLV y hasta 0,40 SMMLV | E29: 1,00 Puntos
B30: Superior a 0,45 SMMLV | E30: SE RECHAZA LA OFERTA
B31: By: Tiger | J31: VERSIÓN: MAR 2025

Sheet G1. CALIF DEDUCIBLES CASCO BARC
B2: =+'G1. CALIF. DED. TR EQyMAQ'!$B$2 -> UNIDAD ADMINISTRATIVA ESPECIAL CUERPO OFICIAL DE BOMBEROS
B3: Formato No 4 Mejora en deducibls por evaluar
B4: GRUPO No. 1
B5: 4. PÓLIZA DE CASCO BARCO
B6: OBJETO DEL SEGURO
B7: Amparar los daños y/o pérdidas y gastos en que tenga que incurrir la UNIDAD ADMINISTRATIVA ESPECIAL CUERPO OFICIAL DE BOMBEROS -UAECOB, a consecuencia de los riesgos a que está expuesta en el giro de las actividades desarrolladas con el equipo marítimo y fluvial y demás embarcaciones incluyendo sus equipos y accesorios, de propiedad o por las que sea legalmente responsable la UAECOB, así como los daños a bienes y/o lesiones y/o muerte de terceros, por causa de accidentes en el giro propio de su misionalidad.
B8: INFORMACIÓN GENERAL:
B9: TOMADOR: | C9: =+'G1. CALIF. DED. TR EQyMAQ'!B2 -> UNIDAD ADMINISTRATIVA ESPECIAL CUERPO OFICIAL DE BOMBEROS | I9: NIT. | J9: =+'G2- RIESGO CYBER'!J9 -> 899.999.061-9
B10: ASEGURADO: | C10: =+C9 -> UNIDAD ADMINISTRATIVA ESPECIAL CUERPO OFICIAL DE BOMBEROS | I10: NIT. | J10: =+J9 -> 899.999.061-9
B11: BENEFICIARIO: | C11: =+C10 -> UNIDAD ADMINISTRATIVA ESPECIAL CUERPO OFICIAL DE BOMBEROS | I11: NIT. | J11: =+J9 -> 899.999.061-9
B12: CRITERIOS DE EVALUACIÓN:
B13: Los criterios establecidos tienen como objeto que la Entidad pueda obtener los mejores deducibles que le permitan lograr la mayor indemnización posible, frente a las pérdidas que pueda sufrir derivadas de un evento súbito e imprevisto que no depende de la voluntad del asegurado.
B14: DEDUCIBLES ACTUALES:
B15: Actualmente la UNIDAD ADMINISTRATIVA ESPECIAL CUERPO OFICIAL DE BOMBEROS -UAECOB, tiene únicamente el siguiente deducible aplicable:
B16: TODA Y CADA PÉRDIDA: | E16: TODA Y CADA PÉRDIDA: 0,45 SMMLV SOBRE EL VALOR DE LA PÉRDIDA.
B17: NOTA: Para efectos de la evaluación y en aquellas tablas en los cuales se tengan rangos, en caso que el oferente indique "SE OTORGA" ó "SI" u otra expresión que implica que si esta otorgando el deducible, la Entidad entenderá que estos deducibles fueron ofrecidos con el valor del MÍNIMO RANGO y por lo tanto se asignará el puntaje respectivo de este rango y la aseguradora en caso de ser adjudicada su propuesta, expedirá la póliza con las condiciones mínimas de ese criterio en particular.
B18: TABLA DE CALIFICACIÓN
B20: Para efectos de la evaluación, se tendrán los siguientes ítems y puntajes: | E20: PUNTOS | I20: DEDUCIBLE OFERTADO | J20: PUNTOS OBTENIDOS
B21: TODA Y CADA PÉRDIDA | E21: 10 | I21: (INDICAR EL DEDUCIBLE OFERTADO)
B22: TOTAL PUNTOS | E22: =SUM(E21:H21) -> 10
B23: 1- TODA Y CADA PÉRDIDA: diez (10) puntos
B24: RANGO DE DEDUCIBLES PORCENTUAL | E24: PUNTAJE SOBRE EL VALOR DE LA PERDIDA | I24: DEDUCIBLE OFERTADO | J24: PUNTOS OBTENIDOS
B25: Sin deducible | E25: 10,00 Puntos | I25: (INDICAR EL DEDUCIBLE OFERTADO)
B26: Superior a 0,0% y hasta 0,10% | E26: 8,00 Puntos
B27: Superior a 0,10% y hasta 0,20% | E27: 6,00 Puntos
B28: Superior a 0,20% y hasta 0,30% | E28: 4,00 Puntos
B29: Superior a 0,30% y hasta 0,45% | E29: 2,00 Puntos
B30: Superior a 0,45% | E30: SE RECHAZA LA OFERTA
B31: By: Tiger | J31: =+'G1. CALIF. DED. TR EQyMAQ'!H61 -> VERSIÓN: ABR 2026

Sheet G2- RIESGO CYBER
B2: =+'G1. CALIF DEDUCIBLES CASCO BARC'!B2 -> UNIDAD ADMINISTRATIVA ESPECIAL CUERPO OFICIAL DE BOMBEROS
B3: Formato No 4 Mejora en deducibls por evaluar
B4: GRUPO No. 2
B5: 5. PÓLIZA DE RIESGO CIBERNÉTICO (RESPONSABILIDAD CIVIL PROTECCIÓN DE DATOS)
B6: OBJETO DEL SEGURO
B7: Cubrir las pérdidas patrimoniales y Gastos de Defensa por la eventual responsabilidad de la UNIDAD ADMINISTRATIVA ESPECIAL CUERPO OFICIAL DE BOMBEROS -UAECOB, por pérdidas o daños ocasionados a terceros, y por los daños o pérdidas a sus propios bienes e intereses, derivados de situaciones de riesgo en el manejo de información, que son objeto de la cobertura de la póliza, dentro y fuera del Territorio Nacional.
B8: INFORMACIÓN GENERAL:
B9: TOMADOR: | C9: =+'G2. CALIF DEDUCIBLES CASCO'!C9 -> UNIDAD ADMINISTRATIVA ESPECIAL CUERPO OFICIAL DE BOMBEROS -UAECOB | I9: NIT. | J9: 899.999.061-9
B10: ASEGURADO: | C10: =+C9 -> UNIDAD ADMINISTRATIVA ESPECIAL CUERPO OFICIAL DE BOMBEROS -UAECOB | I10: NIT. | J10: =+J9 -> 899.999.061-9
B11: BENEFICIARIO: | C11: =+C9 -> UNIDAD ADMINISTRATIVA ESPECIAL CUERPO OFICIAL DE BOMBEROS -UAECOB | I11: NIT. | J11: =+J9 -> 899.999.061-9
B12: CRITERIOS DE EVALUACIÓN:
B13: Los criterios establecidos tienen como objeto que la Entidad pueda obtener los mejores deducibles que le permitan lograr la mayor indemnización posible, frente a las pérdidas que pueda sufrir derivadas de un evento súbito e imprevisto que no depende de la voluntad del asegurado.
B14: DEDUCIBLES ACTUALES:
B15: Actualmente UNIDAD ADMINISTRATIVA ESPECIAL CUERPO OFICIAL DE BOMBEROS -UAECOB, tiene únicamente los siguientes deducibles aplicables:
B16: TODA Y CADA PÉRDIDA | E16: TODA Y CADA PÉRDIDA: $200.000.000
B17: Para calificación del deducible se realizará aplicando los criterios aquí indicados y los puntajes señalados en las tablas de rangos relacionadas en estas.
B18: TABLA DE CALIFICACIÓN
B20: Para efectos de la evaluación, se tendrán los siguientes ítems y puntajes: | E20: PUNTOS
B21: 1- TODA Y CADA PÉRDIDA | E21: 10
B22: TOTAL PUNTOS | E22: =SUM(E21:H21) -> 10
B23: NOTA: Para efectos de la evaluación y en aquellas tablas en los cuales se tengan rangos, en caso que el oferente indique "SE OTORGA" ó "SI" u otra expresión que implica que si esta otorgando el deducible, la Entidad entenderá que estos deducibles fueron ofrecidos con el valor del MÍNIMO RANGO y por lo tanto se asignará el puntaje respectivo de este rango y la aseguradora en caso de ser adjudicada su propuesta, expedirá la póliza con las condiciones mínimas de ese criterio en particular.
B24: Se aclara que en caso de siniestro por pérdida o daño, que afecte solo algunos de los items antes citados, el valor asegurado o valor asegurable considerado para la aplicación del deducible corresponderá solamente al item o ítems correspondientes a los bienes afectados.
B25: 1- TODA Y CADA PÉRDIDA: Diez (10) puntos
B26: RANGO DE DEDUCIBLES EN PESOS | E26: PUNTAJE SOBRE EL VALOR DE LA PERDIDA | I26: DEDUCIBLE OFERTADO | J26: PUNTOS OBTENIDOS
B27: Sin deducible | E27: 10,00 Puntos | I27: (INDICAR EL DEDUCIBLE OFERTADO)
B28: Superior a $50.000.000 y hasta $100.000.000 | E28: 8,00 Puntos
B29: Superior a $100.000.000 y hasta $150.000.000 | E29: 5,00 Puntos
B30: Superior a $150.000.000 y hasta $170.000.000 | E30: 3,00 Puntos
B31: Superior a $170.000.000 y hasta $200.000.000 | E31: 1,00 Puntos
B32: Superior a $200.000.000 | E32: SE RECHAZA LA OFERTA
B33: By: Tiger | J33: =+'G1. CALIF DEDUCIBLES CASCO BARC'!$J$31 -> VERSIÓN: ABR 2026

Sheet G4. IRF
B2: UNIDAD ADMINISTRATIVA ESPECIAL CUERPO OFICIAL DE BOMBEROS
B3: Formato No 4 Mejora en deducibls por evaluar
B4: GRUPO No. 4
B5: 6. PÓLIZA DE INFIDELIDAD Y RIESGOS FINANCIEROS
B6: CRITERIOS DE EVALUACIÓN:
B7: Amparar a la UNIDAD ADMINISTRATIVA ESPECIAL CUERPO OFICIAL DE BOMBEROS-UAECOB, las pérdidas, gastos y daños como consecuencia de actos deshonestos o fraudulentos cometidos por empleados del asegurado, solos o en concurso con otros, o con terceros, con la intención manifiesta de hacer que el asegurado sufra dicha pérdida. Se extienen el objeto del seguro a amparar el patrimonio del asegurado por la pérdida o daños de bienes propios y no propios por los cuales el Asegurado sea responsable tales como dineros efectivo y dinero en todas sus formas y representaciones, títulos valores y cualquier documento y forma material o inmaterial de representación de dinero, como consecuencia de los riesgos a que está expuesto el Asegurado en el giro normal de su actividad social.
B8: DEDUCIBLES ACTUAL | E8: MÁXIMOS ACEPTABLES:
B9: TODA Y CADA PÉRDIDA | E9: 40000000
B10: PARÁMETROS PARA LA CALIFICACIÓN
B11: Para calificación del deducible se realizará aplicando los criterios aquí indicados y los puntajes señalados en las tablas de rangos relacionadas en estas.
B12: TABLA DE CALIFICACIÓN
B14: Para efectos de la evaluación, se tendrán los siguientes ítems y puntajes: | E14: PUNTOS
B15: 1- TODA Y CADA PÉRDIDA | E15: 10
B16: TOTAL PUNTOS | E16: =SUM(E15:H15) -> 10
B17: 1- TODA Y CADA PÉRDIDA: Diez (10) puntos
B18: RANGO DE DEDUCIBLES | E18: PUNTAJE SOBRE EL VALOR DE LA PERDIDA
B19: Sin deducible | E19: 10,00 Puntos
B20: Superior a $0 y hasta $10.000.000 | E20: 9,00 Puntos
B21: Superior a $10.000.000 y hasta $20.000.000 | E21: 7,00 Puntos
B22: Superior a $20.000.000 y hasta $25.000.000 | E22: 5,00 Puntos
B23: Superior a $25.000.000 y hasta $30.000.000 | E23: 3,00 Puntos
B24: Superior a $30.000.000 y hasta $40.000.000 | E24: 0,50 Puntos
B25: Superior a $40.000.000 | E25: SE RECHAZA LA OFERTA
B26: By: Tiger | H26: =+'G2- RIESGO CYBER'!J33 -> VERSIÓN: ABR 2026

Sheet CALIF. DEDUCIBLES DRONES
B2: =+'G4. IRF'!B2 -> UNIDAD ADMINISTRATIVA ESPECIAL CUERPO OFICIAL DE BOMBEROS
B3: Formato No 4 Mejora en deducibls por evaluar
B4: GRUPO No. 5
B5: SEGURO CASCO AVIACIÓN (DRONES)
B6: OBJETO DEL SEGURO
B7: Amparar las pérdidas o daños y la responsabilidad civil frente a terceros y las pérdidas o daños materiales que afecten a las aeronaves no tripuladas (Drones) de propiedad de la UNIDAD ADMINISTRATIVA ESPECIAL CUERPO OFICIAL DE BOMBEROS -UAECOB, bajo su responsabilidad, tenencia y/o control, y en general los recibidos a cualquier titulo y/o por los que tenga algún interés asegurable. Acorde con las disposiciones legales que se encuentran en la Circular Reglamentaria No. 2 - REQUISITOS GENERALES DE AERONAVEGABILIDAD Y OPERACIÓN PARA AERONAVES PILOTEADAS A DISTANCIA (RPAS).
B8: INFORMACIÓN GENERAL:
B9: TOMADOR: | C9: =+B2 -> UNIDAD ADMINISTRATIVA ESPECIAL CUERPO OFICIAL DE BOMBEROS | I9: NIT. | J9: 899.999.061-9
B10: ASEGURADO: | C10: =+C9 -> UNIDAD ADMINISTRATIVA ESPECIAL CUERPO OFICIAL DE BOMBEROS | I10: NIT. | J10: =+J9 -> 899.999.061-9
B11: BENEFICIARIO: | C11: =+C9 -> UNIDAD ADMINISTRATIVA ESPECIAL CUERPO OFICIAL DE BOMBEROS | I11: NIT. | J11: =+J9 -> 899.999.061-9
B12: CRITERIOS DE EVALUACIÓN:
B13: Los criterios establecidos tienen como objeto que la UNIDAD ADMINISTRATIVA ESPECIAL CUERPO OFICIAL DE BOMBEROS -UAECOB, pueda obtener los mejores deducibles que le permitan lograr la mayor indemnización posible, frente a las pérdidas que pueda sufrir derivadas de un evento súbito e imprevisto que no depende de la voluntad del asegurado.
B14: DEDUCIBLES ACTUALES Y MÁXIMOS ACEPTABLES:
B15: Actualmente la UNIDAD ADMINISTRATIVA ESPECIAL CUERPO OFICIAL DE BOMBEROS -UAECOB, tiene únicamente los siguientes deducibles aplicables:
B16: CASCO | E16: 1% del valor acordado, aplicable a todas y cada una de las pérdidas Mínimo $200,000
B17: RESPONSABILIDAD CIVIL EXTRACONTRACTUAL (únicamente para daños a la propiedad): | E17: SIN DEDUCIBLE
B18: PARÁMETROS PARA LA CALIFICACIÓN
B19: TABLA DE CALIFICACIÓN
B21: Para efectos de la evaluación, se tendrán los siguientes ítems y puntajes: | F21: PUNTOS
B22: CASCO: | F22: 10
B23: TOTAL PUNTOS | F23: =SUM(F22:J22) -> 10
B24: NOTA: Para efectos de la evaluación y en aquellas tablas en los cuales se tengan rangos, en caso que el oferente indique "SE OTORGA" ó "SI" u otra expresión que implica que si esta otorgando el deducible, la Entidad entenderá que estos deducibles fueron ofrecidos con el valor del MÍNIMO RANGO y por lo tanto se asignará el puntaje respectivo de este rango y la aseguradora en caso de ser adjudicada su propuesta, expedirá la póliza con las condiciones mínimas de ese criterio en particular.
B25: 1- CASCO - TODA Y CADA PÉRDIDA: diez (10) puntos
B26: RANGO DEL DEDUCIBLES PORCENTUAL | E26: PUNTAJE SOBRE EL VALOR DE LA PERDIDA | I26: DEDUCIBLE OFERTADO | J26: PUNTAJE OBTENIDO
B27: Sin deducible | E27: 3 | I27: (INDICAR EL DEDUCIBLE OFERTADO)
B28: Superior a 0,00% y hasta 0,25% | E28: 2.5
B29: Superior a 0,25% y hasta 0,50% | E29: 2
B30: Superior a 0,50% y hasta 0,75% | E30: 1
B31: Superior a 0,75% y hasta1.00% | E31: 0.5
B32: Superior a 1,00% | E32: SE RECHAZA LA OFERTA
B33: RANGO DEL DEDUCIBLES MÍNIMO | E33: PUNTAJE SOBRE EL VALOR DE LA PERDIDA | I33: DEDUCIBLE OFERTADO | J33: PUNTAJE OBTENIDO
B34: Sin deducible | E34: 7 | I34: (INDICAR EL DEDUCIBLE OFERTADO)
B35: Superior a $0 y hasta $ 100.000 | E35: 5
B36: Superior a $100.000 y hasta $150.000 | E36: 3
B37: Superior a $150.000 y hasta $200.000 | E37: 1
B38: Superior a $200.000 | E38: SE RECHAZA LA OFERTA
B39: By: Tiger | E39: TOTAL PUNTOS | J39: =+J34+J27 -> 0
J40: =+'G1. CALIF. DEDUCIBLES TRDM'!J115 -> VERSIÓN: ABR 2026
