Workbook
Name \0: #REF!
Name \00: #REF!
Name \a: #REF!
Name \AA: [1]LIQUIDACION!#REF!
Name \b: [2]STRSUMM0!#REF!
Name \bb: [2]STRSUMM0!#REF!
Name \E: #REF!
Name \EE: #REF!
Name \G: #REF!
Name \k: '[3]7422CW00'!#REF!
Name \l: [4]STRSUMM0!#REF!
Name \M: #REF!
Name \ñ: '[5]7422CW00'!#REF!
Name \P: #REF!
Name \R: #REF!
Name \s: #REF!
Name \V: #REF!
Name \X: [0]!ERR
Name \Z: [0]!ERR
Name _________AFC1: [6]INV!$A$25:$D$28
Name _________AFC3: [6]INV!$F$25:$I$28
Name _________AFC5: [6]INV!$K$25:$N$28
Name _________BGC1: [6]INV!$A$5:$D$8
Name _________BGC3: [6]INV!$F$5:$I$8
Name _________BGC5: [6]INV!$K$5:$N$8
Name _________CAC1: [6]INV!$A$19:$D$22
Name _________CAC3: [6]INV!$F$19:$I$22
Name _________CAC5: [6]INV!$K$19:$N$22
Name _________PJ50: #REF!
Name _________SBC1: [6]INV!$A$12:$D$15
Name _________SBC3: [6]INV!$F$12:$I$15
Name _________SBC5: [6]INV!$K$12:$N$15
Name ________AFC1: [6]INV!$A$25:$D$28
Name ________AFC3: [6]INV!$F$25:$I$28
Name ________AFC5: [6]INV!$K$25:$N$28
Name ________BGC1: [6]INV!$A$5:$D$8
Name ________BGC3: [6]INV!$F$5:$I$8
Name ________BGC5: [6]INV!$K$5:$N$8
Name ________CAC1: [6]INV!$A$19:$D$22
Name ________CAC3: [6]INV!$F$19:$I$22
Name ________CAC5: [6]INV!$K$19:$N$22
Name ________MA2: #REF!
Name ________PJ50: #REF!
Name ________SBC1: [6]INV!$A$12:$D$15
Name ________SBC3: [6]INV!$F$12:$I$15
Name ________SBC5: [6]INV!$K$12:$N$15
Name _______AFC1: [6]INV!$A$25:$D$28
Name _______AFC3: [6]INV!$F$25:$I$28
Name _______AFC5: [6]INV!$K$25:$N$28
Name _______BGC1: [6]INV!$A$5:$D$8
Name _______BGC3: [6]INV!$F$5:$I$8
Name _______BGC5: [6]INV!$K$5:$N$8
Name _______CAC1: [6]INV!$A$19:$D$22
Name _______CAC3: [6]INV!$F$19:$I$22
Name _______CAC5: [6]INV!$K$19:$N$22
Name _______MA2: #REF!
Name _______PJ50: #REF!
Name _______SBC1: [6]INV!$A$12:$D$15
Name _______SBC3: [6]INV!$F$12:$I$15
Name _______SBC5: [6]INV!$K$12:$N$15

Sheet Datos
B2: CONTROL DOCUMENTO
B4: VERSIÓN | C4: 1
B6: FECHA | C6: DD | D6: MM | E6: AAAA
C7: 19 | D7: 6 | E7: 2026
B9: ENTIDAD: | C9: CONSEJO SUPERIOR DE JUDICATURA– DIRECCIÓN EJECUTIVA SECCIONAL DE ADMINISTRACIÓN JUDICIAL DE BUCARAMANGA
B11: TIPO DE CONTRATO: | C11: SELECCIÓN ABREVIADA DE OBRA PÚBLICA DE INFRAESTRUCTURA SOCIAL
B12: OBJETO: | C12: CONTRATAR EN NOMBRE DE LA NACIÓN– CONSEJO SUPERIOR DE JUDICATURA– DIRECCIÓN EJECUTIVA SECCIONAL DE ADMINISTRACIÓN JUDICIAL DE BUCARAMANGA, MEDIANTE EL SISTEMA DE PRECIOS UNITARIOS FIJOS SIN FORMULA DE REAJUSTE, LA OBRA CIVIL PARA EL REFORZAMIENTO ESTRUCTURAL DE LA SEDE JUDICIAL DE CONFINES SANTANDER, ASÍ COMO LA OBRA ELÉCTRICA, DE ILUMINACIÓN Y DEMÁS REQUERIDAS EN DICHA EDIFICACIÓN, EN LAS CONDICIONES TÉCNICAS, DE CALIDAD Y CANTIDADES EXIGIDAS POR LA ENTIDAD.
B13: N° CONTRATO: | C13: BGA - 030 - 2026
B14: UBICACIÓN DEL PROYECTO: | C14: CONFINES, SANTANDER
B16: COSTOS INDIRECTOS (A.I.U) | E16: =+SUM(E18:E20) -> 0.31
B17: DESCRIPCIÓN | E17: [%]
B18: ADMINISTRACION | E18: 0.25
B19: IMPREVISTOS | E19: 0.01
B20: UTILIDAD | E20: 0.05
B22: COSTOS INDIRECTOS (A) SUMINISTROS | E22: =E23 -> 0
B23: ADMINISTRACION SUMINISTROS / PGIO | E23: 0
B25: DURACIÓN [MESES] | E25: 3
B27: CONSULTOR: | C27: SASERCO SAS

Sheet Menu
C3: =+CONCATENATE("PRESUPUESTO DEL PROYECTO A PARTIR DE LOS ",Datos!C12) -> PRESUPUESTO DEL PROYECTO A PARTIR DE LOS CONTRATAR EN NOMBRE DE LA NACIÓN– CONSEJO SUPERIOR DE JUDICATURA– DIRECCIÓN EJECUTIVA SECCIONAL DE ADMINISTRACIÓN JUDICIAL DE BUCARAMANGA, MEDIANTE EL SISTEMA DE PRECIOS UNITARIOS FIJOS SIN FORMULA DE REAJUSTE, LA OBRA CIVIL PARA EL REFORZAMIENTO ESTRUCTURAL DE LA SEDE JUDICIAL DE CONFINES SANTANDER, ASÍ COMO LA OBRA ELÉCTRICA, DE ILUMINACIÓN Y DEMÁS REQUERIDAS EN DICHA EDIFICACIÓN, EN LAS CONDICIONES TÉCNICAS, DE CALIDAD Y CANTIDADES EXIGIDAS POR LA ENTIDAD.
C18: Versión: | D18: =+Datos!$C$4 -> 1
C19: Fecha: | D19: =_xludf.CONCAT(Datos!C7,"/",Datos!D7,"/",Datos!E7) -> #NAME? | I19: =+Datos!$C$27 -> SASERCO SAS

Sheet Materiales
D2: =+Datos!$C$9 -> CONSEJO SUPERIOR DE JUDICATURA– DIRECCIÓN EJECUTIVA SECCIONAL DE ADMINISTRACIÓN JUDICIAL DE BUCARAMANGA | F2: VERSIÓN | H2: =Datos!C4 -> 1
F3: PÁGINA
D4: =+Datos!$C$12 -> CONTRATAR EN NOMBRE DE LA NACIÓN– CONSEJO SUPERIOR DE JUDICATURA– DIRECCIÓN EJECUTIVA SECCIONAL DE ADMINISTRACIÓN JUDICIAL DE BUCARAMANGA, MEDIANTE EL SISTEMA DE PRECIOS UNITARIOS FIJOS SIN FORMULA DE REAJUSTE, LA OBRA CIVIL PARA EL REFORZAMIENTO ESTRUCTURAL DE LA SEDE JUDICIAL DE CONFINES SANTANDER, ASÍ COMO LA OBRA ELÉCTRICA, DE ILUMINACIÓN Y DEMÁS REQUERIDAS EN DICHA EDIFICACIÓN, EN LAS CONDICIONES TÉCNICAS, DE CALIDAD Y CANTIDADES EXIGIDAS POR LA ENTIDAD. | F4: 1 | G4: DE | H4: 1
F5: FECHA
D6: LISTADO DE PRECIOS DE MATERIALES E INSUMOS | F6: DD | G6: MM | H6: AAAA
F7: =+Datos!$C$7 -> 19 | G7: =+Datos!$D$7 -> 6 | H7: =+Datos!$E$7 -> 2026
B9: FECHA PRECIOS: | C9: 46054
B10: IPC | C10: 0
B12: 1 | C12: 2 | D12: 3 | E12: 4 | F12: 5 | G12: 6 | H12: 7 | J12: PROMEDIO | K12: COT. 1 | M12: COT. 2 | O12: COT. 3
B13: CÓD. | C13: REF. MATERIAL | D13: DESCRIPCIÓN ÍTEM | E13: PRECIO SIN IVA | F13: U.M. | G13: MARCA | H13: PRECIO IVA INC. | I13: PRECIO BASE | J13: PRECIO IVA INC. | K13: PROVEEDOR | L13: PRECIO IVA INC. | M13: PROVEEDOR | N13: PRECIO IVA INC. | O13: PROVEEDOR | P13: PRECIO IVA INC.
B14: MATERIALES OBRA CIVIL
B15: MAT_C-01 | C15: A. CIVILES | D15: AGUA | E15: =+H15/1.19 -> 38.655462 | F15: LT | H15: =ROUNDUP($J15*(1+$C$10),0) -> 46 | J15: =IFERROR(AVERAGEIF($K$13:$P$13,"PRECIO IVA INC.",K15:P15),) -> 45.575 | K15: amb | L15: 50 | M15: LIMPIEZA URBANA | N15: 41.15
B16: MAT_C-02 | C16: A. CIVILES | D16: ARENA FINA1 | E16: =+H16/1.19 -> 69815.126 | F16: M3 | H16: =ROUNDUP($J16*(1+$C$10),0) -> 83080 | J16: =IFERROR(AVERAGEIF($K$13:$P$13,"PRECIO IVA INC.",K16:P16),) -> 83080 | K16: ING MILTON | L16: =40000*1.19 -> 47600 | M16: MATPICO - SOCORRO | N16: 135000 | O16: ARENERA CHICAMOCHA | P16: 66640
B17: MAT_C-03 | C17: A. CIVILES | D17: ARENA GRUESA | E17: =+H17/1.19 -> 72616.807 | F17: M3 | H17: =ROUNDUP($J17*(1+$C$10),0) -> 86414 | J17: =IFERROR(AVERAGEIF($K$13:$P$13,"PRECIO IVA INC.",K17:P17),) -> 86413.333 | K17: ROCO SAS | L17: 57600 | M17: MATPICO - SOCORRO | N17: 135000 | O17: ARENERA CHICAMOCHA | P17: 66640
B18: MAT_C-04 | C18: A. CIVILES | D18: ARENA PAREJA DE MONPOSTERIA | E18: =+H18/1.19 -> 0 | F18: M3 | H18: =ROUNDUP($J18*(1+$C$10),0) -> 0 | J18: =IFERROR(AVERAGEIF($K$13:$P$13,"PRECIO IVA INC.",K18:P18),) -> 0
B19: MAT_C-05 | C19: A. CIVILES | D19: BALDE | E19: =+H19/1.19 -> 19243.697 | F19: UND | H19: =ROUNDUP($J19*(1+$C$10),0) -> 22900 | J19: =IFERROR(AVERAGEIF($K$13:$P$13,"PRECIO IVA INC.",K19:P19),) -> 22900 | K19: HOMECENTER | L19: 22900
B20: MAT_C-06 | C20: A. CIVILES | D20: BASE GRANULAR | E20: =+H20/1.19 -> 65200 | F20: M3 | H20: =ROUNDUP($J20*(1+$C$10),0) -> 77588 | J20: =IFERROR(AVERAGEIF($K$13:$P$13,"PRECIO IVA INC.",K20:P20),) -> 77588 | K20: ING MILTON | L20: =75000*1.19 -> 89250 | M20: ARENERA CHICAMOCHA | N20: 65926
B21: MAT_C-07 | C21: A. CIVILES | D21: BLOQUE LISO #10 9 X 19 X 39 CM | E21: =+H21/1.19 -> 0 | F21: UND | H21: =ROUNDUP($J21*(1+$C$10),0) -> 0 | J21: =IFERROR(AVERAGEIF($K$13:$P$13,"PRECIO IVA INC.",K21:P21),) -> 0
B22: MAT_C-08 | C22: A. CIVILES | D22: BOLO DE RIO | E22: =+IF(H22="","",H22/1.19) -> 49300 | F22: M3 | H22: =ROUNDUP($J22*(1+$C$10),0) -> 58667 | J22: =IFERROR(AVERAGEIF($K$13:$P$13,"PRECIO IVA INC.",K22:P22),) -> 58667 | K22: ARENERA CHICAMOCHA | L22: 58667
B23: MAT_C-09 | C23: A. CIVILES | D23: BOLO PARA FILTRO | E23: =+IF(H23="","",H23/1.19) -> 54600 | F23: M3 | H23: =ROUNDUP($J23*(1+$C$10),0) -> 64974 | J23: =IFERROR(AVERAGEIF($K$13:$P$13,"PRECIO IVA INC.",K23:P23),) -> 64974 | K23: ARENERA CHICAMOCHA | L23: =56000*1.19 -> 66640 | M23: ARENERA CHICAMOCHA | N23: =53200*1.19 -> 63308
B24: MAT_C-10 | C24: A. CIVILES | D24: CANCAMO EN L 3/4PG | E24: =+IF(H24="","",H24/1.19) -> 428.57143 | F24: UND | H24: =ROUNDUP($J24*(1+$C$10),0) -> 510 | J24: =IFERROR(AVERAGEIF($K$13:$P$13,"PRECIO IVA INC.",K24:P24),) -> 510 | K24: HOMECENTER | L24: 510
B25: MAT_C-11 | C25: A. CIVILES | D25: CEMENTO BLANCO | E25: =+H25/1.19 -> 2295.7983 | F25: KG | H25: =ROUNDUP($J25*(1+$C$10),0) -> 2732 | J25: =IFERROR(AVERAGEIF($K$13:$P$13,"PRECIO IVA INC.",K25:P25),) -> 2731.6667 | K25: HOMECENTER | L25: =39900/20 -> 1995 | M25: ALDIA | N25: 2800 | O25: COMDIRECTO | P25: 3400
B26: MAT_C-12 | C26: A. CIVILES | D26: CEMENTO GRIS | E26: =+H26/1.19 -> 978.15126 | F26: KG | H26: =ROUNDUP($J26*(1+$C$10),0) -> 1164 | J26: =IFERROR(AVERAGEIF($K$13:$P$13,"PRECIO IVA INC.",K26:P26),) -> 1163.53 | K26: HOMECENTER | L26: 790.59 | M26: ALDIA | N26: 1200 | O26: COMDIRECTO | P26: 1500
B27: MAT_C-13 | C27: A. CIVILES | D27: CEMENTO TIPO PORTLAN 50 Kg | E27: =+H27/1.19 -> 31736.975 | F27: UND | H27: =ROUNDUP($J27*(1+$C$10),0) -> 37767 | J27: =IFERROR(AVERAGEIF($K$13:$P$13,"PRECIO IVA INC.",K27:P27),) -> 37766.667 | K27: HOMECENTER | L27: 33500 | M27: ALDIA | N27: 34900 | O27: COMDIRECTO | P27: 44900
B28: MAT_C-14 | C28: A. CIVILES | D28: CINTA SEÑALIZACIÓN PELIGRO-NO PASE 500M | E28: =+H28/1.19 -> 47357.143 | F28: UND | H28: =ROUNDUP($J28*(1+$C$10),0) -> 56355 | J28: =IFERROR(AVERAGEIF($K$13:$P$13,"PRECIO IVA INC.",K28:P28),) -> 56355 | K28: HOMECENTER | L28: 2610 | M28: ALDIA | N28: 110100
B29: MAT_C-15 | C29: A. CIVILES | D29: CINTA SEÑALIZACIÓN PELIGRO-NO PASE 100M | E29: =+H29/1.19 -> 19075.63 | F29: UND | H29: =ROUNDUP($J29*(1+$C$10),0) -> 22700 | J29: =IFERROR(AVERAGEIF($K$13:$P$13,"PRECIO IVA INC.",K29:P29),) -> 22700 | K29: HOMECENTER | L29: 20900 | M29: ALDIA | N29: 24500
B30: MAT_C-16 | C30: A. CIVILES | D30: COLOR MINERAL ROJO | E30: =+H30/1.19 -> 5756.3025 | F30: LB | H30: =ROUNDUP($J30*(1+$C$10),0) -> 6850 | J30: =IFERROR(AVERAGEIF($K$13:$P$13,"PRECIO IVA INC.",K30:P30),) -> 6850 | K30: HOMECENTER | L30: 9900 | M30: ALDIA | N30: 3800
B31: MAT_C-17 | C31: A. CIVILES | D31: CURADOR DE CONCRETO | E31: =+H31/1.19 -> 9867.2269 | F31: KG | H31: =ROUNDUP($J31*(1+$C$10),0) -> 11742 | J31: =IFERROR(AVERAGEIF($K$13:$P$13,"PRECIO IVA INC.",K31:P31),) -> 11742 | K31: HOMECENTER | L31: 13745 | M31: ALDIA | N31: =ROUNDUP(194779/20,0) -> 9739
B32: MAT_C-18 | C32: A. CIVILES | D32: DESENCOFRANTE PARA CONCRETO | E32: =+H32/1.19 -> 11621.008 | F32: KG | H32: =ROUNDUP($J32*(1+$C$10),0) -> 13829 | J32: =IFERROR(AVERAGEIF($K$13:$P$13,"PRECIO IVA INC.",K32:P32),) -> 13829 | K32: HOMECENTER | L32: =364900/20 -> 18245 | M32: ALDIA | N32: =ROUNDUP(188250/20,0) -> 9413
B33: MAT_C-19 | C33: A. CIVILES | D33: DESENGRASANTE LIQUIDO | E33: =+H33/1.19 -> 8.4033613 | F33: ML | H33: =ROUNDUP($J33*(1+$C$10),0) -> 10 | J33: =IFERROR(AVERAGEIF($K$13:$P$13,"PRECIO IVA INC.",K33:P33),) -> 9.975 | K33: HOMECENTER | L33: =39900/4000 -> 9.975
B34: MAT_C-20 | C34: A. CIVILES | D34: ESCOBA | E34: =+H34/1.19 -> 10000 | F34: UND | H34: =ROUNDUP($J34*(1+$C$10),0) -> 11900 | J34: =IFERROR(AVERAGEIF($K$13:$P$13,"PRECIO IVA INC.",K34:P34),) -> 11900 | K34: HOMECENTER | L34: 11900
B35: MAT_C-21 | C35: A. CIVILES | D35: GRAVA LAVADA XM3 | E35: =+H35/1.19 -> 0 | F35: M3 | H35: =ROUNDUP($J35*(1+$C$10),0) -> 0 | J35: =IFERROR(AVERAGEIF($K$13:$P$13,"PRECIO IVA INC.",K35:P35),) -> 0
B36: MAT_C-22 | C36: A. CIVILES | D36: GRAVILLA TAMIZADA DE 1" - 1/8" | E36: =+H36/1.19 -> 0 | F36: M3 | H36: =ROUNDUP($J36*(1+$C$10),0) -> 0 | J36: =IFERROR(AVERAGEIF($K$13:$P$13,"PRECIO IVA INC.",K36:P36),) -> 0
B37: MAT_C-23 | C37: A. CIVILES | D37: GUADUA L=5m | E37: =+H37/1.19 -> 7142.8571 | F37: UND | H37: =ROUNDUP($J37*(1+$C$10),0) -> 8500 | J37: =IFERROR(AVERAGEIF($K$13:$P$13,"PRECIO IVA INC.",K37:P37),) -> 8500 | K37: DATA CAUCA | L37: 8500
B38: MAT_C-24 | C38: A. CIVILES | D38: GUANTE INDUSTRIAL | E38: =+H38/1.19 -> 9159.6639 | F38: UND | H38: =ROUNDUP($J38*(1+$C$10),0) -> 10900 | J38: =IFERROR(AVERAGEIF($K$13:$P$13,"PRECIO IVA INC.",K38:P38),) -> 10900 | K38: HOMECENTER | L38: 10900
B39: MAT_C-25 | C39: A. CIVILES | D39: LADRILLO H-15 | E39: =+H39/1.19 -> 2773.1092 | F39: UND | H39: =ROUNDUP($J39*(1+$C$10),0) -> 3300 | J39: =IFERROR(AVERAGEIF($K$13:$P$13,"PRECIO IVA INC.",K39:P39),) -> 3300 | K39: HOMECENTER | L39: 2800 | O39: COMDIRECTO | P39: 3800 | Q39: =L39*1.35 -> 3780
B40: MAT_C-26 | C40: A. CIVILES | D40: LADRILLO H-10 | E40: =+H40/1.19 -> 1680.6723 | F40: UND | H40: =ROUNDUP($J40*(1+$C$10),0) -> 2000 | J40: =IFERROR(AVERAGEIF($K$13:$P$13,"PRECIO IVA INC.",K40:P40),) -> 2000 | K40: HOMECENTER | L40: 1700 | O40: COMDIRECTO | P40: 2300 | Q40: =L40*1.35 -> 2295
B41: MAT_C-27 | C41: A. CIVILES | D41: LADRILLO LIMPIO | E41: =+H41/1.19 -> 2100.8403 | F41: UND | H41: =ROUNDUP($J41*(1+$C$10),0) -> 2500 | J41: =IFERROR(AVERAGEIF($K$13:$P$13,"PRECIO IVA INC.",K41:P41),) -> 2500 | K41: HOMECENTER | L41: 2500 | Q41: =L41*1.35 -> 3375
B42: MAT_C-28 | C42: A. CIVILES | D42: LADRILLO TOLETE 20x10x6 CM | E42: =+H42/1.19 -> 736.13445 | F42: UND | H42: =ROUNDUP($J42*(1+$C$10),0) -> 876 | J42: =IFERROR(AVERAGEIF($K$13:$P$13,"PRECIO IVA INC.",K42:P42),) -> 876 | K42: HOMECENTER | L42: 750 | M42: BUCARAMANGA | N42: 828 | O42: COMDIRECTO | P42: 1050
B43: MAT_C-29 | C43: A. CIVILES | D43: LAMINA GALV C-20 (0.85) 2X1M | E43: =+H43/1.19 -> 0 | F43: UND | H43: =ROUNDUP($J43*(1+$C$10),0) -> 0 | J43: =IFERROR(AVERAGEIF($K$13:$P$13,"PRECIO IVA INC.",K43:P43),) -> 0
...

Sheet M.O
E2: =+Datos!$C$9 -> CONSEJO SUPERIOR DE JUDICATURA– DIRECCIÓN EJECUTIVA SECCIONAL DE ADMINISTRACIÓN JUDICIAL DE BUCARAMANGA | P2: VERSIÓN | Q2: 0
E4: =+Datos!$C$12 -> CONTRATAR EN NOMBRE DE LA NACIÓN– CONSEJO SUPERIOR DE JUDICATURA– DIRECCIÓN EJECUTIVA SECCIONAL DE ADMINISTRACIÓN JUDICIAL DE BUCARAMANGA, MEDIANTE EL SISTEMA DE PRECIOS UNITARIOS FIJOS SIN FORMULA DE REAJUSTE, LA OBRA CIVIL PARA EL REFORZAMIENTO ESTRUCTURAL DE LA SEDE JUDICIAL DE CONFINES SANTANDER, ASÍ COMO LA OBRA ELÉCTRICA, DE ILUMINACIÓN Y DEMÁS REQUERIDAS EN DICHA EDIFICACIÓN, EN LAS CONDICIONES TÉCNICAS, DE CALIDAD Y CANTIDADES EXIGIDAS POR LA ENTIDAD. | P4: PÁGINA | Q4: 1 | R4: DE | S4: 1
P6: FECHA | Q6: DD | R6: MM | S6: AAAA
E7: ANALISIS DE PRECIOS DE MANO DE OBRA | Q7: =+Datos!$C$7 -> 19 | R7: =+Datos!$D$7 -> 6 | S7: =+Datos!$E$7 -> 2026
B11: 1. | C11: SALARIOS DE MANO DE OBRA
C13: Por Ley: | D13: Auxilio Transporte mensual | F13: 249095 | H13: Aux. Transp. Diario | J13: =F13/30 -> 8303.1667 | M13: Año Salario Minimo | O13: 2026
D14: Salario Minimo Mensual | F14: 1750905 | H14: Salario Min. Diario | J14: =F14/30 -> 58363.5
B16: 2. | C16: JORNALES DIARIOS DE MANO DE OBRA
C18: MAESTRO - CARPINTERO - ENCARGADO - ORNAMENTADOR - TOPÓGRAFO [DÍA] | I18: OFICIAL DE CONSTRUCCIÓN - ESTUCADOR - SOLDADOR - CADENERO [DÍA] | O18: AYUDANTE DE OBRA [DÍA]
C19: Salario (3 SMMLV) | E19: =(3*F14)/30 -> 175090.5 | I19: Salario (2 SMMLV) | K19: =+(F14*2)/30 -> 116727 | O19: Salario (1 SMMLV) | Q19: =(+F14/30)*1.1 -> 64199.85 | R19: =+Q19-J14 -> 5836.35
C20: Aux. Transporte | E20: =+J13 -> 8303.1667 | I20: Aux. Transporte | K20: =+J13 -> 8303.1667 | O20: Aux. Transporte | Q20: =+J13 -> 8303.1667
F21: Jornal Total | G21: =+SUM(E19:E20) -> 183393.67 | L21: Jornal Total | M21: =+SUM(K19:K20) -> 125030.17 | R21: Jornal Total | S21: =+SUM(Q19:Q20) -> 72503.017
B24: 3. | C24: CÁLCULO DE PRESTACIONES
C26: Prestaciones Legales | G26: Aportes Patronales | K26: Otros Aportes | O26: Valor Total prestaciones | Q26: =+E31+I31+M31 -> 0.6673
C27: Cesantias por Ley | E27: 0.0833 | G27: Caja de Compensacion | I27: 0.04 | K27: Dotación | M27: 0.0664
C28: Intereses Sobre Cesantias | E28: 0.01 | G28: SENA | I28: 0.02 | K28: Implementos Seguridad | M28: 0.015
C29: Primas Anuales | E29: 0.0833 | G29: ICBF | I29: 0.03 | K29: FIC | M29: 0.003
C30: Vacaciones | E30: 0.0417 | G30: Salud, Pensión, ARP | I30: =8.5%+12%+6.96% -> 0.2746
D31: Subtotal | E31: =+SUM(E27:E30) -> 0.2183 | H31: Subtotal | I31: =+SUM(I27:I30) -> 0.3646 | L31: Subtotal | M31: =M27+M28+M29 -> 0.0844
B33: 4. | C33: CÁLCULO DE DESCANSOS REMUNERADOS
C35: Tiempo pagado y no laborado | F35: 0.0013333333
C36: Mayor valor prestacional por tiempo | F36: =+((6.25)/30)% -> 0.0020833333
C37: TOTAL DESCANSOS REMUNERADOS | F37: =SUM(F35:F36) -> 0.0034166667
B39: 5. | C39: CÁLCULO DE VALORES DE CUADRILLAS
C41: BASES DEL CÁLCULO | H41: CUADRILLA AA [Albañilería] | J41: CUADRILLA BB [Instalaciones varias] | L41: CUADRILLA CC [Pinturas] | N41: CUADRILLA DD [Carpintería Madera] | P41: CUADRILLA EE [Cableado Estructurado] | R41: CUADRILLA FF [Eléctricas]
H42: 1 OFICIAL + 1 AYUDANTE | J42: 1 OFICIAL + 1 AYUDANTE | L42: 1 OFICIAL + 1 ESTUCADOR + 1 AYUDANTE | N42: 1 CARPINTERO + 1 AYUDANTE | P42: 2 OFICIALES | R42: 1 ENCARGADO (30%) + 1 OFICIAL + 1 AYUDANTE
H43: CANT. | I43: VR. PARCIAL | J43: CANT. | K43: VR. PARCIAL | L43: CANT. | M43: VR. PARCIAL | N43: CANT. | O43: VR. PARCIAL | P43: CANT. | Q43: VR. PARCIAL | R43: CANT. | S43: VR. PARCIAL
C44: Ayudante | H44: 1 | I44: =+H44*$S$21 -> 72503.017 | J44: 1 | K44: =+J44*$S$21 -> 72503.017 | L44: 1 | M44: =+L44*$S$21 -> 72503.017 | N44: 1 | O44: =+N44*$S$21 -> 72503.017 | P44: 0 | Q44: =+P44*$S$21 -> 0 | R44: 1 | S44: =+R44*$S$21 -> 72503.017
C45: Oficial | H45: 1 | I45: =+H45*$M$21 -> 125030.17 | J45: 1 | K45: =+J45*$M$21 -> 125030.17 | L45: 1 | M45: =+L45*$M$21 -> 125030.17 | N45: 0 | O45: =+N45*$M$21 -> 0 | P45: 2 | Q45: =+P45*$M$21 -> 250060.33 | R45: 1 | S45: =+R45*$M$21 -> 125030.17
C46: Estucador | H46: 0 | I46: 0 | J46: 0 | K46: 0 | L46: 1 | M46: =+L46*$M$21 -> 125030.17 | N46: 0 | O46: =+N46*$M$21 -> 0 | P46: 0 | Q46: 0 | R46: 0 | S46: =+R46*$M$21 -> 0
C47: Encargado de obra eléctrica (30%) | H47: 0 | I47: 0 | J47: 0 | K47: 0 | L47: 0 | M47: 0 | N47: 0 | O47: =+N47*$M$21 -> 0 | P47: 0 | Q47: 0 | R47: 1 | S47: =+R47*$G$21*0.3 -> 55018.1
C48: Carpintero | H48: 0 | I48: 0 | J48: 0 | K48: 0 | L48: 0 | M48: 0 | N48: 1 | O48: =+N48*$G$21 -> 183393.67 | P48: 0 | Q48: 0 | R48: 0 | S48: =+R48*$M$21 -> 0
C49: Jornal total diario base | I49: =SUM(I44:I48) -> 197533.18 | K49: =SUM(K44:K48) -> 197533.18 | M49: =SUM(M44:M48) -> 322563.35 | O49: =SUM(O44:O48) -> 255896.68 | Q49: =SUM(Q44:Q48) -> 250060.33 | S49: =SUM(S44:S48) -> 252551.28
C50: Prestaciones sociales | H50: =+$E$31 -> 0.2183 | I50: =+I49*H50 -> 43121.494 | J50: =+$E$31 -> 0.2183 | K50: =+K49*J50 -> 43121.494 | L50: =+$E$31 -> 0.2183 | M50: =+M49*L50 -> 70415.579 | N50: =+$E$31 -> 0.2183 | O50: =+O49*N50 -> 55862.246 | P50: =+$E$31 -> 0.2183 | Q50: =+Q49*P50 -> 54588.171 | R50: =+$E$31 -> 0.2183 | S50: =+S49*R50 -> 55131.945
C51: Aportes Patronales | H51: =+$I$31 -> 0.3646 | I51: =+H51*I49 -> 72020.599 | J51: =+$I$31 -> 0.3646 | K51: =+J51*K49 -> 72020.599 | L51: =+$I$31 -> 0.3646 | M51: =+L51*M49 -> 117606.6 | N51: =+$I$31 -> 0.3646 | O51: =+N51*O49 -> 93299.931 | P51: =+$I$31 -> 0.3646 | Q51: =+P51*Q49 -> 91171.998 | R51: =+$I$31 -> 0.3646 | S51: =+R51*S49 -> 92080.198
C52: Otros Aportes | H52: =+$M$31 -> 0.0844 | I52: =+H52*I49 -> 16671.801 | J52: =+$M$31 -> 0.0844 | K52: =+J52*K49 -> 16671.801 | L52: =+$M$31 -> 0.0844 | M52: =+L52*M49 -> 27224.347 | N52: =+$M$31 -> 0.0844 | O52: =+N52*O49 -> 21597.68 | P52: =+$M$31 -> 0.0844 | Q52: =+P52*Q49 -> 21105.092 | R52: =+$M$31 -> 0.0844 | S52: =+R52*S49 -> 21315.328
C53: Descansos remunerados | H53: =+$F$37 -> 0.0034166667 | I53: =+H53*I49 -> 674.90504 | J53: =+$F$37 -> 0.0034166667 | K53: =+J53*K49 -> 674.90504 | L53: =+$F$37 -> 0.0034166667 | M53: =+L53*M49 -> 1102.0914 | N53: =+$F$37 -> 0.0034166667 | O53: =+N53*O49 -> 874.31367 | P53: =+$F$37 -> 0.0034166667 | Q53: =+P53*Q49 -> 854.37281 | R53: =+$F$37 -> 0.0034166667 | S53: =+R53*S49 -> 862.88355
C54: Incremento variables | H54: 0 | I54: =+H54*I49 -> 0 | J54: 0 | K54: =+J54*I55 -> 0 | L54: 0 | M54: =+L54*I55 -> 0 | N54: 0 | O54: =+N54*I55 -> 0 | P54: 0 | Q54: =+P54*K55 -> 0 | R54: 0 | S54: =+R54*M55 -> 0
C55: TOTAL CUADRILLA [DIA] | I55: =SUM(I49:I54) -> 330021.98 | K55: =SUM(K49:K54) -> 330021.98 | M55: =SUM(M49:M54) -> 538911.96 | O55: =SUM(O49:O54) -> 427530.85 | Q55: =SUM(Q49:Q54) -> 417779.97 | S55: =SUM(S49:S54) -> 421941.64
C56: TOTAL CUADRILLA [HH] HORA-HOMBRE | I56: =I55/8 -> 41252.748 | K56: =K55/8 -> 41252.748 | M56: =+M55/8 -> 67363.996 | O56: =O55/8 -> 53441.357 | Q56: =Q55/8 -> 52222.496 | S56: =S55/8 -> 52742.705
...

Sheet Equipos
D2: =+Datos!$C$9 -> CONSEJO SUPERIOR DE JUDICATURA– DIRECCIÓN EJECUTIVA SECCIONAL DE ADMINISTRACIÓN JUDICIAL DE BUCARAMANGA | F2: VERSIÓN | H2: =Datos!B3 -> 0
D4: =+Datos!$C$12 -> CONTRATAR EN NOMBRE DE LA NACIÓN– CONSEJO SUPERIOR DE JUDICATURA– DIRECCIÓN EJECUTIVA SECCIONAL DE ADMINISTRACIÓN JUDICIAL DE BUCARAMANGA, MEDIANTE EL SISTEMA DE PRECIOS UNITARIOS FIJOS SIN FORMULA DE REAJUSTE, LA OBRA CIVIL PARA EL REFORZAMIENTO ESTRUCTURAL DE LA SEDE JUDICIAL DE CONFINES SANTANDER, ASÍ COMO LA OBRA ELÉCTRICA, DE ILUMINACIÓN Y DEMÁS REQUERIDAS EN DICHA EDIFICACIÓN, EN LAS CONDICIONES TÉCNICAS, DE CALIDAD Y CANTIDADES EXIGIDAS POR LA ENTIDAD. | F4: PÁGINA
F5: 1 | G5: DE | H5: 1
F6: FECHA
D7: LISTADO DE PRECIOS DE EQUIPOS | F7: DD | G7: MM | H7: AAAA
F8: =+Datos!$C$7 -> 19 | G8: =+Datos!$D$7 -> 6 | H8: =+Datos!$E$7 -> 2026
B11: 1 | C11: 2 | D11: 3 | E11: 4 | F11: 5 | G11: 6 | H11: 7
B12: CÓD. | C12: ID. | D12: DESCRIPCIÓN ÍTEM | E12: PRECIO SIN IVA | F12: U.M. | G12: REFERENCIA | H12: PRECIO IVA INC. | I12: TIPO EQU | L12: PRECIO
B13: EQ-01 | C13: - | D13: MEZCLADORA DE CONCRETO 1 BULTO | E13: =+H13/1.19 -> 11625 | F13: HR | G13: - | H13: =(93000*1.19)/8 -> 13833.75 | I13: CIVIL | L13: GARCIA VEGA
B14: EQ-02 | C14: - | D14: EQUIPOS COMPLETO DE TOPOGRAFIA | E14: =+H14/1.19 -> 126050.42 | F14: HR | G14: - | H14: =150000 -> 150000 | I14: CIVIL | L14: JORGE
B15: EQ-03 | C15: - | D15: RETROEXCAVADORA | E15: =+H15/1.19 -> 162815.13 | F15: HR | G15: - | H15: =1550000/8 -> 193750 | I15: CIVIL | L15: GALAN
B16: EQ-04 | C16: - | D16: EQUIPO DEMOLEDOR HEXAGONAL | E16: =+H16/1.19 -> 21625 | F16: HR | G16: - | H16: =(173000*1.19)/8 -> 25733.75 | I16: CIVIL | L16: GARCIA VEGA
B17: EQ-05 | C17: - | D17: CORTADORA DE PAVIMENTO | E17: =+H17/1.19 -> 6054.6069 | F17: HR | G17: - | H17: 7204.9822 | I17: CIVIL | J17: =IF(F17="HR",H17*8,0) -> 57639.858
B18: EQ-06 | C18: - | D18: COMPRESOR DE 70 A 120 HP, CON MARTILLO | E18: =+H18/1.19 -> 56378.151 | F18: HR | G18: - | H18: =((111000*1.19*8)-(65000*8))/8 -> 67090 | I18: CIVIL | J18: =IF(F18="HR",H18*8,0) -> 536720 | L18: GARCIA VEGA
B19: EQ-07 | C19: - | D19: MINICARGADOR | E19: =+H19/1.19 -> 131000 | F19: HR | G19: - | H19: =131000*1.19 -> 155890 | I19: CIVIL | J19: =IF(F19="HR",H19*8,0) -> 1247120 | L19: GARCIA VEGA
B20: EQ-08 | C20: - | D20: ENTIBADO METÁLICO PROF. 0.0-2.50M, INCLUYE ACCESORIOS PARA INSTALACIÓN | E20: =+H20/1.19 -> 478.48442 | F20: HR | G20: KRINGS | H20: 569.39646 | I20: CIVIL | J20: =IF(F20="HR",H20*8,0) -> 4555.1717
B21: EQ-09 | C21: - | D21: ENTIBADO METÁLICO PROF. 2.5-6.00M, INCLUYE ACCESORIOS PARA INSTALACIÓN | E21: =+H21/1.19 -> 875.89824 | F21: HR | G21: KRINGS | H21: =987.98*1.055 -> 1042.3189 | I21: CIVIL | J21: =IF(F21="HR",H21*8,0) -> 8338.5512
B22: EQ-11 | C22: - | D22: RETROEXCAVADORA SOBRE ORUGAS DE PROF. EXCAVACIÓN MÍNIMA DE 6,0 M | E22: 126653.5 | F22: HR | G22: INVIAS 2022-2 | H22: 211960.79 | I22: CIVIL | J22: =IF(F22="HR",H22*8,0) -> 1695686.3
B23: EQ-12 | C23: - | D23: COMPACTADOR MANUAL TIPO SALTARÍN | E23: =+H23/1.19 -> 18250 | F23: HR | H23: =(146000*1.19)/8 -> 21717.5 | I23: CIVIL | J23: =IF(F23="HR",H23*8,0) -> 173740 | L23: GARCIA VEGA
B24: EQ-13 | C24: - | D24: VIBRADOR DE CONCRETO | E24: =+H24/1.19 -> 107000 | F24: DIA | G24: - | H24: =(107000*1.19) -> 127330 | I24: CIVIL | L24: GARCIA VEGA
B25: EQ-14 | C25: - | D25: FORMALETA METALICA | E25: =+H25/1.19 -> 1115.4861 | F25: M2 | G25: - | H25: =(735.486111111111+120+90+170)*1.19 -> 1327.4285 | I25: CIVIL | J25: =IF(F25="HR",H25*8,0) -> 0
B26: EQ-15 | C26: - | D26: ANDAMIO METALICO TUBULAR | E26: =+H26/1.19 -> 23788.007 | F26: DIA | G26: - | H26: 28307.728 | I26: CIVIL | J26: =IF(F26="HR",H26*8,0) -> 0
B27: EQ-16 | C27: - | D27: GUADAÑADORA CILINDRAJE 38-58 CM3 | E27: =+H27/1.19 -> 151260.5 | F27: DIA | H27: 180000 | I27: CIVIL | J27: =IF(F27="HR",H27*8,0) -> 0 | L27: GALAN
B28: EQ-17 | C28: - | D28: ANDAMIO CON TABLAS DE SEGURIDAD | E28: =+H28/1.19 -> 164285.71 | F28: DIA | G28: - | H28: =170000*1.15 -> 195500 | I28: CIVIL | J28: =IF(F28="HR",H28*8,0) -> 0
B29: EQ-18 | C29: - | D29: ANDAMIO DE SEGURIDAD | E29: =+H29/1.19 -> 164285.71 | F29: DIA | G29: - | H29: =170000*1.15 -> 195500 | I29: CIVIL | J29: =IF(F29="HR",H29*8,0) -> 0
B30: EQ-19 | C30: - | D30: EQUIPO DE SOLDADURA | E30: =+H30/1.19 -> 6633.8235 | F30: HR | G30: - | H30: 7894.25 | I30: CIVIL | J30: =IF(F30="HR",H30*8,0) -> 63154
B31: EQ-20 | C31: - | D31: PULIDORA ELECTRICA 4 1/2" | E31: =+H31/1.19 -> 57983.193 | F31: DIA | G31: - | H31: =60000*1.15 -> 69000 | I31: CIVIL | J31: =IF(F31="HR",H31*8,0) -> 0
B32: EQ-21 | C32: - | D32: EQUIPO DE PINTURA (COMPRESOR) | E32: =+H32/1.19 -> 17690.196 | F32: HR | G32: - | H32: 21051.333 | I32: CIVIL | J32: =IF(F32="HR",H32*8,0) -> 168410.67
B33: EQ-22 | D33: PISTOLA PARA APLICAR ADHESIVO EPÓXICO | E33: =+H33/1.19 -> 9508.4804 | F33: HR | G33: - | H33: 11315.092 | I33: CIVIL | J33: =IF(F33="HR",H33*8,0) -> 90520.733
B34: EQ-23 | C34: - | D34: TALADRO | E34: =+H34/1.19 -> 3316.9118 | F34: HR | G34: - | H34: 3947.125 | I34: CIVIL | J34: =IF(F34="HR",H34*8,0) -> 31577
B35: EQ-24 | C35: - | D35: MOTOSIERRA | E35: =+H35/1.19 -> 53070.588 | F35: DIA | G35: - | H35: 63154 | I35: CIVIL | J35: =IF(F35="HR",H35*8,0) -> 0
B36: EQ-25 | C36: - | D36: TALADRO INDUSTRIAL CON BROCA DE 1" | E36: =+H36/1.19 -> 106302.52 | F36: DIA | G36: - | H36: =110000*1.15 -> 126500 | I36: CIVIL | J36: =IF(F36="HR",H36*8,0) -> 0
B37: EQ-26 | C37: - | D37: TALADRO Y BROCA | E37: =+H37/1.19 -> 57983.193 | F37: DIA | G37: - | H37: =60000*1.15 -> 69000 | I37: CIVIL | J37: =IF(F37="HR",H37*8,0) -> 0
B38: EQ-27 | C38: - | D38: MOTOBOMBA DE IMPULSIÓN PARA CONCRETO | E38: =+H38/1.19 -> 68549.51 | F38: HR | G38: - | H38: 81573.917 | I38: CIVIL | J38: =IF(F38="HR",H38*8,0) -> 652591.33
B39: EQ-28 | C39: - | D39: ALLANADORA MECANICA 5HP | E39: 58823.529 | F39: DIA | G39: - | H39: =70000*1.055 -> 73850 | I39: CIVIL | J39: =IF(F39="HR",H39*8,0) -> 0
B40: EQ-29 | C40: - | D40: EQUIPO DE IZAJE | E40: =+H40/1.19 -> 42890.037 | F40: HR | G40: INVIAS 2022-2 | H40: 51039.144 | I40: CIVIL | J40: =IF(F40="HR",H40*8,0) -> 408313.16
B41: EQ-30 | C41: - | D41: ANDAMIO TUBULAR ESTÁNDAR 1.5 X 1.5M - ALQUILER | E41: =+H41/1.19 -> 630.2521 | F41: DIA | H41: 750 | I41: CIVIL | J41: =IF(F41="HR",H41*8,0) -> 0
B42: EQ-31 | D42: PLANTA ELÉCTRICA 3000 WATTS -4000 WATTS | E42: 121070.52 | F42: HR | G42: INVIAS 2022-2 | H42: 144073.92 | I42: CIVIL | J42: =IF(F42="HR",H42*8,0) -> 1152591.4
B43: EQ-32 | D43: ENTIBADO METÁLICO, INCLUYE PERFILES Y ACCESORIOS PARA INSTALACIÓN | E43: =H43/1.19 -> 35420.168 | F43: M2 | H43: 42150 | I43: CIVIL | J43: =IF(F43="HR",H43*8,0) -> 0
B44: EQ-33 | D44: CORTADORA MANUAL DE PORCELANATO HIT 1600 PLUS RUBI | E44: =H44/1.19 -> 49431.933 | F44: DIA | H44: =ROUND(1000000/(17),0) -> 58824 | I44: CIVIL | J44: =IF(F44="HR",H44*8,0) -> 0
...

Sheet Transportes
D2: =+Datos!$C$9 -> CONSEJO SUPERIOR DE JUDICATURA– DIRECCIÓN EJECUTIVA SECCIONAL DE ADMINISTRACIÓN JUDICIAL DE BUCARAMANGA | F2: VERSIÓN | H2: =Datos!B3 -> 0
D4: =+Datos!$C$12 -> CONTRATAR EN NOMBRE DE LA NACIÓN– CONSEJO SUPERIOR DE JUDICATURA– DIRECCIÓN EJECUTIVA SECCIONAL DE ADMINISTRACIÓN JUDICIAL DE BUCARAMANGA, MEDIANTE EL SISTEMA DE PRECIOS UNITARIOS FIJOS SIN FORMULA DE REAJUSTE, LA OBRA CIVIL PARA EL REFORZAMIENTO ESTRUCTURAL DE LA SEDE JUDICIAL DE CONFINES SANTANDER, ASÍ COMO LA OBRA ELÉCTRICA, DE ILUMINACIÓN Y DEMÁS REQUERIDAS EN DICHA EDIFICACIÓN, EN LAS CONDICIONES TÉCNICAS, DE CALIDAD Y CANTIDADES EXIGIDAS POR LA ENTIDAD. | F4: PÁGINA
F5: 1 | G5: DE | H5: 1
F6: FECHA
D7: LISTADO DE PRECIOS DE TRANSPORTES | F7: DD | G7: MM | H7: AAAA
F8: =+Datos!$C$7 -> 19 | G8: =+Datos!$D$7 -> 6 | H8: =+Datos!$E$7 -> 2026
B10: DISTANCIAS
B11: 1 | C11: 2 | D11: 3 | E11: 4 | F11: 5 | G11: 6 | H11: 7
B12: CÓD. | C12: REF. | D12: DESCRIPCIÓN ÍTEM | E12: PRECIO IVA INC. | F12: U.M. | G12: DISTANCIA o CANT | H12: PRECIO
B13: D-01 | C13: - | D13: DISTANCIA A CANTERA (SOCORRO - CONFINES) | E13: 118600 | F13: M3-KM | G13: =AVERAGE($K$14,$K$39) -> 50.85 | H13: =+E13/G13 -> 2332.35
B14: D-02 | D14: DISTANCIA A PROVEEDOR MATERIALES (SOCORRO - CONFINES) | E14: 118600 | F14: M3-KM | G14: =AVERAGE($K$14,$K$39) -> 50.85 | H14: =IFERROR(E14/G14,) -> 2332.35 | J14: Cantera 1: GRISELA ESTHER HERNANDEZ ROZO | K14: 59.3 | L14: km
B15: D-03 | D15: DISTANCIA A ESCOMBRERA AUTORIZADA | E15: 10000 | F15: - | G15: =MAX($K$60,$K$81) -> 46.8 | H15: =IFERROR(E15/G15,) -> 213.67521
B16: D-04 | D16: DISTANCIA A PROVEEDOR ACERO (SOCORRO - CONFINES) | E16: 2965 | F16: KG-KM | G16: =AVERAGE($K$14,$K$39) -> 50.85 | H16: =IFERROR(E16/G16,) -> 58.308751
B17: D-05 | D17: DERECHOS DE DISPOSICIÓN DE MATERIALES Y/O EXPLOTACIÓN (SOCORRO) | E17: 8100 | F17: M3 | G17: 1 | H17: =IFERROR(E17/G17,) -> 8100
B18: D-06 | D18: TRASIEGO INTERNO DE MATERIALES DISTANCIAS MENORES A 100 METROS | E18: 15000 | F18: M3-M | G18: 100 | H18: =IFERROR(E18/G18,) -> 150
B19: D-07 | D19: DISTANCIA A PROVEEDOR MATERIALES (SOCORRO - CONFINES) | E19: 2965 | F19: KG-KM | G19: =AVERAGE($K$14,$K$39) -> 50.85 | H19: =IFERROR(E19/G19,) -> 58.308751
B20: D-08 | D20: DISTANCIA A PROVEEDOR ELECTRICO | F20: FLETE | H20: =IFERROR(E20/G20,) -> 0
B21: D-09 | D21: DISTANCIA A PROVEEDOR ENTIBADO | F21: T-KM | H21: =IFERROR(E21/G21,) -> 0
B22: D-10 | D22: TRANSPORTE EN VOLQUETA DE MATERIAL | E22: 2000 | F22: M3-KM | G22: 1 | H22: =IFERROR(E22/G22,) -> 2000
B23: D-11 | D23: DISTANCIA RURAL | F23: KM | H23: =IFERROR(E23/G23,) -> 0 | J23: MODIFICAR
B25: FECHA PRECIOS: | C25: 45078
B26: 1 | C26: 2 | D26: 3 | E26: 4 | F26: 5 | G26: 6 | H26: 7
B27: CÓD. | C27: REF. | D27: DESCRIPCIÓN ÍTEM | E27: PRECIO SIN IVA | F27: U.M. | G27: DISTANCIA o CANT | H27: PRECIO IVA INC.
D29: OBRA CIVIL
B30: T-01 | C30: - | D30: TRANSPORTE DE MATERIALES ACERO | E30: - | F30: KG-KM | G30: =+G16 -> 50.85 | H30: =+H16 -> 58.308751
B31: T-02 | D31: TRANSPORTE DE MATERIALES | E31: - | F31: M3-KM | G31: =+G14 -> 50.85 | H31: =+H14 -> 2332.35
B32: T-03 | C32: - | D32: TRANSPORTE DE AGREGADOS | E32: - | F32: M3-KM | G32: =+G13 -> 50.85 | H32: =+H13 -> 2332.35
B33: T-04 | D33: TRANSPORTE DE MATERIAL SOBRANTE | E33: - | F33: M3-KM | G33: =+G15 -> 46.8 | H33: =+H15 -> 213.67521
B34: T-05 | C34: - | D34: DERECHOS DE DISPOSICIÓN DE MATERIALES Y/O EXPLOTACIÓN | E34: - | F34: M3 | G34: =+G17 -> 1 | H34: =+H17 -> 8100
B35: T-06 | C35: - | D35: TRANSPORTE DE MATERIALES KG | E35: - | F35: KG-KM | G35: =+G22 -> 1 | H35: =+H19 -> 58.308751
B36: T-07 | C36: - | D36: TRANSPORTE DE TUBERÍA Y ACCESORIOS | E36: - | F36: KG-KM | G36: =+G22 -> 1 | H36: =+H22 -> 2000
B37: T-08 | C37: - | D37: TRASIEGO INTERNO DE MATERIALES DISTANCIAS MENORES A 100 METROS | E37: - | F37: M3-M | G37: =+G18 -> 100 | H37: =+H18 -> 150
B38: T-09 | C38: - | D38: TRASIEGO INTERNO DE MATERIALES DISTANCIAS MENORES A 100 METROS (KG) | E38: - | F38: KG-M | G38: =+G18 -> 100 | H38: =+H19 -> 58.308751
B39: T-10 | C39: - | D39: FLETE NACIONAL ASEGURADO | E39: - | F39: TON | G39: 59.3 | H39: 120000 | J39: Cantera 1: ASOARENEROS SANPAV | K39: 42.4 | L39: Km
B40: T-11 | D40: TRANSPORTE DE MATERIAL SOBRANTE, RCE Y/O PRESTAMOS | E40: - | F40: M3-KM | G40: =+G22 -> 1 | H40: =+H22 -> 2000
B41: T-12 | C41: - | D41: TRANSPORTE DE ENTIBADO METÁLICO | E41: - | F41: T-KM | G41: - | H41: =+H28 -> 0
B42: T-13 | D42: VOLQUETA DE 6M3 | F42: DIA | H42: 450000
D43: ELECTRICOS
B44: T-13 | D44: TRANSPORTE MATERIAL ELÉCTRICO APARATOS Y TORNILLERIA | F44: KM | G44: 117 | H44: 45
B45: T-14 | D45: TRANSPORTE MATERIAL ELÉCTRICO CABLEADO PARA COMETIDAS | F45: KM | G45: 177 | H45: 10
...

Sheet AIU
D2: =+Datos!$C$9 -> CONSEJO SUPERIOR DE JUDICATURA– DIRECCIÓN EJECUTIVA SECCIONAL DE ADMINISTRACIÓN JUDICIAL DE BUCARAMANGA | F2: VERSIÓN | H2: =Datos!B3 -> 0
D4: =+Datos!$C$12 -> CONTRATAR EN NOMBRE DE LA NACIÓN– CONSEJO SUPERIOR DE JUDICATURA– DIRECCIÓN EJECUTIVA SECCIONAL DE ADMINISTRACIÓN JUDICIAL DE BUCARAMANGA, MEDIANTE EL SISTEMA DE PRECIOS UNITARIOS FIJOS SIN FORMULA DE REAJUSTE, LA OBRA CIVIL PARA EL REFORZAMIENTO ESTRUCTURAL DE LA SEDE JUDICIAL DE CONFINES SANTANDER, ASÍ COMO LA OBRA ELÉCTRICA, DE ILUMINACIÓN Y DEMÁS REQUERIDAS EN DICHA EDIFICACIÓN, EN LAS CONDICIONES TÉCNICAS, DE CALIDAD Y CANTIDADES EXIGIDAS POR LA ENTIDAD. | F4: PÁGINA
F5: 1 | G5: DE | H5: 1
F6: FECHA
D7: DESGLOSE AIU | F7: DD | G7: MM | H7: AAAA
F8: =+Datos!$C$7 -> 19 | G8: =+Datos!$D$7 -> 6 | H8: =+Datos!$E$7 -> 2026
B11: 1 | C11: 2 | D11: 3 | E11: 4 | F11: 5 | G11: 6 | H11: 7
B12: No | C12: CANT | D12: DESCRIPCIÓN | E12: DEDICACIÓN | F12: VALOR MENSUAL | G12: No. MESES | H12: VALOR TOTAL | J12: 1
B13: 1 | D13: PERSONAL ADMINISTRATIVO | H13: =+SUM(H14:H17) -> 51750000 | J13: =+H13/$J$12 -> 51750000
B14: 1.1 | C14: 1 | D14: DIRECTOR DE OBRA | E14: 0.5 | F14: 10000000 | G14: 3 | H14: =+C14*E14*F14*G14 -> 15000000 | J14: =+H14/$J$12 -> 15000000
B15: 1.2 | C15: 1 | D15: RESIDENTE DE OBRA | E15: 1 | F15: 5000000 | G15: =G14 -> 3 | H15: =+C15*E15*F15*G15 -> 15000000 | J15: =+H15/$J$12 -> 15000000
B16: 1.3 | C16: 1 | D16: ESPECIALISTA EN ESTRUCTURAS | E16: 0.5 | F16: 8000000 | G16: =G15 -> 3 | H16: =+C16*E16*F16*G16 -> 12000000 | J16: =+H16/$J$12 -> 12000000
B17: 1.6 | C17: 1 | D17: ESPECIALISTA EN GEOTECNIA | E17: 0.5 | F17: 6500000 | G17: =G14 -> 3 | H17: =+C17*E17*F17*G17 -> 9750000 | J17: =+H17/$J$12 -> 9750000
B18: 2 | D18: PERSONAL DE SOPORTE | H18: =+SUM(H19:H21) -> 17400000 | J18: =+H18/$J$12 -> 17400000
B19: 2.1 | C19: 1 | D19: PROFESIONAL AMBIENTAL | E19: 0.5 | F19: 3000000 | G19: =G17 -> 3 | H19: =+C19*E19*F19*G19 -> 4500000 | J19: =+H19/$J$12 -> 4500000
B20: 2.2 | C20: 1 | D20: PROFESIONAL SST | E20: 1 | F20: 3000000 | G20: =G19 -> 3 | H20: =+C20*E20*F20*G20 -> 9000000 | J20: =+H20/$J$12 -> 9000000
B21: 2.4 | C21: 1 | D21: ALMACENISTA | E21: 1 | F21: 1300000 | G21: =G14 -> 3 | H21: =+C21*E21*F21*G21 -> 3900000 | J21: =+H21/$J$12 -> 3900000
B22: 4 | D22: INSTALACIONES | H22: =+SUM(H23:H24) -> 5600000 | J22: =+H22/$J$12 -> 5600000
B23: 4.1 | C23: 1 | D23: ARRIENDO OFICINA INCLUYE SERVICIOS PÚBLICOS | E23: - | F23: 1500000 | G23: =G14 -> 3 | H23: =+C23*F23*G23 -> 4500000 | J23: =+H23/$J$12 -> 4500000
B24: 4.2 | C24: 1 | D24: VALLA INFORMATIVA | E24: - | F24: 1100000 | G24: 1 | H24: =+C24*F24 -> 1100000 | J24: =+H24/$J$12 -> 1100000
B25: 5 | D25: OTROS COSTOS | H25: =+SUM(H26:H27) -> 4500000 | J25: =+H25/$J$12 -> 4500000
B26: 5.1 | C26: 1 | D26: GASTOS DE PAPELERÍA Y PLANOS | E26: - | F26: 800000 | G26: =G14 -> 3 | H26: =+C26*F26*G26 -> 2400000 | J26: =+H26/$J$12 -> 2400000
B27: 5.2 | C27: 1 | D27: ENSAYOS Y PRUEBAS | E27: - | F27: 700000 | G27: =G14 -> 3 | H27: =+C27*F27*G27 -> 2100000 | J27: =+H27/$J$12 -> 2100000
J28: =+H28/$J$12 -> 0
B29: 6 | C29: Tasa % | D29: GARANTÍAS | E29: %Asegurado | F29: Valor base | G29: Vigencia [meses] | H29: =SUM(H35,H36,H37) -> 53282396 | J29: =+H29/$J$12 -> 53282396
B30: 6.1 | C30: 0.003 | D30: CUMPLIMIENTO | E30: 0.1 | F30: 5.1021892e+08 | G30: 17.33 | H30: =+C30*E30*F30*G30 -> 2652628.2 | J30: =+H30/$J$12 -> 2652628.2
B31: 6.2 | C31: 0.00275 | D31: SALARIOS Y PRESTACIONES SOCIALES | E31: 0.05 | F31: =F30 -> 5.1021892e+08 | G31: 41.833 | H31: =+C31*E31*F31*G31 -> 2934798.4 | J31: =+H31/$J$12 -> 2934798.4
B32: 6.3 | C32: 0.003 | D32: ESTABILIDAD DE LA OBRA | E32: 0.3 | F32: =F31 -> 5.1021892e+08 | G32: 41.833 | H32: =+C32*E32*F32*G32 -> 19209589 | J32: =+H32/$J$12 -> 19209589
B33: 6.4 | C33: 0.003 | D33: CALIDAD Y CORRECTO FUNCIONAMIENTO DE LOS BIENES Y EQUIPOS SUMINISTRADOS | E33: 0.3 | F33: =F32 -> 5.1021892e+08 | G33: 41.8333 | H33: =+C33*E33*F33*G33 -> 19209727 | J33: =+H33/$J$12 -> 19209727
B34: 6.5 | C34: 0.0035 | D34: RESPONSABILIDAD EXTRACONTRACTUAL | E34: 0.079107505 | F34: =F33 -> 5.1021892e+08 | G34: 5.333 | H34: =+C34*E34*F34*G34 -> 753379.64 | J34: =+H34/$J$12 -> 753379.64
G35: SUBTOTAL | H35: =SUM(H30:H34) -> 44760123
G36: GASTOS EXPEDICION | H36: 15000
G37: IVA | H37: =(SUM(H35:H36)*0.19) -> 8507273.3
B38: 8 | C38: Tasa % | D38: IMPUESTOS Y SEGUROS | F38: Valor base | H38: =+SUM(H39:H41) -> 38266419 | J38: =+H38/$J$12 -> 38266419
B39: 8.2 | C39: 0.04 | D39: ESTAMPILLA PRO ADULTO MAYOR | E39: - | F39: =F34 -> 5.1021892e+08 | G39: - | H39: =C39*F39 -> 20408757 | J39: =+H39/$J$12 -> 20408757
B40: 8.3 | C40: 0.02 | D40: ESTAMPILLA PRO CULTURA | E40: - | F40: =F39 -> 5.1021892e+08 | G40: - | H40: =C40*F40 -> 10204378 | J40: =+H40/$J$12 -> 10204378
B41: 8.4 | C41: 0.015 | D41: ESTAMPILLA PRO DEPORTE Y RECREACIÓN | E41: - | F41: =F40 -> 5.1021892e+08 | G41: - | H41: =C41*F41 -> 7653283.8 | J41: =+H41/$J$12 -> 7653283.8
G42: SUBTOTAL COSTOS DE ADMINISTRACION | H42: =H38+H29+H25+H22+H18+H13 -> 1.7079882e+08 | J42: =+H42/$J$12 -> 1.7079882e+08
G44: COSTO DIRECTO DE OBRA | H44: 0
E45: ADMINISTRACION | G45: =H42/(Presupuesto!#REF!) -> #REF! | H45: =ROUND(H42,0) -> 170798815 | I45: 0.31
...

Sheet Presupuesto
A2: CÓDIGOS:
C4: Código | D4: CCE-EICP-FM-47 | E4: Versión | F4: 1
C6: PRESUPUESTO DE OBRA
C7: =Datos!C12 -> CONTRATAR EN NOMBRE DE LA NACIÓN– CONSEJO SUPERIOR DE JUDICATURA– DIRECCIÓN EJECUTIVA SECCIONAL DE ADMINISTRACIÓN JUDICIAL DE BUCARAMANGA, MEDIANTE EL SISTEMA DE PRECIOS UNITARIOS FIJOS SIN FORMULA DE REAJUSTE, LA OBRA CIVIL PARA EL REFORZAMIENTO ESTRUCTURAL DE LA SEDE JUDICIAL DE CONFINES SANTANDER, ASÍ COMO LA OBRA ELÉCTRICA, DE ILUMINACIÓN Y DEMÁS REQUERIDAS EN DICHA EDIFICACIÓN, EN LAS CONDICIONES TÉCNICAS, DE CALIDAD Y CANTIDADES EXIGIDAS POR LA ENTIDAD.
C9: Nº | D9: ÍTEM DE PAGO | E9: ESPECIFICACIONES | G9: DESCRIPCIÓN | H9: UND. | I9: CANTIDAD | J9: VALOR UNITARIO | K9: VALOR TOTAL
E10: GENERAL | F10: PARTICULAR
D11: I. OBRA CIVIL SEDE JUDICIAL CONFINES | K11: =K102 -> 198500117
C12: 1 | D12: =IF(C12="","",VLOOKUP(C12,ListaAct,4,FALSE)) -> PRELIMINARES
D13: 1.1 | G13: =IF(D13="","",VLOOKUP(D13,ListaAct,4,FALSE)) -> Localizacion y replanteo | H13: =IF(D13="","",VLOOKUP(D13,ListaAct,5,FALSE)) -> m2 | I13: =IF(D13="","",VLOOKUP(D13,ListaAct,6,FALSE)) -> 130 | J13: =IF(D13="","",VLOOKUP(D13,ListaAct,7,FALSE)) -> 6608 | K13: =IF(D13="","",ROUND(J13*I13,0)) -> 859040
D14: 1.2 | G14: =IF(D14="","",VLOOKUP(D14,ListaAct,4,FALSE)) -> Instalacion de plastico negro para proteger construcción | H14: =IF(D14="","",VLOOKUP(D14,ListaAct,5,FALSE)) -> m2 | I14: =IF(D14="","",VLOOKUP(D14,ListaAct,6,FALSE)) -> 60 | J14: =IF(D14="","",VLOOKUP(D14,ListaAct,7,FALSE)) -> 10496 | K14: =IF(D14="","",ROUND(J14*I14,0)) -> 629760
D15: 1.3 | G15: =IF(D15="","",VLOOKUP(D15,ListaAct,4,FALSE)) -> Instalación durante la obra de cerramiento en polisombra sostenido con madera resistente apoyada en recipiente pesado no anclado al piso a una altura de 3.0 mts alrededor del juzgado separada 1,50 mts de las fachadas. | H15: =IF(D15="","",VLOOKUP(D15,ListaAct,5,FALSE)) -> ml | I15: =IF(D15="","",VLOOKUP(D15,ListaAct,6,FALSE)) -> 39.5 | J15: =IF(D15="","",VLOOKUP(D15,ListaAct,7,FALSE)) -> 79834 | K15: =IF(D15="","",ROUND(J15*I15,0)) -> 3153443
C16: Subtotal | K16: =+SUM(K13:K15) -> 4642243
C17: 2 | D17: =IF(C17="","",VLOOKUP(C17,ListaAct,4,FALSE)) -> DEMOLICIONES, DESCAPOTES Y RETIROS
D18: 2.1 | G18: =IF(D18="","",VLOOKUP(D18,ListaAct,4,FALSE)) -> Demolición de placa de concreto e=0,10 mts zona norte. | H18: =IF(D18="","",VLOOKUP(D18,ListaAct,5,FALSE)) -> m2 | I18: =IF(D18="","",VLOOKUP(D18,ListaAct,6,FALSE)) -> 4.51 | J18: =IF(D18="","",VLOOKUP(D18,ListaAct,7,FALSE)) -> 60382 | K18: =IF(D18="","",ROUND(J18*I18,0)) -> 272323
D19: 2.2 | G19: =IF(D19="","",VLOOKUP(D19,ListaAct,4,FALSE)) -> Demolición de pañete en mortero comun muros norte, sur y occidente en bahareque y tapia pisada interno y externo. | H19: =IF(D19="","",VLOOKUP(D19,ListaAct,5,FALSE)) -> m2 | I19: =IF(D19="","",VLOOKUP(D19,ListaAct,6,FALSE)) -> 161.35 | J19: =IF(D19="","",VLOOKUP(D19,ListaAct,7,FALSE)) -> 36403 | K19: =IF(D19="","",ROUND(J19*I19,0)) -> 5873624
D20: 2.3 | G20: =IF(D20="","",VLOOKUP(D20,ListaAct,4,FALSE)) -> Retiro de maleza en la zona norte del juzgado. | H20: =IF(D20="","",VLOOKUP(D20,ListaAct,5,FALSE)) -> m2 | I20: =IF(D20="","",VLOOKUP(D20,ListaAct,6,FALSE)) -> 8.5 | J20: =IF(D20="","",VLOOKUP(D20,ListaAct,7,FALSE)) -> 33746 | K20: =IF(D20="","",ROUND(J20*I20,0)) -> 286841
D21: 2.4 | G21: =IF(D21="","",VLOOKUP(D21,ListaAct,4,FALSE)) -> Desmonte de voladizo fachadas sur . Conservar teja de arcilla en lugar seguro para su reutilización | H21: =IF(D21="","",VLOOKUP(D21,ListaAct,5,FALSE)) -> ml | I21: =IF(D21="","",VLOOKUP(D21,ListaAct,6,FALSE)) -> 11.66 | J21: =IF(D21="","",VLOOKUP(D21,ListaAct,7,FALSE)) -> 44582 | K21: =IF(D21="","",ROUND(J21*I21,0)) -> 519826
D22: 2.5 | G22: =IF(D22="","",VLOOKUP(D22,ListaAct,4,FALSE)) -> Regata sobre muro desnudo tipo cajuela de 30 mm conservando los bordes y vertices, incluye superficie en lechada de cal apagada. | H22: =IF(D22="","",VLOOKUP(D22,ListaAct,5,FALSE)) -> ml | I22: =IF(D22="","",VLOOKUP(D22,ListaAct,6,FALSE)) -> 247.9 | J22: =IF(D22="","",VLOOKUP(D22,ListaAct,7,FALSE)) -> 19524 | K22: =IF(D22="","",ROUND(J22*I22,0)) -> 4840000
D23: 2.6 | G23: =IF(D23="","",VLOOKUP(D23,ListaAct,4,FALSE)) -> Retiro de pintura deteriorada de puertas, ventanas y capiteles en madera ambas caras hasta dejar superficie original. | H23: =IF(D23="","",VLOOKUP(D23,ListaAct,5,FALSE)) -> m2 | I23: =IF(D23="","",VLOOKUP(D23,ListaAct,6,FALSE)) -> 5.46 | J23: =IF(D23="","",VLOOKUP(D23,ListaAct,7,FALSE)) -> 14540 | K23: =IF(D23="","",ROUND(J23*I23,0)) -> 79388
D24: 2.7 | G24: =IF(D24="","",VLOOKUP(D24,ListaAct,4,FALSE)) -> Retiro de pañete en mal estado zonas no tradionales | H24: =IF(D24="","",VLOOKUP(D24,ListaAct,5,FALSE)) -> m2 | I24: =IF(D24="","",VLOOKUP(D24,ListaAct,6,FALSE)) -> 3 | J24: =IF(D24="","",VLOOKUP(D24,ListaAct,7,FALSE)) -> 24269 | K24: =IF(D24="","",ROUND(J24*I24,0)) -> 72807
C25: Subtotal | K25: =+SUM(K18:K24) -> 11944809
C26: 3 | D26: =IF(C26="","",VLOOKUP(C26,ListaAct,4,FALSE)) -> EXCAVACIONES
D27: 3.1 | G27: =IF(D27="","",VLOOKUP(D27,ListaAct,4,FALSE)) -> Excavación en material comun con retiro a lugar seguro de suelo costado norte | H27: =IF(D27="","",VLOOKUP(D27,ListaAct,5,FALSE)) -> m3 | I27: =IF(D27="","",VLOOKUP(D27,ListaAct,6,FALSE)) -> 10.85 | J27: =IF(D27="","",VLOOKUP(D27,ListaAct,7,FALSE)) -> 72806 | K27: =IF(D27="","",ROUND(J27*I27,0)) -> 789945
C28: Subtotal | G28: =IF(D28="","",VLOOKUP(D28,ListaAct,4,FALSE)) | H28: =IF(D28="","",VLOOKUP(D28,ListaAct,5,FALSE)) | I28: =IF(D28="","",VLOOKUP(D28,ListaAct,6,FALSE)) | J28: =IF(D28="","",VLOOKUP(D28,ListaAct,8,FALSE)) | K28: =+SUM(K27:K27) -> 789945
C29: 4 | D29: =IF(C29="","",VLOOKUP(C29,ListaAct,4,FALSE)) -> PERFORACIONES
D30: 4.1 | G30: =IF(D30="","",VLOOKUP(D30,ListaAct,4,FALSE)) -> Perforaciones en muro de contención de 1" según plano con instalación de geodren NT 2000 o similar. | H30: =IF(D30="","",VLOOKUP(D30,ListaAct,5,FALSE)) -> m2 | I30: =IF(D30="","",VLOOKUP(D30,ListaAct,6,FALSE)) -> 6.41 | J30: =IF(D30="","",VLOOKUP(D30,ListaAct,7,FALSE)) -> 115410 | K30: =IF(D30="","",ROUND(J30*I30,0)) -> 739778
D31: 4.2 | G31: =IF(D31="","",VLOOKUP(D31,ListaAct,4,FALSE)) -> Perforaciones en muros de bahareque y tapia pisada con broca especial y tecnica de protección sin perdida o arrastre del material del muro con inyección de lechada tradicional. | H31: =IF(D31="","",VLOOKUP(D31,ListaAct,5,FALSE)) -> m2 | I31: =IF(D31="","",VLOOKUP(D31,ListaAct,6,FALSE)) -> 152.78 | J31: =IF(D31="","",VLOOKUP(D31,ListaAct,7,FALSE)) -> 72197 | K31: =IF(D31="","",ROUND(J31*I31,0)) -> 11030258
C32: Subtotal | K32: =+SUM(K30:K31) -> 11770036
C33: 5 | D33: =IF(C33="","",VLOOKUP(C33,ListaAct,4,FALSE)) -> RELLENOS
D34: 5.1 | G34: =IF(D34="","",VLOOKUP(D34,ListaAct,4,FALSE)) -> Relleno con material seleccionado y compactado | H34: =IF(D34="","",VLOOKUP(D34,ListaAct,5,FALSE)) -> m3 | I34: =IF(D34="","",VLOOKUP(D34,ListaAct,6,FALSE)) -> 12.52 | J34: =IF(D34="","",VLOOKUP(D34,ListaAct,7,FALSE)) -> 150054 | K34: =IF(D34="","",ROUND(J34*I34,0)) -> 1878676
C35: Subtotal | K35: =+SUM(K34:K34) -> 1878676
C36: 6 | D36: =IF(C36="","",VLOOKUP(C36,ListaAct,4,FALSE)) -> REFORZAMIENTO ESTRUCTURAL
D37: 6.1 | G37: =IF(D37="","",VLOOKUP(D37,ListaAct,4,FALSE)) -> Suministro e instalación de tabla en madera 20 x 2 cms en sapan o similar inmunizado y protegido con Profilan o simialr según diseño. Incluye cajas de traslapo, muescas de borde, avellanados y terminaciones | H37: =IF(D37="","",VLOOKUP(D37,ListaAct,5,FALSE)) -> ml | I37: =IF(D37="","",VLOOKUP(D37,ListaAct,6,FALSE)) -> 247.9 | J37: =IF(D37="","",VLOOKUP(D37,ListaAct,7,FALSE)) -> 150635 | K37: =IF(D37="","",ROUND(J37*I37,0)) -> 37342417
D38: 6.2 | G38: =IF(D38="","",VLOOKUP(D38,ListaAct,4,FALSE)) -> Suministro e instalación de tornillo roscado de 1/2" con arandelas y tuercas, según diseño, para junta de confinamiento, incluye lechada tradicional de cal y arena o ladrillo con cuña de madera en los extremos. | H38: =IF(D38="","",VLOOKUP(D38,ListaAct,5,FALSE)) -> m2 | I38: =IF(D38="","",VLOOKUP(D38,ListaAct,6,FALSE)) -> 155 | J38: =IF(D38="","",VLOOKUP(D38,ListaAct,7,FALSE)) -> 62695 | K38: =IF(D38="","",ROUND(J38*I38,0)) -> 9717725
D39: 6.3 | G39: =IF(D39="","",VLOOKUP(D39,ListaAct,4,FALSE)) -> Platina metalica de 1/8" para vanos, según especificaciones. Incluye tornillos | H39: =IF(D39="","",VLOOKUP(D39,ListaAct,5,FALSE)) -> und | I39: =IF(D39="","",VLOOKUP(D39,ListaAct,6,FALSE)) -> 22 | J39: =IF(D39="","",VLOOKUP(D39,ListaAct,7,FALSE)) -> 130795 | K39: =IF(D39="","",ROUND(J39*I39,0)) -> 2877490
D40: 6.4 | G40: =IF(D40="","",VLOOKUP(D40,ListaAct,4,FALSE)) -> Platina metalica de 3/16" para esquinero, según especificaciones. Incluye tornillos. | H40: =IF(D40="","",VLOOKUP(D40,ListaAct,5,FALSE)) -> und | I40: =IF(D40="","",VLOOKUP(D40,ListaAct,6,FALSE)) -> 6 | J40: =IF(D40="","",VLOOKUP(D40,ListaAct,7,FALSE)) -> 136558 | K40: =IF(D40="","",ROUND(J40*I40,0)) -> 819348
C41: Subtotal | K41: =+SUM(K37:K40) -> 50756980
C42: 7 | D42: =IF(C42="","",VLOOKUP(C42,ListaAct,4,FALSE)) -> CUBIERTAS
D43: 7.1 | G43: =IF(D43="","",VLOOKUP(D43,ListaAct,4,FALSE)) -> Construcción total de voladizo de cubierta costado sur (fachada principal). Incluye durmientes, machimbre, manto asfaltico, mortero de pega, teja, inmunizado de madera, sellado y pintura esmalte | H43: =IF(D43="","",VLOOKUP(D43,ListaAct,5,FALSE)) -> m2 | I43: =IF(D43="","",VLOOKUP(D43,ListaAct,6,FALSE)) -> 9.33 | J43: =IF(D43="","",VLOOKUP(D43,ListaAct,7,FALSE)) -> 392555 | K43: =IF(D43="","",ROUND(J43*I43,0)) -> 3662538
D44: 7.2 | G44: =IF(D44="","",VLOOKUP(D44,ListaAct,4,FALSE)) -> Suministro e instalación de flanche metalico calibre 26 muro occidental sobre actual flanche. | H44: =IF(D44="","",VLOOKUP(D44,ListaAct,5,FALSE)) -> m | I44: =IF(D44="","",VLOOKUP(D44,ListaAct,6,FALSE)) -> 7.21 | J44: =IF(D44="","",VLOOKUP(D44,ListaAct,7,FALSE)) -> 63833 | K44: =IF(D44="","",ROUND(J44*I44,0)) -> 460236
...

Sheet Actividades
E2: =+Datos!$C$9 -> CONSEJO SUPERIOR DE JUDICATURA– DIRECCIÓN EJECUTIVA SECCIONAL DE ADMINISTRACIÓN JUDICIAL DE BUCARAMANGA | I2: VERSIÓN | K2: =Datos!F4 -> 0
I4: PÁGINA
E5: =+Datos!$C$12 -> CONTRATAR EN NOMBRE DE LA NACIÓN– CONSEJO SUPERIOR DE JUDICATURA– DIRECCIÓN EJECUTIVA SECCIONAL DE ADMINISTRACIÓN JUDICIAL DE BUCARAMANGA, MEDIANTE EL SISTEMA DE PRECIOS UNITARIOS FIJOS SIN FORMULA DE REAJUSTE, LA OBRA CIVIL PARA EL REFORZAMIENTO ESTRUCTURAL DE LA SEDE JUDICIAL DE CONFINES SANTANDER, ASÍ COMO LA OBRA ELÉCTRICA, DE ILUMINACIÓN Y DEMÁS REQUERIDAS EN DICHA EDIFICACIÓN, EN LAS CONDICIONES TÉCNICAS, DE CALIDAD Y CANTIDADES EXIGIDAS POR LA ENTIDAD. | I5: 1 | J5: DE | K5: 1
I6: FECHA
E7: LISTADO DE ACTIVIDADES Y CANTIDADES | I7: DD | J7: MM | K7: AAAA
I8: =+Datos!$C$7 -> 19 | J8: =+Datos!$D$7 -> 6 | K8: =+Datos!$E$7 -> 2026
D10: 1 | E10: 2 | F10: 3 | G10: 4 | H10: 5 | I10: 6 | J10: 7 | K10: 8
B11: CLASIF. | C11: CÓD. | D11: ÍTEM | E11: CAPITULO / ID. | F11: SUBCAPÍTULO | G11: DESCRIPCIÓN | H11: U.M. | I11: CANTIDAD | J11: VR. UNIT COSTO DIRECTO | K11: VR. UNIT INCLUYE A.I.U
B12: P | G12: I. OBRA CIVIL SEDE JUDICIAL CONFINES
B13: P | D13: 1 | G13: PRELIMINARES
B14: A | C14: 1 | D14: 1.1 | E14: OBRA CIVIL | F14: PRELIMINARES | G14: Localizacion y replanteo | H14: m2 | I14: =130 -> 130 | J14: =APU!N64 -> 6608 | K14: =APU!N74 -> 8656
B15: A | C15: 2 | D15: 1.2 | E15: OBRA CIVIL | F15: PRELIMINARES | G15: Instalacion de plastico negro para proteger construcción | H15: m2 | I15: =60 -> 60 | J15: =APU!N150 -> 10496 | K15: =APU!N160 -> 13750
B16: A | C16: 3 | D16: 1.3 | E16: OBRA CIVIL | F16: PRELIMINARES | G16: Instalación durante la obra de cerramiento en polisombra sostenido con madera resistente apoyada en recipiente pesado no anclado al piso a una altura de 3.0 mts alrededor del juzgado separada 1,50 mts de las fachadas. | H16: ml | I16: =39.5 -> 39.5 | J16: 79834 | K16: =ROUND(J16*1.31,0) -> 104583
B17: D | D17: 2 | G17: DEMOLICIONES, DESCAPOTES Y RETIROS
B18: A | C18: 4 | D18: 2.1 | E18: OBRA CIVIL | F18: DEMOLICIONES, DESCAPOTES Y RETIROS | G18: Demolición de placa de concreto e=0,10 mts zona norte. | H18: m2 | I18: =4.51 -> 4.51 | J18: =APU!N320 -> 60382 | K18: =APU!N330 -> 79100
B19: A | C19: 5 | D19: 2.2 | E19: OBRA CIVIL | F19: DEMOLICIONES, DESCAPOTES Y RETIROS | G19: Demolición de pañete en mortero comun muros norte, sur y occidente en bahareque y tapia pisada interno y externo. | H19: m2 | I19: =161.35 -> 161.35 | J19: =APU!N405 -> 36403 | K19: =APU!N415 -> 47688
B20: A | C20: 6 | D20: 2.3 | E20: OBRA CIVIL | F20: DEMOLICIONES, DESCAPOTES Y RETIROS | G20: Retiro de maleza en la zona norte del juzgado. | H20: m2 | I20: =8.5 -> 8.5 | J20: =APU!N490 -> 33746 | K20: =ROUND(J20*1.31,0) -> 44207
B21: A | C21: 7 | D21: 2.4 | E21: OBRA CIVIL | F21: DEMOLICIONES, DESCAPOTES Y RETIROS | G21: Desmonte de voladizo fachadas sur . Conservar teja de arcilla en lugar seguro para su reutilización | H21: ml | I21: =11.66 -> 11.66 | J21: =APU!N575 -> 44582 | K21: =ROUND(J21*1.31,0) -> 58402
B22: A | C22: 8 | D22: 2.5 | E22: OBRA CIVIL | F22: DEMOLICIONES, DESCAPOTES Y RETIROS | G22: Regata sobre muro desnudo tipo cajuela de 30 mm conservando los bordes y vertices, incluye superficie en lechada de cal apagada. | H22: ml | I22: =247.9 -> 247.9 | J22: =APU!N660 -> 19524 | K22: =ROUND(J22*1.31,0) -> 25576
B23: A | C23: 9 | D23: 2.6 | E23: OBRA CIVIL | F23: DEMOLICIONES, DESCAPOTES Y RETIROS | G23: Retiro de pintura deteriorada de puertas, ventanas y capiteles en madera ambas caras hasta dejar superficie original. | H23: m2 | I23: =5.46 -> 5.46 | J23: =APU!N745 -> 14540 | K23: =ROUND(J23*1.31,0) -> 19047
B24: A | C24: 10 | D24: 2.7 | E24: OBRA CIVIL | F24: DEMOLICIONES, DESCAPOTES Y RETIROS | G24: Retiro de pañete en mal estado zonas no tradionales | H24: m2 | I24: =3 -> 3 | J24: =APU!N830 -> 24269 | K24: =ROUND(J24*1.31,0) -> 31792
B25: P | D25: 3 | G25: EXCAVACIONES
B26: A | C26: 11 | D26: 3.1 | E26: OBRA CIVIL | F26: EXCAVACIONES | G26: Excavación en material comun con retiro a lugar seguro de suelo costado norte | H26: m3 | I26: =10.85 -> 10.85 | J26: =APU!N915 -> 72806 | K26: =ROUND(J26*1.31,0) -> 95376
B27: P | D27: 4 | G27: PERFORACIONES
B28: A | C28: 12 | D28: 4.1 | E28: OBRA CIVIL | F28: PERFORACIONES | G28: Perforaciones en muro de contención de 1" según plano con instalación de geodren NT 2000 o similar. | H28: m2 | I28: =6.41 -> 6.41 | J28: =APU!N1000 -> 115410 | K28: =ROUND(J28*1.31,0) -> 151187
B29: A | C29: 13 | D29: 4.2 | E29: OBRA CIVIL | F29: PERFORACIONES | G29: Perforaciones en muros de bahareque y tapia pisada con broca especial y tecnica de protección sin perdida o arrastre del material del muro con inyección de lechada tradicional. | H29: m2 | I29: =152.78 -> 152.78 | J29: =APU!N1085 -> 72197 | K29: =ROUND(J29*1.31,0) -> 94578
B30: P | D30: 5 | G30: RELLENOS
B31: A | C31: 14 | D31: 5.1 | E31: OBRA CIVIL | F31: RELLENOS | G31: Relleno con material seleccionado y compactado | H31: m3 | I31: =12.52 -> 12.52 | J31: =APU!N1170 -> 150054 | K31: =ROUND(J31*1.31,0) -> 196571
B32: P | D32: 6 | G32: REFORZAMIENTO ESTRUCTURAL
B33: A | C33: 15 | D33: 6.1 | E33: OBRA CIVIL | F33: REFORZAMIENTO ESTRUCTURAL | G33: Suministro e instalación de tabla en madera 20 x 2 cms en sapan o similar inmunizado y protegido con Profilan o simialr según diseño. Incluye cajas de traslapo, muescas de borde, avellanados y terminaciones | H33: ml | I33: =247.9 -> 247.9 | J33: =APU!N1255 -> 150635 | K33: =ROUND(J33*1.31,0) -> 197332
B34: A | C34: 16 | D34: 6.2 | E34: OBRA CIVIL | F34: REFORZAMIENTO ESTRUCTURAL | G34: Suministro e instalación de tornillo roscado de 1/2" con arandelas y tuercas, según diseño, para junta de confinamiento, incluye lechada tradicional de cal y arena o ladrillo con cuña de madera en los extremos. | H34: m2 | I34: =155 -> 155 | J34: =APU!N1340 -> 62695 | K34: =ROUND(J34*1.31,0) -> 82130
B35: A | C35: 17 | D35: 6.3 | E35: OBRA CIVIL | F35: REFORZAMIENTO ESTRUCTURAL | G35: Platina metalica de 1/8" para vanos, según especificaciones. Incluye tornillos | H35: und | I35: =22 -> 22 | J35: =APU!N1425 -> 130795 | K35: =ROUND(J35*1.31,0) -> 171341
B36: A | C36: 18 | D36: 6.4 | E36: OBRA CIVIL | F36: REFORZAMIENTO ESTRUCTURAL | G36: Platina metalica de 3/16" para esquinero, según especificaciones. Incluye tornillos. | H36: und | I36: =6 -> 6 | J36: =APU!N1510 -> 136558 | K36: =ROUND(J36*1.31,0) -> 178891
B37: P | D37: 7 | G37: CUBIERTAS
B38: A | C38: 19 | D38: 7.1 | E38: OBRA CIVIL | F38: CUBIERTAS | G38: Construcción total de voladizo de cubierta costado sur (fachada principal). Incluye durmientes, machimbre, manto asfaltico, mortero de pega, teja, inmunizado de madera, sellado y pintura esmalte | H38: m2 | I38: =9.33 -> 9.33 | J38: =APU!N1595 -> 392555 | K38: =ROUND(J38*1.31,0) -> 514247
B39: A | C39: 20 | D39: 7.2 | E39: OBRA CIVIL | F39: CUBIERTAS | G39: Suministro e instalación de flanche metalico calibre 26 muro occidental sobre actual flanche. | H39: m | I39: =7.21 -> 7.21 | J39: =APU!N1680 -> 63833 | K39: =ROUND(J39*1.31,0) -> 83621
B40: P | D40: 8 | G40: REVOQUE TRADICIONAL
B41: A | C41: 21 | D41: 8.1 | E41: OBRA CIVIL | F41: REVOQUE TRADICIONAL | G41: Suministro e instalación de malla tipo zaranda metalica adosada al muro con tapa metalica de gaseosa cada 50 cm. Ambos sentidos | H41: m2 | I41: =161.35 -> 161.35 | J41: =APU!N1765 -> 46992 | K41: =ROUND(J41*1.31,0) -> 61560
B42: A | C42: 22 | D42: 8.2 | E42: OBRA CIVIL | F42: REVOQUE TRADICIONAL | G42: Aplicación de revoque tradicional en cal y arenilla según especificación, e=variable | H42: m2 | I42: =161.35 -> 161.35 | J42: =APU!N1850 -> 102192 | K42: =ROUND(J42*1.31,0) -> 133872
B43: P | D43: 9 | G43: CONCRETO
...

Sheet subAPU
A1: CÓDIGOS:
E5: =+Datos!$C$9 -> CONSEJO SUPERIOR DE JUDICATURA– DIRECCIÓN EJECUTIVA SECCIONAL DE ADMINISTRACIÓN JUDICIAL DE BUCARAMANGA | L5: VERSIÓN | N5: =Datos!$C$4 -> 1
E7: =Datos!$C$13 -> BGA - 030 - 2026 | L7: PÁGINA
L8: 1 | M8: DE | N8: 1
E9: =Datos!$C$12 -> CONTRATAR EN NOMBRE DE LA NACIÓN– CONSEJO SUPERIOR DE JUDICATURA– DIRECCIÓN EJECUTIVA SECCIONAL DE ADMINISTRACIÓN JUDICIAL DE BUCARAMANGA, MEDIANTE EL SISTEMA DE PRECIOS UNITARIOS FIJOS SIN FORMULA DE REAJUSTE, LA OBRA CIVIL PARA EL REFORZAMIENTO ESTRUCTURAL DE LA SEDE JUDICIAL DE CONFINES SANTANDER, ASÍ COMO LA OBRA ELÉCTRICA, DE ILUMINACIÓN Y DEMÁS REQUERIDAS EN DICHA EDIFICACIÓN, EN LAS CONDICIONES TÉCNICAS, DE CALIDAD Y CANTIDADES EXIGIDAS POR LA ENTIDAD.
L10: FECHA
L11: DD | M11: MM | N11: AAAA
E12: ANALISIS DE PRECIOS UNITARIOS | L12: =+Datos!C7 -> 19 | M12: =+Datos!D7 -> 6 | N12: =+Datos!E7 -> 2026
C15: CAPÍTULO: | D15: SUBANÁLISIS DE CONCRETOS Y MORTEROS
C16: SUBCAPÍTULO: | D16: N.A
C19: DATOS ESPECÍFICOS
C21: ÍTEM | D21: DESCRIPCIÓN | L21: UNIDAD | N21: CANTIDAD
C22: N.A | D22: MORTERO 1:3 PREPARADO EN OBRA | L22: M3 | N22: 1 | Q22: Dosificación Morteros
C23: I. EQUIPO
C26: DESCRIPCIÓN | G26: MARCA | I26: TIPO | K26: TARIFA/HORA | L26: RENDIMIENTO | N26: Vr. UNITARIO
C27: HERRAMIENTA MENOR (% M.O) | L27: 0.05 | N27: =+L27*N58 -> 2506.4111
A28: {=IF(C28<>0,INDEX(CodEquipos,MATCH(C28,Equipos,0),),)} -> EQ-01 | C28: MEZCLADORA DE CONCRETO 1 BULTO | K28: =IF($A28>0,(VLOOKUP($A28,TablaEquipos,7,FALSE)),"") -> 13833.75 | L28: =+L53/8 -> 1.125 | N28: =IF(L28>0,K28/L28,"") -> 12296.667
A29: {=IF(C29<>0,INDEX(CodEquipos,MATCH(C29,Equipos,0),),)} -> 0 | K29: =IF($A29>0,(VLOOKUP($A29,TablaEquipos,7,FALSE)),"") | N29: =IF(L29>0,K29/L29,"")
A30: {=IF(C30<>0,INDEX(CodEquipos,MATCH(C30,Equipos,0),),)} -> 0 | K30: =IF($A30>0,(VLOOKUP($A30,TablaEquipos,7,FALSE)),"") | N30: =IF(L30>0,K30/L30,"")
C31: SUBTOTAL $ | N31: =+SUM(N27:N30) -> 14803.078
C32: II. MATERIALES
C35: DESCRIPCIÓN | J35: UNIDAD | K35: CANTIDAD | L35: PRECIO UNIT. | N35: Vr. UNITARIO
A36: {=IF(C36<>0,INDEX(CodMat,MATCH(C36,Materiales,0),),)} -> MAT_C-01 | C36: AGUA | J36: =IF($A36>0,(VLOOKUP($A36,TablaInsumos,5,FALSE)),"") -> LT | K36: 210 | L36: =IF($A36>0,(VLOOKUP($A36,TablaInsumos,7,FALSE)),"") -> 46 | N36: =IF(K36>0,L36*K36,"") -> 9660
A37: {=IF(C37<>0,INDEX(CodMat,MATCH(C37,Materiales,0),),)} -> MAT_C-03 | C37: ARENA GRUESA | J37: =IF($A37>0,(VLOOKUP($A37,TablaInsumos,5,FALSE)),"") -> M3 | K37: 1.1 | L37: =IF($A37>0,(VLOOKUP($A37,TablaInsumos,7,FALSE)),"") -> 86414 | N37: =IF(K37>0,L37*K37,"") -> 95055.4 | P37: =K37*0.75 -> 0.825
A38: {=IF(C38<>0,INDEX(CodMat,MATCH(C38,Materiales,0),),)} -> MAT_C-12 | C38: CEMENTO GRIS | J38: =IF($A38>0,(VLOOKUP($A38,TablaInsumos,5,FALSE)),"") -> KG | K38: 450 | L38: =IF($A38>0,(VLOOKUP($A38,TablaInsumos,7,FALSE)),"") -> 1164 | N38: =IF(K38>0,L38*K38,"") -> 523800
A39: {=IF(C39<>0,INDEX(CodMat,MATCH(C39,Materiales,0),),)} -> 0 | J39: =IF($A39>0,(VLOOKUP($A39,TablaInsumos,5,FALSE)),"") | L39: =IF($A39>0,(VLOOKUP($A39,TablaInsumos,7,FALSE)),"") | N39: =IF(K39>0,L39*K39,"")
A40: {=IF(C40<>0,INDEX(CodMat,MATCH(C40,Materiales,0),),)} -> 0 | J40: =IF($A40>0,(VLOOKUP($A40,TablaInsumos,5,FALSE)),"") | L40: =IF($A40>0,(VLOOKUP($A40,TablaInsumos,7,FALSE)),"") | N40: =IF(K40>0,L40*K40,"")
C41: SUBTOTAL $ | N41: =+SUM(N36:N40) -> 628515.4
C42: III. TRANSPORTES
C45: MATERIAL | I45: VOL. o PESO | J45: DISTANCIA | K45: M3 o Ton/Km | L45: TARIFA | N45: Vr. UNITARIO
A46: {=IF(C46<>0,INDEX(CodTransporte,MATCH(C46,Transporte,0),),)} -> T-03 | C46: TRANSPORTE DE AGREGADOS | I46: =+K37 -> 1.1 | J46: =IF($A46>0,(VLOOKUP($A46,TablaTransporte,6,FALSE)),"") -> 50.85 | K46: =IF($A46>0,(VLOOKUP($A46,TablaTransporte,5,FALSE)),"") -> M3-KM | L46: =IF($A46>0,(VLOOKUP($A46,TablaTransporte,7,FALSE)),"") -> 2332.35 | N46: =IF(I46>0,J46*L46*I46,"") -> 130460
A47: {=IF(C47<>0,INDEX(CodTransporte,MATCH(C47,Transporte,0),),)} -> T-02 | C47: TRANSPORTE DE MATERIALES | I47: =+(K38/50)*0.035 -> 0.315 | J47: =IF($A47>0,(VLOOKUP($A47,TablaTransporte,6,FALSE)),"") -> 50.85 | K47: =IF($A47>0,(VLOOKUP($A47,TablaTransporte,5,FALSE)),"") -> M3-KM | L47: =IF($A47>0,(VLOOKUP($A47,TablaTransporte,7,FALSE)),"") -> 2332.35 | N47: =IF(I47>0,J47*L47*I47,"") -> 37359
C48: SUBTOTAL $ | N48: =+SUM(N46:N47) -> 167819
C49: IV. MANO DE OBRA
C52: TRABAJADOR | I52: JORNAL | J52: PRESTACIONES | K52: JORNAL TOTAL | L52: RENDIMIENTO | N52: Vr. UNITARIO
A53: {=IF(C53<>0,INDEX(CodMO,MATCH(C53,MO,0),),)} -> M.O-05 | C53: OFICIAL | I53: =IF($A53>0,(VLOOKUP($A53,TablaMO,8,FALSE)),"") -> 125030.17 | J53: =IF($A53>0,(VLOOKUP($A53,TablaMO,10,FALSE)),"") -> 0.67071667 | K53: =IF($A53>0,(VLOOKUP($A53,TablaMO,11,FALSE)),"") -> 208890 | L53: 9 | N53: =IF(L53>0,K53/L53,"") -> 23210
A54: {=IF(C54<>0,INDEX(CodMO,MATCH(C54,MO,0),),)} -> M.O-01 | C54: AYUDANTE 1 | I54: =IF($A54>0,(VLOOKUP($A54,TablaMO,8,FALSE)),"") -> 72503.017 | J54: =IF($A54>0,(VLOOKUP($A54,TablaMO,10,FALSE)),"") -> 0.67071667 | K54: =IF($A54>0,(VLOOKUP($A54,TablaMO,11,FALSE)),"") -> 121132 | L54: =L53 -> 9 | N54: =IF(L54>0,K54/L54,"") -> 13459.111
A55: {=IF(C55<>0,INDEX(CodMO,MATCH(C55,MO,0),),)} -> M.O-02 | C55: AYUDANTE 2 | I55: =IF($A55>0,(VLOOKUP($A55,TablaMO,8,FALSE)),"") -> 72503.017 | J55: =IF($A55>0,(VLOOKUP($A55,TablaMO,10,FALSE)),"") -> 0.67071667 | K55: =IF($A55>0,(VLOOKUP($A55,TablaMO,11,FALSE)),"") -> 121132 | L55: =L53 -> 9 | N55: =IF(L55>0,K55/L55,"") -> 13459.111
