Workbook
Name \0: #REF!
Name \0: #REF!
Name \00: #REF!
Name \a: #REF!
Name \a: #REF!
Name \AA: [1]LIQUIDACION!#REF!
Name \b: [2]STRSUMM0!#REF!
Name \bb: [2]STRSUMM0!#REF!
Name \c: #REF!
Name \c: #REF!
Name \E: #REF!
Name \EE: #REF!
Name \G: #REF!
Name \k: '[3]7422CW00'!#REF!
Name \l: [4]STRSUMM0!#REF!
Name \M: #REF!
Name \ñ: '[5]7422CW00'!#REF!
Name \P: #REF!
Name \R: #REF!
Name \s: #REF!
Name \s: #REF!
Name \V: #REF!
Name \X: 'INDICAR CÓDIGO DEL ITEM DE PAGO'!ERR
Name \X: [6]!ERR
Name \Z: 'INDICAR CÓDIGO DEL ITEM DE PAGO'!ERR
Name \Z: [6]!ERR
Name _: #REF!
Name _: #REF!
Name ________________________________FS01_4: #NAME?
Name ______________________________FS01_4: #NAME?
Name ____________________________FS01_4: #NAME?
Name ___________________________FS01_4: #NAME?
Name __________________________FS01_4: #NAME?
Name _________________________FS01_4: #NAME?
Name ________________________FS01_4: #NAME?
Name _______________________FS01_4: #NAME?
Name ______________________FS01_4: #NAME?
Name ____________________FS01_4: #NAME?
Name ___________________FS01_4: #NAME?
Name __________________FS01_4: #NAME?
Name _________________FS01_4: #NAME?
Name ________________FS01_4: #NAME?
Name _______________F_1: #NAME?
Name _______________F_2: #NAME?
Name _______________F_4: #NAME?
Name _______________F_6: #NAME?
Name _______________F_7: #NAME?
Name _______________F_8: #NAME?
Name _______________FS01_1: #NAME?
Name _______________FS01_2: #NAME?
Name _______________FS01_4: #NAME?
Name _______________FS01_6: #NAME?
Name _______________FS01_7: #NAME?
Name _______________FS01_8: #NAME?
Name ______________F_1: #NAME?
Name ______________F_2: #NAME?
Name ______________F_4: #NAME?
Name ______________F_6: #NAME?
Name ______________F_7: #NAME?
Name ______________F_8: #NAME?

Sheet PROPUESTA ECONOMICA(Proponente,
B1: Formulario 1 - Propuesta económica - Documento tipo de selección abreviada de menor cuantía - versión 1
B2: Versión: 1 del 21 de agosto de 2025
C5: FORMULARIO 1
C6: PRESUPUESTO OFICIAL
C7: [La entidad puede utilizar este formulario de detalle del presupuesto oficial para determinar las condiciones bajo las cuales los proponentes analizarán y presentarán su propuesta económica de forma detallada, sin perjuicio que la entidad pueda modificarlo o establecer la presentación de la oferta económica con un formulario distinto al indicado.]
C9: Adicionalmente, cuando el proceso de contratación es estructurado por precios unitarios, la Entidad debe aplicar las notas 1, 2 y 3 del presente formulario y las casillas de "Descripción", "Porcentaje" de la Administración, Imprevisto, Utilidad y total A.I.U. resaltadas en colo amarillo. Tratándose de otras modalidades de precio, la Entidad puede o no configurar los mismos aspectos.
C10: MEJORAMIENTO DE VÍAS RURALES MEDIANTE LA CONSTRUCCIÓN DE PLACA HUELLAS EN EL MARCO DE EJECUCIONES DE LOS CONVENIOS INTER ADMINISTRATIVOS No. (ICCU-1238-2025 – SECTOR HACIENDA CASA ROJA LA LAGUNA), (ICCU-566-2025 - SECTOR HACIENDA LA CUBA), (ICCU-1491-2025 – SECTOR LOMA AMARILLA), (ICCU-1175-2025 - SECTOR UNO VÍA A COLORADOS), (ICCU-1535-2025 - SECTOR EL CASINO), SUSCRITOS ENTRE EL INSTITUTO DE CAMINOS Y CONSTRUCCIONES DE CUNDINAMARCA – ICCU Y EL MUNICIPIO DE PUERTO SALGAR CUNDINAMARCA.
C11: No | D11: Ref | E11: ESPECIFICACIONES | G11: DESCRIPCION | H11: UND. | I11: CANTIDAD | J11: VALOR UNITARIO | K11: VALOR TOTAL
E12: GENERAL | F12: PARTICULAR
C13: ICCU-1238-2025 – SECTOR HACIENDA CASA ROJA LA LAGUNA
C14: 1 | D14: 1.1 | E14: 600.4 P | G14: EXCAVACIONES VARIAS EN MATERIAL COMÚN SECO A MANO (INCLUYE RETIRO DE SOBRANTES A UNA DISTANCIA MENOR DE 5 KM) | H14: M3 | I14: =' 1. LAGUNA'!J14 -> 7.64 | J14: 65346 | K14: =ROUND(I14*J14,0) -> 499243
C15: 2 | D15: 1.2 | E15: 630.4 | G15: CONCRETOS CLASE D, f´c =3000 psi (bases) | H15: M3 | I15: =' 1. LAGUNA'!J15 -> 27.52 | J15: 898068 | K15: =ROUND(I15*J15,0) -> 24714831
C16: 3 | D16: 1.3 | E16: 630.7 | G16: CONCRETO CICLÓPEO CLASE G, 2000 PSI 40% RAJÓN PARA BASES | H16: M3 | I16: =' 1. LAGUNA'!J16 -> 18.6 | J16: 607671 | K16: =ROUND(I16*J16,0) -> 11302681
C17: 4 | D17: 1.4 | E17: 671.1 | G17: CUNETA DE CONCRETO CLASE E, 2500 PSI FUNDIDA EN EL LUGAR | H17: M3 | I17: =' 1. LAGUNA'!J17 -> 16.77 | J17: 808897 | K17: =ROUND(I17*J17,0) -> 13565203
C18: 5 | D18: 1.5 | E18: 640.1 | G18: SUMINISTRO FIGURADO Y ARMADO DE ACERO DE REFUERZO 60000 PSI | H18: KG | I18: =' 1. LAGUNA'!J18 -> 2955.74 | J18: 8494 | K18: =ROUND(I18*J18,0) -> 25106056
C19: Subtotal | K19: =SUM(K14:K18) -> 75188014
C20: ICCU-566-2025 - SECTOR HACIENDA LA CUBA
C21: 1 | D21: 1.1 | E21: 600.4 P | G21: EXCAVACIONES VARIAS EN MATERIAL COMÚN SECO A MANO (INCLUYE RETIRO DE SOBRANTES A UNA DISTANCIA MENOR DE 5 KM) | H21: M3 | I21: ='2. LA CUBA'!J14 -> 7.51 | J21: 65346 | K21: =ROUND(I21*J21,0) -> 490748
C22: 2 | D22: 1.2 | E22: 630.4 | G22: CONCRETOS CLASE D, f´c =3000 psi (bases) | H22: M3 | I22: ='2. LA CUBA'!J15 -> 26.48 | J22: 898068 | K22: =ROUND(I22*J22,0) -> 23780841
C23: 3 | D23: 1.3 | E23: 630.7 | G23: CONCRETO CICLÓPEO CLASE G, 2000 PSI 40% RAJÓN PARA BASES | H23: M3 | I23: ='2. LA CUBA'!J16 -> 23.09 | J23: 607671 | K23: =ROUND(I23*J23,0) -> 14031123
C24: 4 | D24: 1.4 | E24: 671.1 | G24: CUNETA DE CONCRETO CLASE E, 2500 PSI FUNDIDA EN EL LUGAR | H24: M3 | I24: ='2. LA CUBA'!J17 -> 15.65 | J24: 808897 | K24: =ROUND(I24*J24,0) -> 12659238
C25: 5 | D25: 1.5 | E25: 640.1 | G25: SUMINISTRO FIGURADO Y ARMADO DE ACERO DE REFUERZO 60000 PSI | H25: KG | I25: ='2. LA CUBA'!J18 -> 2852.14 | J25: 8494 | K25: =ROUND(I25*J25,0) -> 24226077
C26: Subtotal | K26: =SUM(K21:K25) -> 75188027
C27: ICCU-1491-2025 – SECTOR LOMA AMARILLA
C28: 1 | D28: 1.1 | E28: 600.4 P | G28: EXCAVACIONES VARIAS EN MATERIAL COMÚN SECO A MANO (INCLUYE RETIRO DE SOBRANTES A UNA DISTANCIA MENOR DE 5 KM) | H28: M3 | I28: ='3. LOMA AMARILLA'!J14 -> 7.51 | J28: 65346 | K28: =ROUND(I28*J28,0) -> 490748
C29: 2 | D29: 1.2 | E29: 630.4 | G29: CONCRETOS CLASE D, f´c =3000 psi (bases) | H29: M3 | I29: ='3. LOMA AMARILLA'!J15 -> 26.48 | J29: 898068 | K29: =ROUND(I29*J29,0) -> 23780841 | P29: =48/500*100 -> 9.6
C30: 3 | D30: 1.3 | E30: 630.7 | G30: CONCRETO CICLÓPEO CLASE G, 2000 PSI 40% RAJÓN PARA BASES | H30: M3 | I30: ='3. LOMA AMARILLA'!J16 -> 23.09 | J30: 607671 | K30: =ROUND(I30*J30,0) -> 14031123
C31: 4 | D31: 1.4 | E31: 671.1 | G31: CUNETA DE CONCRETO CLASE E, 2500 PSI FUNDIDA EN EL LUGAR | H31: M3 | I31: ='3. LOMA AMARILLA'!J17 -> 15.65 | J31: 808897 | K31: =ROUND(I31*J31,0) -> 12659238
C32: 5 | D32: 1.5 | E32: 640.1 | G32: SUMINISTRO FIGURADO Y ARMADO DE ACERO DE REFUERZO 60000 PSI | H32: KG | I32: ='3. LOMA AMARILLA'!J18 -> 2852.14 | J32: 8494 | K32: =ROUND(I32*J32,0) -> 24226077
C33: Subtotal | K33: =SUM(K28:K32) -> 75188027
C34: ICCU-1175-2025 - SECTOR UNO VÍA A COLORADOS
C35: 1 | D35: 1.1 | E35: 600.4 P | G35: EXCAVACIONES VARIAS EN MATERIAL COMÚN SECO A MANO (INCLUYE RETIRO DE SOBRANTES A UNA DISTANCIA MENOR DE 5 KM) | H35: M3 | I35: ='4.SECTOR UNO'!J14 -> 7.51 | J35: 65346 | K35: =ROUND(I35*J35,0) -> 490748
C36: 2 | D36: 1.2 | E36: 630.4 | G36: CONCRETOS CLASE D, f´c =3000 psi (bases) | H36: M3 | I36: ='4.SECTOR UNO'!J15 -> 26.48 | J36: 898068 | K36: =ROUND(I36*J36,0) -> 23780841
C37: 3 | D37: 1.3 | E37: 630.7 | G37: CONCRETO CICLÓPEO CLASE G, 2000 PSI 40% RAJÓN PARA BASES | H37: M3 | I37: ='4.SECTOR UNO'!J16 -> 23.09 | J37: 607671 | K37: =ROUND(I37*J37,0) -> 14031123
C38: 4 | D38: 1.4 | E38: 671.1 | G38: CUNETA DE CONCRETO CLASE E, 2500 PSI FUNDIDA EN EL LUGAR | H38: M3 | I38: ='4.SECTOR UNO'!J17 -> 15.65 | J38: 808897 | K38: =ROUND(I38*J38,0) -> 12659238
C39: 5 | D39: 1.5 | E39: 640.1 | G39: SUMINISTRO FIGURADO Y ARMADO DE ACERO DE REFUERZO 60000 PSI | H39: KG | I39: ='4.SECTOR UNO'!J18 -> 2852.137 | J39: 8494 | K39: =ROUND(I39*J39,0) -> 24226052
C40: Subtotal | K40: =SUM(K35:K39) -> 75188002
C41: ICCU-1535-2025 - SECTOR EL CASINO
C42: 1 | D42: 1.1 | E42: 600.4 P | G42: EXCAVACIONES VARIAS EN MATERIAL COMÚN SECO A MANO (INCLUYE RETIRO DE SOBRANTES A UNA DISTANCIA MENOR DE 5 KM) | H42: M3 | I42: ='5. CASINO'!J14 -> 7.51 | J42: 64346 | K42: =ROUND(I42*J42,0) -> 483238
C43: 2 | D43: 1.2 | E43: 630.4 | G43: CONCRETOS CLASE D, f´c =3000 psi (bases) | H43: M3 | I43: ='5. CASINO'!J15 -> 26.48 | J43: 898068 | K43: =ROUND(I43*J43,0) -> 23780841
...

Sheet PROPUESTA ECONOMICA(Proponente)
B1: Formulario 1 - Propuesta económica - Documento tipo de selección abreviada de menor cuantía - versión 1
B2: Versión: 1 del 21 de agosto de 2025
C5: FORMULARIO 1
C6: PROPUESTA ECONOMICA
C7: [La entidad puede utilizar este formulario de presentación de propuesta económica de forma detallada, sin perjuicio que la entidad pueda modificarlo o establecer la presentación de la oferta económica con un formulario distinto al indicado.] [Los proponentes emplearán el formulario establecido por la entidad para determinar su propuesta económica conforme al Formulario 1 - Presupuesto Oficial publicado por la Entidad] [En caso de modificar el formulario, es importante tener en cuenta que no se deben incluir causales de rechazo, reglas o parámetros contrarios a los definidos en el documento base. Los términos del proceso solo se encuentran en el Documento Base, por lo que la Entidad no deberá incluir ningún tipo de notas que se configuren en reglas contrarias a las definidas en dicho documento, las notas únicamente pueden ser aclaratorias para efectos del diligenciamiento del formato]
C9: Cuando el proceso de contratación es estructurado por precios unitarios, la Entidad debe aplicar las notas 1, 2 y 3 del presente formato y las casillas de "Descripción", "Porcentaje" de la Administración, Imprevisto, Utilidad y total A.I.U. resaltadas en color amarillo.
C11: Nº | D11: ITEM DE PAGO | E11: ESPECIFICACIONES | G11: DESCRIPCION | H11: UND. | I11: CANTIDAD | J11: VALOR UNITARIO | K11: VALOR TOTAL
E12: GENERAL | F12: PARTICULAR
C15: Subtotal
C21: Subtotal
C31: Subtotal
C36: Subtotal
C39: Subtotal
C40: SUBTOTAL OBRAS
G45: SUBTOTAL OBRAS (INCLUYE IVA)
G49: VALOR TOTAL
C52: NOTA 1: Se debe tener en cuenta que el PRECIO UNITARIO incluye el valor de A.I.U. | H52: DESCRIPCION | K52: PORCENTAJE
C53: NOTA 2: Cuando la fracción decimal del peso sea igual o superior a 5 se aproximara por exceso al número entero siguiente del peso y cuando la fracción decimal del peso sea inferior a 5 se aproximará por defecto al número entero del peso. | H53: ADMINISTRACION | J53: A= | K53: [Ofrecimiento del Proponente]
C54: NOTA 3: El A.I.U y su discriminación deben estar en porcentaje (%). | H54: IMPREVISTO | J54: I= | K54: [Ofrecimiento del Proponente]
H55: UTILIDAD | J55: U= | K55: [Ofrecimiento del Proponente]
H56: TOTAL A.I.U | J56: A.I.U.= | K56: [Ofrecimiento del Proponente]
G59: Firma del Proponente o de su Representante Legal

Sheet TOTAL
I1: DIRECCIONAMIENTO ESTRATÉGICO Y ARTICULACIÓN GERENCIAL | S1: Código | U1: E-DEAG-FR-137
S3: Versión | U3: 3
I4: PRESUPUESTO PROYECTOS ESPECIFICOS DE INFRAESTRUCTURA
S5: Fecha | U5: 45707
A8: SECRETARÍA - ENTIDAD / MUNICIPIO | G8: INSTITUTO DE CAMINOS Y CONSTRUCCIONES DE CUNDINAMARCA - ICCU
A9: ID MGA - NOMBRE DEL PROYECTO | G9: MEJORAMIENTO DE VÍAS RURALES MEDIANTE LA CONSTRUCCIÓN DE PLACA HUELLAS EN EL MARCO DE EJECUCIONES DE LOS CONVENIOS INTER ADMINISTRATIVOS No. (ICCU-1238-2025 – SECTOR HACIENDA CASA ROJA LA LAGUNA), (ICCU-566-2025 - SECTOR HACIENDA LA CUBA), (ICCU-1491-2025 – SECTOR LOMA AMARILLA), (ICCU-1175-2025 - SECTOR UNO VÍA A COLORADOS), (ICCU-1535-2025 - SECTOR EL CASINO), SUSCRITOS ENTRE EL INSTITUTO DE CAMINOS Y CONSTRUCCIONES DE CUNDINAMARCA – ICCU Y EL MUNICIPIO DE PUERTO SALGAR CUNDINAMARCA.
W10: MUNICIPIO
A11: LÍNEA ESTRATÉGICA | B11: SECTOR (DNP) | C11: PROGRAMA (DNP) | D11: SUBPROGRAMA (DNP) | E11: No. Y DESCRIPICIÓN META DE PRODUCTO DEL PDD | F11: OBJETIVO ESPECIFICO DEL PROYECTO | G11: CÓDIGO DNP Y NOMBRE DEL PRODUCTO | H11: ACTIVIDADES | I11: TOTALES | K11: Especificación O Norma Técnica | L11: Ítem de Pago | M11: AÑO 2025 | Q11: FUENTES FINANCIACIÓN AÑO 2025 ($) | U11: TOTAL COSTO DIRECTO ($) | W11: Puerto_Salgar
I12: UNIDAD DE MEDIDA | J12: CANTIDAD | M12: UNIDAD DE MEDIDA | N12: CANTIDAD | O12: V/R UNITARIO ($) | P12: V/R TOTAL ($) | Q12: DEPARTAMENTO | R12: NACIÓN | S12: SGP | T12: MUNICIPIO
A13: 3.2.4.4.3. “Competitividad Compartida” | B13: 24 - Transporte | C13: 2402 - Infraestructura red vial regional | D13: 0600 - Intersubsectorial transporte | E13: 288 - Construir 1.200.000 m2 de placa huella para la productividad de las comunidades rurales. | F13: Mejorar la vía terciaria que conduce del casco urbano al centro poblado de Colorados sector uno del municipio de Puerto Salgar | G13: 2402042 - Placa huella construida. | H13: 2- EXCAVACIONES A MANO - RELLENOS - CONCRETOS - APORTE ICCU
H14: EXCAVACIONES VARIAS EN MATERIAL COMÚN SECO A MANO (INCLUYE RETIRO DE SOBRANTES A UNA DISTANCIA MENOR DE 5 KM) | I14: M3 | K14: 600 INVIAS | L14: 600.4 P | M14: M3 | N14: =J14 -> 0 | O14: =INDEX([143]precios!$B$3:$J$118,MATCH($W$11,[143]precios!$A$3:$A$118,0),4) -> 65346 | P14: =N14*O14 -> 0 | Q14: X | U14: =ROUND(P14,0) -> 0
H15: CONCRETOS CLASE D, f´c =3000 psi (bases) | I15: M3 | K15: 630 INVIAS | L15: 630.4 | M15: M3 | N15: =J15 -> 0 | O15: =INDEX([143]precios!$B$3:$J$118,MATCH($W$11,[143]precios!$A$3:$A$118,0),6) -> 898068 | P15: =N15*O15 -> 0 | Q15: X | U15: =ROUND(P15,0) -> 0
H16: CONCRETO CICLÓPEO CLASE G, 2000 PSI 40% RAJÓN PARA BASES | I16: M3 | K16: 630 INVIAS | L16: 630.7 | M16: M3 | N16: =J16 -> 0 | O16: =INDEX([143]precios!$B$3:$J$118,MATCH($W$11,[143]precios!$A$3:$A$118,0),7) -> 607671 | P16: =N16*O16 -> 0 | Q16: X | U16: =ROUND(P16,0) -> 0
H17: CUNETA DE CONCRETO CLASE E, 2500 PSI FUNDIDA EN EL LUGAR | I17: M3 | K17: 671 INVIAS | L17: 671.1 | M17: M3 | N17: =J17 -> 0 | O17: =INDEX([143]precios!$B$3:$J$118,MATCH($W$11,[143]precios!$A$3:$A$118,0),8) -> 808897 | P17: =N17*O17 -> 0 | Q17: X | U17: =ROUND(P17,0) -> 0
H18: SUMINISTRO FIGURADO Y ARMADO DE ACERO DE REFUERZO 60000 PSI | I18: KG | K18: 640 INVIAS | L18: 640.1 | M18: KG | N18: =J18 -> 0 | O18: =INDEX([143]precios!$B$3:$J$118,MATCH($W$11,[143]precios!$A$3:$A$118,0),9) -> 8494 | P18: =N18*O18 -> 0 | Q18: X | U18: =ROUND(P18,0) -> 0
H19: SUB TOTAL | U19: =SUM(U14:U18) -> 0
A21: VALOR COSTO DIRECTO | U21: =ROUND(U19,0) -> 0
A22: AIU | M22: % | N22: 0.33 | U22: =ROUND(SUM(U21*N22),0) -> 0
I23: A. ADMINISTRACIÓN | M23: % | N23: 0.32
I24: I. IMPREVISTOS | M24: % | N24: 0.01
I25: U. UTILIDAD | M25: % | N25: 0
A26: VALOR TOTAL OBRA CIVIL | U26: =ROUND(SUM(U21:U22),0) -> 0
A27: INTERVENTORIA | M27: % | N27: 0 | T27: X | U27: =ROUND(U26*N27,0) -> 0
A29: AJUSTE AL PESO | U29: -322
A30: VALOR TOTAL DEL PROYECTO | U30: =SUM(U26:U29) -> -322
A31: PRESUPUESTO ELABORADO POR:
A33: LUIS SEBASTIAN TORRES OLAYA -SECRETARIO DE INDRAESTRCUTRA Y OBRAS PUBLICAS TP 25202-436394 CND
A34: SECRETARIO DE INFRAESTRUCTURA Y OBRAS PÚBLICAS
A35: PUERTO SALGAR. CUNDINAMARCA

Sheet INDICAR CÓDIGO DEL ITEM DE PAGO
B1: Formulario 1 - Propuesta económica - Documento tipo de selección abreviada de menor cuantía
B2: Versión: 1 del 21 de agosto de 2025
C5: [La entidad podrá utilizar este formato para la presentación de los análisis de precios unitarios el contratista en la oportunidad prevista en el numeral 8.2. del Documento Base]
D8: ALCALDÍA DE PUERTO SALGAR CUNDINAMARCA
L9: VERSIÓN | M9: 1
D10: MEJORAMIENTO, MANTENIMIENTO Y DOTACIÓN DE ESCENARIOS DEPORTIVOS EN EL MUNICIPIO DE PUERTO SALGAR, CUNDINAMARCA
L11: PÁGINA | M11: 1 | N11: DE | O11: 1
D13: ANALISIS DE PRECIOS UNITARIOS
L15: FECHA | M15: DD | N15: MM | O15: AA
C17: ITEMS DE LA PROPUESTA ECONÓMICA | I17: ITEMS NO PREVISTOS
C21: DATOS ESPECÍFICOS = APU 1 - CABLE ANTIFRAUDE 3X6+6
C23: ITEM | D23: DESCRIPCIÓN | M23: UNIDAD | O23: CANTIDAD
C25: I. EQUIPO
C28: DESCRIPCIÓN | H28: MARCA | J28: TIPO | L28: TARIFA/HORA | M28: RENDIMIENTO | O28: Vr. UNITARIO
C32: SUBTOTAL $
C33: II. MATERIALES
C36: DESCRIPCIÓN | K36: UNIDAD | L36: CANTIDAD | M36: PRECIO UNIT. | O36: Vr. UNITARIO
C39: SUBTOTAL $ | O39: 0
C40: III. TRANSPORTES
C43: MATERIAL | J43: VOL. o PESO | K43: DISTANCIA | L43: M3 o Ton/Km | M43: TARIFA | O43: Vr. UNITARIO
C46: SUBTOTAL $
C47: IV. MANO DE OBRA
C50: TRABAJADOR | J50: JORNAL | K50: PRESTACIONES | L50: JORNAL TOTAL | M50: RENDIMIENTO | O50: Vr. UNITARIO
C55: SUBTOTAL $
C57: TOTAL COSTO DIRECTO $
C58: V. COSTOS INDIRECTOS
C61: Descripción | L61: Porcentaje | M61: Valor Total
C62: ADMINISTRACION
C63: IMPREVISTOS
C64: UTILIDAD
C65: SUBTOTAL $
C67: Precio Unitario Total Aproximado al peso $
H71: Firma
H72: Nombre:
H73: Representante Legal del Contratista o su Apoderado
H74: Matricula No. :
C76: OBSERVACIONES INTERVENTORÍA
C80: APROBACIÓN POR INTERVENTORÍA
C81: Nota 1: Cuando se trate de Análisis de precios unitarios correspondientes a ítems de la propuesta económica aprobada, el Interventor aprueba el desglose de los componentes manteniendo el mismo precio unitario de cada ítem, cumpliendo con las especificaciones de construcción vigentes para el proyecto.
C83: Nota 2: Cuando se trate de Análisis de precios unitarios de ítems no previstos, el Interventor aprueba el desglose y precio unitario de cada ítem no previsto, exigiendo la aplicación de los costos correspondientes a insumos y tarifas de la propuesta económica inicial cuando estén contemplados, cumpliendo con las especificaciones de construcción vigente para el proyecto.
...

Sheet A.I.U
A2: ANALISIS DE COSTOS INDIRECTOS (A.I.U)
A4: MEJORAMIENTO DE VÍAS RURALES MEDIANTE LA CONSTRUCCIÓN DE PLACA HUELLAS EN EL MARCO DE EJECUCIONES DE LOS CONVENIOS INTER ADMINISTRATIVOS No. (ICCU-1238-2025 – SECTOR HACIENDA CASA ROJA LA LAGUNA), (ICCU-566-2025 - SECTOR HACIENDA LA CUBA), (ICCU-1491-2025 – SECTOR LOMA AMARILLA), (ICCU-1175-2025 - SECTOR UNO VÍA A COLORADOS), (ICCU-1535-2025 - SECTOR EL CASINO), SUSCRITOS ENTRE EL INSTITUTO DE CAMINOS Y CONSTRUCCIONES DE CUNDINAMARCA – ICCU Y EL MUNICIPIO DE PUERTO SALGAR CUNDINAMARCA.
A6: TIEMPO ESTIMADO EJECUCIÓN DE OBRA: | C6: 4 | D6: MES
A8: COSTO DIRECTO ESTIMADO DE OBRA (CD) | D8: 500000000
A10: ANALISIS DE COSTOS INDIRECTOS
A12: A. ADMINISTRACIÓN
A13: 1. COSTOS MENSUALES DE PERSONAL
A14: # | B14: CARGO | C14: CATEGORÍA | D14: DEDICACIÓN MES | E14: TOPE MÁXIMO SALARIO | F14: FACTOR PRESTACIONAL | G14: SALARIO MÁS PRESTACIONES
A15: A | D15: B | E15: C | F15: D | G15: E = A * B * C * D
A16: 1.1 PERSONAL PROFESIONAL (Ingenieros y Otros)
A17: 1 | B17: DIRECTOR DE PROYECTO | C17: 4 | D17: 0.5 | E17: 3100000 | F17: 1 | G17: =ROUND(A17*D17*E17*F17,0) -> 1550000
A18: 2 | B18: RESIDENTE OBRA | C18: 6 | D18: 0.8 | E18: 2500000 | F18: 1 | G18: =ROUND(A18*D18*E18*F18,0) -> 4000000
A19: 1 | B19: PROFESIONAL EN SALUD Y SEGURIDAD EN EL TRABAJO | C19: 6 | D19: 0.8 | E19: 2100000 | F19: 1 | G19: =ROUND(A19*D19*E19*F19,0) -> 1680000
A20: 1.2 PERSONAL TÉCNICO Y PERSONAL AUXILIAR TÉCNICO
A21: 1 | B21: MAESTRO DE OBRA | C21: 6 | D21: 1 | E21: 2000000 | F21: 1 | G21: =ROUND(A21*D21*E21*F21,0) -> 2000000
A22: SUBTOTAL COSTOS MENSUALES DE PERSONAL | G22: =SUM(G17:G21) -> 9230000
A24: 2. GASTOS OPERACIONALES MENSUALES | C24: ÁREA (M2) | D24: DEDICACIÓN | E24: DEDICACIÓN X ÁREA (M2) | F24: COSTO ($/M2.MES | G24: VALOR ($)
A25: ARRIENDO OFICINA INCL. ADMINISTRACIÓN, SERVICIOS PÚBLICOS, COMUNICACIONES | C25: 10 | D25: 1 | E25: 10 | F25: 100000 | G25: =ROUND(F25*E25,0) -> 1000000
A26: PAPELERIA | G26: 100000
A28: SUBTOTAL GASTOS OPERACIONALES MENSUALES | G28: =SUM(G25:G27) -> 1100000
A30: TOTAL COSTOS PERSONAL + GASTOS OPERACIONALES POR EL TÉRMINO DE EJECUCIÓN | G30: =C6*(G22+G28) -> 41320000
A31: TOTAL COSTOS PERSONAL + GASTOS OPERACIONALES POR EL TÉRMINO DE EJECUCIÓN EN PORCENTAJE DEL COSTO DIRECTO | G31: =ROUND(G30/D8,2) -> 0.08
A33: 3. IMPUESTOS Y GARANTÍAS
A34: 3.1 IMPUESTOS
A35: DESCRIPCIÓN | G35: IMPUESTO
A36: RETEFUENTE | G36: 0.02
A37: ESTAMPILLA JUSTICIA FAMILIAR | G37: 0.02
A38: ESTAMPILLA PROCULTURA | G38: 0.02
A39: TASA PRODEPORTE | G39: 0.015
A40: RETEICA | G40: 0.01
A41: ESTAMPILLA PRO-ADULTO MAYOR | G41: 0.04
A42: CONTRIBUCIÓN FONDO DE SEGURIDAD SOBRE CONTRATOS DE OBRA PÚBLICA | G42: 0.05
A43: SUBTOTAL IMPUESTOS | G43: =SUM(G36:G42) -> 0.175
A44: 3.2 GARANTÍAS
A45: DESCRIPCIÓN | C45: VR. BASE | D45: % ASEGURADO | E45: VIGENCIA AMPARO | F45: TASA ASEGURADORA | G45: VALOR ($)
A46: G. ÚNICA | B46: CUMPLIMIENTO | C46: =D8*D46 -> 150000000 | D46: 0.3 | E46: Hasta la liquidación del contrato | F46: 0.003 | G46: =(C46*D46)/C6 -> 11250000
B47: SALARIOS Y PRESTACIONES SOCIALES | C47: =D8*D47 -> 150000000 | D47: 0.3 | E47: Plazo del contrato y tres (3) años más. | F47: 0.003 | G47: =(C47*D47)/C6 -> 11250000
B48: ESTABILIDAD Y CALIDAD DE OBRA | C48: =D8*D48 -> 150000000 | D48: 0.3 | E48: Cinco (5) años contados desde la suscripción del acta de recibo de obra | F48: 0.003 | G48: =(C48*D48)/C6 -> 11250000
A49: R.C.E. | B49: PREDIOS, LABORES Y OPERACIONES - VIGENCIA | C49: =D49*F49 -> 350181000 | D49: 200 | E49: Igual al periodo de ejecición del contrato | F49: 1750905 | G49: =C49/C6 -> 87545250
A50: SUBTOTAL GARANTÍAS | G50: =SUM(G46:G49) -> 121295250
...

Sheet APUS

Sheet  1. LAGUNA
I1: DIRECCIONAMIENTO ESTRATÉGICO Y ARTICULACIÓN GERENCIAL | S1: Código | U1: E-DEAG-FR-137
S3: Versión | U3: 3
I4: PRESUPUESTO PROYECTOS ESPECIFICOS DE INFRAESTRUCTURA
S5: Fecha | U5: 45707
A8: SECRETARÍA - ENTIDAD / MUNICIPIO | G8: INSTITUTO DE CAMINOS Y CONSTRUCCIONES DE CUNDINAMARCA - ICCU
A9: ID MGA - NOMBRE DEL PROYECTO | G9: ID MGA 1569645000000 - “MEJORAMIENTO DE LA VÍA QUE CONDUCE DE CENTRO POBLADO DE PUERTO LIBRE A LA VEREDA GUAYABO BAJO, SECTOR HACIENDA CASA ROJA LA LAGUNA DEL MUNICIPIO DE PUERTO SALGAR, CUNDINAMARCA”
W10: MUNICIPIO
A11: LÍNEA ESTRATÉGICA | B11: SECTOR (DNP) | C11: PROGRAMA (DNP) | D11: SUBPROGRAMA (DNP) | E11: No. Y DESCRIPICIÓN META DE PRODUCTO DEL PDD | F11: OBJETIVO ESPECIFICO DEL PROYECTO | G11: CÓDIGO DNP Y NOMBRE DEL PRODUCTO | H11: ACTIVIDADES | I11: TOTALES | K11: Especificación O Norma Técnica | L11: Ítem de Pago | M11: AÑO 2025 | Q11: FUENTES FINANCIACIÓN AÑO 2025 ($) | U11: TOTAL COSTO DIRECTO ($) | W11: Puerto_Salgar
I12: UNIDAD DE MEDIDA | J12: CANTIDAD | M12: UNIDAD DE MEDIDA | N12: CANTIDAD | O12: V/R UNITARIO ($) | P12: V/R TOTAL ($) | Q12: DEPARTAMENTO | R12: NACIÓN | S12: SGP | T12: MUNICIPIO
A13: 3.2.4.4.3. “Competitividad Compartida” | B13: 24 - Transporte | C13: 2402 - Infraestructura red vial regional | D13: 0600 - Intersubsectorial transporte | E13: 288 - Construir 1.200.000 m2 de placa huella para la productividad de las comunidades rurales. | F13: Mejorar la vía terciaria que conduce del casco urbano al centro poblado de Colorados sector uno del municipio de Puerto Salgar | G13: 2402042 - Placa huella construida. | H13: 2- EXCAVACIONES A MANO - RELLENOS - CONCRETOS - APORTE ICCU
H14: EXCAVACIONES VARIAS EN MATERIAL COMÚN SECO A MANO (INCLUYE RETIRO DE SOBRANTES A UNA DISTANCIA MENOR DE 5 KM) | I14: M3 | J14: 7.64 | K14: 600 INVIAS | L14: 600.4 P | M14: M3 | N14: =J14 -> 7.64 | O14: =INDEX([143]precios!$B$3:$J$118,MATCH($W$11,[143]precios!$A$3:$A$118,0),4) -> 65346 | P14: =N14*O14 -> 499243.44 | Q14: X | U14: =ROUND(P14,0) -> 499243
H15: CONCRETOS CLASE D, f´c =3000 psi (bases) | I15: M3 | J15: 27.52 | K15: 630 INVIAS | L15: 630.4 | M15: M3 | N15: =J15 -> 27.52 | O15: =INDEX([143]precios!$B$3:$J$118,MATCH($W$11,[143]precios!$A$3:$A$118,0),6) -> 898068 | P15: =N15*O15 -> 24714831 | Q15: X | U15: =ROUND(P15,0) -> 24714831
H16: CONCRETO CICLÓPEO CLASE G, 2000 PSI 40% RAJÓN PARA BASES | I16: M3 | J16: 18.6 | K16: 630 INVIAS | L16: 630.7 | M16: M3 | N16: =J16 -> 18.6 | O16: =INDEX([143]precios!$B$3:$J$118,MATCH($W$11,[143]precios!$A$3:$A$118,0),7) -> 607671 | P16: =N16*O16 -> 11302681 | Q16: X | U16: =ROUND(P16,0) -> 11302681
H17: CUNETA DE CONCRETO CLASE E, 2500 PSI FUNDIDA EN EL LUGAR | I17: M3 | J17: 16.77 | K17: 671 INVIAS | L17: 671.1 | M17: M3 | N17: =J17 -> 16.77 | O17: =INDEX([143]precios!$B$3:$J$118,MATCH($W$11,[143]precios!$A$3:$A$118,0),8) -> 808897 | P17: =N17*O17 -> 13565203 | Q17: X | U17: =ROUND(P17,0) -> 13565203
H18: SUMINISTRO FIGURADO Y ARMADO DE ACERO DE REFUERZO 60000 PSI | I18: KG | J18: 2955.74 | K18: 640 INVIAS | L18: 640.1 | M18: KG | N18: =J18 -> 2955.74 | O18: =INDEX([143]precios!$B$3:$J$118,MATCH($W$11,[143]precios!$A$3:$A$118,0),9) -> 8494 | P18: =N18*O18 -> 25106056 | Q18: X | U18: =ROUND(P18,0) -> 25106056
H19: SUB TOTAL | U19: =SUM(U14:U18) -> 75188014
A21: VALOR COSTO DIRECTO | U21: =ROUND(U19,0) -> 75188014
A22: AIU | M22: % | N22: 0.33 | U22: =ROUND(SUM(U21*N22),0) -> 24812045
A23: VALOR TOTAL OBRA CIVIL | U23: =ROUND(SUM(U21:U22),0) -> 100000059
A24: INTERVENTORIA | M24: % | N24: 0 | T24: X | U24: =ROUND(U23*N24,0) -> 0
A26: AJUSTE AL PESO | U26: -59
A27: VALOR TOTAL DEL PROYECTO | U27: =SUM(U23:U26) -> 100000000
A28: PRESUPUESTO ELABORADO POR:
A30: LUIS SEBASTIAN TORRES OLAYA -SECRETARIO DE INDRAESTRCUTRA Y OBRAS PUBLICAS TP 25202-436394 CND
A31: SECRETARIO DE INFRAESTRUCTURA Y OBRAS PÚBLICAS
A32: PUERTO SALGAR. CUNDINAMARCA

Sheet 2. LA CUBA
I1: DIRECCIONAMIENTO ESTRATÉGICO Y ARTICULACIÓN GERENCIAL | S1: Código | U1: E-DEAG-FR-137
S3: Versión | U3: 3
I4: PRESUPUESTO PROYECTOS ESPECIFICOS DE INFRAESTRUCTURA
S5: Fecha | U5: 45707
A8: SECRETARÍA - ENTIDAD / MUNICIPIO | G8: INSTITUTO DE CAMINOS Y CONSTRUCCIONES DE CUNDINAMARCA - ICCU
A9: ID MGA - NOMBRE DEL PROYECTO | G9: ID MGA 1408790000000 - “MEJORAMIENTO DE LA VÍA QUE CONDUCE DE LA VEREDA LA REINÉS A LA VEREDA EL GUAYABO SECTOR HACIENDA LA CUBA DEL MUNICIPIO DE PUERTO SALGAR, CUNDINAMARCA”
W10: MUNICIPIO
A11: LÍNEA ESTRATÉGICA | B11: SECTOR (DNP) | C11: PROGRAMA (DNP) | D11: SUBPROGRAMA (DNP) | E11: No. Y DESCRIPICIÓN META DE PRODUCTO DEL PDD | F11: OBJETIVO ESPECIFICO DEL PROYECTO | G11: CÓDIGO DNP Y NOMBRE DEL PRODUCTO | H11: ACTIVIDADES | I11: TOTALES | K11: Especificación O Norma Técnica | L11: Ítem de Pago | M11: AÑO 2025 | Q11: FUENTES FINANCIACIÓN AÑO 2025 ($) | U11: TOTAL COSTO DIRECTO ($) | W11: Puerto_Salgar
I12: UNIDAD DE MEDIDA | J12: CANTIDAD | M12: UNIDAD DE MEDIDA | N12: CANTIDAD | O12: V/R UNITARIO ($) | P12: V/R TOTAL ($) | Q12: DEPARTAMENTO | R12: NACIÓN | S12: SGP | T12: MUNICIPIO
A13: 3.2.4.4.3. “Competitividad Compartida” | B13: 24 - Transporte | C13: 2402 - Infraestructura red vial regional | D13: 0600 - Intersubsectorial transporte | E13: 288 - Construir 1.200.000 m2 de placa huella para la productividad de las comunidades rurales. | F13: Mejorar la vía terciaria que conduce del casco urbano al centro poblado de Colorados sector uno del municipio de Puerto Salgar | G13: 2402042 - Placa huella construida. | H13: 2- EXCAVACIONES A MANO - RELLENOS - CONCRETOS - APORTE ICCU
H14: EXCAVACIONES VARIAS EN MATERIAL COMÚN SECO A MANO (INCLUYE RETIRO DE SOBRANTES A UNA DISTANCIA MENOR DE 5 KM) | I14: M3 | J14: 7.51 | K14: 600 INVIAS | L14: 600.4 P | M14: M3 | N14: =J14 -> 7.51 | O14: =INDEX([143]precios!$B$3:$J$118,MATCH($W$11,[143]precios!$A$3:$A$118,0),4) -> 65346 | P14: =N14*O14 -> 490748.46 | Q14: X | U14: =ROUND(P14,0) -> 490748
H15: CONCRETOS CLASE D, f´c =3000 psi (bases) | I15: M3 | J15: 26.48 | K15: 630 INVIAS | L15: 630.4 | M15: M3 | N15: =J15 -> 26.48 | O15: =INDEX([143]precios!$B$3:$J$118,MATCH($W$11,[143]precios!$A$3:$A$118,0),6) -> 898068 | P15: =N15*O15 -> 23780841 | Q15: X | U15: =ROUND(P15,0) -> 23780841
H16: CONCRETO CICLÓPEO CLASE G, 2000 PSI 40% RAJÓN PARA BASES | I16: M3 | J16: 23.09 | K16: 630 INVIAS | L16: 630.7 | M16: M3 | N16: =J16 -> 23.09 | O16: =INDEX([143]precios!$B$3:$J$118,MATCH($W$11,[143]precios!$A$3:$A$118,0),7) -> 607671 | P16: =N16*O16 -> 14031123 | Q16: X | U16: =ROUND(P16,0) -> 14031123
H17: CUNETA DE CONCRETO CLASE E, 2500 PSI FUNDIDA EN EL LUGAR | I17: M3 | J17: 15.65 | K17: 671 INVIAS | L17: 671.1 | M17: M3 | N17: =J17 -> 15.65 | O17: =INDEX([143]precios!$B$3:$J$118,MATCH($W$11,[143]precios!$A$3:$A$118,0),8) -> 808897 | P17: =N17*O17 -> 12659238 | Q17: X | U17: =ROUND(P17,0) -> 12659238
H18: SUMINISTRO FIGURADO Y ARMADO DE ACERO DE REFUERZO 60000 PSI | I18: KG | J18: 2852.14 | K18: 640 INVIAS | L18: 640.1 | M18: KG | N18: =J18 -> 2852.14 | O18: =INDEX([143]precios!$B$3:$J$118,MATCH($W$11,[143]precios!$A$3:$A$118,0),9) -> 8494 | P18: =N18*O18 -> 24226077 | Q18: X | U18: =ROUND(P18,0) -> 24226077
H19: SUB TOTAL | U19: =SUM(U14:U18) -> 75188027
A21: VALOR COSTO DIRECTO | U21: =ROUND(U19,0) -> 75188027
A22: AIU | M22: % | N22: 0.33 | U22: =ROUND(SUM(U21*N22),0) -> 24812049
A23: VALOR TOTAL OBRA CIVIL | U23: =ROUND(SUM(U21:U22),0) -> 100000076
A24: INTERVENTORIA | M24: % | N24: 0 | T24: X | U24: =ROUND(U23*N24,0) -> 0
A26: AJUSTE AL PESO | U26: -76
A27: VALOR TOTAL DEL PROYECTO | U27: =SUM(U23:U26) -> 100000000
A28: PRESUPUESTO ELABORADO POR:
A30: LUIS SEBASTIAN TORRES OLAYA -SECRETARIO DE INDRAESTRCUTRA Y OBRAS PUBLICAS TP 25202-436394 CND
A31: SECRETARIO DE INFRAESTRUCTURA Y OBRAS PÚBLICAS
A32: PUERTO SALGAR. CUNDINAMARCA

Sheet 3. LOMA AMARILLA
I1: DIRECCIONAMIENTO ESTRATÉGICO Y ARTICULACIÓN GERENCIAL | S1: Código | U1: E-DEAG-FR-137
S3: Versión | U3: 3
I4: PRESUPUESTO PROYECTOS ESPECIFICOS DE INFRAESTRUCTURA
S5: Fecha | U5: 45707
A8: SECRETARÍA - ENTIDAD / MUNICIPIO | G8: INSTITUTO DE CAMINOS Y CONSTRUCCIONES DE CUNDINAMARCA - ICCU
A9: ID MGA - NOMBRE DEL PROYECTO | G9: ID MGA 1408788000000 - “MEJORAMIENTO DE VIA QUE CONDUCE DEL CASCO URBANO AL CENTRO POBLADO DE COLORADOS SECTOR CONOCIDO COMO LOMA AMARILLA DEL MUNICIPIO DE PUERTO SALGAR, DEPARTAMENTO DE CUNDINAMARCA”,
W10: MUNICIPIO
A11: LÍNEA ESTRATÉGICA | B11: SECTOR (DNP) | C11: PROGRAMA (DNP) | D11: SUBPROGRAMA (DNP) | E11: No. Y DESCRIPICIÓN META DE PRODUCTO DEL PDD | F11: OBJETIVO ESPECIFICO DEL PROYECTO | G11: CÓDIGO DNP Y NOMBRE DEL PRODUCTO | H11: ACTIVIDADES | I11: TOTALES | K11: Especificación O Norma Técnica | L11: Ítem de Pago | M11: AÑO 2025 | Q11: FUENTES FINANCIACIÓN AÑO 2025 ($) | U11: TOTAL COSTO DIRECTO ($) | W11: Puerto_Salgar
I12: UNIDAD DE MEDIDA | J12: CANTIDAD | M12: UNIDAD DE MEDIDA | N12: CANTIDAD | O12: V/R UNITARIO ($) | P12: V/R TOTAL ($) | Q12: DEPARTAMENTO | R12: NACIÓN | S12: SGP | T12: MUNICIPIO
A13: 3.2.4.4.3. “Competitividad Compartida” | B13: 24 - Transporte | C13: 2402 - Infraestructura red vial regional | D13: 0600 - Intersubsectorial transporte | E13: 288 - Construir 1.200.000 m2 de placa huella para la productividad de las comunidades rurales. | F13: Mejorar la vía terciaria que conduce del casco urbano al centro poblado de Colorados sector uno del municipio de Puerto Salgar | G13: 2402042 - Placa huella construida. | H13: 2- EXCAVACIONES A MANO - RELLENOS - CONCRETOS - APORTE ICCU
H14: EXCAVACIONES VARIAS EN MATERIAL COMÚN SECO A MANO (INCLUYE RETIRO DE SOBRANTES A UNA DISTANCIA MENOR DE 5 KM) | I14: M3 | J14: 7.51 | K14: 600 INVIAS | L14: 600.4 P | M14: M3 | N14: =J14 -> 7.51 | O14: =INDEX([143]precios!$B$3:$J$118,MATCH($W$11,[143]precios!$A$3:$A$118,0),4) -> 65346 | P14: =N14*O14 -> 490748.46 | Q14: X | U14: =ROUND(P14,0) -> 490748
H15: CONCRETOS CLASE D, f´c =3000 psi (bases) | I15: M3 | J15: 26.48 | K15: 630 INVIAS | L15: 630.4 | M15: M3 | N15: =J15 -> 26.48 | O15: =INDEX([143]precios!$B$3:$J$118,MATCH($W$11,[143]precios!$A$3:$A$118,0),6) -> 898068 | P15: =N15*O15 -> 23780841 | Q15: X | U15: =ROUND(P15,0) -> 23780841
H16: CONCRETO CICLÓPEO CLASE G, 2000 PSI 40% RAJÓN PARA BASES | I16: M3 | J16: 23.09 | K16: 630 INVIAS | L16: 630.7 | M16: M3 | N16: =J16 -> 23.09 | O16: =INDEX([143]precios!$B$3:$J$118,MATCH($W$11,[143]precios!$A$3:$A$118,0),7) -> 607671 | P16: =N16*O16 -> 14031123 | Q16: X | U16: =ROUND(P16,0) -> 14031123
H17: CUNETA DE CONCRETO CLASE E, 2500 PSI FUNDIDA EN EL LUGAR | I17: M3 | J17: 15.65 | K17: 671 INVIAS | L17: 671.1 | M17: M3 | N17: =J17 -> 15.65 | O17: =INDEX([143]precios!$B$3:$J$118,MATCH($W$11,[143]precios!$A$3:$A$118,0),8) -> 808897 | P17: =N17*O17 -> 12659238 | Q17: X | U17: =ROUND(P17,0) -> 12659238
H18: SUMINISTRO FIGURADO Y ARMADO DE ACERO DE REFUERZO 60000 PSI | I18: KG | J18: 2852.14 | K18: 640 INVIAS | L18: 640.1 | M18: KG | N18: =J18 -> 2852.14 | O18: =INDEX([143]precios!$B$3:$J$118,MATCH($W$11,[143]precios!$A$3:$A$118,0),9) -> 8494 | P18: =N18*O18 -> 24226077 | Q18: X | U18: =ROUND(P18,0) -> 24226077
H19: SUB TOTAL | U19: =SUM(U14:U18) -> 75188027
A21: VALOR COSTO DIRECTO | U21: =ROUND(U19,0) -> 75188027
A22: AIU | M22: % | N22: 0.33 | U22: =ROUND(SUM(U21*N22),0) -> 24812049
A23: VALOR TOTAL OBRA CIVIL | U23: =ROUND(SUM(U21:U22),0) -> 100000076
A24: INTERVENTORIA | M24: % | N24: 0 | T24: X | U24: =ROUND(U23*N24,0) -> 0
A26: AJUSTE AL PESO | U26: -76
A27: VALOR TOTAL DEL PROYECTO | U27: =SUM(U23:U26) -> 100000000
A28: PRESUPUESTO ELABORADO POR:
A30: LUIS SEBASTIAN TORRES OLAYA -SECRETARIO DE INDRAESTRCUTRA Y OBRAS PUBLICAS TP 25202-436394 CND
A31: SECRETARIO DE INFRAESTRUCTURA Y OBRAS PÚBLICAS
A32: PUERTO SALGAR. CUNDINAMARCA

Sheet 4.SECTOR UNO
I1: DIRECCIONAMIENTO ESTRATÉGICO Y ARTICULACIÓN GERENCIAL | S1: Código | U1: E-DEAG-FR-137
S3: Versión | U3: 3
I4: PRESUPUESTO PROYECTOS ESPECIFICOS DE INFRAESTRUCTURA
S5: Fecha | U5: 45707
A8: SECRETARÍA - ENTIDAD / MUNICIPIO | G8: INSTITUTO DE CAMINOS Y CONSTRUCCIONES DE CUNDINAMARCA - ICCU
A9: ID MGA - NOMBRE DEL PROYECTO | G9: ID MGA 1408799000000 - “MEJORAMIENTO VIA QUE CONDUCE DEL CASCO URBANO AL CENTRO POBLADO DE COLORADOS SECTOR UNO DEL MUNICIPIO DE PUERTO SALGAR CUNDINAMARCA”
W10: MUNICIPIO
A11: LÍNEA ESTRATÉGICA | B11: SECTOR (DNP) | C11: PROGRAMA (DNP) | D11: SUBPROGRAMA (DNP) | E11: No. Y DESCRIPICIÓN META DE PRODUCTO DEL PDD | F11: OBJETIVO ESPECIFICO DEL PROYECTO | G11: CÓDIGO DNP Y NOMBRE DEL PRODUCTO | H11: ACTIVIDADES | I11: TOTALES | K11: Especificación O Norma Técnica | L11: Ítem de Pago | M11: AÑO 2025 | Q11: FUENTES FINANCIACIÓN AÑO 2025 ($) | U11: TOTAL COSTO DIRECTO ($) | W11: Puerto_Salgar
I12: UNIDAD DE MEDIDA | J12: CANTIDAD | M12: UNIDAD DE MEDIDA | N12: CANTIDAD | O12: V/R UNITARIO ($) | P12: V/R TOTAL ($) | Q12: DEPARTAMENTO | R12: NACIÓN | S12: SGP | T12: MUNICIPIO
A13: 3.2.4.4.3. “Competitividad Compartida” | B13: 24 - Transporte | C13: 2402 - Infraestructura red vial regional | D13: 0600 - Intersubsectorial transporte | E13: 288 - Construir 1.200.000 m2 de placa huella para la productividad de las comunidades rurales. | F13: Mejorar la vía terciaria que conduce del casco urbano al centro poblado de Colorados sector uno del municipio de Puerto Salgar | G13: 2402042 - Placa huella construida. | H13: 2- EXCAVACIONES A MANO - RELLENOS - CONCRETOS - APORTE ICCU
H14: EXCAVACIONES VARIAS EN MATERIAL COMÚN SECO A MANO (INCLUYE RETIRO DE SOBRANTES A UNA DISTANCIA MENOR DE 5 KM) | I14: M3 | J14: 7.51 | K14: 600 INVIAS | L14: 600.4 P | M14: M3 | N14: =J14 -> 7.51 | O14: =INDEX([143]precios!$B$3:$J$118,MATCH($W$11,[143]precios!$A$3:$A$118,0),4) -> 65346 | P14: =N14*O14 -> 490748.46 | Q14: X | U14: =ROUND(P14,0) -> 490748
H15: CONCRETOS CLASE D, f´c =3000 psi (bases) | I15: M3 | J15: 26.48 | K15: 630 INVIAS | L15: 630.4 | M15: M3 | N15: =J15 -> 26.48 | O15: =INDEX([143]precios!$B$3:$J$118,MATCH($W$11,[143]precios!$A$3:$A$118,0),6) -> 898068 | P15: =N15*O15 -> 23780841 | Q15: X | U15: =ROUND(P15,0) -> 23780841
H16: CONCRETO CICLÓPEO CLASE G, 2000 PSI 40% RAJÓN PARA BASES | I16: M3 | J16: 23.09 | K16: 630 INVIAS | L16: 630.7 | M16: M3 | N16: =J16 -> 23.09 | O16: =INDEX([143]precios!$B$3:$J$118,MATCH($W$11,[143]precios!$A$3:$A$118,0),7) -> 607671 | P16: =N16*O16 -> 14031123 | Q16: X | U16: =ROUND(P16,0) -> 14031123
H17: CUNETA DE CONCRETO CLASE E, 2500 PSI FUNDIDA EN EL LUGAR | I17: M3 | J17: 15.65 | K17: 671 INVIAS | L17: 671.1 | M17: M3 | N17: =J17 -> 15.65 | O17: =INDEX([143]precios!$B$3:$J$118,MATCH($W$11,[143]precios!$A$3:$A$118,0),8) -> 808897 | P17: =N17*O17 -> 12659238 | Q17: X | U17: =ROUND(P17,0) -> 12659238
H18: SUMINISTRO FIGURADO Y ARMADO DE ACERO DE REFUERZO 60000 PSI | I18: KG | J18: 2852.137 | K18: 640 INVIAS | L18: 640.1 | M18: KG | N18: =J18 -> 2852.137 | O18: =INDEX([143]precios!$B$3:$J$118,MATCH($W$11,[143]precios!$A$3:$A$118,0),9) -> 8494 | P18: =N18*O18 -> 24226052 | Q18: X | U18: =ROUND(P18,0) -> 24226052
H19: SUB TOTAL | U19: =SUM(U14:U18) -> 75188002
A21: VALOR COSTO DIRECTO | U21: =ROUND(U19,0) -> 75188002
A22: AIU | M22: % | N22: 0.33 | U22: =ROUND(SUM(U21*N22),0) -> 24812041
A23: VALOR TOTAL OBRA CIVIL | U23: =ROUND(SUM(U21:U22),0) -> 100000043
A24: INTERVENTORIA | M24: % | N24: 0 | T24: X | U24: =ROUND(U23*N24,0) -> 0
A26: AJUSTE AL PESO | U26: -43
A27: VALOR TOTAL DEL PROYECTO | U27: =SUM(U23:U26) -> 100000000
A29: PRESUPUESTO ELABORADO POR:
A31: LUIS SEBASTIAN TORRES OLAYA -SECRETARIO DE INDRAESTRCUTRA Y OBRAS PUBLICAS TP 25202-436394 CND
A32: SECRETARIO DE INFRAESTRUCTURA Y OBRAS PÚBLICAS
A33: PUERTO SALGAR. CUNDINAMARCA

Sheet 5. CASINO
I1: DIRECCIONAMIENTO ESTRATÉGICO Y ARTICULACIÓN GERENCIAL | S1: Código | U1: E-DEAG-FR-137
S3: Versión | U3: 3
I4: PRESUPUESTO PROYECTOS ESPECIFICOS DE INFRAESTRUCTURA
S5: Fecha | U5: 45707
A8: SECRETARÍA - ENTIDAD / MUNICIPIO | G8: INSTITUTO DE CAMINOS Y CONSTRUCCIONES DE CUNDINAMARCA - ICCU
A9: ID MGA - NOMBRE DEL PROYECTO | G9: ID MGA 1429828000000 - “MEJORAMIENTO DE LA VÍA QUE CONDUCE DE LA VEREDA TRES Y MEDIO HACIA EL CENTRO POBLADO DE COLORADOS EN EL SECTOR EL CASINO DEL MUNICIPIO DE PUERTO SALGAR, DEPARTAMENTO DE CUNDINAMARCA”
W10: MUNICIPIO
A11: LÍNEA ESTRATÉGICA | B11: SECTOR (DNP) | C11: PROGRAMA (DNP) | D11: SUBPROGRAMA (DNP) | E11: No. Y DESCRIPICIÓN META DE PRODUCTO DEL PDD | F11: OBJETIVO ESPECIFICO DEL PROYECTO | G11: CÓDIGO DNP Y NOMBRE DEL PRODUCTO | H11: ACTIVIDADES | I11: TOTALES | K11: Especificación O Norma Técnica | L11: Ítem de Pago | M11: AÑO 2025 | Q11: FUENTES FINANCIACIÓN AÑO 2025 ($) | U11: TOTAL COSTO DIRECTO ($) | W11: Puerto_Salgar
I12: UNIDAD DE MEDIDA | J12: CANTIDAD | M12: UNIDAD DE MEDIDA | N12: CANTIDAD | O12: V/R UNITARIO ($) | P12: V/R TOTAL ($) | Q12: DEPARTAMENTO | R12: NACIÓN | S12: SGP | T12: MUNICIPIO
A13: 3.2.4.4.3. “Competitividad Compartida” | B13: 24 - Transporte | C13: 2402 - Infraestructura red vial regional | D13: 0600 - Intersubsectorial transporte | E13: 288 - Construir 1.200.000 m2 de placa huella para la productividad de las comunidades rurales. | F13: Mejorar la vía terciaria que conduce del casco urbano al centro poblado de Colorados sector uno del municipio de Puerto Salgar | G13: 2402042 - Placa huella construida. | H13: 2- EXCAVACIONES A MANO - RELLENOS - CONCRETOS - APORTE ICCU
H14: EXCAVACIONES VARIAS EN MATERIAL COMÚN SECO A MANO (INCLUYE RETIRO DE SOBRANTES A UNA DISTANCIA MENOR DE 5 KM) | I14: M3 | J14: 7.51 | K14: 600 INVIAS | L14: 600.4 P | M14: M3 | N14: =J14 -> 7.51 | O14: =INDEX([143]precios!$B$3:$J$118,MATCH($W$11,[143]precios!$A$3:$A$118,0),4) -> 65346 | P14: =N14*O14 -> 490748.46 | Q14: X | U14: =ROUND(P14,0) -> 490748
H15: CONCRETOS CLASE D, f´c =3000 psi (bases) | I15: M3 | J15: 26.48 | K15: 630 INVIAS | L15: 630.4 | M15: M3 | N15: =J15 -> 26.48 | O15: =INDEX([143]precios!$B$3:$J$118,MATCH($W$11,[143]precios!$A$3:$A$118,0),6) -> 898068 | P15: =N15*O15 -> 23780841 | Q15: X | U15: =ROUND(P15,0) -> 23780841
H16: CONCRETO CICLÓPEO CLASE G, 2000 PSI 40% RAJÓN PARA BASES | I16: M3 | J16: 23.09 | K16: 630 INVIAS | L16: 630.7 | M16: M3 | N16: =J16 -> 23.09 | O16: =INDEX([143]precios!$B$3:$J$118,MATCH($W$11,[143]precios!$A$3:$A$118,0),7) -> 607671 | P16: =N16*O16 -> 14031123 | Q16: X | U16: =ROUND(P16,0) -> 14031123
H17: CUNETA DE CONCRETO CLASE E, 2500 PSI FUNDIDA EN EL LUGAR | I17: M3 | J17: 15.65 | K17: 671 INVIAS | L17: 671.1 | M17: M3 | N17: =J17 -> 15.65 | O17: =INDEX([143]precios!$B$3:$J$118,MATCH($W$11,[143]precios!$A$3:$A$118,0),8) -> 808897 | P17: =N17*O17 -> 12659238 | Q17: X | U17: =ROUND(P17,0) -> 12659238
H18: SUMINISTRO FIGURADO Y ARMADO DE ACERO DE REFUERZO 60000 PSI | I18: KG | J18: 2852.137 | K18: 640 INVIAS | L18: 640.1 | M18: KG | N18: =J18 -> 2852.137 | O18: =INDEX([143]precios!$B$3:$J$118,MATCH($W$11,[143]precios!$A$3:$A$118,0),9) -> 8494 | P18: =N18*O18 -> 24226052 | Q18: X | U18: =ROUND(P18,0) -> 24226052
H19: SUB TOTAL | U19: =SUM(U14:U18) -> 75188002
A21: VALOR COSTO DIRECTO | U21: =ROUND(U19,0) -> 75188002
A22: AIU | M22: % | N22: 0.33 | U22: =ROUND(SUM(U21*N22),0) -> 24812041
A23: VALOR TOTAL OBRA CIVIL | U23: =ROUND(SUM(U21:U22),0) -> 100000043
A24: INTERVENTORIA | M24: % | N24: 0 | T24: X | U24: =ROUND(U23*N24,0) -> 0
A26: AJUSTE AL PESO | U26: -43
A27: VALOR TOTAL DEL PROYECTO | U27: =SUM(U23:U26) -> 100000000
A28: PRESUPUESTO ELABORADO POR:
A30: LUIS SEBASTIAN TORRES OLAYA -SECRETARIO DE INDRAESTRCUTRA Y OBRAS PUBLICAS TP 25202-436394 CND
A31: SECRETARIO DE INFRAESTRUCTURA Y OBRAS PÚBLICAS
A32: PUERTO SALGAR. CUNDINAMARCA
