Workbook

Sheet ANEXO 1
B1: ANEXO 1
D2: ANÁLISIS DE COTIZACIONES
D3: ADQUISICIÓN DE AERONAVES NO TRIPULADAS UAS O RPA O DRONE TIPO MULTIROTOR CON TODOS LOS ACCESORIOS, PARA EL GRUPO DE OPERACIONES AEREAS Y MEDIOS TECNOLÓGICOS DE LA DIRECCIÓN DEL CTI
N5: ANÁLISIS DE VARIABLES
N6: VALORES SIN IVA
N7: VALOR UNITARIO SIN IVA | O7: VALOR UNITARIO SIN IVA | P7: VALOR UNITARIO SIN IVA | Q7: VALOR UNITARIO SIN IVA
B8: NECESIDAD | H8: COTIZACION ACRE COLOMBIA | I8: COTIZACION AEROTECNICA | J8: COTIZACION HELIOS | K8: COTIZACION MERCATOR | L8: COTIZACION SKY MOTION | S8: VALOR SELECCIONADO
B9: ITEM | C9: DESCRIPCIÓN DEL BIEN | D9: UNIDAD DE MEDIDA | E9: CANTIDAD | H9: VALOR UNITARIO SIN IVA | I9: VALOR UNITARIO SIN IVA | J9: VALOR UNITARIO SIN IVA | K9: VALOR UNITARIO SIN IVA | L9: VALOR UNITARIO SIN IVA | N9: COTIZACIÓN MÁS BAJA | O9: COTIZACIÓN MÁS ALTA | P9: PROMEDIO | Q9: MEDIA ARITMÉTICA BAJA | S9: VALOR UNITARIO SIN IVA | T9: IVA UNITARIO | U9: VALOR UNITARIO INCLUIDO IVA | V9: VALOR TOTAL INCLUIDO IVA
B10: 1 | C10: AERONAVE NO TRIPULADA DRONE - CON CAMARA TERMICA - FICHA TECNICA No.1 | D10: unidad | E10: 1 | H10: 48960000 | I10: 85815126 | J10: 64967170 | K10: 51431090 | L10: 60700834 | N10: =ROUND(MIN(H10,J10,K10,L10),2) -> 48960000 | O10: =ROUND(MAX(H10,J10,K10,L10),2) -> 64967170 | P10: =ROUND(AVERAGE(H10,J10,K10,L10),2) -> 56514774 | Q10: =ROUND(AVERAGE(N10,P10),2) -> 52737387 | S10: =Q10 -> 52737387 | T10: =ROUND(S10*19%,2) -> 10020103 | U10: =ROUND(S10+T10,2) -> 62757490 | V10: =ROUND(U10*$E10,2) -> 62757490
B11: 2 | C11: AERONAVE NO TRIPULADA DRONE - FICHA TECNICA No.2 | D11: unidad | E11: 1 | H11: 42240000 | I11: 77411765 | J11: 54136981 | K11: 44708401 | L11: 54627725 | N11: =ROUND(MIN(H11,J11,K11,L11),2) -> 42240000 | O11: =ROUND(MAX(H11,J11,K11,L11),2) -> 54627725 | P11: =ROUND(AVERAGE(H11,J11,K11,L11),2) -> 48928277 | Q11: =ROUND(AVERAGE(N11,P11),2) -> 45584138 | S11: =Q11 -> 45584138 | T11: =ROUND(S11*19%,2) -> 8660986.3 | U11: =ROUND(S11+T11,2) -> 54245125 | V11: =ROUND(U11*$E11,2) -> 54245125
B13: TOTAL | H13: =SUM(H10:H12) -> 91200000 | L13: =SUM(L10:L12) -> 115328559 | V13: =ROUND(SUM(V10:V12),2) -> 1.1700261e+08
Y14: ,
B16: Estudio del Sector 266
B17: Fecha de elaboración: 25/03/2026

Sheet ANEXO 2
A1: ANEXO 2
C2: ANÁLISIS GASTO HISTÓRICO
C3: ADQUISICIÓN DE AERONAVES NO TRIPULADAS UAS O RPA O DRONE TIPO MULTIROTOR CON TODOS LOS ACCESORIOS, PARA EL GRUPO DE OPERACIONES AEREAS Y MEDIOS TECNOLÓGICOS DE LA DIRECCIÓN DEL CTI
A5: NECESIDAD | F5: FGN-NC-0241-2022 | H5: noviembre 2022 | I5: marzo 2026 | K5: ANÁLISIS PROYECCIÓN GASTO HISTÓRICO (IPC / Indices - Serie de empalme)
A6: ITEM | B6: DESCRIPCIÓN DEL BIEN | C6: UNIDAD DE MEDIDA | D6: CANTIDAD | F6: VALOR UNITARIO SIN IVA | H6: 1.2446 | I6: 1.5573 | K6: VALOR UNITARIO SIN IVA | L6: IVA | M6: VALOR TOTAL INCLUIDO IVA
A7: 1 | B7: AERONAVE NO TRIPULADA DRONE - CON CAMARA TERMICA - FICHA TECNICA No.1 | C7: unidad | D7: 1 | F7: 28564300 | H7: =ROUND(($I$6/$H$6)*F7,2) -> 35740948 | K7: =H7 -> 35740948 | L7: =ROUND(K7*19%,2) -> 6790780.2 | M7: =ROUND((K7+L7)*D7,2) -> 42531729
A8: 2 | B8: AERONAVE NO TRIPULADA DRONE - FICHA TECNICA No.2 | C8: unidad | D8: 1 | F8: 2487100 | H8: =ROUND(($I$6/$H$6)*F8,2) -> 3111972.4 | K8: =H8 -> 3111972.4 | L8: =ROUND(K8*19%,2) -> 591274.75 | M8: =ROUND((K8+L8)*D8,2) -> 3703247.1
B10: Estudio del Sector 266
B11: Fecha de elaboración: 25/03/2026

Sheet ANEXO 3
A1: ANEXO 3
C2: ANÁLISIS PARA ESTABLECER EL VALOR FINAL
C3: ADQUISICIÓN DE AERONAVES NO TRIPULADAS UAS O RPA O DRONE TIPO MULTIROTOR CON TODOS LOS ACCESORIOS, PARA EL GRUPO DE OPERACIONES AEREAS Y MEDIOS TECNOLÓGICOS DE LA DIRECCIÓN DEL CTI
A5: NECESIDAD | F5: ANÁLISIS DE COTIZACIONES | H5: ANÁLISIS GASTO HISTÓRICO | J5: VALOR SELECCIONADO
A6: ITEM | B6: DESCRIPCIÓN DEL BIEN | C6: UNIDAD DE MEDIDA | D6: CANTIDAD | F6: VALOR UNITARIO SIN IVA | H6: VALOR UNITARIO SIN IVA | J6: VALOR UNITARIO SIN IVA | K6: IVA UNITARIO | L6: VALOR UNITARIO INCLUIDO IVA | M6: VALOR TOTAL INCLUIDO IVA
A7: 1 | B7: AERONAVE NO TRIPULADA DRONE - CON CAMARA TERMICA - FICHA TECNICA No.1 | C7: unidad | D7: 1 | F7: ='ANEXO 1'!Q10 -> 52737387 | H7: {='ANEXO 2'!$H$7:$I$7} -> 35740948 | I7: 0 | J7: =ROUND(AVERAGE(F7),2) -> 52737387 | K7: =ROUND(J7*19%,2) -> 10020103 | L7: =ROUND(J7+K7,2) -> 62757490 | M7: =ROUND(L7*D7,2) -> 62757490
A8: 2 | B8: AERONAVE NO TRIPULADA DRONE - FICHA TECNICA No.2 | C8: unidad | D8: 1 | F8: ='ANEXO 1'!Q11 -> 45584138 | H8: {='ANEXO 2'!$H$8:$I$8} -> 3111972.4 | I8: 0 | J8: =ROUND(AVERAGE(F8),2) -> 45584138 | K8: =ROUND(J8*19%,2) -> 8660986.3 | L8: =ROUND(J8+K8,2) -> 54245125 | M8: =ROUND(L8*D8,2) -> 54245125
A11: TOTAL | M11: =+SUM(M7:M8) -> 1.1700261e+08
B14: Estudio del Sector 266
B15: Fecha de elaboración: 25/03/2026

Sheet ANEXO 4
A1: ANEXO 4
C2: ESTUDIO DE MERCADO DEFINITIVO
C3: ADQUISICIÓN DE AERONAVES NO TRIPULADAS UAS O RPA O DRONE TIPO MULTIROTOR CON TODOS LOS ACCESORIOS, PARA EL GRUPO DE OPERACIONES AEREAS Y MEDIOS TECNOLÓGICOS DE LA DIRECCIÓN DEL CTI
A5: NECESIDAD | F5: VALOR SELECCIONADO
A6: ITEM | B6: DESCRIPCIÓN DEL BIEN | C6: UNIDAD DE MEDIDA | D6: CANTIDAD | F6: VALOR UNITARIO SIN IVA | G6: IVA UNITARIO | H6: VALOR UNITARIO INCLUIDO IVA | I6: VALOR TOTAL INCLUIDO IVA
A7: 1 | B7: AERONAVE NO TRIPULADA DRONE - CON CAMARA TERMICA - FICHA TECNICA No.1 | C7: unidad | D7: 1 | F7: ='ANEXO 3'!J7 -> 52737387 | G7: =ROUND(F7*19%,2) -> 10020103 | H7: =ROUND(F7+G7,2) -> 62757490 | I7: =ROUND(H7*D7,2) -> 62757490
A8: 2 | B8: AERONAVE NO TRIPULADA DRONE - FICHA TECNICA No.2 | C8: unidad | D8: 1 | F8: ='ANEXO 3'!J8 -> 45584138 | G8: =ROUND(F8*19%,2) -> 8660986.3 | H8: =ROUND(F8+G8,2) -> 54245125 | I8: =ROUND(H8*D8,2) -> 54245125
A10: TOTAL | I10: =SUM(I7:I8) -> 1.1700261e+08
B13: Estudio del Sector 266
B14: Fecha de elaboración: 25/03/2026
