Workbook
Name Alcance6: '[1]Presupuesto Contrato'!#REF!
Name JHHHHH: #REF!
Name JHHHHH: #REF!
Name JHHHHH: #REF!
Name JHHHHH: #REF!
Name JHHHHH: #REF!
Name JHHHHH: #REF!
Name JHHHHH: 'Cuadro A - Presupuesto'!#REF!
Name JHHHHH: #REF!
Name JHHHHH: #REF!
Name jjjj: #REF!

Sheet POI Fisico
F2: CONTROL DE CUMPLIMIENTO DE EJECUCIÓN FÍSICA | L2: Versión 01
L3: Fecha Versión:
C6: CONTRATO 110-CNT2011-148
C7: Objeto | D7: Formulación de los Planes de Ordenamiento del Recurso Hídrico en cuerpos de agua priorizados por la Corporación
C8: Fecha de Inicio | D8: 44152
C9: Fecha de Vencimiento | D9: 44912
C10: Fecha de corte | D10: 44152
C11: Porcentaje de Ejecución | D11: =+(D10-D8)/(D9-D8) -> 0
C12: OBSERVACIONES:
C13: CONVENCIONES: P=Meta Proyectada, E=Ejecución
B15: Descripción | E15: Cantidad | F15: Producto | G15: % de Importancia | H15: Mes (1) 17/11/2020 al 16/12/2020 | M15: Mes (2) 17/12/2020 al 16/01/2021 | R15: Mes (3) 17/01/2021 al 16/02/2021 | W15: Mes (4) 17/02/2021 al 16/03/2021 | AB15: Mes (5) 17/03/2021 al 16/04/2021 | AG15: Mes (6) 17/04/2021 al 16/05/2021 | AL15: Mes (7) 17/05/2021 al 16/06/2021 | AQ15: Mes (8) 17/06/2021 al 16/07/2021 | AV15: Mes (9) 17/07/2021 al 16/08/2021 | BA15: Mes (10) 17/08/2021 al 16/09/2021 | BF15: Mes (11) 17/09/2021 al 16/10/2021 | BK15: Mes (12) 17/10/2021 al 16/11/2021 | BP15: Mes (13) 17/11/2021 al 16/12/2021 | BU15: Mes (14) 17/12/2021 al 16/01/2022 | BZ15: TOTALES
H16: P | I16: E | J16: cumplim. | K16: eficacia | L16: Observación Cualitativas | M16: P | N16: E | O16: cumplim. | P16: eficacia | Q16: Observación Cualitativas | R16: P | S16: E | T16: C | U16: eficacia | V16: Observación Cualitativas | W16: P | X16: E | Y16: C | Z16: eficacia | AA16: Observación Cualitativas | AB16: P | AC16: E | AD16: C | AE16: eficacia | AF16: Observación Cualitativas | AG16: P | AH16: E | AI16: C | AJ16: eficacia | AK16: Observación Cualitativas | AL16: P | AM16: E | AN16: C | AO16: eficacia | AP16: Observación Cualitativas | AQ16: P | AR16: E | AS16: C | AT16: eficacia | AU16: Observación Cualitativas | AV16: P | AW16: E | AX16: C | AY16: eficacia | AZ16: Observación Cualitativas | BA16: P | BB16: E | BC16: C | BD16: eficacia | BE16: Observación Cualitativas | BF16: P | BG16: E | BH16: C | BI16: eficacia | BJ16: Observación Cualitativas | BK16: P | BL16: E | BM16: C | BN16: eficacia | BO16: Observación Cualitativas | BP16: P | BQ16: E | BR16: C | BS16: eficacia | BT16: Observación Cualitativas | BU16: P | BV16: E | BW16: C | BX16: eficacia | BY16: Observación Cualitativas | BZ16: Meta Proyectada | CA16: Meta Ejecutada | CB16: Cumplimiento | CC16: eficacia
B17: 1 | C17: ALCANCE 1 | D17: FASE DE DECLARATORIA | E17: =SUM(E18:E20) -> 112 | F17: Actos administrativos | G17: 0.1
B18: 1.1 | C18: Actividad 1.1 | D18: Realizar la Declaratoria en ordenamient de las corrientes R. Dolores, R. Yarumalito, Q. La Noque, Q. Sbaleta Trinidad y Q. La vívora | E18: 5 | F18: Doumentos acto administrativo | G18: 0.3 | H18: 5 | J18: =IF(H18="",0,I18/H18) -> 0 | K18: =IFERROR(IF(H18="",0,($G18*(I18/$E18))),0) -> 0 | O18: =IF(M18="",0,N18/M18) -> 0 | P18: =IFERROR(IF(M18="",0,($G18*(N18/$E18))),0) -> 0 | T18: =IF(R18="",0,S18/R18) -> 0 | U18: =IFERROR(IF(R18="",0,($G18*(S18/$E18))),0) -> 0 | Y18: =IF(W18="",0,X18/W18) -> 0 | Z18: =IFERROR(IF(W18="",0,($G18*(X18/$E18))),0) -> 0 | AD18: =IF(AB18="",0,AC18/AB18) -> 0 | AE18: =IFERROR(IF(AB18="",0,($G18*(AC18/$E18))),0) -> 0 | AI18: =IF(AG18="",0,AH18/AG18) -> 0 | AJ18: =IFERROR(IF(AG18="",0,($G18*(AH18/$E18))),0) -> 0 | AN18: =IF(AL18="",0,AM18/AL18) -> 0 | AO18: =IFERROR(IF(AL18="",0,($G18*(AM18/$E18))),0) -> 0 | AS18: =IF(AQ18="",0,AR18/AQ18) -> 0 | AT18: =IFERROR(IF(AQ18="",0,($G18*(AR18/$E18))),0) -> 0 | AX18: =IF(AV18="",0,AW18/AV18) -> 0 | AY18: =IFERROR(IF(AV18="",0,($G18*(AW18/$E18))),0) -> 0 | BC18: =IF(BA18="",0,BB18/BA18) -> 0 | BD18: =IFERROR(IF(BA18="",0,($G18*(BB18/$E18))),0) -> 0 | BH18: =IF(BF18="",0,BG18/BF18) -> 0 | BI18: =IFERROR(IF(BF18="",0,($G18*(BG18/$E18))),0) -> 0 | BM18: =IF(BK18="",0,BL18/BK18) -> 0 | BN18: =IFERROR(IF(BK18="",0,($G18*(BL18/$E18))),0) -> 0 | BR18: =IF(BP18="",0,BQ18/BP18) -> 0 | BS18: =IFERROR(IF(BP18="",0,($G18*(BQ18/$E18))),0) -> 0 | BW18: =IF(BU18="",0,BV18/BU18) -> 0 | BX18: =IFERROR(IF(BU18="",0,($G18*(BV18/$E18))),0) -> 0 | BZ18: =H18+M18+R18+W18+AB18+AG18+AL18+AQ18+AV18+BA18+BF18+BK18+BP18+BU18 -> 5 | CA18: =I18+N18+S18+X18+AC18+AH18+AM18+AR18+AW18+BB18+BG18+BL18+BQ18+BV18 -> 0 | CB18: =IF(BZ18="",0,CA18/BZ18) -> 0 | CC18: =IFERROR(IF(BZ18="",0,($G18*(CA18/$E18))),0) -> 0
B19: 1.2 | C19: Actividad 1.2 | D19: Socialización del proyecto y diligenciamiento del RURH (Incluye 100 refrigerios, gatos de viaje, transporte de tres personas) | E19: 7 | F19: Talleres | G19: 0.1 | J19: =IF(H19="",0,I19/H19) -> 0 | K19: =IFERROR(IF(H19="",0,($G19*(I19/$E19))),0) -> 0 | M19: 7 | O19: =IF(M19="",0,N19/M19) -> 0 | P19: =IFERROR(IF(M19="",0,($G19*(N19/$E19))),0) -> 0 | T19: =IF(R19="",0,S19/R19) -> 0 | U19: =IFERROR(IF(R19="",0,($G19*(S19/$E19))),0) -> 0 | Y19: =IF(W19="",0,X19/W19) -> 0 | Z19: =IFERROR(IF(W19="",0,($G19*(X19/$E19))),0) -> 0 | AD19: =IF(AB19="",0,AC19/AB19) -> 0 | AE19: =IFERROR(IF(AB19="",0,($G19*(AC19/$E19))),0) -> 0 | AI19: =IF(AG19="",0,AH19/AG19) -> 0 | AJ19: =IFERROR(IF(AG19="",0,($G19*(AH19/$E19))),0) -> 0 | AN19: =IF(AL19="",0,AM19/AL19) -> 0 | AO19: =IFERROR(IF(AL19="",0,($G19*(AM19/$E19))),0) -> 0 | AS19: =IF(AQ19="",0,AR19/AQ19) -> 0 | AT19: =IFERROR(IF(AQ19="",0,($G19*(AR19/$E19))),0) -> 0 | AX19: =IF(AV19="",0,AW19/AV19) -> 0 | AY19: =IFERROR(IF(AV19="",0,($G19*(AW19/$E19))),0) -> 0 | BC19: =IF(BA19="",0,BB19/BA19) -> 0 | BD19: =IFERROR(IF(BA19="",0,($G19*(BB19/$E19))),0) -> 0 | BH19: =IF(BF19="",0,BG19/BF19) -> 0 | BI19: =IFERROR(IF(BF19="",0,($G19*(BG19/$E19))),0) -> 0 | BM19: =IF(BK19="",0,BL19/BK19) -> 0 | BN19: =IFERROR(IF(BK19="",0,($G19*(BL19/$E19))),0) -> 0 | BR19: =IF(BP19="",0,BQ19/BP19) -> 0 | BS19: =IFERROR(IF(BP19="",0,($G19*(BQ19/$E19))),0) -> 0 | BW19: =IF(BU19="",0,BV19/BU19) -> 0 | BX19: =IFERROR(IF(BU19="",0,($G19*(BV19/$E19))),0) -> 0 | BZ19: =H19+M19+R19+W19+AB19+AG19+AL19+AQ19+AV19+BA19+BF19+BK19+BP19+BU19 -> 7 | CA19: =I19+N19+S19+X19+AC19+AH19+AM19+AR19+AW19+BB19+BG19+BL19+BQ19+BV19 -> 0 | CB19: =IF(BZ19="",0,CA19/BZ19) -> 0 | CC19: =IFERROR(IF(BZ19="",0,($G19*(CA19/$E19))),0) -> 0
A20: 0 | B20: 1.3 | C20: Actividad 1.3 | D20: Primer acercamiento y diligenciamiento del RURH (incluye gastos de viaje, transporte urbano, transporte rural de dos personas del equipo). | E20: 100 | F20: Recorridos | G20: 0.6 | H20: 20 | J20: =IF(H20="",0,I20/H20) -> 0 | K20: =IFERROR(IF(H20="",0,($G20*(I20/$E20))),0) -> 0 | M20: 80 | O20: =IF(M20="",0,N20/M20) -> 0 | P20: =IFERROR(IF(M20="",0,($G20*(N20/$E20))),0) -> 0 | T20: =IF(R20="",0,S20/R20) -> 0 | U20: =IFERROR(IF(R20="",0,($G20*(S20/$E20))),0) -> 0 | Y20: =IF(W20="",0,X20/W20) -> 0 | Z20: =IFERROR(IF(W20="",0,($G20*(X20/$E20))),0) -> 0 | AD20: =IF(AB20="",0,AC20/AB20) -> 0 | AE20: =IFERROR(IF(AB20="",0,($G20*(AC20/$E20))),0) -> 0 | AI20: =IF(AG20="",0,AH20/AG20) -> 0 | AJ20: =IFERROR(IF(AG20="",0,($G20*(AH20/$E20))),0) -> 0 | AN20: =IF(AL20="",0,AM20/AL20) -> 0 | AO20: =IFERROR(IF(AL20="",0,($G20*(AM20/$E20))),0) -> 0 | AS20: =IF(AQ20="",0,AR20/AQ20) -> 0 | AT20: =IFERROR(IF(AQ20="",0,($G20*(AR20/$E20))),0) -> 0 | AX20: =IF(AV20="",0,AW20/AV20) -> 0 | AY20: =IFERROR(IF(AV20="",0,($G20*(AW20/$E20))),0) -> 0 | BC20: =IF(BA20="",0,BB20/BA20) -> 0 | BD20: =IFERROR(IF(BA20="",0,($G20*(BB20/$E20))),0) -> 0 | BH20: =IF(BF20="",0,BG20/BF20) -> 0 | BI20: =IFERROR(IF(BF20="",0,($G20*(BG20/$E20))),0) -> 0 | BM20: =IF(BK20="",0,BL20/BK20) -> 0 | BN20: =IFERROR(IF(BK20="",0,($G20*(BL20/$E20))),0) -> 0 | BR20: =IF(BP20="",0,BQ20/BP20) -> 0 | BS20: =IFERROR(IF(BP20="",0,($G20*(BQ20/$E20))),0) -> 0 | BW20: =IF(BU20="",0,BV20/BU20) -> 0 | BX20: =IFERROR(IF(BU20="",0,($G20*(BV20/$E20))),0) -> 0 | BZ20: =H20+M20+R20+W20+AB20+AG20+AL20+AQ20+AV20+BA20+BF20+BK20+BP20+BU20 -> 100 | CA20: =I20+N20+S20+X20+AC20+AH20+AM20+AR20+AW20+BB20+BG20+BL20+BQ20+BV20 -> 0 | CB20: =IF(BZ20="",0,CA20/BZ20) -> 0 | CC20: =IFERROR(IF(BZ20="",0,($G20*(CA20/$E20))),0) -> 0
C21: TOTAL ALCANCE 1 | E21: =SUM(E18:E20) -> 112 | G21: =SUM(G18:G20) -> 1 | H21: =SUM(H18:H20) -> 25 | I21: =SUM(I18:I20) -> 0 | J21: =IFERROR(IF(H21="",0,I21/H21),0) -> 0 | K21: =SUM(K18:K19)*$G17 -> 0 | M21: =SUM(M18:M20) -> 87 | N21: =SUM(N18:N20) -> 0 | O21: =IFERROR(IF(M21="",0,N21/M21),0) -> 0 | P21: =SUM(P18:P20)*$G17 -> 0 | R21: =SUM(R18:R20) -> 0 | S21: =SUM(S18:S20) -> 0 | T21: =IFERROR(IF(R21="",0,S21/R21),0) -> 0 | U21: =SUM(U18:U20)*$G17 -> 0 | W21: =SUM(W18:W20) -> 0 | X21: =SUM(X18:X20) -> 0 | Y21: =IFERROR(IF(W21="",0,X21/W21),0) -> 0 | Z21: =SUM(Z18:Z20)*$G17 -> 0 | AB21: =SUM(AB18:AB20) -> 0 | AC21: =SUM(AC18:AC20) -> 0 | AD21: =IFERROR(IF(AB21="",0,AC21/AB21),0) -> 0 | AE21: =SUM(AE18:AE20)*$G17 -> 0 | AG21: =SUM(AG18:AG20) -> 0 | AH21: =SUM(AH18:AH20) -> 0 | AI21: =IFERROR(IF(AG21="",0,AH21/AG21),0) -> 0 | AJ21: =SUM(AJ18:AJ20)*$G17 -> 0 | AL21: =SUM(AL18:AL20) -> 0 | AM21: =SUM(AM18:AM20) -> 0 | AN21: =IFERROR(IF(AL21="",0,AM21/AL21),0) -> 0 | AO21: =SUM(AO18:AO20)*$G17 -> 0 | AQ21: =SUM(AQ18:AQ20) -> 0 | AR21: =SUM(AR18:AR20) -> 0 | AS21: =IFERROR(IF(AQ21="",0,AR21/AQ21),0) -> 0 | AT21: =SUM(AT18:AT20)*$G17 -> 0 | AV21: =SUM(AV18:AV20) -> 0 | AW21: =SUM(AW18:AW20) -> 0 | AX21: =IFERROR(IF(AV21="",0,AW21/AV21),0) -> 0 | AY21: =SUM(AY18:AY20)*$G17 -> 0 | BA21: =SUM(BA18:BA20) -> 0 | BB21: =SUM(BB18:BB20) -> 0 | BC21: =IFERROR(IF(BA21="",0,BB21/BA21),0) -> 0 | BD21: =SUM(BD18:BD20)*$G17 -> 0 | BF21: =SUM(BF18:BF20) -> 0 | BG21: =SUM(BG18:BG20) -> 0 | BH21: =IFERROR(IF(BF21="",0,BG21/BF21),0) -> 0 | BI21: =SUM(BI18:BI20)*$G17 -> 0 | BK21: =SUM(BK18:BK20) -> 0 | BL21: =SUM(BL18:BL20) -> 0 | BM21: =IFERROR(IF(BK21="",0,BL21/BK21),0) -> 0 | BN21: =SUM(BN18:BN20)*$G17 -> 0 | BP21: =SUM(BP18:BP20) -> 0 | BQ21: =SUM(BQ18:BQ20) -> 0 | BR21: =IFERROR(IF(BP21="",0,BQ21/BP21),0) -> 0 | BS21: =SUM(BS18:BS20)*$G17 -> 0 | BU21: =SUM(BU18:BU20) -> 0 | BV21: =SUM(BV18:BV20) -> 0 | BW21: =IFERROR(IF(BU21="",0,BV21/BU21),0) -> 0 | BX21: =SUM(BX18:BX20)*$G17 -> 0 | BZ21: =SUM(BZ18:BZ20) -> 112 | CA21: =SUM(CA18:CA20) -> 0 | CB21: =IF(BZ21="",0,CA21/BZ21) -> 0 | CC21: =SUM(CC18:CC20)*$G17 -> 0
B22: 2 | C22: ALCANCE 2 | D22: FASE DE DIAGNÓSTICO | G22: 0.25
B23: 2.1 | C23: Actividad 2.1 | D23: Presentar documento de metodología del Diagnóstico | E23: 5 | F23: Documentos | G23: 0.3 | H23: 5 | J23: =IF(H23="",0,I23/H23) -> 0 | K23: =IFERROR(IF(H23="",0,($G23*(I23/$E23))),0) -> 0 | O23: =IF(M23="",0,N23/M23) -> 0 | P23: =IFERROR(IF(M23="",0,($G23*(N23/$E23))),0) -> 0 | T23: =IF(R23="",0,S23/R23) -> 0 | U23: =IFERROR(IF(R23="",0,($G23*(S23/$E23))),0) -> 0 | Y23: =IF(W23="",0,X23/W23) -> 0 | Z23: =IFERROR(IF(W23="",0,($G23*(X23/$E23))),0) -> 0 | AD23: =IF(AB23="",0,AC23/AB23) -> 0 | AE23: =IFERROR(IF(AB23="",0,($G23*(AC23/$E23))),0) -> 0 | AI23: =IF(AG23="",0,AH23/AG23) -> 0 | AJ23: =IFERROR(IF(AG23="",0,($G23*(AH23/$E23))),0) -> 0 | AN23: =IF(AL23="",0,AM23/AL23) -> 0 | AO23: =IFERROR(IF(AL23="",0,($G23*(AM23/$E23))),0) -> 0 | AS23: =IF(AQ23="",0,AR23/AQ23) -> 0 | AT23: =IFERROR(IF(AQ23="",0,($G23*(AR23/$E23))),0) -> 0 | AX23: =IF(AV23="",0,AW23/AV23) -> 0 | AY23: =IFERROR(IF(AV23="",0,($G23*(AW23/$E23))),0) -> 0 | BC23: =IF(BA23="",0,BB23/BA23) -> 0 | BD23: =IFERROR(IF(BA23="",0,($G23*(BB23/$E23))),0) -> 0 | BH23: =IF(BF23="",0,BG23/BF23) -> 0 | BI23: =IFERROR(IF(BF23="",0,($G23*(BG23/$E23))),0) -> 0 | BM23: =IF(BK23="",0,BL23/BK23) -> 0 | BN23: =IFERROR(IF(BK23="",0,($G23*(BL23/$E23))),0) -> 0 | BR23: =IF(BP23="",0,BQ23/BP23) -> 0 | BS23: =IFERROR(IF(BP23="",0,($G23*(BQ23/$E23))),0) -> 0 | BW23: =IF(BU23="",0,BV23/BU23) -> 0 | BX23: =IFERROR(IF(BU23="",0,($G23*(BV23/$E23))),0) -> 0 | BZ23: =H23+M23+R23+W23+AB23+AG23+AL23+AQ23+AV23+BA23+BF23+BK23+BP23+BU23 -> 5 | CA23: =I23+N23+S23+X23+AC23+AH23+AM23+AR23+AW23+BB23+BG23+BL23+BQ23+BV23 -> 0 | CB23: =IF(BZ23="",0,CA23/BZ23) -> 0 | CC23: =IFERROR(IF(BZ23="",0,($G23*(CA23/$E23))),0) -> 0
D24: Realizar el Diagnóstico Participativo (1 taller por Cuerpo de agua por 3 profesionales incluye gastos de viaje) | E24: 15 | F24: Viajes | G24: 0.3 | J24: =IF(H24="",0,I24/H24) -> 0 | K24: =IFERROR(IF(H24="",0,($G24*(I24/$E24))),0) -> 0 | O24: =IF(M24="",0,N24/M24) -> 0 | P24: =IFERROR(IF(M24="",0,($G24*(N24/$E24))),0) -> 0 | R24: 15 | T24: =IF(R24="",0,S24/R24) -> 0 | U24: =IFERROR(IF(R24="",0,($G24*(S24/$E24))),0) -> 0 | Y24: =IF(W24="",0,X24/W24) -> 0 | Z24: =IFERROR(IF(W24="",0,($G24*(X24/$E24))),0) -> 0 | AD24: =IF(AB24="",0,AC24/AB24) -> 0 | AE24: =IFERROR(IF(AB24="",0,($G24*(AC24/$E24))),0) -> 0 | AI24: =IF(AG24="",0,AH24/AG24) -> 0 | AJ24: =IFERROR(IF(AG24="",0,($G24*(AH24/$E24))),0) -> 0 | AN24: =IF(AL24="",0,AM24/AL24) -> 0 | AO24: =IFERROR(IF(AL24="",0,($G24*(AM24/$E24))),0) -> 0 | AS24: =IF(AQ24="",0,AR24/AQ24) -> 0 | AT24: =IFERROR(IF(AQ24="",0,($G24*(AR24/$E24))),0) -> 0 | AX24: =IF(AV24="",0,AW24/AV24) -> 0 | AY24: =IFERROR(IF(AV24="",0,($G24*(AW24/$E24))),0) -> 0 | BC24: =IF(BA24="",0,BB24/BA24) -> 0 | BD24: =IFERROR(IF(BA24="",0,($G24*(BB24/$E24))),0) -> 0 | BH24: =IF(BF24="",0,BG24/BF24) -> 0 | BI24: =IFERROR(IF(BF24="",0,($G24*(BG24/$E24))),0) -> 0 | BM24: =IF(BK24="",0,BL24/BK24) -> 0 | BN24: =IFERROR(IF(BK24="",0,($G24*(BL24/$E24))),0) -> 0 | BR24: =IF(BP24="",0,BQ24/BP24) -> 0 | BS24: =IFERROR(IF(BP24="",0,($G24*(BQ24/$E24))),0) -> 0 | BW24: =IF(BU24="",0,BV24/BU24) -> 0 | BX24: =IFERROR(IF(BU24="",0,($G24*(BV24/$E24))),0) -> 0 | BZ24: =H24+M24+R24+W24+AB24+AG24+AL24+AQ24+AV24+BA24+BF24+BK24+BP24+BU24 -> 15 | CA24: =I24+N24+S24+X24+AC24+AH24+AM24+AR24+AW24+BB24+BG24+BL24+BQ24+BV24 -> 0 | CB24: =IF(BZ24=0,0,CA24/BZ24) -> 0 | CC24: =IFERROR(IF(BZ24="",0,($G24*(CA24/$E24))),0) -> 0
B25: 2.2 | C25: Actividad 2.2 | D25: Realizar recorridos de diagnostico, Visita a usuarios, estructuras y demás aspectos del diagnóstico por municipio (10 días por cuerpo de agua por 3 profesionales) (Incluye Gastos de viaje , transporte rural y urbano) | E25: 150 | F25: Recorridos | G25: 0.3 | J25: =IF(H25="",0,I25/H25) -> 0 | K25: =IFERROR(IF(H25="",0,($G25*(I25/$E25))),0) -> 0 | O25: =IF(M25="",0,N25/M25) -> 0 | P25: =IFERROR(IF(M25="",0,($G25*(N25/$E25))),0) -> 0 | R25: 50 | T25: =IF(R25="",0,S25/R25) -> 0 | U25: =IFERROR(IF(R25="",0,($G25*(S25/$E25))),0) -> 0 | W25: 100 | Y25: =IF(W25="",0,X25/W25) -> 0 | Z25: =IFERROR(IF(W25="",0,($G25*(X25/$E25))),0) -> 0 | AD25: =IF(AB25="",0,AC25/AB25) -> 0 | AE25: =IFERROR(IF(AB25="",0,($G25*(AC25/$E25))),0) -> 0 | AI25: =IF(AG25="",0,AH25/AG25) -> 0 | AJ25: =IFERROR(IF(AG25="",0,($G25*(AH25/$E25))),0) -> 0 | AN25: =IF(AL25="",0,AM25/AL25) -> 0 | AO25: =IFERROR(IF(AL25="",0,($G25*(AM25/$E25))),0) -> 0 | AS25: =IF(AQ25="",0,AR25/AQ25) -> 0 | AT25: =IFERROR(IF(AQ25="",0,($G25*(AR25/$E25))),0) -> 0 | AX25: =IF(AV25="",0,AW25/AV25) -> 0 | AY25: =IFERROR(IF(AV25="",0,($G25*(AW25/$E25))),0) -> 0 | BC25: =IF(BA25="",0,BB25/BA25) -> 0 | BD25: =IFERROR(IF(BA25="",0,($G25*(BB25/$E25))),0) -> 0 | BH25: =IF(BF25="",0,BG25/BF25) -> 0 | BI25: =IFERROR(IF(BF25="",0,($G25*(BG25/$E25))),0) -> 0 | BM25: =IF(BK25="",0,BL25/BK25) -> 0 | BN25: =IFERROR(IF(BK25="",0,($G25*(BL25/$E25))),0) -> 0 | BR25: =IF(BP25="",0,BQ25/BP25) -> 0 | BS25: =IFERROR(IF(BP25="",0,($G25*(BQ25/$E25))),0) -> 0 | BW25: =IF(BU25="",0,BV25/BU25) -> 0 | BX25: =IFERROR(IF(BU25="",0,($G25*(BV25/$E25))),0) -> 0 | BZ25: =H25+M25+R25+W25+AB25+AG25+AL25+AQ25+AV25+BA25+BF25+BK25+BP25+BU25 -> 150 | CA25: =I25+N25+S25+X25+AC25+AH25+AM25+AR25+AW25+BB25+BG25+BL25+BQ25+BV25 -> 0 | CB25: =IF(BZ25=0,0,CA25/BZ25) -> 0 | CC25: =IFERROR(IF(BZ25="",0,($G25*(CA25/$E25))),0) -> 0
D26: Entrega documento Diagnostico | E26: 5 | F26: Documentos | G26: 0.1 | J26: =IF(H26="",0,I26/H26) -> 0 | K26: =IFERROR(IF(H26="",0,($G26*(I26/$E26))),0) -> 0 | O26: =IF(M26="",0,N26/M26) -> 0 | P26: =IFERROR(IF(M26="",0,($G26*(N26/$E26))),0) -> 0 | T26: =IF(R26="",0,S26/R26) -> 0 | U26: =IFERROR(IF(R26="",0,($G26*(S26/$E26))),0) -> 0 | W26: 5 | Y26: =IF(W26="",0,X26/W26) -> 0 | Z26: =IFERROR(IF(W26="",0,($G26*(X26/$E26))),0) -> 0 | AD26: =IF(AB26="",0,AC26/AB26) -> 0 | AE26: =IFERROR(IF(AB26="",0,($G26*(AC26/$E26))),0) -> 0 | AI26: =IF(AG26="",0,AH26/AG26) -> 0 | AJ26: =IFERROR(IF(AG26="",0,($G26*(AH26/$E26))),0) -> 0 | AN26: =IF(AL26="",0,AM26/AL26) -> 0 | AO26: =IFERROR(IF(AL26="",0,($G26*(AM26/$E26))),0) -> 0 | AS26: =IF(AQ26="",0,AR26/AQ26) -> 0 | AT26: =IFERROR(IF(AQ26="",0,($G26*(AR26/$E26))),0) -> 0 | AX26: =IF(AV26="",0,AW26/AV26) -> 0 | AY26: =IFERROR(IF(AV26="",0,($G26*(AW26/$E26))),0) -> 0 | BC26: =IF(BA26="",0,BB26/BA26) -> 0 | BD26: =IFERROR(IF(BA26="",0,($G26*(BB26/$E26))),0) -> 0 | BH26: =IF(BF26="",0,BG26/BF26) -> 0 | BI26: =IFERROR(IF(BF26="",0,($G26*(BG26/$E26))),0) -> 0 | BM26: =IF(BK26="",0,BL26/BK26) -> 0 | BN26: =IFERROR(IF(BK26="",0,($G26*(BL26/$E26))),0) -> 0 | BR26: =IF(BP26="",0,BQ26/BP26) -> 0 | BS26: =IFERROR(IF(BP26="",0,($G26*(BQ26/$E26))),0) -> 0 | BW26: =IF(BU26="",0,BV26/BU26) -> 0 | BX26: =IFERROR(IF(BU26="",0,($G26*(BV26/$E26))),0) -> 0 | BZ26: =H26+M26+R26+W26+AB26+AG26+AL26+AQ26+AV26+BA26+BF26+BK26+BP26+BU26 -> 5 | CA26: =I26+N26+S26+X26+AC26+AH26+AM26+AR26+AW26+BB26+BG26+BL26+BQ26+BV26 -> 0 | CB26: =IF(BZ26=0,0,CA26/BZ26) -> 0 | CC26: =IFERROR(IF(BZ26="",0,($G26*(CA26/$E26))),0) -> 0
C27: Total ALCANCE 2 | E27: =SUM(E23:E26) -> 175 | G27: =SUM(G23:G26) -> 1 | H27: =SUM(H24:H25) -> 0 | I27: =SUM(I24:I25) -> 0 | J27: =IFERROR(IF(H27="",0,I27/H27),0) -> 0 | K27: =SUM(K24:K25)*$G22 -> 0 | M27: =SUM(M24:M25) -> 0 | N27: =SUM(N24:N25) -> 0 | O27: =IFERROR(IF(M27="",0,N27/M27),0) -> 0 | P27: =SUM(P24:P25)*$G$22 -> 0 | R27: =SUM(R24:R26) -> 65 | S27: =SUM(S24:S25) -> 0 | T27: =IF(R27="",0,S27/R27) -> 0 | U27: =SUM(U24:U25)*$G$22 -> 0 | W27: =SUM(W24:W26) -> 105 | X27: =SUM(X24:X26) -> 0 | Y27: =IFERROR(IF(W27="",0,X27/W27),0) -> 0 | Z27: =SUM(Z24:Z25)*$G$22 -> 0 | AB27: =SUM(AB24:AB25) -> 0 | AC27: =SUM(AC24:AC25) -> 0 | AD27: =IFERROR(IF(AB27="",0,AC27/AB27),0) -> 0 | AE27: =SUM(AE24:AE25)*$G$22 -> 0 | AG27: =SUM(AG24:AG25) -> 0 | AH27: =SUM(AH24:AH25) -> 0 | AI27: =IFERROR(IF(AG27="",0,AH27/AG27),0) -> 0 | AJ27: =SUM(AJ24:AJ25)*$G$22 -> 0 | AL27: =SUM(AL24:AL25) -> 0 | AM27: =SUM(AM24:AM25) -> 0 | AN27: =IFERROR(IF(AL27="",0,AM27/AL27),0) -> 0 | AO27: =SUM(AO24:AO25)*$G$22 -> 0 | AQ27: =SUM(AQ24:AQ26) -> 0 | AR27: =SUM(AR24:AR26) -> 0 | AS27: =IFERROR(IF(AQ27="",0,AR27/AQ27),0) -> 0 | AT27: =SUM(AT24:AT26) -> 0 | AV27: =SUM(AV24:AV26) -> 0 | AW27: =SUM(AW24:AW26) -> 0 | AX27: =IFERROR(IF(AV27="",0,AW27/AV27),0) -> 0 | AY27: =SUM(AY24:AY26)*$G$22 -> 0 | BA27: =SUM(BA24:BA26) -> 0 | BB27: =SUM(BB24:BB26) -> 0 | BC27: =IFERROR(IF(BA27="",0,BB27/BA27),0) -> 0 | BD27: =SUM(BD24:BD26)*$G$22 -> 0 | BF27: =SUM(BF24:BF26) -> 0 | BG27: =SUM(BG24:BG26) -> 0 | BH27: =IFERROR(IF(BF27="",0,BG27/BF27),0) -> 0 | BI27: =SUM(BI24:BI26)*$G$22 -> 0 | BK27: =SUM(BK24:BK26) -> 0 | BL27: =SUM(BL24:BL26) -> 0 | BM27: =IFERROR(IF(BK27="",0,BL27/BK27),0) -> 0 | BN27: =SUM(BN24:BN26)*$G$22 -> 0 | BP27: =SUM(BP24:BP26) -> 0 | BQ27: =SUM(BQ24:BQ26) -> 0 | BR27: =IFERROR(IF(BP27="",0,BQ27/BP27),0) -> 0 | BS27: =SUM(BS24:BS26)*$G$22 -> 0 | BU27: =SUM(BU24:BU26) -> 0 | BV27: =SUM(BV24:BV26) -> 0 | BW27: =IFERROR(IF(BU27="",0,BV27/BU27),0) -> 0 | BX27: =SUM(BX24:BX26)*$G$22 -> 0 | BZ27: =SUM(BZ23:BZ26) -> 175 | CA27: =SUM(CA24:CA26) -> 0 | CB27: =IF(BZ27=0,0,CA27/BZ27) -> 0 | CC27: =SUM(CC24:CC26)*$G22 -> 0
B28: 3 | C28: ALCANCE 3 | D28: FASE DE IDENTIFICACIÓN DE LOS USOS POTENCIALES DEL RECURSO. | F28: Documento | G28: 0.25
B29: 3.1 | C29: Actividad 3.1 | D29: Presentar documento de metodología de la fase de identificación de los usos potenciales | E29: 5 | F29: Documentos | G29: 0.2 | H29: 5 | J29: =IF(H29="",0,I29/H29) -> 0 | K29: =IFERROR(IF(H29="",0,($G29*(I29/$E29))),0) -> 0 | O29: =IF(M29="",0,N29/M29) -> 0 | P29: =IFERROR(IF(M29="",0,($G29*(N29/$E29))),0) -> 0 | T29: =IF(R29="",0,S29/R29) -> 0 | U29: =IFERROR(IF(R29="",0,($G29*(S29/$E29))),0) -> 0 | Y29: =IF(W29="",0,X29/W29) -> 0 | Z29: =IFERROR(IF(W29="",0,($G29*(X29/$E29))),0) -> 0 | AD29: =IF(AB29="",0,AC29/AB29) -> 0 | AE29: =IFERROR(IF(AB29="",0,($G29*(AC29/$E29))),0) -> 0 | AI29: =IF(AG29="",0,AH29/AG29) -> 0 | AJ29: =IFERROR(IF(AG29="",0,($G29*(AH29/$E29))),0) -> 0 | AN29: =IF(AL29="",0,AM29/AL29) -> 0 | AO29: =IFERROR(IF(AL29="",0,($G29*(AM29/$E29))),0) -> 0 | AS29: =IF(AQ29="",0,AR29/AQ29) -> 0 | AT29: =IFERROR(IF(AQ29="",0,($G29*(AR29/$E29))),0) -> 0 | AX29: =IF(AV29="",0,AW29/AV29) -> 0 | AY29: =IFERROR(IF(AV29="",0,($G29*(AW29/$E29))),0) -> 0 | BC29: =IF(BA29="",0,BB29/BA29) -> 0 | BD29: =IFERROR(IF(BA29="",0,($G29*(BB29/$E29))),0) -> 0 | BH29: =IF(BF29="",0,BG29/BF29) -> 0 | BI29: =IFERROR(IF(BF29="",0,($G29*(BG29/$E29))),0) -> 0 | BM29: =IF(BK29="",0,BL29/BK29) -> 0 | BN29: =IFERROR(IF(BK29="",0,($G29*(BL29/$E29))),0) -> 0 | BR29: =IF(BP29="",0,BQ29/BP29) -> 0 | BS29: =IFERROR(IF(BP29="",0,($G29*(BQ29/$E29))),0) -> 0 | BW29: =IF(BU29="",0,BV29/BU29) -> 0 | BX29: =IFERROR(IF(BU29="",0,($G29*(BV29/$E29))),0) -> 0 | BZ29: =H29+M29+R29+W29+AB29+AG29+AL29+AQ29+AV29+BA29+BF29+BK29+BP29+BU29 -> 5 | CA29: =I29+N29+S29+X29+AC29+AH29+AM29+AR29+AW29+BB29+BG29+BL29+BQ29+BV29 -> 0 | CB29: =IF(BZ29="",0,CA29/BZ29) -> 0 | CC29: =IFERROR(IF(BZ29="",0,($G29*(CA29/$E29))),0) -> 0
D30: Fortalecimiento en modelción y Planificacion - Capacitación en modelación (5 talleres de dos dias por cuerpo de agua, se ajustará presupuestos con otras actividades para la logística, incluye kit del taller, memorias, 4 refrigerios y dos almuerzo para 20 personas en cada cuenca ) | E30: 10 | F30: Talleres | G30: 0.1 | J30: =IF(H30="",0,I30/H30) -> 0 | K30: =IFERROR(IF(H30="",0,($G30*(I30/$E30))),0) -> 0 | O30: =IF(M30="",0,N30/M30) -> 0 | P30: =IFERROR(IF(M30="",0,($G30*(N30/$E30))),0) -> 0 | T30: =IF(R30="",0,S30/R30) -> 0 | U30: =IFERROR(IF(R30="",0,($G30*(S30/$E30))),0) -> 0 | Y30: =IF(W30="",0,X30/W30) -> 0 | Z30: =IFERROR(IF(W30="",0,($G30*(X30/$E30))),0) -> 0 | AD30: =IF(AB30="",0,AC30/AB30) -> 0 | AE30: =IFERROR(IF(AB30="",0,($G30*(AC30/$E30))),0) -> 0 | AI30: =IF(AG30="",0,AH30/AG30) -> 0 | AJ30: =IFERROR(IF(AG30="",0,($G30*(AH30/$E30))),0) -> 0 | AN30: =IF(AL30="",0,AM30/AL30) -> 0 | AO30: =IFERROR(IF(AL30="",0,($G30*(AM30/$E30))),0) -> 0 | AS30: =IF(AQ30="",0,AR30/AQ30) -> 0 | AT30: =IFERROR(IF(AQ30="",0,($G30*(AR30/$E30))),0) -> 0 | AX30: =IF(AV30="",0,AW30/AV30) -> 0 | AY30: =IFERROR(IF(AV30="",0,($G30*(AW30/$E30))),0) -> 0 | BA30: 6 | BC30: =IF(BA30="",0,BB30/BA30) -> 0 | BD30: =IFERROR(IF(BA30="",0,($G30*(BB30/$E30))),0) -> 0 | BF30: 4 | BH30: =IF(BF30="",0,BG30/BF30) -> 0 | BI30: =IFERROR(IF(BF30="",0,($G30*(BG30/$E30))),0) -> 0 | BM30: =IF(BK30="",0,BL30/BK30) -> 0 | BN30: =IFERROR(IF(BK30="",0,($G30*(BL30/$E30))),0) -> 0 | BR30: =IF(BP30="",0,BQ30/BP30) -> 0 | BS30: =IFERROR(IF(BP30="",0,($G30*(BQ30/$E30))),0) -> 0 | BW30: =IF(BU30="",0,BV30/BU30) -> 0 | BX30: =IFERROR(IF(BU30="",0,($G30*(BV30/$E30))),0) -> 0 | BZ30: =H30+M30+R30+W30+AB30+AG30+AL30+AQ30+AV30+BA30+BF30+BK30+BP30+BU30 -> 10 | CA30: =I30+N30+S30+X30+AC30+AH30+AM30+AR30+AW30+BB30+BG30+BL30+BQ30+BV30 -> 0 | CB30: =IF(BZ30="",0,CA30/BZ30) -> 0 | CC30: =IFERROR(IF(BZ30="",0,($G30*(CA30/$E30))),0) -> 0
B31: 3.2 | C31: Actividad 3.2 | D31: Definición de usos actuales y potenciales participativo - Creación de las Mesas temáticas (un taller por cuerpo de agua)(Incluye gastos de viaje y de transporte de tres profesionales) | E31: 15 | F31: Talleres | G31: 0.2 | J31: =IF(H31="",0,I31/H31) -> 0 | K31: =IFERROR(IF(H31="",0,($G31*(I31/$E31))),0) -> 0 | O31: =IF(M31="",0,N31/M31) -> 0 | P31: =IFERROR(IF(M31="",0,($G31*(N31/$E31))),0) -> 0 | T31: =IF(R31="",0,S31/R31) -> 0 | U31: =IFERROR(IF(R31="",0,($G31*(S31/$E31))),0) -> 0 | Y31: =IF(W31="",0,X31/W31) -> 0 | Z31: =IFERROR(IF(W31="",0,($G31*(X31/$E31))),0) -> 0 | AB31: 15 | AD31: =IF(AB31="",0,AC31/AB31) -> 0 | AE31: =IFERROR(IF(AB31="",0,($G31*(AC31/$E31))),0) -> 0 | AI31: =IF(AG31="",0,AH31/AG31) -> 0 | AJ31: =IFERROR(IF(AG31="",0,($G31*(AH31/$E31))),0) -> 0 | AN31: =IF(AL31="",0,AM31/AL31) -> 0 | AO31: =IFERROR(IF(AL31="",0,($G31*(AM31/$E31))),0) -> 0 | AS31: =IF(AQ31="",0,AR31/AQ31) -> 0 | AT31: =IFERROR(IF(AQ31="",0,($G31*(AR31/$E31))),0) -> 0 | AX31: =IF(AV31="",0,AW31/AV31) -> 0 | AY31: =IFERROR(IF(AV31="",0,($G31*(AW31/$E31))),0) -> 0 | BC31: =IF(BA31="",0,BB31/BA31) -> 0 | BD31: =IFERROR(IF(BA31="",0,($G31*(BB31/$E31))),0) -> 0 | BH31: =IF(BF31="",0,BG31/BF31) -> 0 | BI31: =IFERROR(IF(BF31="",0,($G31*(BG31/$E31))),0) -> 0 | BM31: =IF(BK31="",0,BL31/BK31) -> 0 | BN31: =IFERROR(IF(BK31="",0,($G31*(BL31/$E31))),0) -> 0 | BR31: =IF(BP31="",0,BQ31/BP31) -> 0 | BS31: =IFERROR(IF(BP31="",0,($G31*(BQ31/$E31))),0) -> 0 | BW31: =IF(BU31="",0,BV31/BU31) -> 0 | BX31: =IFERROR(IF(BU31="",0,($G31*(BV31/$E31))),0) -> 0 | BZ31: =H31+M31+R31+W31+AB31+AG31+AL31+AQ31+AV31+BA31+BF31+BK31+BP31+BU31 -> 15 | CA31: =I31+N31+S31+X31+AC31+AH31+AM31+AR31+AW31+BB31+BG31+BL31+BQ31+BV31 -> 0 | CB31: =IF(BZ31="",0,CA31/BZ31) -> 0 | CC31: =IFERROR(IF(BZ31="",0,($G31*(CA31/$E31))),0) -> 0
B32: 3.3 | C32: Actividad 3.3 | D32: Recorridos por Cuerpo de agua (cinco días, de tres profesionales, incluye gastos de viaje y transporte urbano y rural) | E32: 75 | F32: Recorridos | G32: 0.4 | J32: =IF(H32="",0,I32/H32) -> 0 | K32: =IFERROR(IF(H32="",0,($G32*(I32/$E32))),0) -> 0 | O32: =IF(M32="",0,N32/M32) -> 0 | P32: =IFERROR(IF(M32="",0,($G32*(N32/$E32))),0) -> 0 | T32: =IF(R32="",0,S32/R32) -> 0 | U32: =IFERROR(IF(R32="",0,($G32*(S32/$E32))),0) -> 0 | Y32: =IF(W32="",0,X32/W32) -> 0 | Z32: =IFERROR(IF(W32="",0,($G32*(X32/$E32))),0) -> 0 | AD32: =IF(AB32="",0,AC32/AB32) -> 0 | AE32: =IFERROR(IF(AB32="",0,($G32*(AC32/$E32))),0) -> 0 | AG32: 45 | AI32: =IF(AG32="",0,AH32/AG32) -> 0 | AJ32: =IFERROR(IF(AG32="",0,($G32*(AH32/$E32))),0) -> 0 | AL32: 30 | AN32: =IF(AL32="",0,AM32/AL32) -> 0 | AO32: =IFERROR(IF(AL32="",0,($G32*(AM32/$E32))),0) -> 0 | AS32: =IF(AQ32="",0,AR32/AQ32) -> 0 | AT32: =IFERROR(IF(AQ32="",0,($G32*(AR32/$E32))),0) -> 0 | AX32: =IF(AV32="",0,AW32/AV32) -> 0 | AY32: =IFERROR(IF(AV32="",0,($G32*(AW32/$E32))),0) -> 0 | BC32: =IF(BA32="",0,BB32/BA32) -> 0 | BD32: =IFERROR(IF(BA32="",0,($G32*(BB32/$E32))),0) -> 0 | BH32: =IF(BF32="",0,BG32/BF32) -> 0 | BI32: =IFERROR(IF(BF32="",0,($G32*(BG32/$E32))),0) -> 0 | BM32: =IF(BK32="",0,BL32/BK32) -> 0 | BN32: =IFERROR(IF(BK32="",0,($G32*(BL32/$E32))),0) -> 0 | BW32: =IF(BU32="",0,BV32/BU32) -> 0 | BX32: =IFERROR(IF(BU32="",0,($G32*(BV32/$E32))),0) -> 0 | BZ32: =H32+M32+R32+W32+AB32+AG32+AL32+AQ32+AV32+BA32+BF32+BK32+BP32+BU32 -> 75 | CA32: =I32+N32+S32+X32+AC32+AH32+AM32+AR32+AW32+BB32+BG32+BL32+BQ32+BV32 -> 0 | CB32: =IF(BZ32="",0,CA32/BZ32) -> 0 | CC32: =IFERROR(IF(BZ32="",0,($G32*(CA32/$E32))),0) -> 0
B33: 3.4 | C33: Actividad 3.4 | D33: Entrega del Documento de Definición de usos | E33: 5 | F33: Documentos | G33: 0.1 | J33: =IF(H33="",0,I33/H33) -> 0 | K33: =IFERROR(IF(H33="",0,($G33*(I33/$E33))),0) -> 0 | O33: =IF(M33="",0,N33/M33) -> 0 | P33: =IFERROR(IF(M33="",0,($G33*(N33/$E33))),0) -> 0 | T33: =IF(R33="",0,S33/R33) -> 0 | U33: =IFERROR(IF(R33="",0,($G33*(S33/$E33))),0) -> 0 | Y33: =IF(W33="",0,X33/W33) -> 0 | Z33: =IFERROR(IF(W33="",0,($G33*(X33/$E33))),0) -> 0 | AD33: =IF(AB33="",0,AC33/AB33) -> 0 | AE33: =IFERROR(IF(AB33="",0,($G33*(AC33/$E33))),0) -> 0 | AI33: =IF(AG33="",0,AH33/AG33) -> 0 | AJ33: =IFERROR(IF(AG33="",0,($G33*(AH33/$E33))),0) -> 0 | AN33: =IF(AL33="",0,AM33/AL33) -> 0 | AO33: =IFERROR(IF(AL33="",0,($G33*(AM33/$E33))),0) -> 0 | AS33: =IF(AQ33="",0,AR33/AQ33) -> 0 | AT33: =IFERROR(IF(AQ33="",0,($G33*(AR33/$E33))),0) -> 0 | AX33: =IF(AV33="",0,AW33/AV33) -> 0 | AY33: =IFERROR(IF(AV33="",0,($G33*(AW33/$E33))),0) -> 0 | BC33: =IF(BA33="",0,BB33/BA33) -> 0 | BD33: =IFERROR(IF(BA33="",0,($G33*(BB33/$E33))),0) -> 0 | BF33: 5 | BH33: =IF(BF33="",0,BG33/BF33) -> 0 | BI33: =IFERROR(IF(BF33="",0,($G33*(BG33/$E33))),0) -> 0 | BM33: =IF(BK33="",0,BL33/BK33) -> 0 | BN33: =IFERROR(IF(BK33="",0,($G33*(BL33/$E33))),0) -> 0 | BR33: =IF(BP33="",0,BQ33/BP33) -> 0 | BS33: =IFERROR(IF(BP33="",0,($G33*(BQ33/$E33))),0) -> 0 | BW33: =IF(BU33="",0,BV33/BU33) -> 0 | BX33: =IFERROR(IF(BU33="",0,($G33*(BV33/$E33))),0) -> 0 | BZ33: =H33+M33+R33+W33+AB33+AG33+AL33+AQ33+AV33+BA33+BF33+BK33+BP33+BU33 -> 5 | CA33: =I33+N33+S33+X33+AC33+AH33+AM33+AR33+AW33+BB33+BG33+BL33+BQ33+BV33 -> 0 | CB33: =IF(BZ33="",0,CA33/BZ33) -> 0 | CC33: =IFERROR(IF(BZ33="",0,($G33*(CA33/$E33))),0) -> 0
C34: Total ALCANCE 3 | E34: =SUM(E29:E33) -> 110 | G34: =SUM(G29:G33) -> 1 | H34: =SUM(H30:H33) -> 0 | I34: =SUM(I30:I33) -> 0 | J34: =IFERROR(IF(H34="",0,I34/H34),0) -> 0 | K34: =SUM(K30:K33)*$G28 -> 0 | M34: =SUM(M30:M33) -> 0 | N34: =SUM(N30:N33) -> 0 | O34: =IFERROR(IF(M34="",0,N34/M34),0) -> 0 | P34: =SUM(P30:P33)*$G28 -> 0 | R34: =SUM(R30:R33) -> 0 | S34: =SUM(S30:S33) -> 0 | T34: =IFERROR(IF(R34="",0,S34/R34),0) -> 0 | U34: =SUM(U30:U33)*$G28 -> 0 | W34: =SUM(W30:W33) -> 0 | X34: =SUM(X30:X33) -> 0 | Y34: =IFERROR(IF(W34="",0,X34/W34),0) -> 0 | Z34: =SUM(Z30:Z33)*$G28 -> 0 | AB34: =SUM(AB30:AB33) -> 15 | AC34: =SUM(AC30:AC33) -> 0 | AD34: =IFERROR(IF(AB34="",0,AC34/AB34),0) -> 0 | AE34: =SUM(AE30:AE33)*$G28 -> 0 | AG34: =SUM(AG30:AG33) -> 45 | AH34: =SUM(AH30:AH33) -> 0 | AI34: =IFERROR(IF(AG34="",0,AH34/AG34),0) -> 0 | AJ34: =SUM(AJ30:AJ33)*$G28 -> 0 | AL34: =SUM(AL30:AL33) -> 30 | AM34: =SUM(AM30:AM33) -> 0 | AN34: =IFERROR(IF(AL34="",0,AM34/AL34),0) -> 0 | AO34: =SUM(AO30:AO33)*$G28 -> 0 | AQ34: =SUM(AQ30:AQ33) -> 0 | AR34: =SUM(AR30:AR33) -> 0 | AS34: =IFERROR(IF(AQ34="",0,AR34/AQ34),0) -> 0 | AT34: =SUM(AT30:AT33)*$G28 -> 0 | AV34: =SUM(AV30:AV33) -> 0 | AW34: =SUM(AW30:AW33) -> 0 | AX34: =IFERROR(IF(AV34="",0,AW34/AV34),0) -> 0 | AY34: =SUM(AY30:AY33)*$G28 -> 0 | BA34: =SUM(BA30:BA33) -> 6 | BB34: =SUM(BB30:BB33) -> 0 | BC34: =IFERROR(IF(BA34="",0,BB34/BA34),0) -> 0 | BD34: =SUM(BD30:BD33)*$G28 -> 0 | BF34: =SUM(BF30:BF33) -> 9 | BG34: =SUM(BG30:BG33) -> 0 | BH34: =IFERROR(IF(BF34="",0,BG34/BF34),0) -> 0 | BI34: =SUM(BI30:BI33)*$G28 -> 0 | BK34: =SUM(BK30:BK33) -> 0 | BL34: =SUM(BL30:BL33) -> 0 | BM34: =IFERROR(IF(BK34="",0,BL34/BK34),0) -> 0 | BN34: =SUM(BN30:BN33)*$G28 -> 0 | BP34: =SUM(BP30:BP33) -> 0 | BQ34: =SUM(BQ30:BQ33) -> 0 | BR34: =IFERROR(IF(BP34="",0,BQ34/BP34),0) -> 0 | BS34: =SUM(BS30:BS33)*$G28 -> 0 | BU34: =SUM(BU30:BU33) -> 0 | BV34: =SUM(BV30:BV33) -> 0 | BW34: =IFERROR(IF(BU34="",0,BV34/BU34),0) -> 0 | BX34: =SUM(BX30:BX33)*$G28 -> 0 | BZ34: =SUM(BZ29:BZ33) -> 110 | CA34: =SUM(CA30:CA33) -> 0 | CB34: =IFERROR(IF(BZ34="",0,CA34/BZ34),0) -> 0 | CC34: =SUM(CC30:CC33) -> 0
B35: 4 | C35: ALCANCE 4 | D35: FASE DE FORMULACIÓN | E35: 5 | G35: 0.22
B36: 4.1 | C36: Actividad 4.1 | D36: Presentar documento de metodología de la fase de Formulación | E36: 5 | F36: Documentos | G36: 0.2 | H36: 5 | J36: =IF(H36="",0,I36/H36) -> 0 | K36: =IFERROR(IF(H36="",0,($G36*(I36/$E36))),0) -> 0 | O36: =IF(M36="",0,N36/M36) -> 0 | P36: =IFERROR(IF(M36="",0,($G36*(N36/$E36))),0) -> 0 | T36: =IF(R36="",0,S36/R36) -> 0 | U36: =IFERROR(IF(R36="",0,($G36*(S36/$E36))),0) -> 0 | Y36: =IF(W36="",0,X36/W36) -> 0 | Z36: =IFERROR(IF(W36="",0,($G36*(X36/$E36))),0) -> 0 | AD36: =IF(AB36="",0,AC36/AB36) -> 0 | AE36: =IFERROR(IF(AB36="",0,($G36*(AC36/$E36))),0) -> 0 | AI36: =IF(AG36="",0,AH36/AG36) -> 0 | AJ36: =IFERROR(IF(AG36="",0,($G36*(AH36/$E36))),0) -> 0 | AN36: =IF(AL36="",0,AM36/AL36) -> 0 | AO36: =IFERROR(IF(AL36="",0,($G36*(AM36/$E36))),0) -> 0 | AS36: =IF(AQ36="",0,AR36/AQ36) -> 0 | AT36: =IFERROR(IF(AQ36="",0,($G36*(AR36/$E36))),0) -> 0 | AX36: =IF(AV36="",0,AW36/AV36) -> 0 | AY36: =IFERROR(IF(AV36="",0,($G36*(AW36/$E36))),0) -> 0 | BC36: =IF(BA36="",0,BB36/BA36) -> 0 | BD36: =IFERROR(IF(BA36="",0,($G36*(BB36/$E36))),0) -> 0 | BH36: =IF(BF36="",0,BG36/BF36) -> 0 | BI36: =IFERROR(IF(BF36="",0,($G36*(BG36/$E36))),0) -> 0 | BM36: =IF(BK36="",0,BL36/BK36) -> 0 | BN36: =IFERROR(IF(BK36="",0,($G36*(BL36/$E36))),0) -> 0 | BR36: =IF(BP36="",0,BQ36/BP36) -> 0 | BS36: =IFERROR(IF(BP36="",0,($G36*(BQ36/$E36))),0) -> 0 | BW36: =IF(BU36="",0,BV36/BU36) -> 0 | BX36: =IFERROR(IF(BU36="",0,($G36*(BV36/$E36))),0) -> 0 | BZ36: =H36+M36+R36+W36+AB36+AG36+AL36+AQ36+AV36+BA36+BF36+BK36+BP36+BU36 -> 5 | CA36: =I36+N36+S36+X36+AC36+AH36+AM36+AR36+AW36+BB36+BG36+BL36+BQ36+BV36 -> 0 | CB36: =IF(BZ36=0,0,CA36/BZ36) -> 0 | CC36: =IFERROR(IF(BZ36="",0,($G36*(CA36/$E36))),0) -> 0
D37: Realizar la fase de Formulación Participativa por cuerpo de agua (un taller por cuerpo de agua Ficha T pag 41, incluye refrigerios y gastos de 3 profesionales) | E37: 5 | F37: Talleres | G37: 0.1 | J37: =IF(H37="",0,I37/H37) -> 0 | K37: =IFERROR(IF(H37="",0,($G37*(I37/$E37))),0) -> 0 | O37: =IF(M37="",0,N37/M37) -> 0 | P37: =IFERROR(IF(M37="",0,($G37*(N37/$E37))),0) -> 0 | T37: =IF(R37="",0,S37/R37) -> 0 | U37: =IFERROR(IF(R37="",0,($G37*(S37/$E37))),0) -> 0 | Y37: =IF(W37="",0,X37/W37) -> 0 | Z37: =IFERROR(IF(W37="",0,($G37*(X37/$E37))),0) -> 0 | AD37: =IF(AB37="",0,AC37/AB37) -> 0 | AE37: =IFERROR(IF(AB37="",0,($G37*(AC37/$E37))),0) -> 0 | AI37: =IF(AG37="",0,AH37/AG37) -> 0 | AJ37: =IFERROR(IF(AG37="",0,($G37*(AH37/$E37))),0) -> 0 | AN37: =IF(AL37="",0,AM37/AL37) -> 0 | AO37: =IFERROR(IF(AL37="",0,($G37*(AM37/$E37))),0) -> 0 | AS37: =IF(AQ37="",0,AR37/AQ37) -> 0 | AT37: =IFERROR(IF(AQ37="",0,($G37*(AR37/$E37))),0) -> 0 | AX37: =IF(AV37="",0,AW37/AV37) -> 0 | AY37: =IFERROR(IF(AV37="",0,($G37*(AW37/$E37))),0) -> 0 | BC37: =IF(BA37="",0,BB37/BA37) -> 0 | BD37: =IFERROR(IF(BA37="",0,($G37*(BB37/$E37))),0) -> 0 | BH37: =IF(BF37="",0,BG37/BF37) -> 0 | BI37: =IFERROR(IF(BF37="",0,($G37*(BG37/$E37))),0) -> 0 | BK37: 5 | BM37: =IF(BK37="",0,BL37/BK37) -> 0 | BN37: =IFERROR(IF(BK37="",0,($G37*(BL37/$E37))),0) -> 0 | BR37: =IF(BP37="",0,BQ37/BP37) -> 0 | BS37: =IFERROR(IF(BP37="",0,($G37*(BQ37/$E37))),0) -> 0 | BW37: =IF(BU37="",0,BV37/BU37) -> 0 | BX37: =IFERROR(IF(BU37="",0,($G37*(BV37/$E37))),0) -> 0 | BZ37: =H37+M37+R37+W37+AB37+AG37+AL37+AQ37+AV37+BA37+BF37+BK37+BP37+BU37 -> 5 | CA37: =I37+N37+S37+X37+AC37+AH37+AM37+AR37+AW37+BB37+BG37+BL37+BQ37+BV37 -> 0 | CB37: =IF(BZ37=0,0,CA37/BZ37) -> 0 | CC37: =IFERROR(IF(BZ37="",0,($G37*(CA37/$E37))),0) -> 0
B38: 4.2 | C38: Actividad 4.2 | D38: Recorridos (incluyen gastos de viaje de 3 profesionales por 5 dias, recorridos urbanos y rurales) | E38: 75 | F38: Recorridos | G38: 0.5 | J38: =IF(H38="",0,I38/H38) -> 0 | K38: =IFERROR(IF(H38="",0,($G38*(I38/$E38))),0) -> 0 | O38: =IF(M38="",0,N38/M38) -> 0 | P38: =IFERROR(IF(M38="",0,($G38*(N38/$E38))),0) -> 0 | T38: =IF(R38="",0,S38/R38) -> 0 | U38: =IFERROR(IF(R38="",0,($G38*(S38/$E38))),0) -> 0 | Y38: =IF(W38="",0,X38/W38) -> 0 | Z38: =IFERROR(IF(W38="",0,($G38*(X38/$E38))),0) -> 0 | AD38: =IF(AB38="",0,AC38/AB38) -> 0 | AE38: =IFERROR(IF(AB38="",0,($G38*(AC38/$E38))),0) -> 0 | AI38: =IF(AG38="",0,AH38/AG38) -> 0 | AJ38: =IFERROR(IF(AG38="",0,($G38*(AH38/$E38))),0) -> 0 | AN38: =IF(AL38="",0,AM38/AL38) -> 0 | AO38: =IFERROR(IF(AL38="",0,($G38*(AM38/$E38))),0) -> 0 | AS38: =IF(AQ38="",0,AR38/AQ38) -> 0 | AT38: =IFERROR(IF(AQ38="",0,($G38*(AR38/$E38))),0) -> 0 | AX38: =IF(AV38="",0,AW38/AV38) -> 0 | AY38: =IFERROR(IF(AV38="",0,($G38*(AW38/$E38))),0) -> 0 | BC38: =IF(BA38="",0,BB38/BA38) -> 0 | BD38: =IFERROR(IF(BA38="",0,($G38*(BB38/$E38))),0) -> 0 | BF38: 45 | BH38: =IF(BF38="",0,BG38/BF38) -> 0 | BI38: =IFERROR(IF(BF38="",0,($G38*(BG38/$E38))),0) -> 0 | BK38: 30 | BM38: =IF(BK38="",0,BL38/BK38) -> 0 | BN38: =IFERROR(IF(BK38="",0,($G38*(BL38/$E38))),0) -> 0 | BR38: =IF(BP38="",0,BQ38/BP38) -> 0 | BS38: =IFERROR(IF(BP38="",0,($G38*(BQ38/$E38))),0) -> 0 | BW38: =IF(BU38="",0,BV38/BU38) -> 0 | BX38: =IFERROR(IF(BU38="",0,($G38*(BV38/$E38))),0) -> 0 | BZ38: =H38+M38+R38+W38+AB38+AG38+AL38+AQ38+AV38+BA38+BF38+BK38+BP38+BU38 -> 75 | CA38: =I38+N38+S38+X38+AC38+AH38+AM38+AR38+AW38+BB38+BG38+BL38+BQ38+BV38 -> 0 | CB38: =IF(BZ38=0,0,CA38/BZ38) -> 0 | CC38: =IFERROR(IF(BZ38="",0,($G38*(CA38/$E38))),0) -> 0
B39: 4.3 | C39: Actividad 4.3 | D39: Entregar documento de fase de formulación y PORH | E39: 5 | F39: Documentos | G39: 0.2 | J39: =IF(H39="",0,I39/H39) -> 0 | K39: =IFERROR(IF(H39="",0,($G39*(I39/$E39))),0) -> 0 | O39: =IF(M39="",0,N39/M39) -> 0 | P39: =IFERROR(IF(M39="",0,($G39*(N39/$E39))),0) -> 0 | T39: =IF(R39="",0,S39/R39) -> 0 | U39: =IFERROR(IF(R39="",0,($G39*(S39/$E39))),0) -> 0 | Y39: =IF(W39="",0,X39/W39) -> 0 | Z39: =IFERROR(IF(W39="",0,($G39*(X39/$E39))),0) -> 0 | AD39: =IF(AB39="",0,AC39/AB39) -> 0 | AE39: =IFERROR(IF(AB39="",0,($G39*(AC39/$E39))),0) -> 0 | AI39: =IF(AG39="",0,AH39/AG39) -> 0 | AJ39: =IFERROR(IF(AG39="",0,($G39*(AH39/$E39))),0) -> 0 | AN39: =IF(AL39="",0,AM39/AL39) -> 0 | AO39: =IFERROR(IF(AL39="",0,($G39*(AM39/$E39))),0) -> 0 | AS39: =IF(AQ39="",0,AR39/AQ39) -> 0 | AT39: =IFERROR(IF(AQ39="",0,($G39*(AR39/$E39))),0) -> 0 | AX39: =IF(AV39="",0,AW39/AV39) -> 0 | AY39: =IFERROR(IF(AV39="",0,($G39*(AW39/$E39))),0) -> 0 | BC39: =IF(BA39="",0,BB39/BA39) -> 0 | BD39: =IFERROR(IF(BA39="",0,($G39*(BB39/$E39))),0) -> 0 | BH39: =IF(BF39="",0,BG39/BF39) -> 0 | BI39: =IFERROR(IF(BF39="",0,($G39*(BG39/$E39))),0) -> 0 | BM39: =IF(BK39="",0,BL39/BK39) -> 0 | BN39: =IFERROR(IF(BK39="",0,($G39*(BL39/$E39))),0) -> 0 | BR39: =IF(BP39="",0,BQ39/BP39) -> 0 | BS39: =IFERROR(IF(BP39="",0,($G39*(BQ39/$E39))),0) -> 0 | BU39: 5 | BW39: =IF(BU39="",0,BV39/BU39) -> 0 | BX39: =IFERROR(IF(BU39="",0,($G39*(BV39/$E39))),0) -> 0 | BZ39: =H39+M39+R39+W39+AB39+AG39+AL39+AQ39+AV39+BA39+BF39+BK39+BP39+BU39 -> 5 | CA39: =I39+N39+S39+X39+AC39+AH39+AM39+AR39+AW39+BB39+BG39+BL39+BQ39+BV39 -> 0 | CB39: =IF(BZ39=0,0,CA39/BZ39) -> 0 | CC39: =IFERROR(IF(BZ39="",0,($G39*(CA39/$E39))),0) -> 0
C40: Total ALCANCE 4 | E40: =SUM(E37:E39) -> 85 | G40: =SUM(G36:G39) -> 1 | H40: =SUM(H37:H39) -> 0 | I40: =SUM(I37:I39) -> 0 | J40: =IFERROR(IF(H40="",0,I40/H40),0) -> 0 | K40: =SUM(K37:K39)*$G35 -> 0 | M40: =SUM(M37:M39) -> 0 | N40: =SUM(N37:N39) -> 0 | O40: =IFERROR(IF(M40="",0,N40/M40),0) -> 0 | P40: =SUM(P37:P39)*$G35 -> 0 | R40: =SUM(R37:R39) -> 0 | S40: =SUM(S37:S39) -> 0 | T40: =IFERROR(IF(R40="",0,S40/R40),0) -> 0 | U40: =SUM(U37:U39)*$G35 -> 0 | W40: =SUM(W37:W39) -> 0 | X40: =SUM(X37:X39) -> 0 | Y40: =IFERROR(IF(W40="",0,X40/W40),0) -> 0 | Z40: =SUM(Z37:Z39)*$G35 -> 0 | AB40: =SUM(AB37:AB39) -> 0 | AC40: =SUM(AC37:AC39) -> 0 | AD40: =IFERROR(IF(AB40="",0,AC40/AB40),0) -> 0 | AE40: =SUM(AE37:AE39)*$G35 -> 0 | AG40: =SUM(AG37:AG39) -> 0 | AH40: =SUM(AH37:AH39) -> 0 | AI40: =IFERROR(IF(AG40="",0,AH40/AG40),0) -> 0 | AJ40: =SUM(AJ37:AJ39)*$G35 -> 0 | AL40: =SUM(AL37:AL39) -> 0 | AM40: =SUM(AM37:AM39) -> 0 | AN40: =IFERROR(IF(AL40="",0,AM40/AL40),0) -> 0 | AO40: =SUM(AO37:AO39)*$G35 -> 0 | AQ40: =SUM(AQ37:AQ39) -> 0 | AR40: =SUM(AR37:AR39) -> 0 | AS40: =IFERROR(IF(AQ40="",0,AR40/AQ40),0) -> 0 | AT40: =SUM(AT37:AT39)*$G35 -> 0 | AV40: =SUM(AV37:AV39) -> 0 | AW40: =SUM(AW37:AW39) -> 0 | AX40: =IFERROR(IF(AV40="",0,AW40/AV40),0) -> 0 | AY40: =SUM(AY37:AY39)*$G35 -> 0 | BA40: =SUM(BA37:BA39) -> 0 | BB40: =SUM(BB37:BB39) -> 0 | BC40: =IFERROR(IF(BA40="",0,BB40/BA40),0) -> 0 | BD40: =SUM(BD37:BD39)*$G35 -> 0 | BF40: =SUM(BF37:BF39) -> 45 | BG40: =SUM(BG37:BG39) -> 0 | BH40: =IFERROR(IF(BF40="",0,BG40/BF40),0) -> 0 | BI40: =SUM(BI37:BI39)*$G35 -> 0 | BK40: =SUM(BK37:BK39) -> 35 | BL40: =SUM(BL37:BL39) -> 0 | BM40: =IFERROR(IF(BK40="",0,BL40/BK40),0) -> 0 | BN40: =SUM(BN37:BN39)*$G35 -> 0 | BP40: =SUM(BP37:BP39) -> 0 | BQ40: =SUM(BQ37:BQ39) -> 0 | BR40: =IFERROR(IF(BP40="",0,BQ40/BP40),0) -> 0 | BS40: =SUM(BS37:BS39)*$G35 -> 0 | BU40: =SUM(BU37:BU39) -> 5 | BV40: =SUM(BV37:BV39) -> 0 | BW40: =IFERROR(IF(BU40="",0,BV40/BU40),0) -> 0 | BX40: =SUM(BX37:BX39)*$G35 -> 0 | BZ40: =SUM(BZ37:BZ39) -> 85 | CA40: =SUM(CA37:CA39) -> 0 | CB40: =IF(BZ40=0,0,CA40/BZ40) -> 0 | CC40: =SUM(CC37:CC39) -> 0
B41: 5 | C41: ALCANCE 5 | D41: CONSULTA PREVIA | G41: 0.15
B42: 5.1 | C42: Actividad 5.1 | D42: Presentar documento propuesta de ruta metodológica y diseño de la Consulta previa | E42: 1 | F42: Documento | G42: 0.2 | H42: 1 | J42: =IF(H42="",0,I42/H42) -> 0 | O42: =IFERROR(IF(M42="",0,N42/M42),0) -> 0 | T42: =IF(R42="",0,S42/R42) -> 0 | Y42: =IF(W42="",0,X42/W42) -> 0 | AD42: =IF(AB42="",0,AC42/AB42) -> 0 | AI42: =IF(AG42="",0,AH42/AG42) -> 0 | AN42: =IF(AL42="",0,AM42/AL42) -> 0 | AS42: =IF(AQ42="",0,AR42/AQ42) -> 0 | AX42: =IF(AV42="",0,AW42/AV42) -> 0 | AY42: =IFERROR(IF(AV42="",0,($G42*(AW42/$E42))),0) -> 0 | BC42: =IF(BA42="",0,BB42/BA42) -> 0 | BD42: =IFERROR(IF(BA42="",0,($G42*(BB42/$E42))),0) -> 0 | BH42: =IF(BF42="",0,BG42/BF42) -> 0 | BI42: =IFERROR(IF(BF42="",0,($G42*(BG42/$E42))),0) -> 0 | BM42: =IF(BK42="",0,BL42/BK42) -> 0 | BN42: =IFERROR(IF(BK42="",0,($G42*(BL42/$E42))),0) -> 0 | BR42: =IF(BP42="",0,BQ42/BP42) -> 0 | BS42: =IFERROR(IF(BP42="",0,($G42*(BQ42/$E42))),0) -> 0 | BW42: =IF(BU42="",0,BV42/BU42) -> 0 | BX42: =IFERROR(IF(BU42="",0,($G42*(BV42/$E42))),0) -> 0 | BZ42: =H42+M42+R42+W42+AB42+AG42+AL42+AQ42+AV42+BA42+BF42+BK42+BP42+BU42 -> 1 | CA42: =I42+N42+S42+X42+AC42+AH42+AM42+AR42+AW42+BB42+BG42+BL42+BQ42+BV42 -> 0 | CB42: =IF(BZ42=0,0,CA42/BZ42) -> 0 | CC42: =IFERROR(IF(BZ42="",0,($G42*(CA42/$E42))),0) -> 0
B43: 5.2 | C43: Actividad 5.2 | D43: Desarrolar y acompañar el proceso de consulta previa (incluye 240 alimentaciones, 6 registros audivisulaes, 12 gastos de logística, y 12 viajes al garante) | E43: 12 | F43: Encuentro | G43: 0.8 | J43: =IF(H43="",0,I43/H43) -> 0 | K43: =IFERROR(IF(H43="",0,($G43*(I43/$E43))),0) -> 0 | O43: =IFERROR(IF(M43="",0,N43/M43),0) -> 0 | P43: =IFERROR(IF(M43="",0,($G43*(N43/$E43))),0) -> 0 | T43: =IF(R43="",0,S43/R43) -> 0 | U43: =IFERROR(IF(R43="",0,($G43*(S43/$E43))),0) -> 0 | W43: 2 | Y43: =IF(W43="",0,X43/W43) -> 0 | Z43: =IFERROR(IF(W43="",0,($G43*(X43/$E43))),0) -> 0 | AB43: 2 | AD43: =IF(AB43="",0,AC43/AB43) -> 0 | AE43: =IFERROR(IF(AB43="",0,($G43*(AC43/$E43))),0) -> 0 | AI43: =IF(AG43="",0,AH43/AG43) -> 0 | AJ43: =IFERROR(IF(AG43="",0,($G43*(AH43/$E43))),0) -> 0 | AN43: =IF(AL43="",0,AM43/AL43) -> 0 | AO43: =IFERROR(IF(AL43="",0,($G43*(AM43/$E43))),0) -> 0 | AS43: =IF(AQ43="",0,AR43/AQ43) -> 0 | AT43: =IFERROR(IF(AQ43="",0,($G43*(AR43/$E43))),0) -> 0 | AV43: 2 | AX43: =IF(AV43="",0,AW43/AV43) -> 0 | AY43: =IFERROR(IF(AV43="",0,($G43*(AW43/$E43))),0) -> 0 | BA43: 2 | BC43: =IF(BA43="",0,BB43/BA43) -> 0 | BD43: =IFERROR(IF(BA43="",0,($G43*(BB43/$E43))),0) -> 0 | BH43: =IF(BF43="",0,BG43/BF43) -> 0 | BI43: =IFERROR(IF(BF43="",0,($G43*(BG43/$E43))),0) -> 0 | BK43: 2 | BM43: =IF(BK43="",0,BL43/BK43) -> 0 | BN43: =IFERROR(IF(BK43="",0,($G43*(BL43/$E43))),0) -> 0 | BP43: 2 | BR43: =IF(BP43="",0,BQ43/BP43) -> 0 | BS43: =IFERROR(IF(BP43="",0,($G43*(BQ43/$E43))),0) -> 0 | BW43: =IF(BU43="",0,BV43/BU43) -> 0 | BX43: =IFERROR(IF(BU43="",0,($G43*(BV43/$E43))),0) -> 0 | BZ43: =H43+M43+R43+W43+AB43+AG43+AL43+AQ43+AV43+BA43+BF43+BK43+BP43+BU43 -> 12 | CA43: =I43+N43+S43+X43+AC43+AH43+AM43+AR43+AW43+BB43+BG43+BL43+BQ43+BV43 -> 0 | CB43: =IF(BZ43=0,0,CA43/BZ43) -> 0 | CC43: =IFERROR(IF(BZ43="",0,($G43*(CA43/$E43))),0) -> 0
B44: 5.3 | C44: Actividad 5.3 | D44: Transporte promotores (uno por comunidad de consulta previa) y profesionales (2) a encuentros | E44: 12 | F44: Viaje | G44: 0.1 | J44: =IF(H44="",0,I44/H44) -> 0 | K44: =IFERROR(IF(H44="",0,($G44*(I44/$E44))),0) -> 0 | O44: =IF(M44="",0,N44/M44) -> 0 | P44: =IFERROR(IF(M44="",0,($G44*(N44/$E44))),0) -> 0 | T44: =IF(R44="",0,S44/R44) -> 0 | U44: =IFERROR(IF(R44="",0,($G44*(S44/$E44))),0) -> 0 | W44: 2 | Y44: =IF(W44="",0,X44/W44) -> 0 | Z44: =IFERROR(IF(W44="",0,($G44*(X44/$E44))),0) -> 0 | AB44: 2 | AD44: =IF(AB44="",0,AC44/AB44) -> 0 | AE44: =IFERROR(IF(AB44="",0,($G44*(AC44/$E44))),0) -> 0 | AI44: =IF(AG44="",0,AH44/AG44) -> 0 | AJ44: =IFERROR(IF(AG44="",0,($G44*(AH44/$E44))),0) -> 0 | AN44: =IF(AL44="",0,AM44/AL44) -> 0 | AO44: =IFERROR(IF(AL44="",0,($G44*(AM44/$E44))),0) -> 0 | AS44: =IF(AQ44="",0,AR44/AQ44) -> 0 | AT44: =IFERROR(IF(AQ44="",0,($G44*(AR44/$E44))),0) -> 0 | AV44: 2 | AX44: =IF(AV44="",0,AW44/AV44) -> 0 | AY44: =IFERROR(IF(AV44="",0,($G44*(AW44/$E44))),0) -> 0 | BA44: 2 | BC44: =IF(BA44="",0,BB44/BA44) -> 0 | BD44: =IFERROR(IF(BA44="",0,($G44*(BB44/$E44))),0) -> 0 | BH44: =IF(BF44="",0,BG44/BF44) -> 0 | BI44: =IFERROR(IF(BF44="",0,($G44*(BG44/$E44))),0) -> 0 | BK44: 2 | BM44: =IF(BK44="",0,BL44/BK44) -> 0 | BN44: =IFERROR(IF(BK44="",0,($G44*(BL44/$E44))),0) -> 0 | BP44: 2 | BR44: =IF(BP44="",0,BQ44/BP44) -> 0 | BS44: =IFERROR(IF(BP44="",0,($G44*(BQ44/$E44))),0) -> 0 | BW44: =IF(BU44="",0,BV44/BU44) -> 0 | BX44: =IFERROR(IF(BU44="",0,($G44*(BV44/$E44))),0) -> 0 | BZ44: =H44+M44+R44+W44+AB44+AG44+AL44+AQ44+AV44+BA44+BF44+BK44+BP44+BU44 -> 12 | CA44: =I44+N44+S44+X44+AC44+AH44+AM44+AR44+AW44+BB44+BG44+BL44+BQ44+BV44 -> 0 | CB44: =IF(BZ44=0,0,CA44/BZ44) -> 0 | CC44: =IFERROR(IF(BZ44="",0,($G44*(CA44/$E44))),0) -> 0
...

Sheet POI Ejecución Financiera
E2: CONTROL DE CUMPLIMIENTO DE EJECUCIÓN FINANCIERA | M2: Versión 01
M3: Fecha Versión:
B6: CONTRATO 110-CNT2011-148 | E6: Valor: | G6: 1299981930
B7: Objeto | C7: ='POI Fisico'!D7 -> Formulación de los Planes de Ordenamiento del Recurso Hídrico en cuerpos de agua priorizados por la Corporación
B8: Fecha de Inicio | C8: 44091
B9: Fecha de Vencimiento | C9: 316/1/2022
B10: Fecha de corte
B11: Porcentaje de Ejecución | C11: =+(C10-C8)/(C9-C8) -> #VALUE!
A16: No | B16: Descripción | D16: Unidad de medida | E16: Cantidad | F16: Valor por Unidad de Medida | G16: Valor Total por producto | H16: Mes (1) 17/11/2020 al 16/12/2020 | L16: Mes (2) 17/12/2020 al 16/01/2021 | P16: Mes (3) 17/01/2021 al 16/02/2021 | T16: Mes (4) 17/02/2021 al 16/03/2021 | X16: Mes (5) 17/03/2021 al 16/04/2021 | AB16: Mes (6) 17/04/2021 al 16/05/2021 | AF16: Mes (7) 17/05/2021 al 16/06/2021 | AJ16: Mes (8) 17/06/2021 al 16/07/2021 | AN16: Mes (9) 17/07/2021 al 16/08/2021 | AR16: Mes (10) 17/08/2021 al 16/09/2021 | AV16: Mes (11) 17/09/2021 al 16/10/2021 | AZ16: Mes (12) 17/10/2021 al 16/11/2021 | BD16: Mes (13) 17/11/2021 al 16/12/2021 | BH16: Mes (14) 17/12/2021 al 16/01/2022 | BL16: TOTALES
H17: Meta Proyectada | I17: Ejecución | J17: Cumple | K17: Observa. Cualitativas | L17: Meta Proyectada | M17: Ejecución | N17: Cumple | O17: Observa. Cualitativas | P17: Meta Proyectada | Q17: Ejecución | R17: Cumple | S17: Observa. Cualitativas | T17: Meta Proyectada | U17: Ejecución | V17: Cumple | W17: Observa. Cualitativas | X17: Meta Proyectada | Y17: Ejecución | Z17: Cumple | AA17: Observa. Cualitativas | AB17: Meta Proyectada | AC17: Ejecución | AD17: Cumple | AE17: Observa. Cualitativas | AF17: Meta Proyectada | AG17: Ejecución | AH17: Cumple | AI17: Observa. Cualitativas | AJ17: Meta Proyectada | AK17: Ejecución | AL17: Cumple | AM17: Observa. Cualitativas | AN17: Meta Proyectada | AO17: Ejecución | AP17: Cumple | AQ17: Observa. Cualitativas | AR17: Meta Proyectada | AS17: Ejecución | AT17: Cumple | AU17: Observa. Cualitativas | AV17: Meta Proyectada | AW17: Ejecución | AX17: Cumple | AY17: Observa. Cualitativas | AZ17: Meta Proyectada | BA17: Ejecución | BB17: Cumple | BC17: Observa. Cualitativas | BD17: Meta Proyectada | BE17: Ejecución | BF17: Cumple | BG17: Observa. Cualitativas | BH17: Meta Proyectada | BI17: Ejecución | BJ17: Cumple | BK17: Observa. Cualitativas | BL17: Meta Proyectada | BM17: Meta Ejecutada | BN17: Cumplimiento
A18: 1 | B18: ALCANCE 1 | C18: Seguimiento a usuarios de captaciones de agua
A19: 1.1 | B19: ='POI Fisico'!C18 -> Actividad 1.1 | C19: ='POI Fisico'!D18 -> Realizar la Declaratoria en ordenamient de las corrientes R. Dolores, R. Yarumalito, Q. La Noque, Q. Sbaleta Trinidad y Q. La vívora | D19: ='POI Fisico'!F18 -> Doumentos acto administrativo | E19: ='POI Fisico'!E18 -> 5 | F19: =IFERROR(G19/E19,0) -> 7000625.5 | G19: ='Calculo de valores unitarios'!N4 -> 35003128 | H19: =$F19*'POI Fisico'!H18 -> 35003128 | I19: =$F19*'POI Fisico'!I18 -> 0 | J19: =IF(OR(H19="",H19=0),0,I19/H19) -> 0 | L19: =$F19*'POI Fisico'!M18 -> 0 | M19: =$F19*'POI Fisico'!N18 -> 0 | N19: =IF(OR(L19="",L19=0),0,M19/L19) -> 0 | P19: =$F19*'POI Fisico'!R18 -> 0 | Q19: =$F19*'POI Fisico'!S18 -> 0 | R19: =IF(OR(P19="",P19=0),0,Q19/P19) -> 0 | T19: =$F19*'POI Fisico'!W18 -> 0 | U19: =$F19*'POI Fisico'!X18 -> 0 | V19: =IF(OR(T19="",T19=0),0,U19/T19) -> 0 | X19: =$F19*'POI Fisico'!AB18 -> 0 | Y19: =$F19*'POI Fisico'!AC18 -> 0 | Z19: =IF(OR(X19="",X19=0),0,Y19/X19) -> 0 | AB19: =$F19*'POI Fisico'!AG18 -> 0 | AC19: =$F19*'POI Fisico'!AH18 -> 0 | AD19: =IF(OR(AB19="",AB19=0),0,AC19/AB19) -> 0 | AF19: =$F19*'POI Fisico'!AL18 -> 0 | AG19: =$F19*'POI Fisico'!AM18 -> 0 | AH19: =IF(OR(AF19="",AF19=0),0,AG19/AF19) -> 0 | AJ19: =$F19*'POI Fisico'!AQ18 -> 0 | AK19: =$F19*'POI Fisico'!AR18 -> 0 | AL19: =IF(OR(AJ19="",AJ19=0),0,AK19/AJ19) -> 0 | AN19: =$F19*'POI Fisico'!AV18 -> 0 | AO19: =$F19*'POI Fisico'!AW18 -> 0 | AP19: =IF(OR(AN19="",AN19=0),0,AO19/AN19) -> 0 | AR19: =$F19*'POI Fisico'!BA18 -> 0 | AS19: =$F19*'POI Fisico'!BB18 -> 0 | AT19: =IF(OR(AR19="",AR19=0),0,AS19/AR19) -> 0 | AV19: =$F19*'POI Fisico'!BF18 -> 0 | AW19: =$F19*'POI Fisico'!BG18 -> 0 | AX19: =IF(OR(AV19="",AV19=0),0,AW19/AV19) -> 0 | AZ19: =$F19*'POI Fisico'!BK18 -> 0 | BA19: =$F19*'POI Fisico'!BL18 -> 0 | BB19: =IF(OR(AZ19="",AZ19=0),0,BA19/AZ19) -> 0 | BD19: =$F19*'POI Fisico'!BP18 -> 0 | BE19: =$F19*'POI Fisico'!BQ18 -> 0 | BF19: =IF(OR(BD19="",BD19=0),0,BE19/BD19) -> 0 | BH19: =$F19*'POI Fisico'!BU18 -> 0 | BI19: =$F19*'POI Fisico'!BV18 -> 0 | BJ19: =IF(OR(BH19="",BH19=0),0,BI19/BH19) -> 0 | BL19: =H19+L19+P19+T19+X19+AB19+AF19+AJ19+AN19+AR19+AV19+AZ19+BD19+BH19 -> 35003128 | BM19: =I19+M19+Q19+U19+Y19+AC19+AG19+AK19+AO19+AS19+AW19+BA19+BE19+BI19 -> 0 | BN19: =IF(OR(BL19="",BL19=0),0,BM19/BL19) -> 0
A20: 1.2 | B20: ='POI Fisico'!C19 -> Actividad 1.2 | C20: ='POI Fisico'!D19 -> Socialización del proyecto y diligenciamiento del RURH (Incluye 100 refrigerios, gatos de viaje, transporte de tres personas) | D20: ='POI Fisico'!F19 -> Talleres | E20: ='POI Fisico'!E19 -> 7 | F20: =IFERROR(G20/E20,0) -> 3352603.4 | G20: ='Calculo de valores unitarios'!N5 -> 23468224 | H20: =$F20*'POI Fisico'!H19 -> 0 | I20: =$F20*'POI Fisico'!I19 -> 0 | J20: =IF(OR(H20="",H20=0),0,I20/H20) -> 0 | L20: =$F20*'POI Fisico'!M19 -> 23468224 | M20: =$F20*'POI Fisico'!N19 -> 0 | N20: =IF(OR(L20="",L20=0),0,M20/L20) -> 0 | P20: =$F20*'POI Fisico'!R19 -> 0 | Q20: =$F20*'POI Fisico'!S19 -> 0 | R20: =IF(OR(P20="",P20=0),0,Q20/P20) -> 0 | T20: =$F20*'POI Fisico'!W19 -> 0 | U20: =$F20*'POI Fisico'!X19 -> 0 | V20: =IF(OR(T20="",T20=0),0,U20/T20) -> 0 | X20: =$F20*'POI Fisico'!AB19 -> 0 | Y20: =$F20*'POI Fisico'!AC19 -> 0 | Z20: =IF(OR(X20="",X20=0),0,Y20/X20) -> 0 | AB20: =$F20*'POI Fisico'!AG19 -> 0 | AC20: =$F20*'POI Fisico'!AH19 -> 0 | AD20: =IF(OR(AB20="",AB20=0),0,AC20/AB20) -> 0 | AF20: =$F20*'POI Fisico'!AL19 -> 0 | AG20: =$F20*'POI Fisico'!AM19 -> 0 | AH20: =IF(OR(AF20="",AF20=0),0,AG20/AF20) -> 0 | AJ20: =$F20*'POI Fisico'!AQ19 -> 0 | AK20: =$F20*'POI Fisico'!AR19 -> 0 | AL20: =IF(OR(AJ20="",AJ20=0),0,AK20/AJ20) -> 0 | AN20: =$F20*'POI Fisico'!AV19 -> 0 | AO20: =$F20*'POI Fisico'!AW19 -> 0 | AP20: =IF(OR(AN20="",AN20=0),0,AO20/AN20) -> 0 | AR20: =$F20*'POI Fisico'!BA19 -> 0 | AS20: =$F20*'POI Fisico'!BB19 -> 0 | AT20: =IF(OR(AR20="",AR20=0),0,AS20/AR20) -> 0 | AV20: =$F20*'POI Fisico'!BF19 -> 0 | AW20: =$F20*'POI Fisico'!BG19 -> 0 | AX20: =IF(OR(AV20="",AV20=0),0,AW20/AV20) -> 0 | AZ20: =$F20*'POI Fisico'!BK19 -> 0 | BA20: =$F20*'POI Fisico'!BL19 -> 0 | BB20: =IF(OR(AZ20="",AZ20=0),0,BA20/AZ20) -> 0 | BD20: =$F20*'POI Fisico'!BP19 -> 0 | BE20: =$F20*'POI Fisico'!BQ19 -> 0 | BF20: =IF(OR(BD20="",BD20=0),0,BE20/BD20) -> 0 | BH20: =$F20*'POI Fisico'!BU19 -> 0 | BI20: =$F20*'POI Fisico'!BV19 -> 0 | BJ20: =IF(OR(BH20="",BH20=0),0,BI20/BH20) -> 0 | BL20: =H20+L20+P20+T20+X20+AB20+AF20+AJ20+AN20+AR20+AV20+AZ20+BD20+BH20 -> 23468224 | BM20: =I20+M20+Q20+U20+Y20+AC20+AG20+AK20+AO20+AS20+AW20+BA20+BE20+BI20 -> 0 | BN20: =IF(OR(BL20="",BL20=0),0,BM20/BL20) -> 0
A21: 1.3 | B21: ='POI Fisico'!C20 -> Actividad 1.3 | C21: ='POI Fisico'!D20 -> Primer acercamiento y diligenciamiento del RURH (incluye gastos de viaje, transporte urbano, transporte rural de dos personas del equipo). | D21: ='POI Fisico'!F20 -> Recorridos | E21: ='POI Fisico'!E20 -> 100 | F21: =IFERROR(G21/E21,0) -> 770829.51 | G21: ='Calculo de valores unitarios'!N6 -> 77082951 | H21: =$F21*'POI Fisico'!H20 -> 15416590 | I21: =$F21*'POI Fisico'!I20 -> 0 | J21: =IF(OR(H21="",H21=0),0,I21/H21) -> 0 | L21: =$F21*'POI Fisico'!M20 -> 61666361 | M21: =$F21*'POI Fisico'!N20 -> 0 | P21: =$F21*'POI Fisico'!R20 -> 0 | Q21: =$F21*'POI Fisico'!S20 -> 0 | T21: =$F21*'POI Fisico'!W20 -> 0 | U21: =$F21*'POI Fisico'!X20 -> 0 | X21: =$F21*'POI Fisico'!AB20 -> 0 | Y21: =$F21*'POI Fisico'!AC20 -> 0 | AB21: =$F21*'POI Fisico'!AG20 -> 0 | AC21: =$F21*'POI Fisico'!AH20 -> 0 | AF21: =$F21*'POI Fisico'!AL20 -> 0 | AG21: =$F21*'POI Fisico'!AM20 -> 0 | AJ21: =$F21*'POI Fisico'!AQ20 -> 0 | AK21: =$F21*'POI Fisico'!AR20 -> 0 | AN21: =$F21*'POI Fisico'!AV20 -> 0 | AO21: =$F21*'POI Fisico'!AW20 -> 0 | AR21: =$F21*'POI Fisico'!BA20 -> 0 | AS21: =$F21*'POI Fisico'!BB20 -> 0 | AV21: =$F21*'POI Fisico'!BF20 -> 0 | AW21: =$F21*'POI Fisico'!BG20 -> 0 | AZ21: =$F21*'POI Fisico'!BK20 -> 0 | BA21: =$F21*'POI Fisico'!BL20 -> 0 | BD21: =$F21*'POI Fisico'!BP20 -> 0 | BE21: =$F21*'POI Fisico'!BQ20 -> 0 | BH21: =$F21*'POI Fisico'!BU20 -> 0 | BI21: =$F21*'POI Fisico'!BV20 -> 0 | BL21: =H21+L21+P21+T21+X21+AB21+AF21+AJ21+AN21+AR21+AV21+AZ21+BD21+BH21 -> 77082951 | BM21: =I21+M21+Q21+U21+Y21+AC21+AG21+AK21+AO21+AS21+AW21+BA21+BE21+BI21 -> 0
B22: ='POI Fisico'!C17 -> ALCANCE 1 | G22: =SUM(G19:G21) -> 1.355543e+08 | H22: =SUM(H19:H21) -> 50419718 | I22: =SUM(I19:I21) -> 0 | J22: =IFERROR(IF(H22="",0,I22/H22),0) -> 0 | L22: =SUM(L19:L21) -> 85134585 | M22: =SUM(M19:M20) -> 0 | N22: =IFERROR(IF(L22="",0,M22/L22),0) -> 0 | P22: =SUM(P19:P20) -> 0 | Q22: =SUM(Q19:Q20) -> 0 | R22: =IFERROR(IF(P22="",0,Q22/P22),0) -> 0 | T22: =SUM(T19:T20) -> 0 | U22: =SUM(U19:U20) -> 0 | V22: =IFERROR(IF(T22="",0,U22/T22),0) -> 0 | X22: =SUM(X19:X20) -> 0 | Y22: =SUM(Y19:Y20) -> 0 | Z22: =IFERROR(IF(X22="",0,Y22/X22),0) -> 0 | AB22: =SUM(AB19:AB20) -> 0 | AC22: =SUM(AC19:AC20) -> 0 | AD22: =IFERROR(IF(AB22="",0,AC22/AB22),0) -> 0 | AF22: =SUM(AF19:AF20) -> 0 | AG22: =SUM(AG19:AG20) -> 0 | AH22: =IFERROR(IF(AF22="",0,AG22/AF22),0) -> 0 | AJ22: =SUM(AJ19:AJ20) -> 0 | AK22: =SUM(AK19:AK20) -> 0 | AL22: =IFERROR(IF(AJ22="",0,AK22/AJ22),0) -> 0 | AN22: =SUM(AN19:AN20) -> 0 | AO22: =SUM(AO19:AO20) -> 0 | AP22: =IFERROR(IF(AN22="",0,AO22/AN22),0) -> 0 | AR22: =SUM(AR19:AR20) -> 0 | AS22: =SUM(AS19:AS20) -> 0 | AT22: =IFERROR(IF(AR22="",0,AS22/AR22),0) -> 0 | AV22: =SUM(AV19:AV20) -> 0 | AW22: =SUM(AW19:AW20) -> 0 | AX22: =IFERROR(IF(AV22="",0,AW22/AV22),0) -> 0 | AZ22: =SUM(AZ19:AZ20) -> 0 | BA22: =SUM(BA19:BA20) -> 0 | BB22: =IFERROR(IF(AZ22="",0,BA22/AZ22),0) -> 0 | BD22: =SUM(BD19:BD20) -> 0 | BE22: =SUM(BE19:BE20) -> 0 | BF22: =IFERROR(IF(BD22="",0,BE22/BD22),0) -> 0 | BH22: =SUM(BH19:BH20) -> 0 | BI22: =SUM(BI19:BI20) -> 0 | BJ22: =IFERROR(IF(BH22="",0,BI22/BH22),0) -> 0 | BL22: =SUM(BL19:BL21) -> 1.355543e+08 | BM22: =SUM(BM19:BM20) -> 0 | BN22: =IF(OR(BL22="",BL22=0),0,BM22/BL22) -> 0
A23: 2 | B23: ALCANCE 2 | C23: ='POI Fisico'!D22 -> FASE DE DIAGNÓSTICO
A24: 2.1 | B24: ='POI Fisico'!C23 -> Actividad 2.1 | C24: ='POI Fisico'!D23 -> Presentar documento de metodología del Diagnóstico | D24: ='POI Fisico'!F23 -> Documentos | E24: ='POI Fisico'!E23 -> 5 | F24: =IFERROR(G24/E24,0) -> 14089203 | G24: ='Calculo de valores unitarios'!N9 -> 70446014 | H24: =$F24*'POI Fisico'!H23 -> 70446014 | I24: =$F24*'POI Fisico'!I23 -> 0 | J24: =IF(OR(H24="",H24=0),0,I24/H24) -> 0 | L24: =$F24*'POI Fisico'!M23 -> 0 | M24: =$F24*'POI Fisico'!N23 -> 0 | N24: =IF(OR(L24="",L24=0),0,M24/L24) -> 0 | P24: =$F24*'POI Fisico'!R23 -> 0 | Q24: =$F24*'POI Fisico'!S23 -> 0 | R24: =IF(OR(P24="",P24=0),0,Q24/P24) -> 0 | T24: =$F24*'POI Fisico'!W23 -> 0 | U24: =$F24*'POI Fisico'!X23 -> 0 | V24: =IF(OR(T24="",T24=0),0,U24/T24) -> 0 | X24: =$F24*'POI Fisico'!AB23 -> 0 | Y24: =$F24*'POI Fisico'!AC23 -> 0 | Z24: =IF(OR(X24="",X24=0),0,Y24/X24) -> 0 | AB24: =$F24*'POI Fisico'!AG23 -> 0 | AC24: =$F24*'POI Fisico'!AH23 -> 0 | AD24: =IF(OR(AB24="",AB24=0),0,AC24/AB24) -> 0 | AF24: =$F24*'POI Fisico'!AL23 -> 0 | AG24: =$F24*'POI Fisico'!AM23 -> 0 | AH24: =IF(OR(AF24="",AF24=0),0,AG24/AF24) -> 0 | AJ24: =$F24*'POI Fisico'!AQ23 -> 0 | AK24: =$F24*'POI Fisico'!AR23 -> 0 | AL24: =IF(OR(AJ24="",AJ24=0),0,AK24/AJ24) -> 0 | AN24: =$F24*'POI Fisico'!AV23 -> 0 | AO24: =$F24*'POI Fisico'!AW23 -> 0 | AP24: =IF(OR(AN24="",AN24=0),0,AO24/AN24) -> 0 | AR24: =$F24*'POI Fisico'!BA23 -> 0 | AS24: =$F24*'POI Fisico'!BB23 -> 0 | AT24: =IF(OR(AR24="",AR24=0),0,AS24/AR24) -> 0 | AV24: =$F24*'POI Fisico'!BF23 -> 0 | AW24: =$F24*'POI Fisico'!BG23 -> 0 | AX24: =IF(OR(AV24="",AV24=0),0,AW24/AV24) -> 0 | AZ24: =$F24*'POI Fisico'!BK23 -> 0 | BA24: =$F24*'POI Fisico'!BL23 -> 0 | BB24: =IF(OR(AZ24="",AZ24=0),0,BA24/AZ24) -> 0 | BD24: =$F24*'POI Fisico'!BP23 -> 0 | BE24: =$F24*'POI Fisico'!BQ23 -> 0 | BF24: =IF(OR(BD24="",BD24=0),0,BE24/BD24) -> 0 | BH24: =$F24*'POI Fisico'!BU23 -> 0 | BI24: =$F24*'POI Fisico'!BV23 -> 0 | BJ24: =IF(OR(BH24="",BH24=0),0,BI24/BH24) -> 0 | BL24: =H24+L24+P24+T24+X24+AB24+AF24+AJ24+AN24+AR24+AV24+AZ24+BD24+BH24 -> 70446014 | BM24: =I24+M24+Q24+U24+Y24+AC24+AG24+AK24+AO24+AS24+AW24+BA24+BE24+BI24 -> 0 | BN24: =IF(OR(BL24="",BL24=0),0,BM24/BL24) -> 0
C25: ='POI Fisico'!D24 -> Realizar el Diagnóstico Participativo (1 taller por Cuerpo de agua por 3 profesionales incluye gastos de viaje) | D25: ='POI Fisico'!F24 -> Viajes | E25: ='POI Fisico'!E24 -> 15 | F25: =IFERROR(G25/E25,0) -> 4918653.2 | G25: ='Calculo de valores unitarios'!N10 -> 73779798 | H25: =$F25*'POI Fisico'!H24 -> 0 | I25: =$F25*'POI Fisico'!I24 -> 0 | J25: =IF(OR(H25="",H25=0),0,I25/H25) -> 0 | L25: =$F25*'POI Fisico'!M24 -> 0 | M25: =$F25*'POI Fisico'!N24 -> 0 | N25: =IF(OR(L25="",L25=0),0,M25/L25) -> 0 | P25: =$F25*'POI Fisico'!R24 -> 73779798 | Q25: =$F25*'POI Fisico'!S24 -> 0 | R25: =IF(OR(P25="",P25=0),0,Q25/P25) -> 0 | T25: =$F25*'POI Fisico'!W24 -> 0 | U25: =$F25*'POI Fisico'!X24 -> 0 | V25: =IF(OR(T25="",T25=0),0,U25/T25) -> 0 | X25: =$F25*'POI Fisico'!AB24 -> 0 | Y25: =$F25*'POI Fisico'!AC24 -> 0 | Z25: =IF(OR(X25="",X25=0),0,Y25/X25) -> 0 | AB25: =$F25*'POI Fisico'!AG24 -> 0 | AC25: =$F25*'POI Fisico'!AH24 -> 0 | AD25: =IF(OR(AB25="",AB25=0),0,AC25/AB25) -> 0 | AF25: =$F25*'POI Fisico'!AL24 -> 0 | AG25: =$F25*'POI Fisico'!AM24 -> 0 | AH25: =IF(OR(AF25="",AF25=0),0,AG25/AF25) -> 0 | AJ25: =$F25*'POI Fisico'!AQ24 -> 0 | AK25: =$F25*'POI Fisico'!AR24 -> 0 | AL25: =IF(OR(AJ25="",AJ25=0),0,AK25/AJ25) -> 0 | AN25: =$F25*'POI Fisico'!AV24 -> 0 | AO25: =$F25*'POI Fisico'!AW24 -> 0 | AP25: =IF(OR(AN25="",AN25=0),0,AO25/AN25) -> 0 | AR25: =$F25*'POI Fisico'!BA24 -> 0 | AS25: =$F25*'POI Fisico'!BB24 -> 0 | AT25: =IF(OR(AR25="",AR25=0),0,AS25/AR25) -> 0 | AV25: =$F25*'POI Fisico'!BF24 -> 0 | AW25: =$F25*'POI Fisico'!BG24 -> 0 | AX25: =IF(OR(AV25="",AV25=0),0,AW25/AV25) -> 0 | AZ25: =$F25*'POI Fisico'!BK24 -> 0 | BA25: =$F25*'POI Fisico'!BL24 -> 0 | BB25: =IF(OR(AZ25="",AZ25=0),0,BA25/AZ25) -> 0 | BD25: =$F25*'POI Fisico'!BP24 -> 0 | BE25: =$F25*'POI Fisico'!BQ24 -> 0 | BF25: =IF(OR(BD25="",BD25=0),0,BE25/BD25) -> 0 | BH25: =$F25*'POI Fisico'!BU24 -> 0 | BI25: =$F25*'POI Fisico'!BV24 -> 0 | BJ25: =IF(OR(BH25="",BH25=0),0,BI25/BH25) -> 0 | BL25: =H25+L25+P25+T25+X25+AB25+AF25+AJ25+AN25+AR25+AV25+AZ25+BD25+BH25 -> 73779798 | BM25: =I25+M25+Q25+U25+Y25+AC25+AG25+AK25+AO25+AS25+AW25+BA25+BE25+BI25 -> 0 | BN25: =IF(OR(BL25="",BL25=0),0,BM25/BL25) -> 0
