Workbook
Name \0: #REF!
Name \0: #REF!
Name \0: #REF!
Name \0: #REF!
Name \0: #REF!
Name \0: #REF!
Name \0: #REF!
Name \a: #REF!
Name \a: #REF!
Name \b: #REF!
Name \b: #REF!
Name \c: #REF!
Name \c: #REF!
Name \D: #REF!
Name \e: #REF!
Name \eliminar: #REF!
Name \eliminar1: #REF!
Name \i: #REF!
Name \i: #REF!
Name \L: #REF!
Name \L: #REF!
Name \m: #REF!
Name \m: #REF!
Name \o: #REF!
Name \P: #REF!
Name \P: #REF!
Name \q: #REF!
Name \r: #REF!
Name \r: #REF!
Name \sa: #REF!
Name \t: #REF!
Name \t: #REF!
Name \w: #N/A
Name \x: #REF!
Name \x: #REF!
Name \z: #REF!
Name \z: #REF!
Name _: #REF!
Name _??: {"'?????10.27??????'!$Q$16"}
Name _??: {"'?????10.27??????'!$Q$16"}
Name _??: {"'?????10.27??????'!$Q$16"}
Name _??: {"'?????10.27??????'!$Q$16"}
Name _??: {"'?????10.27??????'!$Q$16"}
Name _??: {"'?????10.27??????'!$Q$16"}
Name _??: {"'?????10.27??????'!$Q$16"}
Name _????: {"'?????10.27??????'!$Q$16"}
Name _????: {"'?????10.27??????'!$Q$16"}
Name _????: {"'?????10.27??????'!$Q$16"}
Name _????: {"'?????10.27??????'!$Q$16"}
Name _????: {"'?????10.27??????'!$Q$16"}
Name _????: {"'?????10.27??????'!$Q$16"}
Name _????: {"'?????10.27??????'!$Q$16"}
Name _??????: {"'?????10.27??????'!$Q$16"}
Name _??????: {"'?????10.27??????'!$Q$16"}
Name _??????: {"'?????10.27??????'!$Q$16"}
Name _??????: {"'?????10.27??????'!$Q$16"}
Name _??????: {"'?????10.27??????'!$Q$16"}
Name _??????: {"'?????10.27??????'!$Q$16"}
Name _??????: {"'?????10.27??????'!$Q$16"}
Name _???????: {"'?????10.27??????'!$Q$16"}

Sheet ACTA ADICIONAL OBRA 
C1: SISTEMA INTEGRADO DE GESTIÓN DE CALIDAD ACTA MODIFICATORIA DE OBRA | P1: CÓDIGO EDUS-FO-13
P2: VERSIÓN 1.0
P3: 01 DE ENERO 2020
A5: UNIDAD EJECUTORA: | B5: EMPRESA DISTRITAL DE DESARROLLO URBANO Y SOSTENIBLE DE SANTA MARTA | E5: ACTA Nª | F5: 1 | J5: VALOR TOTAL ACTA MODIFICATORIA : | L5: =+I257 -> 1150059744 | O5: PERIODO MES | P5: MARZO
N6: FECHA DE ELABORACIÓN | P6: 46098
A8: CONTRATO No : | B8: EDUS064-2025 | J8: FECHA DE INICIACION: | K8: 1 DE AGOSTO DE 2025 | L8: PLAZO INICIAL: | N8: 31 DE DICIEMBRE DE 2025 | O8: PLAZO ACUMULADO INICIAL: | Q8: 5 MESES
A10: OBJETO: | B10: CONSTRUCCION DEL CENTRO DE VIDA PARA EL ADULTO MAYOR " MIGUEL PINEDO BARROS" EN LA LOCALIDAD TRES ( 3) DEL DISTRITO DE SANTA MARTA | J10: FECHA DE SUSPENSIÓN: | K10: 23 DE DICIEMBRE DE 2025 | L10: FECHA DE REANUDACIÓN: | N10: 25 DE FEBRERO DE 2026 | O10: PRORROGA - MODIFICATORIO No.1: | Q10: 2 MESES
A12: CONTRATISTA: | B12: INVERSIONES Y CONSTRUCCIONES R2 S.A.S | J12: FECHA DE VENCIMIENTO No. 2: | L12: 30 DE ABRIL DE 2026 | N12: TIEMPO ADICIONAL SOLICITADO: | Q12: 4 MESES
A14: CONTRATO DE INTERVENTORÍA No : | B14: EDUS086-2025 | J14: VALOR INICIAL (incluido IVA) : | L14: =+F257 -> 4.709458e+09 | N14: VALOR ADICIÓN No 1 : | Q14: =+I257 -> 1150059744
A16: INTERVENTOR: | B16: CONSORCIO INTER. CENTRO DE VIDA 2025 | J16: VALOR TOTAL ACUMULADO: | L16: =+K257 -> 5.8595177e+09 | N16: VALOR TOTAL EN ADICIONES: | Q16: =+I257 -> 1150059744
A18: Item | B18: CONDICIONES ORIGINALES | G18: MAYORES O MENORES CANTIDADES DE OBRA | J18: CONDICIONES ACTUALIZADAS Acta de Modificación No. 001 de fecha 17/03/2026 | L18: OBRA EJECUTADA
L19: ACUMULADO ANTERIOR | N19: PRESENTE ACTA | P19: ACUMULADO
B20: ITEM DE PAGO | C20: UND | D20: CANTIDAD | E20: VALOR UNITARIO | F20: VALOR TOTAL | G20: (+/-) | H20: CANTIDAD | I20: VALOR TOTAL | J20: CANTIDAD | K20: VALOR TOTAL | L20: CANTIDAD | M20: VALOR TOTAL | N20: CANTIDAD | O20: VALOR TOTAL | P20: CANTIDAD | Q20: VALOR TOTAL
A21: 1 | B21: OBRAS PRELIMINARES | F21: =SUM(F22:F24) -> 116681083 | I21: =+SUM(I22:I24) -> -51010295 | K21: =SUM(K22:K24) -> 65670788
A22: 1.1 | B22: Localización y replanteo | C22: m² | D22: 1420.86 | E22: 5189 | F22: =ROUND(D22*E22,0) -> 7372843 | J22: 1420.86 | K22: =ROUND(E22*J22,0) -> 7372843
A23: 1.2 | B23: DESCAPOTE A MAQUINA EXP < O = A .20-AREAS MAYORES A 2000M2-INCL.RETIRO SOBRANTE A 2KM | C23: m² | D23: 2841.72 | E23: 35901 | F23: =ROUND(D23*E23,0) -> 102020590 | G23: (-) | H23: -1420.86 | I23: =+ROUND(H23*E23,0) -> -51010295 | J23: =+D23+H23 -> 1420.86 | K23: =ROUND(E23*J23,0) -> 51010295
A24: 0 | B24: CERRAMIENTO PROVISIONAL EN ZINC, INSTALADO Y PERMANENTE DURANTE LA OBRA EN CONDICIONES OPTIMAS.H= 2,10 MTS, INCLUYE DESMONTE AL FINALIZAR LA OBRA | C24: ml | D24: 152.49 | E24: 47791 | F24: =ROUND(D24*E24,0) -> 7287650 | J24: 152.49 | K24: =ROUND(E24*J24,0) -> 7287650
A25: 2 | B25: MOVIMIENTOS DE TIERRA Y CONSTRUCCIÓN DE CIMENTACIÓN | F25: =SUM(F26:F31) -> 545340020 | I25: =+SUM(I26:I31) -> 43382813 | K25: =SUM(K26:K31) -> 588722833
A26: 2.1 | B26: Excavación mecánica a nivel de subrasante (incluye retiro de sobrantes) | C26: m³ | D26: 4765.5644 | E26: 44034 | F26: =ROUND(D26*E26,0) -> 209846865 | J26: =+D26+H26 -> 4765.5644 | K26: =ROUND(E26*J26,0) -> 209846865
A27: 2.2 | B27: Base granular-Analizada para tipo de gradación SGB-50, clase A . incluye el material y transporte | C27: m³ | D27: 710.43 | E27: 212719 | F27: =ROUND(D27*E27,0) -> 151121959 | G27: (+) | H27: =+'M.C PPTO ORIGINAL'!S210 -> 0 | I27: =+ROUND(H27*E27,0) -> 0 | J27: =+D27+H27 -> 710.43 | K27: =ROUND(E27*J27,0) -> 151121959
A28: 2.3 | B28: Concreto de 210 kg/cm² (3.000 psi) para cimentación. Tamaño según planos estructurales | C28: m³ | D28: 46.65 | E28: 929470 | F28: =ROUND(D28*E28,0) -> 43359776 | G28: (+) | H28: =+'M.C PPTO ORIGINAL'!S259+'M.C PPTO ORIGINAL'!S260 -> 8.722 | I28: =+ROUND(H28*E28,0) -> 8106837 | J28: =+D28+H28 -> 55.372 | K28: =ROUND(E28*J28,0) -> 51466613
A29: 2.4 | B29: Concreto de 210 kg/cm² (3.000 psi) para vigas de cimentación | C29: m³ | D29: 35.65 | E29: 918470 | F29: =ROUND(D29*E29,0) -> 32743456 | G29: (+) | H29: =+'M.C PPTO ORIGINAL'!S309+'M.C PPTO ORIGINAL'!S310+'M.C PPTO ORIGINAL'!S311 -> 22.717625 | I29: =+ROUND(H29*E29,0) -> 20865457 | J29: =+D29+H29 -> 58.367625 | K29: =ROUND(E29*J29,0) -> 53608913
A30: 2.5 | B30: Acero de refuerzo 4.200 kg/cm² (60.000 psi) | C30: kg | D30: 9377.92 | E30: 9876 | F30: =ROUND(D30*E30,0) -> 92616338 | G30: (+) | H30: =+'M.C PPTO ORIGINAL'!S358+'M.C PPTO ORIGINAL'!S359+'M.C PPTO ORIGINAL'!S360 -> 1386 | I30: =+ROUND(H30*E30,0) -> 13688136 | J30: =+D30+H30 -> 10763.92 | K30: =ROUND(E30*J30,0) -> 106304474
A31: 2.6 | B31: Concreto de 280 kg/cm² (4.000 psi) para pedestales | C31: m³ | D31: 16.25 | E31: 963177 | F31: =ROUND(D31*E31,0) -> 15651626 | G31: (+) | H31: 0.75 | I31: =+ROUND(H31*E31,0) -> 722383 | J31: =+D31+H31 -> 17 | K31: =ROUND(E31*J31,0) -> 16374009
A32: 3 | B32: CONSTRUCCIÓN DE COLUMNAS Y VIGAS SUPERIORES | F32: =SUM(F33:F35) -> 395888427 | I32: =+SUM(I33:I35) -> -20190509 | K32: =SUM(K33:K35) -> 375697918
A33: 3.1 | B33: Concreto de 210 kg/cm² (3.000 psi) para vigas y losa superior N+4.5m | C33: m³ | D33: 72 | E33: 1037958 | F33: =ROUND(D33*E33,0) -> 74732976 | G33: (-) | H33: =+'M.C PPTO ORIGINAL'!S456+'M.C PPTO ORIGINAL'!S458 -> -17.59235 | I33: =+ROUND(H33*E33,0) -> -18260120 | J33: =+D33+H33 -> 54.40765 | K33: =ROUND(E33*J33,0) -> 56472856
A34: 3.2 | B34: Concreto de 280Kg/cm2 (4.000psi) para columnas | C34: m³ | D34: 57.12 | E34: 1239244 | F34: =ROUND(D34*E34,0) -> 70785617 | G34: (-) | H34: =+'M.C PPTO ORIGINAL'!S505+'M.C PPTO ORIGINAL'!S507 -> -15.598 | I34: =+ROUND(H34*E34,0) -> -19329728 | J34: =+D34+H34 -> 41.522 | K34: =ROUND(E34*J34,0) -> 51455889
A35: 3.3 | B35: Acero figurado de refuerzo de 4200 kg/cm² (60.000 psi ) | C35: kg | D35: 25351.34 | E35: 9876 | F35: =ROUND(D35*E35,0) -> 250369834 | G35: (+) | H35: =+'M.C PPTO ORIGINAL'!S554+'M.C PPTO ORIGINAL'!S555 -> 1761.78 | I35: =+ROUND(H35*E35,0) -> 17399339 | J35: =+D35+H35 -> 27113.12 | K35: =ROUND(E35*J35,0) -> 267769173
A36: 4 | B36: ESTRUCTURAS METÁLICAS (CUBIERTAS) | F36: =SUM(F37:F39) -> 631619007 | K36: =SUM(K37:K39) -> 631619007
A37: 4.1 | B37: Suministro, fabricación y montaje de estructura metálica. Cubierta N°1 | C37: Kg | D37: 8424.9 | E37: 23951 | F37: =ROUND(D37*E37,0) -> 201784780 | J37: 8424.9 | K37: =ROUND(E37*J37,0) -> 201784780
A38: 4.2 | B38: Suministro, fabricación y montaje de estructura metálica. Cubierta N°2 | C38: Kg | D38: 13249.5 | E38: 23951 | F38: =ROUND(D38*E38,0) -> 317338775 | J38: 13249.5 | K38: =ROUND(E38*J38,0) -> 317338775
A39: 4.3 | B39: Suministro, fabricación y montaje de estructura metálica. Cubierta N°3 | C39: Kg | D39: 4696.9 | E39: 23951 | F39: =ROUND(D39*E39,0) -> 112495452 | J39: 4696.9 | K39: =ROUND(E39*J39,0) -> 112495452
A40: 5 | B40: TANQUE DE ALMACENAMIENTO SUBTERRÁNEO | F40: =SUM(F41) -> 26457294 | K40: =SUM(K41) -> 26457294
A41: 5.1 | B41: Construcción de tanque de almacenamiento subterráneo, incluye montaje del suministro de agua potable y todo lo necesario para su correcto funcionamiento | C41: Und | D41: 1 | E41: 26457294 | F41: =ROUND(D41*E41,0) -> 26457294 | J41: 1 | K41: =ROUND(E41*J41,0) -> 26457294
A42: 6 | B42: REDES DE SUMINISTRO HIDRÁULICO | F42: =SUM(F43:F57) -> 8368175 | I42: =+SUM(I43:I57) -> 867792 | K42: =SUM(K43:K57) -> 9235967
A43: 6.1 | B43: Localización y replanteo | C43: m² | D43: 62.7165 | E43: 5189 | F43: =ROUND(D43*E43,0) -> 325436 | J43: =+D43+H43 -> 62.7165 | K43: =ROUND(E43*J43,0) -> 325436
A44: 6.2 | B44: Excavacion manual sobre terreno, incluye retiro, cargue, transporte de Material sobrante a una distancia maxima de 1 km | C44: m3 | D44: 31.3635 | E44: 48990 | F44: =ROUND(D44*E44,0) -> 1536498 | J44: =+D44+H44 -> 31.3635 | K44: =ROUND(E44*J44,0) -> 1536498
A45: 6.3 | B45: Relleno con material seleccionado compactacion PM=95% | C45: m3 | D45: 12.537 | E45: 124237 | F45: =ROUND(D45*E45,0) -> 1557559 | G45: (+) | H45: 6.28 | I45: =+ROUND(H45*E45,0) -> 780208 | J45: =+D45+H45 -> 18.817 | K45: =ROUND(E45*J45,0) -> 2337768
A46: 6.4 | B46: Suministro e instalación de tuberia hidraulica 1/2" PVC RDE 21. | C46: m | D46: 67.98 | E46: 6637 | F46: =ROUND(D46*E46,0) -> 451183 | I46: =+ROUND(H46*E46,0) -> 0 | J46: =+D46+H46 -> 67.98 | K46: =ROUND(E46*J46,0) -> 451183
A47: 6.5 | B47: Suministro e instalación de tuberia hidraulica 1" PVC RDE 21. | C47: m | D47: 31.3635 | E47: 10137 | F47: =ROUND(D47*E47,0) -> 317932 | G47: (+) | H47: 8.64 | I47: =+ROUND(H47*E47,0) -> 87584 | J47: =+D47+H47 -> 40.0035 | K47: =ROUND(E47*J47,0) -> 405515
...

Sheet M.C PPTO ORIGINAL
D1: MEMORIA DE CÁLCULO DE CANTIDADES DE OBRA
A3: OBJETO: | D3: CONSTRUCCION DEL CENTRO DE VIDA PARA EL ADULTO MAYOR “MIGUEL PINEDO BARROS” EN LA LOCALIDAD TRES DEL DISTRITO DE SANTA MARTA
A6: CAPITULO / ÍTEM | F6: ÍTEM/ DESCRIPCIÓN | M6: UNIDAD | Q6: FORMA DE PAGO
A7: 1.1 | F7: Localización y replanteo | M7: m²
A10: ESQUEMA DE UBICACIÓN EN PLANOS Y REGISTRO FOTOGRÁFICO | L10: LOCALIZACIÓN | M10: DIMENSIONES | P10: AREA | Q10: No.ELEMENTOS | R10: CANTIDAD PARCIAL | S10: CANTIDAD TOTAL
M11: ANCHO | N11: ALTO | O11: LONGITUD
A12: Espacio en el que se incluye una imagen del elemento a calcular, y si se requiere un gráfico con las medidas a partir de las cuales se obtiene la cantidad. | M12: 34 | O12: 41.79 | P12: =+O12*M12 -> 1420.86 | Q12: 1 | R12: =Q12*P12 -> 1420.86 | S12: =R12 -> 1420.86
L43: TOTAL | S43: =SUM(S12:S42) -> 1420.86
A46: FIRMA | G46: FIRMA
A47: JORGE ANTONIO ANDRADE BLANCO | G47: RICARDO JOSE MARTINEZ VELAIDEZ
A48: INGENIERO RESIDENTE DE OBRA | G48: DIRECTOR DE INTERVENTORIA
A49: M.P. 08202-159900 ATL | G49: M.P. 08202-219279 ATL
D51: MEMORIA DE CÁLCULO DE CANTIDADES DE OBRA
A53: OBJETO: | D53: CONSTRUCCION DEL CENTRO DE VIDA PARA EL ADULTO MAYOR “MIGUEL PINEDO BARROS” EN LA LOCALIDAD TRES DEL DISTRITO DE SANTA MARTA
A56: CAPITULO / ÍTEM | F56: ÍTEM/ DESCRIPCIÓN | M56: UNIDAD | Q56: FORMA DE PAGO
A57: 1.2 | F57: DESCAPOTE A MAQUINA EXP < O = A .20-AREAS MAYORES A 2000M2-INCL.RETIRO SOBRANTE A 2KM | M57: m²
A60: ESQUEMA DE UBICACIÓN EN PLANOS Y REGISTRO FOTOGRÁFICO | L60: LOCALIZACIÓN | M60: DIMENSIONES | P60: AREA | Q60: No.ELEMENTOS | R60: CANTIDAD PARCIAL | S60: CANTIDAD TOTAL
M61: ANCHO | N61: ALTO | O61: LONGITUD
A62: Espacio en el que se incluye una imagen del elemento a calcular, y si se requiere un gráfico con las medidas a partir de las cuales se obtiene la cantidad. | M62: 34 | O62: 41.79 | P62: =+O62*M62 -> 1420.86 | Q62: 1 | R62: =Q62*P62 -> 1420.86 | S62: =R62 -> 1420.86
L93: TOTAL | S93: =SUM(S62:S92) -> 1420.86
A96: FIRMA | G96: FIRMA
A97: JORGE ANTONIO ANDRADE BLANCO | G97: RICARDO JOSE MARTINEZ VELAIDEZ
A98: INGENIERO RESIDENTE DE OBRA | G98: DIRECTOR DE INTERVENTORIA
A99: M.P. 08202-159900 ATL | G99: M.P. 08202-219279 ATL
D100: MEMORIA DE CÁLCULO DE CANTIDADES DE OBRA
A102: OBJETO: | D102: CONSTRUCCION DEL CENTRO DE VIDA PARA EL ADULTO MAYOR “MIGUEL PINEDO BARROS” EN LA LOCALIDAD TRES DEL DISTRITO DE SANTA MARTA
A105: CAPITULO / ÍTEM | F105: ÍTEM/ DESCRIPCIÓN | M105: UNIDAD | Q105: FORMA DE PAGO
A106: 1.3 | F106: CERRAMIENTO PROVISIONAL EN ZINC, INSTALADO Y PERMANENTE DURANTE LA OBRA EN CONDICIONES OPTIMAS.H= 2,10 MTS, INCLUYE DESMONTE AL FINALIZAR LA OBRA | M106: ml
A109: ESQUEMA DE UBICACIÓN EN PLANOS Y REGISTRO FOTOGRÁFICO | L109: LOCALIZACIÓN | M109: DIMENSIONES | P109: AREA | Q109: No.ELEMENTOS | R109: CANTIDAD PARCIAL | S109: CANTIDAD TOTAL
M110: ANCHO | N110: ALTO | O110: LONGITUD
A111: Espacio en el que se incluye una imagen del elemento a calcular, y si se requiere un gráfico con las medidas a partir de las cuales se obtiene la cantidad. | O111: 41.79 | P111: =+O111*M111 -> 0 | Q111: 1 | R111: =Q111*P111 -> 0 | S111: =+O111 -> 41.79
O112: 34 | S112: =+O112 -> 34
O113: 34.9 | S113: =+O113 -> 34.9
O114: 41.8 | S114: =+O114 -> 41.8
L142: TOTAL | S142: =SUM(S111:S141) -> 152.49
A145: FIRMA | G145: FIRMA
A146: JORGE ANTONIO ANDRADE BLANCO | G146: RICARDO JOSE MARTINEZ VELAIDEZ
A147: INGENIERO RESIDENTE DE OBRA | G147: DIRECTOR DE INTERVENTORIA
A148: M.P. 08202-159900 ATL | G148: M.P. 08202-219279 ATL
D149: MEMORIA DE CÁLCULO DE CANTIDADES DE OBRA
...

Sheet M.C ITEMS ADICIONALES
D1: MEMORIA DE CÁLCULO DE CANTIDADES DE OBRA
A3: OBJETO: | D3: CONSTRUCCION DEL CENTRO DE VIDA PARA EL ADULTO MAYOR “MIGUEL PINEDO BARROS” EN LA LOCALIDAD TRES DEL DISTRITO DE SANTA MARTA
A6: CAPITULO / ÍTEM | F6: ÍTEM/ DESCRIPCIÓN | M6: UNIDAD | Q6: FORMA DE PAGO
A7: =+'ACTA ADICIONAL OBRA '!A191 -> 12.1.1 | F7: =+'ACTA ADICIONAL OBRA '!B191 -> PISO BALDOSA DE GRANO VIBROPRENSADO Y PULIDO DE 33 CM X 33 CM CON GRANO BLANCO # 1-2 Y TIPO DE GRANO MARMOL PERLATO O SIMILAR MAXIMO DE GRANO 9.5 MM + DILATACIONES PLASTICAS COLOR BLANCO CADA 6 PIEZAS SOBRE EL MORTERO DE PEGA DOSIFICACION 1:3 ESPESOR TOTAL 5 CM | M7: M2
A9: ESQUEMA DE UBICACIÓN EN PLANOS Y REGISTRO FOTOGRÁFICO | L9: LOCALIZACIÓN | M9: DIMENSIONES | P9: AREA | Q9: No.ELEMENTOS | R9: CANTIDAD PARCIAL | S9: CANTIDAD TOTAL
M10: ANCHO | N10: ALTO | O10: LONGITUD
A11: #VALUE! | L11: TRABAJO EN GRUPO | P11: 326.76 | Q11: 1 | R11: =Q11*P11 -> 326.76 | S11: =R11 -> 326.76
L12: COMEDOR | P12: 274.08 | Q12: 1 | R12: =Q12*P12 -> 274.08 | S12: =R12 -> 274.08
L13: ADMINISTRACIÓN
L14: FISIOTERAPIA | P14: 11 | Q14: 1 | R14: =Q14*P14 -> 11 | S14: =R14 -> 11
L15: CONSULTORIO 1 | P15: 9.5 | Q15: 1 | R15: =Q15*P15 -> 9.5 | S15: =R15 -> 9.5
L16: CONSULTORIO 2 | P16: 9.5 | Q16: 1 | R16: =Q16*P16 -> 9.5 | S16: =R16 -> 9.5
L17: SALA DE JUNTAS | P17: 19.3 | Q17: 1 | R17: =Q17*P17 -> 19.3 | S17: =R17 -> 19.3
L18: DIRECCIÓN | P18: 12.32 | Q18: 1 | R18: =Q18*P18 -> 12.32 | S18: =R18 -> 12.32
L19: FACTURACION | P19: 15.2 | Q19: 1 | R19: =Q19*P19 -> 15.2 | S19: =R19 -> 15.2
L20: RECEPCION | P20: 12.45 | Q20: 1 | R20: =Q20*P20 -> 12.45 | S20: =R20 -> 12.45
L21: PASILLO | P21: 9.97 | Q21: 1 | R21: =Q21*P21 -> 9.97 | S21: =R21 -> 9.97
L22: ARCHIVO | P22: 5.44 | Q22: 1 | R22: =Q22*P22 -> 5.44 | S22: =R22 -> 5.44
L23: PORTERIA | P23: 3.12 | Q23: 1 | R23: =Q23*P23 -> 3.12 | S23: =R23 -> 3.12
L24: ACCESO | P24: 34.6 | Q24: 1 | R24: =Q24*P24 -> 34.6 | S24: =R24 -> 34.6
L25: PASILLO INTERNO | P25: =54.56+157.16 -> 211.72 | Q25: 1 | R25: =Q25*P25 -> 211.72 | S25: =R25 -> 211.72
L32: TOTAL | S32: =SUM(S11:S25) -> 954.96
A35: FIRMA | G35: FIRMA
A36: JORGE ANTONIO ANDRADE BLANCO | G36: RICARDO JOSE MARTINEZ VELAIDEZ
A37: INGENIERO RESIDENTE DE OBRA | G37: DIRECTOR DE INTERVENTORIA
A38: M.P. 08202-159900 ATL | G38: M.P. 08202-219279 ATL
D39: MEMORIA DE CÁLCULO DE CANTIDADES DE OBRA
A41: OBJETO: | D41: CONSTRUCCION DEL CENTRO DE VIDA PARA EL ADULTO MAYOR “MIGUEL PINEDO BARROS” EN LA LOCALIDAD TRES DEL DISTRITO DE SANTA MARTA
A44: CAPITULO / ÍTEM | F44: ÍTEM/ DESCRIPCIÓN | M44: UNIDAD | Q44: FORMA DE PAGO
A45: =+'ACTA ADICIONAL OBRA '!A192 -> 12.1.2 | F45: =+'ACTA ADICIONAL OBRA '!B192 -> ZOCALO RECTO PREFABRICADO EN GRANO DE MARMOL COLOR BEIGE H= 7.5 CM | M45: ML
A47: ESQUEMA DE UBICACIÓN EN PLANOS Y REGISTRO FOTOGRÁFICO | L47: LOCALIZACIÓN | M47: DIMENSIONES | P47: AREA | Q47: No.ELEMENTOS | R47: CANTIDAD PARCIAL | S47: CANTIDAD TOTAL
M48: ANCHO | N48: ALTO | O48: LONGITUD
A49: #VALUE! | L49: TRABAJO EN GRUPO | O49: 74.45 | Q49: 1 | R49: =O49+Q49 -> 75.45 | S49: =R49 -> 75.45
L50: COMEDOR | O50: 56.6 | Q50: 1 | R50: =O50+Q50 -> 57.6 | S50: =R50 -> 57.6
L51: ADMINISTRACIÓN
L52: FISIOTERAPIA | O52: 12.2 | Q52: 1 | R52: =O52+Q52 -> 13.2 | S52: =R52 -> 13.2
L53: CONSULTORIO 1 | O53: 11.4 | Q53: 1 | R53: =O53+Q53 -> 12.4 | S53: =R53 -> 12.4
L54: CONSULTORIO 2 | O54: 11.4 | Q54: 1 | R54: =O54+Q54 -> 12.4 | S54: =R54 -> 12.4
L55: SALA DE JUNTAS | O55: 17.15 | Q55: 1 | R55: =O55+Q55 -> 18.15 | S55: =R55 -> 18.15
L56: DIRECCIÓN | O56: =11.9+0.35 -> 12.25 | Q56: 1 | R56: =O56+Q56 -> 13.25 | S56: =R56 -> 13.25
...

Sheet MC CONEXION ALCANTARILLADO 
B1: ALCANTARILLADO SANITARIO CENTRO DE VIDA "MIGUEL PINEDO BARROS"
B2: PRELIMINARES
B3: TRAZADO Y REPLANTEO
B4: ITEM: | C4: DESCRIPCIÓN | I4: UNIDAD
B5: =+'ACTA ADICIONAL OBRA '!A203 -> 12.4.1 | C5: =+'ACTA ADICIONAL OBRA '!B203 -> Localización y replanteo alcantarillado sanitario con equipo de Topografía | I5: =+'ACTA ADICIONAL OBRA '!C203 -> m
B6: REFERENCIA | C6: DIMENSIONES (m) | F6: CANTIDAD | G6: TOTAL | H6: TOTAL ACUMULADO | I6: OBSERVACIONES
C7: LARGO | D7: ANCHO | E7: ALTO
C8: 52.36 | F8: 1 | G8: =C8*F8 -> 52.36 | H8: =G8 -> 52.36 | I8: MH1 - MH2
C9: 63.37 | F9: 1 | G9: =C9*F9 -> 63.37 | H9: =H8+G9 -> 115.73 | I9: MH2 - MH3
C10: 60.82 | F10: 1 | G10: =C10*F10 -> 60.82 | H10: =H9+G10 -> 176.55 | I10: MH3 - MH4
C11: 89.8 | F11: 1 | G11: =C11*F11 -> 89.8 | H11: =H10+G11 -> 266.35 | I11: MH4 - MH5
C12: 56.74 | F12: 1 | G12: =C12*F12 -> 56.74 | H12: =H11+G12 -> 323.09 | I12: MH5 - MH6
C13: 29.49 | F13: 1 | G13: =C13*F13 -> 29.49 | H13: =H12+G13 -> 352.58 | I13: MH6 - MH7
C14: 76.88 | F14: 1 | G14: =C14*F14 -> 76.88 | H14: =H13+G14 -> 429.46 | I14: MH7 - MH8
C15: 35.99 | F15: 1 | G15: =C15*F15 -> 35.99 | H15: =H14+G15 -> 465.45 | I15: MH8 - EXISTENTE
G16: =C16*F16 -> 0 | H16: =H15+G16 -> 465.45
G17: =C17*F17 -> 0 | H17: =H16+G17 -> 465.45
G18: =C18*F18 -> 0 | H18: =H17+G18 -> 465.45
G19: =C19*F19 -> 0 | H19: =H18+G19 -> 465.45
G20: =C20*F20 -> 0 | H20: =H19+G20 -> 465.45
G21: =C21*F21 -> 0 | H21: =H20+G21 -> 465.45
G22: =C22*F22 -> 0 | H22: =H21+G22 -> 465.45
G23: =C23*F23 -> 0 | H23: =H22+G23 -> 465.45
G24: =C24*F24 -> 0 | H24: =H23+G24 -> 465.45
G25: =C25*F25 -> 0 | H25: =H24+G25 -> 465.45
G26: =C26*F26 -> 0 | H26: =H25+G26 -> 465.45
G27: =C27*F27 -> 0 | H27: =H26+G27 -> 465.45
... G31: =C31*F31 -> 0 | H31: =H30+G31 -> 465.45
B32: =+B3 -> TRAZADO Y REPLANTEO | H32: =+H31 -> 465.45
B36: FIRMA | F36: FIRMA
B37: Wenceslao Junior Hernández Amador | F37: RICARDO JOSE MARTINEZ VELAIDEZ
B38: ING DISEÑADOR HIDRAULICO | F38: DIRECTOR DE INTERVENTORIA
B39: MP: 08202-399107ATL | F39: M.P. 08202-219279 ATL
B40: EXCAVACIÓN A MÁQUINA
B41: ITEM: | C41: DESCRIPCIÓN | I41: UNIDAD
B42: =+'ACTA ADICIONAL OBRA '!A205 -> 12.4.2 | C42: =+'ACTA ADICIONAL OBRA '!B205 -> Excavación a máquina en material común, roca descompuesta, a cualquier profundidad y bajo cualquier condición de humedad. | I42: =+'ACTA ADICIONAL OBRA '!C205 -> m3
B43: REFERENCIA | C43: DIMENSIONES (m) | F43: CANTIDAD | G43: TOTAL | H43: TOTAL ACUMULADO | I43: OBSERVACIONES
C44: LARGO | D44: ANCHO | E44: ALTO
C45: 52.36 | D45: 0.7 | E45: 1.685 | F45: 1 | G45: 61.75862 | H45: 61.75862 | I45: MH1 - MH2
C46: 63.37 | D46: 0.7 | E46: 1.855 | F46: 1 | G46: 82.285945 | H46: 144.04456 | I46: MH2 - MH3
...

Sheet APU ITEMS ADICIONALES
B1: CONSTRUCCION DEL CENTRO DE VIDA PARA EL ADULTO MAYOR “MIGUEL PINEDO BARROS” EN LA LOCALIDAD TRES DEL DISTRITO DE SANTA MARTA
B2: ANÁLISIS DE PRECIO UNITARIO
B3: =+'ACTA ADICIONAL OBRA '!A189 -> 12 | D3: =+'ACTA ADICIONAL OBRA '!B190 -> PISOS
B5: Ítem | C5: =+'ACTA ADICIONAL OBRA '!A191 -> 12.1.1 | D5: =+'ACTA ADICIONAL OBRA '!B191 -> PISO BALDOSA DE GRANO VIBROPRENSADO Y PULIDO DE 33 CM X 33 CM CON GRANO BLANCO # 1-2 Y TIPO DE GRANO MARMOL PERLATO O SIMILAR MAXIMO DE GRANO 9.5 MM + DILATACIONES PLASTICAS COLOR BLANCO CADA 6 PIEZAS SOBRE EL MORTERO DE PEGA DOSIFICACION 1:3 ESPESOR TOTAL 5 CM
D6: Unidad | G6: =+'ACTA ADICIONAL OBRA '!C191 -> M2
B7: MATERIALES | D7: UNIDAD | E7: CANTIDAD | F7: VALOR UNITARIO | G7: VALOR TOTAL
B8: 1 | C8: PISO BALDOSA VIBROPRENSADO 30X30 EN MARMOL | D8: m2 | E8: 1.05 | F8: 133000 | G8: =ROUND(F8*E8,0) -> 139650
B9: 2 | C9: Cemento gris | D9: Kg | E9: 0.65 | F9: 2500 | G9: =ROUND(F9*E9,0) -> 1625
B10: 3 | C10: Dilatacion Blanca 2x2.4x 0.97x0.47 | D10: Ml | E10: 0.5 | F10: 2400 | G10: =ROUND(F10*E10,0) -> 1200
B11: 4 | C11: Junta fina blanca | D11: kg | E11: 0.25 | F11: 10000 | G11: =ROUND(F11*E11,0) -> 2500
E12: SUBTOTAL MATERIALES | G12: =+SUM(G8:G11) -> 144975
B14: EQUIPOS Y HERRAMIENTAS | D14: UNIDAD | E14: =+E7 -> CANTIDAD | F14: VALOR UNITARIO | G14: VALOR TOTAL
B15: 1 | C15: Herramienta menor (% mano de obra) | D15: glb | E15: 0.1 | F15: =+G25*0.1 -> 7041.9 | G15: =+ROUND(F15,0) -> 7042
B16: 2
E17: SUBTOTAL EQUIPOS | G17: =SUM(G15:G16) -> 7042
B19: TRANSPORTE | D19: UNIDAD | E19: DISTANCIA km | F19: VR. UN. ($/ m³*km) | G19: VALOR TOTAL
G20: 15000
E21: SUBTOTAL TRANSPORTE | G21: =+G20 -> 15000
B23: MANO DE OBRA | D23: =+D19 -> UNIDAD | E23: =+E14 -> CANTIDAD | F23: VALOR UNITARIO | G23: VALOR TOTAL
B24: 1 | C24: Cuadrilla AA 1Of+2Ay (Albañilería) | D24: h | E24: 0.563 | F24: =+'CUADRILLAS '!H36 -> 125079 | G24: =ROUND(F24*E24,0) -> 70419
E25: SUBTOTAL MANO DE OBRA | G25: =+G24 -> 70419
E26: COSTO DIRECTO | G26: =G12+G17+G25+G21 -> 237436
B28: FIRMA | E28: FIRMA
B29: JORGE ANTONIO ANDRADE BLANCO | D29: RICARDO JOSE MARTINEZ VELAIDEZ
B30: INGENIERO RESIDENTE DE OBRA | D30: DIRECTOR DE INTERVENTORIA
B31: M.P. 08202-159900 ATL | F31: M.P. 08202-219279 ATL
B32: CONSTRUCCION DEL CENTRO DE VIDA PARA EL ADULTO MAYOR “MIGUEL PINEDO BARROS” EN LA LOCALIDAD TRES DEL DISTRITO DE SANTA MARTA
B33: ANÁLISIS DE PRECIO UNITARIO
B34: =+'ACTA ADICIONAL OBRA '!A189 -> 12 | D34: =+'ACTA ADICIONAL OBRA '!B190 -> PISOS
B36: Ítem | C36: =+'ACTA ADICIONAL OBRA '!A192 -> 12.1.2 | D36: =+'ACTA ADICIONAL OBRA '!B192 -> ZOCALO RECTO PREFABRICADO EN GRANO DE MARMOL COLOR BEIGE H= 7.5 CM
D37: Unidad | G37: =+'ACTA ADICIONAL OBRA '!C192 -> ML
B38: MATERIALES | D38: UNIDAD | E38: CANTIDAD | F38: VALOR UNITARIO | G38: VALOR TOTAL
B39: 1 | C39: ZÓCALO RECTO EN MARMOL BEIGE H=7 CM | D39: m | E39: 1.05 | F39: 50000 | G39: =ROUND(F39*E39,0) -> 52500
B40: 2 | C40: Cemento gris | D40: Kg | E40: 0.45 | F40: 2500 | G40: =ROUND(F40*E40,0) -> 1125
B41: 3 | C41: Agua | D41: Lt | E41: 6.3 | F41: 250 | G41: =ROUND(F41*E41,0) -> 1575
E42: SUBTOTAL MATERIALES | G42: =+SUM(G39:G41) -> 55200
B44: EQUIPOS Y HERRAMIENTAS | D44: UNIDAD | E44: =+E38 -> CANTIDAD | F44: VALOR UNITARIO | G44: VALOR TOTAL
B45: 1 | C45: Herramienta menor (% mano de obra) | D45: glb | E45: 0.1 | F45: =+G54*0.1 -> 1876.2 | G45: =+ROUND(F45,0) -> 1876
B46: 2
E47: SUBTOTAL EQUIPOS | G47: =SUM(G45:G46) -> 1876
...

Sheet 12.4.1
B2: DESCRIPCIÓN: | C2: =+'ACTA ADICIONAL OBRA '!B203 -> Localización y replanteo alcantarillado sanitario con equipo de Topografía
B4: ITEM: | C4: =+'ACTA ADICIONAL OBRA '!A203 -> 12.4.1 | E4: UNIDAD: | F4: =+'ACTA ADICIONAL OBRA '!C203 -> m | G4: PRECIO UNITARIO: | I4: =ROUND(SUM(J47:J50),0) -> 5559
B6: I. EQUIPOS
B7: Descripción | F7: Unidad | G7: Tarifa | H7: Rendimiento | J7: Valor parcial
G8: $/día
B9: Herramienta menor | F9: % | G9: =+J35 -> 2553.446 | H9: 0.1 | J9: =IFERROR(G9*H9,"") -> 255.3446
B10: Equipo de topografía teodolito electrónico, precisión 5" | F10: hr | G10: 29500 | H10: =IFERROR(IF(G10="","",1/L10),"") -> 0.033333333 | J10: =IFERROR(G10*H10,"") -> 983.33333 | L10: 30
B11: Nivel Skill láser horizontal - vertical 360° y trípode | F11: hr | G11: 9500 | H11: =IFERROR(IF(G11="","",1/L11),"") -> 0.033333333 | J11: =IFERROR(G11*H11,"") -> 316.66667 | L11: =+L10 -> 30
H12: =IFERROR(IF(G12="","",1/L12),"") | J12: =IFERROR(G12*H12,"")
H13: =IFERROR(IF(G13="","",1/L13),"") | J13: =IFERROR(G13*H13,"")
H14: =IFERROR(IF(G14="","",1/L14),"") | J14: =IFERROR(G14*H14,"")
G15: Subtotal Equipos | J15: =SUM(J9:J14) -> 1555.3446
B17: II. MATERIALES
B18: Descripción | E18: Unidad | F18: Cantidad | G18: Valor Unitario | H18: Desp. | I18: Cantidad total | J18: Valor parcial
H19: %
B20: Estacas en madera 4cm x 4cm x 90cm - Ordinario | E20: un | F20: 1 | G20: 2900 | I20: 0.5 | J20: =IFERROR(G20*I20,0) -> 1450
I21: =F21*(1+H21) -> 0 | J21: =IFERROR(G21*I21,0) -> 0
I22: =F22*(1+H22) -> 0 | J22: =IFERROR(G22*I22,0) -> 0
I23: =F23*(1+H23) -> 0 | J23: =IFERROR(G23*I23,0) -> 0
I24: =F24*(1+H24) -> 0 | J24: =IFERROR(G24*I24,0) -> 0
I25: =F25*(1+H25) -> 0 | J25: =IFERROR(G25*I25,0) -> 0
G26: Subtotal Materiales | H26: Subtotal Materiales | J26: =SUM(J20:J25) -> 1450
B28: III. MANO DE OBRA
B29: Descripción | D29: Valor jornal | E29: Prest. | F29: Prest. | G29: Jornal total | H29: Rendimiento | J29: Valor parcial
D30: $ | E30: % | F30: $
B31: Cuadrilla tipo II - Topografía | D31: 542780.55 | E31: 0.56812668 | F31: =IFERROR(D31*E31,"") -> 308368.11 | G31: =IFERROR(D31+F31,"") -> 851148.66 | H31: 0.003 | J31: =IFERROR(G31*H31,"") -> 2553.446 | L31: 450
F32: =IFERROR(D32*E32,"") | G32: =IFERROR(D32+F32,"") | H32: =IFERROR(IF(G32="","",$H$31),"") | J32: =IFERROR(G32*H32,"")
F33: =IFERROR(D33*E33,"") | G33: =IFERROR(D33+F33,"") | H33: =IFERROR(IF(G33="","",$H$31),"") | J33: =IFERROR(G33*H33,"")
F34: =IFERROR(D34*E34,"") | G34: =IFERROR(D34+F34,"") | H34: =IFERROR(IF(G34="","",$H$31),"") | J34: =IFERROR(G34*H34,"")
G35: Subtotal Mano de Obra | H35: Subtotal Mano de Obra | J35: =SUM(J31:J34) -> 2553.446
B37: IV. TRANSPORTE
B38: Descripción | E38: Cantidad | G38: Distancia | H38: Tarifa | J38: Valor parcial
E39: M3/Kg/Un/Vj | G39: Km | H39: $ (m3/Km)
J40: =IFERROR(E40*G40*H40,"")
J41: =IFERROR(E41*G41*H41,"")
J42: =IFERROR(E42*G42*H42,"")
G43: Subtotal Transporte | H43: Subtotal Transporte | J43: =SUM(J40:J42) -> 0
B45: V. COSTOS INDIRECTOS
B46: Descripción | H46: Porcentaje | J46: Valor parcial
B47: Base | J47: =+J15+J26+J35+J43 -> 5558.7906
...

Sheet 12.4.2
B2: DESCRIPCIÓN: | C2: =+'ACTA ADICIONAL OBRA '!B205 -> Excavación a máquina en material común, roca descompuesta, a cualquier profundidad y bajo cualquier condición de humedad.
B4: ITEM: | C4: =+'ACTA ADICIONAL OBRA '!A205 -> 12.4.2 | E4: UNIDAD: | F4: =+'ACTA ADICIONAL OBRA '!C205 -> m3 | G4: PRECIO UNITARIO: | I4: =ROUND(SUM(J48:J51),0) -> 29890
B6: I. EQUIPOS
B7: Descripción | F7: Unidad | G7: Tarifa | H7: Rendimiento | J7: Valor parcial
G8: $/día
B9: Herramienta menor | F9: % | G9: =+J36 -> 13608.969 | H9: 0.1 | J9: =IFERROR(G9*H9,"") -> 1360.8969
B10: Motobomba autocebante 3" motor eléctrico, 3m de succión, 6m de expulsión | F10: hr | G10: 14000 | H10: =IFERROR(IF(G10="","",1/L10),"") -> 0.1 | J10: =IFERROR(G10*H10,"") -> 1400 | L10: 10
B11: Retroexcavadora de oruga Cat 320 | F11: hr | G11: 270400 | H11: 0.05 | J11: =IFERROR(G11*H11,"") -> 13520 | L11: 30
H12: =IFERROR(IF(G12="","",1/L12),"") | J12: =IFERROR(G12*H12,"")
H13: =IFERROR(IF(G13="","",1/L13),"") | J13: =IFERROR(G13*H13,"")
H14: =IFERROR(IF(G14="","",1/L14),"") | J14: =IFERROR(G14*H14,"")
G15: Subtotal Equipos | J15: =SUM(J9:J14) -> 16280.897
B17: II. MATERIALES
B18: Descripción | E18: Unidad | F18: Cantidad | G18: Valor Unitario | H18: Desp. | I18: Cantidad total | J18: Valor parcial
H19: %
I20: =F20*(1+H20) -> 0 | J20: =IFERROR(G20*I20,0) -> 0
I21: =F21*(1+H21) -> 0 | J21: =IFERROR(G21*I21,0) -> 0
I22: =F22*(1+H22) -> 0 | J22: =IFERROR(G22*I22,0) -> 0
I23: =F23*(1+H23) -> 0 | J23: =IFERROR(G23*I23,0) -> 0
I24: =F24*(1+H24) -> 0 | J24: =IFERROR(G24*I24,0) -> 0
I25: =F25*(1+H25) -> 0 | J25: =IFERROR(G25*I25,0) -> 0
I26: =F26*(1+H26) -> 0 | J26: =IFERROR(G26*I26,0) -> 0
G27: Subtotal Materiales | H27: Subtotal Materiales | J27: =SUM(J20:J26) -> 0
B29: III. MANO DE OBRA
B30: Descripción | D30: Valor jornal | E30: Prest. | F30: Prest. | G30: Jornal total | H30: Rendimiento | J30: Valor parcial
D31: $ | E31: % | F31: $
B32: Cuadrilla tipo 1 (1 Oficial + 1 ayudante) | D32: 163417.8 | E32: 0.6655431 | F32: =IFERROR(D32*E32,"") -> 108761.59 | G32: =IFERROR(D32+F32,"") -> 272179.39 | H32: 0.05 | J32: =IFERROR(G32*H32,"") -> 13608.969 | L32: 25
F33: =IFERROR(D33*E33,"") | G33: =IFERROR(D33+F33,"") | H33: =IFERROR(IF(G33="","",$H$32),"") | J33: =IFERROR(G33*H33,"")
F34: =IFERROR(D34*E34,"") | G34: =IFERROR(D34+F34,"") | H34: =IFERROR(IF(G34="","",$H$32),"") | J34: =IFERROR(G34*H34,"")
F35: =IFERROR(D35*E35,"") | G35: =IFERROR(D35+F35,"") | H35: =IFERROR(IF(G35="","",$H$32),"") | J35: =IFERROR(G35*H35,"")
G36: Subtotal Mano de Obra | H36: Subtotal Mano de Obra | J36: =SUM(J32:J35) -> 13608.969
B38: IV. TRANSPORTE
B39: Descripción | E39: Cantidad | G39: Distancia | H39: Tarifa | J39: Valor parcial
E40: M3/Kg/Un/Vj | G40: Km | H40: $ (m3/Km)
J41: =IFERROR(E41*G41*H41,"")
J42: =IFERROR(E42*G42*H42,"")
J43: =IFERROR(E43*G43*H43,"")
G44: Subtotal Transporte | H44: Subtotal Transporte | J44: =SUM(J41:J43) -> 0
B46: V. COSTOS INDIRECTOS
B47: Descripción | H47: Porcentaje | J47: Valor parcial
...

Sheet 12.4.3
B2: DESCRIPCIÓN: | C2: =+'ACTA ADICIONAL OBRA '!B206 -> Excavación a mano en material común, roca descompuesta, a cualquier profundidad y bajo cualquier condición de humedad.
B4: ITEM: | C4: =+'ACTA ADICIONAL OBRA '!A206 -> 12.4.3 | E4: UNIDAD: | F4: =+'ACTA ADICIONAL OBRA '!C206 -> m3 | G4: PRECIO UNITARIO: | I4: =ROUND(SUM(J48:J51),0) -> 52298
B6: I. EQUIPOS
B7: Descripción | F7: Unidad | G7: Tarifa | H7: Rendimiento | J7: Valor parcial
G8: $/día
B9: Herramienta menor | F9: % | G9: =+J36 -> 46270.496 | H9: 0.1 | J9: =IFERROR(G9*H9,"") -> 4627.0496
B10: Motobomba autocebante 3" motor eléctrico, 3m de succión, 6m de expulsión | F10: hr | G10: 14000 | H10: =IFERROR(IF(G10="","",1/L10),"") -> 0.1 | J10: =IFERROR(G10*H10,"") -> 1400 | L10: 10
H11: =IFERROR(IF(G11="","",1/L11),"") | J11: =IFERROR(G11*H11,"") | L11: 1
H12: =IFERROR(IF(G12="","",1/L12),"") | J12: =IFERROR(G12*H12,"")
H13: =IFERROR(IF(G13="","",1/L13),"") | J13: =IFERROR(G13*H13,"")
H14: =IFERROR(IF(G14="","",1/L14),"") | J14: =IFERROR(G14*H14,"")
G15: Subtotal Equipos | J15: =SUM(J9:J14) -> 6027.0496
B17: II. MATERIALES
B18: Descripción | E18: Unidad | F18: Cantidad | G18: Valor Unitario | H18: Desp. | I18: Cantidad total | J18: Valor parcial
H19: %
I20: =F20*(1+H20) -> 0 | J20: =IFERROR(G20*I20,0) -> 0
I21: =F21*(1+H21) -> 0 | J21: =IFERROR(G21*I21,0) -> 0
I22: =F22*(1+H22) -> 0 | J22: =IFERROR(G22*I22,0) -> 0
I23: =F23*(1+H23) -> 0 | J23: =IFERROR(G23*I23,0) -> 0
I24: =F24*(1+H24) -> 0 | J24: =IFERROR(G24*I24,0) -> 0
I25: =F25*(1+H25) -> 0 | J25: =IFERROR(G25*I25,0) -> 0
I26: =F26*(1+H26) -> 0 | J26: =IFERROR(G26*I26,0) -> 0
G27: Subtotal Materiales | H27: Subtotal Materiales | J27: =SUM(J20:J26) -> 0
B29: III. MANO DE OBRA
B30: Descripción | D30: Valor jornal | E30: Prest. | F30: Prest. | G30: Jornal total | H30: Rendimiento | J30: Valor parcial
D31: $ | E31: % | F31: $
B32: Cuadrilla tipo 1 (1 Oficial + 1 ayudante) | D32: 163417.8 | E32: 0.6655431 | F32: =IFERROR(D32*E32,"") -> 108761.59 | G32: =IFERROR(D32+F32,"") -> 272179.39 | H32: 0.17 | J32: =IFERROR(G32*H32,"") -> 46270.496 | L32: 9
F33: =IFERROR(D33*E33,"") | G33: =IFERROR(D33+F33,"") | H33: =IFERROR(IF(G33="","",$H$32),"") | J33: =IFERROR(G33*H33,"")
F34: =IFERROR(D34*E34,"") | G34: =IFERROR(D34+F34,"") | H34: =IFERROR(IF(G34="","",$H$32),"") | J34: =IFERROR(G34*H34,"")
F35: =IFERROR(D35*E35,"") | G35: =IFERROR(D35+F35,"") | H35: =IFERROR(IF(G35="","",$H$32),"") | J35: =IFERROR(G35*H35,"")
G36: Subtotal Mano de Obra | H36: Subtotal Mano de Obra | J36: =SUM(J32:J35) -> 46270.496
B38: IV. TRANSPORTE
B39: Descripción | E39: Cantidad | G39: Distancia | H39: Tarifa | J39: Valor parcial
E40: M3/Kg/Un/Vj | G40: Km | H40: $ (m3/Km)
J41: =IFERROR(E41*G41*H41,"")
J42: =IFERROR(E42*G42*H42,"")
J43: =IFERROR(E43*G43*H43,"")
G44: Subtotal Transporte | H44: Subtotal Transporte | J44: =SUM(J41:J43) -> 0
B46: V. COSTOS INDIRECTOS
B47: Descripción | H47: Porcentaje | J47: Valor parcial
...

Sheet 12.4.4
B2: DESCRIPCIÓN: | C2: =+'ACTA ADICIONAL OBRA '!B208 -> Relleno material de sitio seleccionado compactado al 95% del Proctor Modificado
B4: ITEM: | C4: =+'ACTA ADICIONAL OBRA '!A208 -> 12.4.4 | E4: UNIDAD: | F4: =+'ACTA ADICIONAL OBRA '!C208 -> m3 | G4: PRECIO UNITARIO: | I4: =ROUND(SUM(J48:J51),0) -> 62586
B6: I. EQUIPOS
B7: Descripción | F7: Unidad | G7: Tarifa | H7: Rendimiento | J7: Valor parcial
G8: $/día
B9: Herramienta menor | F9: % | G9: =+J36 -> 44648.668 | H9: 0.1 | J9: =IFERROR(G9*H9,"") -> 4464.8668
B10: Minicargador Bobcat | F10: hr | G10: 135000 | H10: =IFERROR(IF(G10="","",1/L10),"") -> 0.033333333 | J10: =IFERROR(G10*H10,"") -> 4500 | L10: 30
B11: Compactador manual vibratorio (Canguro) 5 Hp | F11: hr | G11: 13450 | H11: =IFERROR(IF(G11="","",1/L11),"") -> 0.55555556 | J11: =IFERROR(G11*H11,"") -> 7472.2222 | L11: 1.8
H12: =IFERROR(IF(G12="","",1/L12),"") | J12: =IFERROR(G12*H12,"")
H13: =IFERROR(IF(G13="","",1/L13),"") | J13: =IFERROR(G13*H13,"")
H14: =IFERROR(IF(G14="","",1/L14),"") | J14: =IFERROR(G14*H14,"")
G15: Subtotal Equipos | J15: =SUM(J9:J14) -> 16437.089
B17: II. MATERIALES
B18: Descripción | E18: Unidad | F18: Cantidad | G18: Valor Unitario | H18: Desp. | I18: Cantidad total | J18: Valor parcial
H19: %
B20: Agua | E20: lt | F20: 25 | G20: 50 | I20: 30 | J20: =IFERROR(G20*I20,0) -> 1500
I22: =F22*(1+H22) -> 0 | J22: =IFERROR(G22*I22,0) -> 0
I23: =F23*(1+H23) -> 0 | J23: =IFERROR(G23*I23,0) -> 0
I24: =F24*(1+H24) -> 0 | J24: =IFERROR(G24*I24,0) -> 0
I25: =F25*(1+H25) -> 0 | J25: =IFERROR(G25*I25,0) -> 0
I26: =F26*(1+H26) -> 0 | J26: =IFERROR(G26*I26,0) -> 0
G27: Subtotal Materiales | H27: Subtotal Materiales | J27: =SUM(J20:J26) -> 1500
B29: III. MANO DE OBRA
B30: Descripción | D30: Valor jornal | E30: Prest. | F30: Prest. | G30: Jornal total | H30: Rendimiento | J30: Valor parcial
D31: $ | E31: % | F31: $
B32: Cuadrilla tipo 2 (1 Oficial + 2 ayudante) | D32: 221781.3 | E32: 0.67765378 | F32: =IFERROR(D32*E32,"") -> 150290.94 | G32: =IFERROR(D32+F32,"") -> 372072.24 | H32: 0.12 | J32: =IFERROR(G32*H32,"") -> 44648.668 | L32: 15
F33: =IFERROR(D33*E33,"") | G33: =IFERROR(D33+F33,"") | H33: =IFERROR(IF(G33="","",$H$32),"") | J33: =IFERROR(G33*H33,"")
F34: =IFERROR(D34*E34,"") | G34: =IFERROR(D34+F34,"") | H34: =IFERROR(IF(G34="","",$H$32),"") | J34: =IFERROR(G34*H34,"")
F35: =IFERROR(D35*E35,"") | G35: =IFERROR(D35+F35,"") | H35: =IFERROR(IF(G35="","",$H$32),"") | J35: =IFERROR(G35*H35,"")
G36: Subtotal Mano de Obra | H36: Subtotal Mano de Obra | J36: =SUM(J32:J35) -> 44648.668
B38: IV. TRANSPORTE
B39: Descripción | E39: Cantidad | G39: Distancia | H39: Tarifa | J39: Valor parcial
E40: M3/Kg/Un/Vj | G40: Km | H40: $ (m3/Km)
J41: =IFERROR(E41*G41*H41,"")
J42: =IFERROR(E42*G42*H42,"")
J43: =IFERROR(E43*G43*H43,"")
G44: Subtotal Transporte | H44: Subtotal Transporte | J44: =SUM(J41:J43) -> 0
B46: V. COSTOS INDIRECTOS
B47: Descripción | H47: Porcentaje | J47: Valor parcial
B48: Base | J48: =+J15+J27+J36+J44 -> 62585.757
...

Sheet 12.4.5
B2: DESCRIPCIÓN: | C2: =+'ACTA ADICIONAL OBRA '!B209 -> Relleno material Granular Tipo 1 compactado al 70% de la Densidad Relativa
B4: ITEM: | C4: =+'ACTA ADICIONAL OBRA '!A209 -> 12.4.5 | E4: UNIDAD: | F4: =+'ACTA ADICIONAL OBRA '!C209 -> m3 | G4: PRECIO UNITARIO: | I4: =ROUND(SUM(J48:J51),0) -> 123079
B6: I. EQUIPOS
B7: Descripción | F7: Unidad | G7: Tarifa | H7: Rendimiento | J7: Valor parcial
G8: $/día
B9: Herramienta menor | F9: % | G9: =+J36 -> 18603.612 | H9: 0.1 | J9: =IFERROR(G9*H9,"") -> 1860.3612
B10: Minicargador Bobcat | F10: hr | G10: 135000 | H10: =IFERROR(IF(G10="","",1/L10),"") -> 0.04 | J10: =IFERROR(G10*H10,"") -> 5400 | L10: 25
B11: Compactador manual vibratorio (Canguro) 5 Hp | F11: hr | G11: 13450 | H11: =IFERROR(IF(G11="","",1/L11),"") -> 0.5 | J11: =IFERROR(G11*H11,"") -> 6725 | L11: 2
H12: =IFERROR(IF(G12="","",1/L12),"") | J12: =IFERROR(G12*H12,"")
H13: =IFERROR(IF(G13="","",1/L13),"") | J13: =IFERROR(G13*H13,"")
H14: =IFERROR(IF(G14="","",1/L14),"") | J14: =IFERROR(G14*H14,"")
G15: Subtotal Equipos | J15: =SUM(J9:J14) -> 13985.361
B17: II. MATERIALES
B18: Descripción | E18: Unidad | F18: Cantidad | G18: Valor Unitario | H18: Desp. | I18: Cantidad total | J18: Valor parcial
H19: %
B20: Material de cantera tipo 1 | E20: m3 | F20: 1.3 | G20: 60000 | I20: =F20*(1+H20) -> 1.3 | J20: =IFERROR(G20*I20,0) -> 78000
I21: =F21*(1+H21) -> 0 | J21: =IFERROR(G21*I21,0) -> 0
I22: =F22*(1+H22) -> 0 | J22: =IFERROR(G22*I22,0) -> 0
I23: =F23*(1+H23) -> 0 | J23: =IFERROR(G23*I23,0) -> 0
I24: =F24*(1+H24) -> 0 | J24: =IFERROR(G24*I24,0) -> 0
I25: =F25*(1+H25) -> 0 | J25: =IFERROR(G25*I25,0) -> 0
I26: =F26*(1+H26) -> 0 | J26: =IFERROR(G26*I26,0) -> 0
G27: Subtotal Materiales | H27: Subtotal Materiales | J27: =SUM(J20:J26) -> 78000
B29: III. MANO DE OBRA
B30: Descripción | D30: Valor jornal | E30: Prest. | F30: Prest. | G30: Jornal total | H30: Rendimiento | J30: Valor parcial
D31: $ | E31: % | F31: $
B32: Cuadrilla tipo 2 (1 Oficial + 2 ayudante) | D32: 221781.3 | E32: 0.67765378 | F32: =IFERROR(D32*E32,"") -> 150290.94 | G32: =IFERROR(D32+F32,"") -> 372072.24 | H32: =IFERROR(IF(G32="","",1/L32),"") -> 0.05 | J32: =IFERROR(G32*H32,"") -> 18603.612 | L32: 20
F33: =IFERROR(D33*E33,"") | G33: =IFERROR(D33+F33,"") | H33: =IFERROR(IF(G33="","",$H$32),"") | J33: =IFERROR(G33*H33,"")
F34: =IFERROR(D34*E34,"") | G34: =IFERROR(D34+F34,"") | H34: =IFERROR(IF(G34="","",$H$32),"") | J34: =IFERROR(G34*H34,"")
F35: =IFERROR(D35*E35,"") | G35: =IFERROR(D35+F35,"") | H35: =IFERROR(IF(G35="","",$H$32),"") | J35: =IFERROR(G35*H35,"")
G36: Subtotal Mano de Obra | H36: Subtotal Mano de Obra | J36: =SUM(J32:J35) -> 18603.612
B38: IV. TRANSPORTE
B39: Descripción | E39: Cantidad | G39: Distancia | H39: Tarifa | J39: Valor parcial
E40: M3/Kg/Un/Vj | G40: Km | H40: $ (m3/Km)
B41: Transporte de material de relleno | E41: =+I20 -> 1.3 | G41: 8 | H41: 1201 | J41: =IFERROR(E41*G41*H41,"") -> 12490.4
J42: =IFERROR(E42*G42*H42,"")
J43: =IFERROR(E43*G43*H43,"")
G44: Subtotal Transporte | H44: Subtotal Transporte | J44: =SUM(J41:J43) -> 12490.4
B46: V. COSTOS INDIRECTOS
B47: Descripción | H47: Porcentaje | J47: Valor parcial
...

Sheet 12.4.6
B2: DESCRIPCIÓN: | C2: =+'ACTA ADICIONAL OBRA '!B210 -> Relleno material seleccionado de cantera Tipo 2 o 3 compactado al 95% del Proctor Modificado
B4: ITEM: | C4: 12.4.6 | E4: UNIDAD: | F4: =+'ACTA ADICIONAL OBRA '!C210 -> m3 | G4: PRECIO UNITARIO: | I4: =ROUND(SUM(J48:J51),0) -> 150138
B6: I. EQUIPOS
B7: Descripción | F7: Unidad | G7: Tarifa | H7: Rendimiento | J7: Valor parcial
G8: $/día
B9: Herramienta menor | F9: % | G9: =+J36 -> 22324.334 | H9: 0.1 | J9: =IFERROR(G9*H9,"") -> 2232.4334
B10: Minicargador Bobcat | F10: hr | G10: 135000 | H10: =IFERROR(IF(G10="","",1/L10),"") -> 0.04 | J10: =IFERROR(G10*H10,"") -> 5400 | L10: 25
B11: Compactador manual vibratorio (Canguro) 5 Hp | F11: hr | G11: 13450 | H11: =IFERROR(IF(G11="","",1/L11),"") -> 0.33333333 | J11: =IFERROR(G11*H11,"") -> 4483.3333 | L11: 3
H12: =IFERROR(IF(G12="","",1/L12),"") | J12: =IFERROR(G12*H12,"")
H13: =IFERROR(IF(G13="","",1/L13),"") | J13: =IFERROR(G13*H13,"")
H14: =IFERROR(IF(G14="","",1/L14),"") | J14: =IFERROR(G14*H14,"")
G15: Subtotal Equipos | J15: =SUM(J9:J14) -> 12115.767
B17: II. MATERIALES
B18: Descripción | E18: Unidad | F18: Cantidad | G18: Valor Unitario | H18: Desp. | I18: Cantidad total | J18: Valor parcial
H19: %
B20: Material de cantera tipo 2 o 3 | E20: m3 | F20: 1.3 | G20: 75000 | I20: =F20*(1+H20) -> 1.3 | J20: =IFERROR(G20*I20,0) -> 97500
B21: Agua | E21: lt | F21: 25 | G21: 50 | I21: 30 | J21: =IFERROR(G21*I21,0) -> 1500
I22: =F22*(1+H22) -> 0 | J22: =IFERROR(G22*I22,0) -> 0
I23: =F23*(1+H23) -> 0 | J23: =IFERROR(G23*I23,0) -> 0
I24: =F24*(1+H24) -> 0 | J24: =IFERROR(G24*I24,0) -> 0
I25: =F25*(1+H25) -> 0 | J25: =IFERROR(G25*I25,0) -> 0
I26: =F26*(1+H26) -> 0 | J26: =IFERROR(G26*I26,0) -> 0
G27: Subtotal Materiales | H27: Subtotal Materiales | J27: =SUM(J20:J26) -> 99000
B29: III. MANO DE OBRA
B30: Descripción | D30: Valor jornal | E30: Prest. | F30: Prest. | G30: Jornal total | H30: Rendimiento | J30: Valor parcial
D31: $ | E31: % | F31: $
B32: Cuadrilla tipo 2 (1 Oficial + 2 ayudante) | D32: 221781.3 | E32: 0.67765378 | F32: =IFERROR(D32*E32,"") -> 150290.94 | G32: =IFERROR(D32+F32,"") -> 372072.24 | H32: 0.06 | J32: =IFERROR(G32*H32,"") -> 22324.334 | L32: 19
F33: =IFERROR(D33*E33,"") | G33: =IFERROR(D33+F33,"") | H33: =IFERROR(IF(G33="","",$H$32),"") | J33: =IFERROR(G33*H33,"")
F34: =IFERROR(D34*E34,"") | G34: =IFERROR(D34+F34,"") | H34: =IFERROR(IF(G34="","",$H$32),"") | J34: =IFERROR(G34*H34,"")
F35: =IFERROR(D35*E35,"") | G35: =IFERROR(D35+F35,"") | H35: =IFERROR(IF(G35="","",$H$32),"") | J35: =IFERROR(G35*H35,"")
G36: Subtotal Mano de Obra | H36: Subtotal Mano de Obra | J36: =SUM(J32:J35) -> 22324.334
B38: IV. TRANSPORTE
B39: Descripción | E39: Cantidad | G39: Distancia | H39: Tarifa | J39: Valor parcial
E40: M3/Kg/Un/Vj | G40: Km | H40: $ (m3/Km)
B41: Transporte de material seleccionado para relleno | E41: =+I20 -> 1.3 | G41: 10 | H41: 1246 | J41: =IFERROR(E41*G41*H41,"") -> 16198
B42: Acarreo de material en obra | E42: 0.01 | G42: 10 | H42: 5000 | J42: =IFERROR(E42*G42*H42,"") -> 500
J43: =IFERROR(E43*G43*H43,"")
G44: Subtotal Transporte | H44: Subtotal Transporte | J44: =SUM(J41:J43) -> 16698
B46: V. COSTOS INDIRECTOS
B47: Descripción | H47: Porcentaje | J47: Valor parcial
...

Sheet 12.4.7
B2: DESCRIPCIÓN: | C2: =+'ACTA ADICIONAL OBRA '!B212 -> Construcción pozo de inspección en concreto reforzado e impermeabilizado para tuberías de diámetro entre 8" y 27", con diámetro del cilindro de 1,20 m (1,45 m< H < 1,80m) incluye losa de fondo, tapa de inspección en HD, cilindro, cañuela y pañete de impermeabilización
B4: ITEM: | C4: =+'ACTA ADICIONAL OBRA '!A212 -> 12.4.7 | E4: UNIDAD: | F4: =+'ACTA ADICIONAL OBRA '!C212 -> un | G4: PRECIO UNITARIO: | I4: =ROUND(SUM(J47:J50),0) -> 4347374
B6: I. EQUIPOS
B7: Descripción | F7: Unidad | G7: Tarifa | H7: Rendimiento | J7: Valor parcial
G8: $/día
B9: Herramienta menor | F9: % | G9: =+J35 -> 1019444.6 | H9: 0.1 | J9: =IFERROR(G9*H9,"") -> 101944.46
B10: Formaleta metálica | F10: gbl | G10: 115000 | H10: =IFERROR(IF(G10="","",1/L10),"") -> 1.8181818 | J10: =IFERROR(G10*H10,"") -> 209090.91 | L10: 0.55
B11: Vibrador de concreto gasolina 3-4m, 25-40mm | F11: día | G11: 49400 | H11: =IFERROR(IF(G11="","",1/L11),"") -> 0.36363636 | J11: =IFERROR(G11*H11,"") -> 17963.636 | L11: 2.75
H12: =IFERROR(IF(G12="","",1/L12),"") | J12: =IFERROR(G12*H12,"")
G13: Subtotal Equipos | J13: =SUM(J9:J12) -> 328999
B15: II. MATERIALES
B16: Descripción | E16: Unidad | F16: Cantidad | G16: Valor Unitario | H16: Desp. | I16: Cantidad total | J16: Valor parcial
H17: %
B18: Acero corrugado figurado 1/4" - 1" 60.000 Psi | E18: kg | F18: 114 | G18: 6600 | I18: =F18*(1+H18) -> 114 | J18: =IFERROR(G18*I18,0) -> 752400
B19: Alambre negro Cal. 18 | E19: kg | F19: 24 | G19: 8500 | I19: =F19*(1+H19) -> 24 | J19: =IFERROR(G19*I19,0) -> 204000
B20: Aro y tapa pozos de inspección en HF | E20: un | F20: 1 | G20: 785000 | I20: =F20*(1+H20) -> 1 | J20: =IFERROR(G20*I20,0) -> 785000
B21: Concreto corriente grava común 3000 PSI | E21: m3 | F21: 1.2 | G21: 545000 | I21: =F21*(1+H21) -> 1.2 | J21: =IFERROR(G21*I21,0) -> 654000
B22: Mortero baja permeabilidad 3000 PSI | E22: m3 | F22: 0.35 | G22: 497200 | I22: 0.35 | J22: =IFERROR(G22*I22,0) -> 174020
B23: Impermeabilizante integral concreto-mortero Plastocrete DM (20Kg) | E23: un | F23: 0.3 | G23: 331700 | I23: =F23*(1+H23) -> 0.3 | J23: =IFERROR(G23*I23,0) -> 99510
I24: =F24*(1+H24) -> 0 | J24: =IFERROR(G24*I24,0) -> 0
I25: =F25*(1+H25) -> 0 | J25: =IFERROR(G25*I25,0) -> 0
G26: Subtotal Materiales | H26: Subtotal Materiales | J26: =SUM(J18:J25) -> 2668930
B28: III. MANO DE OBRA
B29: Descripción | D29: Valor jornal | E29: Prest. | F29: Prest. | G29: Jornal total | H29: Rendimiento | J29: Valor parcial
D30: $ | E30: % | F30: $
B31: Cuadrilla tipo 3 (1 Oficial + 3 ayudante) | D31: 280144.8 | E31: 0.68471834 | F31: =IFERROR(D31*E31,"") -> 191820.28 | G31: =IFERROR(D31+F31,"") -> 471965.08 | H31: 2.16 | J31: =IFERROR(G31*H31,"") -> 1019444.6 | L31: 0.8
F32: =IFERROR(D32*E32,"") | G32: =IFERROR(D32+F32,"") | H32: =IFERROR(IF(G32="","",$H$31),"") | J32: =IFERROR(G32*H32,"")
F33: =IFERROR(D33*E33,"") | G33: =IFERROR(D33+F33,"") | H33: =IFERROR(IF(G33="","",$H$31),"") | J33: =IFERROR(G33*H33,"")
F34: =IFERROR(D34*E34,"") | G34: =IFERROR(D34+F34,"") | H34: =IFERROR(IF(G34="","",$H$31),"") | J34: =IFERROR(G34*H34,"")
G35: Subtotal Mano de Obra | H35: Subtotal Mano de Obra | J35: =SUM(J31:J34) -> 1019444.6
B37: IV. TRANSPORTE
B38: Descripción | E38: Cantidad | G38: Distancia | H38: Tarifa | J38: Valor parcial
E39: M3/Kg/Un/Vj | G39: Km | H39: $ (m3/Km)
B40: Transporte pesado | E40: 0.55 | G40: 1 | H40: 600000 | J40: =IFERROR(E40*G40*H40,"") -> 330000
J41: =IFERROR(E41*G41*H41,"")
J42: =IFERROR(E42*G42*H42,"")
G43: Subtotal Transporte | H43: Subtotal Transporte | J43: =SUM(J40:J42) -> 330000
B45: V. COSTOS INDIRECTOS
B46: Descripción | H46: Porcentaje | J46: Valor parcial
B47: Base | J47: =+J13+J26+J35+J43 -> 4347373.6
...

Sheet 12.4.8
B2: DESCRIPCIÓN: | C2: =+'ACTA ADICIONAL OBRA '!B213 -> Construcción pozo de inspección en concreto reforzado e impermeabilizado para tuberías de diámetro entre 8" y 27", con diámetro del cilindro de 1,20 m (1.8 m< H < 3,0m) incluye losa de fondo, tapa de inspección en HD, cilindro, cañuela y pañete de impermeabilización
B4: ITEM: | C4: =+'ACTA ADICIONAL OBRA '!A213 -> 12.4.8 | E4: UNIDAD: | F4: =+'ACTA ADICIONAL OBRA '!C213 -> un | G4: PRECIO UNITARIO: | I4: =ROUND(SUM(J53:J56),0) -> 4816532
B6: I. EQUIPOS
B7: Descripción | F7: Unidad | G7: Tarifa | H7: Rendimiento | J7: Valor parcial
G8: $/día
B9: Herramienta menor | F9: % | G9: =+J41 -> 1019444.6 | H9: 0.1 | J9: =IFERROR(G9*H9,"") -> 101944.46
B10: Formaleta metálica | F10: gbl | G10: 115000 | H10: =IFERROR(IF(G10="","",1/L10),"") -> 3.00003 | J10: =IFERROR(G10*H10,"") -> 345003.45 | L10: 0.33333
B11: Vibrador de concreto gasolina 3-4m, 25-40mm | F11: día | G11: 49400 | H11: =IFERROR(IF(G11="","",1/L11),"") -> 0.4 | J11: =IFERROR(G11*H11,"") -> 19760 | L11: 2.5
H12: =IFERROR(IF(G12="","",1/L12),"") | J12: =IFERROR(G12*H12,"")
H13: =IFERROR(IF(G13="","",1/L13),"") | J13: =IFERROR(G13*H13,"")
H14: =IFERROR(IF(G14="","",1/L14),"") | J14: =IFERROR(G14*H14,"")
G15: Subtotal Equipos | J15: =SUM(J9:J14) -> 466707.91
B17: II. MATERIALES
B18: Descripción | E18: Unidad | F18: Cantidad | G18: Valor Unitario | H18: Desp. | I18: Cantidad total | J18: Valor parcial
H19: %
B20: Acero corrugado figurado 1/4" - 1" 60.000 Psi | E20: kg | F20: 128 | G20: 6600 | I20: =F20*(1+H20) -> 128 | J20: =IFERROR(G20*I20,0) -> 844800
B21: Alambre negro Cal. 18 | E21: kg | F21: 30 | G21: 8500 | I21: =F21*(1+H21) -> 30 | J21: =IFERROR(G21*I21,0) -> 255000
B22: Aro y tapa pozos de inspección en HF | E22: un | F22: 1 | G22: 785000 | I22: =F22*(1+H22) -> 1 | J22: =IFERROR(G22*I22,0) -> 785000
B23: Concreto corriente grava común 3000 PSI | E23: m3 | F23: 1.49 | G23: 545000 | I23: =F23*(1+H23) -> 1.49 | J23: =IFERROR(G23*I23,0) -> 812050
B24: Mortero baja permeabilidad 3000 PSI | E24: m3 | F24: 0.35 | G24: 497200 | I24: =F24*(1+H24) -> 0.35 | J24: =IFERROR(G24*I24,0) -> 174020
B25: Impermeabilizante integral concreto-mortero Plastocrete DM (20Kg) | E25: un | F25: 0.3 | G25: 331700 | I25: 0.3 | J25: =IFERROR(G25*I25,0) -> 99510
I26: =F26*(1+H26) -> 0 | J26: =IFERROR(G26*I26,0) -> 0
I27: =F27*(1+H27) -> 0 | J27: =IFERROR(G27*I27,0) -> 0
I28: =F28*(1+H28) -> 0 | J28: =IFERROR(G28*I28,0) -> 0
I29: =F29*(1+H29) -> 0 | J29: =IFERROR(G29*I29,0) -> 0
I30: =F30*(1+H30) -> 0 | J30: =IFERROR(G30*I30,0) -> 0
I31: =F31*(1+H31) -> 0 | J31: =IFERROR(G31*I31,0) -> 0
G32: Subtotal Materiales | H32: Subtotal Materiales | J32: =SUM(J20:J31) -> 2970380
B34: III. MANO DE OBRA
B35: Descripción | D35: Valor jornal | E35: Prest. | F35: Prest. | G35: Jornal total | H35: Rendimiento | J35: Valor parcial
D36: $ | E36: % | F36: $
B37: Cuadrilla tipo 3 (1 Oficial + 3 ayudante) | D37: 280144.8 | E37: 0.68471834 | F37: =IFERROR(D37*E37,"") -> 191820.28 | G37: =IFERROR(D37+F37,"") -> 471965.08 | H37: 2.16 | J37: =IFERROR(G37*H37,"") -> 1019444.6 | L37: 0.6
F38: =IFERROR(D38*E38,"") | G38: =IFERROR(D38+F38,"") | H38: =IFERROR(IF(G38="","",$H$37),"") | J38: =IFERROR(G38*H38,"")
F39: =IFERROR(D39*E39,"") | G39: =IFERROR(D39+F39,"") | H39: =IFERROR(IF(G39="","",$H$37),"") | J39: =IFERROR(G39*H39,"")
F40: =IFERROR(D40*E40,"") | G40: =IFERROR(D40+F40,"") | H40: =IFERROR(IF(G40="","",$H$37),"") | J40: =IFERROR(G40*H40,"")
G41: Subtotal Mano de Obra | H41: Subtotal Mano de Obra | J41: =SUM(J37:J40) -> 1019444.6
B43: IV. TRANSPORTE
B44: Descripción | E44: Cantidad | G44: Distancia | H44: Tarifa | J44: Valor parcial
E45: M3/Kg/Un/Vj | G45: Km | H45: $ (m3/Km)
B46: Transporte pesado | E46: 0.6 | G46: 1 | H46: 600000 | J46: =IFERROR(E46*G46*H46,"") -> 360000
...

Sheet 12.4.9
B2: DESCRIPCIÓN: | C2: =+'ACTA ADICIONAL OBRA '!B215 -> Tubería Alcantarillado de 8" en PVC (Unión Mecánica) de pared interior lisa y exterior corrugada.
B4: ITEM: | C4: =+'ACTA ADICIONAL OBRA '!A215 -> 12.4.9 | E4: UNIDAD: | F4: =+'ACTA ADICIONAL OBRA '!C215 -> m | G4: PRECIO UNITARIO: | I4: =ROUND(SUM(J53:J56),0) -> 174944
B6: I. EQUIPOS
B7: Descripción | F7: Unidad | G7: Tarifa | H7: Rendimiento | J7: Valor parcial
G8: $/día
B9: Herramienta menor | F9: % | G9: =+J41 -> 54435.878 | H9: 0.1 | J9: =IFERROR(G9*H9,"") -> 5443.5878
H10: =IFERROR(IF(G10="","",1/L10),"") | J10: =IFERROR(G10*H10,"") | L10: 3
H11: =IFERROR(IF(G11="","",1/L11),"") | J11: =IFERROR(G11*H11,"") | L11: 1
H12: =IFERROR(IF(G12="","",1/L12),"") | J12: =IFERROR(G12*H12,"")
H13: =IFERROR(IF(G13="","",1/L13),"") | J13: =IFERROR(G13*H13,"")
H14: =IFERROR(IF(G14="","",1/L14),"") | J14: =IFERROR(G14*H14,"")
G15: Subtotal Equipos | J15: =SUM(J9:J14) -> 5443.5878
B17: II. MATERIALES
B18: Descripción | E18: Unidad | F18: Cantidad | G18: Valor Unitario | H18: Desp. | I18: Cantidad total | J18: Valor parcial
H19: %
B20: Tubería alcantarillado 8" | E20: m | F20: 1 | G20: 95700 | I20: =F20*(1+H20) -> 1 | J20: =IFERROR(G20*I20,0) -> 95700
B21: Lubricante PVC 500gr | E21: un | F21: 0.04 | G21: 44300 | I21: =F21*(1+H21) -> 0.04 | J21: =IFERROR(G21*I21,0) -> 1772
B22: Hidrosello Novafort 8" | E22: un | F22: 1 | G22: 16700 | I22: =F22*(1+H22) -> 1 | J22: =IFERROR(G22*I22,0) -> 16700
B23: Limpiador removedor PVC (1/4gl) | E23: un | F23: 0.01 | G23: 89300 | I23: =F23*(1+H23) -> 0.01 | J23: =IFERROR(G23*I23,0) -> 893
I24: =F24*(1+H24) -> 0 | J24: =IFERROR(G24*I24,0) -> 0
I25: =F25*(1+H25) -> 0 | J25: =IFERROR(G25*I25,0) -> 0
I26: =F26*(1+H26) -> 0 | J26: =IFERROR(G26*I26,0) -> 0
I27: =F27*(1+H27) -> 0 | J27: =IFERROR(G27*I27,0) -> 0
I28: =F28*(1+H28) -> 0 | J28: =IFERROR(G28*I28,0) -> 0
I29: =F29*(1+H29) -> 0 | J29: =IFERROR(G29*I29,0) -> 0
I30: =F30*(1+H30) -> 0 | J30: =IFERROR(G30*I30,0) -> 0
I31: =F31*(1+H31) -> 0 | J31: =IFERROR(G31*I31,0) -> 0
G32: Subtotal Materiales | H32: Subtotal Materiales | J32: =SUM(J20:J31) -> 115065
B34: III. MANO DE OBRA
B35: Descripción | D35: Valor jornal | E35: Prest. | F35: Prest. | G35: Jornal total | H35: Rendimiento | J35: Valor parcial
D36: $ | E36: % | F36: $
B37: Cuadrilla tipo 1 (1 Oficial + 1 ayudante) | D37: 163417.8 | E37: 0.6655431 | F37: =IFERROR(D37*E37,"") -> 108761.59 | G37: =IFERROR(D37+F37,"") -> 272179.39 | H37: 0.2 | J37: =IFERROR(G37*H37,"") -> 54435.878 | L37: 7.9
F38: =IFERROR(D38*E38,"") | G38: =IFERROR(D38+F38,"") | H38: =IFERROR(IF(G38="","",$H$37),"") | J38: =IFERROR(G38*H38,"")
F39: =IFERROR(D39*E39,"") | G39: =IFERROR(D39+F39,"") | H39: =IFERROR(IF(G39="","",$H$37),"") | J39: =IFERROR(G39*H39,"")
F40: =IFERROR(D40*E40,"") | G40: =IFERROR(D40+F40,"") | H40: =IFERROR(IF(G40="","",$H$37),"") | J40: =IFERROR(G40*H40,"")
G41: Subtotal Mano de Obra | H41: Subtotal Mano de Obra | J41: =SUM(J37:J40) -> 54435.878
B43: IV. TRANSPORTE
B44: Descripción | E44: Cantidad | G44: Distancia | H44: Tarifa | J44: Valor parcial
E45: M3/Kg/Un/Vj | G45: Km | H45: $ (m3/Km)
J46: =IFERROR(E46*G46*H46,"")
...

Sheet 12.4.10
B2: DESCRIPCIÓN: | C2: =+'ACTA ADICIONAL OBRA '!B216 -> Suministro e Instalación domiciliaria de alcantarillado con tubería de PVC Unión Mecánica corrugada de 160 mm (6"). Incluye caja sencilla de 0.60x0.60x1.00 m en ladrillo, tapa en concreto de 3000 psi, Tee o Yee, codo o accesorios de derivación. Tipo 5. (6 < L < 7,0 m)
B4: ITEM: | C4: =+'ACTA ADICIONAL OBRA '!A216 -> 12.4.10 | E4: UNIDAD: | F4: =+'ACTA ADICIONAL OBRA '!C216 -> un | G4: PRECIO UNITARIO: | I4: =ROUND(SUM(J53:J56),0) -> 2047039
B6: I. EQUIPOS
B7: Descripción | F7: Unidad | G7: Tarifa | H7: Rendimiento | J7: Valor parcial
G8: $/día
B9: Herramienta menor | F9: % | G9: =+J41 -> 808852.69 | H9: 0.1 | J9: =IFERROR(G9*H9,"") -> 80885.269
H10: =IFERROR(IF(G10="","",1/L10),"") | J10: =IFERROR(G10*H10,"") | L10: 3
H11: =IFERROR(IF(G11="","",1/L11),"") | J11: =IFERROR(G11*H11,"") | L11: 1
H12: =IFERROR(IF(G12="","",1/L12),"") | J12: =IFERROR(G12*H12,"")
H13: =IFERROR(IF(G13="","",1/L13),"") | J13: =IFERROR(G13*H13,"")
H14: =IFERROR(IF(G14="","",1/L14),"") | J14: =IFERROR(G14*H14,"")
G15: Subtotal Equipos | J15: =SUM(J9:J14) -> 80885.269
B17: II. MATERIALES
B18: Descripción | E18: Unidad | F18: Cantidad | G18: Valor Unitario | H18: Desp. | I18: Cantidad total | J18: Valor parcial
H19: %
B20: Ladrillo macizo 24cm x 12cm x 6cm | E20: un | F20: 120 | G20: 1100 | I20: =F20*(1+H20) -> 120 | J20: =IFERROR(G20*I20,0) -> 132000
B21: Mortero baja permeabilidad 3000 PSI | E21: m3 | F21: 0.02 | G21: 497200 | I21: =F21*(1+H21) -> 0.02 | J21: =IFERROR(G21*I21,0) -> 9944
B22: Marco y tapa caja de inspección 80cm x 80cm medida interna | E22: un | F22: 1 | G22: 81600 | I22: =F22*(1+H22) -> 1 | J22: =IFERROR(G22*I22,0) -> 81600
B23: Concreto corriente grava común 3000 PSI | E23: m3 | F23: 0.06 | G23: 545000 | I23: =F23*(1+H23) -> 0.06 | J23: =IFERROR(G23*I23,0) -> 32700
B24: Acero corrugado figurado 1/4" - 1" 60.000 Psi | E24: kg | F24: 7 | G24: 6600 | I24: =F24*(1+H24) -> 7 | J24: =IFERROR(G24*I24,0) -> 46200
B25: Mortero corriente 3000 PSI | E25: m3 | F25: 0.09 | G25: 478900 | I25: =F25*(1+H25) -> 0.09 | J25: =IFERROR(G25*I25,0) -> 43101
B26: Tubería alcantarillado 6" | E26: m | F26: 6.5 | G26: 75000 | I26: =F26*(1+H26) -> 6.5 | J26: =IFERROR(G26*I26,0) -> 487500
B27: Silla tee PVC alcantarillado 8" x 6" | E27: un | F27: 1 | G27: 195200 | I27: =F27*(1+H27) -> 1 | J27: =IFERROR(G27*I27,0) -> 195200
B28: Unión PVC sanitaria 6" | E28: un | F28: 1 | G28: 69400 | I28: =F28*(1+H28) -> 1 | J28: =IFERROR(G28*I28,0) -> 69400
B29: Lubricante PVC 500gr | E29: un | F29: 0.03 | G29: 55200 | I29: =F29*(1+H29) -> 0.03 | J29: =IFERROR(G29*I29,0) -> 1656
I30: =F30*(1+H30) -> 0 | J30: =IFERROR(G30*I30,0) -> 0
I31: =F31*(1+H31) -> 0 | J31: =IFERROR(G31*I31,0) -> 0
G32: Subtotal Materiales | H32: Subtotal Materiales | J32: =SUM(J20:J31) -> 1099301
B34: III. MANO DE OBRA
B35: Descripción | D35: Valor jornal | E35: Prest. | F35: Prest. | G35: Jornal total | H35: Rendimiento | J35: Valor parcial
D36: $ | E36: % | F36: $
B37: Cuadrilla tipo 2 (1 Oficial + 2 ayudante) | D37: 221781.3 | E37: 0.67765378 | F37: =IFERROR(D37*E37,"") -> 150290.94 | G37: =IFERROR(D37+F37,"") -> 372072.24 | H37: =IFERROR(IF(G37="","",1/L37),"") -> 2.173913 | J37: =IFERROR(G37*H37,"") -> 808852.69 | L37: 0.46
F38: =IFERROR(D38*E38,"") | G38: =IFERROR(D38+F38,"") | H38: =IFERROR(IF(G38="","",$H$37),"") | J38: =IFERROR(G38*H38,"")
F39: =IFERROR(D39*E39,"") | G39: =IFERROR(D39+F39,"") | H39: =IFERROR(IF(G39="","",$H$37),"") | J39: =IFERROR(G39*H39,"")
F40: =IFERROR(D40*E40,"") | G40: =IFERROR(D40+F40,"") | H40: =IFERROR(IF(G40="","",$H$37),"") | J40: =IFERROR(G40*H40,"")
G41: Subtotal Mano de Obra | H41: Subtotal Mano de Obra | J41: =SUM(J37:J40) -> 808852.69
B43: IV. TRANSPORTE
B44: Descripción | E44: Cantidad | G44: Distancia | H44: Tarifa | J44: Valor parcial
E45: M3/Kg/Un/Vj | G45: Km | H45: $ (m3/Km)
B46: Transporte semipesado | E46: 0.19333333 | G46: 1 | H46: 300000 | J46: =IFERROR(E46*G46*H46,"") -> 58000
...

Sheet CUADRILLAS 
D4: No. en salarios mínimos
B5: 1 AYUDANTE A | C5: SALARIO MIN | D5: (1,2SMMLV+1 AT) | E5: día
B6: 2026 | C6: 2000000 | D6: =+C6*1.2 -> 2400000 | E6: =+ROUND(D6/30,0) -> 80000
B8: 1 AYUDANTE B | D8: (1,5SMMLV+1 AT) | E8: día
B9: 2026 | C9: 2000000 | D9: =C9*1.5 -> 3000000 | E9: =+ROUND(D9/30,0) -> 100000
B11: 1 OFICIAL A | D11: (2MMLV+1 AT) | E11: día
B12: 2026 | C12: 2000000 | D12: =C12*2 -> 4000000 | E12: =+ROUND(D12/30,0) -> 133333
B14: 1 OFICIAL B | D14: (3MMLV) | E14: día
B15: 2026 | C15: 2000000 | D15: =+((C15*3)) -> 6000000 | E15: =+ROUND(D15/30,0) -> 200000
B18: CÁLCULO DE CUADRILLAS 2026
B20: Clave | D20: Descripción | E20: unidad | F20: Cantidad | G20: Precio con | H20: Total
G21: prestaciones
B22: O00050 | D22: Cuadrilla AA (Albañilería) 1Of y 1 Ay | E22: HR
B23: O00001 | D23: Ayudante A | E23: jor | F23: 0.125 | G23: =+E6*1.75 -> 140000 | H23: =+F23*G23 -> 17500
B24: O00002 | D24: Oficial A | E24: jor | F24: 0.125 | G24: =+E12*1.75 -> 233332.75 | H24: =+F24*G24 -> 29166.594
D25: Subtotal | H25: =SUM(H23:H24) -> 46666.594
B26: O00901 | C26: 1,2 SMMLV | D26: Factor prestacional de ingreso por hora efectiva / base hora laboral | E26: % | F26: 0.96251505 | H26: =+H23*F26 -> 16844.013
C27: 2 SMMLV | F27: 0.93340106 | H27: =+H24*F27 -> 27224.13
D28: Total hora | H28: =+ROUND(H25+H26+H27,0) -> 90735
B30: O00051 | D30: Cuadrilla AA 1Of+2Ay (Albañilería) | E30: HR
B31: O00001 | D31: 2 Ayudante A | E31: jor | F31: 0.25 | G31: =+G23 -> 140000 | H31: =+F31*G31 -> 35000 | K31: =12.5*4 -> 50
B32: O00002 | D32: Oficial A | E32: jor | F32: 0.125 | G32: =+G24 -> 233332.75 | H32: =+F32*G32 -> 29166.594
D33: Subtotal | H33: =SUM(H31:H32) -> 64166.594
B34: O00901 | C34: 1,2 SMMLV | D34: Factor prestacional de ingreso por hora efectiva / base hora laboral | E34: % | F34: 0.96251505 | H34: =+H31*F34 -> 33688.027
C35: 2 SMMLV | F35: 0.93340106 | H35: =+H32*F35 -> 27224.13
D36: Total | H36: =+ROUND(H33+H34+H35,0) -> 125079
B38: O00050 | D38: Cuadrilla AA (Albañilería) 1 Ay | E38: HR
B39: O00001 | D39: Ayudante A | E39: jor | F39: 0.25 | G39: =+G23 -> 140000 | H39: =+F39*G39 -> 35000
B40: O00002 | D40: Oficial A | E40: jor | F40: 0 | G40: =+G24 -> 233332.75 | H40: =+F40*G40 -> 0
D41: Subtotal | H41: =SUM(H39:H40) -> 35000
B42: O00901 | C42: 1,2 SMMLV | D42: Factor prestacional de ingreso por hora efectiva / base hora laboral | E42: % | F42: 0.96251505 | H42: =+H39*F42 -> 33688.027
C43: 2 SMMLV | F43: 0.93340106 | H43: =+H40*F43 -> 0
D44: Total | H44: =+ROUND(H41+H42+H43,0) -> 68688
B46: O00050 | D46: Cuadrilla AA (Albañilería) 1 Oficial | E46: HR
B47: O00001 | D47: Ayudante A | E47: jor | F47: 0 | G47: 30168 | H47: =+F47*G47 -> 0
B48: O00002 | D48: Oficial A | E48: jor | F48: 0.125 | G48: 48554 | H48: =+F48*G48 -> 6069.25
D49: Subtotal | H49: =SUM(H47:H48) -> 6069.25
B50: O00901 | C50: 1,2 SMMLV | D50: Factor prestacional de ingreso por hora efectiva / base hora laboral | E50: % | F50: 0.96251505 | H50: =+H47*F50 -> 0
C51: 2 SMMLV | F51: 0.93340106 | H51: =+H48*F51 -> 5665.0444
D52: Total | H52: =+ROUND(H49+H50+H51,0) -> 11734
...

Sheet CONCRETOS Y MORTEROS
B2: MORTEROS Y CONCRETOS
B4: PRECIO ACTUAL DE CEMENTO | D4: Bulto 50 kg | E4: unitario
C5: kg | D5: =+E5*50 -> 75000 | E5: 1500
