Workbook

Sheet jefes
B6: JEFES DE ENFERMERIA | Z6: MES: OCTUBRE | AT6: AÑO:2020 | BG6: OBSERVACIONES
B7: N° | C7: NOMBRE DEL PERSONAL | F7: CARGO | Z7: 1 | AA7: 2 | AB7: 3 | AC7: 4 | AD7: 5 | AE7: 6 | AF7: 7 | AG7: 8 | AH7: 9 | AI7: 10 | AJ7: 11 | AK7: 12 | AL7: 13 | AM7: 14 | AN7: 15 | AO7: 16 | AP7: 17 | AQ7: 18 | AR7: 19 | AS7: 20 | AT7: 21 | AU7: 22 | AV7: 23 | AW7: 24 | AX7: 25 | AY7: 26 | AZ7: 27 | BA7: 28 | BB7: 29 | BC7: 30 | BD7: 31 | BE7: HORAS | BF7: T-EXTRA
Z8: J | AA8: V | AB8: S | AC8: D | AD8: L | AE8: M | AF8: M | AG8: J | AH8: V | AI8: S | AJ8: D | AK8: L | AL8: M | AM8: M | AN8: J | AO8: V | AP8: S | AQ8: D | AR8: L | AS8: M | AT8: M | AU8: J | AV8: V | AW8: S | AX8: D | AY8: L | AZ8: M | BA8: M | BB8: J | BC8: V | BD8: S
B9: 1
B10: 2 | C10: GISSLLE HERAZO | F10: ENFERMERO | Z10: NR | AA10: D | AB10: NH | AC10: D | AD10: CR | AE10: TR | AF10: TR | AG10: L | AH10: NH | AI10: N/U | AJ10: D | AK10: L | AL10: N/U | AM10: D | AN10: L | AO10: NH | AP10: D | AQ10: CU | AR10: L | AS10: NH | AT10: D | AU10: CR | AV10: L | AW10: NH | AX10: D | AY10: CR | AZ10: L | BA10: NR | BB10: D | BC10: CR | BD10: L | BE10: 180H
B11: 3 | C11: ERMYS HERAZO | F11: ENFERMERO | Z11: D | AA11: L | AB11: NR | AC11: NH | AD11: D | AE11: L | AF11: INCAPACIDAD | AK11: NH | AL11: AISLAMIEN TO PREVENTIVO | AS11: M | AT11: NH | AU11: D | AV11: NH | AW11: D | AX11: CR | AY11: L | AZ11: NH | BA11: D | BB11: L | BC11: NR | BD11: D | BE11: 102H
B12: 4 | C12: YANETH CHALA | F12: ENFERMERO | Z12: CR | AA12: L | AB12: MR | AC12: CR | AD12: L | AE12: L | AF12: NV | AG12: NH | AH12: D | AI12: TR | AJ12: CR | AK12: CV | AL12: L | AM12: CR | AN12: L | AO12: L | AP12: CR | AQ12: C2 | AR12: L | AS12: CR | AT12: L | AU12: NV | AV12: D | AW12: CR | AX12: L | AY12: NH | AZ12: D | BA12: L | BB12: NH | BD12: CR | BE12: 192H
B13: 5 | C13: MARIA JOSE MEZA | F13: ENFERMERO | Z13: L | AA13: CR | AB13: L | AC13: N/U | AD13: NV | AE13: D | AF13: MR | AG13: CR | AH13: L | AI13: NH | AJ13: D | AK13: CR | AL13: MR | AM13: NR | AN13: D | AO13: L | AP13: NV | AQ13: NH | AR13: D | AS13: L | AT13: NR | AU13: D | AV13: NR | AW13: D | AX13: CU | AY13: L | AZ13: CR | BA13: L | BB13: L | BC13: NH | BD13: NH | BE13: 192H
B14: 6 | C14: MARIANA ARROYO | F14: ENFERMERO | Z14: NH | AA14: D | AB14: TR | AC14: NV | AD14: D | AE14: MR | AF14: N/U | AG14: D | AH14: CR | AI14: L | AJ14: CU | AK14: NV | AL14: NV | AM14: D | AN14: L | AO14: CR | AP14: D | AQ14: CR | AR14: L | AS14: L | AT14: NV | AU14: UN | AV14: D | AW14: L | AX14: C2 | AY14: L | AZ14: NV | BA14: D | BB14: L | BC14: NV | BD14: D | BE14: 180H
B15: 7 | C15: YANIXA MADERA | F15: ENFERMERO | Z15: L | AA15: NR | AB15: D | AC15: CV | AD15: L | AE15: NR | AF15: D | AG15: NR | AH15: NR | AI15: D | AJ15: N/U | AK15: N/U | AL15: D | AM15: L | AN15: CR | AO15: UN | AP15: NH | AQ15: UN | AR15: D | AS15: NR | AT15: D | AU15: L | AV15: UN | AW15: D | AX15: UN | AY15: UN | AZ15: D | BA15: L | BB15: L | BC15: UN | BD15: UN | BE15: 204H | BF15: 12H
B16: 8 | C16: PAOLA MORENO | F16: ENFERMERO | Z16: NH | AA16: D | AB16: N/U | AC16: CU | AD16: NR | AE16: D | AF16: L | AG16: N/U | AH16: NV | AI16: D | AJ16: NV | AK16: NR | AL16: D | AM16: L | AN16: NV | AO16: D | AP16: UN | AQ16: D | AR16: NH | AS16: D | AT16: UN | AU16: D | AV16: L | AW16: UN | AX16: NR | AY16: D | AZ16: L | BA16: UN | BB16: UN | BC16: D | BD16: L | BE16: 192H
B17: 9 | C17: FILADELFO MARTINEZ | F17: ENFERMERO | Z17: L | AA17: NV | AB17: NV | AC17: D | AD17: L | AE17: NV | AF17: NH | AG17: D | AH17: L | AI17: NV | AJ17: NH | AK17: D | AL17: TR | AM17: NV | AN17: NR | AO17: D | AP17: L | AQ17: NR | AR17: NR | AS17: D | AT17: L | AU17: NR | AV17: NV | AW17: D | AX17: NH | AY17: D | AZ17: L | BA17: NH | BB17: NR | BC17: D | BD17: L | BE17: 186H
B18: 10 | C18: EDER CERVANTES | F18: ENFERMERO | AM18: NH | AN18: D | AO18: NH | AP18: D | AQ18: C4 | AR18: CR | AS18: L | AT18: CR | AU18: NH | AV18: D | AW18: L | AX18: C4 | AY18: NR | AZ18: D | BA18: L | BB18: CR | BC18: L | BD18: L | BE18: 108H
B19: 11
B20: 12
Z21: TOTAL DE HORAS TRABAJADAS POR SERVICIO | BE21: 1.536H
B22: 13
B23: 14
B24: HORARIO ADMINISTRATIVO
B25: 15 | C25: SUAD PALENCIA | F25: ENFERMERO | Z25: F1 | AA25: F1 | AB25: F1 | AC25: L | AD25: F1 | AE25: F1 | AF25: F1 | AG25: F1 | AH25: F1 | AI25: F1 | AJ25: L | AK25: L | AL25: F1 | AM25: F1 | AN25: F1 | AO25: F1 | AP25: F1 | AQ25: L | AR25: F1 | AS25: L | AT25: F1 | AU25: F1 | AV25: F1 | AW25: F1 | AX25: L | AY25: F1 | AZ25: L | BA25: F1 | BB25: F1 | BC25: F1 | BD25: F1
B26: 16 | C26: YUSTIN URZOLA | F26: ENFERMERO | Z26: LICENCIA DE MATERNIDAD
B27: CLAVES: URGENCIA : MV-M2 / TV-T2 /CV-C2 CHO: CORRIDO HOTEL NOH: NOCHE HOTEL NOCHE : NV- N4R: HOSP COVID-NH-NUMI DESCANSO:D LIBRE :L

Sheet urgencias
B2: =+#REF!+B2:AI+B2:AI22 -> 0 | AL2: OBSERVACION
B6: SERVICIO:HOSPITA ROJA 4 | E6: MES:OCTUBRE | Y6: AÑO:2020
B7: N° | C7: NOMBRE DEL PERSONAL | D7: CARGO | E7: 1 | F7: 2 | G7: 3 | H7: 4 | I7: 5 | J7: 6 | K7: 7 | L7: 8 | M7: 9 | N7: 10 | O7: 11 | P7: 12 | Q7: 13 | R7: 14 | S7: 15 | T7: 16 | U7: 17 | V7: 18 | W7: 19 | X7: 20 | Y7: 21 | Z7: 22 | AA7: 23 | AB7: 24 | AC7: 25 | AD7: 26 | AE7: 27 | AF7: 28 | AG7: 29 | AH7: 30 | AI7: 31
E8: J | F8: V | G8: S | H8: D | I8: L | J8: M | K8: M | L8: J | M8: V | N8: S | O8: D | P8: L | Q8: M | R8: M | S8: J | T8: V | U8: S | V8: D | W8: L | X8: M | Y8: M | Z8: J | AA8: V | AB8: S | AC8: D | AD8: L | AE8: M | AF8: M | AG8: J | AH8: V | AI8: S
AJ9: HORAS | AK9: EXTRA
B10: 1 | C10: VIVIANA DOMINGUEZ | D10: AUXILIAR | E10: L | F10: C | G10: N | H10: D | I10: L | J10: C | K10: N | L10: D | M10: L | N10: C | O10: N | P10: D | Q10: L | R10: C | S10: N | T10: D | U10: L | V10: C | W10: N | X10: D | Y10: L | Z10: C | AA10: N | AB10: D | AC10: L | AD10: C | AE10: N | AF10: D | AG10: L | AH10: C | AI10: N | AJ10: 192H
B11: 2 | C11: MARY HERNANDEZ | D11: AUXILIAR | E11: L | F11: C | G11: N | H11: D | I11: L | J11: C | K11: N | L11: D | M11: L | N11: C | O11: N | P11: D | Q11: L | R11: C | S11: N | T11: D | U11: L | V11: C | W11: N | X11: D | Y11: L | Z11: C | AA11: N | AB11: D | AC11: L | AD11: C | AE11: N | AF11: D | AG11: L | AH11: C | AI11: N | AJ11: 192H
B12: 3 | C12: LUDYS TROYA | D12: AUXILIAR | E12: C | F12: N | G12: D | H12: L | I12: C | J12: N | K12: D | L12: L | M12: C | N12: N | O12: D | P12: L | Q12: C | R12: N | S12: D | T12: L | U12: C | V12: N | W12: D | X12: L | Y12: C | Z12: N | AA12: D | AB12: L | AC12: C | AD12: N | AE12: D | AF12: L | AG12: C | AH12: N | AI12: D | AJ12: 192H
B13: 4 | C13: KATIA GOMEZ | D13: AUXILIAR | E13: C | F13: N | G13: D | H13: L | I13: C | J13: N | K13: D | L13: L | M13: C | N13: N | O13: D | P13: L | Q13: C | R13: N | S13: D | T13: L | U13: C | V13: N | W13: D | X13: L | Y13: C | Z13: N | AA13: D | AB13: L | AC13: C | AD13: N | AE13: D | AF13: L | AG13: C | AH13: N | AI13: D | AJ13: 192H
B14: 5 | C14: TOMASA SANTERO | D14: AUXILIAR | E14: D | F14: L | G14: C | H14: N | I14: D | J14: L | K14: C | L14: N | M14: D | N14: L | O14: C | P14: N | Q14: D | R14: L | S14: C | T14: N | U14: D | V14: L | W14: C | X14: N | Y14: D | Z14: L | AA14: C | AB14: N | AC14: D | AD14: L | AE14: C | AF14: N | AG14: D | AH14: L | AI14: C | AJ14: 186H
B15: 6 | C15: SENIS ALVIS | D15: AUXILIAR | E15: D | F15: L | G15: C | H15: N | I15: D | J15: L | K15: C | L15: N | M15: D | N15: L | O15: C | P15: N | Q15: D | R15: L | S15: C | T15: N | U15: D | V15: L | W15: C | X15: N | Y15: D | Z15: L | AA15: C | AB15: N | AC15: D | AD15: L | AE15: C | AF15: N | AG15: D | AH15: L | AI15: C | AJ15: 186H
B16: 7 | C16: LISETH MENDOZA | D16: AUXILIAR | E16: N | F16: D | G16: L | H16: C | I16: N | J16: D | K16: L | L16: C | M16: N | N16: D | O16: L | P16: C | Q16: N | R16: D | S16: L | T16: C | U16: N | V16: D | W16: L | X16: C | Y16: N | Z16: D | AA16: L | AB16: C | AC16: N | AD16: D | AE16: L | AF16: C | AG16: N | AH16: D | AI16: L | AJ16: 180H
B17: 8 | C17: KEILA VERGARA | D17: AUXILIAR | E17: N | F17: D | G17: L | H17: C | I17: N | J17: D | K17: L | L17: C | M17: N | N17: D | O17: L | P17: C | Q17: N | R17: D | S17: L | T17: C | U17: N | V17: D | W17: L | X17: C | Y17: N | Z17: D | AA17: L | AB17: C | AC17: N | AD17: D | AE17: L | AF17: C | AG17: N | AH17: D | AI17: L | AJ17: 180H
B18: 9
B19: 10 | E19: TOTAL HORAS TRABAJADAS POR SERVICIO | AJ19: 1.500H
P20: FIRMA:
AL24: OBSERVACION
B28: SERVICIO:URGENCIAS VERDE | E28: MES: OCTUBRE | Y28: AÑO:2020
B29: N° | C29: NOMBRE DEL PERSONAL | D29: CARGO | E29: 1 | F29: 2 | G29: 3 | H29: 4 | I29: 5 | J29: 6 | K29: 7 | L29: 8 | M29: 9 | N29: 10 | O29: 11 | P29: 12 | Q29: 13 | R29: 14 | S29: 15 | T29: 16 | U29: 17 | V29: 18 | W29: 19 | X29: 20 | Y29: 21 | Z29: 22 | AA29: 23 | AB29: 24 | AC29: 25 | AD29: 26 | AE29: 27 | AF29: 28 | AG29: 29 | AH29: 30 | AI29: 31
E30: J | F30: V | G30: S | H30: D | I30: L | J30: M | K30: M | L30: J | M30: V | N30: S | O30: D | P30: L | Q30: M | R30: M | S30: J | T30: V | U30: S | V30: D | W30: L | X30: M | Y30: M | Z30: J | AA30: V | AB30: S | AC30: D | AD30: L | AE30: M | AF30: M | AG30: J | AH30: V | AI30: S | AJ30: HORAS | AK30: EXTRA
B32: 1 | C32: DENIS OSORIO | D32: AUXILIAR | E32: T | F32: M | G32: M | H32: L | I32: T | J32: M | K32: T | L32: M | M32: T | N32: M | O32: M | P32: C | Q32: M | R32: T | S32: M | T32: T | U32: M | V32: L | W32: T | X32: M | Y32: T | Z32: M | AA32: T | AB32: M | AC32: C | AD32: T | AE32: M | AF32: T | AG32: M | AH32: T | AI32: M | AJ32: 186H
B33: 2 | C33: MARIA TEHERAN | D33: AUXILIAR | E33: M | F33: T | G33: T | H33: L | I33: M | J33: T | K33: M | L33: T | M33: L | N33: T | O33: C | P33: C | Q33: T | R33: M | S33: T | T33: M | U33: T | V33: L | W33: M | X33: T | Y33: M | Z33: T | AA33: M | AB33: T | AC33: C | AD33: M | AE33: T | AF33: M | AG33: T | AH33: M | AI33: L | AJ33: 180H
B34: 3 | C34: TATIANA MARTINEZ | D34: AUXILIAR | E34: N | F34: D | G34: L | H34: N | I34: N | J34: D | K34: L | L34: N | M34: N | N34: D | O34: T | P34: N | Q34: N | R34: D | S34: L | T34: N | U34: N | V34: D | W34: L | X34: N | Y34: N | Z34: D | AA34: L | AB34: N | AC34: N | AD34: D | AE34: L | AF34: N | AG34: N | AH34: D | AI34: L | AJ34: 186H
B35: 4 | C35: LUZ BUSTO | D35: AUXILIAR | E35: N | F35: D | G35: L | H35: N | I35: N | J35: D | K35: L | L35: N | M35: N | N35: D | O35: T | P35: N | Q35: N | R35: D | S35: L | T35: N | U35: N | V35: D | W35: L | X35: N | Y35: N | Z35: D | AA35: L | AB35: N | AC35: N | AD35: D | AE35: L | AF35: N | AG35: N | AH35: D | AI35: L | AJ35: 186H
B36: 5 | C36: OSMANY OZUNA | D36: AUXILIAR | E36: N | F36: D | G36: L | H36: N | I36: N | J36: D | K36: L | L36: N | M36: N | N36: D | O36: M | P36: N | Q36: N | R36: D | S36: L | T36: N | U36: N | V36: D | W36: L | X36: N | Y36: N | Z36: D | AA36: L | AB36: N | AC36: N | AD36: D | AE36: L | AF36: N | AG36: N | AH36: D | AI36: L | AJ36: 186H
B37: 6 | C37: PAOLA BELTRÁN | D37: AUXILIAR | E37: L | F37: N | G37: N | H37: D | I37: L | J37: N | K37: N | L37: D | M37: L | N37: N | O37: N | P37: D | Q37: L | R37: N | S37: N | T37: D | U37: L | V37: N | W37: N | X37: D | Y37: L | Z37: N | AA37: N | AB37: D | AC37: L | AD37: N | AE37: N | AF37: D | AG37: L | AH37: N | AI37: N | AJ37: 192H
B38: 7 | C38: ANA BUSTO | D38: AUXILIAR | E38: L | F38: N | G38: N | H38: D | I38: L | J38: N | K38: N | L38: D | M38: L | N38: N | O38: N | P38: D | Q38: L | R38: N | S38: N | T38: D | U38: L | V38: N | W38: N | X38: D | Y38: L | Z38: N | AA38: N | AB38: D | AC38: L | AD38: N | AE38: N | AF38: D | AG38: L | AH38: N | AI38: N | AJ38: 192H
B39: 8 | C39: ENILSA SALAS | D39: AUXILIAR | E39: L | F39: N | G39: N | H39: D | I39: L | J39: N | K39: N | L39: D | M39: L | N39: N | O39: N | P39: D | Q39: L | R39: N | S39: N | T39: D | U39: L | V39: N | W39: N | X39: D | Y39: L | Z39: N | AA39: N | AB39: D | AC39: L | AD39: N | AE39: N | AF39: D | AG39: L | AH39: N | AI39: N | AJ39: 192H
B40: 9 | C40: BERENICE GUEVARA | D40: AUXILIAR | E40: M | F40: M | G40: M | H40: L | I40: T | J40: T | K40: T | L40: T | M40: T | N40: T | O40: C | P40: L | Q40: M | R40: M | S40: M | T40: M | U40: M | V40: L | W40: M | X40: M | Y40: M | Z40: M | AA40: M | AB40: M | AC40: L | AD40: T | AE40: T | AF40: T | AG40: T | AH40: T | AI40: T | AJ40: 168H
B41: 10 | C41: YORLADIS MANJARREZ | D41: AUXILIAR | E41: M/MI | F41: MU | G41: TU | H41: TREC | I41: TU | J41: L | K41: TU | L41: TU | M41: NREC | N41: D | O41: CGIN | P41: CGIN | Q41: L | R41: MU | S41: MU | T41: L | U41: MU | V41: MU | W41: L | X41: INCAPACIDAD | AD41: MU | AE41: INCAPACIDAD | AJ41: 102H
B42: 11 | C42: OSIRIS TUIRAN | D42: AUXILIAR | E42: L | F42: TU | G42: N | H42: N | I42: D | J42: L | K42: MU | L42: MU | M42: N | N42: D | O42: CGIN | P42: CU | Q42: L | R42: TU | S42: TU | T42: TU | U42: TU | V42: TU | W42: TU | X42: L | Y42: N | Z42: D | AA42: MU | AB42: MU | AC42: CU | AD42: L | AE42: L | AF42: TU | AG42: N | AH42: D | AI42: TU | AJ42: 162H
B43: 12 | C43: DALLYS MENDOZA | D43: AUXILIAR | U43: M | V43: C | W43: C | X43: M | Y43: T | Z43: T | AA43: N | AB43: D | AC43: CGIN | AD43: T | AE43: L | AF43: N | AG43: D | AH43: T | AI43: L | AJ43: 96H
B44: 13 | C44: LUZ DARY GODIN | D44: AUXILIAR | AA44: C | AB44: N | AC44: D | AD44: C | AE44: L | AF44: MU | AG44: MU | AH44: TU | AI44: MU | AJ44: 60H
B45: 14 | E45: TOTAL HORAS TRABAJADAS POR SERVICIO | AJ45: 2.088H
P46: FIRMA

Sheet gineco
B6: GINECOLOGIA | E6: MES:OCTUBRE | Y6: AÑO:2020 | AL6: OBSERVACIONES
B7: N° | C7: NOMBRE DEL PERSONAL | D7: CARGO | E7: =urgencias!E7 -> 1 | F7: =urgencias!F7 -> 2 | G7: =urgencias!G7 -> 3 | H7: =urgencias!H7 -> 4 | I7: =urgencias!I7 -> 5 | J7: =urgencias!J7 -> 6 | K7: =urgencias!K7 -> 7 | L7: =urgencias!L7 -> 8 | ... AG7: =urgencias!AG7 -> 29 | AH7: 30 | AI7: 31
E8: =urgencias!E8 -> J | F8: =urgencias!F8 -> V | G8: =urgencias!G8 -> S | H8: =urgencias!H8 -> D | I8: =urgencias!I8 -> L | J8: =urgencias!J8 -> M | K8: =urgencias!K8 -> M | L8: =urgencias!L8 -> J | ... AG8: =urgencias!AG8 -> J | AH8: V | AI8: S | AJ8: HORA | AK8: EXTRA
B10: 1 | C10: LIDA MEDINA | D10: AUXILIAR | E10: N | F10: N | G10: D | H10: L | I10: N | J10: N | K10: D | L10: L | M10: N | N10: N | O10: D | P10: L | Q10: N | R10: N | S10: D | T10: L | U10: N | V10: N | W10: D | X10: L | Y10: N | Z10: N | AA10: D | AB10: L | AC10: N | AD10: N | AE10: D | AF10: L | AG10: N | AH10: N | AI10: D | AJ10: 192H
B11: 2 | C11: ANA ZUÑIGA | D11: AUXILIAR | E11: N | F11: N | G11: D | H11: L | I11: N | J11: N | K11: D | L11: L | M11: N | N11: N | O11: D | P11: TREC | Q11: N | R11: N | S11: D | T11: L | U11: N | V11: N | W11: D | X11: L | Y11: N | Z11: N | AA11: D | AB11: L | AC11: N | AD11: N | AE11: D | AF11: L | AG11: N | AH11: N | AI11: D | AJ11: 198H | AK11: 6H
B12: 3 | C12: MAURY MERCADO | D12: AUXILIAR | E12: D | F12: L | G12: N | H12: N | I12: D | J12: L | K12: N | L12: N | M12: D | N12: L | O12: N | P12: N | Q12: D | R12: L | S12: N | T12: N | U12: D | V12: L | W12: N | X12: N | Y12: D | Z12: L | AA12: N | AB12: N | AC12: D | AD12: L | AE12: N | AF12: N | AG12: D | AH12: L | AI12: N | AJ12: 180H
B13: 4 | C13: ROSA DAZA | D13: AUXILIAR | E13: D | F13: L | G13: N | H13: N | I13: D | J13: L | K13: N | L13: N | M13: D | N13: L | O13: N | P13: N | Q13: D | R13: L | S13: N | T13: N | U13: D | V13: L | W13: N | X13: N | Y13: D | Z13: L | AA13: N | AB13: N | AC13: D | AD13: L | AE13: N | AF13: N | AG13: D | AH13: L | AI13: N | AJ13: 180H
C14: EVENTO | O14: C | P14: C | AC14: C | AJ14: 36H
C15: EVENTO | O15: C | P15: C | AC15: C | AJ15: 36H
E16: TOTAL HORAS TRABAJADAS POR SERVICIO | AJ16: 822H

Sheet cx y rcp
B6: CIRUGIA | G6: MES: OCTUBRE | AA6: AÑO:2020
B7: N° | C7: NOMBRE DEL PERSONAL | F7: CARGO | G7: =gineco!E7 -> 1 | H7: =gineco!F7 -> 2 | I7: =gineco!G7 -> 3 | J7: =gineco!H7 -> 4 | K7: =gineco!I7 -> 5 | L7: =gineco!J7 -> 6 | M7: =gineco!K7 -> 7 | N7: =gineco!L7 -> 8 | ... AI7: =gineco!AG7 -> 29 | AJ7: 30 | AK7: 31
G8: =gineco!E8 -> J | H8: =gineco!F8 -> V | I8: =gineco!G8 -> S | J8: =gineco!H8 -> D | K8: =gineco!I8 -> L | L8: =gineco!J8 -> M | M8: =gineco!K8 -> M | N8: =gineco!L8 -> J | ... AI8: =gineco!AG8 -> J | AJ8: V | AK8: S
B11: 1 | C11: YESENIA POLO | F11: AUXILIAR | G11: N | H11: D | I11: L | J11: N | K11: N | L11: D | M11: L | N11: N | O11: N | P11: D | Q11: C | R11: N | S11: N | T11: D | U11: L | V11: N | W11: N | X11: D | Y11: L | Z11: N | AA11: N | AB11: D | AC11: L | AD11: N | AE11: N | AF11: D | AG11: L | AH11: N | AI11: N | AJ11: D | AK11: L
B12: 2 | C12: PEDRO MEZA | F12: AUXILIAR | G12: N | H12: D | I12: L | J12: N | K12: N | L12: D | M12: L | N12: N | O12: N | P12: D | Q12: C | R12: N | S12: N | T12: D | U12: L | V12: N | W12: N | X12: D | Y12: L | Z12: N | AA12: N | AB12: D | AC12: L | AD12: N | AE12: N | AF12: D | AG12: L | AH12: N | AI12: N | AJ12: D | AK12: L
B13: 3 | C13: JAVIER FLOREZ | F13: AUXILIAR | G13: L | H13: N | I13: N | J13: D | K13: L | L13: N | M13: N | N13: D | O13: L | P13: N | Q13: N | R13: D | S13: L | T13: N | U13: N | V13: D | W13: L | X13: N | Y13: N | Z13: D | AA13: L | AB13: N | AC13: N | AD13: D | AE13: M | AF13: N | AG13: N | AH13: D | AI13: L | AJ13: N | AK13: N
B14: 4 | C14: ISMARY TOVAR | F14: AUXILIAR | G14: L | H14: N | I14: N | J14: D | K14: L | L14: N | M14: N | N14: D | O14: L | P14: N | Q14: N | R14: D | S14: L | T14: N | U14: N | V14: D | W14: L | X14: N | Y14: N | Z14: D | AA14: L | AB14: N | AC14: N | AD14: D | AE14: T | AF14: N | AG14: N | AH14: D | AI14: L | AJ14: N | AK14: N
B15: 5
B16: 6
B25: RECUPERACION | G25: MES: OCTUBRE | AA25: AÑO:2020
B26: N° | C26: NOMBRE DEL PERSONAL | F26: CARGO | G26: =G7 -> 1 | H26: =H7 -> 2 | I26: =I7 -> 3 | J26: =J7 -> 4 | K26: =K7 -> 5 | L26: =L7 -> 6 | M26: =M7 -> 7 | N26: =N7 -> 8 | ... AI26: =AI7 -> 29 | AJ26: 30 | AK26: =AK7 -> 31
G27: =G8 -> J | H27: =H8 -> V | I27: =I8 -> S | J27: =J8 -> D | K27: =K8 -> L | L27: =L8 -> M | M27: =M8 -> M | N27: =N8 -> J | ... AK27: =AK8 -> S
B29: 1 | C29: BEATRIZ PALENCIA | F29: AUXILIAR | G29: N | H29: D | I29: T | J29: N | K29: D | L29: MU | M29: N | N29: D | O29: L | P29: N | Q29: D | R29: CNEO | S29: N | T29: D | U29: L | V29: N | W29: D | X29: CNEO | Y29: N | Z29: D | AA29: M | AB29: N | AC29: D | AD29: T | AE29: N | AF29: D | AG29: T | AH29: N | AI29: D | AJ29: M | AK29: N
B30: 2 | C30: ANAIS OCHOA | F30: AUXILIAR | G30: L | H30: N | I30: N | J30: D | K30: L | L30: N | M30: D | N30: N | O30: D | P30: T | Q30: N | R30: D | S30: MU | T30: N | U30: D | V30: TU | W30: N | X30: D | Y30: TU | Z30: N | AA30: D | AB30: T | AC30: N | AD30: D | AE30: C | AF30: N | AG30: D | AH30: L | AI30: N | AJ30: D | AK30: T
B31: 3 | C31: NATIVIDAD PARDO | F31: AUXILIAR | G31: T | H31: M | I31: L | J31: CCX | K31: N | L31: N | M31: D | N31: L | O31: C | P31: L | Q31: C | R31: N | S31: D | T31: L | U31: N | V31: D | W31: M | X31: N | Y31: D | Z31: T | AA31: N | AB31: D | AC31: M | AD31: N | AE31: D | AF31: M | AG31: N | AH31: D | AI31: T | AJ31: N | AK31: D | AL31: M CX /T REC
B32: 4 | O32: MR/TCX
B33: 5

Sheet Centrales
B6: CENTRAL | E6: MES: OCTUBRE | Y6: AÑO:2020
B7: N° | C7: NOMBRE DEL PERSONAL | D7: CARGO | E7: =gineco!E7 -> 1 | F7: =gineco!F7 -> 2 | G7: =gineco!G7 -> 3 | H7: =gineco!H7 -> 4 | I7: =gineco!I7 -> 5 | J7: =gineco!J7 -> 6 | K7: =gineco!K7 -> 7 | L7: =gineco!L7 -> 8 | ... AH7: =gineco!AH7 -> 30 | AI7: 31
E8: =gineco!E8 -> J | F8: =gineco!F8 -> V | G8: =gineco!G8 -> S | H8: =gineco!H8 -> D | I8: =gineco!I8 -> L | J8: =gineco!J8 -> M | K8: =gineco!K8 -> M | L8: =gineco!L8 -> J | ... AH8: =gineco!AH8 -> V | AI8: S
B9: 1
B10: 2 | C10: YOLIMA BANQUET | D10: AUXILIAR | E10: N | F10: D | G10: L | H10: N | I10: N | J10: D | K10: L | L10: N | M10: N | N10: D | O10: L | P10: N | Q10: N | R10: D | S10: L | T10: N | U10: N | V10: T | W10: L | X10: N | Y10: N | Z10: D | AA10: L | AB10: N | AC10: N | AD10: D | AE10: L | AF10: N | AG10: N | AH10: D | AI10: L
C11: NORMA ALEMAN | D11: AUXILIAR | E11: L | F11: N | G11: N | H11: D | I11: L | J11: N | K11: N | L11: D | M11: L | N11: N | O11: N | P11: D | Q11: L | R11: N | S11: N | T11: D | U11: L | V11: N | W11: N | X11: D | Y11: L | Z11: N | AA11: N | AB11: D | AC11: T | AD11: N | AE11: N | AF11: D | AG11: L | AH11: N | AI11: N
B12: 3 | D12: EVENTO

Sheet M.interna
B6: MEDICINA INTERNA | F6: MES:OCTUBRE | Z6: AÑO:2020 | AK6: OBSERVACIONES
B7: N° | C7: NOMBRE DEL PERSONAL | E7: CARGO | F7: =Centrales!E7 -> 1 | G7: =Centrales!F7 -> 2 | H7: =Centrales!G7 -> 3 | I7: =Centrales!H7 -> 4 | J7: =Centrales!I7 -> 5 | K7: =Centrales!J7 -> 6 | L7: =Centrales!K7 -> 7 | M7: =Centrales!L7 -> 8 | ... AG7: =Centrales!AF7 -> 28 | AH7: 29 | AI7: 30 | AJ7: 31
F8: =Centrales!E8 -> J | G8: =Centrales!F8 -> V | H8: =Centrales!G8 -> S | I8: =Centrales!H8 -> D | J8: =Centrales!I8 -> L | K8: =Centrales!J8 -> M | L8: =Centrales!K8 -> M | M8: =Centrales!L8 -> J | ... AG8: =Centrales!AF8 -> M | AH8: J | AI8: V | AJ8: S
B9: 1
B10: 2 | C10: LILIANA CANTILLO | E10: AUXILIAR | F10: N | G10: D | H10: L | I10: N | J10: N | K10: D | L10: L | M10: N | N10: N | O10: D | P10: T | Q10: N | R10: N | S10: D | T10: L | U10: N | V10: N | W10: D | X10: L | Y10: N | Z10: N | AA10: D | AB10: L | AC10: N | AD10: N | AE10: D | AF10: L | AG10: N | AH10: N | AI10: D | AJ10: L
B11: 3 | C11: CARMEN FUENTES | E11: AUXILIAR | F11: N | G11: D | H11: L | I11: N | J11: N | K11: D | L11: L | M11: N | N11: N | O11: D | P11: T | Q11: N | R11: N | S11: D | T11: L | U11: N | V11: N | W11: D | X11: L | Y11: N | Z11: N | AA11: D | AB11: L | AC11: N | AD11: N | AE11: D | AF11: L | AG11: N | AH11: N | AI11: D | AJ11: L
B12: 4 | C12: VIVIAN MENDOZA | E12: AUXILIAR | F12: N | G12: D | H12: L | I12: N | J12: N | K12: D | L12: L | M12: N | N12: N | O12: D | P12: T | Q12: N | R12: N | S12: D | T12: L | U12: N | V12: N | W12: D | X12: L | Y12: N | Z12: N | AA12: D | AB12: L | AC12: N | AD12: N | AE12: D | AF12: L | AG12: N | AH12: N | AI12: D | AJ12: L
B13: 5 | C13: ESTERCELA ACOSTA | E13: AUXILIAR | F13: D | G13: N | H13: N | I13: D | J13: L | K13: N | L13: N | M13: D | N13: L | O13: N | P13: N | Q13: D | R13: L | S13: N | T13: N | U13: D | V13: L | W13: N | X13: N | Y13: D | Z13: L | AA13: N | AB13: N | AC13: D | AD13: L | AE13: N | AF13: N | AG13: D | AH13: L | AI13: N | AJ13: N
B14: 6 | C14: INGRID MENDOZA | E14: AUXILIAR | F14: D | G14: N | H14: N | I14: D | J14: L | K14: N | L14: N | M14: D | N14: L | O14: N | P14: N | Q14: D | R14: L | S14: N | T14: N | U14: D | V14: L | W14: N | X14: N | Y14: D | Z14: L | AA14: N | AB14: N | AC14: D | AD14: L | AE14: N | AF14: N | AG14: D | AH14: L | AI14: N | AJ14: N
B15: 7 | C15: GREIS SANTOS | E15: AUXILIAR | F15: D | G15: N | H15: N | I15: D | J15: L | K15: N | L15: N | M15: D | N15: L | O15: N | P15: N | Q15: D | R15: L | S15: N | T15: N | U15: D | V15: L | W15: N | X15: N | Y15: D | Z15: L | AA15: N | AB15: N | AC15: D | AD15: L | AE15: N | AF15: N | AG15: D | AH15: L | AI15: N | AJ15: N
B16: 8 | C16: KELLY LOPEZ | E16: AUXILIAR | F16: M | G16: T | H16: M | I16: T | J16: M | K16: T | L16: M | M16: T | N16: M | O16: T | P16: M | Q16: C | R16: L | S16: M | T16: L | U16: M | V16: T | W16: T | X16: M | Y16: T | Z16: L | AA16: T | AB16: M | AC16: L | AD16: C | AE16: L | AF16: T | AG16: M | AH16: T | AI16: M | AJ16: T
B17: 9 | C17: MAIRA FERIS | E17: AUXILIAR | F17: D | G17: T | H17: M | I17: T | J17: M | K17: T | L17: M | M17: T | N17: M | O17: T | P17: M | Q17: C | R17: T | S17: L | T17: T | U17: M | V17: L | W17: C | X17: M | Y17: T | Z17: M | AA17: T | AB17: L | AC17: L | AD17: C | AE17: M | AF17: T | AG17: M | AH17: T | AI17: M | AJ17: T
B18: 10 | C18: YOHANA RAMOS | E18: AUXILIAR | F18: M | G18: T | H18: M | I18: T | J18: L | K18: T | L18: L | M18: T | N18: M | O18: T | P18: M | Q18: C | R18: T | S18: M | T18: T | U18: M | V18: T | W18: L | X18: L | Y18: T | Z18: C | AA18: T | AB18: C | AC18: L | AD18: C | AE18: M | AF18: T | AG18: M | AH18: T | AI18: M | AJ18: T
B19: 11

Sheet Neonato
B6: NEOTATOS | G6: =M.interna!F6 -> MES:OCTUBRE | AA6: =M.interna!Z6 -> AÑO:2020 | AL6: OBSERVACIONES
B7: N° | C7: NOMBRE DEL PERSONAL | F7: CARGO | G7: =M.interna!F7 -> 1 | H7: =M.interna!G7 -> 2 | I7: =M.interna!H7 -> 3 | J7: =M.interna!I7 -> 4 | K7: =M.interna!J7 -> 5 | L7: =M.interna!K7 -> 6 | M7: =M.interna!L7 -> 7 | N7: =M.interna!M7 -> 8 | ... AI7: =M.interna!AH7 -> 29 | AJ7: 30 | AK7: 31
G8: =M.interna!F8 -> J | H8: =M.interna!G8 -> V | I8: =M.interna!H8 -> S | J8: =M.interna!I8 -> D | K8: =M.interna!J8 -> L | L8: =M.interna!K8 -> M | M8: =M.interna!L8 -> M | N8: =M.interna!M8 -> J | ... AI8: =M.interna!AH8 -> J | AJ8: V | AK8: S
B10: 1 | C10: CLAUDIA MENDEZ | F10: AUXILIAR | G10: N | H10: D | I10: L | J10: N | K10: N | L10: D | M10: L | N10: N | O10: N | P10: D | Q10: L | R10: N | S10: N | T10: D | U10: L | V10: N | W10: N | X10: D | Y10: L | Z10: N | AA10: N | AB10: D | AC10: L | AD10: N | AE10: N | AF10: D | AG10: L | AH10: N | AI10: N | AJ10: D | AK10: L
B11: 2 | C11: CENITH ORTEGA | F11: AUXILIAR | G11: L | H11: N | I11: N | J11: D | K11: L | L11: N | M11: N | N11: D | O11: L | P11: N | Q11: N | R11: D | S11: L | T11: N | U11: N | V11: D | W11: L | X11: N | Y11: N | Z11: D | AA11: L | AB11: N | AC11: N | AD11: D | AE11: L | AF11: N | AG11: N | AH11: D | AI11: L | AJ11: N | AK11: N
B12: 4
B13: 5 | F13: EVENTO | Q13: C | R13: C | X13: C | AL13: C-18 BEATRIZ PALENCIA

Sheet Umi Hops
B6: HOSPITALIZACION UMI | G6: MES:OCTUBRE | AA6: AÑO:2020
B7: N° | C7: NOMBRE DEL PERSONAL | F7: CARGO | G7: =Neonato!G7 -> 1 | H7: =Neonato!H7 -> 2 | I7: =Neonato!I7 -> 3 | J7: =Neonato!J7 -> 4 | K7: =Neonato!K7 -> 5 | L7: =Neonato!L7 -> 6 | M7: =Neonato!M7 -> 7 | N7: =Neonato!N7 -> 8 | ... AK7: =Neonato!AK7 -> 31
G8: =Neonato!G8 -> J | H8: =Neonato!H8 -> V | I8: =Neonato!I8 -> S | J8: =Neonato!J8 -> D | K8: =Neonato!K8 -> L | L8: =Neonato!L8 -> M | M8: =Neonato!M8 -> M | N8: =Neonato!N8 -> J | ... AK8: =Neonato!AK8 -> S
B10: 10 | C10: KARINA OVIEDO | F10: AUXILIAR | G10: LICENCIA DE MATERNIDAD APARTIR DEL 7 DE OCTUBRE DE 2020
B11: 11 | C11: NOHEMI VEGA | F11: AUXILIAR | G11: T | H11: M | I11: N | J11: D | K11: T | L11: M | M11: N | N11: D | O11: T | P11: M | Q11: N | R11: D | S11: T | T11: M | U11: N | V11: D | W11: T | X11: M | Y11: N | Z11: D | AA11: T | AB11: M | AC11: N | AD11: D | AE11: T | AF11: M | AG11: N | AH11: D | AI11: T | AJ11: M | AK11: N
B12: 12 | C12: AMADA SEQUEDA | F12: AUXILIAR | G12: T | H12: M | I12: N | J12: D | K12: T | L12: M | M12: N | N12: D | O12: C | P12: M | Q12: N | R12: D | S12: T | T12: M | U12: N | V12: D | W12: T | X12: M | Y12: N | Z12: D | AA12: T | AB12: M | AC12: N | AD12: D | AE12: T | AF12: M | AG12: N | AH12: D | AI12: T | AJ12: M | AK12: N
B13: 13 | C13: LUZ DARY VARGAS | F13: AUXILIAR | G13: D | H13: T | I13: M | J13: N | K13: D | L13: T | M13: M | N13: N | O13: D | P13: T | Q13: M | R13: N | S13: D | T13: T | U13: M | V13: N | W13: D | X13: T | Y13: M | Z13: N | AA13: D | AB13: T | AC13: M | AD13: N | AE13: D | AF13: T | AG13: M | AH13: N | AI13: D | AJ13: T | AK13: M
B14: 14 | C14: YEIMI LOPEZ | F14: AUXILIAR | G14: N | H14: D | I14: M | J14: N | K14: D | L14: T | M14: M | N14: N | O14: D | P14: T | Q14: M | R14: N | S14: D | T14: T | U14: M | V14: N | W14: D | X14: T | Y14: M | Z14: N | AA14: D | AB14: T | AC14: M | AD14: N | AE14: D | AF14: T | AG14: M | AH14: N | AI14: D | AJ14: T | AK14: M
B15: 15 | C15: ROSMIRA GUEVARA | F15: AUXILIAR | G15: M | H15: N | I15: D | J15: T | K15: M | L15: N | M15: D | N15: T | O15: M | P15: N | Q15: D | R15: T | S15: M | T15: N | U15: D | V15: T | W15: M | X15: N | Y15: D | Z15: T | AA15: M | AB15: N | AC15: D | AD15: T | AE15: M | AF15: N | AG15: D | AH15: T | AI15: M | AJ15: N | AK15: D
B16: 16 | C16: YEIMI OVIEDO | F16: AUXILIAR | G16: D | H16: N | I16: D | J16: T | K16: M | L16: N | M16: D | N16: T | O16: L | P16: N | Q16: D | R16: T | S16: L | T16: N | U16: D | V16: L | W16: M | X16: N | Y16: D | Z16: L | AA16: M | AB16: N | AC16: D | AD16: T | AE16: M | AF16: N | AG16: D | AH16: T | AI16: M | AJ16: N | AK16: D
B17: 17 | C17: BETTY LEON | F17: AUXILIAR | G17: M | H17: T | I17: T | J17: M | K17: N | L17: D | M17: T | N17: M | O17: N | P17: D | Q17: T | R17: M | S17: N | T17: D | U17: T | V17: M | W17: N | X17: D | Y17: L | Z17: C | AA17: N | AB17: D | AC17: T | AD17: M | AE17: N | AF17: D | AG17: T | AH17: M | AI17: N | AJ17: D | AK17: T
B18: 18 | C18: MARLY SOLAR | F18: AUXILIAR | G18: D | H18: TU | I18: T | J18: M | K18: N | L18: D | M18: T | N18: M | O18: N | P18: D | Q18: T | R18: M | S18: N | T18: D | U18: T | V18: M | W18: N | X18: D | Y18: T | Z18: M | AA18: N | AB18: D | AC18: T | AD18: M | AE18: N | AF18: D | AG18: T | AH18: M | AI18: N | AJ18: D | AK18: T
B19: 19

Sheet Umi Urg
B6: URGENCIA UMI | G6: MES:OCTUBRE | AA6: AÑO:2020
B7: N° | C7: NOMBRE DEL PERSONAL | F7: CARGO | G7: ='Umi Hops'!G7 -> 1 | H7: ='Umi Hops'!H7 -> 2 | I7: ='Umi Hops'!I7 -> 3 | J7: ='Umi Hops'!J7 -> 4 | K7: ='Umi Hops'!K7 -> 5 | L7: ='Umi Hops'!L7 -> 6 | M7: ='Umi Hops'!M7 -> 7 | N7: ='Umi Hops'!N7 -> 8 | ... AK7: ='Umi Hops'!AK7 -> 31
G8: ='Umi Hops'!G8 -> J | H8: ='Umi Hops'!H8 -> V | I8: ='Umi Hops'!I8 -> S | J8: ='Umi Hops'!J8 -> D | K8: ='Umi Hops'!K8 -> L | L8: ='Umi Hops'!L8 -> M | M8: ='Umi Hops'!M8 -> M | N8: ='Umi Hops'!N8 -> J | ... AK8: ='Umi Hops'!AK8 -> S
B10: 1 | C10: DIANA QUINTERO | F10: AUXILIAR | G10: T | H10: M | I10: N | J10: D | K10: T | L10: M | M10: N | N10: D | O10: T | P10: M | Q10: N | R10: D | S10: T | T10: M | U10: N | V10: D | W10: T | X10: M | Y10: N | Z10: D | AA10: T | AB10: M | AC10: N | AD10: D | AE10: T | AF10: M | AG10: N | AH10: D | AI10: T | AJ10: M | AK10: N
B11: 2 | C11: MARIA HERNANDEZ | F11: AUXILIAR | G11: T | H11: M | I11: N | J11: D | K11: T | L11: M | M11: N | N11: D | O11: T | P11: M | Q11: N | R11: D | S11: T | T11: M | U11: N | V11: D | W11: T | X11: M | Y11: N | Z11: D | AA11: T | AB11: M | AC11: N | AD11: D | AE11: T | AF11: M | AG11: N | AH11: D | AI11: T | AJ11: M | AK11: N
B12: 3 | C12: NEILA JIMENEZ | F12: AUXILIAR | G12: D | H12: T | I12: M | J12: N | K12: D | L12: T | M12: M | N12: N | O12: D | P12: T | Q12: M | R12: N | S12: D | T12: T | U12: M | V12: N | W12: D | X12: T | Y12: M | Z12: N | AA12: D | AB12: T | AC12: M | AD12: N | AE12: D | AF12: T | AG12: M | AH12: N | AI12: D | AJ12: T | AK12: M
B13: 4 | C13: VILMA ARROYO | F13: AUXILIAR | G13: N | H13: D | I13: M | J13: N | K13: D | L13: T | M13: M | N13: N | O13: D | P13: T | Q13: M | R13: N | S13: D | T13: T | U13: M | V13: N | W13: D | X13: T | Y13: M | Z13: N | AA13: D | AB13: T | AC13: M | AD13: N | AE13: D | AF13: T | AG13: M | AH13: N | AI13: D | AJ13: T | AK13: M
B14: 5 | C14: NORMA PAYARES | F14: AUXILIAR | G14: NPIS | H14: D | I14: T | J14: M | K14: N | L14: D | M14: T | N14: M | O14: N | P14: D | Q14: T | R14: M | S14: N | T14: D | U14: T | V14: M | W14: N | X14: D | Y14: T | Z14: M | AA14: N | AB14: D | AC14: T | AD14: M | AE14: N | AF14: D | AG14: T | AH14: M | AI14: N | AJ14: D | AK14: T
B15: 6 | C15: DIANA SALON | F15: AUXILIAR | G15: N | H15: D | I15: T | J15: M | K15: N | L15: D | M15: T | N15: M | O15: N | P15: D | Q15: T | R15: M | S15: N | T15: D | U15: T | V15: M | W15: N | X15: D | Y15: T | Z15: M | AA15: N | AB15: D | AC15: T | AD15: M | AE15: N | AF15: D | AG15: T | AH15: M | AI15: N | AJ15: D | AK15: T
B16: 7 | C16: YAJANIS ARRIETA | F16: AUXILIAR | G16: M | H16: N | I16: D | J16: T | K16: M | L16: N | M16: D | N16: T | O16: M | P16: N | Q16: D | R16: T | S16: M | T16: N | U16: M | V16: T | W16: M | X16: N | Y16: M | Z16: T | AA16: M | AB16: N | AC16: M | AD16: T | AE16: M | AF16: N | AG16: M | AH16: T | AI16: M | AJ16: N | AK16: M
B17: 8 | C17: LUZ BELTRAN | F17: AUXILIAR | G17: M | H17: N | I17: D | J17: T | K17: M | L17: N | M17: D | N17: T | O17: M | P17: N | Q17: D | R17: T | S17: M | T17: N | U17: M | V17: T | W17: M | X17: N | Y17: M | Z17: T | AA17: M | AB17: N | AC17: M | AD17: T | AE17: M | AF17: N | AG17: M | AH17: T | AI17: M | AJ17: N | AK17: M

Sheet instrumentador qco
B6: INSTRUMENTADORA | G6: MES: OCTUBRE | AA6: AÑO:2020 | AL6: OBSERVACIONES
B7: N° | C7: NOMBRE DEL PERSONAL | F7: CARGO | G7: =Neonato!G7 -> 1 | H7: =Neonato!H7 -> 2 | I7: =Neonato!I7 -> 3 | J7: =Neonato!J7 -> 4 | K7: =Neonato!K7 -> 5 | L7: =Neonato!L7 -> 6 | M7: =Neonato!M7 -> 7 | N7: =Neonato!N7 -> 8 | ... AI7: =Neonato!AI7 -> 29 | AJ7: 30 | AK7: 31
G8: =Neonato!G8 -> J | H8: =Neonato!H8 -> V | I8: =Neonato!I8 -> S | J8: =Neonato!J8 -> D | K8: =Neonato!K8 -> L | L8: =Neonato!L8 -> M | M8: =Neonato!M8 -> M | N8: =Neonato!N8 -> J | ... AI8: =Neonato!AI8 -> J | AJ8: V | AK8: S
B10: 2 | C10: YAQUELIN CARDENAS | F10: INSTRUMENTADORA | G10: T | H10: N | I10: D | J10: C | K10: N | L10: D | M10: T | N10: N | O10: D | P10: T | Q10: N | R10: D | S10: DP | T10: N | U10: D | V10: DP | W10: N | X10: D | Y10: DP | Z10: N | AA10: D | AB10: DP | AC10: N | AD10: D | AE10: C | AF10: N | AG10: D | AH10: DP | AI10: N | AJ10: D | AK10: DP
B11: 3 | C11: CARMEN MANJAREZ | F11: INSTRUMENTADORA | G11: N | H11: D | I11: T | J11: N | K11: D | L11: T | M11: N | N11: D | O11: T | P11: N | Q11: D | R11: C | S11: N | T11: D | U11: DP | V11: N | W11: D | X11: C | Y11: N | Z11: D | AA11: T | AB11: N | AC11: D | AD11: DP | AE11: N | AF11: D | AG11: DP | AH11: N | AI11: D | AJ11: DP | AK11: N
B12: 4 | C12: LILIANA AGUIRRE | F12: INSTRUMENTADORA | G12: D | H12: T | I12: N | J12: D | K12: T | L12: N | M12: T | N12: T | O12: N | P12: D | Q12: C | R12: N | S12: D | T12: DP | U12: N | V12: D | W12: DP | X12: N | Y12: D | Z12: DP | AA12: N | AB12: D | AC12: DP | AD12: N | AE12: D | AF12: DP | AG12: N | AH12: D | AI12: DP | AJ12: N | AK12: D
B13: 5

Sheet imgenes diagnosticas
B6: IMÁGENES DX/ RAYOS X | G6: MES: OCTUBRE | AA6: AÑO:2020 | AL6: OBSERVACIONES
B7: N° | C7: NOMBRE DEL PERSONAL | F7: CARGO | G7: =Neonato!G7 -> 1 | H7: =Neonato!H7 -> 2 | I7: =Neonato!I7 -> 3 | J7: =Neonato!J7 -> 4 | K7: =Neonato!K7 -> 5 | L7: =Neonato!L7 -> 6 | M7: =Neonato!M7 -> 7 | N7: =Neonato!N7 -> 8 | ... AI7: =Neonato!AI7 -> 29 | AJ7: 30 | AK7: 31
G8: =Neonato!G8 -> J | H8: =Neonato!H8 -> V | I8: =Neonato!I8 -> S | J8: =Neonato!J8 -> D | K8: =Neonato!K8 -> L | L8: =Neonato!L8 -> M | M8: =Neonato!M8 -> M | N8: =Neonato!N8 -> J | ... AI8: =Neonato!AI8 -> J | AJ8: V | AK8: S
C10: RAFAEL ANAYA | F10: TECNICO | G10: L | H10: N | I10: N | J10: D | K10: L | L10: N | M10: N | N10: D | O10: L | P10: N | Q10: DP/N | R10: D | S10: L | T10: N | U10: N | V10: D | W10: L | X10: N | Y10: N | Z10: D | AA10: L | AB10: N | AC10: N | AD10: D | AE10: L | AF10: N | AG10: N | AH10: D | AI10: L | AJ10: N | AK10: N
C11: DANIEL ROBLES | F11: TECNICO | G11: N | H11: D | I11: L | J11: N | K11: N | L11: D | M11: L | N11: N | O11: N | P11: D | Q11: L | R11: C/N | S11: N | T11: D | U11: L | V11: N | W11: N | X11: D | Y11: L | Z11: N | AA11: N | AB11: D | AC11: L | AD11: N | AE11: N | AF11: D | AG11: L | AH11: N | AI11: N | AJ11: D | AK11: L
C12: SERGIO CUELLO DAJAR | F12: TECNICO | G12: DP | H12: DP | I12: DP | J12: DP | K12: DP | L12: DP | M12: DP | N12: DP | O12: DP | P12: DP | Q12: L | R12: DP | S12: DP | T12: DP | U12: DP | V12: DP | W12: DP | X12: DP | Y12: DP | Z12: DP | AA12: DP | AB12: DP | AC12: DP | AD12: L | AE12: L | AF12: DP | AG12: DP | AH12: DP | AI12: DP | AJ12: DP | AK12: DP
C13: IVAN MACARENO | F13: TECNICO | AE13: C

Sheet Aux clinicos
B6: AUXILIAR CLINICO | G6: MES:OCTUBRE | AA6: AÑO:2020 | AL6: OBSERVACIONES
B7: N° | C7: NOMBRE DEL PERSONAL | F7: CARGO | G7: =Neonato!G7 -> 1 | H7: =Neonato!H7 -> 2 | I7: =Neonato!I7 -> 3 | J7: =Neonato!J7 -> 4 | K7: =Neonato!K7 -> 5 | L7: =Neonato!L7 -> 6 | M7: =Neonato!M7 -> 7 | N7: =Neonato!N7 -> 8 | ... AI7: =Neonato!AI7 -> 29 | AJ7: 30 | AK7: 31
G8: =Neonato!G8 -> J | H8: =Neonato!H8 -> V | I8: =Neonato!I8 -> S | J8: =Neonato!J8 -> D | K8: =Neonato!K8 -> L | L8: =Neonato!L8 -> M | M8: =Neonato!M8 -> M | N8: =Neonato!N8 -> J | ... AI8: =Neonato!AI8 -> J | AJ8: V | AK8: S
B10: 1 | C10: MIRONEL SALAS | F10: }AUX. CLINICO | G10: D | H10: L | I10: CR | J10: NR | K10: D | L10: L | M10: CV | N10: NV | O10: D | P10: L | Q10: CR | R10: NR | S10: D | T10: L | U10: CV | V10: NV | W10: D | X10: T | Y10: CR | Z10: NR | AA10: D | AB10: L | AC10: CV | AD10: NV | AE10: D | AF10: L | AG10: CR | AH10: NR | AI10: D | AJ10: L | AK10: CV
B11: 2 | C11: JUAN YEPEZ | F11: }AUX. CLINICO | G11: D | H11: L | I11: CV | J11: NV | K11: D | L11: L | M11: CR | N11: NR | O11: D | P11: L | Q11: CV | R11: NV | S11: D | T11: L | U11: CR | V11: NR | W11: D | X11: L | Y11: CV | Z11: NV | AA11: D | AB11: CR | AC11: CR | AD11: NR | AE11: D | AF11: L | AG11: CV | AH11: NV | AI11: D | AJ11: L | AK11: CR
B12: 3 | C12: JUAN PAYARES | F12: }AUX. CLINICO | G12: NV | H12: D | I12: L | J12: CR | K12: NR | L12: D | M12: L | N12: CV | O12: NV | P12: D | Q12: L | R12: CR | S12: NR | T12: D | U12: L | V12: CV | W12: NV | X12: MV | Y12: L | Z12: CR | AA12: NR | AB12: D | AC12: L | AD12: CV | AE12: NV | AF12: D | AG12: L | AH12: CR | AI12: NR | AJ12: D | AK12: L
B13: 4 | C13: JUAN ZABALA | F13: }AUX. CLINICO | G13: NR | H13: D | I13: L | J13: CV | K13: NV | L13: D | M13: L | N13: CR | O13: NR | P13: D | Q13: L | R13: CV | S13: NV | T13: D | U13: L | V13: CR | W13: NR | X13: D | Y13: NV | Z13: D | AA13: NV | AB13: D | AC13: L | AD13: CR | AE13: NR | AF13: D | AG13: L | AH13: CV | AI13: NV | AJ13: D | AK13: L
B14: 5 | C14: RUBEN ANTONIO | F14: }AUX. CLINICO | G14: CV | H14: NV | I14: D | J14: L | K14: CR | L14: NR | M14: D | N14: L | O14: CV | P14: NV | Q14: D | R14: L | S14: CR | T14: NR | U14: D | V14: L | W14: CV | X14: NV | Y14: D | Z14: MV | AA14: CR | AB14: NR | AC14: D | AD14: L | AE14: CV | AF14: NV | AG14: D | AH14: L | AI14: CR | AJ14: NR | AK14: D
B15: 8 | C15: FREDY PALACIOS | F15: }AUX. CLINICO | G15: CR | H15: NR | I15: D | J15: L | K15: CV | L15: NV | M15: D | N15: L | O15: CR | P15: NR | Q15: D | R15: L | S15: CV | T15: NV | U15: D | V15: L | W15: CR | X15: NR | Y15: D | Z15: TV | AA15: CV | AB15: NV | AC15: D | AD15: L | AE15: CR | AF15: NR | AG15: D | AH15: L | AI15: CV | AJ15: NV | AK15: D
B16: 9 | C16: JAIDER BELLO | F16: }AUX. CLINICO | G16: L | H16: CV | I16: NV | J16: D | K16: L | L16: CR | M16: NR | N16: D | O16: L | P16: CV | Q16: NV | R16: D | S16: L | T16: CR | U16: NR | V16: AISLAMIENTO PREVENTIVO | AC16: NR | AD16: D | AE16: L | AF16: CV | AG16: NV | AH16: D | AI16: L | AJ16: CR | AK16: NR
B17: 10 | C17: GUSTAVO MENDIS | F17: }AUX. CLINICO | G17: L | H17: CR | I17: NR | J17: D | K17: L | L17: CV | M17: NV | N17: D | O17: L | P17: CR | Q17: NR | R17: D | S17: L | T17: CV | U17: NV | V17: D | W17: L | X17: CR | Y17: NR | Z17: D | AA17: L | AB17: CV | AC17: NV | AD17: D | AE17: L | AF17: CR | AG17: NR | AH17: D | AI17: L | AJ17: CV | AK17: NV

Sheet fisioterapia
B6: FISIOTERAPIA/PSICOLOGIA | G6: MES: OCTUBRE | AA6: AÑO:2020 | AL6: OBSERVACIONES
B7: N° | C7: NOMBRE PERSONAL | F7: CARGO | G7: =Neonato!G7 -> 1 | H7: =Neonato!H7 -> 2 | I7: =Neonato!I7 -> 3 | J7: =Neonato!J7 -> 4 | K7: =Neonato!K7 -> 5 | L7: =Neonato!L7 -> 6 | M7: =Neonato!M7 -> 7 | N7: =Neonato!N7 -> 8 | ... AI7: =Neonato!AI7 -> 29 | AJ7: 30 | AK7: 31
G8: =Neonato!G8 -> J | H8: =Neonato!H8 -> V | I8: =Neonato!I8 -> S | J8: =Neonato!J8 -> D | K8: =Neonato!K8 -> L | L8: =Neonato!L8 -> M | M8: =Neonato!M8 -> M | N8: =Neonato!N8 -> J | ... AI8: =Neonato!AI8 -> J | AJ8: V | AK8: S
B9: 1
B10: 2
B11: 4 | C11: MARIEN LOAIZA | F11: FISIOTERAPIA | G11: L | H11: L | I11: C | J11: C | K11: L | L11: L | M11: C | N11: C | O11: L | P11: L | Q11: C | R11: C | S11: L | T11: L | U11: C | V11: C | W11: L | X11: L | Y11: C | Z11: C | AA11: L | AB11: L | AC11: C | AD11: C | AE11: L | AF11: L | AG11: C | AH11: C | AI11: L | AJ11: L | AK11: C
B12: 5 | C12: GINA CARDENAS | F12: FISIOTERAPIA | G12: C | H12: C | I12: L | J12: L | K12: C | L12: C | M12: L | N12: L | O12: C | P12: C | Q12: L | R12: L | S12: C | T12: C | U12: L | V12: L | W12: C | X12: C | Y12: L | Z12: L | AA12: C | AB12: C | AC12: L | AD12: L | AE12: C | AF12: C | AG12: L | AH12: L | AI12: C | AJ12: C | AK12: L
B13: 6 | C13: KELLY OTERO | F13: PSICOLOGA | G13: F1 | H13: F1 | I13: L | J13: L | K13: F1 | L13: F1 | M13: F1 | N13: F1 | O13: F1 | P13: L | Q13: L | R13: L | S13: F1 | T13: F1 | U13: F1 | V13: F1 | W13: L | X13: L | Y13: F1 | Z13: F1 | AA13: F1 | AB13: F1 | AC13: F1 | AD13: L | AE13: L | AF13: F1 | AG13: F1 | AH13: F1 | AI13: F1 | AJ13: F1 | AK13: L

Sheet laboratorio
B6: LABORATORIO | G6: MES: OCTUBRE | AA6: AÑO:2020 | AN6: OBSERVACIONES
B7: N° | C7: NOMBRE DEL PERSONAL | F7: CARGO | G7: =Neonato!G7 -> 1 | H7: =Neonato!H7 -> 2 | I7: =Neonato!I7 -> 3 | J7: =Neonato!J7 -> 4 | K7: =Neonato!K7 -> 5 | L7: =Neonato!L7 -> 6 | M7: =Neonato!M7 -> 7 | N7: =Neonato!N7 -> 8 | ... AI7: =Neonato!AI7 -> 29 | AJ7: 30 | AK7: 31 | AL7: HORAS | AM7: EXTRA
G8: =Neonato!G8 -> J | H8: =Neonato!H8 -> V | I8: =Neonato!I8 -> S | J8: =Neonato!J8 -> D | K8: =Neonato!K8 -> L | L8: =Neonato!L8 -> M | M8: =Neonato!M8 -> M | N8: =Neonato!N8 -> J | ... AI8: =Neonato!AI8 -> J | AJ8: V | AK8: S
B10: 1 | C10: GLAMARIS PUPO | F10: MICROBIOLOGA | G10: M | H10: M | I10: M | J10: L | K10: M | L10: M | M10: M | N10: M | O10: M | P10: M | Q10: L | R10: L | S10: M | T10: M | U10: M | V10: M | W10: M | X10: L | Y10: M | Z10: M | AA10: M | AB10: M | AC10: M | AD10: M | AE10: L | AF10: M | AG10: M | AH10: M | AI10: M | AJ10: M | AK10: M | AL10: 182H
B11: 2 | C11: MARIA R. BADEL | F11: BACTERIOLOGO | G11: D | H11: L | I11: N | J11: N | K11: D | L11: L | M11: C | N11: C | O11: L | P11: L | Q11: N | R11: N | S11: D | T11: L | U11: C | V11: C | W11: L | X11: L | Y11: N | Z11: N | AA11: D | AB11: L | AC11: C | AD11: C | AE11: L | AF11: L | AG11: N | AH11: N | AI11: D | AJ11: L | AK11: C | AL11: 180H
B12: 3 | C12: CARLOS TOSCANO | F12: BACTERIOLOGO | G12: C | H12: C | I12: L | J12: L | K12: N | L12: N | M12: D | N12: L | O12: C | P12: C | Q12: L | R12: L | S12: N | T12: N | U12: D | V12: L | W12: C | X12: C | Y12: L | Z12: L | AA12: N | AB12: N | AC12: D | AD12: L | AE12: C | AF12: C | AG12: L | AH12: L | AI12: N | AJ12: N | AK12: D | AL12: 192H
B13: 4 | C13: GISELA MENDOZA | F13: BACTERIOLOGO | G13: D | H13: L | I13: C | J13: C | K13: L | L13: L | M13: N | N13: N | O13: D | P13: L | Q13: C | R13: C | S13: L | T13: L | U13: N | V13: N | W13: D | X13: L | Y13: C | Z13: C | AA13: L | AB13: L | AC13: N | AD13: N | AE13: D | AF13: L | AG13: C | AH13: C | AI13: L | AJ13: L | AK13: N | AL13: 180H
B14: 5 | C14: YICET CANEDO | F14: BACTERIOLOGO | G14: N | H14: N | I14: D | J14: L | K14: C | L14: C | M14: L | N14: L | O14: N | P14: N | Q14: D | R14: L | S14: C | T14: C | U14: L | V14: L | W14: N | X14: N | Y14: D | Z14: L | AA14: C | AB14: C | AC14: L | AD14: L | AE14: N | AF14: N | AG14: D | AH14: L | AI14: C | AJ14: C | AK14: L | AL14: 192H
B16: 6 | C16: YOADIS ALCALA | F16: AUXILIAR | G16: M | H16: M | I16: N | J16: N | K16: D | L16: L | M16: T | N16: T | O16: M | P16: M | Q16: N | R16: N | S16: D | T16: L | U16: T | V16: T | W16: M | X16: M | Y16: N | Z16: N | AA16: D | AB16: L | AC16: T | AD16: T | AE16: M | AF16: M | AG16: N | AH16: N | AI16: D | AJ16: L | AK16: T | AL16: 186H
B17: 7 | C17: ROSALBA DE LEON | F17: AUXILIAR | G17: T | H17: T | I17: M | J17: M | K17: N | L17: N | M17: D | N17: L | O17: T | P17: T | Q17: M | R17: M | S17: N | T17: N | U17: D | V17: L | W17: T | X17: T | Y17: M | Z17: M | AA17: N | AB17: N | AC17: D | AD17: L | AE17: T | AF17: T | AG17: M | AH17: M | AI17: N | AJ17: N | AK17: D | AL17: 192H
B18: 8 | C18: YINIS DIAZ | F18: AUXILIAR | G18: D | H18: L | I18: T | J18: T | K18: M | L18: M | M18: N | N18: N | O18: D | P18: L | Q18: T | R18: T | S18: M | T18: M | U18: N | V18: N | W18: D | X18: L | Y18: T | Z18: T | AA18: M | AB18: M | AC18: N | AD18: N | AE18: D | AF18: L | AG18: T | AH18: T | AI18: M | AJ18: M | AK18: N | AL18: 186H
B19: 9 | C19: ELBA DE LEON | F19: AUXILIAR | G19: N | H19: N | I19: D | J19: L | K19: T | L19: T | M19: M | N19: M | O19: N | P19: N | Q19: D | R19: L | S19: T | T19: T | U19: M | V19: M | W19: N | X19: N | Y19: D | Z19: L | AA19: T | AB19: T | AC19: M | AD19: M | AE19: N | AF19: N | AG19: D | AH19: L | AI19: T | AJ19: T | AK19: M | AL19: 186H
B20: 10 | C20: YESENIA LAGUNA | F20: AUXILIAR | G20: C | H20: L | I20: C | J20: L | K20: C | L20: L | M20: C | N20: L | O20: C | P20: L | Q20: C | R20: L | S20: C | T20: L | U20: C | V20: L | W20: C | X20: L | Y20: C | Z20: L | AA20: C | AB20: L | AC20: C | AD20: L | AE20: C | AF20: L | AG20: C | AH20: L | AI20: C | AJ20: L | AK20: C | AL20: 192H
B21: 11 | C21: LUIS ALFREDO SIERRA | F21: AUXILIAR | G21: L | H21: C | I21: L | J21: C | K21: L | L21: C | M21: L | N21: C | O21: L | P21: C | Q21: L | R21: C | S21: L | T21: C | U21: L | V21: C | W21: L | X21: C | Y21: L | Z21: C | AA21: L | AB21: C | AC21: L | AD21: C | AE21: L | AF21: C | AG21: L | AH21: C | AI21: L | AJ21: C | AK21: L | AL21: 180H
B22: 12 | G22: HORAS TRABAJADAS POR SERVISIO | AL22: 2.048H

Sheet banco de sangre
B6: BANCO DE SANGRE | G6: MES: OCTUBRE | AA6: AÑO:2020 | AN6: OBSERVACIONES
B7: N° | C7: NOMBRE DEL PERSONAL | F7: CARGO | G7: =Neonato!G7 -> 1 | H7: =Neonato!H7 -> 2 | I7: =Neonato!I7 -> 3 | J7: =Neonato!J7 -> 4 | K7: =Neonato!K7 -> 5 | L7: =Neonato!L7 -> 6 | M7: =Neonato!M7 -> 7 | N7: =Neonato!N7 -> 8 | ... AI7: =Neonato!AI7 -> 29 | AJ7: 30 | AK7: 31 | AL7: HORAS | AM7: EXTRAS
G8: =Neonato!G8 -> J | H8: =Neonato!H8 -> V | I8: =Neonato!I8 -> S | J8: =Neonato!J8 -> D | K8: =Neonato!K8 -> L | L8: =Neonato!L8 -> M | M8: =Neonato!M8 -> M | N8: =Neonato!N8 -> J | ... AI8: =Neonato!AI8 -> J | AJ8: V | AK8: S
B9: 1
B10: 2 | C10: CLARA LAGARES PEREZ | F10: AUXILIAR | G10: T | H10: M | I10: L | J10: L | K10: M | L10: T | M10: M | N10: T | O10: M | P10: C | Q10: T | R10: M | S10: T | T10: M | U10: T | V10: M | W10: L | X10: L | Y10: M | Z10: T | AA10: M | AB10: T | AC10: M | AD10: C | AE10: T | AF10: M | AG10: T | AH10: M | AI10: T | AJ10: M | AK10: T | AL10: 200H | AM10: 8H
B11: 3
B12: 4 | C12: KEIDYS PINTO GOMEZ | F12: BACTERIOLOGA | G12: N | H12: D | I12: C | J12: N | K12: N | L12: D | M12: N | N12: N | O12: D | P12: C | Q12: L | R12: N | S12: D | T12: N | U12: D | V12: N | W12: D | X12: L | Y12: N | Z12: N | AA12: D | AB12: N | AC12: N | AD12: D | AE12: L | AF12: N | AG12: N | AH12: D | AI12: N | AJ12: N | AK12: D | AL12: 216H | AM12: 24H
B13: 5
B14: 6 | G14: TOTAL HORAS TRABAJADAS POR SERVICIO | AL14: 416H | AM14: 32H
B15: 7

Sheet farmacia
AJ1: OBVERVACION
A5: SERVICIO: FARMACIA | C5: MES: OCTUBRE | W5: AÑO:2020
A6: N° | B6: NOMBRE DEL PERSONAL | C6: 1 | D6: 2 | E6: 3 | F6: 4 | G6: 5 | H6: 6 | I6: 7 | J6: 8 | K6: 9 | L6: 10 | M6: 11 | N6: 12 | O6: 13 | P6: 14 | Q6: 15 | R6: 16 | S6: 17 | T6: 18 | U6: 19 | V6: 20 | W6: 21 | X6: 22 | Y6: 23 | Z6: 24 | AA6: 25 | AB6: 26 | AC6: 27 | AD6: 28 | AE6: 29 | AF6: 30 | AG6: 31
C7: J | D7: V | E7: S | F7: D | G7: L | H7: M | I7: M | J7: J | K7: V | L7: S | M7: D | N7: L | O7: M | P7: M | Q7: J | R7: V | S7: S | T7: D | U7: L | V7: M | W7: M | X7: J | Y7: V | Z7: S | AA7: D | AB7: L | AC7: M | AD7: M | AE7: J | AF7: V | AG7: S
C8: SERVICIO URGENCIAS | AH8: HORAS | AI8: H.EXTR
A9: 1 | B9: JESUS ATENCIA | C9: D | D9: L | E9: C | F9: N | G9: D | H9: L | I9: C | J9: N | K9: D | L9: L | M9: C | N9: N | O9: D | P9: L | Q9: C | R9: N | S9: D | T9: L | U9: C | V9: N | W9: D | X9: L | Y9: C | Z9: N | AA9: D | AB9: C | AC9: C | AD9: N | AE9: D | AF9: L | AG9: C | AH9: 192
A10: 2 | B10: JOSE LOPEZ | C10: L | D10: C | E10: N | F10: D | G10: L | H10: C | I10: N | J10: D | K10: L | L10: C | M10: N | N10: D | O10: L | P10: C | Q10: N | R10: D | S10: L | T10: C | U10: N | V10: D | W10: L | X10: C | Y10: N | Z10: D | AA10: L | AB10: C | AC10: N | AD10: D | AE10: L | AF10: C | AG10: N | AH10: 192
A11: 3 | B11: NICOLAS NARVAEZ | C11: C | D11: N | E11: D | F11: L | G11: C | H11: N | I11: D | J11: L | K11: C | L11: N | M11: D | N11: L | O11: C | P11: N | Q11: D | R11: L | S11: C | T11: N | U11: D | V11: L | W11: C | X11: N | Y11: D | Z11: L | AA11: C | AB11: N | AC11: D | AD11: L | AE11: C | AF11: N | AG11: D | AH11: 192
A12: 4 | B12: YAMILE DIAZ | C12: N | D12: D | E12: L | F12: C | G12: N | H12: D | I12: L | J12: C | K12: N | L12: D | M12: L | N12: C | O12: N | P12: D | Q12: L | R12: C | S12: N | T12: D | U12: L | V12: C | W12: N | X12: D | Y12: L | Z12: C | AA12: N | AB12: D | AC12: L | AD12: C | AE12: N | AF12: D | AG12: C | AH12: 192
C13: HOSPITALIZACION / CIRUGIA
A14: 5 | B14: DANY JARAMILLO | C14: C | D14: MH | E14: TH | F14: L | G14: C | H14: MH | I14: TH | J14: L | K14: C | L14: TH | M14: MH | N14: L | O14: C | P14: TH | Q14: MH | R14: L | S14: MH | T14: C | U14: TH | V14: L | W14: TH | X14: TH | Y14: MH | Z14: TH | AA14: L | AB14: L | AC14: MH | AD14: TH | AE14: MH | AF14: L | AG14: TH | AH14: 204 | AI14: 12H
A15: 6 | B15: CRISTIAN ATENCIA | C15: TH | D15: C | E15: L | F15: C | G15: TH | H15: TH | I15: L | J15: C | K15: TH | L15: MH | M15: L | N15: C | O15: TH | P15: MH | Q15: L | R15: C | S15: TH | T15: MH | U15: L | V15: TH | W15: MH | X15: MH | Y15: L | Z15: MH | AA15: TH | AB15: MH | AC15: TH | AD15: L | AE15: TH | AF15: MH | AG15: L | AH15: 204 | AI15: 12H
A16: 7 | B16: GEIMI VELEZ | C16: L | D16: TH | E16: MH | F16: TH | G16: MH | H16: L | I16: C | J16: TH | K16: MH | L16: L | M16: C | N16: TH | O16: MH | P16: L | Q16: C | R16: MH | S16: L | T16: L | U16: C | V16: TH | W16: MH | X16: L | Y16: TH | Z16: MH | AA16: TH | AB16: MH | AC16: L | AD16: TH | AE16: MH | AF16: TH | AG16: MH | AH16: 200 | AI16: 8H
A17: 8 | B17: ROBERTO MORALES | J17: MH | K17: TH | L17: MH | M17: TH | N17: L | O17: MH | P17: TH | Q17: TH | R17: TH | S17: L | T17: TH | U17: MH | V17: MH | W17: L | X17: TH | Y17: MH | Z17: TH | AA17: MH | AB17: L | AC17: TH | AD17: MH | AE17: TH | AF17: MH | AG17: TH | AH17: 160
A18: 9 | B18: MAYERLIS MARQUEZ | C18: MH | D18: L | E18: C | F18: MH | G18: L | H18: C | I18: MH | J18: MH | K18: L | L18: C | M18: TH | N18: MH | O18: L | P18: C | Q18: TH | R18: TH | S18: C | T18: L | U18: L | V18: MH | W18: TH | X18: MH | Y18: TH | Z18: L | AA18: MH | AB18: TH | AC18: MH | AD18: TH | AE18: L | AF18: TH | AG18: MH | AH18: 204 | AI18: 12H
C19: UMI
A20: 12 | B20: IVAN SUAREZ | C20: U/8 | D20: U | E20: U | F20: L | G20: U | H20: U | I20: U | J20: U | K20: U | L20: U | M20: U | N20: L | O20: U | P20: U | Q20: U | R20: U | S20: U | T20: L | U20: U | V20: U | W20: U | X20: U | Y20: U | Z20: U | AA20: U | AB20: L | AC20: U | AD20: U | AE20: U | AF20: U | AG20: U | AH20: 208 | AI20: 16H
C21: ADMINISTRACION/ COTROL/ CALIDAD
A22: 13 | B22: KAREN VERBEL | C22: A.D | D22: A.D | E22: A.D | F22: L | G22: A.D | H22: A.D | I22: A.D | J22: A.D | K22: A.D | L22: A.D | M22: L | N22: L | O22: A.D | P22: A.D | Q22: A.D | R22: A.D | S22: UMI | T22: L | U22: A.D | V22: A.D | W22: A.D | X22: A.D | Y22: A.D | Z22: A.D | AA22: L | AB22: A.D | AC22: A.D | AD22: A.D | AE22: A.D | AF22: A.D | AG22: A.D | AH22: 208 | AI22: 16H
C23: RECEPCION / TECNICA
A24: 14 | B24: MARIBEL CASTILLO | C24: A.D | D24: A.D | E24: A.D | F24: L | G24: A.D | H24: A.D | I24: A.D | J24: A.D | K24: A.D | L24: A.D | M24: L | N24: L | O24: A.D | P24: A.D | Q24: A.D | R24: A.D | S24: A.D | T24: L | U24: A.D | V24: A.D | W24: A.D | X24: A.D | Y24: A.D | Z24: A.D | AA24: L | AB24: A.D | AC24: A.D | AD24: A.D | AE24: A.D | AF24: A.D | AG24: A.D | AH24: 208 | AI24: 16H
A25: 15 | C25: TOTAL HORAS TRABAJADAS POR SERVICIO 2.364 | AI25: 92H
A26: CLAVES: N: NOCHE C: CORRIDO DIURNO F1: 8 HORAS F2: 9 HORAS

Sheet AMB
B6: AMBULANCIA | G6: MES: OCTUBRE | AA6: AÑO:2020 | AL6: OBSERVACIONES
B7: N° | C7: NOMBRE DEL PERSONAL | F7: CARGO | G7: 1 | H7: 2 | I7: 3 | J7: 4 | K7: 5 | L7: 6 | M7: 7 | N7: 8 | O7: 9 | P7: 10 | Q7: 11 | R7: 12 | S7: 13 | T7: 14 | U7: 15 | V7: 16 | W7: 17 | X7: 18 | Y7: 19 | Z7: 20 | AA7: 21 | AB7: 22 | AC7: 23 | AD7: 24 | AE7: 25 | AF7: 26 | AG7: 27 | AH7: 28 | AI7: 29 | AJ7: 30 | AK7: 31
G8: J | H8: V | I8: S | J8: D | K8: L | L8: M | M8: M | N8: J | O8: V | P8: S | Q8: D | R8: L | S8: M | T8: M | U8: J | V8: V | W8: S | X8: D | Y8: L | Z8: M | AA8: M | AB8: J | AC8: V | AD8: S | AE8: D | AF8: L | AG8: M | AH8: M | AI8: J | AJ8: V | AK8: S
B10: 1 | C10: NUBIA E. PADILLA JIMENEZ | F10: REMISIONISTA | G10: C | H10: C | I10: L | J10: M | K10: C | L10: C | M10: L | N10: L | O10: C | P10: C | Q10: L | R10: DP | S10: C | T10: C | U10: L | V10: DP | W10: C | X10: C | Y10: DP | Z10: L | AA10: C | AB10: C | AC10: DP | AD10: L | AE10: C4 | AF10: C | AG10: DP | AH10: L | AI10: C | AJ10: C | AK10: L
B11: 2 | C11: JESUS TUIRAN | F11: REMISIONISTA | G11: L | H11: DP | I11: C | J11: C | K11: L | L11: C | M11: C | N11: C | O11: L | P11: DP | Q11: C | R11: C | S11: L | T11: DP | U11: C | V11: C | W11: L | X11: L | Y11: C | Z11: C | AA11: DP | AB11: L | AC11: C | AD11: C | AE11: L | AF11: L | AG11: C | AH11: C | AI11: DP | AJ11: L | AK11: C
B12: 3 | C12: EDWIN G. CORRALES | F12: REMISIONISTA | G12: L | H12: C | I12: N | J12: N | K12: D | L12: L | M12: L | N12: M | O12: C | P12: C | Q12: N | R12: N | S12: D | T12: L | U12: DP | V12: L | W12: C | X12: C | Y12: N | Z12: N | AA12: D | AB12: DP | AC12: L | AD12: L | AE12: C | AF12: C | AG12: N | AH12: N | AI12: D | AJ12: DP | AK12: L
B13: 4 | C13: BRADIS R. BLANCO A. | F13: REMISIONISTA | G13: N | H13: D | I13: L | J13: L | K13: C | L13: C | M13: N | N13: N | O13: D | P13: L | Q13: L | R13: L | S13: C | T13: C | U13: N | V13: N | W13: D | X13: DP | Y13: L | Z13: L | AA13: C | AB13: C | AC13: N | AD13: N | AE13: D | AF13: DP | AG13: L | AH13: L | AI13: C | AJ13: C | AK13: N
B14: 5 | C14: JHAIR A. CANCHILA | F14: REMISIONISTA | G14: L | H14: N | I14: D | J14: L | K14: DP | L14: L | M14: C | N14: C | O14: N | P14: N | Q14: D | R14: L | S14: DP | T14: L | U14: C | V14: C | W14: N | X14: N | Y14: D | Z14: DP | AA14: L | AB14: L | AC14: C | AD14: C | AE14: N | AF14: N | AG14: D | AH14: DP | AI14: L | AJ14: L | AK14: C
B15: 6 | C15: OSWALDO J. PADILLA B. | F15: REMISIONISTA | G15: C | H15: L | I15: C | J15: C | K15: N | L15: N | M15: D | N15: L | O15: L | P15: L | Q15: C | R15: C | S15: N | T15: N | U15: D | V15: L | W15: L | X15: L | Y15: C | Z15: C | AA15: N | AB15: N | AC15: D | AD15: DP | AE15: L | AF15: L | AG15: C | AH15: C | AI15: N | AJ15: N | AK15: D
B16: 7 | F16: REMISIONISTA
B18: N° | C18: NOMBRE DEL PERSONAL | F18: CARGO | G18: 1 | H18: 2 | I18: 3 | J18: 4 | K18: 5 | L18: 6 | M18: 7 | N18: 8 | O18: 9 | P18: 10 | Q18: 11 | R18: 12 | S18: 13 | T18: 14 | U18: 15 | V18: 16 | W18: 17 | X18: 18 | Y18: 19 | Z18: 20 | AA18: 21 | AB18: 22 | AC18: 23 | AD18: 24 | AE18: 25 | AF18: 26 | AG18: 27 | AH18: 28 | AI18: 29 | AJ18: 30 | AK18: 31
G19: J | H19: V | I19: S | J19: D | K19: L | L19: M | M19: M | N19: J | O19: V | P19: S | Q19: D | R19: L | S19: M | T19: M | U19: J | V19: V | W19: S | X19: D | Y19: L | Z19: M | AA19: M | AB19: J | AC19: V | AD19: S | AE19: D | AF19: L | AG19: M | AH19: M | AI19: J | AJ19: V | AK19: S
B20: 1 | C20: NESTOR RICAURTE | F20: CONDUCTOR | G20: C | H20: C | I20: L | J20: M | K20: C | L20: C | M20: L | N20: L | O20: C | P20: C | Q20: L | R20: DP | S20: C | T20: C | U20: L | V20: DP | W20: C | X20: C | Y20: DP | Z20: L | AA20: C | AB20: C | AC20: DP | AD20: L | AE20: C | AF20: C | AG20: DP | AH20: L | AI20: C | AJ20: C | AK20: L
B21: 2 | C21: LUIS CORRALES ORTEGA | F21: CONDUCTOR | G21: VACACIONES | X21: DP | Y21: L | Z21: L | AA21: C | AB21: C | AC21: N | AD21: N | AE21: D | AF21: DP | AG21: L | AH21: L | AI21: C | AJ21: C | AK21: N
B22: 3 | C22: ROIVER YEPES PORTACIO | F22: CONDUCTOR | G22: L | H22: DP | I22: C | J22: C | K22: L | L22: C | M22: C | N22: C | O22: L | P22: DP | Q22: C | R22: C | S22: L | T22: DP | U22: C | V22: C | W22: L | X22: L | Y22: C | Z22: C | AA22: DP | AB22: L | AC22: C | AD22: C | AE22: L | AF22: L | AG22: C | AH22: C | AI22: DP | AJ22: L | AK22: C
B23: 4 | C23: JORGE CAÑAS CARRIAZO | F23: CONDUCTOR | G23: L | H23: C | I23: N | J23: N | K23: D | L23: L | M23: L | N23: M | O23: C | P23: C | Q23: N | R23: N | S23: D | T23: L | U23: DP | V23: L | W23: C | X23: C | Y23: N | Z23: N | AA23: D | AB23: DP | AC23: L | AD23: L | AE23: C | AF23: C | AG23: N | AH23: N | AI23: D | AJ23: DP | AK23: L
B24: 5 | C24: TIBALDO SILGADO M. | F24: CONDUCTOR | G24: N | H24: D | I24: L | J24: L | K24: C | L24: C | M24: N | N24: N | O24: D | P24: L | Q24: L | R24: L | S24: C | T24: C | U24: N | V24: N | W24: D | X24: VACACIONES
B25: 6 | C25: ALFRANIO HERNANDEZ | F25: CONDUCTOR | G25: L | H25: N | I25: D | J25: L | K25: DP | L25: L | M25: C | N25: C | O25: N | P25: N | Q25: D | R25: L | S25: DP | T25: L | U25: C | V25: C | W25: N | X25: N | Y25: D | Z25: DP | AA25: L | AB25: L | AC25: C | AD25: C | AE25: N | AF25: N | AG25: D | AH25: DP | AI25: L | AJ25: L | AK25: C
B26: 7 | C26: JUAN CARLOS HNEZ | F26: CONDUCTOR | G26: C | H26: L | I26: C | J26: C | K26: N | L26: N | M26: D | N26: L | O26: L | P26: L | Q26: C | R26: C | S26: N | T26: N | U26: D | V26: L | W26: L | X26: L | Y26: C | Z26: C | AA26: N | AB26: N | AC26: D | AD26: DP | AE26: L | AF26: L | AG26: C | AH26: C | AI26: N | AJ26: N | AK26: D
