Workbook

Sheet Resumen
B2: PLAN DE MONITOREO ZANJÓN EL ROSARIO, ZANJÓN POTRERILLO, QUEBRADA EL CHOCHO, QUEBRADA EL YESO, QUEBRADA TODOS LOS SANTOS Y ZANJÓN ZUMBÁCULO
A5: Punto de monitoreo | B5: Zanjón El Potrerillo | C5: Zanjón El Rosario | D5: Q. El Chocho | E5: Q. El Yeso | F5: Q. Todos Los Santos | G5: Zanjón Chimbique (Zanjón Zumbáculo) | H5: Total/Campaña | I5: Total Plan Monitoreo
A6: Cauce principal (Aforos previos al monitoreo) | B6: 1 | C6: 1 | D6: 1 | E6: 1 | F6: 1 | G6: 1 | H6: =+SUM(B6:G6) -> 6 | I6: =+H6*2 -> 12
A7: Cauce principal | B7: 3 | C7: 5 | D7: 3 | E7: 3 | F7: 4 | G7: 4 | H7: =+SUM(B7:G7) -> 22 | I7: =+H7*2 -> 44
A8: Cauce principal (Réplica) | B8: 1 | C8: 1 | D8: 1 | E8: 1 | F8: 1 | G8: 1 | H8: =+SUM(B8:G8) -> 6 | I8: =+H8*2 -> 12
A9: Ttributarios | B9: 5 | C9: 5 | D9: 7 | E9: 0 | F9: 2 | G9: 6 | H9: =+SUM(B9:G9) -> 25 | I9: =+H9*2 -> 50
A10: Tributarios (Puntos adicionales) | B10: 1 | C10: 0 | D10: 2 | E10: 0 | F10: 2 | G10: 2 | H10: =+SUM(B10:G10) -> 7 | I10: =+H10*2 -> 14
A11: Vertimientos | B11: 3 | C11: 3 | D11: 4 | E11: 2 | F11: 4 | G11: 3 | H11: =+SUM(B11:G11) -> 19 | I11: =+H11*2 -> 38
A12: Derivaciones o captaciones | B12: 1 | C12: 1 | D12: 3 | E12: 0 | F12: 1 | G12: 2 | H12: =+SUM(B12:G12) -> 8 | I12: =+H12*2 -> 16
A13: TOTAL PUNTOS | B13: =+SUM(B6:B12) -> 15 | C13: =+SUM(C6:C12) -> 16 | D13: =+SUM(D6:D12) -> 21 | E13: =+SUM(E6:E12) -> 7 | F13: =+SUM(F6:F12) -> 15 | G13: =+SUM(G6:G12) -> 19 | H13: =+SUM(H6:H12) -> 93 | I13: =+SUM(I6:I12) -> 186
A14: VALOR TOTAL IVA INCLUIDO | B14: =+'Zanjón Potrerillo '!N68 -> 0 | C14: =+'Zanjón El Rosario'!N68 -> 0 | D14: =+'Q. El Chocho'!N68 -> 0 | E14: =+'Q. El Yeso'!N68 -> 0 | F14: =+'Q. Todos Los Santos'!N68 -> 0 | G14: =+'Zanjón Chimbique (Z. Zumbáculo)'!N68 -> 0 | H14: =+I14/2 -> 0 | I14: =+SUM(B14:G14) -> 0

Sheet Zanjón Potrerillo 
A1: VARIABLES | C1: UNIDADES | D1: LIMITE DE CUANTIFICACIÓN | E1: CAUCE PRINCIPAL | F1: CAUCE PRINCIPAL RÉPLICA | G1: TRIBUTARIOS | H1: TRIBUTARIOS PUNTOS ADICIONALES | I1: VERTIMIENTOS | J1: DERIVACIONES O CAPTACIONES | K1: No. CAMPAÑAS | L1: No. MUESTRAS | M1: VALOR UNITARIO IVA INCLUIDO | N1: VALOR TOTAL IVA INCLUDO | O1: OSERVACIONES
A2: TOMA MUESTRA | B2: Jornada aforo y toma de muestra en cuerpo lótico | D2: No aplica | E2: 3 | F2: 1 | G2: 5 | H2: 1 | K2: 2 | L2: =+SUM(E2:J2)*K2 -> 20 | N2: =+L2*M2 -> 0
B3: Jornada aforo y toma de muestra en vertimientos | D3: No aplica | I3: 3 | K3: 2 | L3: =+SUM(E3:J3)*K3 -> 6 | N3: =+L3*M3 -> 0
B4: Jornada aforo de caudal (Incluye aforo previo al monitoreo y aforo en derivaciones y/o captaciones) | D4: No aplica | E4: 1 | J4: 1 | K4: 2 | L4: =+SUM(E4:J4)*K4 -> 4 | N4: =+L4*M4 -> 0
B5: Jornada toma de muestra hidrobiologicos | D5: No aplica | E5: 2 | K5: 2 | L5: =+SUM(E5:J5)*K5 -> 4 | N5: =+L5*M5 -> 0
A6: IN SITU | B6: Caudal Área-Velocidad molinete o Flow tracker (Vadeo) | C6: L/s | D6: No aplica | E6: 4 | F6: 1 | G6: 5 | H6: 1 | J6: 1 | K6: 2 | L6: =+SUM(E6:J6)*K6 -> 24 | N6: =+L6*M6 -> 0
B7: Caudal volumétrico | C7: L/s | D7: No aplica | I7: 3 | K7: 2 | L7: =+SUM(E7:J7)*K7 -> 6 | N7: =+L7*M7 -> 0
B8: pH | C8: Unidades de pH | D8: 2,0 | E8: 3 | F8: 1 | G8: 5 | H8: 1 | I8: 3 | K8: 2 | L8: =+SUM(E8:J8)*K8 -> 26 | N8: =+L8*M8 -> 0
B9: Temperatura | C9: °C | D9: No aplica | E9: 3 | F9: 1 | G9: 5 | H9: 1 | I9: 3 | K9: 2 | L9: =+SUM(E9:J9)*K9 -> 26 | N9: =+L9*M9 -> 0
B10: Conductividad Eléctrica | C10: µs/cm | D10: 10 | E10: 3 | F10: 1 | G10: 5 | H10: 1 | I10: 3 | K10: 2 | L10: =+SUM(E10:J10)*K10 -> 26 | N10: =+L10*M10 -> 0
B11: Oxígeno Disuelto | C11: mg/L | D11: 0,05 | E11: 3 | F11: 1 | G11: 5 | H11: 1 | I11: 3 | K11: 2 | L11: =+SUM(E11:J11)*K11 -> 26 | N11: =+L11*M11 -> 0
A12: FISICOQUIMICOS BÁSICOS | B12: Alcalinidad Total | C12: mg/L | D12: 20 | E12: 3 | F12: 1 | G12: 5 | H12: 1 | I12: 3 | K12: 2 | L12: =+SUM(E12:J12)*K12 -> 26 | N12: =+L12*M12 -> 0
B13: Color real | C13: UC | D13: 20 | E13: 3 | K13: 2 | L13: =+SUM(E13:J13)*K13 -> 6 | N13: =+L13*M13 -> 0
B14: Dureza Total | C14: mg/L | D14: 20 | E14: 3 | G14: 5 | K14: 2 | L14: =+SUM(E14:J14)*K14 -> 16 | N14: =+L14*M14 -> 0
B15: DBO5 Total | C15: mg/L | D15: 2,0 | E15: 3 | F15: 1 | G15: 5 | H15: 1 | I15: 3 | K15: 2 | L15: =+SUM(E15:J15)*K15 -> 26 | N15: =+L15*M15 -> 0
B16: DBO5 Filtrada o soluble | C16: mg/L | D16: 2,0 | E16: 3 | F16: 1 | G16: 5 | H16: 1 | I16: 3 | K16: 2 | L16: =+SUM(E16:J16)*K16 -> 26 | N16: =+L16*M16 -> 0
B17: DBO Ultima | C17: mg/L | D17: 2,0 | E17: 3 | F17: 1 | G17: 5 | H17: 1 | I17: 3 | K17: 2 | L17: =+SUM(E17:J17)*K17 -> 26 | N17: =+L17*M17 -> 0
B18: DQO Total | C18: mg/L | D18: 2,0 | E18: 3 | F18: 1 | G18: 5 | H18: 1 | I18: 3 | K18: 2 | L18: =+SUM(E18:J18)*K18 -> 26 | N18: =+L18*M18 -> 0
B19: Solidos Suspendidos Totales | C19: mg/L | D19: 5,0 | E19: 3 | F19: 1 | G19: 5 | H19: 1 | I19: 3 | K19: 2 | L19: =+SUM(E19:J19)*K19 -> 26 | N19: =+L19*M19 -> 0
B20: Solidos suspendidos Volátiles | C20: mg/L | D20: 5,0 | E20: 3 | F20: 1 | G20: 5 | H20: 1 | I20: 3 | K20: 2 | L20: =+SUM(E20:J20)*K20 -> 26 | N20: =+L20*M20 -> 0
B21: Sólidos sedimentables | C21: mL/L | D21: 0,1 | I21: 3 | K21: 2 | L21: =+SUM(E21:J21)*K21 -> 6 | N21: =+L21*M21 -> 0
B22: Solidos Disueltos Totales | C22: mg/L | D22: 5 | E22: 3 | G22: 5 | I22: 3 | K22: 2 | L22: =+SUM(E22:J22)*K22 -> 22 | N22: =+L22*M22 -> 0
B23: Turbiedad | C23: NTU | D23: 1,5 | E23: 3 | G23: 5 | I23: 3 | K23: 2 | L23: =+SUM(E23:J23)*K23 -> 22 | N23: =+L23*M23 -> 0
B24: Nitrógeno Total Kjeldahl | C24: mg/L | D24: 2,0 | E24: 3 | F24: 1 | G24: 5 | H24: 1 | I24: 3 | K24: 2 | L24: =+SUM(E24:J24)*K24 -> 26 | N24: =+L24*M24 -> 0
B25: Nitrógeno Amoniacal | C25: mg/L | D25: 1,0 | E25: 3 | F25: 1 | G25: 5 | H25: 1 | I25: 3 | K25: 2 | L25: =+SUM(E25:J25)*K25 -> 26 | N25: =+L25*M25 -> 0
B26: Nitritos | C26: mg/L | D26: 0,01 | E26: 3 | F26: 1 | G26: 5 | H26: 1 | I26: 3 | K26: 2 | L26: =+SUM(E26:J26)*K26 -> 26 | N26: =+L26*M26 -> 0
B27: Nitratos | C27: mg/L | D27: 0,3 | E27: 3 | F27: 1 | G27: 5 | H27: 1 | I27: 3 | K27: 2 | L27: =+SUM(E27:J27)*K27 -> 26 | N27: =+L27*M27 -> 0
B28: Fosforo Total | C28: mg/L | D28: 0,1 | E28: 3 | F28: 1 | G28: 5 | H28: 1 | I28: 3 | K28: 2 | L28: =+SUM(E28:J28)*K28 -> 26 | N28: =+L28*M28 -> 0
B29: Ortofosfatos | C29: mg/L | D29: 0,1 | E29: 3 | F29: 1 | G29: 5 | H29: 1 | I29: 3 | K29: 2 | L29: =+SUM(E29:J29)*K29 -> 26 | N29: =+L29*M29 -> 0
B30: Grasas y Aceites | C30: mg/L | D30: 0,5 | E30: 3 | G30: 5 | I30: 3 | K30: 2 | L30: =+SUM(E30:J30)*K30 -> 22 | N30: =+L30*M30 -> 0
B31: Tensoáctivos aniónico Método SAAM | C31: mg/L | D31: 0,1 | E31: 3 | G31: 5 | I31: 3 | K31: 2 | L31: =+SUM(E31:J31)*K31 -> 22 | N31: =+L31*M31 -> 0
B32: Fenoles | C32: mg/L | D32: 0,15 | E32: 3 | G32: 5 | I32: 3 | K32: 2 | L32: =+SUM(E32:J32)*K32 -> 22 | N32: =+L32*M32 -> 0
B33: Hidrocarburos | C33: mg/L | D33: 0,5 | E33: 3 | I33: 3 | K33: 2 | L33: =+SUM(E33:J33)*K33 -> 12 | N33: =+L33*M33 -> 0
B34: Compuestos semivolátiles fenólicos | C34: mg/L | D34: 0,002 | K34: 2 | L34: =+SUM(E34:J34)*K34 -> 0 | N34: =+L34*M34 -> 0
A35: METALES Y METALOIDES | B35: Aluminio | C35: mg/L | D35: 0,1 | E35: 3 | K35: 2 | L35: =+SUM(E35:J35)*K35 -> 6 | N35: =+L35*M35 -> 0
B36: Arsénico | C36: mg/L | D36: 0,001 | E36: 3 | I36: 3 | K36: 2 | L36: =+SUM(E36:J36)*K36 -> 12 | N36: =+L36*M36 -> 0
B37: Bario | C37: mg/L | D37: 0,002 | E37: 3 | I37: 3 | K37: 2 | L37: =+SUM(E37:J37)*K37 -> 12 | N37: =+L37*M37 -> 0
B38: Berilio | C38: mg/L | D38: 0,001 | E38: 3 | K38: 2 | L38: =+SUM(E38:J38)*K38 -> 6 | N38: =+L38*M38 -> 0
B39: Cadmio | C39: mg/L | D39: 0,001 | E39: 3 | I39: 3 | K39: 2 | L39: =+SUM(E39:J39)*K39 -> 12 | N39: =+L39*M39 -> 0
B40: Zinc | C40: mg/L | D40: 0,002 | E40: 3 | I40: 3 | K40: 2 | L40: =+SUM(E40:J40)*K40 -> 12 | N40: =+L40*M40 -> 0
...

Sheet Zanjón El Rosario
A1: VARIABLES | C1: UNIDADES | D1: LIMITE DE CUANTIFICACIÓN | E1: CAUCE PRINCIPAL | F1: CAUCE PRINCIPAL RÉPLICA | G1: TRIBUTARIOS | H1: TRIBUTARIOS PUNTOS ADICIONALES | I1: VERTIMIENTOS | J1: DERIVACIONES O CAPTACIONES | K1: No. CAMPAÑAS | L1: No. MUESTRAS | M1: VALOR UNITARIO IVA INCLUIDO | N1: VALOR TOTAL IVA INCLUDO | O1: OSERVACIONES
A2: TOMA MUESTRA | B2: Jornada aforo y toma de muestra en cuerpo lótico | D2: No aplica | E2: 5 | F2: 1 | G2: 5 | K2: 2 | L2: =+SUM(E2:J2)*K2 -> 22 | N2: =+M2*L2 -> 0
B3: Jornada aforo y toma de muestra en vertimientos | D3: No aplica | I3: 3 | K3: 2 | L3: =+SUM(E3:J3)*K3 -> 6 | N3: =+M3*L3 -> 0
B4: Jornada aforo de caudal (Incluye aforo previo al monitoreo y aforo en derivaciones y/o captaciones) | D4: No aplica | E4: 1 | J4: 1 | K4: 2 | L4: =+SUM(E4:J4)*K4 -> 4 | N4: =+M4*L4 -> 0
B5: Jornada toma de muestra hidrobiologicos | D5: No aplica | E5: 2 | K5: 2 | L5: =+SUM(E5:J5)*K5 -> 4 | N5: =+M5*L5 -> 0
A6: IN SITU | B6: Caudal Área-Velocidad molinete o Flow tracker (Vadeo) | C6: L/s | D6: No aplica | E6: 6 | F6: 1 | G6: 5 | J6: 1 | K6: 2 | L6: =+SUM(E6:J6)*K6 -> 26 | N6: =+M6*L6 -> 0
B7: Caudal volumétrico | C7: L/s | D7: No aplica | I7: 3 | K7: 2 | L7: =+SUM(E7:J7)*K7 -> 6 | N7: =+M7*L7 -> 0
B8: pH | C8: Unidades de pH | D8: 2,0 | E8: 5 | F8: 1 | G8: 5 | I8: 3 | K8: 2 | L8: =+SUM(E8:J8)*K8 -> 28 | N8: =+M8*L8 -> 0
B9: Temperatura | C9: °C | D9: No aplica | E9: 5 | F9: 1 | G9: 5 | I9: 3 | K9: 2 | L9: =+SUM(E9:J9)*K9 -> 28 | N9: =+M9*L9 -> 0
B10: Conductividad Eléctrica | C10: µs/cm | D10: 10 | E10: 5 | F10: 1 | G10: 5 | I10: 3 | K10: 2 | L10: =+SUM(E10:J10)*K10 -> 28 | N10: =+M10*L10 -> 0
B11: Oxígeno Disuelto | C11: mg/L | D11: 0,05 | E11: 5 | F11: 1 | G11: 5 | I11: 3 | K11: 2 | L11: =+SUM(E11:J11)*K11 -> 28 | N11: =+M11*L11 -> 0
A12: FISICOQUIMICOS BÁSICOS | B12: Alcalinidad Total | C12: mg/L | D12: 20 | E12: 5 | F12: 1 | G12: 5 | I12: 3 | K12: 2 | L12: =+SUM(E12:J12)*K12 -> 28 | N12: =+M12*L12 -> 0
B13: Color real | C13: UC | D13: 20 | E13: 5 | K13: 2 | L13: =+SUM(E13:J13)*K13 -> 10 | N13: =+M13*L13 -> 0
B14: Dureza Total | C14: mg/L | D14: 20 | E14: 5 | G14: 5 | K14: 2 | L14: =+SUM(E14:J14)*K14 -> 20 | N14: =+M14*L14 -> 0
B15: DBO5 Total | C15: mg/L | D15: 2,0 | E15: 5 | F15: 1 | G15: 5 | I15: 3 | K15: 2 | L15: =+SUM(E15:J15)*K15 -> 28 | N15: =+M15*L15 -> 0
B16: DBO5 Filtrada o soluble | C16: mg/L | D16: 2,0 | E16: 5 | F16: 1 | G16: 5 | I16: 3 | K16: 2 | L16: =+SUM(E16:J16)*K16 -> 28 | N16: =+M16*L16 -> 0
B17: DBO Ultima | C17: mg/L | D17: 2,0 | E17: 5 | F17: 1 | G17: 5 | I17: 3 | K17: 2 | L17: =+SUM(E17:J17)*K17 -> 28 | N17: =+M17*L17 -> 0
B18: DQO Total | C18: mg/L | D18: 2,0 | E18: 5 | F18: 1 | G18: 5 | I18: 3 | K18: 2 | L18: =+SUM(E18:J18)*K18 -> 28 | N18: =+M18*L18 -> 0
B19: Solidos Suspendidos Totales | C19: mg/L | D19: 5,0 | E19: 5 | F19: 1 | G19: 5 | I19: 3 | K19: 2 | L19: =+SUM(E19:J19)*K19 -> 28 | N19: =+M19*L19 -> 0
B20: Solidos suspendidos Volátiles | C20: mg/L | D20: 5,0 | E20: 5 | F20: 1 | G20: 5 | I20: 3 | K20: 2 | L20: =+SUM(E20:J20)*K20 -> 28 | N20: =+M20*L20 -> 0
B21: Sólidos sedimentables | C21: mL/L | D21: 0,1 | I21: 3 | K21: 2 | L21: =+SUM(E21:J21)*K21 -> 6 | N21: =+M21*L21 -> 0
B22: Solidos Disueltos Totales | C22: mg/L | D22: 5 | E22: 5 | G22: 5 | I22: 3 | K22: 2 | L22: =+SUM(E22:J22)*K22 -> 26 | N22: =+M22*L22 -> 0
B23: Turbiedad | C23: NTU | D23: 1,5 | E23: 5 | G23: 5 | I23: 3 | K23: 2 | L23: =+SUM(E23:J23)*K23 -> 26 | N23: =+M23*L23 -> 0
B24: Nitrógeno Total Kjeldahl | C24: mg/L | D24: 2,0 | E24: 5 | F24: 1 | G24: 5 | I24: 3 | K24: 2 | L24: =+SUM(E24:J24)*K24 -> 28 | N24: =+M24*L24 -> 0
B25: Nitrógeno Amoniacal | C25: mg/L | D25: 1,0 | E25: 5 | F25: 1 | G25: 5 | I25: 3 | K25: 2 | L25: =+SUM(E25:J25)*K25 -> 28 | N25: =+M25*L25 -> 0
B26: Nitritos | C26: mg/L | D26: 0,01 | E26: 5 | F26: 1 | G26: 5 | I26: 3 | K26: 2 | L26: =+SUM(E26:J26)*K26 -> 28 | N26: =+M26*L26 -> 0
B27: Nitratos | C27: mg/L | D27: 0,3 | E27: 5 | F27: 1 | G27: 5 | I27: 3 | K27: 2 | L27: =+SUM(E27:J27)*K27 -> 28 | N27: =+M27*L27 -> 0
B28: Fosforo Total | C28: mg/L | D28: 0,1 | E28: 5 | F28: 1 | G28: 5 | I28: 3 | K28: 2 | L28: =+SUM(E28:J28)*K28 -> 28 | N28: =+M28*L28 -> 0
B29: Ortofosfatos | C29: mg/L | D29: 0,1 | E29: 5 | F29: 1 | G29: 5 | I29: 3 | K29: 2 | L29: =+SUM(E29:J29)*K29 -> 28 | N29: =+M29*L29 -> 0
B30: Grasas y Aceites | C30: mg/L | D30: 0,5 | E30: 5 | G30: 5 | I30: 3 | K30: 2 | L30: =+SUM(E30:J30)*K30 -> 26 | N30: =+M30*L30 -> 0
B31: Tensoáctivos aniónico Método SAAM | C31: mg/L | D31: 0,1 | E31: 5 | G31: 5 | I31: 3 | K31: 2 | L31: =+SUM(E31:J31)*K31 -> 26 | N31: =+M31*L31 -> 0
B32: Fenoles | C32: mg/L | D32: 0,15 | E32: 5 | G32: 5 | I32: 3 | K32: 2 | L32: =+SUM(E32:J32)*K32 -> 26 | N32: =+M32*L32 -> 0
B33: Hidrocarburos | C33: mg/L | D33: 0,5 | E33: 5 | I33: 3 | K33: 2 | L33: =+SUM(E33:J33)*K33 -> 16 | N33: =+M33*L33 -> 0
B34: Compuestos semivolátiles fenólicos | C34: mg/L | D34: 0,002 | K34: 2 | L34: =+SUM(E34:J34)*K34 -> 0 | N34: =+M34*L34 -> 0
A35: METALES Y METALOIDES | B35: Aluminio | C35: mg/L | D35: 0,1 | E35: 5 | K35: 2 | L35: =+SUM(E35:J35)*K35 -> 10 | N35: =+M35*L35 -> 0
B36: Arsénico | C36: mg/L | D36: 0,001 | E36: 5 | I36: 3 | K36: 2 | L36: =+SUM(E36:J36)*K36 -> 16 | N36: =+M36*L36 -> 0
B37: Bario | C37: mg/L | D37: 0,002 | E37: 5 | I37: 3 | K37: 2 | L37: =+SUM(E37:J37)*K37 -> 16 | N37: =+M37*L37 -> 0
B38: Berilio | C38: mg/L | D38: 0,001 | E38: 5 | K38: 2 | L38: =+SUM(E38:J38)*K38 -> 10 | N38: =+M38*L38 -> 0
B39: Cadmio | C39: mg/L | D39: 0,001 | E39: 5 | I39: 3 | K39: 2 | L39: =+SUM(E39:J39)*K39 -> 16 | N39: =+M39*L39 -> 0
B40: Zinc | C40: mg/L | D40: 0,002 | E40: 5 | I40: 3 | K40: 2 | L40: =+SUM(E40:J40)*K40 -> 16 | N40: =+M40*L40 -> 0
...

Sheet Q. El Chocho
A1: VARIABLES | C1: UNIDADES | D1: LIMITE DE CUANTIFICACIÓN | E1: CAUCE PRINCIPAL | F1: CAUCE PRINCIPAL RÉPLICA | G1: TRIBUTARIOS | H1: TRIBUTARIOS PUNTOS ADICIONALES | I1: VERTIMIENTOS | J1: DERIVACIONES O CAPTACIONES | K1: No. CAMPAÑAS | L1: No. MUESTRAS | M1: VALOR UNITARIO IVA INCLUIDO | N1: VALOR TOTAL IVA INCLUDO | O1: OSERVACIONES
A2: TOMA MUESTRA | B2: Jornada aforo y toma de muestra en cuerpo lótico | D2: No aplica | E2: 3 | F2: 1 | G2: 7 | H2: 2 | K2: 2 | L2: =+SUM(E2:J2)*K2 -> 26 | N2: =+L2*M2 -> 0
B3: Jornada aforo y toma de muestra en vertimientos | D3: No aplica | I3: 4 | K3: 2 | L3: =+SUM(E3:J3)*K3 -> 8 | N3: =+L3*M3 -> 0
B4: Jornada aforo de caudal (Incluye aforo previo al monitoreo y aforo en derivaciones y/o captaciones) | D4: No aplica | E4: 1 | J4: 3 | K4: 2 | L4: =+SUM(E4:J4)*K4 -> 8 | N4: =+L4*M4 -> 0
B5: Jornada toma de muestra hidrobiologicos | D5: No aplica | E5: 2 | K5: 2 | L5: =+SUM(E5:J5)*K5 -> 4 | N5: =+L5*M5 -> 0
A6: IN SITU | B6: Caudal Área-Velocidad molinete o Flow tracker (Vadeo) | C6: L/s | D6: No aplica | E6: 4 | F6: 1 | G6: 7 | H6: 2 | J6: 3 | K6: 2 | L6: =+SUM(E6:J6)*K6 -> 34 | N6: =+L6*M6 -> 0
B7: Caudal volumétrico | C7: L/s | D7: No aplica | I7: 4 | K7: 2 | L7: =+SUM(E7:J7)*K7 -> 8 | N7: =+L7*M7 -> 0
B8: pH | C8: Unidades de pH | D8: 2,0 | E8: 3 | F8: 1 | G8: 7 | H8: 2 | I8: 4 | K8: 2 | L8: =+SUM(E8:J8)*K8 -> 34 | N8: =+L8*M8 -> 0
B9: Temperatura | C9: °C | D9: No aplica | E9: 3 | F9: 1 | G9: 7 | H9: 2 | I9: 4 | K9: 2 | L9: =+SUM(E9:J9)*K9 -> 34 | N9: =+L9*M9 -> 0
B10: Conductividad Eléctrica | C10: µs/cm | D10: 10 | E10: 3 | F10: 1 | G10: 7 | H10: 2 | I10: 4 | K10: 2 | L10: =+SUM(E10:J10)*K10 -> 34 | N10: =+L10*M10 -> 0
B11: Oxígeno Disuelto | C11: mg/L | D11: 0,05 | E11: 3 | F11: 1 | G11: 7 | H11: 2 | I11: 4 | K11: 2 | L11: =+SUM(E11:J11)*K11 -> 34 | N11: =+L11*M11 -> 0
A12: FISICOQUIMICOS BÁSICOS | B12: Alcalinidad Total | C12: mg/L | D12: 20 | E12: 3 | F12: 1 | G12: 7 | H12: 2 | I12: 4 | K12: 2 | L12: =+SUM(E12:J12)*K12 -> 34 | N12: =+L12*M12 -> 0
B13: Color real | C13: UC | D13: 20 | E13: 3 | K13: 2 | L13: =+SUM(E13:J13)*K13 -> 6 | N13: =+L13*M13 -> 0
B14: Dureza Total | C14: mg/L | D14: 20 | E14: 3 | G14: 7 | K14: 2 | L14: =+SUM(E14:J14)*K14 -> 20 | N14: =+L14*M14 -> 0
B15: DBO5 Total | C15: mg/L | D15: 2,0 | E15: 3 | F15: 1 | G15: 7 | H15: 2 | I15: 4 | K15: 2 | L15: =+SUM(E15:J15)*K15 -> 34 | N15: =+L15*M15 -> 0
B16: DBO5 Filtrada o soluble | C16: mg/L | D16: 2,0 | E16: 3 | F16: 1 | G16: 7 | H16: 2 | I16: 4 | K16: 2 | L16: =+SUM(E16:J16)*K16 -> 34 | N16: =+L16*M16 -> 0
B17: DBO Ultima | C17: mg/L | D17: 2,0 | E17: 3 | F17: 1 | G17: 7 | H17: 2 | I17: 4 | K17: 2 | L17: =+SUM(E17:J17)*K17 -> 34 | N17: =+L17*M17 -> 0
B18: DQO Total | C18: mg/L | D18: 2,0 | E18: 3 | F18: 1 | G18: 7 | H18: 2 | I18: 4 | K18: 2 | L18: =+SUM(E18:J18)*K18 -> 34 | N18: =+L18*M18 -> 0
B19: Solidos Suspendidos Totales | C19: mg/L | D19: 5,0 | E19: 3 | F19: 1 | G19: 7 | H19: 2 | I19: 4 | K19: 2 | L19: =+SUM(E19:J19)*K19 -> 34 | N19: =+L19*M19 -> 0
B20: Solidos suspendidos Volátiles | C20: mg/L | D20: 5,0 | E20: 3 | F20: 1 | G20: 7 | H20: 2 | I20: 4 | K20: 2 | L20: =+SUM(E20:J20)*K20 -> 34 | N20: =+L20*M20 -> 0
B21: Sólidos sedimentables | C21: mL/L | D21: 0,1 | I21: 4 | K21: 2 | L21: =+SUM(E21:J21)*K21 -> 8 | N21: =+L21*M21 -> 0
B22: Solidos Disueltos Totales | C22: mg/L | D22: 5 | E22: 3 | G22: 7 | I22: 4 | K22: 2 | L22: =+SUM(E22:J22)*K22 -> 28 | N22: =+L22*M22 -> 0
B23: Turbiedad | C23: NTU | D23: 1,5 | E23: 3 | G23: 7 | I23: 4 | K23: 2 | L23: =+SUM(E23:J23)*K23 -> 28 | N23: =+L23*M23 -> 0
B24: Nitrógeno Total Kjeldahl | C24: mg/L | D24: 2,0 | E24: 3 | F24: 1 | G24: 7 | H24: 2 | I24: 4 | K24: 2 | L24: =+SUM(E24:J24)*K24 -> 34 | N24: =+L24*M24 -> 0
B25: Nitrógeno Amoniacal | C25: mg/L | D25: 1,0 | E25: 3 | F25: 1 | G25: 7 | H25: 2 | I25: 4 | K25: 2 | L25: =+SUM(E25:J25)*K25 -> 34 | N25: =+L25*M25 -> 0
B26: Nitritos | C26: mg/L | D26: 0,01 | E26: 3 | F26: 1 | G26: 7 | H26: 2 | I26: 4 | K26: 2 | L26: =+SUM(E26:J26)*K26 -> 34 | N26: =+L26*M26 -> 0
B27: Nitratos | C27: mg/L | D27: 0,3 | E27: 3 | F27: 1 | G27: 7 | H27: 2 | I27: 4 | K27: 2 | L27: =+SUM(E27:J27)*K27 -> 34 | N27: =+L27*M27 -> 0
B28: Fosforo Total | C28: mg/L | D28: 0,1 | E28: 3 | F28: 1 | G28: 7 | H28: 2 | I28: 4 | K28: 2 | L28: =+SUM(E28:J28)*K28 -> 34 | N28: =+L28*M28 -> 0
B29: Ortofosfatos | C29: mg/L | D29: 0,1 | E29: 3 | F29: 1 | G29: 7 | H29: 2 | I29: 4 | K29: 2 | L29: =+SUM(E29:J29)*K29 -> 34 | N29: =+L29*M29 -> 0
B30: Grasas y Aceites | C30: mg/L | D30: 0,5 | E30: 3 | G30: 7 | I30: 4 | K30: 2 | L30: =+SUM(E30:J30)*K30 -> 28 | N30: =+L30*M30 -> 0
B31: Tensoáctivos aniónico Método SAAM | C31: mg/L | D31: 0,1 | E31: 3 | G31: 7 | I31: 4 | K31: 2 | L31: =+SUM(E31:J31)*K31 -> 28 | N31: =+L31*M31 -> 0
B32: Fenoles | C32: mg/L | D32: 0,15 | E32: 3 | G32: 7 | I32: 4 | K32: 2 | L32: =+SUM(E32:J32)*K32 -> 28 | N32: =+L32*M32 -> 0
B33: Hidrocarburos | C33: mg/L | D33: 0,5 | E33: 3 | I33: 4 | K33: 2 | L33: =+SUM(E33:J33)*K33 -> 14 | N33: =+L33*M33 -> 0
B34: Compuestos semivolátiles fenólicos | C34: mg/L | D34: 0,002 | E34: 1 | K34: 2 | L34: =+SUM(E34:J34)*K34 -> 2 | N34: =+L34*M34 -> 0
A35: METALES Y METALOIDES | B35: Aluminio | C35: mg/L | D35: 0,1 | E35: 3 | K35: 2 | L35: =+SUM(E35:J35)*K35 -> 6 | N35: =+L35*M35 -> 0
B36: Arsénico | C36: mg/L | D36: 0,001 | E36: 3 | I36: 4 | K36: 2 | L36: =+SUM(E36:J36)*K36 -> 14 | N36: =+L36*M36 -> 0
B37: Bario | C37: mg/L | D37: 0,002 | E37: 3 | I37: 4 | K37: 2 | L37: =+SUM(E37:J37)*K37 -> 14 | N37: =+L37*M37 -> 0
B38: Berilio | C38: mg/L | D38: 0,001 | E38: 3 | K38: 2 | L38: =+SUM(E38:J38)*K38 -> 6 | N38: =+L38*M38 -> 0
B39: Cadmio | C39: mg/L | D39: 0,001 | E39: 3 | I39: 4 | K39: 2 | L39: =+SUM(E39:J39)*K39 -> 14 | N39: =+L39*M39 -> 0
B40: Zinc | C40: mg/L | D40: 0,002 | E40: 3 | I40: 4 | K40: 2 | L40: =+SUM(E40:J40)*K40 -> 14 | N40: =+L40*M40 -> 0
...

Sheet Q. El Yeso
A1: VARIABLES | C1: UNIDADES | D1: LIMITE DE CUANTIFICACIÓN | E1: CAUCE PRINCIPAL | F1: CAUCE PRINCIPAL RÉPLICA | G1: TRIBUTARIOS | H1: TRIBUTARIOS PUNTOS ADICIONALES | I1: VERTIMIENTOS | J1: DERIVACIONES O CAPTACIONES | K1: No. CAMPAÑAS | L1: No. MUESTRAS | M1: VALOR UNITARIO IVA ICLUIDO | N1: VALOR TOTAL IVA INCLUDO | O1: OSERVACIONES
A2: TOMA MUESTRA | B2: Jornada aforo y toma de muestra en cuerpo lótico | D2: No aplica | E2: 3 | F2: 1 | K2: 2 | L2: =+SUM(E2:J2)*K2 -> 8 | N2: =+L2*M2 -> 0
B3: Jornada aforo y toma de muestra en vertimientos | D3: No aplica | I3: 2 | K3: 2 | L3: =+SUM(E3:J3)*K3 -> 4 | N3: =+L3*M3 -> 0
B4: Jornada aforo de caudal (Incluye aforo previo al monitoreo y aforo en derivaciones y/o captaciones) | D4: No aplica | E4: 1 | K4: 2 | L4: =+SUM(E4:J4)*K4 -> 2 | N4: =+L4*M4 -> 0
B5: Jornada toma de muestra hidrobiologicos | D5: No aplica | E5: 2 | K5: 2 | L5: =+SUM(E5:J5)*K5 -> 4 | N5: =+L5*M5 -> 0
A6: IN SITU | B6: Caudal Área-Velocidad molinete o Flow tracker (Vadeo) | C6: L/s | D6: No aplica | E6: 4 | F6: 1 | K6: 2 | L6: =+SUM(E6:J6)*K6 -> 10 | N6: =+L6*M6 -> 0
B7: Caudal volumétrico | C7: L/s | D7: No aplica | I7: 2 | K7: 2 | L7: =+SUM(E7:J7)*K7 -> 4 | N7: =+L7*M7 -> 0
B8: pH | C8: Unidades de pH | D8: 2,0 | E8: 3 | F8: 1 | I8: 2 | K8: 2 | L8: =+SUM(E8:J8)*K8 -> 12 | N8: =+L8*M8 -> 0
B9: Temperatura | C9: °C | D9: No aplica | E9: 3 | F9: 1 | I9: 2 | K9: 2 | L9: =+SUM(E9:J9)*K9 -> 12 | N9: =+L9*M9 -> 0
B10: Conductividad Eléctrica | C10: µs/cm | D10: 10 | E10: 3 | F10: 1 | I10: 2 | K10: 2 | L10: =+SUM(E10:J10)*K10 -> 12 | N10: =+L10*M10 -> 0
B11: Oxígeno Disuelto | C11: mg/L | D11: 0,05 | E11: 3 | F11: 1 | I11: 2 | K11: 2 | L11: =+SUM(E11:J11)*K11 -> 12 | N11: =+L11*M11 -> 0
A12: FISICOQUIMICOS BÁSICOS | B12: Alcalinidad Total | C12: mg/L | D12: 20 | E12: 3 | F12: 1 | I12: 2 | K12: 2 | L12: =+SUM(E12:J12)*K12 -> 12 | N12: =+L12*M12 -> 0
B13: Color real | C13: UC | D13: 20 | E13: 3 | K13: 2 | L13: =+SUM(E13:J13)*K13 -> 6 | N13: =+L13*M13 -> 0
B14: Dureza Total | C14: mg/L | D14: 20 | E14: 3 | K14: 2 | L14: =+SUM(E14:J14)*K14 -> 6 | N14: =+L14*M14 -> 0
B15: DBO5 Total | C15: mg/L | D15: 2,0 | E15: 3 | F15: 1 | I15: 2 | K15: 2 | L15: =+SUM(E15:J15)*K15 -> 12 | N15: =+L15*M15 -> 0
B16: DBO5 Filtrada o soluble | C16: mg/L | D16: 2,0 | E16: 3 | F16: 1 | I16: 2 | K16: 2 | L16: =+SUM(E16:J16)*K16 -> 12 | N16: =+L16*M16 -> 0
B17: DBO Ultima | C17: mg/L | D17: 2,0 | E17: 3 | F17: 1 | I17: 2 | K17: 2 | L17: =+SUM(E17:J17)*K17 -> 12 | N17: =+L17*M17 -> 0
B18: DQO Total | C18: mg/L | D18: 2,0 | E18: 3 | F18: 1 | I18: 2 | K18: 2 | L18: =+SUM(E18:J18)*K18 -> 12 | N18: =+L18*M18 -> 0
B19: Solidos Suspendidos Totales | C19: mg/L | D19: 5,0 | E19: 3 | F19: 1 | I19: 2 | K19: 2 | L19: =+SUM(E19:J19)*K19 -> 12 | N19: =+L19*M19 -> 0
B20: Solidos suspendidos Volátiles | C20: mg/L | D20: 5,0 | E20: 3 | F20: 1 | I20: 2 | K20: 2 | L20: =+SUM(E20:J20)*K20 -> 12 | N20: =+L20*M20 -> 0
B21: Sólidos sedimentables | C21: mL/L | D21: 0,1 | I21: 2 | K21: 2 | L21: =+SUM(E21:J21)*K21 -> 4 | N21: =+L21*M21 -> 0
B22: Solidos Disueltos Totales | C22: mg/L | D22: 5 | E22: 3 | I22: 2 | K22: 2 | L22: =+SUM(E22:J22)*K22 -> 10 | N22: =+L22*M22 -> 0
B23: Turbiedad | C23: NTU | D23: 1,5 | E23: 3 | I23: 2 | K23: 2 | L23: =+SUM(E23:J23)*K23 -> 10 | N23: =+L23*M23 -> 0
B24: Nitrógeno Total Kjeldahl | C24: mg/L | D24: 2,0 | E24: 3 | F24: 1 | I24: 2 | K24: 2 | L24: =+SUM(E24:J24)*K24 -> 12 | N24: =+L24*M24 -> 0
B25: Nitrógeno Amoniacal | C25: mg/L | D25: 1,0 | E25: 3 | F25: 1 | I25: 2 | K25: 2 | L25: =+SUM(E25:J25)*K25 -> 12 | N25: =+L25*M25 -> 0
B26: Nitritos | C26: mg/L | D26: 0,01 | E26: 3 | F26: 1 | I26: 2 | K26: 2 | L26: =+SUM(E26:J26)*K26 -> 12 | N26: =+L26*M26 -> 0
B27: Nitratos | C27: mg/L | D27: 0,3 | E27: 3 | F27: 1 | I27: 2 | K27: 2 | L27: =+SUM(E27:J27)*K27 -> 12 | N27: =+L27*M27 -> 0
B28: Fosforo Total | C28: mg/L | D28: 0,1 | E28: 3 | F28: 1 | I28: 2 | K28: 2 | L28: =+SUM(E28:J28)*K28 -> 12 | N28: =+L28*M28 -> 0
B29: Ortofosfatos | C29: mg/L | D29: 0,1 | E29: 3 | F29: 1 | I29: 2 | K29: 2 | L29: =+SUM(E29:J29)*K29 -> 12 | N29: =+L29*M29 -> 0
B30: Grasas y Aceites | C30: mg/L | D30: 0,5 | E30: 3 | I30: 2 | K30: 2 | L30: =+SUM(E30:J30)*K30 -> 10 | N30: =+L30*M30 -> 0
B31: Tensoáctivos aniónico Método SAAM | C31: mg/L | D31: 0,1 | E31: 3 | I31: 2 | K31: 2 | L31: =+SUM(E31:J31)*K31 -> 10 | N31: =+L31*M31 -> 0
B32: Fenoles | C32: mg/L | D32: 0,15 | E32: 3 | I32: 2 | K32: 2 | L32: =+SUM(E32:J32)*K32 -> 10 | N32: =+L32*M32 -> 0
B33: Hidrocarburos | C33: mg/L | D33: 0,5 | E33: 3 | I33: 2 | K33: 2 | L33: =+SUM(E33:J33)*K33 -> 10 | N33: =+L33*M33 -> 0
B34: Compuestos semivolátiles fenólicos | C34: mg/L | D34: 0,002 | K34: 2 | L34: =+SUM(E34:J34)*K34 -> 0 | N34: =+L34*M34 -> 0
A35: METALES Y METALOIDES | B35: Aluminio | C35: mg/L | D35: 0,1 | E35: 3 | K35: 2 | L35: =+SUM(E35:J35)*K35 -> 6 | N35: =+L35*M35 -> 0
B36: Arsénico | C36: mg/L | D36: 0,001 | E36: 3 | I36: 2 | K36: 2 | L36: =+SUM(E36:J36)*K36 -> 10 | N36: =+L36*M36 -> 0
B37: Bario | C37: mg/L | D37: 0,002 | E37: 3 | I37: 2 | K37: 2 | L37: =+SUM(E37:J37)*K37 -> 10 | N37: =+L37*M37 -> 0
B38: Berilio | C38: mg/L | D38: 0,001 | E38: 3 | K38: 2 | L38: =+SUM(E38:J38)*K38 -> 6 | N38: =+L38*M38 -> 0
B39: Cadmio | C39: mg/L | D39: 0,001 | E39: 3 | I39: 2 | K39: 2 | L39: =+SUM(E39:J39)*K39 -> 10 | N39: =+L39*M39 -> 0
B40: Zinc | C40: mg/L | D40: 0,002 | E40: 3 | I40: 2 | K40: 2 | L40: =+SUM(E40:J40)*K40 -> 10 | N40: =+L40*M40 -> 0
...

Sheet Q. Todos Los Santos
A1: VARIABLES | C1: UNIDADES | D1: LIMITE DE CUANTIFICACIÓN | E1: CAUCE PRINCIPAL | F1: CAUCE PRINCIPAL RÉPLICA | G1: TRIBUTARIOS | H1: TRIBUTARIOS PUNTOS ADICIONALES | I1: VERTIMIENTOS | J1: DERIVACIONES O CAPTACIONES | K1: No. CAMPAÑAS | L1: No. MUESTRAS | M1: VALOR UNITARIO IVA INCLUIDO | N1: VALOR TOTAL IVA INCLUDO | O1: OSERVACIONES
A2: TOMA MUESTRA | B2: Jornada aforo y toma de muestra en cuerpo lótico | D2: No aplica | E2: 4 | F2: 1 | G2: 2 | H2: 2 | K2: 2 | L2: =+SUM(E2:J2)*K2 -> 18 | N2: =+L2*M2 -> 0
B3: Jornada aforo y toma de muestra en vertimientos | D3: No aplica | I3: 4 | K3: 2 | L3: =+SUM(E3:J3)*K3 -> 8 | N3: =+L3*M3 -> 0
B4: Jornada aforo de caudal (Incluye aforo previo al monitoreo y aforo en derivaciones y/o captaciones) | D4: No aplica | E4: 1 | J4: 1 | K4: 2 | L4: =+SUM(E4:J4)*K4 -> 4 | N4: =+L4*M4 -> 0
B5: Jornada toma de muestra hidrobiologicos | D5: No aplica | E5: 2 | K5: 2 | L5: =+SUM(E5:J5)*K5 -> 4 | N5: =+L5*M5 -> 0
A6: IN SITU | B6: Caudal Área-Velocidad molinete o Flow tracker (Vadeo) | C6: L/s | D6: No aplica | E6: 5 | F6: 1 | G6: 2 | H6: 2 | J6: 1 | K6: 2 | L6: =+SUM(E6:J6)*K6 -> 22 | N6: =+L6*M6 -> 0
B7: Caudal volumétrico | C7: L/s | D7: No aplica | I7: 4 | K7: 2 | L7: =+SUM(E7:J7)*K7 -> 8 | N7: =+L7*M7 -> 0
B8: pH | C8: Unidades de pH | D8: 2,0 | E8: 4 | F8: 1 | G8: 2 | H8: 2 | I8: 4 | K8: 2 | L8: =+SUM(E8:J8)*K8 -> 26 | N8: =+L8*M8 -> 0
B9: Temperatura | C9: °C | D9: No aplica | E9: 4 | F9: 1 | G9: 2 | H9: 2 | I9: 4 | K9: 2 | L9: =+SUM(E9:J9)*K9 -> 26 | N9: =+L9*M9 -> 0
B10: Conductividad Eléctrica | C10: µs/cm | D10: 10 | E10: 4 | F10: 1 | G10: 2 | H10: 2 | I10: 4 | K10: 2 | L10: =+SUM(E10:J10)*K10 -> 26 | N10: =+L10*M10 -> 0
B11: Oxígeno Disuelto | C11: mg/L | D11: 0,05 | E11: 4 | F11: 1 | G11: 2 | H11: 2 | I11: 4 | K11: 2 | L11: =+SUM(E11:J11)*K11 -> 26 | N11: =+L11*M11 -> 0
A12: FISICOQUIMICOS BÁSICOS | B12: Alcalinidad Total | C12: mg/L | D12: 20 | E12: 4 | F12: 1 | G12: 2 | H12: 2 | I12: 4 | K12: 2 | L12: =+SUM(E12:J12)*K12 -> 26 | N12: =+L12*M12 -> 0
B13: Color real | C13: UC | D13: 20 | E13: 4 | I13: 4 | K13: 2 | L13: =+SUM(E13:J13)*K13 -> 16 | N13: =+L13*M13 -> 0
B14: Dureza Total | C14: mg/L | D14: 20 | E14: 4 | G14: 2 | K14: 2 | L14: =+SUM(E14:J14)*K14 -> 12 | N14: =+L14*M14 -> 0
B15: DBO5 Total | C15: mg/L | D15: 2,0 | E15: 4 | F15: 1 | G15: 2 | H15: 2 | I15: 4 | K15: 2 | L15: =+SUM(E15:J15)*K15 -> 26 | N15: =+L15*M15 -> 0
B16: DBO5 Filtrada o soluble | C16: mg/L | D16: 2,0 | E16: 4 | F16: 1 | G16: 2 | H16: 2 | I16: 4 | K16: 2 | L16: =+SUM(E16:J16)*K16 -> 26 | N16: =+L16*M16 -> 0
B17: DBO Ultima | C17: mg/L | D17: 2,0 | E17: 4 | F17: 1 | G17: 2 | H17: 2 | I17: 4 | K17: 2 | L17: =+SUM(E17:J17)*K17 -> 26 | N17: =+L17*M17 -> 0
B18: DQO Total | C18: mg/L | D18: 2,0 | E18: 4 | F18: 1 | G18: 2 | H18: 2 | I18: 4 | K18: 2 | L18: =+SUM(E18:J18)*K18 -> 26 | N18: =+L18*M18 -> 0
B19: Solidos Suspendidos Totales | C19: mg/L | D19: 5,0 | E19: 4 | F19: 1 | G19: 2 | H19: 2 | I19: 4 | K19: 2 | L19: =+SUM(E19:J19)*K19 -> 26 | N19: =+L19*M19 -> 0
B20: Solidos suspendidos Volátiles | C20: mg/L | D20: 5,0 | E20: 4 | F20: 1 | G20: 2 | H20: 2 | I20: 4 | K20: 2 | L20: =+SUM(E20:J20)*K20 -> 26 | N20: =+L20*M20 -> 0
B21: Sólidos sedimentables | C21: mL/L | D21: 0,1 | I21: 4 | K21: 2 | L21: =+SUM(E21:J21)*K21 -> 8 | N21: =+L21*M21 -> 0
B22: Solidos Disueltos Totales | C22: mg/L | D22: 5 | E22: 4 | G22: 2 | I22: 4 | K22: 2 | L22: =+SUM(E22:J22)*K22 -> 20 | N22: =+L22*M22 -> 0
B23: Turbiedad | C23: NTU | D23: 1,5 | E23: 4 | G23: 2 | I23: 4 | K23: 2 | L23: =+SUM(E23:J23)*K23 -> 20 | N23: =+L23*M23 -> 0
B24: Nitrógeno Total Kjeldahl | C24: mg/L | D24: 2,0 | E24: 4 | F24: 1 | G24: 2 | H24: 2 | I24: 4 | K24: 2 | L24: =+SUM(E24:J24)*K24 -> 26 | N24: =+L24*M24 -> 0
B25: Nitrógeno Amoniacal | C25: mg/L | D25: 1,0 | E25: 4 | F25: 1 | G25: 2 | H25: 2 | I25: 4 | K25: 2 | L25: =+SUM(E25:J25)*K25 -> 26 | N25: =+L25*M25 -> 0
B26: Nitritos | C26: mg/L | D26: 0,01 | E26: 4 | F26: 1 | G26: 2 | H26: 2 | I26: 4 | K26: 2 | L26: =+SUM(E26:J26)*K26 -> 26 | N26: =+L26*M26 -> 0
B27: Nitratos | C27: mg/L | D27: 0,3 | E27: 4 | F27: 1 | G27: 2 | H27: 2 | I27: 4 | K27: 2 | L27: =+SUM(E27:J27)*K27 -> 26 | N27: =+L27*M27 -> 0
B28: Fosforo Total | C28: mg/L | D28: 0,1 | E28: 4 | F28: 1 | G28: 2 | H28: 2 | I28: 4 | K28: 2 | L28: =+SUM(E28:J28)*K28 -> 26 | N28: =+L28*M28 -> 0
B29: Ortofosfatos | C29: mg/L | D29: 0,1 | E29: 4 | F29: 1 | G29: 2 | H29: 2 | I29: 4 | K29: 2 | L29: =+SUM(E29:J29)*K29 -> 26 | N29: =+L29*M29 -> 0
B30: Grasas y Aceites | C30: mg/L | D30: 0,5 | E30: 4 | G30: 2 | I30: 4 | K30: 2 | L30: =+SUM(E30:J30)*K30 -> 20 | N30: =+L30*M30 -> 0
B31: Tensoáctivos aniónico Método SAAM | C31: mg/L | D31: 0,1 | E31: 4 | G31: 2 | I31: 4 | K31: 2 | L31: =+SUM(E31:J31)*K31 -> 20 | N31: =+L31*M31 -> 0
B32: Fenoles | C32: mg/L | D32: 0,15 | E32: 4 | G32: 2 | I32: 4 | K32: 2 | L32: =+SUM(E32:J32)*K32 -> 20 | N32: =+L32*M32 -> 0
B33: Hidrocarburos | C33: mg/L | D33: 0,5 | E33: 4 | I33: 4 | K33: 2 | L33: =+SUM(E33:J33)*K33 -> 16 | N33: =+L33*M33 -> 0
B34: Compuestos semivolátiles fenólicos | C34: mg/L | D34: 0,002 | E34: 1 | K34: 2 | L34: =+SUM(E34:J34)*K34 -> 2 | N34: =+L34*M34 -> 0
A35: METALES Y METALOIDES | B35: Aluminio | C35: mg/L | D35: 0,1 | E35: 4 | K35: 2 | L35: =+SUM(E35:J35)*K35 -> 8 | N35: =+L35*M35 -> 0
B36: Arsénico | C36: mg/L | D36: 0,001 | E36: 4 | I36: 4 | K36: 2 | L36: =+SUM(E36:J36)*K36 -> 16 | N36: =+L36*M36 -> 0
B37: Bario | C37: mg/L | D37: 0,002 | E37: 4 | I37: 4 | K37: 2 | L37: =+SUM(E37:J37)*K37 -> 16 | N37: =+L37*M37 -> 0
B38: Berilio | C38: mg/L | D38: 0,001 | E38: 4 | K38: 2 | L38: =+SUM(E38:J38)*K38 -> 8 | N38: =+L38*M38 -> 0
B39: Cadmio | C39: mg/L | D39: 0,001 | E39: 4 | I39: 4 | K39: 2 | L39: =+SUM(E39:J39)*K39 -> 16 | N39: =+L39*M39 -> 0
B40: Zinc | C40: mg/L | D40: 0,002 | E40: 4 | I40: 4 | K40: 2 | L40: =+SUM(E40:J40)*K40 -> 16 | N40: =+L40*M40 -> 0
...

Sheet Zanjón Chimbique (Z. Zumbáculo)
A1: VARIABLES | C1: UNIDADES | D1: LIMITE DE CUANTIFICACIÓN | E1: CAUCE PRINCIPAL | F1: CAUCE PRINCIPAL RÉPLICA | G1: TRIBUTARIOS | H1: TRIBUTARIOS PUNTOS ADICIONALES | I1: VERTIMIENTOS | J1: DERIVACIONES O CAPTACIONES | K1: No. CAMPAÑAS | L1: No. MUESTRAS | M1: VALOR UNITARIO IVA INCLUIDO | N1: VALOR TOTAL IVA INCLUDO | O1: OSERVACIONES
A2: TOMA MUESTRA | B2: Jornada aforo y toma de muestra en cuerpo lótico | D2: No aplica | E2: 4 | F2: 1 | G2: 6 | H2: 2 | K2: 2 | L2: =+SUM(E2:J2)*K2 -> 26 | N2: =+L2*M2 -> 0
B3: Jornada aforo y toma de muestra en vertimientos | D3: No aplica | I3: 3 | K3: 2 | L3: =+SUM(E3:J3)*K3 -> 6 | N3: =+L3*M3 -> 0
B4: Jornada aforo de caudal (Incluye aforo previo al monitoreo y aforo en derivaciones y/o captaciones) | D4: No aplica | E4: 1 | J4: 2 | K4: 2 | L4: =+SUM(E4:J4)*K4 -> 6 | N4: =+L4*M4 -> 0
B5: Jornada toma de muestra hidrobiologicos | D5: No aplica | E5: 2 | K5: 2 | L5: =+SUM(E5:J5)*K5 -> 4 | N5: =+L5*M5 -> 0
A6: IN SITU | B6: Caudal Área-Velocidad molinete o Flow tracker (Vadeo) | C6: L/s | D6: No aplica | E6: 5 | F6: 1 | G6: 6 | H6: 2 | J6: 2 | K6: 2 | L6: =+SUM(E6:J6)*K6 -> 32 | N6: =+L6*M6 -> 0
B7: Caudal volumétrico | C7: L/s | D7: No aplica | I7: 3 | K7: 2 | L7: =+SUM(E7:J7)*K7 -> 6 | N7: =+L7*M7 -> 0
B8: pH | C8: Unidades de pH | D8: 2,0 | E8: 4 | F8: 1 | G8: 6 | H8: 2 | I8: 3 | K8: 2 | L8: =+SUM(E8:J8)*K8 -> 32 | N8: =+L8*M8 -> 0
B9: Temperatura | C9: °C | D9: No aplica | E9: 4 | F9: 1 | G9: 6 | H9: 2 | I9: 3 | K9: 2 | L9: =+SUM(E9:J9)*K9 -> 32 | N9: =+L9*M9 -> 0
B10: Conductividad Eléctrica | C10: µs/cm | D10: 10 | E10: 4 | F10: 1 | G10: 6 | H10: 2 | I10: 3 | K10: 2 | L10: =+SUM(E10:J10)*K10 -> 32 | N10: =+L10*M10 -> 0
B11: Oxígeno Disuelto | C11: mg/L | D11: 0,05 | E11: 4 | F11: 1 | G11: 6 | H11: 2 | I11: 3 | K11: 2 | L11: =+SUM(E11:J11)*K11 -> 32 | N11: =+L11*M11 -> 0
A12: FISICOQUIMICOS BÁSICOS | B12: Alcalinidad Total | C12: mg/L | D12: 20 | E12: 4 | F12: 1 | G12: 6 | H12: 2 | I12: 3 | K12: 2 | L12: =+SUM(E12:J12)*K12 -> 32 | N12: =+L12*M12 -> 0
B13: Color real | C13: UC | D13: 20 | E13: 4 | I13: 3 | K13: 2 | L13: =+SUM(E13:J13)*K13 -> 14 | N13: =+L13*M13 -> 0
B14: Dureza Total | C14: mg/L | D14: 20 | E14: 4 | G14: 6 | K14: 2 | L14: =+SUM(E14:J14)*K14 -> 20 | N14: =+L14*M14 -> 0
B15: DBO5 Total | C15: mg/L | D15: 2,0 | E15: 4 | F15: 1 | G15: 6 | H15: 2 | I15: 3 | K15: 2 | L15: =+SUM(E15:J15)*K15 -> 32 | N15: =+L15*M15 -> 0
B16: DBO5 Filtrada o soluble | C16: mg/L | D16: 2,0 | E16: 4 | F16: 1 | G16: 6 | H16: 2 | I16: 3 | K16: 2 | L16: =+SUM(E16:J16)*K16 -> 32 | N16: =+L16*M16 -> 0
B17: DBO Ultima | C17: mg/L | D17: 2,0 | E17: 4 | F17: 1 | G17: 6 | H17: 2 | I17: 3 | K17: 2 | L17: =+SUM(E17:J17)*K17 -> 32 | N17: =+L17*M17 -> 0
B18: DQO Total | C18: mg/L | D18: 2,0 | E18: 4 | F18: 1 | G18: 6 | H18: 2 | I18: 3 | K18: 2 | L18: =+SUM(E18:J18)*K18 -> 32 | N18: =+L18*M18 -> 0
B19: Solidos Suspendidos Totales | C19: mg/L | D19: 5,0 | E19: 4 | F19: 1 | G19: 6 | H19: 2 | I19: 3 | K19: 2 | L19: =+SUM(E19:J19)*K19 -> 32 | N19: =+L19*M19 -> 0
B20: Solidos suspendidos Volátiles | C20: mg/L | D20: 5,0 | E20: 4 | F20: 1 | G20: 6 | H20: 2 | I20: 3 | K20: 2 | L20: =+SUM(E20:J20)*K20 -> 32 | N20: =+L20*M20 -> 0
B21: Sólidos sedimentables | C21: mL/L | D21: 0,1 | I21: 3 | K21: 2 | L21: =+SUM(E21:J21)*K21 -> 6 | N21: =+L21*M21 -> 0
B22: Solidos Disueltos Totales | C22: mg/L | D22: 5 | E22: 4 | G22: 6 | I22: 3 | K22: 2 | L22: =+SUM(E22:J22)*K22 -> 26 | N22: =+L22*M22 -> 0
B23: Turbiedad | C23: NTU | D23: 1,5 | E23: 4 | G23: 6 | I23: 3 | K23: 2 | L23: =+SUM(E23:J23)*K23 -> 26 | N23: =+L23*M23 -> 0
B24: Nitrógeno Total Kjeldahl | C24: mg/L | D24: 2,0 | E24: 4 | F24: 1 | G24: 6 | H24: 2 | I24: 3 | K24: 2 | L24: =+SUM(E24:J24)*K24 -> 32 | N24: =+L24*M24 -> 0
B25: Nitrógeno Amoniacal | C25: mg/L | D25: 1,0 | E25: 4 | F25: 1 | G25: 6 | H25: 2 | I25: 3 | K25: 2 | L25: =+SUM(E25:J25)*K25 -> 32 | N25: =+L25*M25 -> 0
B26: Nitritos | C26: mg/L | D26: 0,01 | E26: 4 | F26: 1 | G26: 6 | H26: 2 | I26: 3 | K26: 2 | L26: =+SUM(E26:J26)*K26 -> 32 | N26: =+L26*M26 -> 0
B27: Nitratos | C27: mg/L | D27: 0,3 | E27: 4 | F27: 1 | G27: 6 | H27: 2 | I27: 3 | K27: 2 | L27: =+SUM(E27:J27)*K27 -> 32 | N27: =+L27*M27 -> 0
B28: Fosforo Total | C28: mg/L | D28: 0,1 | E28: 4 | F28: 1 | G28: 6 | H28: 2 | I28: 3 | K28: 2 | L28: =+SUM(E28:J28)*K28 -> 32 | N28: =+L28*M28 -> 0
B29: Ortofosfatos | C29: mg/L | D29: 0,1 | E29: 4 | F29: 1 | G29: 6 | H29: 2 | I29: 3 | K29: 2 | L29: =+SUM(E29:J29)*K29 -> 32 | N29: =+L29*M29 -> 0
B30: Grasas y Aceites | C30: mg/L | D30: 0,5 | E30: 4 | G30: 6 | I30: 3 | K30: 2 | L30: =+SUM(E30:J30)*K30 -> 26 | N30: =+L30*M30 -> 0
B31: Tensoáctivos aniónico Método SAAM | C31: mg/L | D31: 0,1 | E31: 4 | G31: 6 | I31: 3 | K31: 2 | L31: =+SUM(E31:J31)*K31 -> 26 | N31: =+L31*M31 -> 0
B32: Fenoles | C32: mg/L | D32: 0,15 | E32: 4 | G32: 6 | I32: 3 | K32: 2 | L32: =+SUM(E32:J32)*K32 -> 26 | N32: =+L32*M32 -> 0
B33: Hidrocarburos | C33: mg/L | D33: 0,5 | E33: 4 | I33: 3 | K33: 2 | L33: =+SUM(E33:J33)*K33 -> 14 | N33: =+L33*M33 -> 0
B34: Compuestos semivolátiles fenólicos | C34: mg/L | D34: 0,002 | K34: 2 | L34: =+SUM(E34:J34)*K34 -> 0 | N34: =+L34*M34 -> 0
A35: METALES Y METALOIDES | B35: Aluminio | C35: mg/L | D35: 0,1 | E35: 4 | K35: 2 | L35: =+SUM(E35:J35)*K35 -> 8 | N35: =+L35*M35 -> 0
B36: Arsénico | C36: mg/L | D36: 0,001 | E36: 4 | I36: 3 | K36: 2 | L36: =+SUM(E36:J36)*K36 -> 14 | N36: =+L36*M36 -> 0
B37: Bario | C37: mg/L | D37: 0,002 | E37: 4 | I37: 3 | K37: 2 | L37: =+SUM(E37:J37)*K37 -> 14 | N37: =+L37*M37 -> 0
B38: Berilio | C38: mg/L | D38: 0,001 | E38: 4 | K38: 2 | L38: =+SUM(E38:J38)*K38 -> 8 | N38: =+L38*M38 -> 0
B39: Cadmio | C39: mg/L | D39: 0,001 | E39: 4 | I39: 3 | K39: 2 | L39: =+SUM(E39:J39)*K39 -> 14 | N39: =+L39*M39 -> 0
B40: Zinc | C40: mg/L | D40: 0,002 | E40: 4 | I40: 3 | K40: 2 | L40: =+SUM(E40:J40)*K40 -> 14 | N40: =+L40*M40 -> 0
...
