Workbook
Name _Hlk113267989: RESUMEN!#REF!
Name A: '1. PALACIO DE JUSTICIA DE CALI'!#REF!
Name A: #REF!
Name A: #REF!
Name A: #REF!
Name ARANCEL: '1. PALACIO DE JUSTICIA DE CALI'!#REF!
Name ARANCEL: #REF!
Name ARANCEL: #REF!
Name ARANCEL: #REF!
Name DIANA: #REF!
Name DIANA: #REF!
Name DOLLAR: '1. PALACIO DE JUSTICIA DE CALI'!#REF!
Name DOLLAR: #REF!
Name DOLLAR: #REF!
Name DOLLAR: #REF!
Name FLETE: '1. PALACIO DE JUSTICIA DE CALI'!#REF!
Name FLETE: #REF!
Name FLETE: #REF!
Name FLETE: #REF!
Name GANANCIA: '1. PALACIO DE JUSTICIA DE CALI'!#REF!
Name GANANCIA: #REF!
Name GANANCIA: #REF!
Name GANANCIA: #REF!
Name IMPORTE: '1. PALACIO DE JUSTICIA DE CALI'!#REF!
Name IMPORTE: #REF!
Name IMPORTE: #REF!
Name IMPORTE: #REF!
Name MIAMI: '1. PALACIO DE JUSTICIA DE CALI'!#REF!
Name MIAMI: #REF!
Name MIAMI: #REF!
Name MIAMI: #REF!
Name ORIGINAL: #REF!
Name ORIGINAL: #REF!
Name ORIGINAL: #REF!
Name OTRO: #REF!
Name OTRO: #REF!
Name OTRO: #REF!
Name PORCENTAJE: '1. PALACIO DE JUSTICIA DE CALI'!#REF!
Name PORCENTAJE: #REF!
Name PORCENTAJE: #REF!
Name PORCENTAJE: #REF!
Name PROCENTAJE: '1. PALACIO DE JUSTICIA DE CALI'!#REF!
Name PROCENTAJE: #REF!
Name PROCENTAJE: #REF!
Name PROCENTAJE: #REF!
Name PUNTO: '1. PALACIO DE JUSTICIA DE CALI'!#REF!
Name PUNTO: #REF!
Name PUNTO: #REF!
Name PUNTO: #REF!
Name TRM: '1. PALACIO DE JUSTICIA DE CALI'!#REF!
Name TRM: #REF!
Name TRM: #REF!
Name TRM: #REF!
Name TULUA: #REF!
Name TULUA: #REF!
Name UTE: '1. PALACIO DE JUSTICIA DE CALI'!#REF!
Name UTE: #REF!
Name UTE: #REF!
Name UTE: #REF!
Name UTI: '1. PALACIO DE JUSTICIA DE CALI'!#REF!

Sheet RESUMEN
A2: ESTUDIO DE MERCADO
A3: ITEM | B3: EQUIPO | C3: VALOR TOTAL
A4: A | B4: MANTENIMIENTO PREVENTIVO
A5: 1 | B5: Cali - Palacio de Justicia "Pedro Elias Serrano Abadia" de Cali - Cra 10 # 12 - 15
A6: 1.1 | B6: SISTEMAS CCTV (Bosch - Dahua) | C6: =SUM('1. PALACIO DE JUSTICIA DE CALI'!G5:G23) -> 45852731
A7: 1.2 | B7: SISTEMA CONTROL ACCESO BIMETRICO DE PUERTAS | C7: =SUM('1. PALACIO DE JUSTICIA DE CALI'!G25:G37) -> 40561421
A8: 1.3 | B8: SISTEMA DE AUDIO BOSCH | C8: =SUM('1. PALACIO DE JUSTICIA DE CALI'!G39:G54) -> 34383739
A9: 1.4 | B9: TABLEROS DE CONTROL DE ILUMINACIÓN | C9: =SUM('1. PALACIO DE JUSTICIA DE CALI'!G56:G57) -> 8905565
A10: 1.5 | B10: SISTEMAS DE APOYO A ARCOS Y DETECTORES MANUALES | C10: =SUM('1. PALACIO DE JUSTICIA DE CALI'!G57:G58) -> 6475637
A11: TOTAL INMUEBLE | C11: =SUM(C6:C10) -> 136179093
A12: 2 | B12: Cali - Palacio Nacional - Cra 4 # 12-40
A13: 2.1 | B13: SISTEMA CCTV | C13: =SUM('2. PALACIO NACIONAL CALI'!G5:G16) -> 16358436
A14: 2.2 | B14: SISTEMAS DE APOYO A ARCOS Y DETECTORES MANUALES | C14: =SUM('2. PALACIO NACIONAL CALI'!G18:G18) -> 551558
A15: TOTAL INMUEBLE | C15: =SUM(C13:C14) -> 16909994
A16: 3 | B16: Cali - Edificio Ley de Tierras Av 3A Nte # 24-24
A17: 3.1 | B17: SISTEMA CCTV | C17: =SUM('3. LEY DE TIERRAS CALI'!G5:G20) -> 11614463
A18: 3.2 | B18: SISTEMAS DE APOYO A REQUISAS RX, ARCOS Y DETECTORES MANUALES | C18: =+'3. LEY DE TIERRAS CALI'!G22 -> 300541
A19: TOTAL INMUEBLE | C19: =SUM(C17:C18) -> 11915004
A20: 4 | B20: Cali - Edificio Entreceibas Calle 8 # 1-16
A21: 4.1 | B21: SISTEMA CCTV | C21: =SUM('4. ENTRECEIBAS - CALI'!G5:G14) -> 11350065
A22: 4.2 | B22: SISTEMAS DE APOYO A REQUISAS RX, ARCOS Y DETECTORES MANUALES | C22: =+'4. ENTRECEIBAS - CALI'!G16 -> 384968
A23: TOTAL INMUEBLE | C23: =SUM(C21:C22) -> 11735033
A24: 5 | B24: Cali - Edificio Juzgados Penales para Adolescentes - Avenida 5CN # 24-38
A25: 5.1 | B25: SISTEMA CCTV | C25: =SUM('5. ADOLESCENTES - CALI'!G5:G15) -> 11060001
A26: TOTAL INMUEBLE | C26: =SUM(C25) -> 11060001
A27: 6 | B27: Buenaventura - Palacio Nacional - Calle 3 # 2A-35
A28: 6.1 | B28: SISTEMA CCTV | C28: =SUM('6. BUENAVENTURA - PALACIO NAL'!G6:G17) -> 14497729
A29: 6.2 | B29: SISTEMAS DE APOYO A REQUISAS RX, ARCOS Y DETECTORES MANUALES | C29: =SUM('6. BUENAVENTURA - PALACIO NAL'!G19:G20) -> 799155
A30: TOTAL INMUEBLE | C30: =SUM(C28:C29) -> 15296884
A31: 7 | B31: Buenaventura - EDIFICIO JIRETH - Calle 3 #5-35
A32: 7.1 | B32: SISTEMAS DE APOYO A REQUISAS RX, ARCOS Y DETECTORES MANUALES | C32: =SUM('7. BUENAVENTURA - JIRETH'!G6:G7) -> 942856
A33: TOTAL INMUEBLE | C33: =SUM(C32) -> 942856
A34: 8 | B34: Palmira - Palacio Justicia - Cra 29 # 22 -43
A35: 8.1 | B35: SISTEMA CCTV | C35: =SUM('8. PALMIRA - PALACIO JUSTICIA'!F5:F16) -> 13685005
A36: TOTAL INMUEBLE | C36: =SUM(C35) -> 13685005
A37: 9 | B37: Palmira - Edificio Sede Familia - Calle 22 No. 28A -10
A38: 9.1 | B38: SISTEMA CCTV | C38: =SUM('9. PALMIRA - SEDE FAMILIA'!F6:F9) -> 6994997
A39: TOTAL INMUEBLE | C39: =SUM(C38) -> 6994997
A40: 10 | B40: Cartago - Palacio Justicia Calle 11 # 5 67
A41: 10.1 | B41: SISTEMA CCTV | C41: =SUM('10. CARTAGO'!G5:G11) -> 5782242
...

Sheet 1. PALACIO DE JUSTICIA DE CALI
A2: ITEM | B2: Palacio de Justicia "Pedro Elías Serrano Abadía" de Cali - Cra 10 # 12 - 15
A3: 1 | B3: SISTEMA CCTV | I3: COTIZACIÓN 1 | J3: COTIZACIÓN 2
A4: REFERENCIA | C4: DESCRIPCION | D4: UNIDAD | E4: CANTIDAD | F4: VALOR PROMEDIO UNITARIO | G4: VALOR TOTAL | I4: VALOR UNITARIO | J4: VALOR UNITARIO
A5: 1.1 | B5: NIN-733-V03PS | C5: FlexiDome HD 720p60, VR, 3-9mm, IVA | D5: UNIDAD | E5: 123 | F5: =ROUND(AVERAGE(I5:J5),0) -> 147494 | G5: =+F5*E5 -> 18141762 | I5: 144987.65 | J5: 150000
A6: 1.2 | B6: NBN-71013-B | C6: Camera Dinion HD720p60 | D6: UNIDAD | E6: 29 | F6: =ROUND(AVERAGE(I6:J6),0) -> 147494 | G6: =+F6*E6 -> 4277326 | I6: 144987.65 | J6: 150000
A7: 1.3 | B7: VG5-7220-EPC4 | C7: Adomo 7000 HD, 20X, D/N, Int/Ext, Transp | D7: UNIDAD | E7: 5 | F7: =ROUND(AVERAGE(I7:J7),0) -> 327481 | G7: =+F7*E7 -> 1637405 | I7: 434962.96 | J7: 220000
A8: 1.4 | B8: DIP-6083-8HD | C8: DIVAR IP 6000 8x2TB | D8: UNIDAD | E8: 4 | F8: =ROUND(AVERAGE(I8:J8),0) -> 197494 | G8: =+F8*E8 -> 789976 | I8: 144987.65 | J8: 250000
A9: 1.5 | B9: MBV-BPRO-50 | C9: BVMS Lic. SW Professional 5.0 8Ch, 2WS 1DVR 1Kb (e-License) | D9: UNIDAD | E9: 1 | F9: =ROUND(AVERAGE(I9:J9),0) -> 86247 | G9: =+F9*E9 -> 86247 | I9: 72493.827 | J9: 100000
A10: 1.6 | B10: MBV-XCHAN-50 | C10: BVMS Lic. SW Channel (cam/dec) Expansion V5.0 (e-License) | D10: UNIDAD | E10: 152 | F10: =ROUND(AVERAGE(I10:J10),0) -> 86247 | G10: =+F10*E10 -> 13109544 | I10: 72493.827 | J10: 100000
A11: 1.7 | B11: MBV-XKBD-50 | C11: BVMS Lic. SW Workstation Expansion V5.0 (e-License) | D11: UNIDAD | E11: 2 | F11: =ROUND(AVERAGE(I11:J11),0) -> 86247 | G11: =+F11*E11 -> 172494 | I11: 72493.827 | J11: 100000
A12: 1.8 | B12: MBV-XWST-50 | C12: BVMS Lic. SW Workstation Expansion V5.0 (e-License) | D12: UNIDAD | E12: 1 | F12: =ROUND(AVERAGE(I12:J12),0) -> 86247 | G12: =+F12*E12 -> 86247 | I12: 72493.827 | J12: 100000
A13: 1.9 | B13: 736327-001 | C13: HP ProLiantML31Oe-Servidor BVMS | D13: UNIDAD | E13: 1 | F13: =ROUND(AVERAGE(I13:J13),0) -> 267481 | G13: =+F13*E13 -> 267481 | I13: 434962.96 | J13: 100000
A14: 1.10 | B14: Z230 MT | C14: Work Station Client | D14: UNIDAD | E14: 3 | F14: =ROUND(AVERAGE(I14:J14),0) -> 267481 | G14: =+F14*E14 -> 802443 | I14: 434962.96 | J14: 100000
A15: 1.11 | B15: KD-6X6CS | C15: Matriz de Seis entradas / 6 salidas | D15: UNIDAD | E15: 1 | F15: =ROUND(AVERAGE(I15:J15),0) -> 194988 | G15: =+F15*E15 -> 194988 | I15: 289975.31 | J15: 100000
A16: 1.12 | B16: SESCCT.SOFT.STD ROK 2012 | C16: HP WINDOWS SERVER ROK ESTANDAR 2012 R2 | D16: UNIDAD | E16: 1 | F16: =ROUND(AVERAGE(I16:J16),0) -> 267481 | G16: =+F16*E16 -> 267481 | I16: 434962.96 | J16: 100000
A17: 1.13 | C17: Acces Point, Marca Tenda Referencia 01 | D17: UNIDAD | E17: 18 | F17: =ROUND(AVERAGE(I17:J17),0) -> 135412 | G17: =+F17*E17 -> 2437416 | I17: 120823.05 | J17: 150000
A18: 1.14 | C18: Cámaras IP Tipo Domo, marca DAHUA, Referencia DH-IPC-HDPW1230R1N-0208-S4 de 2 MP | D18: UNIDAD | E18: 9 | F18: =ROUND(AVERAGE(I18:J18),0) -> 147494 | G18: =+F18*E18 -> 1327446 | I18: 144987.65 | J18: 150000
A19: 1.15 | C19: Cámaras IP Tipo Domo, marca DAHUA, Referencia DH-IPC-HDPW1230T1P-0208-S5 de 2 MP | D19: UNIDAD | E19: 5 | F19: =ROUND(AVERAGE(I19:J19),0) -> 147494 | G19: =+F19*E19 -> 737470 | I19: 144987.65 | J19: 150000
A20: 1.16 | C20: NVR Marca DAHUA de 16 canales Referencia NVR4216-4KS2/L | D20: UNIDAD | E20: 1 | F20: =ROUND(AVERAGE(I20:J20),0) -> 171658 | G20: =+F20*E20 -> 171658 | I20: 193316.87 | J20: 150000
A21: 1.17 | C21: Disco Duro de 4TB, marca Wester Digital | D21: UNIDAD | E21: 1 | F21: =ROUND(AVERAGE(I21:J21),0) -> 100412 | G21: =+F21*E21 -> 100412 | I21: 120823.05 | J21: 80000
A22: 1.18 | C22: Fuentes de Poder para las cámaras. | D22: UNIDAD | E22: 11 | F22: =ROUND(AVERAGE(I22:J22),0) -> 88329 | G22: =+F22*E22 -> 971619 | I22: 96658.436 | J22: 80000
A23: 1.19 | C23: Switch Gigabytes de 8 Puertos Gobal Cableado UTP y Accesorios | D23: UNIDAD | E23: 2 | F23: =ROUND(AVERAGE(I23:J23),0) -> 136658 | G23: =+F23*E23 -> 273316 | I23: 193316.87 | J23: 80000
A24: 2 | B24: SISTEMA CONTROL ACCESO BIOMETRICO DE PUERTAS
A25: 2.1 | B25: APC-AMC2-4WCF | C25: AMC2 Doorcontroller 4 Wiegand, CF-Card | D25: UNIDAD | E25: 20 | F25: =ROUND(AVERAGE(I25:J25),0) -> 171658 | G25: =+F25*E25 -> 3433160 | I25: 193316.87 | J25: 150000
A26: 2.2 | B26: AEC-AMC2-UL1 | C26: AMC Enclosure with 1DIN Rail | D26: UNIDAD | E26: 20 | F26: =ROUND(AVERAGE(I26:J26),0) -> 171658 | G26: =+F26*E26 -> 3433160 | I26: 193316.87 | J26: 150000
A27: 2.3 | B27: APS-PBC-60 | C27: AMC Power Supply (12/24V), integrated UPS | D27: UNIDAD | E27: 20 | F27: =ROUND(AVERAGE(I27:J27),0) -> 123329 | G27: =+F27*E27 -> 2466580 | I27: 96658.436 | J27: 150000
A28: 2.4 | B28: ARD-FPBEPIC-OC | C28: Bio EntryPlus iClass (Bosch branded) | D28: UNIDAD | E28: 48 | F28: =ROUND(AVERAGE(I28:J28),0) -> 171658 | G28: =+F28*E28 -> 8239584 | I28: 193316.87 | J28: 150000
A29: 2.5 | B29: D9172U | C29: Modulo de Direccionamiento de Zona, POPIT | D29: UNIDAD | E29: 24 | F29: =ROUND(AVERAGE(I29:J29),0) -> 111247 | G29: =+F29*E29 -> 2669928 | I29: 72493.827 | J29: 150000
A30: 2.6 | B30: 9069 | C30: Electroiman de 400 lbs | D30: UNIDAD | E30: 26 | F30: =ROUND(AVERAGE(I30:J30),0) -> 135412 | G30: =+F30*E30 -> 3520712 | I30: 120823.05 | J30: 150000
A31: 2.7 | B31: D8132LT | C31: Módulo cargador de baterias para electroiman | D31: UNIDAD | E31: 26 | F31: =ROUND(AVERAGE(I31:J31),0) -> 111247 | G31: =+F31*E31 -> 2892422 | I31: 72493.827 | J31: 150000
A32: 2.8 | B32: BAT1218 | C32: Bateria de respaldo Bateria 12V, 18 Ah | D32: UNIDAD | E32: 20 | F32: =ROUND(AVERAGE(I32:J32),0) -> 111247 | G32: =+F32*E32 -> 2224940 | I32: 72493.827 | J32: 150000
A33: 2.9 | B33: BAT127.5-FB | C33: Batería fuente cargador Bateria 12V 7.2 Ah | D33: UNIDAD | E33: 26 | F33: =ROUND(AVERAGE(I33:J33),0) -> 111247 | G33: =+F33*E33 -> 2892422 | I33: 72493.827 | J33: 150000
A34: 2.10 | B34: D1640 | C34: Transformador fuenteTransformador 16.5 VCA, 40 VA | D34: UNIDAD | E34: 26 | F34: =ROUND(AVERAGE(I34:J34),0) -> 111247 | G34: =+F34*E34 -> 2892422 | I34: 72493.827 | J34: 150000
A35: 2.11 | B35: D8103 | C35: Gabinete para fuente cargador de baterías Gabinete con llave para modulo cargador | D35: UNIDAD | E35: 26 | F35: =ROUND(AVERAGE(I35:J35),0) -> 111247 | G35: =+F35*E35 -> 2892422 | I35: 72493.827 | J35: 150000
A36: 2.12 | B36: NAL | C36: BOTON DE SALIDA SD-7201GC-P1 SECO LARM | D36: UNIDAD | E36: 26 | F36: =ROUND(AVERAGE(I36:J36),0) -> 111247 | G36: =+F36*E36 -> 2892422 | I36: 72493.827 | J36: 150000
A37: 2.13 | B37: Bio STAR SE | C37: Lic Software BIOSTAR SE | D37: UNIDAD | E37: 1 | F37: =ROUND(AVERAGE(I37:J37),0) -> 111247 | G37: =+F37*E37 -> 111247 | I37: 72493.827 | J37: 150000
A38: 3 | B38: SISTEMA DE AUDIO BOSCH
A39: 3.1 | B39: LC1-UM06E8 | C39: Altavoz Techo 6W | D39: UNIDAD | E39: 107 | F39: =ROUND(AVERAGE(I39:J39),0) -> 150412 | G39: =+F39*E39 -> 16094084 | I39: 120823.05 | J39: 180000
A40: 3.2 | B40: LC1-CMR | C40: Anillo de Montaje | D40: UNIDAD | E40: 107 | F40: =ROUND(AVERAGE(I40:J40),0) -> 86247 | G40: =+F40*E40 -> 9228429 | I40: 72493.827 | J40: 100000
A41: 3.3 | B41: P33273 | C41: Luces de emergencia | D41: UNIDAD | E41: 5 | F41: =ROUND(AVERAGE(I41:J41),0) -> 110412 | G41: =+F41*E41 -> 552060 | I41: 120823.05 | J41: 100000
...

Sheet 2. PALACIO NACIONAL CALI
A2: ITEM | B2: Cali - Palacio Nacional - Cra 4 # 12-40
A3: 1 | B3: SISTEMA CCTV | I3: COTIZACIÓN 1 | J3: COTIZACIÓN 2
A4: REFERENCIA | C4: DESCRIPCIÓN | D4: UNIDAD | E4: CANTIDAD | F4: VALOR PROMEDIO UNITARIO | G4: VALOR TOTAL | I4: VALOR UNITARIO | J4: VALOR UNITARIO
A5: 1.1 | C5: Domo PTZ, Marca: HIKVISION, Modelo: DS-2DF6236-AEL | D5: UNIDAD | E5: 16 | F5: =ROUND(AVERAGE(I5:J5),0) -> 639870 | G5: =+E5*F5 -> 10237920 | I5: 1059740.3 | J5: 220000
A6: 1.2 | C6: Cámara fija MiniDomo, Marca: HIKVISION, Modelo: DS-2CD2725FWD-12S | D6: UNIDAD | E6: 8 | F6: =ROUND(AVERAGE(I6:J6),0) -> 251623 | G6: =+E6*F6 -> 2012984 | I6: 353246.75 | J6: 150000
A7: 1.3 | C7: NVR 32 Canales, Marca: HIKVISION, Modelo: DSW9632NI-I8 | D7: UNIDAD | E7: 1 | F7: =ROUND(AVERAGE(I7:J7),0) -> 325498 | G7: =+E7*F7 -> 325498 | I7: 470995.67 | J7: 180000
A8: 1.4 | C8: Disco Duro 4 Teras, Marca: Seagate, Modelo: ST4000VX000 | D8: UNIDAD | E8: 1 | F8: =ROUND(AVERAGE(I8:J8),0) -> 197186 | G8: =+E8*F8 -> 197186 | I8: 294372.29 | J8: 100000
A9: 1.5 | C9: Matriz, Marca: HIKVISION, Modelo: DS-6916UDI | D9: UNIDAD | E9: 1 | F9: =ROUND(AVERAGE(I9:J9),0) -> 403247 | G9: =+E9*F9 -> 403247 | I9: 706493.51 | J9: 100000
A10: 1.6 | C10: UPS 3 KVA, Marca: PEI, Modelo: 3KVA | D10: UNIDAD | E10: 1 | F10: =ROUND(AVERAGE(I10:J10),0) -> 579870 | G10: =+E10*F10 -> 579870 | I10: 1059740.3 | J10: 100000
A11: 1.7 | C11: Switch POE 24 Puertos, Marca: HIKVISION, Modelo: DS-3E1326P-E | D11: UNIDAD | E11: 3 | F11: =ROUND(AVERAGE(I11:J11),0) -> 285498 | G11: =+E11*F11 -> 856494 | I11: 470995.67 | J11: 100000
A12: 1.8 | C12: Joystick, Marca: HIKVISION, Modelo: DS-1100KI | D12: UNIDAD | E12: 1 | F12: =ROUND(AVERAGE(I12:J12),0) -> 197186 | G12: =+E12*F12 -> 197186 | I12: 294372.29 | J12: 100000
A13: 1.9 | C13: Monitor 19", Marca: HIKVISION, Modelo: DS-D5019QE-6 | D13: UNIDAD | E13: 5 | F13: =ROUND(AVERAGE(I13:J13),0) -> 197186 | G13: =+E13*F13 -> 985930 | I13: 294372.29 | J13: 100000
A14: 1.10 | C14: Biométrico, Marca: HIKVISION, Modelo: DS-KIT803EF | D14: UNIDAD | E14: 1 | F14: =ROUND(AVERAGE(I14:J14),0) -> 226623 | G14: =+E14*F14 -> 226623 | I14: 353246.75 | J14: 100000
A15: 1.11 | C15: Electroimán, Marca: Access Pro | D15: UNIDAD | E15: 1 | F15: =ROUND(AVERAGE(I15:J15),0) -> 197186 | G15: =+E15*F15 -> 197186 | I15: 294372.29 | J15: 100000
A16: 1.12 | C16: Botón Apertura, Marca: HIKVISION | D16: UNIDAD | E16: 1 | F16: =ROUND(AVERAGE(I16:J16),0) -> 138312 | G16: =+E16*F16 -> 138312 | I16: 176623.38 | J16: 100000
A17: 2 | B17: SISTEMAS DE APOYO A REQUISAS RX, ARCOS Y DETECTORES MANUALES
A18: 2.1 | B18: PD6500i | C18: Arco o Puerta Detectora de Armas y Metales | D18: UNIDAD | E18: 1 | F18: =ROUND(AVERAGE(I18:J18),0) -> 551558 | G18: =+E18*F18 -> 551558 | I18: 883116.88 | J18: 220000
A19: VALOR TOTAL INMUEBLE | G19: =SUM(G5:G16,G18) -> 16909994

Sheet 3. LEY DE TIERRAS CALI
A2: ITEM | B2: Edificio Ley de Tierras Av 3A Nte # 24-24 Cali
A3: 1 | B3: SISTEMA CCTV | I3: COTIZACIÓN 1 | J3: COTIZACIÓN 2
B4: REFERENCIA | C4: DESCRIPCIÓN | D4: UNIDAD | E4: CANTIDAD | F4: VALOR PROMEDIO UNITARIO | G4: VALOR TOTAL | I4: VALOR UNITARIO | J4: VALOR UNITARIO
A5: 1.1 | C5: Brazos extensores o soporte de cámara | D5: UNIDAD | E5: 6 | F5: =ROUND(AVERAGE(I5:J5),0) -> 126216 | G5: =+E5*F5 -> 757296 | I5: 152432.43 | J5: 100000
A6: 1.2 | C6: Cámara de video con codec sin kit | D6: UNIDAD | E6: 1 | F6: =ROUND(AVERAGE(I6:J6),0) -> 126216 | G6: =+E6*F6 -> 126216 | I6: 152432.43 | J6: 100000
A7: 1.3 | C7: Cámara tipo domo | D7: UNIDAD | E7: 1 | F7: =ROUND(AVERAGE(I7:J7),0) -> 136216 | G7: =+E7*F7 -> 136216 | I7: 152432.43 | J7: 120000
A8: 1.4 | C8: Cámara tipo domo interior | D8: UNIDAD | E8: 24 | F8: =ROUND(AVERAGE(I8:J8),0) -> 136216 | G8: =+E8*F8 -> 3269184 | I8: 152432.43 | J8: 120000
A9: 1.5 | C9: Control de acceso con kit de electroimán | D9: UNIDAD | E9: 1 | F9: =ROUND(AVERAGE(I9:J9),0) -> 250541 | G9: =+E9*F9 -> 250541 | I9: 381081.08 | J9: 120000
A10: 1.6 | C10: Joystick (teclado CCTCV) | D10: UNIDAD | E10: 1 | F10: =ROUND(AVERAGE(I10:J10),0) -> 113514 | G10: =+E10*F10 -> 113514 | I10: 127027.03 | J10: 100000
A11: 1.7 | C11: Matrix digital CCTV | D11: UNIDAD | E11: 1 | F11: =ROUND(AVERAGE(I11:J11),0) -> 202432 | G11: =+E11*F11 -> 202432 | I11: 304864.86 | J11: 100000
A12: 1.8 | C12: Monitor CCTV | D12: UNIDAD | E12: 5 | F12: =ROUND(AVERAGE(I12:J12),0) -> 113514 | G12: =+E12*F12 -> 567570 | I12: 127027.03 | J12: 100000
A13: 1.9 | C13: UPS 10 KVA | D13: UNIDAD | E13: 1 | F13: =ROUND(AVERAGE(I13:J13),0) -> 164324 | G13: =+E13*F13 -> 164324 | I13: 228648.65 | J13: 100000
A14: 1.10 | C14: Videograbadora digital 16 entradas | D14: UNIDAD | E14: 2 | F14: =ROUND(AVERAGE(I14:J14),0) -> 176622 | G14: =+E14*F14 -> 353244 | I14: 203243.24 | J14: 150000
A15: 1.11 | C15: SIP Camara 4 EN 1 1/2,7" CMOS 1080P Tipo Domo Lente Varifocal 2,7-12MM FOV 33°-106° DWDR IR 30M IP67 | D15: UNIDAD | E15: 12 | F15: =ROUND(AVERAGE(I15:J15),0) -> 136216 | G15: =+E15*F15 -> 1634592 | I15: 152432.43 | J15: 120000
A16: 1.12 | C16: XVR 16CH + 2CH IP grabación hasta 1080N 4CH con SMD 1 HDMI 1 E/S RCA 1 SATA AI CODING/H.265 | D16: UNIDAD | E16: 1 | F16: =ROUND(AVERAGE(I16:J16),0) -> 176622 | G16: =+E16*F16 -> 176622 | I16: 203243.24 | J16: 150000
... A20: 1.16 | C20: DISCO DURO 4TB CACHE 256MB 3.5" SATA | D20: UNIDAD | E20: 2 | F20: =ROUND(AVERAGE(I20:J20),0) -> 88514 | G20: =+E20*F20 -> 177028 | I20: 127027.03 | J20: 50000
A21: 2 | B21: SISTEMAS DE APOYO A REQUISAS RX, ARCOS Y DETECTORES MANUALES
A22: 2.1 | B22: RANGER | C22: Arco o Puerta Detectora de Armas y Metales | D22: UNIDAD | E22: 1 | F22: =ROUND(AVERAGE(I22:J22),0) -> 300541 | G22: =+E22*F22 -> 300541 | I22: 381081.08 | J22: 220000
A23: VALOR TOTAL INMUBLE | G23: =SUM(G22,G5:G20) -> 11915004

Sheet 4. ENTRECEIBAS - CALI
A2: ITEM | B2: Edificio Entreceibas Calle 8 # 1-16 Cali
A3: 1 | B3: SISTEMA CCTV | I3: COTIZACIÓN 1 | J3: COTIZACIÓN 2
B4: REFERENCIA | C4: DESCRIPCIÓN | D4: UNIDAD | E4: CANTIDAD | F4: VALOR PROMEDIO UNITARIO | G4: VALOR TOTAL | I4: VALOR UNITARIO | J4: VALOR UNITARIO
A5: 1.1 | C5: Cámara PTZ Uso interior y exterior, Marca: DAHUA, Modelo: DH-SD6CE245UN-HNI-F | D5: UNIDAD | E5: 8 | F5: =ROUND(AVERAGE(I5:J5),0) -> 451962 | G5: =+E5*F5 -> 3615696 | I5: 683923.24 | J5: 220000
A6: 1.2 | C6: Cámara PTZ Uso interior, Marca: DAHUA, Modelo: DH-SD6CE245UN-HNI-F | D6: UNIDAD | E6: 8 | F6: =ROUND(AVERAGE(I6:J6),0) -> 451962 | G6: =+E6*F6 -> 3615696 | I6: 683923.24 | J6: 220000
A7: 1.3 | C7: Cámara fija MiniDomo, Marca: DAHUA, Modelo: DH-SD52C230UN-HNI | D7: UNIDAD | E7: 8 | F7: =ROUND(AVERAGE(I7:J7),0) -> 173987 | G7: =+E7*F7 -> 1391896 | I7: 227974.41 | J7: 120000
A8: 1.4 | C8: Carcazas cámara Mini Domo tipo Dummy, Marca: DAHUA, Mod:DH-HACHDW1000MN | D8: UNIDAD | E8: 6 | F8: =ROUND(AVERAGE(I8:J8),0) -> 138987 | G8: =+E8*F8 -> 833922 | I8: 227974.41 | J8: 50000
A9: 1.5 | C9: Monitor de CCTV LCD 17", Marca: DAHUA, Modelo: DHI-LM22-F211 | D9: UNIDAD | E9: 5 | F9: =ROUND(AVERAGE(I9:J9),0) -> 144989 | G9: =+E9*F9 -> 724945 | I9: 189978.68 | J9: 100000
A10: 1.6 | C10: Matriz digital de video, preconfigurada de 64 entradas x 16 salidas de monitor; basada en microprocesador, expandible hasta 256 cámaras. Comunicación RS-485, -RJ45., Marca: DAHUA, Modelo: NVD1805DH-4I-4K | D10: UNIDAD | E10: 1 | F10: =ROUND(AVERAGE(I10:J10),0) -> 327974 | G10: =+E10*F10 -> 327974 | I10: 455948.83 | J10: 200000
A11: 1.7 | C11: Sistema de grabación IP para 64 canales, codificación de video H.265, resolución de grabación hasta 12MP, ancho de banda de hasta 320Mbps, incluye disco duro interno de 4TB. Marca: DAHUA, Modelo: NVR5864-16P-4KS2E | D11: UNIDAD | E11: 1 | F11: =ROUND(AVERAGE(I11:J11),0) -> 251983 | G11: =+E11*F11 -> 251983 | I11: 303965.88 | J11: 200000
A12: 1.8 | C12: Switch de 24 puertos PoE., Marca: DAHUA, Modelo: PFS4226-24GT-360 | D12: UNIDAD | E12: 1 | F12: =ROUND(AVERAGE(I12:J12),0) -> 211983 | G12: =+E12*F12 -> 211983 | I12: 303965.88 | J12: 120000
A13: 1.9 | C13: Teclado tipo joystick para administración de las cámaras PTZ, con teclas de funciones preprogramadas. Marca: DAHUA, Modelo: NKB1000 | D13: UNIDAD | E13: 1 | F13: =ROUND(AVERAGE(I13:J13),0) -> 154989 | G13: =+E13*F13 -> 154989 | I13: 189978.68 | J13: 120000
A14: 1.10 | C14: UPS 2 KVA- Autonomía 5 – 15 minutos - Onda Senoidal- Tiempo de transferencia 0., Marca: Powest, Modelo: MICRO NET 2000 | D14: UNIDAD | E14: 1 | F14: =ROUND(AVERAGE(I14:J14),0) -> 220981 | G14: =+E14*F14 -> 220981 | I14: 341961.62 | J14: 100000
A15: 2. | B15: SISTEMAS DE APOYO A REQUISAS RX, ARCOS Y DETECTORES MANUALES
A16: 2.1 | B16: RANGER | C16: Arco o Puerta Detectora de Armas y Metales | D16: UNIDAD | E16: 1 | F16: =ROUND(AVERAGE(I16:J16),0) -> 384968 | G16: =+E16*F16 -> 384968 | I16: 569936.03 | J16: 200000
A17: VALOR TOTAL INMUEBLE | G17: =SUM(G16,G5:G14) -> 11735033

Sheet 5. ADOLESCENTES - CALI
A2: ITEM | B2: Edificio Juzgados Penales para Adolescentes - Avenida 5CN # 24-38 Cali
A3: 1 | B3: SISTEMA CCTV | I3: COTIZACIÓN 1 | J3: COTIZACIÓN 2
B4: REFERENCIA | C4: DESCRIPCIÓN | D4: UNIDAD | E4: CANTIDAD | F4: VALOR PROMEDIO UNITARIO | G4: VALOR TOTAL | I4: VALOR UNITARIO | J4: VALOR UNITARIO
A5: 1.1 | C5: Cámara PTZ Uso interior y exterior, Marca: DAHUA, Modelo: DH-SD6CE245UN-HNI-F | D5: UNIDAD | E5: 8 | F5: =ROUND(AVERAGE(I5:J5),0) -> 422423 | G5: =+E5*F5 -> 3379384 | I5: 624845.81 | J5: 220000
A6: 1.2 | C6: Cámara PTZ Uso interior, Marca: DAHUA, Modelo: DH-SD6CE245UN-HNI-F | D6: UNIDAD | E6: 8 | F6: =ROUND(AVERAGE(I6:J6),0) -> 422423 | G6: =+E6*F6 -> 3379384 | I6: 624845.81 | J6: 220000
A7: 1.3 | C7: Cámara fija MiniDomo, Marca: DAHUA, Modelo: DH-IPC-HDB4231CNAS-S2 | D7: UNIDAD | E7: 8 | F7: =ROUND(AVERAGE(I7:J7),0) -> 179141 | G7: =+E7*F7 -> 1433128 | I7: 208281.94 | J7: 150000
A8: 1.4 | C8: Carcazas cámara Mini Domo tipo Dummy, Marca: DAHUA, Mod:DH-HACHDW1000MN | D8: UNIDAD | E8: 6 | F8: =ROUND(AVERAGE(I8:J8),0) -> 129141 | G8: =+E8*F8 -> 774846 | I8: 208281.94 | J8: 50000
A9: 1.5 | C9: Monitor de CCTV LCD 17", Marca: DAHUA, Modelo: DHI-LM22-F211 | D9: UNIDAD | E9: 5 | F9: =ROUND(AVERAGE(I9:J9),0) -> 136784 | G9: =+E9*F9 -> 683920 | I9: 173568.28 | J9: 100000
A10: 1.6 | C10: Matriz digital de video, preconfigurada de 64 entradas x 16 salidas de monitor; basada en microprocesador, expandible hasta 256 cámaras. Comunicación RS-485, -RJ45., Marca: DAHUA, Modelo: NVD1805DH-4I-4K | D10: UNIDAD | E10: 1 | F10: =ROUND(AVERAGE(I10:J10),0) -> 308282 | G10: =+E10*F10 -> 308282 | I10: 416563.88 | J10: 200000
A11: 1.7 | C11: Sistema de grabación IP para 64 canales, codificación de video H.265, resolución de grabación hasta 12MP, ancho de banda de hasta 320Mbps, incluye disco duro interno de 4TB. Marca: DAHUA, Modelo: NVR5864-16P-4KS2E | D11: UNIDAD | E11: 1 | F11: =ROUND(AVERAGE(I11:J11),0) -> 238855 | G11: =+E11*F11 -> 238855 | I11: 277709.25 | J11: 200000
A12: 1.8 | C12: Switch de 24 puertos PoE., Marca: DAHUA, Modelo: PFS4226-24GT-360 | D12: UNIDAD | E12: 1 | F12: =ROUND(AVERAGE(I12:J12),0) -> 198855 | G12: =+E12*F12 -> 198855 | I12: 277709.25 | J12: 120000
A13: 1.9 | C13: Teclado tipo joystick para administración de las cámaras PTZ, con teclas de funciones preprogramadas. Marca: DAHUA, Modelo: NKB1000 | D13: UNIDAD | E13: 1 | F13: =ROUND(AVERAGE(I13:J13),0) -> 146784 | G13: =+E13*F13 -> 146784 | I13: 173568.28 | J13: 120000
A14: 1.10 | C14: Cerradura control de acceso con teclado ALFA NUMÉRICO y botón de apertura, kit de electroimán de 400 kilos – soporta hasta 200 usuarios. Incluye instalación. Marca: DAHUA, Modelo: ASI1212D | D14: UNIDAD | E14: 1 | F14: =ROUND(AVERAGE(I14:J14),0) -> 310352 | G14: =+E14*F14 -> 310352 | I14: 520704.85 | J14: 100000
A15: 1.11 | C15: UPS 2 KVA- Autonomía 5 – 15 minutos - Onda Senoidal- Tiempo de transferencia 0., Marca: Powest, Modelo: MICRO NET 2000 | D15: UNIDAD | E15: 1 | F15: =ROUND(AVERAGE(I15:J15),0) -> 206211 | G15: =+E15*F15 -> 206211 | I15: 312422.91 | J15: 100000
A16: VALOR TOTAL INMUEBLE | G16: =SUM(G5:G15) -> 11060001

Sheet 6. BUENAVENTURA - PALACIO NAL
A3: ITEM | B3: Palacio Nacional - Calle 3 # 2A-35 Buenaventura
A4: 1 | B4: SISTEMA CCTV | I4: COTIZACIÓN 1 | J4: COTIZACIÓN 2
B5: REFERENCIA | C5: DESCRIPCIÓN | D5: UNIDAD | E5: CANTIDAD | F5: VALOR PROMEDIO UNITARIO | G5: VALOR TOTAL | I5: VALOR UNITARIO | J5: VALOR UNITARIO
A6: 1.1 | C6: Domo PTZ, Marca: HIKVISION, Modelo: DS-2DF6236-AEL | D6: UNIDAD | E6: 14 | F6: =ROUND(AVERAGE(I6:J6),0) -> 671739 | G6: =+E6*F6 -> 9404346 | I6: 1123478.3 | J6: 220000
A7: 1.2 | C7: Cámara fija MiniDomo, Marca: HIKVISION, Modelo: DS-2CD2725FWD-12S | D7: UNIDAD | E7: 4 | F7: =ROUND(AVERAGE(I7:J7),0) -> 262246 | G7: =+E7*F7 -> 1048984 | I7: 374492.75 | J7: 150000
A8: 1.3 | C8: NVR 32 Canales, Marca: HIKVISION, Modelo: DSW9632NI-I8 | D8: UNIDAD | E8: 2 | F8: =ROUND(AVERAGE(I8:J8),0) -> 339662 | G8: =+E8*F8 -> 679324 | I8: 499323.67 | J8: 180000
A9: 1.4 | C9: Disco Duro 4 Teras, Marca: Seagate, Modelo: ST4000VX000 | D9: UNIDAD | E9: 1 | F9: =ROUND(AVERAGE(I9:J9),0) -> 206039 | G9: =+E9*F9 -> 206039 | I9: 312077.29 | J9: 100000
A10: 1.5 | C10: Matriz, Marca: HIKVISION, Modelo: DS-6916UDI | D10: UNIDAD | E10: 1 | F10: =ROUND(AVERAGE(I10:J10),0) -> 424493 | G10: =+E10*F10 -> 424493 | I10: 748985.51 | J10: 100000
A11: 1.6 | C11: UPS 3 KVA, Marca: PEI, Modelo: 3KVA | D11: UNIDAD | E11: 1 | F11: =ROUND(AVERAGE(I11:J11),0) -> 611739 | G11: =+E11*F11 -> 611739 | I11: 1123478.3 | J11: 100000
A12: 1.7 | C12: Switch POE 24 Puertos, Marca: HIKVISION, Modelo: DS-3E1326P-E | D12: UNIDAD | E12: 1 | F12: =ROUND(AVERAGE(I12:J12),0) -> 299662 | G12: =+E12*F12 -> 299662 | I12: 499323.67 | J12: 100000
A13: 1.8 | C13: Joystick, Marca: HIKVISION, Modelo: DS-1100KI | D13: UNIDAD | E13: 1 | F13: =ROUND(AVERAGE(I13:J13),0) -> 206039 | G13: =+E13*F13 -> 206039 | I13: 312077.29 | J13: 100000
A14: 1.9 | C14: Monitor 19", Marca: HIKVISION, Modelo: DS-D5019QE-6 | D14: UNIDAD | E14: 5 | F14: =ROUND(AVERAGE(I14:J14),0) -> 206039 | G14: =+E14*F14 -> 1030195 | I14: 312077.29 | J14: 100000
A15: 1.10 | C15: Biometrico, Marca: HIKVISION, Modelo: DS-KIT803EF | D15: UNIDAD | E15: 1 | F15: =ROUND(AVERAGE(I15:J15),0) -> 237246 | G15: =+E15*F15 -> 237246 | I15: 374492.75 | J15: 100000
A16: 1.11 | C16: Electroimán, Marca: Access Pro | D16: UNIDAD | E16: 1 | F16: =ROUND(AVERAGE(I16:J16),0) -> 206039 | G16: =+E16*F16 -> 206039 | I16: 312077.29 | J16: 100000
A17: 1.12 | C17: Botón Apertura, Marca: HIKVISION | D17: UNIDAD | E17: 1 | F17: =ROUND(AVERAGE(I17:J17),0) -> 143623 | G17: =+E17*F17 -> 143623 | I17: 187246.38 | J17: 100000
A18: 2. | B18: SISTEMAS DE APOYO A REQUISAS RX, ARCOS Y DETECTORES MANUALES
A19: 2.1 | B19: Garret Mod. PD6500i | C19: Arco o Puerta Detectora de Armas y Metales - PD6500i | D19: UNIDAD | E19: 1 | F19: =ROUND(AVERAGE(I19:J19),0) -> 568116 | G19: =+E19*F19 -> 568116 | I19: 936231.88 | J19: 200000
A20: 2.2 | B20: SUPER SCANNER | C20: Detector Manual de Armas y Metales (incluye mantenimiento a batería recargable y cargador) - SUSPER SCANNER - GARRETT | D20: UNIDAD | E20: 1 | F20: =ROUND(AVERAGE(I20:J20),0) -> 231039 | G20: =+E20*F20 -> 231039 | I20: 312077.29 | J20: 150000
A21: VALOR TOTAL INMUEBLE | G21: =SUM(G19:G20,G6:G17) -> 15296884

Sheet 7. BUENAVENTURA - JIRETH
A3: ITEM | B3: Edificio Jireth - Calle 3A No. 5-41 piso 6
A4: 1 | B4: SISTEMAS DE APOYO A REQUISAS RX, ARCOS Y DETECTORES MANUALES | I4: COTIZACIÓN 1 | J4: COTIZACIÓN 2
B5: REFERENCIA | C5: DESCRIPCIÓN | D5: UNIDAD | E5: CANTIDAD | F5: VALOR PROMEDIO UNITARIO | G5: VALOR TOTAL | I5: VALOR UNITARIO | J5: VALOR UNITARIO
A6: 1.1 | B6: Garret Mod. PD6500i | C6: Arco o Puerta Detectora de Armas y Metales - PD6500i | D6: UNIDAD | E6: 1 | F6: =ROUND(AVERAGE(I6:J6),0) -> 515714 | G6: =+E6*F6 -> 515714 | I6: 831428.57 | J6: 200000
A7: 1.2 | B7: SUPER SCANNER | C7: Detector Manual de Armas y Metales (incluye mantenimiento a batería recargable y cargador) - SUSPER SCANNER - GARRETT | D7: UNIDAD | E7: 2 | F7: =ROUND(AVERAGE(I7:J7),0) -> 213571 | G7: =+E7*F7 -> 427142 | I7: 277142.86 | J7: 150000
A8: VALOR TOTAL INMUEVLE | G8: =SUM(G6:G7) -> 942856

Sheet 8. PALMIRA - PALACIO JUSTICIA
A2: ITEM | B2: Palacio Justicia "Simon David Carrejo Bejarano" de Palmira - Cra 29 # 22 -43
A3: 1 | B3: SISTEMA CCTV | H3: COTIZACIÓN 1 | I3: COTIZACIÓN 2
B4: REFERENCIA | C4: DESCRIPCIÓN | D4: CANTIDAD | E4: VALOR PROMEDIO UNITARIO | F4: VALOR TOTAL | H4: VALOR UNITARIO | I4: VALOR UNITARIO
A5: 1.1 | C5: Cámara PTZ Uso interior y exterior, Marca: DAHUA, Modelo: DH-SD6CE245UN-HNI-F | D5: 8 | E5: =ROUND(AVERAGE(H5:I5),0) -> 501190 | F5: =+D5*E5 -> 4009520 | H5: 782379.96 | I5: 220000
A6: 1.2 | C6: Cámara PTZ Uso interior, Marca: DAHUA, Modelo: DH-SD6CE245UN-HNI-F | D6: 10 | E6: =ROUND(AVERAGE(H6:I6),0) -> 501190 | F6: =+D6*E6 -> 5011900 | H6: 782379.96 | I6: 220000
A7: 1.3 | C7: Cámara fija MiniDomo, Marca: DAHUA, Modelo: DH-SD52C230UN-HNI | D7: 8 | E7: =ROUND(AVERAGE(H7:I7),0) -> 205397 | F7: =+D7*E7 -> 1643176 | H7: 260793.32 | I7: 150000
A8: 1.4 | C8: Carcazas cámara Mini Domo tipo Dummy, Marca: DAHUA, Mod:DH-HACHDW1000MN | D8: 5 | E8: =ROUND(AVERAGE(H8:I8),0) -> 155397 | F8: =+D8*E8 -> 776985 | H8: 260793.32 | I8: 50000
A9: 1.5 | C9: Monitor de CCTV LCD 17", Marca: DAHUA, Modelo: DHI-LM22-F211 | D9: 1 | E9: =ROUND(AVERAGE(H9:I9),0) -> 158664 | F9: =+D9*E9 -> 158664 | H9: 217327.77 | I9: 100000
A10: 1.6 | C10: Matriz digital de video, preconfigurada de 64 entradas x 16 salidas de monitor; basada en microprocesador, expandible hasta 256 cámaras. Comunicación RS-485, -RJ45., Marca: DAHUA, Modelo: NVD1805DH-4I-4K | D10: 1 | E10: =ROUND(AVERAGE(H10:I10),0) -> 360793 | F10: =+D10*E10 -> 360793 | H10: 521586.64 | I10: 200000
A11: 1.7 | C11: Sistema de grabación IP para 64 canales, codificación de video H.265, resolución de grabación hasta 12MP, ancho de banda de hasta 320Mbps, incluye disco duro interno de 4TB. Marca: DAHUA, Modelo: NVR5864-16P-4KS2E | D11: 1 | E11: =ROUND(AVERAGE(H11:I11),0) -> 273862 | F11: =+D11*E11 -> 273862 | H11: 347724.43 | I11: 200000
A12: 1.8 | C12: Switch de 24 puertos PoE., Marca: DAHUA, Modelo: PFS4226-24GT-360 | D12: 1 | E12: =ROUND(AVERAGE(H12:I12),0) -> 233862 | F12: =+D12*E12 -> 233862 | H12: 347724.43 | I12: 120000
A13: 1.9 | C13: Teclado tipo joystick para administración de las cámaras PTZ, con teclas de funciones preprogramadas. Marca: DAHUA, Modelo: NKB1000 | D13: 1 | E13: =ROUND(AVERAGE(H13:I13),0) -> 168664 | F13: =+D13*E13 -> 168664 | H13: 217327.77 | I13: 120000
A14: 1.10 | C14: Cerradura control de acceso con teclado ALFA NUMÉRICO y botón de apertura, kit de electroimán de 400 kilos – soporta hasta 200 usuarios. Incluye instalación. Marca: DAHUA, Modelo: ASI1212D | D14: 1 | E14: =ROUND(AVERAGE(H14:I14),0) -> 375992 | F14: =+D14*E14 -> 375992 | H14: 651983.3 | I14: 100000
A15: 1.11 | C15: UPS 2 KVA- Autonomía 5 – 15 minutos - Onda Senoidal- Tiempo de transferencia 0., Marca: Powest, Modelo: MICRO NET 2000 | D15: 1 | E15: =ROUND(AVERAGE(H15:I15),0) -> 245595 | F15: =+D15*E15 -> 245595 | H15: 391189.98 | I15: 100000
A16: 1.12 | C16: Arco o Puerta Detectora de Armas y Metales - PD6500i | D16: 1 | E16: =ROUND(AVERAGE(H16:I16),0) -> 425992 | F16: =+D16*E16 -> 425992 | H16: 651983.3 | I16: 200000
A17: VALOR TOTAL INMUEBLE | F17: =SUM(F5:F16) -> 13685005

Sheet 9. PALMIRA - SEDE FAMILIA
A2: ITEM | B2: Palacio Justicia "Simon David Carrejo Bejarano" de Palmira - Cra 29 # 22 -43
A3: 1 | B3: SISTEMA CCTV | H3: COTIZACIÓN 1 | I3: COTIZACIÓN 2
B4: REFERENCIA | C4: DESCRIPCIÓN | D4: CANTIDAD | E4: VALOR PROMEDIO UNITARIO | F4: VALOR TOTAL | H4: VALOR UNITARIO | I4: VALOR UNITARIO
A5: 3. | B5: EDIFICIO SEDE DE FAMILIA - Calle 22 No. 28A -10
A6: 3.1 | C6: Camaras | D6: 18 | E6: =ROUND(AVERAGE(H6:I6),0) -> 324651 | F6: =+D6*E6 -> 5843718 | H6: 529302.33 | I6: 120000
A7: 3.2 | C7: Switch POE 24 puertos Marca TrendNet | D7: 1 | E7: =ROUND(AVERAGE(H7:I7),0) -> 427868 | F7: =+D7*E7 -> 427868 | H7: 705736.43 | I7: 150000
A8: 3.3 | C8: NVR DAHUA | D8: 1 | E8: =ROUND(AVERAGE(H8:I8),0) -> 427868 | F8: =+D8*E8 -> 427868 | H8: 705736.43 | I8: 150000
A9: 3.4 | C9: MONITOR DE 22 | D9: 1 | E9: =ROUND(AVERAGE(H9:I9),0) -> 295543 | F9: =+D9*E9 -> 295543 | H9: 441085.27 | I9: 150000
A10: VALOR TOTAL INMUEBLE | F10: =SUM(F6:F9) -> 6994997

Sheet 10. CARTAGO
A2: ITEM | B2: Palacio Justicia de Cartago - CALLE 11 # 5 67
A3: 1 | B3: SISTEMA CCTV | I3: COTIZACIÓN 1 | J3: COTIZACIÓN 2
B4: REFERENCIA | C4: DESCRIPCIÓN | D4: UNIDAD | E4: CANTIDAD | F4: VALOR PROMEDIO UNITARIO | G4: VALOR TOTAL | I4: VALOR UNITARIO | J4: VALOR UNITARIO
A5: 1.1 | C5: NVR Marca DAHUA de 16 canales Referencia NVR4216-4KS2/L 2 Disco Duro de 4TB, marca Wester Digital | D5: UNIDAD | E5: 1 | F5: =ROUND(AVERAGE(I5:J5),0) -> 283793 | G5: =+E5*F5 -> 283793 | I5: 347586.21 | J5: 220000
A6: 1.2 | C6: Cámaras IP Tipo Domo, marca DAHUA, Referencia DH-IPC-HDPW1230T1P-0208-S5 de 2 MP | D6: UNIDAD | E6: 9 | F6: =ROUND(AVERAGE(I6:J6),0) -> 205345 | G6: =+E6*F6 -> 1848105 | I6: 260689.66 | J6: 150000
A7: 1.3 | C7: Cámaras IP Tipo Bala, marca DAHUA, Referencia DH-IPC-HFW2431TN-ZS | D7: UNIDAD | E7: 6 | F7: =ROUND(AVERAGE(I7:J7),0) -> 205345 | G7: =+E7*F7 -> 1232070 | I7: 260689.66 | J7: 150000
A8: 1.4 | C8: Switch 8 puertos PoE 10/100 + 1 puerto 10/100/1000 Uplink, Marca TENDA | D8: UNIDAD | E8: 2 | F8: =ROUND(AVERAGE(I8:J8),0) -> 248793 | G8: =+E8*F8 -> 497586 | I8: 347586.21 | J8: 150000
A9: 1.5 | C9: Switch 4 puertos PoE 10/100 + 1 puerto 10/100/1000 Uplink, Marca IP-COM | D9: UNIDAD | E9: 2 | F9: =ROUND(AVERAGE(I9:J9),0) -> 223793 | G9: =+E9*F9 -> 447586 | I9: 347586.21 | J9: 100000
A10: 1.6 | C10: Gabinete Metalico de piso de 70 Cms de Alto, con su patch panel y bandejas | D10: UNIDAD | E10: 1 | F10: =ROUND(AVERAGE(I10:J10),0) -> 245517 | G10: =+E10*F10 -> 245517 | I10: 391034.48 | J10: 100000
A11: 1.7 | C11: Gabinete de pared Globla Cabledo TUP Global, Ducteria metalica, y tubos conducit SCH40 | D11: UNIDAD | E11: 5 | F11: =ROUND(AVERAGE(I11:J11),0) -> 245517 | G11: =+E11*F11 -> 1227585 | I11: 391034.48 | J11: 100000
A12: 2. | B12: SISTEMAS DE APOYO A REQUISAS RX, ARCOS Y DETECTORES MANUALES
A13: 2.1 | B13: Garret Mod. PD6500i | C13: Arco o Puerta Detectora de Armas y Metales | D13: UNIDAD | E13: 1 | F13: =ROUND(AVERAGE(I13:J13),0) -> 425862 | G13: =+E13*F13 -> 425862 | I13: 651724.14 | J13: 200000
A14: 2.2 | C14: Garrett -Detector Manual de Armas y Metales (incluye batería recargable y cargador) | D14: UNIDAD | E14: 2 | F14: =ROUND(AVERAGE(I14:J14),0) -> 158621 | G14: =+E14*F14 -> 317242 | I14: 217241.38 | J14: 100000
A15: VALOR TOTAL INMUEBLE | G15: =SUM(G5:G11,G13:G14) -> 6525346

Sheet 11. BOLSA REPUESTOS
A2: BOLSA DE REPUESTOS | G2: COTIZACIÓN 1 | H2: COTIZACIÓN 2
A3: Nro | B3: Elemento | C3: Uni. Medida | D3: Cantidad | E3: VALOR PROMEDIO UNITARIO | G3: VALOR UNITARIO | H3: VALOR UNITARIO
A4: 1 | B4: Camara Bosch FlexiDome HD 720p60, VR, 3-9mm | C4: Unidad | D4: 1 | E4: =ROUND(AVERAGE(G4:H4),0) -> 2163716 | G4: 3327432 | H4: 1000000
A5: 2 | B5: Camara NBN-71013-B Camera Dinion HD720p60 | C5: Unidad | D5: 1 | E5: =ROUND(AVERAGE(G5:H5),0) -> 2471324 | G5: 3942648 | H5: 1000000
A6: 3 | B6: Camara Bosch VG5-7220-EPC4 Adomo 7000 HD, 20X, D/N, Int/Ext, Transp | C6: Unidad | D6: 1 | E6: =ROUND(AVERAGE(G6:H6),0) -> 8623074 | G6: 16246148 | H6: 1000000
A7: 4 | B7: Camara Domo PTZ Exterior IP Compatible sistemas DAHUA / HIKVISION | C7: Unidad | D7: 1 | E7: =ROUND(AVERAGE(G7:H7),0) -> 5500100 | G7: 7000200 | H7: 4000000
A8: 5 | B8: Cámara Fija MiniDomo Interior Compatible sistemas DAHUA / HIKVISION | C8: Unidad | D8: 1 | E8: =ROUND(AVERAGE(G8:H8),0) -> 609300 | G8: 718600 | H8: 500000
A9: 6 | B9: Camara Fija Bala Exterior Compatible sistemas DAHUA / HIKVISION | C9: Unidad | D9: 1 | E9: =ROUND(AVERAGE(G9:H9),0) -> 740000 | G9: 980000 | H9: 500000
A10: 7 | B10: Parlante Techo Bosch Techo LC1-UM06e8 de 6 W/12W | C10: Unidad | D10: 1 | E10: =ROUND(AVERAGE(G10:H10),0) -> 829144 | G10: 658288 | H10: 1000000
A11: 8 | B11: MBV-BPRO-50 BVMS Lic. SW Professional 5.0 8Ch, 2WS 1DVR 1Kb (e-License) | C11: Unidad | D11: 1 | E11: =ROUND(AVERAGE(G11:H11),0) -> 2480000 | G11: 960000 | H11: 4000000
A12: 9 | B12: MBV-XCHAN-50 BVMS Lic. SW Channel (cam/dec) Expansion V5.0 (e-License) | C12: Unidad | D12: 1 | E12: =ROUND(AVERAGE(G12:H12),0) -> 4000000 | G12: N/A | H12: 4000000
A13: 10 | B13: MBV-XKBD-50 BVMS Lic. SW Workstation Expansion V5.0 (e-License) | C13: Unidad | D13: 1 | E13: =ROUND(AVERAGE(G13:H13),0) -> 4000000 | G13: N/A | H13: 4000000
A14: 11 | B14: MBV-XWST-50 BVMS Lic. SW Workstation Expansion V5.0 (e-License) | C14: Unidad | D14: 1 | E14: =ROUND(AVERAGE(G14:H14),0) -> 4000000 | G14: N/A | H14: 4000000
A15: 12 | B15: Matriz, Marca: HIKVISION, Modelo: DS-6916UDI | C15: Unidad | D15: 1 | E15: =ROUND(AVERAGE(G15:H15),0) -> 13257000 | G15: 24514000 | H15: 2000000
A16: 13 | B16: KIT Control de Acceso | C16: Unidad | D16: 1 | E16: =ROUND(AVERAGE(G16:H16),0) -> 2937050 | G16: 3874100 | H16: 2000000
A17: 14 | B17: BOSCH A_ARDFPBEPICOC- LECTOR BIOMETRICO Y TARJETAS ICLASS / WIEGAND / TCP IP | C17: Unidad | D17: 1 | E17: =ROUND(AVERAGE(G17:H17),0) -> 5280000 | G17: 9560000 | H17: 1000000
A18: 15 | B18: 9069 Electroiman de 400 lbs | C18: Unidad | D18: 1 | E18: =ROUND(AVERAGE(G18:H18),0) -> 796000 | G18: 592000 | H18: 1000000
A19: 16 | B19: BAT1218 Bateria de respaldo Bateria 12V, 18 Ah | C19: Unidad | D19: 1 | E19: =ROUND(AVERAGE(G19:H19),0) -> 247000 | G19: 294000 | H19: 200000
A20: 17 | B20: BAT127.5-FB Batería fuente cargador Bateria 12V 7.2 Ah | C20: Unidad | D20: 1 | E20: =ROUND(AVERAGE(G20:H20),0) -> 205736 | G20: 211472 | H20: 200000
A21: 18 | B21: BOTON DE SALIDA SD-7201GC-P1 SECO LARM | C21: Unidad | D21: 1 | E21: =ROUND(AVERAGE(G21:H21),0) -> 1171806 | G21: 343612 | H21: 2000000
A22: 19 | B22: Monitor de CCTV 17", Compatible sistemas DAHUA / HIKVISION | C22: Unidad | D22: 1 | E22: =ROUND(AVERAGE(G22:H22),0) -> 2042500 | G22: 1085000 | H22: 3000000
A23: 20 | B23: Monitor de CCTV 24", Compatible sistemas DAHUA / HIKVISION | C23: Unidad | D23: 1 | E23: =ROUND(AVERAGE(G23:H23),0) -> 2603000 | G23: 1206000 | H23: 4000000
A24: 21 | B24: Monitor de CCTV 32'', Compatible sistemas DAHUA / HIKVISION | C24: Unidad | D24: 1 | E24: =ROUND(AVERAGE(G24:H24),0) -> 3180000 | G24: 2360000 | H24: 4000000
A25: 22 | B25: Monitor de CCTV 55", Compatible sistemas DAHUA / HIKVISION | C25: Unidad | D25: 1 | E25: =ROUND(AVERAGE(G25:H25),0) -> 4660000 | G25: 5320000 | H25: 4000000
A26: 23 | B26: NVR 16 canales Marca DAHUA | C26: Unidad | D26: 1 | E26: =ROUND(AVERAGE(G26:H26),0) -> 1862000 | G26: 2224000 | H26: 1500000
... A48: 45 | B48: Brazo para domo PTZ | C48: Unidad | D48: 1 | E48: =ROUND(AVERAGE(G48:H48),0) -> 590000 | G48: 980000 | H48: 200000
A49: VALOR TOTAL REPUESTOS | E49: =SUM(E4:E48) -> 104861050

Sheet RUTINA DE ACTIVIDADES
A3: MANTENIMIENTO PREVENTIVO
A4: A | B4: RUTINA DE MANTENIMIENTO PREVENTIVO
A5: ITEM | B5: SISTEMA | C5: ACTIVIDAD A REALIZAR
A6: 1 | B6: CCTV | C6: 1. Revisión, diagnóstico, limpieza general a todos y cada uno de los elementos que conforman el sistema.
C7: 2. Actualización de diagrama.
C8: 3. Entrega de diagnóstico del sistema con su respectivo registro fotográfico y proyección de las correcciones a las que haya lugar.
C9: 4. Revisión y ajuste de conexiones.
C10: 5. Capacitación de funcionamiento del sistema al personal que lo opera.
C11: 6. Revisión de Software y demás componentes.
A12: 2 | B12: SISTEMA DE AUDIO | C12: 1. Revisión, diagnostico, limpieza general a todos y cada uno de los elementos que conforman el sistema.
C13: 2. Revisión y ajuste de conexiones.
A14: 3 | B14: SISTEMA DE DETENCIÓN DE INCENDIO | C14: 1. Revisión, limpieza general a todos y cada uno de los elementos que conforman el sistema (Panel de control, detectores de humo y/o térmicos, sirenas, pulsadores, teléfonos de emergencia y demás equipos que conforman el sistema).
C15: 2. Actualización del diagrama
C16: 3. Verificación del funcionamiento en el panel de control, test primario del equipo para verificación de alarmas, errores y fallas.
C17: 4. Verificación de voltaje y conexiones.
C18: 5. Verificación y accionamiento de los circuitos de avisos de alarmas.
C19: 6. Reemplazo de cableado que se requiera
C20: 7. Verificación de conexiones (protecciones termo encogibles y soldadura de estaño)
C21: 8. Cambio y suministro de baterías de respaldo de las fuentes de alimentación de los estrobos y panel de incendio.
C22: 9. Revisión de la programación y efectuar la restauración a la que haya lugar.
C23: 10. Comprobación de la acometida de la fuente de alimentación de los circuitos de los equipos iniciadores y avisadores de alarma.
C24: 11. Verificación de calibración y prueba de detectores que muestren falla.
C25: 12. Prueba de la fuente de alimentación principal y la fuente de alimentación secundaria.
C26: 13. Capacitación del funcionamiento del sistema al personal que lo opera.
A27: 4 | B27: ARCO O PUERTA DETECTORA DE ARMAS Y METALES (APOYO DE REQUISAS) | C27: 1. Revisión, diagnóstico, limpieza general a todos y cada uno de los elementos que conforman el sistema.
C28: 2. Calibración de zonas de detección.
C29: 3. Reprogramación del sistema.
C30: 4. Revisión general.
C31: 5. Limpieza general.
A32: 5 | B32: DETECTOR MANUAL DE ARMAS Y METALES (GARRETT | C32: 1. Revisión, diagnóstico, limpieza general a todos y cada uno de los elementos que conforman el sistema.
C33: 2. Calibración de zonas de detección.
C34: 3. Mantenimiento a las baterías recargables y a su respectivo cargado.
A35: 6 | B35: MAQUINAS RAYOS X -ASTROPHYSICS INC XIS 5335 | C35: 1. Revisión, diagnóstico, limpieza general a todos y cada uno de los elementos que conforman el sistema.
C36: 2. Calibración de zonas de detección.
C37: 3. Reprogramación del sistema.
C38: 4. Revisión general.
C39: 5. Limpieza general.
A40: 7 | B40: ACCESO BIOMETRICO DE PUERTAS | C40: 1. Revisión, diagnóstico, limpieza general a todos y cada uno de los elementos que conforman el acceso biométrico.
C41: 2. Calibración
C42: 3. Reprogramación del sistema.
...

Sheet CONCLUSIONES -RECOMENDACIONES
A2: SISTEMA CCTV | I2: SISTEMA DETECCION DE INCENDIO | M2: SISTEMA DE AUDIO BOSH | P2: TABLEROS DE CONTRAL DE ILUMINACION
B3: MANTENIMIENTO PREVENTIVO | F3: RECOMENDACIONES | I3: RECOMENDACIONES | M3: RECOMENDACIONES | P3: RECOMENDACIONES
A4: PALACIO DE JUSTICIA " PEDRO ELIAS SERRANO ABADIA" DE CALI | B4: Realizar mantenimiento especializado, preventivo al sistema de CCTV donde se debe de realizar la limpieza interna y externa, lubricación de partes electromagnéticas y limpieza de partículas anticorrosivas, se realizar ajustes de componentes electrónicos que conforman el sistema CCTV, la limpieza se debe realizar con espuma limpiadora para las carcasas y soportes, limpiavidrios para los acrílicos transparentes, limpia, contactos para los conectores de video y datos. Realizar mantenimiento al software que permite la visualización y extracción de información cuando así se requiere, se debe de actualizar las licencias de funcionamiento del CCTV del Palacio de Justicia de Cali. | F4: • Se recomienda la adquisición o actualización de las licencias que se encuentran vencidas. • Ampliación de la capacidad de almacenamiento de los servidores, actualmente la capacidad de almacenamiento es de veinticinco (25) a treinta (30) días aproximadamente • Con base en los reportes entregados en el mantenimiento preventivo del sistema de CCTV, se requiere la ampliación de la cobertura del CCTV, para suplir y corregir los puntos ciegos identificados. • Efectuar los cambios y/o movimientos de las cámaras a fin de garantizar la visualización. • Entregar recomendaciones al finalizar el mantenimiento. | I4: • Realizar reconfiguración del sistema de detección de incendios debido a todas las fallas que presentada en su panel de notificaciones. • Verificar la funcionalidad de todo el componente de alertas en todos los pisos. • Se requiere Sensores Detectores de humo Térmicos para cuarto de máquinas de la OTIS, ubicada en el piso 5 de la Torre A. • Se requiere Sensores Detectores de humo Térmicos para cuarto de máquinas de la OTIS, ubicada en el piso 8 de la Torre B. | M4: El sistema de Audio consta de 107 parlantes marca Bosch distribuidos en las zonas comunes de todos los pisos tanto de la torre A como de la torre B, los cuales van unidos a unos equipos marca Bosch como amplificadores de zonas. | P4: Se requiere el Mantenimiento Preventivo y Correctivo de los tableros de control de iluminación Power Command de EATON, instalados en las Torres A y B del Palacio de Justicia. Estos tableros permiten, a través de una programación establecida, encender y apagar las luminarias en horarios no hábiles, mitigando los gastos innecesarios y favoreciendo la eficiencia energética.
A5: PALACIO NACIONAL DE CALI | B5: Efectuar mantenimiento preventivo en el Palacio Nacional en el cual se intervienen las cámaras externas e internas y parqueadero, realizando limpieza interna y externa de cada equipo, esto con el fin de conservar la vida útil de cada equipo y de esta manera garantizar un buen funcionamiento en el área de CCTV. | F5: • Se recomienda la reprogramación y puesta en funcionamiento del sistema de control de acceso ya que no es posible acceder a su configuración y el personal que esta enrolado en el sistema no tiene acceso, adicionalmente la adquisición de la pieza metálica a la cual se adhiere el electro imán ya que no se encuentra en su punto de instalación. • Se recomienda la adquisición de un disco duro de mínimo de 8TB para aumentar la capacidad de almacenamiento, la actual es de máximo treinta (30) días. • Entregar recomendaciones al finalizar el mantenimiento.
A6: EDIFICIO ENTRECEIBAS | B6: Realizar mantenimiento preventivo en el Edificio Entreceibas, Edificio Juzgados Penales para Adolescentes, Ley de Tierras, Palacio Nacional de Buenaventura, Palacio de Justicia "Manuel Antonio Sanclemente" de Buga, Palacio de Justicia"Simon David Carrejo Bejarano" de palmira, Edificio Sede de Familia de Palmira, y Palacio de Justicia de Cartago, en el cual se intervienen las cámaras externas e internas y los equipos que lo componen el sistema, efectuar limpieza interna y externa de cada equipo, esto con el fin de conservar la vida útil de cada uno y de esta manera garantizar un buen funcionamiento en el área de CCTV.
A7: EDIFICIO JUZGADOS PENALES PARA ADOLECENTES
A8: EDIFICIO LEY DE TIERRAS
A9: PALACIO NACIONAL DE BUENAVENTURA
A10: PALACIO DE JUSTICIA "MANUEL ANTONIO SANCLEMENTE" DE BUGA
A11: PALACIO DE JUSTICIA" SIMON DAVID CARREJO BEJARANO" DE PALMIRA
A12: EDIFICIO SEDE DE FAMILIA DE PALMIRA
A13: PALACIO DE JUSTICIA DE CARTAGO
