Workbook

Sheet RESUMEN AGOSTO
A1: RESUMEN DE EJECUCION CORTE 31/OCTUBRE/2025
B3: Categoría | C3: VALOR UN | D3: % | G3: PLAN DE PAGOS | I3: SOBRE LA EJECCUCIÓN
B4: 1. Audio y video | C4: =SUMIFS('DETALLE AGOSTO'!$L$2:$L$255,'DETALLE AGOSTO'!$E$2:$E$255,'RESUMEN AGOSTO'!$B4) -> 58845500 | D4: ='RESUMEN AGOSTO'!$C4/$C$12 -> 0.09598666 | G4: 1ER PAGO | H4: 200090750
B5: 11. Suministro de energía | C5: =SUMIFS('DETALLE AGOSTO'!$L$2:$L$255,'DETALLE AGOSTO'!$E$2:$E$255,'RESUMEN AGOSTO'!$B5) -> 16987250 | D5: ='RESUMEN AGOSTO'!$C5/$C$12 -> 0.02770899 | G5: 2DO PAGO | H5: 200090750 | I5: 0.3 | J5: =C14*I5 -> 240108900
B6: 12. Transporte | C6: =SUMIFS('DETALLE AGOSTO'!$L$2:$L$255,'DETALLE AGOSTO'!$E$2:$E$255,'RESUMEN AGOSTO'!$B6) -> 2.18071e+08 | D6: ='RESUMEN AGOSTO'!$C6/$C$12 -> 0.35570956 | G6: 3ER PAGO | H6: 320145200 | I6: 0.5 | J6: =I6*C14 -> 400181500
B7: 2. Catering | C7: =SUMIFS('DETALLE AGOSTO'!$L$2:$L$255,'DETALLE AGOSTO'!$E$2:$E$255,'RESUMEN AGOSTO'!$B7) -> 49888370 | D7: ='RESUMEN AGOSTO'!$C7/$C$12 -> 0.081376112
B8: 5. Estructuras exteriores | C8: =SUMIFS('DETALLE AGOSTO'!$L$2:$L$255,'DETALLE AGOSTO'!$E$2:$E$255,'RESUMEN AGOSTO'!$B8) -> 48302100 | D8: ='RESUMEN AGOSTO'!$C8/$C$12 -> 0.078788646
B9: 6. Materiales publicidad institucional | C9: =SUMIFS('DETALLE AGOSTO'!$L$2:$L$255,'DETALLE AGOSTO'!$E$2:$E$255,'RESUMEN AGOSTO'!$B9) -> 47782248 | D9: ='RESUMEN AGOSTO'!$C9/$C$12 -> 0.077940683
B10: 7. Mobiliario | C10: =SUMIFS('DETALLE AGOSTO'!$L$2:$L$255,'DETALLE AGOSTO'!$E$2:$E$255,'RESUMEN AGOSTO'!$B10) -> 2491265 | D10: ='RESUMEN AGOSTO'!$C10/$C$12 -> 0.0040636617
B11: 8. Personal apoyo | C11: =SUMIFS('DETALLE AGOSTO'!$L$2:$L$255,'DETALLE AGOSTO'!$E$2:$E$255,'RESUMEN AGOSTO'!$B11) -> 1.7069141e+08 | D11: ='RESUMEN AGOSTO'!$C11/$C$12 -> 0.27842569
B12: VALOR TOTAL | C12: =SUM(C4:C11) -> 6.1305915e+08 | D12: 1
B14: PRESUPUESTO CONVENIO | C14: 800363000
B15: VALOR NETO EJECUTADO | C15: =+'DETALLE AGOSTO'!L256 -> 5.1517575e+08
B16: IVA | C16: =+'DETALLE AGOSTO'!L257 -> 97883393 | D16: %EJECUCIÓN
B17: TOTAL EJECUTADO | C17: =+'DETALLE AGOSTO'!L258 -> 6.1305915e+08 | D17: =C17/C14 -> 0.76597637
B18: POR EJECUTAR | C18: =C14-C17 -> 1.8730385e+08 | D18: =C18/C14 -> 0.23402363

Sheet DETALLE AGOSTO
A1: Fecha solicitud | B1: Fecha Servicio | C1: Dependencia | D1: Requerimiento | E1: Categoría | F1: Servicio o Bien | G1: Descripción | H1: Dirección | I1: Cantidad | J1: Valor | K1: IVA 19% | L1: TOTAL
A2: 3-may-25* | B2: 3-may-25* | C2: SESEC | D2: Requerimiento 1 | E2: 8. Personal apoyo | F2: 8.4 Auxiliar Logístico montaje y desmontaje mobiliario | G2: Café a la plaza | H2: Calle 12c # 1-40 Plaza la Concordia | I2: 6 | J2: 1410000 | K2: =J2*0.19 -> 267900 | L2: =J2+K2 -> 1677900
A3: 3-may-25* | B3: 3-may-25* | C3: SESEC | D3: Requerimiento 1 | E3: 12. Transporte | F3: 12.2 Transporte 6.5 Ton | G3: Café a la plaza | H3: Calle 12c # 1-40 La Candelaria | I3: 1 | J3: 1950000 | K3: =J3*0.19 -> 370500 | L3: =J3+K3 -> 2320500
A4: 3-may-25* | B4: 45780 | C4: SESEC | D4: Requerimiento 2 | E4: 1. Audio y video | F4: 1.2 Alquiler de sonido de 200 a 500 personas | G4: Café a la plaza | H4: Calle 12c # 1-40 La Candelaria | I4: 1 | J4: 4950000 | K4: =J4*0.19 -> 940500 | L4: =J4+K4 -> 5890500
A5: 3-may-25* | B5: 45780 | C5: SESEC | D5: Requerimiento 2 | E5: 2. Catering | F5: 2.7 Refrigério de sal | G5: Café a la plaza | H5: Calle 12c # 1-40 La Candelaria | I5: 200 | J5: 5300000 | K5: =J5*0.19 -> 1007000 | L5: =J5+K5 -> 6307000
A6: 3-may-25* | B6: 45780 | C6: SESEC | D6: Requerimiento 2 | E6: 11. Suministro de energía | F6: 11.6 Planta eléctrica - 120 KVA | G6: Café a la plaza | H6: Calle 12c # 1-40 La Candelaria | I6: 1 | J6: 2950000 | K6: =J6*0.19 -> 560500 | L6: =J6+K6 -> 3510500
A7: 3-may-25* | B7: 45780 | C7: SESEC | D7: Requerimiento 2 | E7: 11. Suministro de energía | F7: 11.9 Punto de luz en carpa | G7: Café a la plaza | H7: Calle 12c # 1-40 La Candelaria | I7: 35 | J7: 5075000 | K7: =J7*0.19 -> 964250 | L7: =J7+K7 -> 6039250
A8: 3-may-25* | B8: 45780 | C8: SGRSI | D8: Requerimiento 5 | E8: 5. Estructuras exteriores | F8: 5.1 Baño portátil | G8: Ferias fijas | H8: Bodega IPES carrera 38 No. 10 A-25 a Parqueadero las Aguas | I8: 2 | J8: 990000 | K8: =J8*0.19 -> 188100 | L8: =J8+K8 -> 1178100
A9: 3-may-25* | B9: 45780 | C9: SGRSI | D9: Requerimiento 5 | E9: 8. Personal apoyo | F9: 8.4 Auxiliar Logístico montaje y desmontaje mobiliario | G9: Ferias fijas | H9: Bodega IPES carrera 38 No. 10 A-25 a Parqueadero las Aguas | I9: 6 | J9: 1410000 | K9: =J9*0.19 -> 267900 | L9: =J9+K9 -> 1677900
A10: 3-may-25* | B10: 45780 | C10: SGRSI | D10: Requerimiento 5 | E10: 12. Transporte | F10: 12.2 Transporte 6.5 Ton | G10: Ferias fijas | H10: Bodega IPES carrera 38 No. 10 A-25 a Parqueadero las Aguas | I10: 1 | J10: 1950000 | K10: =J10*0.19 -> 370500 | L10: =J10+K10 -> 2320500
A11: 3-may-25* | B11: 45780 | C11: SGRSI | D11: Requerimiento 6 | E11: 5. Estructuras exteriores | F11: 5.1 Baño portátil | G11: Ferias fijas | H11: Bodega IPES carrera 38 No. 10 A-25 a Parqueadero la 24 | I11: 2 | J11: 990000 | K11: =J11*0.19 -> 188100 | L11: =J11+K11 -> 1178100
A12: 3-may-25* | B12: 45780 | C12: SGRSI | D12: Requerimiento 6 | E12: 8. Personal apoyo | F12: 8.4 Auxiliar Logístico montaje y desmontaje mobiliario | G12: Ferias fijas | H12: Bodega IPES carrera 38 No. 10 A-25 a Parqueadero la 24 | I12: 5 | J12: 1175000 | K12: =J12*0.19 -> 223250 | L12: =J12+K12 -> 1398250
A13: 3-may-25* | B13: 45781 | C13: SGRSI | D13: Requerimiento 6 | E13: 12. Transporte | F13: 12.2 Transporte 6.5 Ton | G13: Ferias fijas | H13: Bodega IPES carrera 38 No. 10 A-25 a Parqueadero la 24 | I13: 1 | J13: 1950000 | K13: =J13*0.19 -> 370500 | L13: =J13+K13 -> 2320500
A14: 3-may-25* | B14: 45781 | C14: SGRSI | D14: Requerimiento 7 | E14: 8. Personal apoyo | F14: 8.4 Auxiliar Logístico montaje y desmontaje mobiliario | G14: Ferias fijas | H14: Parqueadero las Aguas a Bodega IPES cra 38 # 10a- 25 | I14: 6 | J14: 1410000 | K14: =J14*0.19 -> 267900 | L14: =J14+K14 -> 1677900
A15: 3-may-25* | B15: 45781 | C15: SGRSI | D15: Requerimiento 7 | E15: 12. Transporte | F15: 12.2 Transporte 6.5 Ton | G15: Ferias fijas | H15: Parqueadero las Aguas a Bodega IPES cra 38 # 10a- 25 | I15: 1 | J15: 1950000 | K15: =J15*0.19 -> 370500 | L15: =J15+K15 -> 2320500
... A21: 3-may-25* | B21: 45782 | C21: SESEC | D21: Requerimiento 4 | E21: 8. Personal apoyo | F21: 8.4 Auxiliar Logístico montaje y desmontaje mobiliario | G21: Café a la plaza | H21: Calle 12c # 1-40 La Candelaria | I21: 6 | J21: 1410000 | K21: =J21*0.19 -> 267900 | L21: =J21+K21 -> 1677900
A22: 45779 | B22: 45782 | C22: SESEC | D22: Requerimiento 4 | E22: 12. Transporte | F22: 12.2 Transporte 6.5 Ton | G22: Café a la plaza | H22: Calle 12c # 1-40 La Candelaria | I22: 1 | J22: 1950000 | K22: =J22*0.19 -> 370500 | L22: =J22+K22 -> 2320500
A23: 45787 | B23: 45788 | C23: SGRSI | D23: Requerimiento 9 | E23: 5. Estructuras exteriores | F23: 5.1 Baño portátil | G23: Ferias fijas | H23: Bodega IPES carrera 38 No. 10 A-25 a Parqueadero la 24 | I23: 2 | J23: 990000 | K23: =J23*0.19 -> 188100 | L23: =J23+K23 -> 1178100
A24: 45787 | B24: 45788 | C24: SGRSI | D24: Requerimiento 9 | E24: 8. Personal apoyo | F24: 8.4 Auxiliar Logístico montaje y desmontaje mobiliario | G24: Ferias fijas | H24: Bodega IPES carrera 38 No. 10 A-25 a Parqueadero la 24 | I24: 5 | J24: 1175000 | K24: =J24*0.19 -> 223250 | L24: =J24+K24 -> 1398250
A25: 45787 | B25: 45788 | C25: SGRSI | D25: Requerimiento 9 | E25: 12. Transporte | F25: 12.2 Transporte 6.5 Ton | G25: Ferias fijas | H25: Bodega IPES carrera 38 No. 10 A-25 a Parqueadero la 24 | I25: 1 | J25: 1950000 | K25: =J25*0.19 -> 370500 | L25: =J25+K25 -> 2320500
A26: 45787 | B26: 45788 | C26: SGRSI | D26: Requerimiento 10 | E26: 5. Estructuras exteriores | F26: 5.1 Baño portátil | G26: Ferias fijas | H26: Bodega IPES carrera 38 No. 10 A-25 a Parqueadero las Aguas | I26: 2 | J26: 990000 | K26: =J26*0.19 -> 188100 | L26: =J26+K26 -> 1178100
A27: 45787 | B27: 45788 | C27: SGRSI | D27: Requerimiento 10 | E27: 8. Personal apoyo | F27: 8.4 Auxiliar Logístico montaje y desmontaje mobiliario | G27: Ferias fijas | H27: Bodega IPES carrera 38 No. 10 A-25 a Parqueadero las Aguas | I27: 6 | J27: 1410000 | K27: =J27*0.19 -> 267900 | L27: =J27+K27 -> 1677900
A28: 45787 | B28: 45788 | C28: SGRSI | D28: Requerimiento 10 | E28: 12. Transporte | F28: 12.2 Transporte 6.5 Ton | G28: Ferias fijas | H28: Bodega IPES carrera 38 No. 10 A-25 a Parqueadero las Aguas | I28: 1 | J28: 1950000 | K28: =J28*0.19 -> 370500 | L28: =J28+K28 -> 2320500
A29: 45788 | B29: 45789 | C29: SGRSI | D29: Requerimiento 11 | E29: 8. Personal apoyo | F29: 8.4 Auxiliar Logístico montaje y desmontaje mobiliario | G29: Ferias fijas | H29: Parqueadero las Aguas a Bodega IPES cra 38 # 10a- 25 | I29: 6 | J29: 1410000 | K29: =J29*0.19 -> 267900 | L29: =J29+K29 -> 1677900
A30: 45788 | B30: 45789 | C30: SGRSI | D30: Requerimiento 11 | E30: 12. Transporte | F30: 12.2 Transporte 6.5 Ton | G30: Ferias fijas | H30: Parqueadero las Aguas a Bodega IPES cra 38 # 10a- 25 | I30: 1 | J30: 1950000 | K30: =J30*0.19 -> 370500 | L30: =J30+K30 -> 2320500
A31: 45788 | B31: 45789 | C31: SGRSI | D31: Requerimiento 12 | E31: 8. Personal apoyo | F31: 8.4 Auxiliar Logístico montaje y desmontaje mobiliario | G31: Ferias fijas | H31: Parqueadero la 24 a Bodega IPES cra 38 # 10a- 25 | I31: 5 | J31: 1175000 | K31: =J31*0.19 -> 223250 | L31: =J31+K31 -> 1398250
A32: 45788 | B32: 45789 | C32: SGRSI | D32: Requerimiento 12 | E32: 12. Transporte | F32: 12.2 Transporte 6.5 Ton | G32: Ferias fijas | H32: Parqueadero la 24 a Bodega IPES cra 38 # 10a- 25 | I32: 1 | J32: 1950000 | K32: =J32*0.19 -> 370500 | L32: =J32+K32 -> 2320500
A33: 45789 | B33: 45789 | C33: SGRSI | D33: Requerimiento 13 | E33: 8. Personal apoyo | F33: 8.4 Auxiliar Logístico montaje y desmontaje mobiliario | G33: Feria institucional mes de las madres | H33: Bodega IPES carrera 38 No. 10 A-25 a Parque zonal carrera 55 con calle 170 | I33: 6 | J33: 1410000 | K33: =J33*0.19 -> 267900 | L33: =J33+K33 -> 1677900
... A205: 45868 | B205: 45878 | C205: SGRSI | D205: Requerimiento 85 | E205: 5. Estructuras exteriores | F205: 5.1 Baño portátil | G205: Ferias fijas | H205: Bodega IPES cra 38 # 10a- 25 a Parqueadero las Aguas | I205: 2 | J205: 990000 | K205: =J205*0.19 -> 188100 | L205: =J205+K205 -> 1178100
A206: 45868 | B206: 45878 | C206: SGRSI | D206: Requerimiento 86 | E206: 8. Personal apoyo | F206: 8.4 Auxiliar Logístico montaje y desmontaje mobiliario | G206: Ferias fijas | H206: Bodega IPES cra 38 # 10a- 25 a Parqueadero la 24 | I206: 10 | J206: =1175000*2 -> 2350000 | K206: =J206*0.19 -> 446500 | L206: =J206+K206 -> 2796500
A207: 45868 | B207: 45878 | C207: SGRSI | D207: Requerimiento 86 | E207: 12. Transporte | F207: 12.2 Transporte 6.5 Ton | G207: Ferias fijas | H207: Bodega IPES cra 38 # 10a- 25 a Parqueadero la 24 | I207: 2 | J207: =1950000*2 -> 3900000 | K207: =J207*0.19 -> 741000 | L207: =J207+K207 -> 4641000
A208: 45868 | B208: 45878 | C208: SGRSI | D208: Requerimiento 86 | E208: 5. Estructuras exteriores | F208: 5.1 Baño portátil | G208: Ferias fijas | H208: Bodega IPES cra 38 # 10a- 25 a Parqueadero la 24 | I208: 2 | J208: 990000 | K208: =J208*0.19 -> 188100 | L208: =J208+K208 -> 1178100
A209: 45868 | B209: 45879 | C209: SGRSI | D209: Requerimiento 87 | E209: 8. Personal apoyo | F209: 8.4 Auxiliar Logístico montaje y desmontaje mobiliario | G209: Ferias fijas | H209: Parqueadero las Aguas a Bodega IPES cra 38 # 10a- 25 | I209: 6 | J209: 1410000 | K209: =J209*0.19 -> 267900 | L209: =J209+K209 -> 1677900
A210: 45868 | B210: 45879 | C210: SGRSI | D210: Requerimiento 87 | E210: 12. Transporte | F210: 12.2 Transporte 6.5 Ton | G210: Ferias fijas | H210: Parqueadero las Aguas a Bodega IPES cra 38 # 10a- 25 | I210: 1 | J210: 1950000 | K210: =J210*0.19 -> 370500 | L210: =J210+K210 -> 2320500
A211: 45878 | B211: 45879 | C211: SESEC | D211: Requerimiento 88 | E211: 8. Personal apoyo | F211: 8.12 Creador de contenido influencer | G211: Fritanga Fest | H211: Plaza la concordia | I211: 1 | J211: 4519500 | K211: =J211*0.19 -> 858705 | L211: =J211+K211 -> 5378205
A212: 45870 | B212: 45871 | C212: SGRSI | D212: Requerimiento 89 | E212: 8. Personal apoyo | F212: 8.4 Auxiliar Logístico montaje y desmontaje mobiliario | G212: Festival de verano | H212: Bodega Ipes a Simon Bolivar | I212: 5 | J212: 1175000 | K212: =J212*0.19 -> 223250 | L212: =J212+K212 -> 1398250
A213: 45870 | B213: 45871 | C213: SGRSI | D213: Requerimiento 89 | E213: 12. Transporte | F213: 12.2 Transporte 6.5 Ton | G213: Festival de verano | H213: Bodega Ipes a Simon Bolivar | I213: 1 | J213: 1950000 | K213: =J213*0.19 -> 370500 | L213: =J213+K213 -> 2320500
A214: 45871 | B214: 2/08/2025 al 10/08/2025 | C214: SGRSI | D214: Requerimiento 90 | E214: 1. Audio y video | F214: 1.1 Alquiler de sonido de 50 a 200 personas | G214: Festival de verano | H214: Parque Simon Bolivar | I214: 2 | J214: =2250000*2 -> 4500000 | K214: =J214*0.19 -> 855000 | L214: =J214+K214 -> 5355000
A215: 45871 | B215: 2/08/2025 al 10/08/2025 | C215: SGRSI | D215: Requerimiento 90 | E215: 11. Suministro de energía | F215: 11.3 Planta eléctrica - 40 KVA | G215: Festival de verano | H215: Parque Simon Bolivar | I215: 2 | J215: =1650000*2 -> 3300000 | K215: =J215*0.19 -> 627000 | L215: =J215+K215 -> 3927000
A216: 45871 | B216: 2/08/2025 al 10/08/2025 | C216: SGRSI | D216: Requerimiento 90 | E216: 8. Personal apoyo | F216: 8.1 Animador y/o Presentador con experiencia | G216: Festival de verano | H216: Parque Simon Bolivar | I216: 2 | J216: =1450000*2 -> 2900000 | K216: =J216*0.19 -> 551000 | L216: =J216+K216 -> 3451000
...

Sheet RESUMEN OCTUBRE .
A1: RESUMEN DE EJECUCION CORTE 31/OCTUBRE/2025
B3: Categoría | C3: VALOR UN | D3: % | G3: PLAN DE PAGOS | I3: SOBRE LA EJECCUCIÓN
B4: 1. Audio y video | C4: =SUMIFS('Detalle noviembre'!$L$2:$L$350,'Detalle noviembre'!$E$2:$E$350,$B4) -> 58845500 | D4: ='RESUMEN OCTUBRE .'!$C4/$C$12 -> 0.074497683 | G4: 1ER PAGO | H4: 200090750
B5: 11. Suministro de energía | C5: =SUMIFS('Detalle noviembre'!$L$2:$L$350,'Detalle noviembre'!$E$2:$E$350,$B5) -> 16987250 | D5: ='RESUMEN OCTUBRE .'!$C5/$C$12 -> 0.021505651 | G5: 2DO PAGO | H5: 200090750 | I5: 0.3 | J5: =C14*I5 -> 240108900
B6: 12. Transporte | C6: =SUMIFS('Detalle noviembre'!$L$2:$L$350,'Detalle noviembre'!$E$2:$E$350,$B6) -> 3.053295e+08 | D6: ='RESUMEN OCTUBRE .'!$C6/$C$12 -> 0.38654341 | G6: 3ER PAGO | H6: 320145200 | I6: 0.5 | J6: =I6*C14 -> 400181500
B7: 2. Catering | C7: =SUMIFS('Detalle noviembre'!$L$2:$L$350,'Detalle noviembre'!$E$2:$E$350,$B7) -> 60865858 | D7: ='RESUMEN OCTUBRE .'!$C7/$C$12 -> 0.077055432 | G7: 4TO PAGO | H7: 200000000 | I7: 0.7 | J7: =I7*C14 -> 560254100
B8: 5. Estructuras exteriores | C8: =SUMIFS('Detalle noviembre'!$L$2:$L$350,'Detalle noviembre'!$E$2:$E$350,$B8) -> 69507900 | D8: ='RESUMEN OCTUBRE .'!$C8/$C$12 -> 0.087996151 | G8: 5TO PAGO | H8: 160000000 | I8: 0.9 | J8: =I8*C14 -> 720326700
B9: 6. Materiales publicidad institucional | C9: =SUMIFS('Detalle noviembre'!$L$2:$L$350,'Detalle noviembre'!$E$2:$E$350,$B9) -> 48903857 | D9: ='RESUMEN OCTUBRE .'!$C9/$C$12 -> 0.061911685 | G9: 6TO Y ÚLTIMO | H9: 120036300 | I9: 0.1 | J9: =I9*C14 -> 80036300
B10: 7. Mobiliario | C10: =SUMIFS('Detalle noviembre'!$L$2:$L$350,'Detalle noviembre'!$E$2:$E$350,$B10) -> 2491265 | D10: ='RESUMEN OCTUBRE .'!$C10/$C$12 -> 0.003153911 | H10: =SUM(H4:H9) -> 1200363000 | J10: =J8+J9 -> 800363000
B11: 8. Personal apoyo | C11: =SUMIFS('Detalle noviembre'!$L$2:$L$350,'Detalle noviembre'!$E$2:$E$350,$B11) -> 2.2696592e+08 | D11: ='RESUMEN OCTUBRE .'!$C11/$C$12 -> 0.28733608
B12: VALOR TOTAL | C12: =SUM(C4:C11) -> 7.8989705e+08 | D12: 1
B14: PRESUPUESTO CONVENIO | C14: 800363000
B15: VALOR NETO EJECUTADO | C15: =SUM('Detalle noviembre'!J2:J350) -> 6.6377903e+08
B16: IVA | C16: =SUM('Detalle noviembre'!K2:K350) -> 1.2611802e+08 | D16: %EJECUCIÓN
B17: TOTAL EJECUTADO | C17: =SUM('Detalle noviembre'!L2:L350) -> 7.8989705e+08 | D17: =C17/C14 -> 0.98692349
B18: POR EJECUTAR | C18: =C14-C17 -> 10465952 | D18: =C18/C14 -> 0.013076507

Sheet Detalle octubre
A1: Fecha solicitud | B1: Fecha Servicio | C1: Dependencia | D1: Requerimiento | E1: Categoría | F1: Servicio o Bien | G1: Descripción | H1: Dirección | I1: Cantidad | J1: Valor | K1: IVA 19% | L1: TOTAL
A2: 3-may-25* | B2: 3-may-25* | C2: SESEC | D2: Requerimiento 1 | E2: 8. Personal apoyo | F2: 8.4 Auxiliar Logístico montaje y desmontaje mobiliario | G2: Café a la plaza | H2: Calle 12c # 1-40 Plaza la Concordia | I2: 6 | J2: 1410000 | K2: =J2*0.19 -> 267900 | L2: =J2+K2 -> 1677900
A3: 3-may-25* | B3: 3-may-25* | C3: SESEC | D3: Requerimiento 1 | E3: 12. Transporte | F3: 12.2 Transporte 6.5 Ton | G3: Café a la plaza | H3: Calle 12c # 1-40 La Candelaria | I3: 1 | J3: 1950000 | K3: =J3*0.19 -> 370500 | L3: =J3+K3 -> 2320500
A4: 3-may-25* | B4: 45780 | C4: SESEC | D4: Requerimiento 2 | E4: 1. Audio y video | F4: 1.2 Alquiler de sonido de 200 a 500 personas | G4: Café a la plaza | H4: Calle 12c # 1-40 La Candelaria | I4: 1 | J4: 4950000 | K4: =J4*0.19 -> 940500 | L4: =J4+K4 -> 5890500
A5: 3-may-25* | B5: 45780 | C5: SESEC | D5: Requerimiento 2 | E5: 2. Catering | F5: 2.7 Refrigério de sal | G5: Café a la plaza | H5: Calle 12c # 1-40 La Candelaria | I5: 200 | J5: 5300000 | K5: =J5*0.19 -> 1007000 | L5: =J5+K5 -> 6307000
A6: 3-may-25* | B6: 45780 | C6: SESEC | D6: Requerimiento 2 | E6: 11. Suministro de energía | F6: 11.6 Planta eléctrica - 120 KVA | G6: Café a la plaza | H6: Calle 12c # 1-40 La Candelaria | I6: 1 | J6: 2950000 | K6: =J6*0.19 -> 560500 | L6: =J6+K6 -> 3510500
A7: 3-may-25* | B7: 45780 | C7: SESEC | D7: Requerimiento 2 | E7: 11. Suministro de energía | F7: 11.9 Punto de luz en carpa | G7: Café a la plaza | H7: Calle 12c # 1-40 La Candelaria | I7: 35 | J7: 5075000 | K7: =J7*0.19 -> 964250 | L7: =J7+K7 -> 6039250
A8: 3-may-25* | B8: 45780 | C8: SGRSI | D8: Requerimiento 5 | E8: 5. Estructuras exteriores | F8: 5.1 Baño portátil | G8: Ferias fijas | H8: Bodega IPES carrera 38 No. 10 A-25 a Parqueadero las Aguas | I8: 2 | J8: 990000 | K8: =J8*0.19 -> 188100 | L8: =J8+K8 -> 1178100
A9: 3-may-25* | B9: 45780 | C9: SGRSI | D9: Requerimiento 5 | E9: 8. Personal apoyo | F9: 8.4 Auxiliar Logístico montaje y desmontaje mobiliario | G9: Ferias fijas | H9: Bodega IPES carrera 38 No. 10 A-25 a Parqueadero las Aguas | I9: 6 | J9: 1410000 | K9: =J9*0.19 -> 267900 | L9: =J9+K9 -> 1677900
A10: 3-may-25* | B10: 45780 | C10: SGRSI | D10: Requerimiento 5 | E10: 12. Transporte | F10: 12.2 Transporte 6.5 Ton | G10: Ferias fijas | H10: Bodega IPES carrera 38 No. 10 A-25 a Parqueadero las Aguas | I10: 1 | J10: 1950000 | K10: =J10*0.19 -> 370500 | L10: =J10+K10 -> 2320500
A11: 3-may-25* | B11: 45780 | C11: SGRSI | D11: Requerimiento 6 | E11: 5. Estructuras exteriores | F11: 5.1 Baño portátil | G11: Ferias fijas | H11: Bodega IPES carrera 38 No. 10 A-25 a Parqueadero la 24 | I11: 2 | J11: 990000 | K11: =J11*0.19 -> 188100 | L11: =J11+K11 -> 1178100
A12: 3-may-25* | B12: 45780 | C12: SGRSI | D12: Requerimiento 6 | E12: 8. Personal apoyo | F12: 8.4 Auxiliar Logístico montaje y desmontaje mobiliario | G12: Ferias fijas | H12: Bodega IPES carrera 38 No. 10 A-25 a Parqueadero la 24 | I12: 5 | J12: 1175000 | K12: =J12*0.19 -> 223250 | L12: =J12+K12 -> 1398250
A13: 3-may-25* | B13: 45781 | C13: SGRSI | D13: Requerimiento 6 | E13: 12. Transporte | F13: 12.2 Transporte 6.5 Ton | G13: Ferias fijas | H13: Bodega IPES carrera 38 No. 10 A-25 a Parqueadero la 24 | I13: 1 | J13: 1950000 | K13: =J13*0.19 -> 370500 | L13: =J13+K13 -> 2320500
A14: 3-may-25* | B14: 45781 | C14: SGRSI | D14: Requerimiento 7 | E14: 8. Personal apoyo | F14: 8.4 Auxiliar Logístico montaje y desmontaje mobiliario | G14: Ferias fijas | H14: Parqueadero las Aguas a Bodega IPES cra 38 # 10a- 25 | I14: 6 | J14: 1410000 | K14: =J14*0.19 -> 267900 | L14: =J14+K14 -> 1677900
A15: 3-may-25* | B15: 45781 | C15: SGRSI | D15: Requerimiento 7 | E15: 12. Transporte | F15: 12.2 Transporte 6.5 Ton | G15: Ferias fijas | H15: Parqueadero las Aguas a Bodega IPES cra 38 # 10a- 25 | I15: 1 | J15: 1950000 | K15: =J15*0.19 -> 370500 | L15: =J15+K15 -> 2320500
... A21: 3-may-25* | B21: 45782 | C21: SESEC | D21: Requerimiento 4 | E21: 8. Personal apoyo | F21: 8.4 Auxiliar Logístico montaje y desmontaje mobiliario | G21: Café a la plaza | H21: Calle 12c # 1-40 La Candelaria | I21: 6 | J21: 1410000 | K21: =J21*0.19 -> 267900 | L21: =J21+K21 -> 1677900
A22: 45779 | B22: 45782 | C22: SESEC | D22: Requerimiento 4 | E22: 12. Transporte | F22: 12.2 Transporte 6.5 Ton | G22: Café a la plaza | H22: Calle 12c # 1-40 La Candelaria | I22: 1 | J22: 1950000 | K22: =J22*0.19 -> 370500 | L22: =J22+K22 -> 2320500
A23: 45787 | B23: 45788 | C23: SGRSI | D23: Requerimiento 9 | E23: 5. Estructuras exteriores | F23: 5.1 Baño portátil | G23: Ferias fijas | H23: Bodega IPES carrera 38 No. 10 A-25 a Parqueadero la 24 | I23: 2 | J23: 990000 | K23: =J23*0.19 -> 188100 | L23: =J23+K23 -> 1178100
A24: 45787 | B24: 45788 | C24: SGRSI | D24: Requerimiento 9 | E24: 8. Personal apoyo | F24: 8.4 Auxiliar Logístico montaje y desmontaje mobiliario | G24: Ferias fijas | H24: Bodega IPES carrera 38 No. 10 A-25 a Parqueadero la 24 | I24: 5 | J24: 1175000 | K24: =J24*0.19 -> 223250 | L24: =J24+K24 -> 1398250
A25: 45787 | B25: 45788 | C25: SGRSI | D25: Requerimiento 9 | E25: 12. Transporte | F25: 12.2 Transporte 6.5 Ton | G25: Ferias fijas | H25: Bodega IPES carrera 38 No. 10 A-25 a Parqueadero la 24 | I25: 1 | J25: 1950000 | K25: =J25*0.19 -> 370500 | L25: =J25+K25 -> 2320500
A26: 45787 | B26: 45788 | C26: SGRSI | D26: Requerimiento 10 | E26: 5. Estructuras exteriores | F26: 5.1 Baño portátil | G26: Ferias fijas | H26: Bodega IPES carrera 38 No. 10 A-25 a Parqueadero las Aguas | I26: 2 | J26: 990000 | K26: =J26*0.19 -> 188100 | L26: =J26+K26 -> 1178100
A27: 45787 | B27: 45788 | C27: SGRSI | D27: Requerimiento 10 | E27: 8. Personal apoyo | F27: 8.4 Auxiliar Logístico montaje y desmontaje mobiliario | G27: Ferias fijas | H27: Bodega IPES carrera 38 No. 10 A-25 a Parqueadero las Aguas | I27: 6 | J27: 1410000 | K27: =J27*0.19 -> 267900 | L27: =J27+K27 -> 1677900
A28: 45787 | B28: 45788 | C28: SGRSI | D28: Requerimiento 10 | E28: 12. Transporte | F28: 12.2 Transporte 6.5 Ton | G28: Ferias fijas | H28: Bodega IPES carrera 38 No. 10 A-25 a Parqueadero las Aguas | I28: 1 | J28: 1950000 | K28: =J28*0.19 -> 370500 | L28: =J28+K28 -> 2320500
A29: 45788 | B29: 45789 | C29: SGRSI | D29: Requerimiento 11 | E29: 8. Personal apoyo | F29: 8.4 Auxiliar Logístico montaje y desmontaje mobiliario | G29: Ferias fijas | H29: Parqueadero las Aguas a Bodega IPES cra 38 # 10a- 25 | I29: 6 | J29: 1410000 | K29: =J29*0.19 -> 267900 | L29: =J29+K29 -> 1677900
A30: 45788 | B30: 45789 | C30: SGRSI | D30: Requerimiento 11 | E30: 12. Transporte | F30: 12.2 Transporte 6.5 Ton | G30: Ferias fijas | H30: Parqueadero las Aguas a Bodega IPES cra 38 # 10a- 25 | I30: 1 | J30: 1950000 | K30: =J30*0.19 -> 370500 | L30: =J30+K30 -> 2320500
A31: 45788 | B31: 45789 | C31: SGRSI | D31: Requerimiento 12 | E31: 8. Personal apoyo | F31: 8.4 Auxiliar Logístico montaje y desmontaje mobiliario | G31: Ferias fijas | H31: Parqueadero la 24 a Bodega IPES cra 38 # 10a- 25 | I31: 5 | J31: 1175000 | K31: =J31*0.19 -> 223250 | L31: =J31+K31 -> 1398250
A32: 45788 | B32: 45789 | C32: SGRSI | D32: Requerimiento 12 | E32: 12. Transporte | F32: 12.2 Transporte 6.5 Ton | G32: Ferias fijas | H32: Parqueadero la 24 a Bodega IPES cra 38 # 10a- 25 | I32: 1 | J32: 1950000 | K32: =J32*0.19 -> 370500 | L32: =J32+K32 -> 2320500
A33: 45789 | B33: 45789 | C33: SGRSI | D33: Requerimiento 13 | E33: 8. Personal apoyo | F33: 8.4 Auxiliar Logístico montaje y desmontaje mobiliario | G33: Feria institucional mes de las madres | H33: Bodega IPES carrera 38 No. 10 A-25 a Parque zonal carrera 55 con calle 170 | I33: 6 | J33: 1410000 | K33: =J33*0.19 -> 267900 | L33: =J33+K33 -> 1677900
... A205: 45868 | B205: 45878 | C205: SGRSI | D205: Requerimiento 85 | E205: 5. Estructuras exteriores | F205: 5.1 Baño portátil | G205: Ferias fijas | H205: Bodega IPES cra 38 # 10a- 25 a Parqueadero las Aguas | I205: 2 | J205: 990000 | K205: =J205*0.19 -> 188100 | L205: =J205+K205 -> 1178100
A206: 45868 | B206: 45878 | C206: SGRSI | D206: Requerimiento 86 | E206: 8. Personal apoyo | F206: 8.4 Auxiliar Logístico montaje y desmontaje mobiliario | G206: Ferias fijas | H206: Bodega IPES cra 38 # 10a- 25 a Parqueadero la 24 | I206: 10 | J206: =1175000*2 -> 2350000 | K206: =J206*0.19 -> 446500 | L206: =J206+K206 -> 2796500
A207: 45868 | B207: 45878 | C207: SGRSI | D207: Requerimiento 86 | E207: 12. Transporte | F207: 12.2 Transporte 6.5 Ton | G207: Ferias fijas | H207: Bodega IPES cra 38 # 10a- 25 a Parqueadero la 24 | I207: 2 | J207: =1950000*2 -> 3900000 | K207: =J207*0.19 -> 741000 | L207: =J207+K207 -> 4641000
A208: 45868 | B208: 45878 | C208: SGRSI | D208: Requerimiento 86 | E208: 5. Estructuras exteriores | F208: 5.1 Baño portátil | G208: Ferias fijas | H208: Bodega IPES cra 38 # 10a- 25 a Parqueadero la 24 | I208: 2 | J208: 990000 | K208: =J208*0.19 -> 188100 | L208: =J208+K208 -> 1178100
A209: 45868 | B209: 45879 | C209: SGRSI | D209: Requerimiento 87 | E209: 8. Personal apoyo | F209: 8.4 Auxiliar Logístico montaje y desmontaje mobiliario | G209: Ferias fijas | H209: Parqueadero las Aguas a Bodega IPES cra 38 # 10a- 25 | I209: 6 | J209: 1410000 | K209: =J209*0.19 -> 267900 | L209: =J209+K209 -> 1677900
A210: 45868 | B210: 45879 | C210: SGRSI | D210: Requerimiento 87 | E210: 12. Transporte | F210: 12.2 Transporte 6.5 Ton | G210: Ferias fijas | H210: Parqueadero las Aguas a Bodega IPES cra 38 # 10a- 25 | I210: 1 | J210: 1950000 | K210: =J210*0.19 -> 370500 | L210: =J210+K210 -> 2320500
A211: 45878 | B211: 45879 | C211: SESEC | D211: Requerimiento 88 | E211: 8. Personal apoyo | F211: 8.12 Creador de contenido influencer | G211: Fritanga Fest | H211: Plaza la concordia | I211: 1 | J211: 4519500 | K211: =J211*0.19 -> 858705 | L211: =J211+K211 -> 5378205
A212: 45870 | B212: 45871 | C212: SGRSI | D212: Requerimiento 89 | E212: 8. Personal apoyo | F212: 8.4 Auxiliar Logístico montaje y desmontaje mobiliario | G212: Festival de verano | H212: Bodega Ipes a Simon Bolivar | I212: 5 | J212: 1175000 | K212: =J212*0.19 -> 223250 | L212: =J212+K212 -> 1398250
A213: 45870 | B213: 45871 | C213: SGRSI | D213: Requerimiento 89 | E213: 12. Transporte | F213: 12.2 Transporte 6.5 Ton | G213: Festival de verano | H213: Bodega Ipes a Simon Bolivar | I213: 1 | J213: 1950000 | K213: =J213*0.19 -> 370500 | L213: =J213+K213 -> 2320500
A214: 45871 | B214: 2/08/2025 al 10/08/2025 | C214: SGRSI | D214: Requerimiento 90 | E214: 1. Audio y video | F214: 1.1 Alquiler de sonido de 50 a 200 personas | G214: Festival de verano | H214: Parque Simon Bolivar | I214: 2 | J214: =2250000*2 -> 4500000 | K214: =J214*0.19 -> 855000 | L214: =J214+K214 -> 5355000
A215: 45871 | B215: 2/08/2025 al 10/08/2025 | C215: SGRSI | D215: Requerimiento 90 | E215: 11. Suministro de energía | F215: 11.3 Planta eléctrica - 40 KVA | G215: Festival de verano | H215: Parque Simon Bolivar | I215: 2 | J215: =1650000*2 -> 3300000 | K215: =J215*0.19 -> 627000 | L215: =J215+K215 -> 3927000
A216: 45871 | B216: 2/08/2025 al 10/08/2025 | C216: SGRSI | D216: Requerimiento 90 | E216: 8. Personal apoyo | F216: 8.1 Animador y/o Presentador con experiencia | G216: Festival de verano | H216: Parque Simon Bolivar | I216: 2 | J216: =1450000*2 -> 2900000 | K216: =J216*0.19 -> 551000 | L216: =J216+K216 -> 3451000
...

Sheet Resumen noviembre
A1: RESUMEN DE EJECUCION CORTE 30/NOVIEMBRE/2025
B3: Categoría | C3: VALOR UN | D3: % | G3: PLAN DE PAGOS | I3: SOBRE LA EJECCUCIÓN
B4: 1. Audio y video | C4: =SUMIFS('Detalle noviembre'!$L$2:$L$404,'Detalle noviembre'!$E$2:$E$404,$B$4) -> 58845500 | D4: ='Resumen noviembre'!$C4/$C$12 -> 0.06660031 | G4: 1ER PAGO | H4: 200090750 | J4: =I4*C14 -> 0
B5: 11. Suministro de energía | C5: =SUMIFS('Detalle noviembre'!$L$2:$L$404,'Detalle noviembre'!$E$2:$E$404,$B$5) -> 16987250 | D5: ='Resumen noviembre'!$C5/$C$12 -> 0.019225873 | G5: 2DO PAGO | H5: 200090750 | I5: 0.3 | J5: =I5*C14 -> 240108900
B6: 12. Transporte | C6: =SUMIFS('Detalle noviembre'!$L$2:$L$404,'Detalle noviembre'!$E$2:$E$404,$B$6) -> 3.517395e+08 | D6: ='Resumen noviembre'!$C6/$C$12 -> 0.39809263 | G6: 3ER PAGO | H6: 320145200 | I6: 0.5 | J6: =I6*C14 -> 400181500
B7: 2. Catering | C7: =SUMIFS('Detalle noviembre'!$L$2:$L$404,'Detalle noviembre'!$E$2:$E$404,$B$7) -> 60865858 | D7: ='Resumen noviembre'!$C7/$C$12 -> 0.068886917 | G7: 4TO PAGO | H7: 200000000 | I7: 0.7 | J7: =I7*C16 -> 840254100
B8: 5. Estructuras exteriores | C8: =SUMIFS('Detalle noviembre'!$L$2:$L$404,'Detalle noviembre'!$E$2:$E$404,$B$8) -> 86001300 | D8: ='Resumen noviembre'!$C8/$C$12 -> 0.097334771 | G8: 5TO PAGO | H8: 160000000 | I8: 0.9 | J8: =I8*C16 -> 1080326700
B9: 6. Materiales publicidad institucional | C9: =SUMIFS('Detalle noviembre'!$L$2:$L$404,'Detalle noviembre'!$E$2:$E$404,$B$9) -> 48903857 | D9: ='Resumen noviembre'!$C9/$C$12 -> 0.055348532 | G9: 6TO Y ÚLTIMO | H9: 120036300 | I9: 0.1 | J9: =I9*C16 -> 120036300
B10: 7. Mobiliario | C10: =SUMIFS('Detalle noviembre'!$L$2:$L$404,'Detalle noviembre'!$E$2:$E$404,$B$10) -> 2491265 | D10: ='Resumen noviembre'!$C10/$C$12 -> 0.0028195703 | H10: =SUM(H4:H9) -> 1200363000 | J10: =J8+J9 -> 1200363000
B11: 8. Personal apoyo | C11: =SUMIFS('Detalle noviembre'!$L$2:$L$404,'Detalle noviembre'!$E$2:$E$404,$B$11) -> 2.5772742e+08 | D11: ='Resumen noviembre'!$C11/$C$12 -> 0.2916914
B12: VALOR TOTAL | C12: =SUM(C4:C11) -> 8.8356195e+08 | D12: 1
B14: PRESUPUESTO CONVENIO INICIAL | C14: 800363000
B15: PRESUPUESTO CONVENIO ADICIÓN | C15: 400000000
B16: PRESUPUESTO CONVENIO | C16: =C15+C14 -> 1200363000
B17: VALOR NETO EJECUTADO | C17: =SUM('Detalle noviembre'!J2:J404) -> 7.4248903e+08
B18: IVA | C18: =SUM('Detalle noviembre'!K2:K404) -> 1.4107292e+08 | D18: %EJECUCIÓN
B19: TOTAL EJECUTADO | C19: =SUM('Detalle noviembre'!L2:L404) -> 8.8356195e+08 | D19: =C19/C16 -> 0.73607896
B20: POR EJECUTAR | C20: =C16-C19 -> 3.1680105e+08 | D20: =C20/C16 -> 0.26392104

Sheet Detalle noviembre
A1: Fecha solicitud | B1: Fecha Servicio | C1: Dependencia | D1: Requerimiento | E1: Categoría | F1: Servicio o Bien | G1: Descripción | H1: Dirección | I1: Cantidad | J1: Valor | K1: IVA 19% | L1: TOTAL
A2: 3-may-25* | B2: 3-may-25* | C2: SESEC | D2: Requerimiento 1 | E2: 8. Personal apoyo | F2: 8.4 Auxiliar Logístico montaje y desmontaje mobiliario | G2: Café a la plaza | H2: Calle 12c # 1-40 Plaza la Concordia | I2: 6 | J2: 1410000 | K2: =J2*0.19 -> 267900 | L2: =J2+K2 -> 1677900
A3: 3-may-25* | B3: 3-may-25* | C3: SESEC | D3: Requerimiento 1 | E3: 12. Transporte | F3: 12.2 Transporte 6.5 Ton | G3: Café a la plaza | H3: Calle 12c # 1-40 La Candelaria | I3: 1 | J3: 1950000 | K3: =J3*0.19 -> 370500 | L3: =J3+K3 -> 2320500
A4: 3-may-25* | B4: 45780 | C4: SESEC | D4: Requerimiento 2 | E4: 1. Audio y video | F4: 1.2 Alquiler de sonido de 200 a 500 personas | G4: Café a la plaza | H4: Calle 12c # 1-40 La Candelaria | I4: 1 | J4: 4950000 | K4: =J4*0.19 -> 940500 | L4: =J4+K4 -> 5890500
A5: 3-may-25* | B5: 45780 | C5: SESEC | D5: Requerimiento 2 | E5: 2. Catering | F5: 2.7 Refrigério de sal | G5: Café a la plaza | H5: Calle 12c # 1-40 La Candelaria | I5: 200 | J5: 5300000 | K5: =J5*0.19 -> 1007000 | L5: =J5+K5 -> 6307000
A6: 3-may-25* | B6: 45780 | C6: SESEC | D6: Requerimiento 2 | E6: 11. Suministro de energía | F6: 11.6 Planta eléctrica - 120 KVA | G6: Café a la plaza | H6: Calle 12c # 1-40 La Candelaria | I6: 1 | J6: 2950000 | K6: =J6*0.19 -> 560500 | L6: =J6+K6 -> 3510500
A7: 3-may-25* | B7: 45780 | C7: SESEC | D7: Requerimiento 2 | E7: 11. Suministro de energía | F7: 11.9 Punto de luz en carpa | G7: Café a la plaza | H7: Calle 12c # 1-40 La Candelaria | I7: 35 | J7: 5075000 | K7: =J7*0.19 -> 964250 | L7: =J7+K7 -> 6039250
A8: 3-may-25* | B8: 45780 | C8: SGRSI | D8: Requerimiento 5 | E8: 5. Estructuras exteriores | F8: 5.1 Baño portátil | G8: Ferias fijas | H8: Bodega IPES carrera 38 No. 10 A-25 a Parqueadero las Aguas | I8: 2 | J8: 990000 | K8: =J8*0.19 -> 188100 | L8: =J8+K8 -> 1178100
A9: 3-may-25* | B9: 45780 | C9: SGRSI | D9: Requerimiento 5 | E9: 8. Personal apoyo | F9: 8.4 Auxiliar Logístico montaje y desmontaje mobiliario | G9: Ferias fijas | H9: Bodega IPES carrera 38 No. 10 A-25 a Parqueadero las Aguas | I9: 6 | J9: 1410000 | K9: =J9*0.19 -> 267900 | L9: =J9+K9 -> 1677900
A10: 3-may-25* | B10: 45780 | C10: SGRSI | D10: Requerimiento 5 | E10: 12. Transporte | F10: 12.2 Transporte 6.5 Ton | G10: Ferias fijas | H10: Bodega IPES carrera 38 No. 10 A-25 a Parqueadero las Aguas | I10: 1 | J10: 1950000 | K10: =J10*0.19 -> 370500 | L10: =J10+K10 -> 2320500
A11: 3-may-25* | B11: 45780 | C11: SGRSI | D11: Requerimiento 6 | E11: 5. Estructuras exteriores | F11: 5.1 Baño portátil | G11: Ferias fijas | H11: Bodega IPES carrera 38 No. 10 A-25 a Parqueadero la 24 | I11: 2 | J11: 990000 | K11: =J11*0.19 -> 188100 | L11: =J11+K11 -> 1178100
A12: 3-may-25* | B12: 45780 | C12: SGRSI | D12: Requerimiento 6 | E12: 8. Personal apoyo | F12: 8.4 Auxiliar Logístico montaje y desmontaje mobiliario | G12: Ferias fijas | H12: Bodega IPES carrera 38 No. 10 A-25 a Parqueadero la 24 | I12: 5 | J12: 1175000 | K12: =J12*0.19 -> 223250 | L12: =J12+K12 -> 1398250
A13: 3-may-25* | B13: 45781 | C13: SGRSI | D13: Requerimiento 6 | E13: 12. Transporte | F13: 12.2 Transporte 6.5 Ton | G13: Ferias fijas | H13: Bodega IPES carrera 38 No. 10 A-25 a Parqueadero la 24 | I13: 1 | J13: 1950000 | K13: =J13*0.19 -> 370500 | L13: =J13+K13 -> 2320500
A14: 3-may-25* | B14: 45781 | C14: SGRSI | D14: Requerimiento 7 | E14: 8. Personal apoyo | F14: 8.4 Auxiliar Logístico montaje y desmontaje mobiliario | G14: Ferias fijas | H14: Parqueadero las Aguas a Bodega IPES cra 38 # 10a- 25 | I14: 6 | J14: 1410000 | K14: =J14*0.19 -> 267900 | L14: =J14+K14 -> 1677900
A15: 3-may-25* | B15: 45781 | C15: SGRSI | D15: Requerimiento 7 | E15: 12. Transporte | F15: 12.2 Transporte 6.5 Ton | G15: Ferias fijas | H15: Parqueadero las Aguas a Bodega IPES cra 38 # 10a- 25 | I15: 1 | J15: 1950000 | K15: =J15*0.19 -> 370500 | L15: =J15+K15 -> 2320500
... A21: 3-may-25* | B21: 45782 | C21: SESEC | D21: Requerimiento 4 | E21: 8. Personal apoyo | F21: 8.4 Auxiliar Logístico montaje y desmontaje mobiliario | G21: Café a la plaza | H21: Calle 12c # 1-40 La Candelaria | I21: 6 | J21: 1410000 | K21: =J21*0.19 -> 267900 | L21: =J21+K21 -> 1677900
A22: 45779 | B22: 45782 | C22: SESEC | D22: Requerimiento 4 | E22: 12. Transporte | F22: 12.2 Transporte 6.5 Ton | G22: Café a la plaza | H22: Calle 12c # 1-40 La Candelaria | I22: 1 | J22: 1950000 | K22: =J22*0.19 -> 370500 | L22: =J22+K22 -> 2320500
A23: 45787 | B23: 45788 | C23: SGRSI | D23: Requerimiento 9 | E23: 5. Estructuras exteriores | F23: 5.1 Baño portátil | G23: Ferias fijas | H23: Bodega IPES carrera 38 No. 10 A-25 a Parqueadero la 24 | I23: 2 | J23: 990000 | K23: =J23*0.19 -> 188100 | L23: =J23+K23 -> 1178100
A24: 45787 | B24: 45788 | C24: SGRSI | D24: Requerimiento 9 | E24: 8. Personal apoyo | F24: 8.4 Auxiliar Logístico montaje y desmontaje mobiliario | G24: Ferias fijas | H24: Bodega IPES carrera 38 No. 10 A-25 a Parqueadero la 24 | I24: 5 | J24: 1175000 | K24: =J24*0.19 -> 223250 | L24: =J24+K24 -> 1398250
A25: 45787 | B25: 45788 | C25: SGRSI | D25: Requerimiento 9 | E25: 12. Transporte | F25: 12.2 Transporte 6.5 Ton | G25: Ferias fijas | H25: Bodega IPES carrera 38 No. 10 A-25 a Parqueadero la 24 | I25: 1 | J25: 1950000 | K25: =J25*0.19 -> 370500 | L25: =J25+K25 -> 2320500
A26: 45787 | B26: 45788 | C26: SGRSI | D26: Requerimiento 10 | E26: 5. Estructuras exteriores | F26: 5.1 Baño portátil | G26: Ferias fijas | H26: Bodega IPES carrera 38 No. 10 A-25 a Parqueadero las Aguas | I26: 2 | J26: 990000 | K26: =J26*0.19 -> 188100 | L26: =J26+K26 -> 1178100
A27: 45787 | B27: 45788 | C27: SGRSI | D27: Requerimiento 10 | E27: 8. Personal apoyo | F27: 8.4 Auxiliar Logístico montaje y desmontaje mobiliario | G27: Ferias fijas | H27: Bodega IPES carrera 38 No. 10 A-25 a Parqueadero las Aguas | I27: 6 | J27: 1410000 | K27: =J27*0.19 -> 267900 | L27: =J27+K27 -> 1677900
A28: 45787 | B28: 45788 | C28: SGRSI | D28: Requerimiento 10 | E28: 12. Transporte | F28: 12.2 Transporte 6.5 Ton | G28: Ferias fijas | H28: Bodega IPES carrera 38 No. 10 A-25 a Parqueadero las Aguas | I28: 1 | J28: 1950000 | K28: =J28*0.19 -> 370500 | L28: =J28+K28 -> 2320500
A29: 45788 | B29: 45789 | C29: SGRSI | D29: Requerimiento 11 | E29: 8. Personal apoyo | F29: 8.4 Auxiliar Logístico montaje y desmontaje mobiliario | G29: Ferias fijas | H29: Parqueadero las Aguas a Bodega IPES cra 38 # 10a- 25 | I29: 6 | J29: 1410000 | K29: =J29*0.19 -> 267900 | L29: =J29+K29 -> 1677900
A30: 45788 | B30: 45789 | C30: SGRSI | D30: Requerimiento 11 | E30: 12. Transporte | F30: 12.2 Transporte 6.5 Ton | G30: Ferias fijas | H30: Parqueadero las Aguas a Bodega IPES cra 38 # 10a- 25 | I30: 1 | J30: 1950000 | K30: =J30*0.19 -> 370500 | L30: =J30+K30 -> 2320500
A31: 45788 | B31: 45789 | C31: SGRSI | D31: Requerimiento 12 | E31: 8. Personal apoyo | F31: 8.4 Auxiliar Logístico montaje y desmontaje mobiliario | G31: Ferias fijas | H31: Parqueadero la 24 a Bodega IPES cra 38 # 10a- 25 | I31: 5 | J31: 1175000 | K31: =J31*0.19 -> 223250 | L31: =J31+K31 -> 1398250
A32: 45788 | B32: 45789 | C32: SGRSI | D32: Requerimiento 12 | E32: 12. Transporte | F32: 12.2 Transporte 6.5 Ton | G32: Ferias fijas | H32: Parqueadero la 24 a Bodega IPES cra 38 # 10a- 25 | I32: 1 | J32: 1950000 | K32: =J32*0.19 -> 370500 | L32: =J32+K32 -> 2320500
A33: 45789 | B33: 45789 | C33: SGRSI | D33: Requerimiento 13 | E33: 8. Personal apoyo | F33: 8.4 Auxiliar Logístico montaje y desmontaje mobiliario | G33: Feria institucional mes de las madres | H33: Bodega IPES carrera 38 No. 10 A-25 a Parque zonal carrera 55 con calle 170 | I33: 6 | J33: 1410000 | K33: =J33*0.19 -> 267900 | L33: =J33+K33 -> 1677900
... A205: 45868 | B205: 45878 | C205: SGRSI | D205: Requerimiento 85 | E205: 5. Estructuras exteriores | F205: 5.1 Baño portátil | G205: Ferias fijas | H205: Bodega IPES cra 38 # 10a- 25 a Parqueadero las Aguas | I205: 2 | J205: 990000 | K205: =J205*0.19 -> 188100 | L205: =J205+K205 -> 1178100
A206: 45868 | B206: 45878 | C206: SGRSI | D206: Requerimiento 86 | E206: 8. Personal apoyo | F206: 8.4 Auxiliar Logístico montaje y desmontaje mobiliario | G206: Ferias fijas | H206: Bodega IPES cra 38 # 10a- 25 a Parqueadero la 24 | I206: 10 | J206: =1175000*2 -> 2350000 | K206: =J206*0.19 -> 446500 | L206: =J206+K206 -> 2796500
A207: 45868 | B207: 45878 | C207: SGRSI | D207: Requerimiento 86 | E207: 12. Transporte | F207: 12.2 Transporte 6.5 Ton | G207: Ferias fijas | H207: Bodega IPES cra 38 # 10a- 25 a Parqueadero la 24 | I207: 2 | J207: =1950000*2 -> 3900000 | K207: =J207*0.19 -> 741000 | L207: =J207+K207 -> 4641000
A208: 45868 | B208: 45878 | C208: SGRSI | D208: Requerimiento 86 | E208: 5. Estructuras exteriores | F208: 5.1 Baño portátil | G208: Ferias fijas | H208: Bodega IPES cra 38 # 10a- 25 a Parqueadero la 24 | I208: 2 | J208: 990000 | K208: =J208*0.19 -> 188100 | L208: =J208+K208 -> 1178100
A209: 45868 | B209: 45879 | C209: SGRSI | D209: Requerimiento 87 | E209: 8. Personal apoyo | F209: 8.4 Auxiliar Logístico montaje y desmontaje mobiliario | G209: Ferias fijas | H209: Parqueadero las Aguas a Bodega IPES cra 38 # 10a- 25 | I209: 6 | J209: 1410000 | K209: =J209*0.19 -> 267900 | L209: =J209+K209 -> 1677900
A210: 45868 | B210: 45879 | C210: SGRSI | D210: Requerimiento 87 | E210: 12. Transporte | F210: 12.2 Transporte 6.5 Ton | G210: Ferias fijas | H210: Parqueadero las Aguas a Bodega IPES cra 38 # 10a- 25 | I210: 1 | J210: 1950000 | K210: =J210*0.19 -> 370500 | L210: =J210+K210 -> 2320500
A211: 45878 | B211: 45879 | C211: SESEC | D211: Requerimiento 88 | E211: 8. Personal apoyo | F211: 8.12 Creador de contenido influencer | G211: Fritanga Fest | H211: Plaza la concordia | I211: 1 | J211: 4519500 | K211: =J211*0.19 -> 858705 | L211: =J211+K211 -> 5378205
A212: 45870 | B212: 45871 | C212: SGRSI | D212: Requerimiento 89 | E212: 8. Personal apoyo | F212: 8.4 Auxiliar Logístico montaje y desmontaje mobiliario | G212: Festival de verano | H212: Bodega Ipes a Simon Bolivar | I212: 5 | J212: 1175000 | K212: =J212*0.19 -> 223250 | L212: =J212+K212 -> 1398250
A213: 45870 | B213: 45871 | C213: SGRSI | D213: Requerimiento 89 | E213: 12. Transporte | F213: 12.2 Transporte 6.5 Ton | G213: Festival de verano | H213: Bodega Ipes a Simon Bolivar | I213: 1 | J213: 1950000 | K213: =J213*0.19 -> 370500 | L213: =J213+K213 -> 2320500
A214: 45871 | B214: 2/08/2025 al 10/08/2025 | C214: SGRSI | D214: Requerimiento 90 | E214: 1. Audio y video | F214: 1.1 Alquiler de sonido de 50 a 200 personas | G214: Festival de verano | H214: Parque Simon Bolivar | I214: 2 | J214: =2250000*2 -> 4500000 | K214: =J214*0.19 -> 855000 | L214: =J214+K214 -> 5355000
A215: 45871 | B215: 2/08/2025 al 10/08/2025 | C215: SGRSI | D215: Requerimiento 90 | E215: 11. Suministro de energía | F215: 11.3 Planta eléctrica - 40 KVA | G215: Festival de verano | H215: Parque Simon Bolivar | I215: 2 | J215: =1650000*2 -> 3300000 | K215: =J215*0.19 -> 627000 | L215: =J215+K215 -> 3927000
A216: 45871 | B216: 2/08/2025 al 10/08/2025 | C216: SGRSI | D216: Requerimiento 90 | E216: 8. Personal apoyo | F216: 8.1 Animador y/o Presentador con experiencia | G216: Festival de verano | H216: Parque Simon Bolivar | I216: 2 | J216: =1450000*2 -> 2900000 | K216: =J216*0.19 -> 551000 | L216: =J216+K216 -> 3451000
...

Sheet Resumen Diciembre
A1: RESUMEN DE EJECUCION CORTE 31/DICIEMBRE/2025
B3: Categoría | C3: VALOR UN | D3: % | G3: PLAN DE PAGOS | I3: SOBRE LA EJECCUCIÓN
B4: 1. Audio y video | C4: =SUMIFS('Detalle Diciembre'!$L$2:$L$491,'Detalle Diciembre'!$E$2:$E$491,$B4) -> 84014000 | D4: ='Resumen Diciembre'!$C4/$C$13 -> 0.075233438 | G4: 1ER PAGO | H4: 200090750 | J4: =I4*C15 -> 0
B5: 11. Suministro de energía | C5: =SUMIFS('Detalle Diciembre'!$L$2:$L$491,'Detalle Diciembre'!$E$2:$E$491,$B5) -> 24841250 | D5: ='Resumen Diciembre'!$C5/$C$13 -> 0.022245014 | G5: 2DO PAGO | H5: 200090750 | I5: 0.3 | J5: =I5*C15 -> 240108900
B6: 12. Transporte | C6: =SUMIFS('Detalle Diciembre'!$L$2:$L$491,'Detalle Diciembre'!$E$2:$E$491,$B6) -> 4.055275e+08 | D6: ='Resumen Diciembre'!$C6/$C$13 -> 0.36314457 | G6: 3ER PAGO | H6: 320145200 | I6: 0.5 | J6: =I6*C15 -> 400181500
B7: 2. Catering | C7: =SUMIFS('Detalle Diciembre'!$L$2:$L$491,'Detalle Diciembre'!$E$2:$E$491,$B7) -> 89038463 | D7: ='Resumen Diciembre'!$C7/$C$13 -> 0.079732779 | G7: 4TO PAGO | H7: 200000000 | I7: 0.7 | J7: =I7*C17 -> 840254100
B8: 3. Equipamiento escenario | C8: =SUMIFS('Detalle Diciembre'!$L$2:$L$491,'Detalle Diciembre'!$E$2:$E$491,$B8) -> 1249500 | D8: ='Resumen Diciembre'!$C8/$C$13 -> 0.0011189109 | G8: 5TO PAGO | H8: 160000000 | I8: 0.9 | J8: =I8*C17 -> 1080326700
B9: 5. Estructuras exteriores | C9: =SUMIFS('Detalle Diciembre'!$L$2:$L$491,'Detalle Diciembre'!$E$2:$E$491,$B9) -> 149618700 | D9: ='Resumen Diciembre'!$C9/$C$13 -> 0.13398159 | G9: 6TO Y ÚLTIMO | H9: 120036300 | I9: 0.1 | J9: =I9*C17 -> 120036300
B10: 6. Materiales publicidad institucional | C10: =SUMIFS('Detalle Diciembre'!$L$2:$L$491,'Detalle Diciembre'!$E$2:$E$491,$B10) -> 48903857 | D10: ='Resumen Diciembre'!$C10/$C$13 -> 0.043792764 | H10: =SUM(H4:H9) -> 1200363000 | J10: =J8+J9 -> 1200363000
B11: 7. Mobiliario | C11: =SUMIFS('Detalle Diciembre'!$L$2:$L$491,'Detalle Diciembre'!$E$2:$E$491,$B11) -> 2491265 | D11: ='Resumen Diciembre'!$C11/$C$13 -> 0.0022308952
B12: 8. Personal apoyo | C12: =SUMIFS('Detalle Diciembre'!$L$2:$L$491,'Detalle Diciembre'!$E$2:$E$491,$B12) -> 3.1102637e+08 | D12: ='Resumen Diciembre'!$C12/$C$13 -> 0.27852004
B13: VALOR TOTAL | C13: =SUM(C4:C12) -> 1.1167109e+09 | D13: =SUM(D4:D12) -> 1
B15: PRESUPUESTO CONVENIO INICIAL | C15: 800363000
B16: PRESUPUESTO CONVENIO ADICIÓN | C16: 400000000 | G16: EJECUCIÓN | H16: =SUM('Detalle Diciembre'!L405:L491) -> 233148955
B17: PRESUPUESTO CONVENIO | C17: =C16+C15 -> 1200363000 | G17: DICIEMBRE
B18: VALOR NETO EJECUTADO | C18: ='Detalle Diciembre'!L492 -> 9.3841252e+08
B19: IVA | C19: ='Detalle Diciembre'!L493 -> 1.7829838e+08 | D19: %EJECUCIÓN
B20: TOTAL EJECUTADO | C20: ='Detalle Diciembre'!L494 -> 1.1167109e+09 | D20: =C20/C17 -> 0.930311
B21: POR EJECUTAR | C21: =C17-C20 -> 83652097 | D21: =C21/C17 -> 0.069689

Sheet Detalle Diciembre
A1: Fecha solicitud | B1: Fecha Servicio | C1: Dependencia | D1: Requerimiento | E1: Categoría | F1: Servicio o Bien | G1: Descripción | H1: Dirección | I1: Cantidad | J1: Valor | K1: IVA 19% | L1: TOTAL
A2: 3-may-25* | B2: 3-may-25* | C2: SESEC | D2: Requerimiento 1 | E2: 8. Personal apoyo | F2: 8.4 Auxiliar Logístico montaje y desmontaje mobiliario | G2: Café a la plaza | H2: Calle 12c # 1-40 Plaza la Concordia | I2: 6 | J2: 1410000 | K2: =J2*0.19 -> 267900 | L2: =J2+K2 -> 1677900
A3: 3-may-25* | B3: 3-may-25* | C3: SESEC | D3: Requerimiento 1 | E3: 12. Transporte | F3: 12.2 Transporte 6.5 Ton | G3: Café a la plaza | H3: Calle 12c # 1-40 La Candelaria | I3: 1 | J3: 1950000 | K3: =J3*0.19 -> 370500 | L3: =J3+K3 -> 2320500
A4: 3-may-25* | B4: 45780 | C4: SESEC | D4: Requerimiento 2 | E4: 1. Audio y video | F4: 1.2 Alquiler de sonido de 200 a 500 personas | G4: Café a la plaza | H4: Calle 12c # 1-40 La Candelaria | I4: 1 | J4: 4950000 | K4: =J4*0.19 -> 940500 | L4: =J4+K4 -> 5890500
A5: 3-may-25* | B5: 45780 | C5: SESEC | D5: Requerimiento 2 | E5: 2. Catering | F5: 2.7 Refrigério de sal | G5: Café a la plaza | H5: Calle 12c # 1-40 La Candelaria | I5: 200 | J5: 5300000 | K5: =J5*0.19 -> 1007000 | L5: =J5+K5 -> 6307000
A6: 3-may-25* | B6: 45780 | C6: SESEC | D6: Requerimiento 2 | E6: 11. Suministro de energía | F6: 11.6 Planta eléctrica - 120 KVA | G6: Café a la plaza | H6: Calle 12c # 1-40 La Candelaria | I6: 1 | J6: 2950000 | K6: =J6*0.19 -> 560500 | L6: =J6+K6 -> 3510500
A7: 3-may-25* | B7: 45780 | C7: SESEC | D7: Requerimiento 2 | E7: 11. Suministro de energía | F7: 11.9 Punto de luz en carpa | G7: Café a la plaza | H7: Calle 12c # 1-40 La Candelaria | I7: 35 | J7: 5075000 | K7: =J7*0.19 -> 964250 | L7: =J7+K7 -> 6039250
A8: 3-may-25* | B8: 45780 | C8: SGRSI | D8: Requerimiento 5 | E8: 5. Estructuras exteriores | F8: 5.1 Baño portátil | G8: Ferias fijas | H8: Bodega IPES carrera 38 No. 10 A-25 a Parqueadero las Aguas | I8: 2 | J8: 990000 | K8: =J8*0.19 -> 188100 | L8: =J8+K8 -> 1178100
A9: 3-may-25* | B9: 45780 | C9: SGRSI | D9: Requerimiento 5 | E9: 8. Personal apoyo | F9: 8.4 Auxiliar Logístico montaje y desmontaje mobiliario | G9: Ferias fijas | H9: Bodega IPES carrera 38 No. 10 A-25 a Parqueadero las Aguas | I9: 6 | J9: 1410000 | K9: =J9*0.19 -> 267900 | L9: =J9+K9 -> 1677900
A10: 3-may-25* | B10: 45780 | C10: SGRSI | D10: Requerimiento 5 | E10: 12. Transporte | F10: 12.2 Transporte 6.5 Ton | G10: Ferias fijas | H10: Bodega IPES carrera 38 No. 10 A-25 a Parqueadero las Aguas | I10: 1 | J10: 1950000 | K10: =J10*0.19 -> 370500 | L10: =J10+K10 -> 2320500
A11: 3-may-25* | B11: 45780 | C11: SGRSI | D11: Requerimiento 6 | E11: 5. Estructuras exteriores | F11: 5.1 Baño portátil | G11: Ferias fijas | H11: Bodega IPES carrera 38 No. 10 A-25 a Parqueadero la 24 | I11: 2 | J11: 990000 | K11: =J11*0.19 -> 188100 | L11: =J11+K11 -> 1178100
A12: 3-may-25* | B12: 45780 | C12: SGRSI | D12: Requerimiento 6 | E12: 8. Personal apoyo | F12: 8.4 Auxiliar Logístico montaje y desmontaje mobiliario | G12: Ferias fijas | H12: Bodega IPES carrera 38 No. 10 A-25 a Parqueadero la 24 | I12: 5 | J12: 1175000 | K12: =J12*0.19 -> 223250 | L12: =J12+K12 -> 1398250
A13: 3-may-25* | B13: 45781 | C13: SGRSI | D13: Requerimiento 6 | E13: 12. Transporte | F13: 12.2 Transporte 6.5 Ton | G13: Ferias fijas | H13: Bodega IPES carrera 38 No. 10 A-25 a Parqueadero la 24 | I13: 1 | J13: 1950000 | K13: =J13*0.19 -> 370500 | L13: =J13+K13 -> 2320500
A14: 3-may-25* | B14: 45781 | C14: SGRSI | D14: Requerimiento 7 | E14: 8. Personal apoyo | F14: 8.4 Auxiliar Logístico montaje y desmontaje mobiliario | G14: Ferias fijas | H14: Parqueadero las Aguas a Bodega IPES cra 38 # 10a- 25 | I14: 6 | J14: 1410000 | K14: =J14*0.19 -> 267900 | L14: =J14+K14 -> 1677900
A15: 3-may-25* | B15: 45781 | C15: SGRSI | D15: Requerimiento 7 | E15: 12. Transporte | F15: 12.2 Transporte 6.5 Ton | G15: Ferias fijas | H15: Parqueadero las Aguas a Bodega IPES cra 38 # 10a- 25 | I15: 1 | J15: 1950000 | K15: =J15*0.19 -> 370500 | L15: =J15+K15 -> 2320500
... A21: 3-may-25* | B21: 45782 | C21: SESEC | D21: Requerimiento 4 | E21: 8. Personal apoyo | F21: 8.4 Auxiliar Logístico montaje y desmontaje mobiliario | G21: Café a la plaza | H21: Calle 12c # 1-40 La Candelaria | I21: 6 | J21: 1410000 | K21: =J21*0.19 -> 267900 | L21: =J21+K21 -> 1677900
A22: 45779 | B22: 45782 | C22: SESEC | D22: Requerimiento 4 | E22: 12. Transporte | F22: 12.2 Transporte 6.5 Ton | G22: Café a la plaza | H22: Calle 12c # 1-40 La Candelaria | I22: 1 | J22: 1950000 | K22: =J22*0.19 -> 370500 | L22: =J22+K22 -> 2320500
A23: 45787 | B23: 45788 | C23: SGRSI | D23: Requerimiento 9 | E23: 5. Estructuras exteriores | F23: 5.1 Baño portátil | G23: Ferias fijas | H23: Bodega IPES carrera 38 No. 10 A-25 a Parqueadero la 24 | I23: 2 | J23: 990000 | K23: =J23*0.19 -> 188100 | L23: =J23+K23 -> 1178100
A24: 45787 | B24: 45788 | C24: SGRSI | D24: Requerimiento 9 | E24: 8. Personal apoyo | F24: 8.4 Auxiliar Logístico montaje y desmontaje mobiliario | G24: Ferias fijas | H24: Bodega IPES carrera 38 No. 10 A-25 a Parqueadero la 24 | I24: 5 | J24: 1175000 | K24: =J24*0.19 -> 223250 | L24: =J24+K24 -> 1398250
A25: 45787 | B25: 45788 | C25: SGRSI | D25: Requerimiento 9 | E25: 12. Transporte | F25: 12.2 Transporte 6.5 Ton | G25: Ferias fijas | H25: Bodega IPES carrera 38 No. 10 A-25 a Parqueadero la 24 | I25: 1 | J25: 1950000 | K25: =J25*0.19 -> 370500 | L25: =J25+K25 -> 2320500
A26: 45787 | B26: 45788 | C26: SGRSI | D26: Requerimiento 10 | E26: 5. Estructuras exteriores | F26: 5.1 Baño portátil | G26: Ferias fijas | H26: Bodega IPES carrera 38 No. 10 A-25 a Parqueadero las Aguas | I26: 2 | J26: 990000 | K26: =J26*0.19 -> 188100 | L26: =J26+K26 -> 1178100
A27: 45787 | B27: 45788 | C27: SGRSI | D27: Requerimiento 10 | E27: 8. Personal apoyo | F27: 8.4 Auxiliar Logístico montaje y desmontaje mobiliario | G27: Ferias fijas | H27: Bodega IPES carrera 38 No. 10 A-25 a Parqueadero las Aguas | I27: 6 | J27: 1410000 | K27: =J27*0.19 -> 267900 | L27: =J27+K27 -> 1677900
A28: 45787 | B28: 45788 | C28: SGRSI | D28: Requerimiento 10 | E28: 12. Transporte | F28: 12.2 Transporte 6.5 Ton | G28: Ferias fijas | H28: Bodega IPES carrera 38 No. 10 A-25 a Parqueadero las Aguas | I28: 1 | J28: 1950000 | K28: =J28*0.19 -> 370500 | L28: =J28+K28 -> 2320500
A29: 45788 | B29: 45789 | C29: SGRSI | D29: Requerimiento 11 | E29: 8. Personal apoyo | F29: 8.4 Auxiliar Logístico montaje y desmontaje mobiliario | G29: Ferias fijas | H29: Parqueadero las Aguas a Bodega IPES cra 38 # 10a- 25 | I29: 6 | J29: 1410000 | K29: =J29*0.19 -> 267900 | L29: =J29+K29 -> 1677900
A30: 45788 | B30: 45789 | C30: SGRSI | D30: Requerimiento 11 | E30: 12. Transporte | F30: 12.2 Transporte 6.5 Ton | G30: Ferias fijas | H30: Parqueadero las Aguas a Bodega IPES cra 38 # 10a- 25 | I30: 1 | J30: 1950000 | K30: =J30*0.19 -> 370500 | L30: =J30+K30 -> 2320500
A31: 45788 | B31: 45789 | C31: SGRSI | D31: Requerimiento 12 | E31: 8. Personal apoyo | F31: 8.4 Auxiliar Logístico montaje y desmontaje mobiliario | G31: Ferias fijas | H31: Parqueadero la 24 a Bodega IPES cra 38 # 10a- 25 | I31: 5 | J31: 1175000 | K31: =J31*0.19 -> 223250 | L31: =J31+K31 -> 1398250
A32: 45788 | B32: 45789 | C32: SGRSI | D32: Requerimiento 12 | E32: 12. Transporte | F32: 12.2 Transporte 6.5 Ton | G32: Ferias fijas | H32: Parqueadero la 24 a Bodega IPES cra 38 # 10a- 25 | I32: 1 | J32: 1950000 | K32: =J32*0.19 -> 370500 | L32: =J32+K32 -> 2320500
A33: 45789 | B33: 45789 | C33: SGRSI | D33: Requerimiento 13 | E33: 8. Personal apoyo | F33: 8.4 Auxiliar Logístico montaje y desmontaje mobiliario | G33: Feria institucional mes de las madres | H33: Bodega IPES carrera 38 No. 10 A-25 a Parque zonal carrera 55 con calle 170 | I33: 6 | J33: 1410000 | K33: =J33*0.19 -> 267900 | L33: =J33+K33 -> 1677900
... A205: 45868 | B205: 45878 | C205: SGRSI | D205: Requerimiento 85 | E205: 5. Estructuras exteriores | F205: 5.1 Baño portátil | G205: Ferias fijas | H205: Bodega IPES cra 38 # 10a- 25 a Parqueadero las Aguas | I205: 2 | J205: 990000 | K205: =J205*0.19 -> 188100 | L205: =J205+K205 -> 1178100
A206: 45868 | B206: 45878 | C206: SGRSI | D206: Requerimiento 86 | E206: 8. Personal apoyo | F206: 8.4 Auxiliar Logístico montaje y desmontaje mobiliario | G206: Ferias fijas | H206: Bodega IPES cra 38 # 10a- 25 a Parqueadero la 24 | I206: 10 | J206: =1175000*2 -> 2350000 | K206: =J206*0.19 -> 446500 | L206: =J206+K206 -> 2796500
A207: 45868 | B207: 45878 | C207: SGRSI | D207: Requerimiento 86 | E207: 12. Transporte | F207: 12.2 Transporte 6.5 Ton | G207: Ferias fijas | H207: Bodega IPES cra 38 # 10a- 25 a Parqueadero la 24 | I207: 2 | J207: =1950000*2 -> 3900000 | K207: =J207*0.19 -> 741000 | L207: =J207+K207 -> 4641000
A208: 45868 | B208: 45878 | C208: SGRSI | D208: Requerimiento 86 | E208: 5. Estructuras exteriores | F208: 5.1 Baño portátil | G208: Ferias fijas | H208: Bodega IPES cra 38 # 10a- 25 a Parqueadero la 24 | I208: 2 | J208: 990000 | K208: =J208*0.19 -> 188100 | L208: =J208+K208 -> 1178100
A209: 45868 | B209: 45879 | C209: SGRSI | D209: Requerimiento 87 | E209: 8. Personal apoyo | F209: 8.4 Auxiliar Logístico montaje y desmontaje mobiliario | G209: Ferias fijas | H209: Parqueadero las Aguas a Bodega IPES cra 38 # 10a- 25 | I209: 6 | J209: 1410000 | K209: =J209*0.19 -> 267900 | L209: =J209+K209 -> 1677900
A210: 45868 | B210: 45879 | C210: SGRSI | D210: Requerimiento 87 | E210: 12. Transporte | F210: 12.2 Transporte 6.5 Ton | G210: Ferias fijas | H210: Parqueadero las Aguas a Bodega IPES cra 38 # 10a- 25 | I210: 1 | J210: 1950000 | K210: =J210*0.19 -> 370500 | L210: =J210+K210 -> 2320500
A211: 45878 | B211: 45879 | C211: SESEC | D211: Requerimiento 88 | E211: 8. Personal apoyo | F211: 8.12 Creador de contenido influencer | G211: Fritanga Fest | H211: Plaza la concordia | I211: 1 | J211: 4519500 | K211: =J211*0.19 -> 858705 | L211: =J211+K211 -> 5378205
A212: 45870 | B212: 45871 | C212: SGRSI | D212: Requerimiento 89 | E212: 8. Personal apoyo | F212: 8.4 Auxiliar Logístico montaje y desmontaje mobiliario | G212: Festival de verano | H212: Bodega Ipes a Simon Bolivar | I212: 5 | J212: 1175000 | K212: =J212*0.19 -> 223250 | L212: =J212+K212 -> 1398250
A213: 45870 | B213: 45871 | C213: SGRSI | D213: Requerimiento 89 | E213: 12. Transporte | F213: 12.2 Transporte 6.5 Ton | G213: Festival de verano | H213: Bodega Ipes a Simon Bolivar | I213: 1 | J213: 1950000 | K213: =J213*0.19 -> 370500 | L213: =J213+K213 -> 2320500
A214: 45871 | B214: 2/08/2025 al 10/08/2025 | C214: SGRSI | D214: Requerimiento 90 | E214: 1. Audio y video | F214: 1.1 Alquiler de sonido de 50 a 200 personas | G214: Festival de verano | H214: Parque Simon Bolivar | I214: 2 | J214: =2250000*2 -> 4500000 | K214: =J214*0.19 -> 855000 | L214: =J214+K214 -> 5355000
A215: 45871 | B215: 2/08/2025 al 10/08/2025 | C215: SGRSI | D215: Requerimiento 90 | E215: 11. Suministro de energía | F215: 11.3 Planta eléctrica - 40 KVA | G215: Festival de verano | H215: Parque Simon Bolivar | I215: 2 | J215: =1650000*2 -> 3300000 | K215: =J215*0.19 -> 627000 | L215: =J215+K215 -> 3927000
A216: 45871 | B216: 2/08/2025 al 10/08/2025 | C216: SGRSI | D216: Requerimiento 90 | E216: 8. Personal apoyo | F216: 8.1 Animador y/o Presentador con experiencia | G216: Festival de verano | H216: Parque Simon Bolivar | I216: 2 | J216: =1450000*2 -> 2900000 | K216: =J216*0.19 -> 551000 | L216: =J216+K216 -> 3451000
...

Sheet Ferias Diciembre navideña
A1: Fecha inicial | B1: Fecha final | C1: Subdirección | D1: Requerimiento | E1: Categoría | F1: Servicio o Bien | G1: cantidad | H1: Nombre feria | I1: Dirección | J1: Valor unitario | K1: Valor | L1: IVA 19% | M1: TOTAL
A2: 45992 | B2: 45994 | C2: SGRSI | D2: 192 | E2: 12. Transporte | F2: 12.2 Transporte 6.5 Ton | G2: 1 | H2: FERIA NAVIDEÑA SAN VICTORINO | I2: BODEGA LA 38 - SAN VICTORINO | J2: =+K2/G2 -> 1950000 | K2: 1950000 | L2: 370500 | M2: =+K2+L2 -> 2320500
A3: 45992 | B3: 45994 | C3: SGRSI | D3: 192 | E3: 8. Personal apoyo | F3: 8.4 Auxiliar Logístico montaje y desmontaje mobiliario | G3: 5 | H3: FERIA NAVIDEÑA SAN VICTORINO | I3: BODEGA LA 38 - SAN VICTORINO | J3: =+K3/G3 -> 235000 | K3: 1175000 | L3: 223250 | M3: =+K3+L3 -> 1398250
A4: 45992 | B4: 3-dic-25 AL 23 DE DICIEMBRE | C4: SGRSI | D4: 192 | E4: 5. Estructuras exteriores | F4: 5.1 Baño portátil | G4: 42 | H4: FERIA NAVIDEÑA SAN VICTORINO | I4: SAN VICTORINO | J4: =+K4/G4 -> 495000 | K4: 20790000 | L4: 3950100 | M4: =+K4+L4 -> 24740100
A5: 45992 | B5: 45994 | C5: SGRSI | D5: 192 | E5: 11. Suministro de energía | F5: 11.3 Planta eléctrica - 40 KVA | G5: 1 | H5: FERIA NAVIDEÑA SAN VICTORINO | I5: SAN VICTORINO | J5: =+K5/G5 -> 1650000 | K5: 1650000 | L5: 313500 | M5: =+K5+L5 -> 1963500
A6: 45992 | B6: 45994 | C6: SGRSI | D6: 192 | E6: 1. Audio y video | F6: 1.1 Alquiler de sonido de 50 a 200 personas | G6: 1 | H6: FERIA NAVIDEÑA SAN VICTORINO | I6: SAN VICTORINO | J6: =+K6/G6 -> 2250000 | K6: 2250000 | L6: 427500 | M6: =+K6+L6 -> 2677500
A7: 45992 | B7: 45994 | C7: SGRSI | D7: 192 | E7: 8. Personal apoyo | F7: 8.1 Animador y/o Presentador con experiencia | G7: 1 | H7: FERIA NAVIDEÑA SAN VICTORINO | I7: SAN VICTORINO | J7: =+K7/G7 -> 1450000 | K7: 1450000 | L7: 275500 | M7: =+K7+L7 -> 1725500
A8: 45992 | B8: 45994 | C8: SGRSI | D8: 192 | E8: 8. Personal apoyo | F8: 8.8 Grupo musical de 5 hasta 9 artistas | G8: 1 | H8: FERIA NAVIDEÑA SAN VICTORINO | I8: SAN VICTORINO | J8: =+K8/G8 -> 3025210 | K8: 3025210 | L8: 574790 | M8: =+K8+L8 -> 3600000
A9: 45992 | B9: 46014 | C9: SGRSI | D9: 193 | E9: 12. Transporte | F9: 12.2 Transporte 6.5 Ton | G9: 1 | H9: FERIA NAVIDEÑA SAN VICTORINO | I9: SAN VICTORINO A BODEGA LA 38 | J9: =+K9/G9 -> 1950000 | K9: 1950000 | L9: 370500 | M9: =+K9+L9 -> 2320500
A10: 45992 | B10: 46014 | C10: SGRSI | D10: 193 | E10: 8. Personal apoyo | F10: 8.4 Auxiliar Logístico montaje y desmontaje mobiliario | G10: 5 | H10: FERIA NAVIDEÑA SAN VICTORINO | I10: SAN VICTORINO A BODEGA LA 38 | J10: =+K10/G10 -> 235000 | K10: 1175000 | L10: 223250 | M10: =+K10+L10 -> 1398250
I11: TOTAL | K11: =SUM(K2:K10) -> 35415210 | L11: =SUM(L2:L10) -> 6728890 | M11: =SUM(M2:M10) -> 42144100
A13: Fecha inicial | B13: Fecha final | C13: Subdirección | D13: Requerimiento | E13: Categoría | F13: Servicio o Bien | G13: cantidad | H13: Nombre feria | I13: Dirección | J13: Valor unitario | K13: Valor | L13: IVA 19% | M13: TOTAL
A14: 46002 | B14: 46007 | C14: SGRSI | D14: 194 | E14: 1. Audio y video | F14: 1.1 Alquiler de sonido de 50 a 200 personas | G14: 1 | H14: FERIA NAVIDEÑA SAN VICTORINO | I14: VICACHÁ | J14: =+K14/G14 -> 2250000 | K14: 2250000 | L14: 427500 | M14: =+K14+L14 -> 2677500
A15: 46002 | B15: 46007 | C15: SGRSI | D15: 194 | E15: 8. Personal apoyo | F15: 8.2 Artista solista | G15: 1 | H15: FERIA NAVIDEÑA SAN VICTORINO | I15: VICACHÁ | J15: =+K15/G15 -> 1008403 | K15: 1008403 | L15: 191597 | M15: =+K15+L15 -> 1200000
A16: 46002 | B16: 46007 | C16: SGRSI | D16: 194 | E16: 2. Catering | F16: 2.5 Plato de lechona | G16: 150 | H16: FERIA NAVIDEÑA SAN VICTORINO | I16: VICACHÁ | J16: =+K16/G16 -> 15966.387 | K16: 2394958 | L16: 455042.02 | M16: =+K16+L16 -> 2850000
I17: TOTAL | K17: =SUM(K14:K16) -> 5653361 | L17: =SUM(L14:L16) -> 1074139 | M17: =SUM(M14:M16) -> 6727500
A19: Fecha inicial | B19: Fecha final | C19: Subdirección | D19: Requerimiento | E19: Categoría | F19: Servicio o Bien | G19: cantidad | H19: Nombre feria | I19: Dirección | J19: Valor unitario | K19: Valor | L19: IVA 19% | M19: TOTAL
