Workbook
Name __AFC1: [1]INV!$A$25:$D$28
Name __AFC3: [1]INV!$F$25:$I$28
Name __AFC5: [1]INV!$K$25:$N$28
Name __ALL4: #REF!
Name __BGC1: [1]INV!$A$5:$D$8
Name __BGC3: [1]INV!$F$5:$I$8
Name __BGC5: [1]INV!$K$5:$N$8
Name __CAC1: [1]INV!$A$19:$D$22
Name __CAC3: [1]INV!$F$19:$I$22
Name __CAC5: [1]INV!$K$19:$N$22
Name __CON2200: #REF!
Name __CON2500: #REF!
Name __con3000: #REF!
Name __EST1: #REF!
Name __EST10: #REF!
Name __EST11: #REF!
Name __EST12: #REF!
Name __EST13: #REF!
Name __EST14: #REF!
Name __EST15: #REF!
Name __EST16: #REF!
Name __EST17: #REF!
Name __EST18: #REF!
Name __EST19: #REF!
Name __EST2: #REF!
Name __EST3: #REF!
Name __EST4: #REF!
Name __EST5: #REF!
Name __EST6: #REF!
Name __EST7: #REF!
Name __EST8: #REF!
Name __EST9: #REF!
Name __EXC1: #REF!
Name __EXC10: #REF!
Name __EXC11: #REF!
Name __EXC12: #REF!
Name __EXC2: #REF!
Name __EXC3: #REF!
Name __EXC4: #REF!
Name __EXC5: #REF!
Name __EXC6: #REF!
Name __EXC7: #REF!
Name __EXC8: #REF!
Name __EXC9: #REF!
Name __mor15: #REF!
Name __PRE1: #REF!
Name __PRE12: #REF!
Name __Rc: #REF!
Name __SBC1: [1]INV!$A$12:$D$15
Name __SBC3: [1]INV!$F$12:$I$15
Name __SBC5: [1]INV!$K$12:$N$15
Name _1Excel_BuiltIn_Print_Area_1_1: #REF!
Name _AFC1: [1]INV!$A$25:$D$28
Name _AFC3: [1]INV!$F$25:$I$28
Name _AFC5: [1]INV!$K$25:$N$28
Name _ALL4: #REF!
Name _BGC1: [1]INV!$A$5:$D$8
Name _BGC3: [1]INV!$F$5:$I$8
Name _BGC5: [1]INV!$K$5:$N$8
Name _CAC1: [1]INV!$A$19:$D$22

Sheet CRONOGRAMA
A1: ÁRBOL DE OBJETIVOS | C1: ACTIVIDADES | D1: SUBACTIVIDADES | E1: MES 1 | F1: MES 2 | G1: MES 3 | H1: MES 4 | I1: MES 5 | J1: MES 6
A2: GENERAL | B2: ESPECÍFICOS
A3: Fortalecer la productividad del cultivo de plátano en los municipios PDET de Los Andes y Cumbitara de la Cordillera Nariñense promoviendo el desarrollo económico y social de los productores. | B3: 1. Fortalecer los sistemas productivos de la línea de plátano. | C3: 1.1 Establecer nuevas unidades productivas de plátano con un manejo ambiental y técnico adecuado. | D3: Entrega de activos productivos para la implementacion de 176 nuevas unidades productivas de 1/2 hectárea de plátano establecidas.
C4: 1.2 Implementar acciones de sostenimiento productivo y ambiental del cultivo de plátano con un manejo técnico adecuado. | D4: Entrega de activos productivos para el sostenimiento de 260 unidades productivas de 1/2 hectárea de plátano con acciones de sostenimiento implementadas.
C5: 1.3 Brindar capacitaciones y fortalecimiento técnico a los productores de plátano en toda la cadena productiva. | D5: Etapa piloto: Prueba de caja para validar la metodología pedagógica y logística en condiciones reales de parcela.
D6: Etapa formativa: ECA Cosecha y postcosecha.
D7: Etapa formativa: ECA Validación de aprendizajes y ajustes metodológicos.
D8: Etapa formativa: ECA Manejo agronómico, establecimiento, sostenimiento Manejo fitosanitario, control de arvenses, y costos de producción.
B9: 2. Mejorar los procesos de generación de capacidades socio organizacionales con enfoque de género y ciclo de vida. | C9: 2.1 Realizar un diagnóstico de las capacidades de las organizaciones de plátano presentes en el territorio. | D9: Renion informativa del proyecto en cada municipio y aplicación de formato de encuesta para información de cada uno de los componentes socio organizativos y comerciales de los beneficiarios
D10: Realizar un diagnóstico de necesidades y capacidades organizativas por municipio
C11: 2.2 Elaboración e implementación de un plan de acción de capacidades socio organizacionales para dos organizaciones. | D11: Desarrollo de taller participativo orientado a fortalecer las necesidades socio-organizacionales
D12: Desarrollo de taller de capacitación orientado a la gestion administrativa y financiera
B13: 3. Fortalecer procesos socio empresariales y comerciales en mercados de valor agregado. | C13: 3.1 Implementar un plan comercial | D13: Desarrollo de taller implementacion de plan comercial
C14: 3.2 Fortalecer las capacidades socio empresariales y de gestión comercial. | D14: Desarrollo de taller orientado a fortalecer las capacidades socio emprersariales
D15: Desarrollo de gira empresarial orientada a fortalecer las capacidades organizacionales
D16: Desarrollo de gira empresarial orientada a fortalecer las capacidades de innovacion de los productores
A17: Cierre
C18: proyecto: DAVID JOJOA Apoyo Tecnico SADR

Sheet ADMINISTRACION
A1: “DESARROLLO INTEGRAL DE LA LÍNEA PRODUCTIVA DE PLÁTANO DOMINICO HARTON EN LOS MUNICIPIOS PDET DE LOS ANDES Y CUMBITARA DE LA CORDILLERA NARIÑENSE".
A2: DISCRIMINACION ADMINISTRACION
A3: COSTOS DIRECTOS DE PERSONAL
A4: CARGO / OFICIO | B4: PERFIL PROFESIONAL Y EXPERIENCIA | C4: F.P. | D4: CANT. | E4: VALOR SALARIO | F4: DEDICACION DE TIEMPO | G4: MESES | H4: VALOR TOTAL
A6: Coordinador administrativo y logístico | B6: Título profesional clasificado en la siguientes Núcleos básicos del Conocimiento: Agronomía, Administración, Contaduría Pública, Economía, Ingeniería Agrícola, Forestal y Afines, Ingeniería Agroindustrial, Alimentos y Afines, Ingeniería Agronómica y Afines, Ingeniería Ambiental y Afines, Especialización en gerencia, gestión, seguimiento de proyectos. Contar con tarjeta o matrícula profesional vigente en los casos exigidos por la Ley. Experiencia de trabajo mínima de al menos cinco (5) años acumulada, contados desde la fecha de terminación de materias, debidamente soportada, o de obtención del título respectivo; en alguna o algunas de las siguientes funciones u obligaciones: Coordinación y/o dirección para ejecución, gestión, seguimiento de proyectos productivos a través de contratos con la coordinación o dirección de equipos de trabajo, administración y ejecución de recursos. | C6: 1 | D6: 1 | E6: ='ANALISIS ESTADISTICO - COTIZACI'!I7 -> 6750000 | F6: 1 | G6: 6 | H6: =C6*D6*E6*F6*G6 -> 40500000
A7: Técnico administrativo | B7: Técnico, tecnólogo o estudiante de últimos semestres en Contaduría Pública, Administración Financiera, Administración o áreas afines. Cursos en Normas Internacionales de Información Financiera (NIIF) para Pymes, costos agroindustriales o manejo de presupuestos o similares. Experiencia de trabajo mínima acumulada de al menos un (1) año, en cargos contables o financieros entre la fecha de terminación de materias, debidamente soportada, o de obtención del título respectivo. Experiencia en proyectos agroindustriales, agrícolas o de economía solidaria; Manejo de software contable; experiencia en conciliaciones bancarias, manejo de caja menor, legalización de anticipos, presupuestos y reportes financieros. | C7: 1 | D7: 1 | E7: ='ANALISIS ESTADISTICO - COTIZACI'!I8 -> 2528400 | F7: 1 | G7: 6 | H7: =C7*D7*E7*F7*G7 -> 15170400
A8: Profesional Jurídico | B8: Título profesional en Derecho. Experiencia de trabajo mínima de al menos tres (3) años acumulada, contados entre la fecha de terminación de materias, debidamente soportada, o de obtención del título respectivo y la fecha de cierre del presente proceso, en alguna o algunas de las siguientes funciones u obligaciones: Experiencia en revisión de contratos, y verificación de garantías de insumos y técnicas. | C8: 1 | D8: 1 | E8: ='ANALISIS ESTADISTICO - COTIZACI'!I9 -> 3982230 | F8: 0.5 | G8: 6 | H8: =C8*D8*E8*F8*G8 -> 11946690
A9: Profesional contable | B9: Título profesional que lo acredite como contador público con tarjeta o matrícula profesional vigente en los casos exigidos por la Ley. Experiencia de trabajo mínima acumulada de al menos tres (3) años, como contador, contados entre la fecha de terminación de materias, debidamente soportada, o de obtención del título respectivo. | C9: 1 | D9: 1 | E9: ='ANALISIS ESTADISTICO - COTIZACI'!I10 -> 3982230 | F9: 0.5 | G9: 6 | H9: =C9*D9*E9*F9*G9 -> 11946690
A10: SUBTOTAL COSTOS DIRECTOS DE PERSONAL | D10: =SUM(D6:D9) -> 4 | H10: =SUM(H5:H9) -> 79563780
A11: TOTAL COSTOS DIRECTOS | H11: =H10 -> 79563780
A12: COSTOS INDIRECTOS
A13: ITEM | B13: DESCRIPCIÓN | E13: UNIDAD | F13: COSTO | G13: CANTIDAD | H13: COSTO TOTAL
A14: Papelería | B14: Resmas de papel: Resma tamaño carta bond de 500 hojas de 75g blanco por unidad, Largo x Ancho 27.94 cm x 21.59 cm | E14: Unidad | F14: ='ANALISIS ESTADISTICO - COTIZACI'!L22 -> 17000 | G14: 8 | H14: =ROUND((G14*F14),0) -> 136000
A15: servicio de bodega mas oficina | B15: Alquiler de un espacio físico minimo de 70m2 destinado al almacenamiento temporal, organización y resguardo de insumos, materiales y elementos logísticos requeridos para el desarrollo de las actividades del proyecto, garantizando condiciones adecuadas de manejo, custodia y disponibilidad durante el periodo de ejecución mas Arriendo de un espacio físico (1 oficinas, 1 baños, 1 cocineta con seguridad, con servicios básicos de calidad, que garantice el espacio para que el personal contratado implemente la ejecución del proyecto. | E15: Mes | F15: ='ANALISIS ESTADISTICO - COTIZACI'!L25 -> 600000 | G15: 5 | H15: =+G15*F15 -> 3000000
A16: SUBTOTAL COSTOS INDIRECTOS | H16: =SUM(H14:H15) -> 3136000
A17: TOTAL COSTOS INDIRECTOS | H17: =H16 -> 3136000
A19: TOTAL ADMINISTRACION | H19: =H17+H11 -> 82699780
A21: NOTAS 1. Honorarios: Los honorarios del equipo profesional fueron estimados tomando como referencia la tabla de honorarios de la Gobernación de Nariño, considerando el perfil profesional, la experiencia requerida y las responsabilidades asociadas dentro del proyecto. 2. Actividades del equipo: La descripción detallada de las actividades y responsabilidades de los profesionales vinculados al proyecto se encuentra desarrollada en la ficha técnica del proyecto. 4. Papelería: Se contempla la adquisición de ocho (8) resmas de papel tamaño carta (500 hojas) para el periodo total de ejecución del proyecto (6 meses). Esta cantidad se calcula teniendo en cuenta los requerimientos de impresión y reproducción de documentos asociados a la ejecución del proyecto. 5.Servicio de bodega y oficina: Los valores correspondientes al arrendamiento de oficina y bodega se estimaron tomando como referencia una certificación emitida por el municipio de Los Andes, localidad que se definió como punto estratégico de operación del proyecto, debido a que facilita el desplazamiento y la articulación logística de los dos municipios de intervención.

Sheet actividades POA
A1: PRESUPUESTO POR ACTIVIDAD
A2: Actividades ligadas al desarrollo del proyecto según el POA
A3: COMPONENTE | B3: DESCRIPCION ESPECIFICACIONES TECNICAS / PERFIL PROFESIONAL Y EXPERIENCIA | C3: Unidad | D3: Cantidad | E3: B | F3: C | G3: D = BxC | H3: D+H
E4: Numero | F4: VALOR UNITARIO | G4: SUBTOTAL | H4: VALOR TOTAL
A5: Refrigerios, almuerzos mas hidratacion Evento de socialización | B5: ='ANALISIS ESTADISTICO - COTIZACI'!C30 -> ALMUERZO 1. Sopa del día 2. Bandeja: porción de arroz, proteína (carne, pollo, cerdo o pescado (125 grs)), papa al vapor o frita, patacón o plátano o espagueti, principio (lentejas, frijol o garbanzo), 15 grs de ensalada de verduras o frutas 3. Jugo natural o Caja. REFRIGERIO 1. Bebida Caliente o Fría, que puede oscilar entre las siguientes opciones: Café, Café con Leche, Chocolate, Avena, (Contenido 9 onzas c/u) o Gaseosa Personal (250 ml). 2. Acompañado de: Quimbolito, Envuelto de Choclo, Empanada de Horno o Frita, Pastel de queso, Pastel de pollo o carne, Pastel Hawaiano, Pastel de Jamón y Queso, Sándwich (Jamón y Queso), Buñuelo o Almojábana. HIDRATACION: Agua en botella plástica tamaño 600 ml | C5: Unidad | D5: 436 | E5: 1 | F5: ='ANALISIS ESTADISTICO - COTIZACI'!I30 -> 39760 | G5: =F5*E5*D5 -> 17335360 | H5: =G5 -> 17335360
A6: Refrigerios, almuerzo mas hidratacion Evento de cierre | B6: ='ANALISIS ESTADISTICO - COTIZACI'!C30 -> ALMUERZO 1. Sopa del día 2. Bandeja: porción de arroz, proteína (carne, pollo, cerdo o pescado (125 grs)), papa al vapor o frita, patacón o plátano o espagueti, principio (lentejas, frijol o garbanzo), 15 grs de ensalada de verduras o frutas 3. Jugo natural o Caja. REFRIGERIO 1. Bebida Caliente o Fría, que puede oscilar entre las siguientes opciones: Café, Café con Leche, Chocolate, Avena, (Contenido 9 onzas c/u) o Gaseosa Personal (250 ml). 2. Acompañado de: Quimbolito, Envuelto de Choclo, Empanada de Horno o Frita, Pastel de queso, Pastel de pollo o carne, Pastel Hawaiano, Pastel de Jamón y Queso, Sándwich (Jamón y Queso), Buñuelo o Almojábana. HIDRATACION: Agua en botella plástica tamaño 600 ml | C6: Unidad | D6: 436 | E6: 1 | F6: ='ANALISIS ESTADISTICO - COTIZACI'!I30 -> 39760 | G6: =D6*E6*F6 -> 17335360 | H6: =G6 -> 17335360
A7: Transporte CCSS | B7: Operatividad del Comité de Control Social y Seguimiento (CCSS): bono de transporte para los integrantes del comité en el municipio de Los Andes , destinado a apoyar su desplazamiento y garantizar su participación en las jornadas y reuniones del comité. | C7: Unidad | D7: 3 | E7: 3 | F7: ='ANALISIS ESTADISTICO - COTIZACI'!I42 -> 72954.108 | G7: =D7*E7*F7 -> 656586.97 | H7: =ROUNDUP(G7,0) -> 656587
A8: Transporte CCSS | B8: Operatividad del Comité de Control Social y Seguimiento (CCSS): bono de transporte para los integrantes del comité en el municipio de Cumbitara, destinado a apoyar su desplazamiento y garantizar su participación en las jornadas y reuniones del comité. | C8: Unidad | D8: 3 | E8: 3 | F8: ='ANALISIS ESTADISTICO - COTIZACI'!I43 -> 100977.83 | G8: =D8*E8*F8 -> 908800.45 | H8: =ROUNDUP(G8,0) -> 908801
A9: VALOR TOTAL | H9: =SUM(H5:H8) -> 36236108
A10: NOTA 1. Para el servicio de almuerzos y refrigerios se deberá priorizar el uso de vajilla reutilizable (loza o materiales similares). En caso de requerirse recipientes desechables, estos deberán ser elaborados en materiales biodegradables o ambientalmente amigables, con el fin de reducir la generación de residuos y promover prácticas sostenibles durante el desarrollo de las actividades. NOTA 2. El bono de transporte será otorgado a cada uno de los tres (3) integrantes del Comité de Control Social y Seguimiento (CCS) por municipio, con el propósito de garantizar su asistencia y participación efectiva en las jornadas de trabajo y reuniones programadas por el comité. La entrega del bono se formalizará mediante acta de entrega debidamente firmada, acompañada de copia de la cédula de ciudadanía del beneficiario, como soporte administrativo del proceso. Para la estimación del valor correspondiente al bono, se tomó como referencia el valor promedio de los trayectos de transporte entre las veredas y los respectivos cascos urbanos de los municipios de los Andes y Cumbitara. Con el fin de mejorar la precisión del cálculo y considerando posibles variaciones en los costos de transporte rural, al valor promedio estimado se adicionó una desviación estándar, permitiendo así obtener un valor de referencia más ajustado frente a la dispersión de los datos observados. NOTA 3. Para el cálculo de los valores de alimentación correspondientes a almuerzo, refrigerio e hidratación, se tomaron como referencia los valores establecidos en el Contrato Interadministrativo No. GN2184-2026, los cuales se encuentran debidamente soportados en el respectivo estudio del sector. La sumatoria de los ítems referenciados asciende a $39.760 NOTA 4. El Comité de Control Social (CCS) de cada municipio está conformado por un representante de la Agencia de Renovación del Territorio (ART), un representante de la Gobernación de Nariño – Secretaría de Agricultura y Desarrollo Rural, tres representantes de la comunidad y un secretario técnico según se establece en el anexo técnico del convenio.

Sheet 1.3
A1: PRESUPUESTO POR ACTIVIDAD
A2: 1.3 Brindar capacitaciones y fortalecimiento técnico a los productores de plátano en toda la cadena productiva.
A3: COMPONENTE | B3: DESCRIPCION ESPECIFICACIONES TECNICAS / PERFIL PROFESIONAL Y EXPERIENCIA | C3: Unidad | D3: Cantidad | E3: B | F3: C | G3: D = BxC | H3: D+H
E4: Numero | F4: VALOR UNITARIO | G4: SUBTOTAL | H4: VALOR TOTAL
A5: Refrgerios, almuerzos mas hidratacion escuelas de campo(ECAS) para productores | B5: ='ANALISIS ESTADISTICO - COTIZACI'!C30 -> ALMUERZO 1. Sopa del día 2. Bandeja: porción de arroz, proteína (carne, pollo, cerdo o pescado (125 grs)), papa al vapor o frita, patacón o plátano o espagueti, principio (lentejas, frijol o garbanzo), 15 grs de ensalada de verduras o frutas 3. Jugo natural o Caja. REFRIGERIO 1. Bebida Caliente o Fría, que puede oscilar entre las siguientes opciones: Café, Café con Leche, Chocolate, Avena, (Contenido 9 onzas c/u) o Gaseosa Personal (250 ml). 2. Acompañado de: Quimbolito, Envuelto de Choclo, Empanada de Horno o Frita, Pastel de queso, Pastel de pollo o carne, Pastel Hawaiano, Pastel de Jamón y Queso, Sándwich (Jamón y Queso), Buñuelo o Almojábana. HIDRATACION: Agua en botella plástica tamaño 600 ml | C5: Unidad | D5: 436 | E5: 3 | F5: ='ANALISIS ESTADISTICO - COTIZACI'!L30 -> 39760 | G5: =D5*E5*F5 -> 52006080 | H5: =G5 -> 52006080
A6: Kit para papeleria | B6: KIT DE PAPELERIA: * 4 unidades Papel bond blanco 70*100 de 75 g/m², * 3 unidades marcadores de colores surtidos c/u, punta gruesa, tinta permanente. * 1 unidad cinta de enmascarar 24*40. * 3 unidades lapiz HB #2. grafito HB, cuerpo de madera y mina resistente) | C6: ='ANALISIS ESTADISTICO - COTIZACI'!#REF! -> #REF! | D6: 436 | E6: 1 | F6: ='ANALISIS ESTADISTICO - COTIZACI'!L24 -> 25000 | G6: =D6*E6*F6 -> 10900000 | H6: =G6 -> 10900000
A7: Profesional de campo | B7: ='ANALISIS ESTADISTICO - COTIZACI'!C15 -> Título profesional clasificado en la siguientes Núcleos básicos del Conocimiento: Agronomía, Ingeniería Agrícola, Forestal y Afines, Ingeniería Agroindustrial y Afines, Ingeniería Agronómica y Afines, Ingeniería Ambiental y Afines, Especialización en gerencia, gestión, seguimiento de proyectos. Contar con tarjeta o matrícula profesional vigente en los casos exigidos por la Ley. Experiencia de trabajo mínima de al menos dos (2) años acumulada, contados desde la fecha de terminación de materias, debidamente soportada, o de obtención del título respectivo; en alguna o algunas de las siguientes funciones u obligaciones: Coordinación y/o dirección para ejecución, gestión, seguimiento de proyectos productivos a través de contratos con la coordinación o dirección de equipos de trabajo, administración y ejecución de recursos. | C7: Profesional | D7: 1 | E7: 6 | F7: ='ANALISIS ESTADISTICO - COTIZACI'!L15 -> 5232230 | G7: =D7*E7*F7 -> 31393380 | H7: =G7 -> 31393380
A8: Tecnico de campo | B8: ='ANALISIS ESTADISTICO - COTIZACI'!C16 -> Título profesional clasificado en la siguientes Núcleos básicos del Conocimiento: Título de Técnico o Tecnólogo en Agronomía, ambiental, Producción Agrícola, Agroindustria o carreras afines., manejo de cultivos de plátano o gestión ambiental. Contar con tarjeta o matrícula profesional vigente en los casos exigidos por la Ley. Experiencia de trabajo mínima de al menos dos (2) años acumulada, contados entre la fecha de terminación de materias, debidamente soportada, o de obtención del título respectivo en alguna o algunas de las siguientes funciones u obligaciones: Mínimo un (1) año de experiencia en labores técnicas de campo o asistencia en proyectos agrícolas; Experiencia específica en cultivos permanentes (plátano, cítricos, aguacate, mango, etc.) preferiblemente en plátano; Conocimiento en prácticas de siembra, fertilización, riego, control de plagas y cosecha; Manejo básico de registros productivos. | C8: Técnico | D8: 5 | E8: 6 | F8: ='ANALISIS ESTADISTICO - COTIZACI'!L16 -> 4318258 | G8: =D8*E8*F8 -> 129547740 | H8: =G8 -> 129547740
A9: VALOR TOTAL | H9: =SUM(H5:H8) -> 223847200
A10: NOTA 1. Para el servicio de almuerzos y refrigerios se deberá priorizar el uso de vajilla reutilizable (loza o materiales similares). En caso de requerirse recipientes desechables, estos deberán ser elaborados en materiales biodegradables o ambientalmente amigables, con el fin de reducir la generación de residuos y promover prácticas sostenibles durante el desarrollo de las actividades. NOTA 2. Los honorarios del profesional de campo fueron calculados con base en las tablas de honorarios establecidas por la Gobernación de Nariño, por un valor de $3.982.230. Asimismo, se incluye una asignación por concepto de gastos de desplazamiento por valor de $1.250.000, teniendo en cuenta que los profesionales deberán realizar traslados desde el casco urbano hacia las diferentes veredas donde se ejecutarán las actividades del proyecto, dicho calculo se realizó teniendo en cuenta que el personal en campo se debe desplazar diariamente desde las cabeceras municipales hasta las veredas de incidencia del proceso y en ese orden de ideas, se movilizaran 20 días a la semana, cada día de desplazamiento se estimó en un valor de 62.500. NOTA 3. Para el cálculo de los valores de alimentación correspondientes a almuerzo, refrigerio e hidratación, se tomaron como referencia los valores establecidos en el Contrato Interadministrativo No. GN2184-2026, los cuales se encuentran debidamente soportados en su respectivo estudio del sector. La sumatoria de los ítems referenciados asciende a $39.760. NOTA 4. Se contempla la adquisición de 436 kits de aprendizaje destinados a los beneficiarios del proyecto que participaran en las sesiones de las Escuelas de Campo para Agricultores (ECA). los kits se entregan una única vez. NOTA 5. La actividad contempla el desarrollo de tres temáticas abordadas en dieciocho (18) núcleos integrados por un grupo de 20 a 25 beneficiarios para un total de cincuenta y cuatro (54) Escuelas de Campo para Agricultores (ECA) desarrolladas en las diferentes veredas contempladas en el proyecto según lo disponga el profesional a cargo y en las cuales se deberá hacer la entrega de la alimentación contemplada. Culminado el proyecto se entregaran en totalidad 1.308 refrigerios para escuelas de campo. NOTA 6. El proceso formativo de la actividad se desarrollará durante seis (6) meses mediante dieciocho (18) núcleos de formación, la disposición de cada sesión será programada por le profesional a cargo de la coordinación de las temáticas siendo estas las siguientes: Tema 1: Manejo agronómico, establecimiento, sostenimiento Manejo fitosanitario, control de arvenses, y costos de producción. - Tema 2: Cosecha y postcosecha. -Tema 3: Validación de aprendizajes y ajustes metodológicos. NOTA 7. Los honorarios del técnico de campo fueron calculados con base en las tablas de honorarios establecidas por la Gobernación de Nariño, por un valor de $3.068.258 Asimismo, se incluye una asignación por concepto de gastos de desplazamiento por valor de $1.250.000, teniendo en cuenta que los profesionales deberán realizar traslados desde el casco urbano hacia las diferentes veredas donde se ejecutarán las actividades del proyecto. NOTA 8: Se proyecta realizar seis (4) visitas de seguimiento a cada uno de los cuatrocientos treinta y seis (436) beneficiarios durante un periodo de seis meses, para un total de mil setecientos cuarenta y cuatro (1.744). NOTA9: En cumplimiento de la Ley 1876 de 2017 y de la Obligación Específica No. 17 del Convenio Interadministrativo No. SG-0162-2025, las actividades de carácter técnico, organizacional y socio empresarial deberán desarrollarse bajo metodologías acordes con los enfoques de extensión agropecuaria definidos por el Sistema Nacional de Innovación Agropecuaria (SNIA) y en articulación con las líneas estratégicas del Plan Departamental de Extensión Agropecuaria (PDEA) vigente.

Sheet 2.1
A1: PRESUPUESTO POR ACTIVIDAD
A2: 2.1 Realizar un diagnóstico de las capacidades de las organizaciones de platano presentes en el territorio.
A3: COMPONENTE | B3: DESCRIPCION ESPECIFICACIONES TECNICAS / PERFIL PROFESIONAL Y EXPERIENCIA | C3: Unidad | D3: Cantidad | E3: B | F3: C | G3: D = BxC | H3: D+H
E4: Numero | F4: VALOR UNITARIO | G4: SUBTOTAL | H4: VALOR TOTAL
A5: Profesional socio-organizacional: | B5: ='ANALISIS ESTADISTICO - COTIZACI'!C14 -> Título profesional clasificado en la siguientes Núcleos básicos del Conocimiento: Agronomía, Ingeniería Agrícola, Forestal y Afines, Ingeniería Agroindustrial y Afines, Ingeniería Agronómica y Afines, Ingeniería Ambiental y Afines o áreas afines Administración de Empresas, Economía, Negocios Internacionales, Desarrollo Rural, Ingeniería Agronómica o áreas afines. Formación complementaria en asociatividad, emprendimiento rural, cadenas de valor agropecuarias, planes de negocio o mercadeo agroalimentario; Conocimiento en normatividad aplicable al sector agropecuario y al desarrollo de organizaciones de productores; Buenas Prácticas Agrícolas (BPA); Certificaciones internacionales de calidad y sostenibilidad para frutas de exportación (GlobalG.A.P., Fair Trade, Rainforest Alliance, Orgánico, u otras equivalentes); Asociatividad y gobernanza, planes de negocio y mercadeo agroalimentario; Conocimiento actualizado en normatividad nacional e internacional para exportación de cítricos. Contar con tarjeta o matrícula profesional vigente en los casos exigidos por la Ley. Experiencia de trabajo mínima de al menos tres (3) años acumulada, contados entre la fecha de terminación de materias, debidamente soportada, o de obtención del título respectivo en alguna o algunas de las siguientes funciones u obligaciones: Experiencia en procesos de asociatividad, acompañamiento empresarial y comercialización de productos agropecuarios; implementación de protocolos de certificación (BPA, GlobalG.A.P. u otros) aplicados a frutales de exportación, preferiblemente en Platano; Experiencia en acceso a mercados locales, nacionales e internacionales, incluyendo negociación con compradores y cumplimiento de requisitos fitosanitarios y de calidad. | C5: Profesional | D5: 0.5 | E5: 6 | F5: ='ANALISIS ESTADISTICO - COTIZACI'!L14 -> 5232230 | G5: =D5*E5*F5 -> 15696690 | H5: =G5 -> 15696690
A6: VALOR TOTAL | H6: =SUM(H5:H5) -> 15696690
A7: NOTA 1. Los honorarios del profesional socioempresarial fueron calculados con base en las tablas de honorarios establecidas por la Gobernación de Nariño, por un valor de $3.982.230. Asimismo, se incluye una asignación por concepto de gastos de desplazamiento por valor de $1.250.000, teniendo en cuenta que los profesionales deberán realizar traslados desde el casco urbano hacia las diferentes veredas donde se ejecutarán las actividades del proyecto. NOTA 2. Para el desarrollo de la actividad propuesta se contempla la realización de una reunión informativa del proyecto con las organizaciones locales identificadas en cada uno de los municipios contemplados en este caso Los Andes y Cumbitara. NOTA 3. La actividad se realizar mediando la aplicación de una encuesta a los beneficiarios con el fin de establecer los requerimientos mencionados en la descripción NOTA 4. En cumplimiento de la Ley 1876 de 2017 y de la Obligación Específica No. 17 del Convenio Interadministrativo No. SG-0162-2025, las actividades de carácter técnico, organizacional y socio empresarial deberán desarrollarse bajo metodologías acordes con los enfoques de extensión agropecuaria definidos por el Sistema Nacional de Innovación Agropecuaria (SNIA) y en articulación con las líneas estratégicas del Plan Departamental de Extensión Agropecuaria (PDEA) vigente

Sheet 2.2
A1: PRESUPUESTO POR ACTIVIDAD
A2: 2.2 Elaboracion e implementacion de un plan de fortalecimiento de capacidades socioorganizacionales para 2 organizaciones
A3: COMPONENTE | B3: DESCRIPCION ESPECIFICACIONES TECNICAS / PERFIL PROFESIONAL Y EXPERIENCIA | C3: Unidad | D3: Cantidad | E3: B | F3: C | G3: D = BxC | H3: D+H
E4: Numero | F4: VALOR UNITARIO | G4: SUBTOTAL | H4: VALOR TOTAL
A5: Refrigerios, almuerzos mas hidratacion para talleres sociorganizacionales | B5: ='ANALISIS ESTADISTICO - COTIZACI'!C30 -> ALMUERZO 1. Sopa del día 2. Bandeja: porción de arroz, proteína (carne, pollo, cerdo o pescado (125 grs)), papa al vapor o frita, patacón o plátano o espagueti, principio (lentejas, frijol o garbanzo), 15 grs de ensalada de verduras o frutas 3. Jugo natural o Caja. REFRIGERIO 1. Bebida Caliente o Fría, que puede oscilar entre las siguientes opciones: Café, Café con Leche, Chocolate, Avena, (Contenido 9 onzas c/u) o Gaseosa Personal (250 ml). 2. Acompañado de: Quimbolito, Envuelto de Choclo, Empanada de Horno o Frita, Pastel de queso, Pastel de pollo o carne, Pastel Hawaiano, Pastel de Jamón y Queso, Sándwich (Jamón y Queso), Buñuelo o Almojábana. HIDRATACION: Agua en botella plástica tamaño 600 ml | C5: Unidad | D5: 200 | E5: 2 | F5: ='ANALISIS ESTADISTICO - COTIZACI'!I30 -> 39760 | G5: =F5*E5*D5 -> 15904000 | H5: =G5 -> 15904000
A6: ='2.1'!A5 -> Profesional socio-organizacional: | B6: ='2.1'!B5 -> Título profesional clasificado en la siguientes Núcleos básicos del Conocimiento: Agronomía, Ingeniería Agrícola, Forestal y Afines, Ingeniería Agroindustrial y Afines, Ingeniería Agronómica y Afines, Ingeniería Ambiental y Afines o áreas afines Administración de Empresas, Economía, Negocios Internacionales, Desarrollo Rural, Ingeniería Agronómica o áreas afines. Formación complementaria en asociatividad, emprendimiento rural, cadenas de valor agropecuarias, planes de negocio o mercadeo agroalimentario; Conocimiento en normatividad aplicable al sector agropecuario y al desarrollo de organizaciones de productores; Buenas Prácticas Agrícolas (BPA); Certificaciones internacionales de calidad y sostenibilidad para frutas de exportación (GlobalG.A.P., Fair Trade, Rainforest Alliance, Orgánico, u otras equivalentes); Asociatividad y gobernanza, planes de negocio y mercadeo agroalimentario; Conocimiento actualizado en normatividad nacional e internacional para exportación de cítricos. Contar con tarjeta o matrícula profesional vigente en los casos exigidos por la Ley. Experiencia de trabajo mínima de al menos tres (3) años acumulada, contados entre la fecha de terminación de materias, debidamente soportada, o de obtención del título respectivo en alguna o algunas de las siguientes funciones u obligaciones: Experiencia en procesos de asociatividad, acompañamiento empresarial y comercialización de productos agropecuarios; implementación de protocolos de certificación (BPA, GlobalG.A.P. u otros) aplicados a frutales de exportación, preferiblemente en Platano; Experiencia en acceso a mercados locales, nacionales e internacionales, incluyendo negociación con compradores y cumplimiento de requisitos fitosanitarios y de calidad. | C6: Profesional | D6: 0.5 | E6: 6 | F6: ='ANALISIS ESTADISTICO - COTIZACI'!I14 -> 5232230 | G6: =F6*E6*D6 -> 15696690 | H6: =G6 -> 15696690
A7: VALOR TOTAL | H7: =SUM(H5:H6) -> 31600690
A8: NOTA 1. Para el servicio de almuerzos y refrigerios se deberá priorizar el uso de vajilla reutilizable (loza o materiales similares). En caso de requerirse recipientes desechables, estos deberán ser elaborados en materiales biodegradables o ambientalmente amigables, con el fin de reducir la generación de residuos y promover prácticas sostenibles durante el desarrollo de las actividades. NOTA 2. Los honorarios del profesional socio organizacional fueron calculados con base en las tablas de honorarios establecidas por la Gobernación de Nariño, por un valor de $3.982.230. Asimismo, se incluye una asignación por concepto de gastos de desplazamiento por valor de $1.250.000, teniendo en cuenta que los profesionales deberán realizar traslados desde el casco urbano hacia las diferentes veredas donde se ejecutarán las actividades del proyecto. NOTA 3. Para el cálculo de los valores de alimentación correspondientes a almuerzo, refrigerio e hidratación, se tomaron como referencia los valores establecidos en el Contrato Interadministrativo No. GN2184-2026, los cuales se encuentran debidamente soportados en su respectivo estudio del sector. La sumatoria de los ítems referenciados asciende a $39.760. NOTA 4. La actividad contempla la orientación de dos procesos temáticos abordadas en ocho (8) grupos integrados por 25 beneficiarios para un total de doscientos (200) participantes por temática a realizar. Los talleres se desarrollarán en las diferentes veredas contempladas en el proyecto según lo disponga el profesional a cargo y en las cuales se deberá hacer la entrega de la alimentación contemplada. Culminado el proyecto se entregarán en totalidad 400 refrigerios para talleres socio organizacionales. NOTA 5. En cumplimiento de la Ley 1876 de 2017 y de la Obligación Específica No. 17 del Convenio Interadministrativo No. SG-0162-2025, las actividades de carácter técnico, organizacional y socio empresarial deberán desarrollarse bajo metodologías acordes con los enfoques de extensión agropecuaria definidos por el Sistema Nacional de Innovación Agropecuaria (SNIA) y en articulación con las líneas estratégicas del Plan Departamental de Extensión Agropecuaria (PDEA) vigente

Sheet 3.1
A1: PRESUPUESTO POR ACTIVIDAD
A2: 3.1 Implementar un plan comercial
A3: COMPONENTE | B3: DESCRIPCION ESPECIFICACIONES TECNICAS / PERFIL PROFESIONAL Y EXPERIENCIA | C3: Unidad | D3: Cantidad | E3: B | F3: C | G3: D = BxC | H3: D+H
E4: Numero | F4: VALOR UNITARIO | G4: SUBTOTAL | H4: VALOR TOTAL
A5: Refrigerios, almuerzos mas hidratacion para talleres comerciales | B5: ='ANALISIS ESTADISTICO - COTIZACI'!C30 -> ALMUERZO 1. Sopa del día 2. Bandeja: porción de arroz, proteína (carne, pollo, cerdo o pescado (125 grs)), papa al vapor o frita, patacón o plátano o espagueti, principio (lentejas, frijol o garbanzo), 15 grs de ensalada de verduras o frutas 3. Jugo natural o Caja. REFRIGERIO 1. Bebida Caliente o Fría, que puede oscilar entre las siguientes opciones: Café, Café con Leche, Chocolate, Avena, (Contenido 9 onzas c/u) o Gaseosa Personal (250 ml). 2. Acompañado de: Quimbolito, Envuelto de Choclo, Empanada de Horno o Frita, Pastel de queso, Pastel de pollo o carne, Pastel Hawaiano, Pastel de Jamón y Queso, Sándwich (Jamón y Queso), Buñuelo o Almojábana. HIDRATACION: Agua en botella plástica tamaño 600 ml | C5: Unidad | D5: 436 | E5: 1 | F5: ='ANALISIS ESTADISTICO - COTIZACI'!I30 -> 39760 | G5: =D5*E5*F5 -> 17335360 | H5: =G5 -> 17335360
A6: ='ANALISIS ESTADISTICO - COTIZACI'!B13 -> Profesional en comercializacion | B6: ='ANALISIS ESTADISTICO - COTIZACI'!C13 -> Título profesional clasificado en la siguientes Núcleos básicos del Conocimiento: Agronomía, Ingeniería Agrícola, Forestal y Afines, Ingeniería Agroindustrial y Afines, Ingeniería Agronómica y Afines, Ingeniería Ambiental y Afines o áreas afines Administración de Empresas, Economía, Negocios Internacionales, Desarrollo Rural, Ingeniería Agronómica o áreas afines. Especialización o posgrado en áreas relacionadas con desarrollo empresarial, comercio exterior, mercadeo agroalimentario o gestión de proyectos, curso/conocimientos en estrategias de comercialización, mercadeo, acceso a mercados nacionales e internacionales y encadenamientos productivos. Contar con tarjeta o matrícula profesional vigente en los casos exigidos por la Ley. Experiencia de trabajo mínima de al menos dos (2) años acumulada, contados entre la fecha de terminación de materias, debidamente soportada, o de obtención del título respectivo en alguna o algunas de las siguientes funciones u obligaciones: Experiencia en procesos de asociatividad, acompañamiento empresarial y comercialización de productos agropecuarios; aplicados a frutales de exportación, preferiblemente en plátano; Experiencia en acceso a mercados locales, nacionales e internacionales, incluyendo negociación con compradores y cumplimiento de requisitos fitosanitarios y de calidad. Un (1) año en procesos de fortalecimiento comercial, planes de negocio, planes de mercadeo o acceso a mercados en el sector agropecuario o agroindustrial | C6: Profesional | D6: 0.5 | E6: 6 | F6: ='ANALISIS ESTADISTICO - COTIZACI'!I13 -> 5232230 | G6: =D6*E6*F6 -> 15696690 | H6: =G6 -> 15696690
A7: VALOR TOTAL | H7: =SUM(H5:H6) -> 33032050
A8: NOTA 1. Para el servicio de almuerzos y refrigerios se deberá priorizar el uso de vajilla reutilizable (loza o materiales similares). En caso de requerirse recipientes desechables, estos deberán ser elaborados en materiales biodegradables o ambientalmente amigables, con el fin de reducir la generación de residuos y promover prácticas sostenibles durante el desarrollo de las actividades. NOTA 2. Los honorarios del profesional en comercializacion fueron calculados con base en las tablas de honorarios establecidas por la Gobernación de Nariño, por un valor de $3.982.230. Asimismo, se incluye una asignación por concepto de gastos de desplazamiento por valor de $1.250.000, teniendo en cuenta que los profesionales deberán realizar traslados desde el casco urbano hacia las diferentes veredas donde se ejecutarán las actividades del proyecto. NOTA 3. Para el cálculo de los valores de alimentación correspondientes a almuerzo, refrigerio e hidratación, se tomaron como referencia los valores establecidos en el Contrato Interadministrativo No. GN2184-2026, los cuales se encuentran debidamente soportados en su respectivo estudio del sector. La sumatoria de los ítems referenciados asciende a $39.760. NOTA 4. La actividad contempla la orientación en temáticas de implementación de un plan comercial el cual se desarrollará mediante modalidades de talleres participativos desarrollados en dieciocho (18) núcleos integrados por un grupo de 20 a 25 beneficiarios para un total de 436 participantes. Los talleres se realizarán en las diferentes veredas contempladas en el proyecto según lo disponga el profesional a cargo y en las cuales se deberá hacer la entrega de la alimentación contemplada. NOTA 5, En cumplimiento de la Ley 1876 de 2017 y de la Obligación Específica No. 17 del Convenio Interadministrativo No. SG-0162-2025, las actividades de carácter técnico, organizacional y socio empresarial deberán desarrollarse bajo metodologías acordes con los enfoques de extensión agropecuaria definidos por el Sistema Nacional de Innovación Agropecuaria (SNIA) y en articulación con las líneas estratégicas del Plan Departamental de Extensión Agropecuaria (PDEA) vigente

Sheet 3.2
A1: PRESUPUESTO POR ACTIVIDAD
A2: 3.2 Fortalecer las capacidades socioempresariales y de gestión comercial.
A3: COMPONENTE | B3: DESCRIPCION ESPECIFICACIONES TECNICAS / PERFIL PROFESIONAL Y EXPERIENCIA | C3: Unidad | D3: Cantidad | E3: B | F3: C | G3: D = BxC | H3: D+H
E4: Numero | F4: VALOR UNITARIO | G4: SUBTOTAL | H4: VALOR TOTAL
A5: Refrigerios,almuerzos mas hidratacion para talleres comerciales | B5: ='ANALISIS ESTADISTICO - COTIZACI'!C30 -> ALMUERZO 1. Sopa del día 2. Bandeja: porción de arroz, proteína (carne, pollo, cerdo o pescado (125 grs)), papa al vapor o frita, patacón o plátano o espagueti, principio (lentejas, frijol o garbanzo), 15 grs de ensalada de verduras o frutas 3. Jugo natural o Caja. REFRIGERIO 1. Bebida Caliente o Fría, que puede oscilar entre las siguientes opciones: Café, Café con Leche, Chocolate, Avena, (Contenido 9 onzas c/u) o Gaseosa Personal (250 ml). 2. Acompañado de: Quimbolito, Envuelto de Choclo, Empanada de Horno o Frita, Pastel de queso, Pastel de pollo o carne, Pastel Hawaiano, Pastel de Jamón y Queso, Sándwich (Jamón y Queso), Buñuelo o Almojábana. HIDRATACION: Agua en botella plástica tamaño 600 ml | C5: Unidad | D5: 436 | E5: 1 | F5: ='ANALISIS ESTADISTICO - COTIZACI'!I30 -> 39760 | G5: =D5*E5*F5 -> 17335360 | H5: =G5 -> 17335360
A6: ='ANALISIS ESTADISTICO - COTIZACI'!B13 -> Profesional en comercializacion | B6: ='ANALISIS ESTADISTICO - COTIZACI'!C13 -> Título profesional clasificado en la siguientes Núcleos básicos del Conocimiento: Agronomía, Ingeniería Agrícola, Forestal y Afines, Ingeniería Agroindustrial y Afines, Ingeniería Agronómica y Afines, Ingeniería Ambiental y Afines o áreas afines Administración de Empresas, Economía, Negocios Internacionales, Desarrollo Rural, Ingeniería Agronómica o áreas afines. Especialización o posgrado en áreas relacionadas con desarrollo empresarial, comercio exterior, mercadeo agroalimentario o gestión de proyectos, curso/conocimientos en estrategias de comercialización, mercadeo, acceso a mercados nacionales e internacionales y encadenamientos productivos. Contar con tarjeta o matrícula profesional vigente en los casos exigidos por la Ley. Experiencia de trabajo mínima de al menos dos (2) años acumulada, contados entre la fecha de terminación de materias, debidamente soportada, o de obtención del título respectivo en alguna o algunas de las siguientes funciones u obligaciones: Experiencia en procesos de asociatividad, acompañamiento empresarial y comercialización de productos agropecuarios; aplicados a frutales de exportación, preferiblemente en plátano; Experiencia en acceso a mercados locales, nacionales e internacionales, incluyendo negociación con compradores y cumplimiento de requisitos fitosanitarios y de calidad. Un (1) año en procesos de fortalecimiento comercial, planes de negocio, planes de mercadeo o acceso a mercados en el sector agropecuario o agroindustrial | C6: Profesional | D6: 0.5 | E6: 6 | F6: ='ANALISIS ESTADISTICO - COTIZACI'!I13 -> 5232230 | G6: =D6*E6*F6 -> 15696690 | H6: =G6 -> 15696690
A7: gira empresarial de fortalecimiento de capacidades organizacionales | B7: Origen: Pasto, Nariño. Destino: Eje Cafetero (Armenia/Pereira y zonas aledañas). Grupo: 10 personas. Duración estimada: 3 días / 2 noches (Recomendado para optimizar la visita técnica). Transporte y alimentación y alojamiento Opción A (Aéreo): Ruta Pasto (PSO) - Pereira (PEI) o Armenia (AXM) con escala en Bogotá. Opción B (Terrestre): Bus de turismo línea premium (40 puestos para comodidad), aire acondicionado, conectores USB y baño. Transporte Interno: Microbús exclusivo (24-28 pasajeros) disponible 12 horas al día para traslados hotel-planta-restaurantes. Seguros: Póliza de responsabilidad civil contractual y extracontractual, más seguro de asistencia médica para cada participante. Alojamiento y Alimentación Hospedaje: * Hotel tipo empresarial o Finca Hotel con capacidad corporativa. Acomodación: Habitaciones dobles (camas independientes) o sencillas según perfil de los asistentes. Servicios requeridos: Wi-Fi de alta velocidad y salón para reuniones de conclusiones. Alimentación (Pensión Completa): Desayunos: Incluidos en el hotel. Almuerzos: Menú ejecutivo o típico de la región en cercanías a la planta de transformación. Cenas: Restaurantes con ambiente corporativo en la ciudad de pernocta. Estación de café: Permanente durante las sesiones de trabajo. Componente Técnico Objetivo: el objetivo de poder conocer y aprender de todos los procesos desde la producción, cosecha, poscosecha, selección, clasificación y empaque de los productos, se espera que por los conocimientos organizacionales que puede aportar estas empresas en el manejo económico y financiero Hortofrutícola, fortalezcan las capacidades organizacionales de los grupos asociativos beneficiarios del proyecto Servicio de Guía: 1 guía profesional de turismo con énfasis en agroindustria. 1 coordinador logístico permanente para el grupo de 20 personas. Requerimientos de la empresa a visitar: Empresas productoras y/o transformadoras de plátano | C7: valor gira por persona | D7: 10 | E7: 1 | F7: ='ANALISIS ESTADISTICO - COTIZACI'!L36 -> 3386338 | G7: =D7*E7*F7 -> 33863380 | H7: =G7 -> 33863380
A8: gira empresarial de fortalecimiento de capacidades de innovacion | B8: Origen: Pasto, Nariño. Destino: Medellín, región de Urabá o sudeste antioqueño. Grupo: 10 personas. Duración estimada: 3 días / 2 noches (Recomendado para optimizar la visita técnica). Transporte y alimentación y alojamiento Opción A (Aéreo): Ruta Pasto (PSO) – Medellín(MDE/EOH) Opción B (Terrestre): Bus de turismo línea premium (40 puestos para comodidad), aire acondicionado, conectores USB y baño. Transporte Interno: Microbús exclusivo (24-28 pasajeros) disponible 12 horas al día para traslados hotel-planta-restaurantes. Seguros: Póliza de responsabilidad civil contractual y extracontractual, más seguro de asistencia médica para cada participante. Alojamiento y Alimentación Hospedaje: * Hotel tipo empresarial o Finca Hotel con capacidad corporativa. Acomodación: Habitaciones dobles (camas independientes) o sencillas según perfil de los asistentes. Servicios requeridos: Wi-Fi de alta velocidad y salón para reuniones de conclusiones. Alimentación (Pensión Completa): Desayunos: Incluidos en el hotel. Almuerzos: Menú ejecutivo o típico de la región en cercanías a la planta de transformación. Cenas: Restaurantes con ambiente corporativo en la ciudad de pernocta. Estación de café: Permanente durante las sesiones de trabajo. Componente Técnico Objetivo: el objetivo de adquirir conocimientos de todo el proceso productivo de la cadena de plátano, especialmente la generación de valor agregado. Esta actividad va a mejorar las capacidades de innovación de los productores, insumo importante para el aprovechamiento de la planta agroindustrial ubicada en la vereda El Arenal del municipio de Los Andes. Servicio de Guía: 1 guía profesional de turismo con énfasis en agroindustria. 1 coordinador logístico permanente para el grupo de 20 personas. Requerimientos de la empresa a visitar: Empresas productoras y/o transformadoras de plátano | C8: valor gira por persona | D8: 10 | E8: 1 | F8: ='ANALISIS ESTADISTICO - COTIZACI'!L37 -> 4080338 | G8: =D8*E8*F8 -> 40803380 | H8: =G8 -> 40803380
A9: VALOR TOTAL | H9: =SUM(H5:H8) -> 107698810
A10: NOTA 1. Para el servicio de almuerzos y refrigerios se deberá priorizar el uso de vajilla reutilizable (loza o materiales similares). En caso de requerirse recipientes desechables, estos deberán ser elaborados en materiales biodegradables o ambientalmente amigables, con el fin de reducir la generación de residuos y promover prácticas sostenibles durante el desarrollo de las actividades. NOTA 2. Los honorarios del profesional en comercialización fueron calculados con base en las tablas de honorarios establecidas por la Gobernación de Nariño, por un valor de $3.982.230. Asimismo, se incluye una asignación por concepto de gastos de desplazamiento por valor de $1.250.000, teniendo en cuenta que los profesionales deberán realizar traslados desde el casco urbano hacia las diferentes veredas donde se ejecutarán las actividades del proyecto. NOTA 3. Para el cálculo de los valores de alimentación correspondientes a almuerzo, refrigerio e hidratación, se tomaron como referencia los valores establecidos en el Contrato Interadministrativo No. GN2184-2026, los cuales se encuentran debidamente soportados en su respectivo estudio del sector. La sumatoria de los ítems referenciados asciende a $39.760. NOTA 4. La actividad contempla la organización de las giras empresariales mediante modalidades de talleres participativos desarrollados en dieciocho (18) núcleos integrados por un grupo de 20 a 25 beneficiarios para un total de 436 participantes. Los talleres se realizarán en las diferentes veredas contempladas en el proyecto según lo disponga el profesional a cargo y en las cuales se deberá hacer la entrega de la alimentación contemplada. En estos talleres se hará la selección de 10 personas por cada gira para un total de 20 productores de acuerdo a sus destrezas, cumplimiento de actividades en fincas, asistencia a la totalidad o mayoría de los eventos programados en el proyecto y que apliquen lo aprendido en las escuelas de campo, fortalecimiento organizacional y asistencia técnica. NOTA 5, En cumplimiento de la Ley 1876 de 2017 y de la Obligación Específica No. 17 del Convenio Interadministrativo No. SG-0162-2025, las actividades de carácter técnico, organizacional y socio empresarial deberán desarrollarse bajo metodologías acordes con los enfoques de extensión agropecuaria definidos por el Sistema Nacional de Innovación Agropecuaria (SNIA) y en articulación con las líneas estratégicas del Plan Departamental de Extensión Agropecuaria (PDEA) vigente

Sheet PRESUPUESTO COMPLETO
A1: “DESARROLLO INTEGRAL DE LA LÍNEA PRODUCTIVA DE PLÁTANO DOMINICO HARTON EN LOS MUNICIPIOS PDET DE LOS ANDES Y CUMBITARA DE LA CORDILLERA NARIÑENSE".
A2: Actividades ligadas al desarrollo del proyecto según el POA
A3: COMPONENTE | B3: DESCRIPCION ESPECIFICACIONES TECNICAS / PERFIL PROFESIONAL Y EXPERIENCIA | C3: Unidad | D3: Cantidad | E3: B | F3: C | G3: D = BxC | H3: D+H
E4: Numero | F4: VALOR UNITARIO | G4: SUBTOTAL | H4: VALOR TOTAL
A5: Refrigerios, almuerzos mas hidratacion Evento de socialización | B5: ='ANALISIS ESTADISTICO - COTIZACI'!C30 -> ALMUERZO 1. Sopa del día 2. Bandeja: porción de arroz, proteína (carne, pollo, cerdo o pescado (125 grs)), papa al vapor o frita, patacón o plátano o espagueti, principio (lentejas, frijol o garbanzo), 15 grs de ensalada de verduras o frutas 3. Jugo natural o Caja. REFRIGERIO 1. Bebida Caliente o Fría, que puede oscilar entre las siguientes opciones: Café, Café con Leche, Chocolate, Avena, (Contenido 9 onzas c/u) o Gaseosa Personal (250 ml). 2. Acompañado de: Quimbolito, Envuelto de Choclo, Empanada de Horno o Frita, Pastel de queso, Pastel de pollo o carne, Pastel Hawaiano, Pastel de Jamón y Queso, Sándwich (Jamón y Queso), Buñuelo o Almojábana. HIDRATACION: Agua en botella plástica tamaño 600 ml | C5: Unidad | D5: 436 | E5: 1 | F5: ='ANALISIS ESTADISTICO - COTIZACI'!I30 -> 39760 | G5: =F5*E5*D5 -> 17335360 | H5: =G5 -> 17335360
A6: Refrigerios, almuerzo mas hidratacion Evento de cierre | B6: ='ANALISIS ESTADISTICO - COTIZACI'!C30 -> ALMUERZO 1. Sopa del día 2. Bandeja: porción de arroz, proteína (carne, pollo, cerdo o pescado (125 grs)), papa al vapor o frita, patacón o plátano o espagueti, principio (lentejas, frijol o garbanzo), 15 grs de ensalada de verduras o frutas 3. Jugo natural o Caja. REFRIGERIO 1. Bebida Caliente o Fría, que puede oscilar entre las siguientes opciones: Café, Café con Leche, Chocolate, Avena, (Contenido 9 onzas c/u) o Gaseosa Personal (250 ml). 2. Acompañado de: Quimbolito, Envuelto de Choclo, Empanada de Horno o Frita, Pastel de queso, Pastel de pollo o carne, Pastel Hawaiano, Pastel de Jamón y Queso, Sándwich (Jamón y Queso), Buñuelo o Almojábana. HIDRATACION: Agua en botella plástica tamaño 600 ml | C6: Unidad | D6: 436 | E6: 1 | F6: ='ANALISIS ESTADISTICO - COTIZACI'!I30 -> 39760 | G6: =D6*E6*F6 -> 17335360 | H6: =G6 -> 17335360
A7: Transporte CCSS | B7: Operatividad del Comité de Control Social y Seguimiento (CCSS): bono de transporte para los integrantesbeneficiarios del comité en el municipio de Los Andes , destinado a apoyar su desplazamiento y garantizar su participación en las jornadas y reuniones del comité. | C7: Unidad | D7: 3 | E7: 3 | F7: ='ANALISIS ESTADISTICO - COTIZACI'!I42 -> 72954.108 | G7: =D7*E7*F7 -> 656586.97 | H7: =ROUNDUP(G7,0) -> 656587
A8: Transporte CCSS | B8: Operatividad del Comité de Control Social y Seguimiento (CCSS): bono de transporte para los beneficiarios del comité en el municipio de Cumbitara, destinado a apoyar su desplazamiento y garantizar su participación en las jornadas y reuniones del comité. | C8: Unidad | D8: 3 | E8: 3 | F8: ='ANALISIS ESTADISTICO - COTIZACI'!I43 -> 100977.83 | G8: =D8*E8*F8 -> 908800.45 | H8: =ROUNDUP(G8,0) -> 908801
A9: VALOR TOTAL | H9: =SUM(H5:H8) -> 36236108
A10: 1.3 Brindar capacitaciones y fortalecimiento técnico a los productores de plátano en toda la cadena productiva.
A11: COMPONENTE | B11: DESCRIPCION ESPECIFICACIONES TECNICAS / PERFIL PROFESIONAL Y EXPERIENCIA | C11: Unidad | D11: Cantidad | E11: B | F11: C | G11: D = BxC | H11: D+H
E12: Numero | F12: VALOR UNITARIO | G12: SUBTOTAL | H12: VALOR TOTAL
A13: Refrgerios, almuerzos mas hidratacion escuelas de campo(ECAS) para productores | B13: ='ANALISIS ESTADISTICO - COTIZACI'!C30 -> ALMUERZO 1. Sopa del día 2. Bandeja: porción de arroz, proteína (carne, pollo, cerdo o pescado (125 grs)), papa al vapor o frita, patacón o plátano o espagueti, principio (lentejas, frijol o garbanzo), 15 grs de ensalada de verduras o frutas 3. Jugo natural o Caja. REFRIGERIO 1. Bebida Caliente o Fría, que puede oscilar entre las siguientes opciones: Café, Café con Leche, Chocolate, Avena, (Contenido 9 onzas c/u) o Gaseosa Personal (250 ml). 2. Acompañado de: Quimbolito, Envuelto de Choclo, Empanada de Horno o Frita, Pastel de queso, Pastel de pollo o carne, Pastel Hawaiano, Pastel de Jamón y Queso, Sándwich (Jamón y Queso), Buñuelo o Almojábana. HIDRATACION: Agua en botella plástica tamaño 600 ml | C13: Unidad | D13: 436 | E13: 3 | F13: ='ANALISIS ESTADISTICO - COTIZACI'!L30 -> 39760 | G13: =D13*E13*F13 -> 52006080 | H13: =G13 -> 52006080
A14: Kit para papeleria | B14: KIT DE PAPELERIA: * 4 unidades Papel bond blanco 70*100 de 75 g/m², * 3 unidades marcadores de colores surtidos c/u, punta gruesa, tinta permanente. * 1 unidad cinta de enmascarar 24*40. * 3 unidades lapiz HB #2. grafito HB, cuerpo de madera y mina resistente) | C14: Unidad | D14: 436 | E14: 1 | F14: ='ANALISIS ESTADISTICO - COTIZACI'!L24 -> 25000 | G14: =D14*E14*F14 -> 10900000 | H14: =G14 -> 10900000
A15: Profesional de campo | B15: ='ANALISIS ESTADISTICO - COTIZACI'!C24 -> KIT DE PAPELERIA: * 4 unidades Papel bond blanco 70*100 de 75 g/m², * 3 unidades marcadores de colores surtidos c/u, punta gruesa, tinta permanente. * 1 unidad cinta de enmascarar 24*40. * 3 unidades lapiz HB #2. grafito HB, cuerpo de madera y mina resistente) | C15: Profesional | D15: 1 | E15: 6 | F15: ='ANALISIS ESTADISTICO - COTIZACI'!I15 -> 5232230 | G15: =D15*E15*F15 -> 31393380 | H15: =G15 -> 31393380
A16: Tecnico de campo | B16: ='ANALISIS ESTADISTICO - COTIZACI'!C25 -> Alquiler de un espacio físico minimo area 70 m2 destinado al almacenamiento temporal, organización y resguardo de insumos, materiales y elementos logísticos requeridos para el desarrollo de las actividades del proyecto, garantizando condiciones adecuadas de manejo, custodia y disponibilidad durante el periodo de ejecución mas Arriendo de un espacio físico (1 oficinas, 1 baños, 1 cocineta con seguridad, con servicios básicos de calidad, que garantice el espacio para que el personal contratado implemente la ejecución del proyecto. | C16: Técnico | D16: 5 | E16: 6 | F16: ='ANALISIS ESTADISTICO - COTIZACI'!I16 -> 4318258 | G16: =D16*E16*F16 -> 129547740 | H16: =G16 -> 129547740
A17: VALOR TOTAL | H17: =SUM(H13:H16) -> 223847200
A18: 2.1 Realizar un diagnóstico de las capacidades de las organizaciones de platano presentes en el territorio.
A19: COMPONENTE | B19: DESCRIPCION ESPECIFICACIONES TECNICAS / PERFIL PROFESIONAL Y EXPERIENCIA | C19: Unidad | D19: Cantidad | E19: B | F19: C | G19: D = BxC | H19: D+H
E20: Numero | F20: VALOR UNITARIO | G20: SUBTOTAL | H20: VALOR TOTAL
A21: Profesional socio-organizacional: | B21: ='ANALISIS ESTADISTICO - COTIZACI'!C14 -> Título profesional clasificado en la siguientes Núcleos básicos del Conocimiento: Agronomía, Ingeniería Agrícola, Forestal y Afines, Ingeniería Agroindustrial y Afines, Ingeniería Agronómica y Afines, Ingeniería Ambiental y Afines o áreas afines Administración de Empresas, Economía, Negocios Internacionales, Desarrollo Rural, Ingeniería Agronómica o áreas afines. Formación complementaria en asociatividad, emprendimiento rural, cadenas de valor agropecuarias, planes de negocio o mercadeo agroalimentario; Conocimiento en normatividad aplicable al sector agropecuario y al desarrollo de organizaciones de productores; Buenas Prácticas Agrícolas (BPA); Certificaciones internacionales de calidad y sostenibilidad para frutas de exportación (GlobalG.A.P., Fair Trade, Rainforest Alliance, Orgánico, u otras equivalentes); Asociatividad y gobernanza, planes de negocio y mercadeo agroalimentario; Conocimiento actualizado en normatividad nacional e internacional para exportación de cítricos. Contar con tarjeta o matrícula profesional vigente en los casos exigidos por la Ley. Experiencia de trabajo mínima de al menos tres (3) años acumulada, contados entre la fecha de terminación de materias, debidamente soportada, o de obtención del título respectivo en alguna o algunas de las siguientes funciones u obligaciones: Experiencia en procesos de asociatividad, acompañamiento empresarial y comercialización de productos agropecuarios; implementación de protocolos de certificación (BPA, GlobalG.A.P. u otros) aplicados a frutales de exportación, preferiblemente en Platano; Experiencia en acceso a mercados locales, nacionales e internacionales, incluyendo negociación con compradores y cumplimiento de requisitos fitosanitarios y de calidad. | C21: Profesional | D21: 0.5 | E21: 6 | F21: ='ANALISIS ESTADISTICO - COTIZACI'!I14 -> 5232230 | G21: =D21*E21*F21 -> 15696690 | H21: =G21 -> 15696690
A22: VALOR TOTAL | H22: =SUM(H21:H21) -> 15696690
A23: 2.2 Elaboracion e implementacion de un plan de fortalecimiento de capacidades socioorganizacionales para 2 organizaciones
A24: COMPONENTE | B24: DESCRIPCION ESPECIFICACIONES TECNICAS / PERFIL PROFESIONAL Y EXPERIENCIA | C24: Unidad | D24: Cantidad | E24: B | F24: C | G24: D = BxC | H24: D+H
E25: Numero | F25: VALOR UNITARIO | G25: SUBTOTAL | H25: VALOR TOTAL
A26: Refrigeros, almuerzos mas hidratacion para talleres sociorganizacionales | B26: ='ANALISIS ESTADISTICO - COTIZACI'!C30 -> ALMUERZO 1. Sopa del día 2. Bandeja: porción de arroz, proteína (carne, pollo, cerdo o pescado (125 grs)), papa al vapor o frita, patacón o plátano o espagueti, principio (lentejas, frijol o garbanzo), 15 grs de ensalada de verduras o frutas 3. Jugo natural o Caja. REFRIGERIO 1. Bebida Caliente o Fría, que puede oscilar entre las siguientes opciones: Café, Café con Leche, Chocolate, Avena, (Contenido 9 onzas c/u) o Gaseosa Personal (250 ml). 2. Acompañado de: Quimbolito, Envuelto de Choclo, Empanada de Horno o Frita, Pastel de queso, Pastel de pollo o carne, Pastel Hawaiano, Pastel de Jamón y Queso, Sándwich (Jamón y Queso), Buñuelo o Almojábana. HIDRATACION: Agua en botella plástica tamaño 600 ml | C26: Unidad | D26: 200 | E26: 2 | F26: ='ANALISIS ESTADISTICO - COTIZACI'!I30 -> 39760 | G26: =F26*E26*D26 -> 15904000 | H26: =G26 -> 15904000
A27: ='ANALISIS ESTADISTICO - COTIZACI'!B14 -> Profesional socio-organizacional | B27: ='ANALISIS ESTADISTICO - COTIZACI'!C14 -> Título profesional clasificado en la siguientes Núcleos básicos del Conocimiento: Agronomía, Ingeniería Agrícola, Forestal y Afines, Ingeniería Agroindustrial y Afines, Ingeniería Agronómica y Afines, Ingeniería Ambiental y Afines o áreas afines Administración de Empresas, Economía, Negocios Internacionales, Desarrollo Rural, Ingeniería Agronómica o áreas afines. Formación complementaria en asociatividad, emprendimiento rural, cadenas de valor agropecuarias, planes de negocio o mercadeo agroalimentario; Conocimiento en normatividad aplicable al sector agropecuario y al desarrollo de organizaciones de productores; Buenas Prácticas Agrícolas (BPA); Certificaciones internacionales de calidad y sostenibilidad para frutas de exportación (GlobalG.A.P., Fair Trade, Rainforest Alliance, Orgánico, u otras equivalentes); Asociatividad y gobernanza, planes de negocio y mercadeo agroalimentario; Conocimiento actualizado en normatividad nacional e internacional para exportación de cítricos. Contar con tarjeta o matrícula profesional vigente en los casos exigidos por la Ley. Experiencia de trabajo mínima de al menos tres (3) años acumulada, contados entre la fecha de terminación de materias, debidamente soportada, o de obtención del título respectivo en alguna o algunas de las siguientes funciones u obligaciones: Experiencia en procesos de asociatividad, acompañamiento empresarial y comercialización de productos agropecuarios; implementación de protocolos de certificación (BPA, GlobalG.A.P. u otros) aplicados a frutales de exportación, preferiblemente en Platano; Experiencia en acceso a mercados locales, nacionales e internacionales, incluyendo negociación con compradores y cumplimiento de requisitos fitosanitarios y de calidad. | C27: Profesional | D27: 0.5 | E27: 6 | F27: ='ANALISIS ESTADISTICO - COTIZACI'!I14 -> 5232230 | G27: =F27*E27*D27 -> 15696690 | H27: =G27 -> 15696690
A28: VALOR TOTAL | H28: =SUM(H26:H27) -> 31600690
A29: 3.1 Implementar un plan comercial
