Workbook
Name dol: [1]TABULACION!#REF!
Name dol: [1]TABULACION!#REF!
Name dol: [1]TABULACION!#REF!
Name dol: [1]TABULACION!#REF!
Name dol: [1]TABULACION!#REF!
Name dol: [1]TABULACION!#REF!
Name dol: [1]TABULACION!#REF!
Name dol: [1]TABULACION!#REF!
Name dol: [1]TABULACION!#REF!
Name DOLAR: [2]TABULACION!$C$22
Name DOLAR1: [3]TABULACION!#REF!
Name DOLAR1: [3]TABULACION!#REF!
Name DOLAR1: [3]TABULACION!#REF!
Name DOLAR1: [3]TABULACION!#REF!
Name DOLAR1: [3]TABULACION!#REF!
Name DOLAR1: [3]TABULACION!#REF!
Name DOLAR1: [3]TABULACION!#REF!
Name DOLAR1: [3]TABULACION!#REF!
Name DOLAR1: [3]TABULACION!#REF!
Name LO: [3]TABULACION!#REF!
Name LO: [3]TABULACION!#REF!
Name LO: [3]TABULACION!#REF!
Name LO: [3]TABULACION!#REF!
Name LO: [3]TABULACION!#REF!
Name LO: [3]TABULACION!#REF!
Name LO: [3]TABULACION!#REF!
Name LO: [3]TABULACION!#REF!
Name LO: [3]TABULACION!#REF!

Sheet INICIAL
B2: TABULACIÓN DEPURADA COTIZACIONES PARA EL ESTUDIO DE SECTOR Y DE MERCADO | F2: SIP-DA-007-2026 | M2: ADQUISICIÓN DE ELEMENTOS DE PAPELERÍA Y ÚTILES DE OFICINA PARA LAS DEPENDENCIAS DE LA SUPERTRANSPORTE.
F4: SUMICORP LTDA | G4: CONSTRUCTORA PINEDA SAS | H4: SEEMATECH | I4: GRUPO SUMINISTROS S.A.S. | J4: GRAN PAPELERIA BOLIVAR SAS | K4: SOLINCO COLOMBIA S.A.S | L4: Support IT
B5: ITEM | C5: DESCRIPCION | D5: UNIDAD | E5: Cant. | F5: VALOR UNITARIO INCLUIDO IVA | G5: VALOR UNITARIO INCLUIDO IVA | H5: VALOR TOTAL INCLUIDO IVA | I5: VALOR TOTAL INCLUIDO IVA | J5: VALOR TOTAL INCLUIDO IVA | K5: VALOR TOTAL INCLUIDO IVA | L5: VALOR TOTAL INCLUIDO IVA | M5: MUESTRA | N5: VALOR PROMEDIO UNITARIO | O5: VALOR TOTAL | P5: DESVIACION ESTANDAR | Q5: COEF VARIACION | R5: MARGEN DE CONFIABILIDAD | S5: NIVEL DE CONFIABILIDAD DE LOS DATOS
B7: 1 | C7: BISTURI | D7: UNIDAD | E7: 40 | F7: 1785 | G7: 1319 | J7: 1071 | M7: =COUNT(F7:L7) -> 3 | N7: =ROUND(AVERAGE(F7:L7),0) -> 1392 | O7: =+N7*E7 -> 55680 | P7: =STDEVP(F7:J7) -> 295.98348 | Q7: =P7/N7*100 -> 21.263181 | R7: =100-Q7 -> 78.736819 | S7: =IF(R7>70,"ALTO","BAJO") -> ALTO
B8: 2 | C8: BLOCK DE NOTAS BLANCO CUADRICULADO TAMAÑO CARTA x 50 HOJAS | D8: UNIDAD | E8: 250 | F8: 5712 | G8: 6797 | J8: 3451 | M8: =COUNT(F8:L8) -> 3 | N8: =ROUND(AVERAGE(F8:L8),0) -> 5320 | O8: =+N8*E8 -> 1330000 | P8: =STDEVP(F8:J8) -> 1393.8381 | Q8: =P8/N8*100 -> 26.199964 | R8: =100-Q8 -> 73.800036 | S8: =IF(R8>70,"ALTO","BAJO") -> ALTO
B9: =+B8+1 -> 3 | C9: BORRADOR NATA 20*20 | D9: UNIDAD | E9: 100 | F9: 1071 | G9: 1303 | J9: 476 | M9: =COUNT(F9:L9) -> 3 | N9: =ROUND(AVERAGE(F9:L9),0) -> 950 | O9: =+N9*E9 -> 95000 | P9: =STDEVP(F9:J9) -> 348.29394 | Q9: =P9/N9*100 -> 36.66252 | R9: =100-Q9 -> 63.33748 | S9: =IF(R9>70,"ALTO","BAJO") -> BAJO
B10: =+B9+1 -> 4 | C10: BORRADOR PARA TABLERO ACRÍLICO | D10: UNIDAD | E10: 12 | F10: 2499 | G10: 2850 | J10: 1785 | M10: =COUNT(F10:L10) -> 3 | N10: =ROUND(AVERAGE(F10:L10),0) -> 2378 | O10: =+N10*E10 -> 28536 | P10: =STDEVP(F10:J10) -> 443.12301 | Q10: =P10/N10*100 -> 18.634273 | R10: =100-Q10 -> 81.365727 | S10: =IF(R10>70,"ALTO","BAJO") -> ALTO
B11: =+B10+1 -> 5 | C11: CARTULINA BLANCA X OCTAVOS | D11: UNIDAD | E11: 2000 | F11: 178.5 | G11: 240 | J11: 226 | M11: =COUNT(F11:L11) -> 3 | N11: =ROUND(AVERAGE(F11:L11),0) -> 215 | O11: =+N11*E11 -> 430000 | P11: =STDEVP(F11:J11) -> 26.319617 | Q11: =P11/N11*100 -> 12.241682 | R11: =100-Q11 -> 87.758318 | S11: =IF(R11>70,"ALTO","BAJO") -> ALTO
B12: =+B11+1 -> 6 | C12: CINTA ADHESIVA DELGADA TRANSPARENTE 12MT X 40MT | D12: UNIDAD | E12: 50 | F12: 1785 | G12: 2931 | J12: 1071 | M12: =COUNT(F12:L12) -> 3 | N12: =ROUND(AVERAGE(F12:L12),0) -> 1929 | O12: =+N12*E12 -> 96450 | P12: =STDEVP(F12:J12) -> 766.13837 | Q12: =P12/N12*100 -> 39.716867 | R12: =100-Q12 -> 60.283133 | S12: =IF(R12>70,"ALTO","BAJO") -> BAJO
B13: =+B12+1 -> 7 | C13: CINTA AISLANTE NEGRA 18MX29MM | D13: UNIDAD | E13: 24 | F13: 4998 | G13: 2443 | J13: 7497 | M13: =COUNT(F13:L13) -> 3 | N13: =ROUND(AVERAGE(F13:L13),0) -> 4979 | O13: =+N13*E13 -> 119496 | P13: =STDEVP(F13:J13) -> 2063.3291 | Q13: =P13/N13*100 -> 41.440632 | R13: =100-Q13 -> 58.559368 | S13: =IF(R13>70,"ALTO","BAJO") -> BAJO
B14: =+B13+1 -> 8 | C14: CINTA ANCHA ADHESIVA TRANSPARENTE 100 M X 48 MM | D14: UNIDAD | E14: 100 | F14: 7080 | G14: 28499 | J14: 5831 | M14: =COUNT(F14:L14) -> 3 | N14: =ROUND(AVERAGE(F14:L14),0) -> 13803 | O14: =+N14*E14 -> 1380300 | P14: =STDEVP(F14:J14) -> 10403.908 | Q14: =P14/N14*100 -> 75.374255 | R14: =100-Q14 -> 24.625745 | S14: =IF(R14>70,"ALTO","BAJO") -> BAJO
B15: =+B14+1 -> 9 | C15: CINTA CERA IMPRESORA DE ZEBRA REF. SAT RCOUT110X74 | D15: UNIDAD | E15: 50 | F15: 17850 | G15: 10993 | J15: 34510 | M15: =COUNT(F15:L15) -> 3 | N15: =ROUND(AVERAGE(F15:L15),0) -> 21118 | O15: =+N15*E15 -> 1055900 | P15: =STDEVP(F15:J15) -> 9874.9027 | Q15: =P15/N15*100 -> 46.760596 | R15: =100-Q15 -> 53.239404 | S15: =IF(R15>70,"ALTO","BAJO") -> BAJO
B16: =+B15+1 -> 10 | C16: CINTA DE ENMASCARAR DELGADA 24MMX20 METROS | D16: UNIDAD | E16: 50 | F16: 4700.5 | G16: 3121 | J16: 2618 | M16: =COUNT(F16:L16) -> 3 | N16: =ROUND(AVERAGE(F16:L16),0) -> 3480 | O16: =+N16*E16 -> 174000 | P16: =STDEVP(F16:J16) -> 887.23262 | Q16: =P16/N16*100 -> 25.49519 | R16: =100-Q16 -> 74.50481 | S16: =IF(R16>70,"ALTO","BAJO") -> ALTO
B17: =+B16+1 -> 11 | C17: CINTA DE ENMASCARAR GRUESA 48MM X40 METROS | D17: UNIDAD | E17: 50 | F17: 7199.5 | G17: 14569 | J17: 8925 | M17: =COUNT(F17:L17) -> 3 | N17: =ROUND(AVERAGE(F17:L17),0) -> 10231 | O17: =+N17*E17 -> 511550 | P17: =STDEVP(F17:J17) -> 3147.1613 | Q17: =P17/N17*100 -> 30.761033 | R17: =100-Q17 -> 69.238967 | S17: =IF(R17>70,"ALTO","BAJO") -> BAJO
B18: =+B17+1 -> 12 | C18: CINTA DE IMPRESIÓN REF. RIBBON YMCKT‑KT DS3 D 350 | D18: UNIDAD | E18: 6 | F18: 1725500 | G18: 1547089 | J18: 1166200 | M18: =COUNT(F18:L18) -> 3 | N18: =ROUND(AVERAGE(F18:L18),0) -> 1479596 | O18: =+N18*E18 -> 8877576 | P18: =STDEVP(F18:J18) -> 233267.47 | Q18: =P18/N18*100 -> 15.765619 | R18: =100-Q18 -> 84.234381 | S18: =IF(R18>70,"ALTO","BAJO") -> ALTO
B19: =+B18+1 -> 13 | C19: CINTA DOBLE FAZ 30M X 12MM | D19: UNIDAD | E19: 24 | F19: 8568 | G19: 64327 | J19: 40460 | M19: =COUNT(F19:L19) -> 3 | N19: =ROUND(AVERAGE(F19:L19),0) -> 37785 | O19: =+N19*E19 -> 906840 | P19: =STDEVP(F19:J19) -> 22841.968 | Q19: =P19/N19*100 -> 60.452475 | R19: =100-Q19 -> 39.547525 | S19: =IF(R19>70,"ALTO","BAJO") -> BAJO
B20: =+B19+1 -> 14 | C20: CINTA GAFFER 50M X50MM | D20: UNIDAD | E20: 6 | F20: 339983 | G20: 223107 | J20: 165410 | M20: =COUNT(F20:L20) -> 3 | N20: =ROUND(AVERAGE(F20:L20),0) -> 242833 | O20: =+N20*E20 -> 1456998 | P20: =STDEVP(F20:J20) -> 72621.297 | Q20: =P20/N20*100 -> 29.90586 | R20: =100-Q20 -> 70.09414 | S20: =IF(R20>70,"ALTO","BAJO") -> ALTO
... B46: =+B45+1 -> 40 | C46: TIJERAS CORTADORA DE PAPEL 7” | D46: UNIDAD | E46: 15 | F46: 5117 | G46: 11074 | J46: 4760 | M46: =COUNT(F46:L46) -> 3 | N46: =ROUND(AVERAGE(F46:L46),0) -> 6984 | O46: =+N46*E46 -> 104760 | P46: =STDEVP(F46:J46) -> 2895.9722 | Q46: =P46/N46*100 -> 41.46581 | R46: =100-Q46 -> 58.53419 | S46: =IF(R46>70,"ALTO","BAJO") -> BAJO
B47: =+B46+1 -> 41 | C47: TONER HP BLACK MANAGED W9004MC - MFP E62555/65/75 – REF CF237YC | D47: UNIDAD | E47: 15 | F47: 4462500 | G47: 1847475 | H47: 1119790 | I47: 962900 | J47: 1188810 | M47: =COUNT(F47:L47) -> 5 | N47: =ROUND(AVERAGE(F47:L47),0) -> 1916295 | O47: =+N47*E47 -> 28744425 | P47: =STDEVP(F47:J47) -> 1308473.4 | Q47: =P47/N47*100 -> 68.281416 | R47: =100-Q47 -> 31.718584 | S47: =IF(R47>70,"ALTO","BAJO") -> BAJO
N48: =ROUND(AVERAGE(F48:L48),0) -> #DIV/0! | O48: =+N48*E47 -> #DIV/0! | P48: =STDEVP(F48:J48) -> #DIV/0! | Q48: =P48/N48*100 -> #DIV/0! | R48: =100-Q48 -> #DIV/0! | S48: =IF(R48>70,"ALTO","BAJO") -> #DIV/0!
M49: =COUNT(F49:L49) -> 0 | N49: =ROUND(AVERAGE(F49:L49),0) -> #DIV/0! | O49: =+N49*E49 -> #DIV/0! | P49: =STDEVP(F49:J49) -> #DIV/0! | Q49: =P49/N49*100 -> #DIV/0! | R49: =100-Q49 -> #DIV/0! | S49: =IF(R49>70,"ALTO","BAJO") -> #DIV/0!
M50: =COUNT(F50:L50) -> 0 | N50: =ROUND(AVERAGE(F50:L50),0) -> #DIV/0! | O50: =+N50*E50 -> #DIV/0! | P50: =STDEVP(F50:J50) -> #DIV/0! | Q50: =P50/N50*100 -> #DIV/0! | R50: =100-Q50 -> #DIV/0! | S50: =IF(R50>70,"ALTO","BAJO") -> #DIV/0!
M51: =COUNT(F51:L51) -> 0 | N51: =ROUND(AVERAGE(F51:L51),0) -> #DIV/0! | O51: =+N51*E51 -> #DIV/0! | P51: =STDEVP(F51:J51) -> #DIV/0! | Q51: =P51/N51*100 -> #DIV/0! | R51: =100-Q51 -> #DIV/0! | S51: =IF(R51>70,"ALTO","BAJO") -> #DIV/0!
M52: =COUNT(F52:L52) -> 0 | N52: =ROUND(AVERAGE(F52:L52),0) -> #DIV/0! | O52: =+N52*E52 -> #DIV/0! | P52: =STDEVP(F52:J52) -> #DIV/0! | Q52: =P52/N52*100 -> #DIV/0! | R52: =100-Q52 -> #DIV/0! | S52: =IF(R52>70,"ALTO","BAJO") -> #DIV/0!
M53: =COUNT(F53:L53) -> 0 | N53: =ROUND(AVERAGE(F53:L53),0) -> #DIV/0! | O53: =+N53*E53 -> #DIV/0! | P53: =STDEVP(F53:J53) -> #DIV/0! | Q53: =P53/N53*100 -> #DIV/0! | R53: =100-Q53 -> #DIV/0! | S53: =IF(R53>70,"ALTO","BAJO") -> #DIV/0!
M54: =COUNT(F54:L54) -> 0 | N54: =ROUND(AVERAGE(F54:L54),0) -> #DIV/0! | O54: =+N54*E54 -> #DIV/0! | P54: =STDEVP(F54:J54) -> #DIV/0! | Q54: =P54/N54*100 -> #DIV/0! | R54: =100-Q54 -> #DIV/0! | S54: =IF(R54>70,"ALTO","BAJO") -> #DIV/0!
M55: =COUNT(F55:L55) -> 0 | N55: =ROUND(AVERAGE(F55:L55),0) -> #DIV/0! | O55: =+N55*E55 -> #DIV/0! | P55: =STDEVP(F55:J55) -> #DIV/0! | Q55: =P55/N55*100 -> #DIV/0! | R55: =100-Q55 -> #DIV/0! | S55: =IF(R55>70,"ALTO","BAJO") -> #DIV/0!
M56: =COUNT(F56:L56) -> 0 | N56: =ROUND(AVERAGE(F56:L56),0) -> #DIV/0! | O56: =+N56*E56 -> #DIV/0! | P56: =STDEVP(F56:J56) -> #DIV/0! | Q56: =P56/N56*100 -> #DIV/0! | R56: =100-Q56 -> #DIV/0! | S56: =IF(R56>70,"ALTO","BAJO") -> #DIV/0!
M57: =COUNT(F57:L57) -> 0 | N57: =ROUND(AVERAGE(F57:L57),0) -> #DIV/0! | O57: =+N57*E57 -> #DIV/0! | P57: =STDEVP(F57:J57) -> #DIV/0! | Q57: =P57/N57*100 -> #DIV/0! | R57: =100-Q57 -> #DIV/0! | S57: =IF(R57>70,"ALTO","BAJO") -> #DIV/0!
M58: =COUNT(F58:L58) -> 0 | N58: =ROUND(AVERAGE(F58:L58),0) -> #DIV/0! | O58: =+N58*E58 -> #DIV/0! | P58: =STDEVP(F58:J58) -> #DIV/0! | Q58: =P58/N58*100 -> #DIV/0! | R58: =100-Q58 -> #DIV/0! | S58: =IF(R58>70,"ALTO","BAJO") -> #DIV/0!
M59: =COUNT(F59:L59) -> 0 | N59: =ROUND(AVERAGE(F59:L59),0) -> #DIV/0! | O59: =+N59*E59 -> #DIV/0! | P59: =STDEVP(F59:J59) -> #DIV/0! | Q59: =P59/N59*100 -> #DIV/0! | R59: =100-Q59 -> #DIV/0! | S59: =IF(R59>70,"ALTO","BAJO") -> #DIV/0!
M60: =COUNT(F60:L60) -> 0 | N60: =ROUND(AVERAGE(F60:L60),0) -> #DIV/0! | O60: =+N60*E60 -> #DIV/0! | P60: =STDEVP(F60:J60) -> #DIV/0! | Q60: =P60/N60*100 -> #DIV/0! | R60: =100-Q60 -> #DIV/0! | S60: =IF(R60>70,"ALTO","BAJO") -> #DIV/0!
... M72: =COUNT(F72:L72) -> 0 | N72: =ROUND(AVERAGE(F72:L72),0) -> #DIV/0! | O72: =+N72*E72 -> #DIV/0! | P72: =STDEVP(F72:J72) -> #DIV/0! | Q72: =P72/N72*100 -> #DIV/0! | R72: =100-Q72 -> #DIV/0! | S72: =IF(R72>70,"ALTO","BAJO") -> #DIV/0!
O73: =+N73*E73 -> 0
O74: =+N74*E74 -> 0
O75: =+N75*E75 -> 0
O76: =+N76*E76 -> 0
M77: Total todo costo | O77: =+SUM(O7:O47) -> 59479873
B78: NOTA: En caso que el valor unitario se encuentra en dólares, la tasa de cambio (TRM) a aplicar será la vigente al día en que se realiza la tabulación y el análisis de los datos estadísticos. Para determinar las variaciones anuales de los precios se debe aplicar el Índice de Precios al Consumidor (IPC). Se debe especificar si el bien o servicio sobre el que se realiza el análisis se encuentra gravado con el impuesto sobre las ventas (IVA) o por el contrario se encuentra exento de dicho gravamen.
D83: IPC ACUMULADO ANUAL -DANE
...

Sheet DEPURADO
B2: TABULACIÓN DEPURADA COTIZACIONES PARA EL ESTUDIO DE SECTOR Y DE MERCADO | F2: SIP-DA-007-2026 | M2: ADQUISICIÓN DE ELEMENTOS DE PAPELERÍA Y ÚTILES DE OFICINA PARA LAS DEPENDENCIAS DE LA SUPERTRANSPORTE.
F4: SUMICORP LTDA | G4: CONSTRUCTORA PINEDA SAS | H4: SEEMATECH | I4: GRUPO SUMINISTROS S.A.S. | J4: GRAN PAPELERIA BOLIVAR SAS | K4: SOLINCO COLOMBIA S.A.S | L4: Support IT
B5: ITEM | C5: DESCRIPCION | D5: UNIDAD | E5: Cant. | F5: VALOR UNITARIO INCLUIDO IVA | G5: VALOR UNITARIO INCLUIDO IVA | H5: VALOR TOTAL INCLUIDO IVA | I5: VALOR TOTAL INCLUIDO IVA | J5: VALOR TOTAL INCLUIDO IVA | K5: VALOR TOTAL INCLUIDO IVA | L5: VALOR TOTAL INCLUIDO IVA | M5: MUESTRA | N5: VALOR PROMEDIO UNITARIO | O5: VALOR TOTAL | P5: DESVIACION ESTANDAR | Q5: COEF VARIACION | R5: MARGEN DE CONFIABILIDAD | S5: NIVEL DE CONFIABILIDAD DE LOS DATOS
B7: 1 | C7: BISTURI | D7: UNIDAD | E7: 40 | F7: 1785 | G7: 1319 | J7: 1071 | M7: =COUNT(F7:L7) -> 3 | N7: =ROUND(AVERAGE(F7:L7),0) -> 1392 | O7: =+N7*E7 -> 55680 | P7: =STDEVP(F7:J7) -> 295.98348 | Q7: =P7/N7*100 -> 21.263181 | R7: =100-Q7 -> 78.736819 | S7: =IF(R7>70,"ALTO","BAJO") -> ALTO
B8: 2 | C8: BLOCK DE NOTAS BLANCO CUADRICULADO TAMAÑO CARTA x 50 HOJAS | D8: UNIDAD | E8: 250 | F8: 5712 | G8: 6797 | J8: 3451 | M8: =COUNT(F8:L8) -> 3 | N8: =ROUND(AVERAGE(F8:L8),0) -> 5320 | O8: =+N8*E8 -> 1330000 | P8: =STDEVP(F8:J8) -> 1393.8381 | Q8: =P8/N8*100 -> 26.199964 | R8: =100-Q8 -> 73.800036 | S8: =IF(R8>70,"ALTO","BAJO") -> ALTO
B9: =+B8+1 -> 3 | C9: BORRADOR NATA 20*20 | D9: UNIDAD | E9: 100 | F9: 1071 | G9: 1303 | M9: =COUNT(F9:L9) -> 2 | N9: =ROUND(AVERAGE(F9:L9),0) -> 1187 | O9: =+N9*E9 -> 118700 | P9: =STDEVP(F9:J9) -> 116 | Q9: =P9/N9*100 -> 9.7725358 | R9: =100-Q9 -> 90.227464 | S9: =IF(R9>70,"ALTO","BAJO") -> ALTO
B10: =+B9+1 -> 4 | C10: BORRADOR PARA TABLERO ACRÍLICO | D10: UNIDAD | E10: 12 | F10: 2499 | G10: 2850 | J10: 1785 | M10: =COUNT(F10:L10) -> 3 | N10: =ROUND(AVERAGE(F10:L10),0) -> 2378 | O10: =+N10*E10 -> 28536 | P10: =STDEVP(F10:J10) -> 443.12301 | Q10: =P10/N10*100 -> 18.634273 | R10: =100-Q10 -> 81.365727 | S10: =IF(R10>70,"ALTO","BAJO") -> ALTO
B11: =+B10+1 -> 5 | C11: CARTULINA BLANCA X OCTAVOS | D11: UNIDAD | E11: 2000 | F11: 178.5 | G11: 240 | J11: 226 | M11: =COUNT(F11:L11) -> 3 | N11: =ROUND(AVERAGE(F11:L11),0) -> 215 | O11: =+N11*E11 -> 430000 | P11: =STDEVP(F11:J11) -> 26.319617 | Q11: =P11/N11*100 -> 12.241682 | R11: =100-Q11 -> 87.758318 | S11: =IF(R11>70,"ALTO","BAJO") -> ALTO
B12: =+B11+1 -> 6 | C12: CINTA ADHESIVA DELGADA TRANSPARENTE 12MT X 40MT | D12: UNIDAD | E12: 50 | F12: 1785 | J12: 1071 | M12: =COUNT(F12:L12) -> 2 | N12: =ROUND(AVERAGE(F12:L12),0) -> 1428 | O12: =+N12*E12 -> 71400 | P12: =STDEVP(F12:J12) -> 357 | Q12: =P12/N12*100 -> 25 | R12: =100-Q12 -> 75 | S12: =IF(R12>70,"ALTO","BAJO") -> ALTO
B13: =+B12+1 -> 7 | C13: CINTA AISLANTE NEGRA 18MX29MM | D13: UNIDAD | E13: 24 | F13: 4998 | J13: 7497 | M13: =COUNT(F13:L13) -> 2 | N13: =ROUND(AVERAGE(F13:L13),0) -> 6248 | O13: =+N13*E13 -> 149952 | P13: =STDEVP(F13:J13) -> 1249.5 | Q13: =P13/N13*100 -> 19.998399 | R13: =100-Q13 -> 80.001601 | S13: =IF(R13>70,"ALTO","BAJO") -> ALTO
B14: =+B13+1 -> 8 | C14: CINTA ANCHA ADHESIVA TRANSPARENTE 100 M X 48 MM | D14: UNIDAD | E14: 100 | F14: 7080 | J14: 5831 | M14: =COUNT(F14:L14) -> 2 | N14: =ROUND(AVERAGE(F14:L14),0) -> 6456 | O14: =+N14*E14 -> 645600 | P14: =STDEVP(F14:J14) -> 624.5 | Q14: =P14/N14*100 -> 9.6731722 | R14: =100-Q14 -> 90.326828 | S14: =IF(R14>70,"ALTO","BAJO") -> ALTO
B15: =+B14+1 -> 9 | C15: CINTA CERA IMPRESORA DE ZEBRA REF. SAT RCOUT110X74 | D15: UNIDAD | E15: 50 | F15: 17850 | G15: 10993 | M15: =COUNT(F15:L15) -> 2 | N15: =ROUND(AVERAGE(F15:L15),0) -> 14422 | O15: =+N15*E15 -> 721100 | P15: =STDEVP(F15:J15) -> 3428.5 | Q15: =P15/N15*100 -> 23.772708 | R15: =100-Q15 -> 76.227292 | S15: =IF(R15>70,"ALTO","BAJO") -> ALTO
B16: =+B15+1 -> 10 | C16: CINTA DE ENMASCARAR DELGADA 24MMX20 METROS | D16: UNIDAD | E16: 50 | F16: 4700.5 | G16: 3121 | J16: 2618 | M16: =COUNT(F16:L16) -> 3 | N16: =ROUND(AVERAGE(F16:L16),0) -> 3480 | O16: =+N16*E16 -> 174000 | P16: =STDEVP(F16:J16) -> 887.23262 | Q16: =P16/N16*100 -> 25.49519 | R16: =100-Q16 -> 74.50481 | S16: =IF(R16>70,"ALTO","BAJO") -> ALTO
B17: =+B16+1 -> 11 | C17: CINTA DE ENMASCARAR GRUESA 48MM X40 METROS | D17: UNIDAD | E17: 50 | G17: 14569 | J17: 8925 | M17: =COUNT(F17:L17) -> 2 | N17: =ROUND(AVERAGE(F17:L17),0) -> 11747 | O17: =+N17*E17 -> 587350 | P17: =STDEVP(F17:J17) -> 2822 | Q17: =P17/N17*100 -> 24.023155 | R17: =100-Q17 -> 75.976845 | S17: =IF(R17>70,"ALTO","BAJO") -> ALTO
B18: =+B17+1 -> 12 | C18: CINTA DE IMPRESIÓN REF. RIBBON YMCKT‑KT DS3 D 350 | D18: UNIDAD | E18: 6 | F18: 1725500 | G18: 1547089 | J18: 1166200 | M18: =COUNT(F18:L18) -> 3 | N18: =ROUND(AVERAGE(F18:L18),0) -> 1479596 | O18: =+N18*E18 -> 8877576 | P18: =STDEVP(F18:J18) -> 233267.47 | Q18: =P18/N18*100 -> 15.765619 | R18: =100-Q18 -> 84.234381 | S18: =IF(R18>70,"ALTO","BAJO") -> ALTO
B19: =+B18+1 -> 13 | C19: CINTA DOBLE FAZ 30M X 12MM | D19: UNIDAD | E19: 24 | G19: 64327 | J19: 40460 | M19: =COUNT(F19:L19) -> 2 | N19: =ROUND(AVERAGE(F19:L19),0) -> 52394 | O19: =+N19*E19 -> 1257456 | P19: =STDEVP(F19:J19) -> 11933.5 | Q19: =P19/N19*100 -> 22.776463 | R19: =100-Q19 -> 77.223537 | S19: =IF(R19>70,"ALTO","BAJO") -> ALTO
B20: =+B19+1 -> 14 | C20: CINTA GAFFER 50M X50MM | D20: UNIDAD | E20: 6 | F20: 339983 | G20: 223107 | J20: 165410 | M20: =COUNT(F20:L20) -> 3 | N20: =ROUND(AVERAGE(F20:L20),0) -> 242833 | O20: =+N20*E20 -> 1456998 | P20: =STDEVP(F20:J20) -> 72621.297 | Q20: =P20/N20*100 -> 29.90586 | R20: =100-Q20 -> 70.09414 | S20: =IF(R20>70,"ALTO","BAJO") -> ALTO
B21: =+B20+1 -> 15 | C21: CINTA MÁGICA 19 MM X 32.9 M | D21: UNIDAD | E21: 24 | F21: 8687 | G21: 7506 | J21: 9758 | M21: =COUNT(F21:L21) -> 3 | N21: =ROUND(AVERAGE(F21:L21),0) -> 8650 | O21: =+N21*E21 -> 207600 | P21: =STDEVP(F21:J21) -> 919.74066 | Q21: =P21/N21*100 -> 10.63284 | R21: =100-Q21 -> 89.36716 | S21: =IF(R21>70,"ALTO","BAJO") -> ALTO
B22: =+B21+1 -> 16 | C22: DVD´S | D22: UNIDAD | E22: 50 | G22: 1183 | J22: 1666 | M22: =COUNT(F22:L22) -> 2 | N22: =ROUND(AVERAGE(F22:L22),0) -> 1425 | O22: =+N22*E22 -> 71250 | P22: =STDEVP(F22:J22) -> 241.5 | Q22: =P22/N22*100 -> 16.947368 | R22: =100-Q22 -> 83.052632 | S22: =IF(R22>70,"ALTO","BAJO") -> ALTO
B23: =+B22+1 -> 17 | C23: ESFEROS TINTA NEGRA | D23: UNIDAD | E23: 800 | F23: 535.5 | G23: 669 | J23: 655 | M23: =COUNT(F23:L23) -> 3 | N23: =ROUND(AVERAGE(F23:L23),0) -> 620 | O23: =+N23*E23 -> 496000 | P23: =STDEVP(F23:J23) -> 59.905945 | Q23: =P23/N23*100 -> 9.6622492 | R23: =100-Q23 -> 90.337751 | S23: =IF(R23>70,"ALTO","BAJO") -> ALTO
B24: =+B23+1 -> 18 | C24: GANCHO DE COSEDORA ESTANDAR | D24: CAJA | E24: 30 | F24: 3689 | G24: 3126 | J24: 3451 | M24: =COUNT(F24:L24) -> 3 | N24: =ROUND(AVERAGE(F24:L24),0) -> 3422 | O24: =+N24*E24 -> 102660 | P24: =STDEVP(F24:J24) -> 230.75673 | Q24: =P24/N24*100 -> 6.7433292 | R24: =100-Q24 -> 93.256671 | S24: =IF(R24>70,"ALTO","BAJO") -> ALTO
B25: =+B24+1 -> 19 | C25: GANCHO DE COSEDORA INDUSTRIAL | D25: CAJA | E25: 12 | F25: 4629.1 | G25: 8957 | J25: 6902 | M25: =COUNT(F25:L25) -> 3 | N25: =ROUND(AVERAGE(F25:L25),0) -> 6829 | O25: =+N25*E25 -> 81948 | P25: =STDEVP(F25:J25) -> 1767.6041 | Q25: =P25/N25*100 -> 25.883791 | R25: =100-Q25 -> 74.116209 | S25: =IF(R25>70,"ALTO","BAJO") -> ALTO
B26: =+B25+1 -> 20 | C26: GRAPADORAS ESTANDAR | D26: UNIDAD | E26: 40 | F26: 17850 | G26: 10803 | J26: 14875 | M26: =COUNT(F26:L26) -> 3 | N26: =ROUND(AVERAGE(F26:L26),0) -> 14509 | O26: =+N26*E26 -> 580360 | P26: =STDEVP(F26:J26) -> 2888.5217 | Q26: =P26/N26*100 -> 19.908482 | R26: =100-Q26 -> 80.091518 | S26: =IF(R26>70,"ALTO","BAJO") -> ALTO
B27: =+B26+1 -> 21 | C27: GUILLOTINA METÁLICA A4 | D27: UNIDAD | E27: 3 | F27: 278460 | G27: 164412 | M27: =COUNT(F27:L27) -> 2 | N27: =ROUND(AVERAGE(F27:L27),0) -> 221436 | O27: =+N27*E27 -> 664308 | P27: =STDEVP(F27:J27) -> 57024 | Q27: =P27/N27*100 -> 25.75191 | R27: =100-Q27 -> 74.24809 | S27: =IF(R27>70,"ALTO","BAJO") -> ALTO
B28: =+B27+1 -> 22 | C28: LÁPIZ MINA NEGRA HB | D28: UNIDAD | E28: 100 | F28: 540 | G28: 821 | J28: 500 | M28: =COUNT(F28:L28) -> 3 | N28: =ROUND(AVERAGE(F28:L28),0) -> 620 | O28: =+N28*E28 -> 62000 | P28: =STDEVP(F28:J28) -> 142.82935 | Q28: =P28/N28*100 -> 23.036991 | R28: =100-Q28 -> 76.963009 | S28: =IF(R28>70,"ALTO","BAJO") -> ALTO
B29: =+B28+1 -> 23 | C29: MARCA PAGINAS - BANDERITAS - 5 COLORES/PAQUETE (100-125 HOJAS) | D29: PAQUETE | E29: 100 | F29: 1785 | J29: 1904 | M29: =COUNT(F29:L29) -> 2 | N29: =ROUND(AVERAGE(F29:L29),0) -> 1845 | O29: =+N29*E29 -> 184500 | P29: =STDEVP(F29:J29) -> 59.5 | Q29: =P29/N29*100 -> 3.2249322 | R29: =100-Q29 -> 96.775068 | S29: =IF(R29>70,"ALTO","BAJO") -> ALTO
B30: =+B29+1 -> 24 | C30: MARCADOR PERMANENTE NEGRO | D30: UNIDAD | E30: 24 | F30: 1666 | G30: 1274 | J30: 1904 | M30: =COUNT(F30:L30) -> 3 | N30: =ROUND(AVERAGE(F30:L30),0) -> 1615 | O30: =+N30*E30 -> 38760 | P30: =STDEVP(F30:J30) -> 259.74517 | Q30: =P30/N30*100 -> 16.083293 | R30: =100-Q30 -> 83.916707 | S30: =IF(R30>70,"ALTO","BAJO") -> ALTO
B31: =+B30+1 -> 25 | C31: MARCADOR PUNTA FINA NEGRO | D31: UNIDAD | E31: 24 | F31: 2142 | G31: 4071 | J31: 3332 | M31: =COUNT(F31:L31) -> 3 | N31: =ROUND(AVERAGE(F31:L31),0) -> 3182 | O31: =+N31*E31 -> 76368 | P31: =STDEVP(F31:J31) -> 794.6531 | Q31: =P31/N31*100 -> 24.973385 | R31: =100-Q31 -> 75.026615 | S31: =IF(R31>70,"ALTO","BAJO") -> ALTO
B32: =+B31+1 -> 26 | C32: MARCADORES BORRABLES – AZUL | D32: UNIDAD | E32: 100 | F32: 2261 | G32: 1405 | J32: 2142 | M32: =COUNT(F32:L32) -> 3 | N32: =ROUND(AVERAGE(F32:L32),0) -> 1936 | O32: =+N32*E32 -> 193600 | P32: =STDEVP(F32:J32) -> 378.60357 | Q32: =P32/N32*100 -> 19.55597 | R32: =100-Q32 -> 80.44403 | S32: =IF(R32>70,"ALTO","BAJO") -> ALTO
B33: =+B32+1 -> 27 | C33: MARCADORES BORRABLES – NEGRO | D33: UNIDAD | E33: 100 | F33: 2261 | G33: 1430 | J33: 2142 | M33: =COUNT(F33:L33) -> 3 | N33: =ROUND(AVERAGE(F33:L33),0) -> 1944 | O33: =+N33*E33 -> 194400 | P33: =STDEVP(F33:J33) -> 366.919 | Q33: =P33/N33*100 -> 18.874434 | R33: =100-Q33 -> 81.125566 | S33: =IF(R33>70,"ALTO","BAJO") -> ALTO
B34: =+B33+1 -> 28 | C34: MARCADORES BORRABLES – ROJO | D34: UNIDAD | E34: 100 | F34: 2261 | G34: 1430 | J34: 2142 | M34: =COUNT(F34:L34) -> 3 | N34: =ROUND(AVERAGE(F34:L34),0) -> 1944 | O34: =+N34*E34 -> 194400 | P34: =STDEVP(F34:J34) -> 366.919 | Q34: =P34/N34*100 -> 18.874434 | R34: =100-Q34 -> 81.125566 | S34: =IF(R34>70,"ALTO","BAJO") -> ALTO
B35: =+B34+1 -> 29 | C35: MEMORIA USB 32 GB | D35: UNIDAD | E35: 24 | F35: 32725 | G35: 39239 | J35: 22610 | M35: =COUNT(F35:L35) -> 3 | N35: =ROUND(AVERAGE(F35:L35),0) -> 31525 | O35: =+N35*E35 -> 756600 | P35: =STDEVP(F35:J35) -> 6841.6134 | Q35: =P35/N35*100 -> 21.702184 | R35: =100-Q35 -> 78.297816 | S35: =IF(R35>70,"ALTO","BAJO") -> ALTO
B36: =+B35+1 -> 30 | C36: NOTAS ADHESIVAS EN COLORES 76 X 76 MM PAQUETE X 5 | D36: PAQUETE | E36: 50 | F36: 2975 | G36: 3077 | M36: =COUNT(F36:L36) -> 2 | N36: =ROUND(AVERAGE(F36:L36),0) -> 3026 | O36: =+N36*E36 -> 151300 | P36: =STDEVP(F36:J36) -> 51 | Q36: =P36/N36*100 -> 1.6853933 | R36: =100-Q36 -> 98.314607 | S36: =IF(R36>70,"ALTO","BAJO") -> ALTO
B37: =+B36+1 -> 31 | C37: PILAS ALCALINAS AA (PAR) | D37: UNIDAD | E37: 60 | F37: 5759.6 | G37: 5338 | J37: 4284 | M37: =COUNT(F37:L37) -> 3 | N37: =ROUND(AVERAGE(F37:L37),0) -> 5127 | O37: =+N37*E37 -> 307620 | P37: =STDEVP(F37:J37) -> 620.5784 | Q37: =P37/N37*100 -> 12.104123 | R37: =100-Q37 -> 87.895877 | S37: =IF(R37>70,"ALTO","BAJO") -> ALTO
B38: =+B37+1 -> 32 | C38: PILAS ALCALINAS AAA (PAR) | D38: UNIDAD | E38: 60 | F38: 5759.6 | G38: 5273 | J38: 4284 | M38: =COUNT(F38:L38) -> 3 | N38: =ROUND(AVERAGE(F38:L38),0) -> 5106 | O38: =+N38*E38 -> 306360 | P38: =STDEVP(F38:J38) -> 613.93955 | Q38: =P38/N38*100 -> 12.023885 | R38: =100-Q38 -> 87.976115 | S38: =IF(R38>70,"ALTO","BAJO") -> ALTO
B39: =+B38+1 -> 33 | C39: RESALTADOR - AMARRILLO | D39: UNIDAD | E39: 100 | F39: 1951.6 | G39: 1365 | J39: 1309 | M39: =COUNT(F39:L39) -> 3 | N39: =ROUND(AVERAGE(F39:L39),0) -> 1542 | O39: =+N39*E39 -> 154200 | P39: =STDEVP(F39:J39) -> 290.62582 | Q39: =P39/N39*100 -> 18.84733 | R39: =100-Q39 -> 81.15267 | S39: =IF(R39>70,"ALTO","BAJO") -> ALTO
B40: =+B39+1 -> 34 | C40: RESMAS DE PAPEL TAMAÑO CARTA | D40: UNIDAD | E40: 50 | F40: 22967 | G40: 19617 | J40: 16660 | M40: =COUNT(F40:L40) -> 3 | N40: =ROUND(AVERAGE(F40:L40),0) -> 19748 | O40: =+N40*E40 -> 987400 | P40: =STDEVP(F40:J40) -> 2576.4877 | Q40: =P40/N40*100 -> 13.046828 | R40: =100-Q40 -> 86.953172 | S40: =IF(R40>70,"ALTO","BAJO") -> ALTO
B41: =+B40+1 -> 35 | C41: RESMAS DE PAPEL TAMAÑO OFICIO 75 G | D41: UNIDAD | E41: 250 | F41: 28441 | G41: 31385 | J41: 22610 | M41: =COUNT(F41:L41) -> 3 | N41: =ROUND(AVERAGE(F41:L41),0) -> 27479 | O41: =+N41*E41 -> 6869750 | P41: =STDEVP(F41:J41) -> 3646.4339 | Q41: =P41/N41*100 -> 13.269893 | R41: =100-Q41 -> 86.730107 | S41: =IF(R41>70,"ALTO","BAJO") -> ALTO
B42: =+B41+1 -> 36 | C42: SACA GANCHOS ESTANDAR | D42: UNIDAD | E42: 10 | F42: 2499 | G42: 2934 | J42: 1785 | M42: =COUNT(F42:L42) -> 3 | N42: =ROUND(AVERAGE(F42:L42),0) -> 2406 | O42: =+N42*E42 -> 24060 | P42: =STDEVP(F42:J42) -> 473.66444 | Q42: =P42/N42*100 -> 19.686801 | R42: =100-Q42 -> 80.313199 | S42: =IF(R42>70,"ALTO","BAJO") -> ALTO
B43: =+B42+1 -> 37 | C43: TABLA PORTA DOCUMENTOS TAMAÑO OFICIO | D43: UNIDAD | E43: 12 | F43: 8925 | G43: 9233 | J43: 6188 | M43: =COUNT(F43:L43) -> 3 | N43: =ROUND(AVERAGE(F43:L43),0) -> 8115 | O43: =+N43*E43 -> 97380 | P43: =STDEVP(F43:J43) -> 1368.6188 | Q43: =P43/N43*100 -> 16.865297 | R43: =100-Q43 -> 83.134703 | S43: =IF(R43>70,"ALTO","BAJO") -> ALTO
...

Sheet POE
B2: | | F2: SIP-DA-007-2026 | M2: ADQUISICIÓN DE ELEMENTOS DE PAPELERÍA Y ÚTILES DE OFICINA PARA LAS DEPENDENCIAS DE LA SUPERTRANSPORTE.
F4: SUMICORP LTDA | G4: CONSTRUCTORA PINEDA SAS | H4: SEEMATECH | I4: GRUPO SUMINISTROS S.A.S. | J4: GRAN PAPELERIA BOLIVAR SAS | K4: SOLINCO COLOMBIA S.A.S | L4: Support IT
B5: ITEM | C5: DESCRIPCION | D5: UNIDAD | E5: Cant. | F5: VALOR UNITARIO INCLUIDO IVA | G5: VALOR UNITARIO INCLUIDO IVA | H5: VALOR TOTAL INCLUIDO IVA | I5: VALOR TOTAL INCLUIDO IVA | J5: VALOR TOTAL INCLUIDO IVA | K5: VALOR TOTAL INCLUIDO IVA | L5: VALOR TOTAL INCLUIDO IVA | M5: MUESTRA | N5: VALOR PROMEDIO UNITARIO | O5: VALOR TOTAL | P5: DESVIACION ESTANDAR | Q5: COEF VARIACION | R5: MARGEN DE CONFIABILIDAD | S5: NIVEL DE CONFIABILIDAD DE LOS DATOS
B7: 1 | C7: BISTURI | D7: UNIDAD | E7: 40 | F7: 1785 | G7: 1319 | J7: 1071 | M7: =COUNT(F7:L7) -> 3 | N7: =ROUND(AVERAGE(F7:L7),0) -> 1392 | O7: =+N7*E7 -> 55680 | P7: =STDEVP(F7:J7) -> 295.98348 | Q7: =P7/N7*100 -> 21.263181 | R7: =100-Q7 -> 78.736819 | S7: =IF(R7>70,"ALTO","BAJO") -> ALTO
B8: 2 | C8: BLOCK DE NOTAS BLANCO CUADRICULADO TAMAÑO CARTA x 50 HOJAS | D8: UNIDAD | E8: 250 | F8: 5712 | G8: 6797 | J8: 3451 | M8: =COUNT(F8:L8) -> 3 | N8: =ROUND(AVERAGE(F8:L8),0) -> 5320 | O8: =+N8*E8 -> 1330000 | P8: =STDEVP(F8:J8) -> 1393.8381 | Q8: =P8/N8*100 -> 26.199964 | R8: =100-Q8 -> 73.800036 | S8: =IF(R8>70,"ALTO","BAJO") -> ALTO
B9: =+B8+1 -> 3 | C9: BORRADOR NATA 20*20 | D9: UNIDAD | E9: 100 | F9: 1071 | G9: 1303 | M9: =COUNT(F9:L9) -> 2 | N9: =ROUND(AVERAGE(F9:L9),0) -> 1187 | O9: =+N9*E9 -> 118700 | P9: =STDEVP(F9:J9) -> 116 | Q9: =P9/N9*100 -> 9.7725358 | R9: =100-Q9 -> 90.227464 | S9: =IF(R9>70,"ALTO","BAJO") -> ALTO
B10: =+B9+1 -> 4 | C10: BORRADOR PARA TABLERO ACRÍLICO | D10: UNIDAD | E10: 12 | F10: 2499 | G10: 2850 | J10: 1785 | M10: =COUNT(F10:L10) -> 3 | N10: =ROUND(AVERAGE(F10:L10),0) -> 2378 | O10: =+N10*E10 -> 28536 | P10: =STDEVP(F10:J10) -> 443.12301 | Q10: =P10/N10*100 -> 18.634273 | R10: =100-Q10 -> 81.365727 | S10: =IF(R10>70,"ALTO","BAJO") -> ALTO
B11: =+B10+1 -> 5 | C11: CARTULINA BLANCA X OCTAVOS | D11: UNIDAD | E11: 2000 | F11: 178.5 | G11: 240 | J11: 226 | M11: =COUNT(F11:L11) -> 3 | N11: =ROUND(AVERAGE(F11:L11),0) -> 215 | O11: =+N11*E11 -> 430000 | P11: =STDEVP(F11:J11) -> 26.319617 | Q11: =P11/N11*100 -> 12.241682 | R11: =100-Q11 -> 87.758318 | S11: =IF(R11>70,"ALTO","BAJO") -> ALTO
B12: =+B11+1 -> 6 | C12: CINTA ADHESIVA DELGADA TRANSPARENTE 12MT X 40MT | D12: UNIDAD | E12: 50 | F12: 1785 | J12: 1071 | M12: =COUNT(F12:L12) -> 2 | N12: =ROUND(AVERAGE(F12:L12),0) -> 1428 | O12: =+N12*E12 -> 71400 | P12: =STDEVP(F12:J12) -> 357 | Q12: =P12/N12*100 -> 25 | R12: =100-Q12 -> 75 | S12: =IF(R12>70,"ALTO","BAJO") -> ALTO
B13: =+B12+1 -> 7 | C13: CINTA AISLANTE NEGRA 18MX29MM | D13: UNIDAD | E13: 24 | F13: 4998 | J13: 7497 | M13: =COUNT(F13:L13) -> 2 | N13: =ROUND(AVERAGE(F13:L13),0) -> 6248 | O13: =+N13*E13 -> 149952 | P13: =STDEVP(F13:J13) -> 1249.5 | Q13: =P13/N13*100 -> 19.998399 | R13: =100-Q13 -> 80.001601 | S13: =IF(R13>70,"ALTO","BAJO") -> ALTO
B14: =+B13+1 -> 8 | C14: CINTA ANCHA ADHESIVA TRANSPARENTE 100 M X 48 MM | D14: UNIDAD | E14: 100 | F14: 7080 | J14: 5831 | M14: =COUNT(F14:L14) -> 2 | N14: =ROUND(AVERAGE(F14:L14),0) -> 6456 | O14: =+N14*E14 -> 645600 | P14: =STDEVP(F14:J14) -> 624.5 | Q14: =P14/N14*100 -> 9.6731722 | R14: =100-Q14 -> 90.326828 | S14: =IF(R14>70,"ALTO","BAJO") -> ALTO
B15: =+B14+1 -> 9 | C15: CINTA CERA IMPRESORA DE ZEBRA REF. SAT RCOUT110X74 | D15: UNIDAD | E15: 50 | F15: 17850 | G15: 10993 | M15: =COUNT(F15:L15) -> 2 | N15: =ROUND(AVERAGE(F15:L15),0) -> 14422 | O15: =+N15*E15 -> 721100 | P15: =STDEVP(F15:J15) -> 3428.5 | Q15: =P15/N15*100 -> 23.772708 | R15: =100-Q15 -> 76.227292 | S15: =IF(R15>70,"ALTO","BAJO") -> ALTO
B16: =+B15+1 -> 10 | C16: CINTA DE ENMASCARAR DELGADA 24MMX20 METROS | D16: UNIDAD | E16: 50 | F16: 4700.5 | G16: 3121 | J16: 2618 | M16: =COUNT(F16:L16) -> 3 | N16: =ROUND(AVERAGE(F16:L16),0) -> 3480 | O16: =+N16*E16 -> 174000 | P16: =STDEVP(F16:J16) -> 887.23262 | Q16: =P16/N16*100 -> 25.49519 | R16: =100-Q16 -> 74.50481 | S16: =IF(R16>70,"ALTO","BAJO") -> ALTO
B17: =+B16+1 -> 11 | C17: CINTA DE ENMASCARAR GRUESA 48MM X40 METROS | D17: UNIDAD | E17: 50 | G17: 14569 | J17: 8925 | M17: =COUNT(F17:L17) -> 2 | N17: =ROUND(AVERAGE(F17:L17),0) -> 11747 | O17: =+N17*E17 -> 587350 | P17: =STDEVP(F17:J17) -> 2822 | Q17: =P17/N17*100 -> 24.023155 | R17: =100-Q17 -> 75.976845 | S17: =IF(R17>70,"ALTO","BAJO") -> ALTO
B18: =+B17+1 -> 12 | C18: CINTA DE IMPRESIÓN REF. RIBBON YMCKT‑KT DS3 D 350 | D18: UNIDAD | E18: 6 | F18: 1725500 | G18: 1547089 | J18: 1166200 | M18: =COUNT(F18:L18) -> 3 | N18: =ROUND(AVERAGE(F18:L18),0) -> 1479596 | O18: =+N18*E18 -> 8877576 | P18: =STDEVP(F18:J18) -> 233267.47 | Q18: =P18/N18*100 -> 15.765619 | R18: =100-Q18 -> 84.234381 | S18: =IF(R18>70,"ALTO","BAJO") -> ALTO
B19: =+B18+1 -> 13 | C19: CINTA DOBLE FAZ 30M X 12MM | D19: UNIDAD | E19: 24 | G19: 64327 | J19: 40460 | M19: =COUNT(F19:L19) -> 2 | N19: =ROUND(AVERAGE(F19:L19),0) -> 52394 | O19: =+N19*E19 -> 1257456 | P19: =STDEVP(F19:J19) -> 11933.5 | Q19: =P19/N19*100 -> 22.776463 | R19: =100-Q19 -> 77.223537 | S19: =IF(R19>70,"ALTO","BAJO") -> ALTO
B20: =+B19+1 -> 14 | C20: CINTA GAFFER 50M X50MM | D20: UNIDAD | E20: 6 | F20: 339983 | G20: 223107 | J20: 165410 | M20: =COUNT(F20:L20) -> 3 | N20: =ROUND(AVERAGE(F20:L20),0) -> 242833 | O20: =+N20*E20 -> 1456998 | P20: =STDEVP(F20:J20) -> 72621.297 | Q20: =P20/N20*100 -> 29.90586 | R20: =100-Q20 -> 70.09414 | S20: =IF(R20>70,"ALTO","BAJO") -> ALTO
B21: =+B20+1 -> 15 | C21: CINTA MÁGICA 19 MM X 32.9 M | D21: UNIDAD | E21: 24 | F21: 8687 | G21: 7506 | J21: 9758 | M21: =COUNT(F21:L21) -> 3 | N21: =ROUND(AVERAGE(F21:L21),0) -> 8650 | O21: =+N21*E21 -> 207600 | P21: =STDEVP(F21:J21) -> 919.74066 | Q21: =P21/N21*100 -> 10.63284 | R21: =100-Q21 -> 89.36716 | S21: =IF(R21>70,"ALTO","BAJO") -> ALTO
B22: =+B21+1 -> 16 | C22: DVD´S | D22: UNIDAD | E22: 50 | G22: 1183 | J22: 1666 | M22: =COUNT(F22:L22) -> 2 | N22: =ROUND(AVERAGE(F22:L22),0) -> 1425 | O22: =+N22*E22 -> 71250 | P22: =STDEVP(F22:J22) -> 241.5 | Q22: =P22/N22*100 -> 16.947368 | R22: =100-Q22 -> 83.052632 | S22: =IF(R22>70,"ALTO","BAJO") -> ALTO
B23: =+B22+1 -> 17 | C23: ESFEROS TINTA NEGRA | D23: UNIDAD | E23: 800 | F23: 535.5 | G23: 669 | J23: 655 | M23: =COUNT(F23:L23) -> 3 | N23: =ROUND(AVERAGE(F23:L23),0) -> 620 | O23: =+N23*E23 -> 496000 | P23: =STDEVP(F23:J23) -> 59.905945 | Q23: =P23/N23*100 -> 9.6622492 | R23: =100-Q23 -> 90.337751 | S23: =IF(R23>70,"ALTO","BAJO") -> ALTO
B24: =+B23+1 -> 18 | C24: GANCHO DE COSEDORA ESTANDAR | D24: CAJA | E24: 30 | F24: 3689 | G24: 3126 | J24: 3451 | M24: =COUNT(F24:L24) -> 3 | N24: =ROUND(AVERAGE(F24:L24),0) -> 3422 | O24: =+N24*E24 -> 102660 | P24: =STDEVP(F24:J24) -> 230.75673 | Q24: =P24/N24*100 -> 6.7433292 | R24: =100-Q24 -> 93.256671 | S24: =IF(R24>70,"ALTO","BAJO") -> ALTO
B25: =+B24+1 -> 19 | C25: GANCHO DE COSEDORA INDUSTRIAL | D25: CAJA | E25: 12 | F25: 4629.1 | G25: 8957 | J25: 6902 | M25: =COUNT(F25:L25) -> 3 | N25: =ROUND(AVERAGE(F25:L25),0) -> 6829 | O25: =+N25*E25 -> 81948 | P25: =STDEVP(F25:J25) -> 1767.6041 | Q25: =P25/N25*100 -> 25.883791 | R25: =100-Q25 -> 74.116209 | S25: =IF(R25>70,"ALTO","BAJO") -> ALTO
B26: =+B25+1 -> 20 | C26: GRAPADORAS ESTANDAR | D26: UNIDAD | E26: 40 | F26: 17850 | G26: 10803 | J26: 14875 | M26: =COUNT(F26:L26) -> 3 | N26: =ROUND(AVERAGE(F26:L26),0) -> 14509 | O26: =+N26*E26 -> 580360 | P26: =STDEVP(F26:J26) -> 2888.5217 | Q26: =P26/N26*100 -> 19.908482 | R26: =100-Q26 -> 80.091518 | S26: =IF(R26>70,"ALTO","BAJO") -> ALTO
B27: =+B26+1 -> 21 | C27: GUILLOTINA METÁLICA A4 | D27: UNIDAD | E27: 3 | F27: 278460 | G27: 164412 | M27: =COUNT(F27:L27) -> 2 | N27: =ROUND(AVERAGE(F27:L27),0) -> 221436 | O27: =+N27*E27 -> 664308 | P27: =STDEVP(F27:J27) -> 57024 | Q27: =P27/N27*100 -> 25.75191 | R27: =100-Q27 -> 74.24809 | S27: =IF(R27>70,"ALTO","BAJO") -> ALTO
B28: =+B27+1 -> 22 | C28: LÁPIZ MINA NEGRA HB | D28: UNIDAD | E28: 100 | F28: 540 | G28: 821 | J28: 500 | M28: =COUNT(F28:L28) -> 3 | N28: =ROUND(AVERAGE(F28:L28),0) -> 620 | O28: =+N28*E28 -> 62000 | P28: =STDEVP(F28:J28) -> 142.82935 | Q28: =P28/N28*100 -> 23.036991 | R28: =100-Q28 -> 76.963009 | S28: =IF(R28>70,"ALTO","BAJO") -> ALTO
B29: =+B28+1 -> 23 | C29: MARCA PAGINAS - BANDERITAS - 5 COLORES/PAQUETE (100-125 HOJAS) | D29: PAQUETE | E29: 100 | F29: 1785 | J29: 1904 | M29: =COUNT(F29:L29) -> 2 | N29: =ROUND(AVERAGE(F29:L29),0) -> 1845 | O29: =+N29*E29 -> 184500 | P29: =STDEVP(F29:J29) -> 59.5 | Q29: =P29/N29*100 -> 3.2249322 | R29: =100-Q29 -> 96.775068 | S29: =IF(R29>70,"ALTO","BAJO") -> ALTO
B30: =+B29+1 -> 24 | C30: MARCADOR PERMANENTE NEGRO | D30: UNIDAD | E30: 24 | F30: 1666 | G30: 1274 | J30: 1904 | M30: =COUNT(F30:L30) -> 3 | N30: =ROUND(AVERAGE(F30:L30),0) -> 1615 | O30: =+N30*E30 -> 38760 | P30: =STDEVP(F30:J30) -> 259.74517 | Q30: =P30/N30*100 -> 16.083293 | R30: =100-Q30 -> 83.916707 | S30: =IF(R30>70,"ALTO","BAJO") -> ALTO
B31: =+B30+1 -> 25 | C31: MARCADOR PUNTA FINA NEGRO | D31: UNIDAD | E31: 24 | F31: 2142 | G31: 4071 | J31: 3332 | M31: =COUNT(F31:L31) -> 3 | N31: =ROUND(AVERAGE(F31:L31),0) -> 3182 | O31: =+N31*E31 -> 76368 | P31: =STDEVP(F31:J31) -> 794.6531 | Q31: =P31/N31*100 -> 24.973385 | R31: =100-Q31 -> 75.026615 | S31: =IF(R31>70,"ALTO","BAJO") -> ALTO
B32: =+B31+1 -> 26 | C32: MARCADORES BORRABLES – AZUL | D32: UNIDAD | E32: 100 | F32: 2261 | G32: 1405 | J32: 2142 | M32: =COUNT(F32:L32) -> 3 | N32: =ROUND(AVERAGE(F32:L32),0) -> 1936 | O32: =+N32*E32 -> 193600 | P32: =STDEVP(F32:J32) -> 378.60357 | Q32: =P32/N32*100 -> 19.55597 | R32: =100-Q32 -> 80.44403 | S32: =IF(R32>70,"ALTO","BAJO") -> ALTO
B33: =+B32+1 -> 27 | C33: MARCADORES BORRABLES – NEGRO | D33: UNIDAD | E33: 100 | F33: 2261 | G33: 1430 | J33: 2142 | M33: =COUNT(F33:L33) -> 3 | N33: =ROUND(AVERAGE(F33:L33),0) -> 1944 | O33: =+N33*E33 -> 194400 | P33: =STDEVP(F33:J33) -> 366.919 | Q33: =P33/N33*100 -> 18.874434 | R33: =100-Q33 -> 81.125566 | S33: =IF(R33>70,"ALTO","BAJO") -> ALTO
B34: =+B33+1 -> 28 | C34: MARCADORES BORRABLES – ROJO | D34: UNIDAD | E34: 100 | F34: 2261 | G34: 1430 | J34: 2142 | M34: =COUNT(F34:L34) -> 3 | N34: =ROUND(AVERAGE(F34:L34),0) -> 1944 | O34: =+N34*E34 -> 194400 | P34: =STDEVP(F34:J34) -> 366.919 | Q34: =P34/N34*100 -> 18.874434 | R34: =100-Q34 -> 81.125566 | S34: =IF(R34>70,"ALTO","BAJO") -> ALTO
B35: =+B34+1 -> 29 | C35: MEMORIA USB 32 GB | D35: UNIDAD | E35: 24 | F35: 32725 | G35: 39239 | J35: 22610 | M35: =COUNT(F35:L35) -> 3 | N35: =ROUND(AVERAGE(F35:L35),0) -> 31525 | O35: =+N35*E35 -> 756600 | P35: =STDEVP(F35:J35) -> 6841.6134 | Q35: =P35/N35*100 -> 21.702184 | R35: =100-Q35 -> 78.297816 | S35: =IF(R35>70,"ALTO","BAJO") -> ALTO
B36: =+B35+1 -> 30 | C36: NOTAS ADHESIVAS EN COLORES 76 X 76 MM PAQUETE X 5 | D36: PAQUETE | E36: 50 | F36: 2975 | G36: 3077 | M36: =COUNT(F36:L36) -> 2 | N36: =ROUND(AVERAGE(F36:L36),0) -> 3026 | O36: =+N36*E36 -> 151300 | P36: =STDEVP(F36:J36) -> 51 | Q36: =P36/N36*100 -> 1.6853933 | R36: =100-Q36 -> 98.314607 | S36: =IF(R36>70,"ALTO","BAJO") -> ALTO
B37: =+B36+1 -> 31 | C37: PILAS ALCALINAS AA (PAR) | D37: UNIDAD | E37: 60 | F37: 5759.6 | G37: 5338 | J37: 4284 | M37: =COUNT(F37:L37) -> 3 | N37: =ROUND(AVERAGE(F37:L37),0) -> 5127 | O37: =+N37*E37 -> 307620 | P37: =STDEVP(F37:J37) -> 620.5784 | Q37: =P37/N37*100 -> 12.104123 | R37: =100-Q37 -> 87.895877 | S37: =IF(R37>70,"ALTO","BAJO") -> ALTO
B38: =+B37+1 -> 32 | C38: PILAS ALCALINAS AAA (PAR) | D38: UNIDAD | E38: 60 | F38: 5759.6 | G38: 5273 | J38: 4284 | M38: =COUNT(F38:L38) -> 3 | N38: =ROUND(AVERAGE(F38:L38),0) -> 5106 | O38: =+N38*E38 -> 306360 | P38: =STDEVP(F38:J38) -> 613.93955 | Q38: =P38/N38*100 -> 12.023885 | R38: =100-Q38 -> 87.976115 | S38: =IF(R38>70,"ALTO","BAJO") -> ALTO
B39: =+B38+1 -> 33 | C39: RESALTADOR - AMARRILLO | D39: UNIDAD | E39: 100 | F39: 1951.6 | G39: 1365 | J39: 1309 | M39: =COUNT(F39:L39) -> 3 | N39: =ROUND(AVERAGE(F39:L39),0) -> 1542 | O39: =+N39*E39 -> 154200 | P39: =STDEVP(F39:J39) -> 290.62582 | Q39: =P39/N39*100 -> 18.84733 | R39: =100-Q39 -> 81.15267 | S39: =IF(R39>70,"ALTO","BAJO") -> ALTO
B40: =+B39+1 -> 34 | C40: RESMAS DE PAPEL TAMAÑO CARTA | D40: UNIDAD | E40: 50 | F40: 22967 | G40: 19617 | J40: 16660 | M40: =COUNT(F40:L40) -> 3 | N40: =ROUND(AVERAGE(F40:L40),0) -> 19748 | O40: =+N40*E40 -> 987400 | P40: =STDEVP(F40:J40) -> 2576.4877 | Q40: =P40/N40*100 -> 13.046828 | R40: =100-Q40 -> 86.953172 | S40: =IF(R40>70,"ALTO","BAJO") -> ALTO
B41: =+B40+1 -> 35 | C41: RESMAS DE PAPEL TAMAÑO OFICIO 75 G | D41: UNIDAD | E41: 250 | F41: 28441 | G41: 31385 | J41: 22610 | M41: =COUNT(F41:L41) -> 3 | N41: =ROUND(AVERAGE(F41:L41),0) -> 27479 | O41: =+N41*E41 -> 6869750 | P41: =STDEVP(F41:J41) -> 3646.4339 | Q41: =P41/N41*100 -> 13.269893 | R41: =100-Q41 -> 86.730107 | S41: =IF(R41>70,"ALTO","BAJO") -> ALTO
B42: =+B41+1 -> 36 | C42: SACA GANCHOS ESTANDAR | D42: UNIDAD | E42: 10 | F42: 2499 | G42: 2934 | J42: 1785 | M42: =COUNT(F42:L42) -> 3 | N42: =ROUND(AVERAGE(F42:L42),0) -> 2406 | O42: =+N42*E42 -> 24060 | P42: =STDEVP(F42:J42) -> 473.66444 | Q42: =P42/N42*100 -> 19.686801 | R42: =100-Q42 -> 80.313199 | S42: =IF(R42>70,"ALTO","BAJO") -> ALTO
B43: =+B42+1 -> 37 | C43: TABLA PORTA DOCUMENTOS TAMAÑO OFICIO | D43: UNIDAD | E43: 12 | F43: 8925 | G43: 9233 | J43: 6188 | M43: =COUNT(F43:L43) -> 3 | N43: =ROUND(AVERAGE(F43:L43),0) -> 8115 | O43: =+N43*E43 -> 97380 | P43: =STDEVP(F43:J43) -> 1368.6188 | Q43: =P43/N43*100 -> 16.865297 | R43: =100-Q43 -> 83.134703 | S43: =IF(R43>70,"ALTO","BAJO") -> ALTO
...

Sheet FM-029 Depurada 4Nov2020
D2: FORMATO CUADRO DE TABULACIÓN Y ANÁLISIS DE DATOS ESTADÍSTICOS - ESTUDIO DE SECTOR
D3: CÓDIGO: GCON-FM-029 | M3: VERSIÓN: 2
D4: FECHA DE APLICACIÓN: JULIO DE 2019
B6: TABULACIÓN NO DEPURADA COTIZACIONES Y CONTRATACIONES SIMILARES EN LA UAERMV Y/O DE OTRAS ENTIDADES PARA EL ESTUDIO DE SECTOR | F6: COTIZACIONES GESTIONADAS PARA EL ESTUDIO DE SECTOR | J6: CONTRATACIONES OTRAS ENTIDADES | M6: CONTRATACIONES SIMILARES EN LA UMV | N6: ADQUISICIÓN DE ELEMENTOS DE PROTECCIÓN PERSONAL Y ELEMENTOS DE PROTECCIÓN CONTRA CAÍDAS
F8: SAISO SAS | G8: TECHNICAL SOLUTIONS SAFETY SAS | H8: Agroinsumos LTDA | I8: CENTRAL DE SOLDADURAS Y PROTECCIÓN INDUSTRIAL SA | J8: SDH-SMINC-014-2020 | K8: MC-253-GINRED4-2020 | L8: MC-CUC-CA-037-2020 | M8: 2019
B9: ITEM | C9: DESCRIPCIÓN | D9: UND | E9: Cant. | F9: VALOR PRESUPUESTADO | J9: VALOR UNITARIO SIN IVA A PRECIO 2020 | N9: MUESTRA | O9: VALOR PROMEDIO UNITARIO | P9: VALOR PROMEDIO TOTAL | Q9: DESVIACION ESTANDAR | R9: COEF VARIACION | S9: MARGEN DE CONFIABILIDAD | T9: NIVEL DE CONFIABILIDAD DE LOS DATOS | Z9: Diferencia 4Nov-16Oct | AA9: DIFERENCIA EN CANTIDADES 4 NOV 19 NOV
B10: 1 | C10: Casco dieléctrico de seguridad color gris. Casco de seguridad, con banda de sudor reemplazable, suspensión de 4 puntos, en banda de hilo, tipo rachet, con ajuste de altura, Sistema universal de ensamble para protectores auditivos tipo copa, alta resistencia, fabricado en Polímero de alto impacto, con 3 y/o 4 puntos de sujeción para barbuquejo en reata no elástico. | D10: UND | E10: 40 | F10: 33000 | G10: 20400 | H10: =1.19*14252 -> 16959.88 | I10: 18907.563 | K10: 16363 | L10: 27500 | M10: 30071.121 | N10: =COUNT(F10:M10) -> 7 | O10: =ROUND(AVERAGE(F10:M10),2) -> 23314.51 | P10: =ROUND(+O10*E10,2) -> 932580.4 | Q10: =STDEVP(F10:L10) -> 6059.961 | R10: =Q10/O10*100 -> 25.99223 | S10: =100-R10 -> 74.00777 | T10: =IF(S10>70,"ALTO","BAJO") -> ALTO | Z10: =P10-'FM-029 Depurada16Oct2020'!Q10 -> 24820.4 | AA10: =#REF!-'FM-029 Depurada 4Nov2020'!E10 -> #REF!
B11: 2 | C11: Casco dieléctrico de seguridad color blanco. Casco de seguridad, con banda de sudor reemplazable, suspensión de 4 puntos, en banda de hilo, tipo rachet, con ajuste de altura, Sistema universal de ensamble para protectores auditivos tipo copa, alta resistencia, fabricado en Polímero de alto impacto, con 3 y/o 4 puntos de sujeción para barbuquejo en reata no elástico. | D11: UND | E11: 10 | G11: 20400 | H11: =1.19*14252 -> 16959.88 | I11: 18907.563 | K11: 16363 | L11: 25000 | N11: =COUNT(F11:M11) -> 5 | O11: =ROUND(AVERAGE(F11:M11),2) -> 19526.09 | P11: =ROUND(+O11*E11,2) -> 195260.9 | Q11: =STDEVP(F11:L11) -> 3088.7071 | R11: =Q11/O11*100 -> 15.818359 | S11: =100-R11 -> 84.181641 | T11: =IF(S11>70,"ALTO","BAJO") -> ALTO | Z11: =P11-'FM-029 Depurada16Oct2020'!Q11 -> 0.9 | AA11: =#REF!-'FM-029 Depurada 4Nov2020'!E11 -> #REF!
B12: 3 | C12: Casco dieléctrico de seguridad color azul. Casco de seguridad, con banda de sudor reemplazable, suspensión de 4 puntos, en banda de hilo, tipo rachet, con ajuste de altura, Sistema universal de ensamble para protectores auditivos tipo copa, alta resistencia, fabricado en Polímero de alto impacto, con 3 y/o 4 puntos de sujeción para barbuquejo en reata no elástico. | D12: UND | E12: 5 | F12: 33000 | G12: 20400 | H12: =1.19*14252 -> 16959.88 | I12: 18907.563 | K12: 16363 | N12: =COUNT(F12:M12) -> 5 | O12: =ROUND(AVERAGE(F12:M12),2) -> 21126.09 | P12: =ROUND(+O12*E12,2) -> 105630.45 | Q12: =STDEVP(F12:L12) -> 6107.0965 | R12: =Q12/O12*100 -> 28.907841 | S12: =100-R12 -> 71.092159 | T12: =IF(S12>70,"ALTO","BAJO") -> ALTO | Z12: =P12-'FM-029 Depurada16Oct2020'!Q12 -> 14845.45 | AA12: =#REF!-'FM-029 Depurada 4Nov2020'!E12 -> #REF!
B13: 4 | C13: Gafas de Seguridad Lente Claro. Gafas de seguridad con lente espejado, compuesto por unas lentes sin montura y unas patillas con longitud fija. Con protecciones laterales y sistema de difusión de la presión a través de la patilla. Con almohadillas ajustables en el puente nasal y con recubrimiento antideslizante en la cara interna de la patilla. Excelente ajuste y buen campo de visión. Antirayadura y antiempañante. | D13: UND | E13: 100 | F13: 12000 | G13: 7480 | H13: =1.19*5310 -> 6318.9 | I13: 5600 | K13: 6395 | M13: 10983.026 | N13: =COUNT(F13:M13) -> 6 | O13: =ROUND(AVERAGE(F13:M13),2) -> 8129.49 | P13: =ROUND(+O13*E13,2) -> 812949 | Q13: =STDEVP(F13:L13) -> 2300.3977 | R13: =Q13/O13*100 -> 28.296949 | S13: =100-R13 -> 71.703051 | T13: =IF(S13>70,"ALTO","BAJO") -> ALTO | Z13: =P13-'FM-029 Depurada16Oct2020'!Q13 -> 87749 | AA13: =#REF!-'FM-029 Depurada 4Nov2020'!E13 -> #REF!
B14: 5 | C14: Gafas de Seguridad Lente Oscuro. Recubrimiento duro anti-rayaduras, antiestático y tratamiento antiempañante. Fabricados con materiales hipoalergénicos, lavables y reutilizables. Cuenta con cordón para colgar los lentes alrededor del cuello cuando no están en uso Cumplen los requerimientos de protección contra alto impacto y educación de la norma ANSI Z87.1: 2003. Protección contra radiaciones UV en un 99.9%. Lentes fabricados completamente con policarbonato de alto impacto. | D14: UND | E14: 150 | G14: 5440 | H14: =1.19*6300 -> 7497 | I14: 6500 | K14: 6422 | N14: =COUNT(F14:M14) -> 4 | O14: =ROUND(AVERAGE(F14:M14),2) -> 6464.75 | P14: =ROUND(+O14*E14,2) -> 969712.5 | Q14: =STDEVP(F14:L14) -> 727.79165 | R14: =Q14/O14*100 -> 11.257847 | S14: =100-R14 -> 88.742153 | T14: =IF(S14>70,"ALTO","BAJO") -> ALTO | Z14: =P14-'FM-029 Depurada16Oct2020'!Q14 -> -37.5 | AA14: =#REF!-'FM-029 Depurada 4Nov2020'!E14 -> #REF!
B15: 6 | C15: Gafas de seguridad lente claro adaptable para colocar sobre gafas formuladas. Gafas de seguridad para utilizar sobre lentes formulados, material policarbonato con patillas de nylon para un mayor confort. Cubrimiento lateral para mayor visibilidad, protección de rayos U.V. | D15: UND | E15: 20 | H15: =1.19*7600 -> 9044 | I15: 10500 | K15: 10342 | M15: 11613.595 | N15: =COUNT(F15:M15) -> 4 | O15: =ROUND(AVERAGE(F15:M15),2) -> 10374.9 | P15: =ROUND(+O15*E15,2) -> 207498 | Q15: =STDEVP(F15:L15) -> 652.32098 | R15: =Q15/O15*100 -> 6.2874918 | S15: =100-R15 -> 93.712508 | T15: =IF(S15>70,"ALTO","BAJO") -> ALTO | Z15: =P15-'FM-029 Depurada16Oct2020'!Q15 -> -582 | AA15: =#REF!-'FM-029 Depurada 4Nov2020'!E15 -> #REF!
B16: 7 | C16: Careta para esmerilar. Fabricada en polímero de alta resistencia a la humedad, al calor y al impacto de partículas. Liviano e indeformable, visor transparente resistente al choque de partículas a gran velocidad. | D16: UND | E16: 10 | G16: 24500 | H16: =1.19*25900 -> 30821 | I16: 28000 | M16: 34935.212 | N16: =COUNT(F16:M16) -> 4 | O16: =ROUND(AVERAGE(F16:M16),2) -> 29564.05 | P16: =ROUND(+O16*E16,2) -> 295640.5 | Q16: =STDEVP(F16:L16) -> 2585.4955 | R16: =Q16/O16*100 -> 8.7454036 | S16: =100-R16 -> 91.254596 | T16: =IF(S16>70,"ALTO","BAJO") -> ALTO | Z16: =P16-'FM-029 Depurada16Oct2020'!Q16 -> -4189.5 | AA16: =#REF!-'FM-029 Depurada 4Nov2020'!E16 -> #REF!
B17: 8 | C17: Respirador libre de Mantenimiento N95 con válvula o Sin Válvula. NO PLEGABLE. Fabricado con un Medio Filtrante Electrostático Avanzado, novedoso sistema de retención de partículas que permite mayor eficiencia del filtro con menor caída de presión que ofrece mayor comodidad y frescura al usuario. Brinda una efectiva, confortable e higiénica protección respiratoria contra aerosoles sólidos y ciertos líquidos sin aceite OPCIONAL. Se acepta respirador con válvula de exhalación (válvula de aire fresco) o Sin Válvula. | D17: UND | E17: 750 | H17: =1.19*12000 -> 14280 | I17: 14300 | M17: 6727.4704 | N17: =COUNT(F17:M17) -> 3 | O17: =ROUND(AVERAGE(F17:M17),2) -> 11769.16 | P17: =ROUND(+O17*E17,2) -> 8826870 | Q17: =STDEVP(F17:L17) -> 10 | R17: =Q17/O17*100 -> 0.084967831 | S17: =100-R17 -> 99.915032 | T17: =IF(S17>70,"ALTO","BAJO") -> ALTO | Z17: =P17-'FM-029 Depurada16Oct2020'!Q17 -> 78870 | AA17: =#REF!-'FM-029 Depurada 4Nov2020'!E17 -> #REF!
B18: 9 | C18: Respirador libre de Mantenimiento N95 con válvula O sin valvula PLEGABLE Fabricado con un Medio Filtrante Electrostático Avanzado, novedoso sistema de retención de partículas que permite mayor eficiencia del filtro con menor caída de presión que ofrece mayor comodidad y frescura al usuario. Brinda una efectiva, confortable e higiénica protección respiratoria contra aerosoles sólidos y ciertos líquidos sin aceite OPCIONAL. Se acepta respirador con válvula de exhalación (válvula de aire fresco) o Sin Válvula. | D18: UND | E18: 750 | H18: =1.19*12000 -> 14280 | I18: 14300 | M18: 6727.4704 | N18: =COUNT(F18:M18) -> 3 | O18: =ROUND(AVERAGE(F18:M18),2) -> 11769.16 | P18: =ROUND(+O18*E18,2) -> 8826870 | Q18: =STDEVP(F18:L18) -> 10 | R18: =Q18/O18*100 -> 0.084967831 | S18: =100-R18 -> 99.915032 | T18: =IF(S18>70,"ALTO","BAJO") -> ALTO | Z18: =P18-'FM-029 Depurada16Oct2020'!Q18 -> 78870 | AA18: =#REF!-'FM-029 Depurada 4Nov2020'!E18 -> #REF!
B19: 10 | C19: Respirador libre de Mantenimiento N95 con válvula o Sin Válvula NO PLEGABLE. Fabricado con un Medio Filtrante Electrostático Avanzado, novedoso sistema de retención de partículas que permite mayor eficiencia del filtro con menor caída de presión que ofrece mayor comodidad y frescura al usuario. Brinda una efectiva, confortable e higiénica protección respiratoria contra aerosoles sólidos y ciertos líquidos sin aceite OPCIONAL. Se acepta respirador con válvula de exhalación (válvula de aire fresco) o Sin Válvula. | D19: UND | E19: 499 | H19: =1.19*12000 -> 14280 | I19: 14500 | M19: 17077.828 | N19: =COUNT(F19:M19) -> 3 | O19: =ROUND(AVERAGE(F19:M19),2) -> 15285.94 | P19: =ROUND(+O19*E19,2) -> 7627684.1 | Q19: =STDEVP(F19:L19) -> 110 | R19: =Q19/O19*100 -> 0.71961554 | S19: =100-R19 -> 99.280384 | T19: =IF(S19>70,"ALTO","BAJO") -> ALTO | Z19: =P19-'FM-029 Depurada16Oct2020'!Q19 -> -806015.94 | AA19: =#REF!-'FM-029 Depurada 4Nov2020'!E19 -> #REF!
B20: 11 | C20: Mascara Full Face. Pieza facial cara completa con visor, para colocar doble cartucho (ofrece la posibilidad de ser utilizada con filtros y cartuchos reemplazables para protección contra ciertos gases, vapores y material particulado). Fabricada en elastómero, visor de policarbonato | D20: UND | E20: 2 | G20: 479000 | H20: =1.19*430000 -> 511700 | I20: 378151.26 | M20: 416797.85 | N20: =COUNT(F20:M20) -> 4 | O20: =ROUND(AVERAGE(F20:M20),2) -> 446412.28 | P20: =ROUND(+O20*E20,2) -> 892824.56 | Q20: =STDEVP(F20:L20) -> 56838 | R20: =Q20/O20*100 -> 12.732177 | S20: =100-R20 -> 87.267823 | T20: =IF(S20>70,"ALTO","BAJO") -> ALTO | Z20: =P20-'FM-029 Depurada16Oct2020'!Q20 -> 27482.56 | AA20: =#REF!-'FM-029 Depurada 4Nov2020'!E20 -> #REF!
B21: 12 | C21: Mascara Media Cara. Pieza facial media cara diseño anatómico y ajuste hermético, permite el uso de monogafas, para colocar doble cartucho (ofrece la posibilidad de ser utilizada con filtros y cartuchos reemplazables para protección contra ciertos gases, vapores y material particulado) fabricada en material siliconado. | D21: UND | E21: 8 | G21: 53000 | H21: =1.19*41430 -> 49301.7 | I21: 47058.824 | K21: 52182 | M21: 66551.805 | N21: =COUNT(F21:M21) -> 5 | O21: =ROUND(AVERAGE(F21:M21),2) -> 53618.87 | P21: =ROUND(+O21*E21,2) -> 428950.96 | Q21: =STDEVP(F21:L21) -> 2361.3778 | R21: =Q21/O21*100 -> 4.4040052 | S21: =100-R21 -> 95.595995 | T21: =IF(S21>70,"ALTO","BAJO") -> ALTO | Z21: =P21-'FM-029 Depurada16Oct2020'!Q21 -> -8913.04 | AA21: =#REF!-'FM-029 Depurada 4Nov2020'!E21 -> #REF!
B22: 13 | C22: Cartuchos para vapores orgánicos y gases ácidos. Compatibles para instalar en mascara FULL FACE o Media Cara, protección para vapores orgánicos (exposición a solventes orgánicos, gases ácidos, humos metálicos, formaldehido, entre otros. Compatibles para adaptar filtros para material particulado, partículas aceitosas. | D22: PAR | E22: 30 | F22: 54000 | G22: 48500 | H22: =1.19*35071 -> 41734.49 | M22: 63123.02 | N22: =COUNT(F22:M22) -> 4 | O22: =ROUND(AVERAGE(F22:M22),2) -> 51839.38 | P22: =ROUND(+O22*E22,2) -> 1555181.4 | Q22: =STDEVP(F22:L22) -> 5016.2498 | R22: =Q22/O22*100 -> 9.6765236 | S22: =100-R22 -> 90.323476 | T22: =IF(S22>70,"ALTO","BAJO") -> ALTO | Z22: =P22-'FM-029 Depurada16Oct2020'!Q22 -> -115998.6 | AA22: =#REF!-'FM-029 Depurada 4Nov2020'!E22 -> #REF!
B23: 14 | C23: Prefiltros para material particulado adaptables a cartuchos. Compatibles para instalar sobre cartuchos con adaptador. Es fabricado con un Medio Filtrante Electrostático Avanzado, novedoso sistema de retención de partículas que permite mayor eficiencia del filtro con menor caída de presión. | D23: PAR | E23: 30 | F23: 36000 | M23: 35153.446 | N23: =COUNT(F23:M23) -> 2 | O23: =ROUND(AVERAGE(F23:M23),2) -> 35576.72 | P23: =ROUND(+O23*E23,2) -> 1067301.6 | Q23: =STDEVP(F23:L23) -> 0 | R23: =Q23/O23*100 -> 0 | S23: =100-R23 -> 100 | T23: =IF(S23>70,"ALTO","BAJO") -> ALTO | Z23: =P23-'FM-029 Depurada16Oct2020'!Q23 -> 552321.6 | AA23: =#REF!-'FM-029 Depurada 4Nov2020'!E23 -> #REF!
B24: 15 | C24: Filtro para Soldadura (material particulado y humos metálicos). P100, filtro para material particulado y partículas de vapor orgánico y humos metálicos. Uso con respiradores reutilizables (cartuchos adaptables a mascara Full Face y Media Cara) | D24: PAR | E24: 30 | G24: 39750 | H24: =1.19*32040 -> 38127.6 | I24: 36134.454 | M24: 38361.9 | N24: =COUNT(F24:M24) -> 4 | O24: =ROUND(AVERAGE(F24:M24),2) -> 38093.49 | P24: =ROUND(+O24*E24,2) -> 1142804.7 | Q24: =STDEVP(F24:L24) -> 1478.625 | R24: =Q24/O24*100 -> 3.8815688 | S24: =100-R24 -> 96.118431 | T24: =IF(S24>70,"ALTO","BAJO") -> ALTO | Z24: =P24-'FM-029 Depurada16Oct2020'!Q24 -> 19994.7 | AA24: =#REF!-'FM-029 Depurada 4Nov2020'!E24 -> #REF!
B25: 16 | C25: Adaptador para instalar filtros sobre cartuchos. Pieza plástica que sirve para sostener y acoplar los filtros de material particulado sobre los cartuchos. Compatibilidad en los diseños y ajuste en los cartuchos | D25: PAR | E25: 30 | G25: 15200 | H25: =1.19*11220 -> 13351.8 | I25: 18907.563 | M25: 26049.538 | N25: =COUNT(F25:M25) -> 4 | O25: =ROUND(AVERAGE(F25:M25),2) -> 18377.23 | P25: =ROUND(+O25*E25,2) -> 551316.9 | Q25: =STDEVP(F25:L25) -> 2310.0834 | R25: =Q25/O25*100 -> 12.570357 | S25: =100-R25 -> 87.429643 | T25: =IF(S25>70,"ALTO","BAJO") -> ALTO | Z25: =P25-'FM-029 Depurada16Oct2020'!Q25 -> -31373.1 | AA25: =#REF!-'FM-029 Depurada 4Nov2020'!E25 -> #REF!
B26: 17 | C26: Protector auditivo de inserción. Fabricados en silicona o elastómero termoplástico hipoalergénico, lavables y reutilizables. NRR = 25 dB. Cordón de poliéster rompible trenzado, con estuche individual. | D26: UND | E26: 100 | F26: 1000 | G26: 1820 | H26: =1.19*1513 -> 1800.47 | I26: 1575.6303 | M26: 2988.1216 | N26: =COUNT(F26:M26) -> 5 | O26: =ROUND(AVERAGE(F26:M26),2) -> 1836.84 | P26: =ROUND(+O26*E26,2) -> 183684 | Q26: =STDEVP(F26:L26) -> 331.2055 | R26: =Q26/O26*100 -> 18.031266 | S26: =100-R26 -> 81.968734 | T26: =IF(S26>70,"ALTO","BAJO") -> ALTO | Z26: =P26-'FM-029 Depurada16Oct2020'!Q26 -> -34116 | AA26: =#REF!-'FM-029 Depurada 4Nov2020'!E26 -> #REF!
B27: 18 | C27: Protector auditivo de inserción desechable tipo espuma. Fabricados en espuma moldeable; por su estructura suave y redondeada se adapta fácilmente en conductos auditivos, grandes o pequeños. Reducción de Ruido (NRR) | D27: CAJA X 200 UND | E27: 8 | G27: 90500 | H27: =1.19*77520 -> 92248.8 | I27: 84033.613 | N27: =COUNT(F27:M27) -> 3 | O27: =ROUND(AVERAGE(F27:M27),2) -> 88927.47 | P27: =ROUND(+O27*E27,2) -> 711419.76 | Q27: =STDEVP(F27:L27) -> 3533.3608 | R27: =Q27/O27*100 -> 3.9733063 | S27: =100-R27 -> 96.026694 | T27: =IF(S27>70,"ALTO","BAJO") -> ALTO | Z27: =P27-'FM-029 Depurada16Oct2020'!Q27 -> 11.76 | AA27: =#REF!-'FM-029 Depurada 4Nov2020'!E27 -> #REF!
B28: 19 | C28: Protector Auditivo tipo Copa. Diadema y orejeras acolchadas para mayor comodidad del usuario, incluso en largas jornadas de trabajo. Diadema graduable para mejor ajuste. Diadema rota para permitir su uso con casco. Atenuación global del protector; con los siguientes rangos 23 a 25 dB, atenuación a altas frecuencias; 26 a 28 dB, atenuación a frecuencias medias; 20 a 22 dB, atenuación a bajas frecuencias. Para usar en cascos que sería suministrados en la misma ficha en los ítems 1, 2 y 3 y/o de diadema para ser usados en cualquier tipo de casco. | D28: UND | E28: 20 | F28: 92000 | H28: =1.19*14880 -> 17707.2 | I28: 17226.891 | M28: 36481.733 | N28: =COUNT(F28:M28) -> 4 | O28: =ROUND(AVERAGE(F28:M28),2) -> 40853.96 | P28: =ROUND(+O28*E28,2) -> 817079.2 | Q28: =STDEVP(F28:L28) -> 35135.719 | R28: =Q28/O28*100 -> 86.003215 | S28: =100-R28 -> 13.996785 | T28: =IF(S28>70,"ALTO","BAJO") -> BAJO | Z28: =P28-'FM-029 Depurada16Oct2020'!Q28 -> 352379.2 | AA28: =#REF!-'FM-029 Depurada 4Nov2020'!E28 -> #REF!
B29: 20 | C29: Guante de vaqueta corto. Fabricado en 100% cuero (vaqueta), cosido en hilo de alta resistencia debe proporcionar la comodidad de un guante tejido, sin sacrificar la flexibilidad y la destreza. | D29: PAR | E29: 200 | G29: 6950 | H29: =1.19*5426 -> 6456.94 | I29: 5630.2521 | L29: 5000 | M29: 11315.622 | N29: =COUNT(F29:M29) -> 5 | O29: =ROUND(AVERAGE(F29:M29),2) -> 7070.56 | P29: =ROUND(+O29*E29,2) -> 1414112 | Q29: =STDEVP(F29:L29) -> 749.61021 | R29: =Q29/O29*100 -> 10.601851 | S29: =100-R29 -> 89.398149 | T29: =IF(S29>70,"ALTO","BAJO") -> ALTO | Z29: =P29-'FM-029 Depurada16Oct2020'!Q29 -> 21312 | AA29: =#REF!-'FM-029 Depurada 4Nov2020'!E29 -> #REF!
B30: 21 | C30: Guante vaqueta largo. Fabricado en 100% cuero (vaqueta), debe proporcionar la comodidad de un guante tejido, sin sacrificar la flexibilidad y la destreza, manga larga para protección adicional en muñeca y parte del antebrazo. | D30: PAR | E30: 150 | F30: 19000 | H30: =1.19*8561 -> 10187.59 | K30: 13454 | M30: 19127.965 | N30: =COUNT(F30:M30) -> 4 | O30: =ROUND(AVERAGE(F30:M30),2) -> 15442.39 | P30: =ROUND(+O30*E30,2) -> 2316358.5 | Q30: =STDEVP(F30:L30) -> 3637.5529 | R30: =Q30/O30*100 -> 23.555634 | S30: =100-R30 -> 76.444366 | T30: =IF(S30>70,"ALTO","BAJO") -> ALTO | Z30: =P30-'FM-029 Depurada16Oct2020'!Q30 -> 116008.5 | AA30: =#REF!-'FM-029 Depurada 4Nov2020'!E30 -> #REF!
B31: 22 | C31: Guante de nitrilo para Sustancias Químicas (Verde Largo). Fabricado en nitrilo (material sintético, bastante resistente a la mayoría de los productos químicos) hipoalergénicos. Forro interno en algodón para mayor frescura; texturizados en la punta de los dedos y en la palma para brindar mayor agarre. Longitud= 18 Pulgadas (45.7 cm) Espesor= 22mil (0.55mm). | D31: PAR | E31: 108 | F31: 32000 | G31: 18020 | H31: 19117 | I31: 18907.563 | M31: 21595.684 | N31: =COUNT(F31:M31) -> 5 | O31: =ROUND(AVERAGE(F31:M31),2) -> 21928.05 | P31: =ROUND(+O31*E31,2) -> 2368229.4 | Q31: =STDEVP(F31:L31) -> 5781.7549 | R31: =Q31/O31*100 -> 26.366936 | S31: =100-R31 -> 73.633064 | T31: =IF(S31>70,"ALTO","BAJO") -> ALTO | Z31: =P31-'FM-029 Depurada16Oct2020'!Q31 -> 42557.4 | AA31: =#REF!-'FM-029 Depurada 4Nov2020'!E31 -> #REF!
B32: 23 | C32: Guante Poliuretano Fabricado con la siguiente composición de los guantes mínimo del 50% hasta el 80% nailon y mínimo del 20% hasta 50% poliuretano. Provee una capa con buena resistencia a la abrasión y rasgado, protección contra líquidos, agarre en seco y húmedo y durabilidad. El recubrimiento ofrece la misma sensibilidad táctil de un guante delgado, pero con la protección de un guante recubierto. El cual debe generar alta flexibilidad, durabilidad y garantiza protección contra riesgos mecánicos | D32: PAR | E32: 300 | F32: 15000 | H32: =1.19*5084 -> 6049.96 | J32: 7027 | K32: 12144 | M32: 8340.0908 | N32: =COUNT(F32:M32) -> 5 | O32: =ROUND(AVERAGE(F32:M32),2) -> 9712.21 | P32: =ROUND(+O32*E32,2) -> 2913663 | Q32: =STDEVP(F32:L32) -> 3675.1216 | R32: =Q32/O32*100 -> 37.84022 | S32: =100-R32 -> 62.15978 | T32: =IF(S32>70,"ALTO","BAJO") -> BAJO | Z32: =P32-'FM-029 Depurada16Oct2020'!Q32 -> 977463 | AA32: =#REF!-'FM-029 Depurada 4Nov2020'!E32 -> #REF!
B33: 24 | C33: Guante de nitrilo azul. Guante de nitrilo desechable de 4mm a 8 mm de grosor, largo, de bajo Modulo, con puño enrollado, color azul, ambidiestro, ideal para usos generales y de laboratorio. Acabado rugoso para facilitar la manipulación de objetos resbalosos. | D33: PAR | E33: 300 | F33: 32000 | M33: 33904.898 | N33: =COUNT(F33:M33) -> 2 | O33: =ROUND(AVERAGE(F33:M33),2) -> 32952.45 | P33: =ROUND(+O33*E33,2) -> 9885735 | Q33: =STDEVP(F33:L33) -> 0 | R33: =Q33/O33*100 -> 0 | S33: =100-R33 -> 100 | T33: =IF(S33>70,"ALTO","BAJO") -> ALTO | Z33: =P33-'FM-029 Depurada16Oct2020'!Q33 -> 3785735 | AA33: =#REF!-'FM-029 Depurada 4Nov2020'!E33 -> #REF!
B34: 25 | C34: Guante para soldador (resistente al calor Kevlar). Fabricado en carnaza, con refuerzos en palmas y dedos costura con hilo doble. Resistentes a la abrasión y a las chispas de soldadura. | D34: PAR | E34: 10 | F34: 31000 | G34: 22228 | M34: 31789.711 | N34: =COUNT(F34:M34) -> 3 | O34: =ROUND(AVERAGE(F34:M34),2) -> 28339.24 | P34: =ROUND(+O34*E34,2) -> 283392.4 | Q34: =STDEVP(F34:L34) -> 4386 | R34: =Q34/O34*100 -> 15.476774 | S34: =100-R34 -> 84.523226 | T34: =IF(S34>70,"ALTO","BAJO") -> ALTO | Z34: =P34-'FM-029 Depurada16Oct2020'!Q34 -> 84722.4 | AA34: =#REF!-'FM-029 Depurada 4Nov2020'!E34 -> #REF!
