Workbook

Sheet IMPLEMENTACIÓN
A1: SISTEMA DE VIGILANCIA
A2: Item | B2: Descripción | C2: Cantidad | D2: Valor con IPC | E2: Subtotal | I2: Vr 2024
B3: EQUIPOS
A4: 1 | B4: CÁMARA TIPO PTZ + ACCESORIO PANORÁMICO MULTISENSOR | C4: 18 | D4: =ROUND((I4*5.2%)+I4,0) -> 58420641 | E4: =+C4*D4 -> 1051571538 | I4: 55532929
A5: 2 | B5: CÁMARAS FIJAS TIPO 2 | C5: 40 | D5: =ROUND((I5*5.2%)+I5,0) -> 8751693 | E5: =+C5*D5 -> 350067720 | I5: 8319100
A6: 3 | B6: FIBRA ÓPTICA MONOMODO | C6: 100000 | D6: =ROUND((I6*5.2%)+I6,0) -> 48394 | E6: =+C6*D6 -> 4839400000 | I6: 46002
A7: 4 | B7: EQUIPO DE TRANSMISION Y RECEPCION DE MICROONDAS (VIDEO Y CONTROL) DE BACK BONE - ONDAS MILIMETRICAS | C7: 3 | D7: =ROUND((I7*5.2%)+I7,0) -> 89833751 | E7: =+C7*D7 -> 269501253 | I7: 85393299
A8: 5 | B8: SWITCH DE ACCESO TIPO 4 | C8: 2 | D8: =ROUND((I8*5.2%)+I8,0) -> 39121851 | E8: =+C8*D8 -> 78243702 | I8: 37188071
A9: 6 | B9: SWITCH TIPO 1 | C9: 28 | D9: =ROUND((I9*5.2%)+I9,0) -> 6961413 | E9: =+C9*D9 -> 194919564 | I9: 6617313
A10: 7 | B10: SISTEMA DE VISUALIZACIÓN | C10: 2 | D10: =ROUND((I10*5.2%)+I10,0) -> 135757416 | E10: =+C10*D10 -> 271514832 | I10: 129046973
A11: 8 | B11: MONITOR DE VISUALIZACIÓN | C11: 4 | D11: =ROUND((I11*5.2%)+I11,0) -> 32517215 | E11: =+C11*D11 -> 130068860 | I11: 30909900
A12: 9 | B12: ESTACIÓN DE TRABAJO OPERADOR(WORKSTATION) | C12: 5 | D12: =ROUND((I12*5.2%)+I12,0) -> 45166695 | E12: =+C12*D12 -> 225833475 | I12: 42934121
A13: 10 | B13: JOYSTICK DE OPERACIÓN | C13: 1 | D13: =ROUND((I13*5.2%)+I13,0) -> 10332283 | E13: =+C13*D13 -> 10332283 | I13: 9821562
A14: 11 | B14: UPS 2KVA | C14: 58 | D14: =ROUND((I14*5.2%)+I14,0) -> 8473810 | E14: =+C14*D14 -> 491480980 | I14: 8054952
A15: 12 | B15: SERVIDOR | C15: 1 | D15: =ROUND((I15*5.2%)+I15,0) -> 158017212 | E15: =+C15*D15 -> 158017212 | I15: 150206475
... A21: 18 | B21: MONITOR OPERADOR CCTV | C21: 5 | D21: =ROUND((I21*5.2%)+I21,0) -> 4372873 | E21: =+C21*D21 -> 21864365 | I21: 4156723
B22: EQUIPOS LPR
A23: 19 | B23: CÁMARA FIJA PARA RECONOCIMIENTO DE PLACAS-LPR | C23: 63 | D23: =ROUND((I23*5.2%)+I23,0) -> 34827127 | E23: =+C23*D23 -> 2194109001 | I23: 33105634
A24: 20 | B24: SOFTWARE SISTEMA LPR | C24: 1 | D24: =ROUND((I24*5.2%)+I24,0) -> 106982359 | E24: =+C24*D24 -> 106982359 | I24: 101694258
A25: 21 | B25: GABINETE | C25: 28 | D25: =ROUND((I25*5.2%)+I25,0) -> 5835541 | E25: =+C25*D25 -> 163395148 | I25: 5547092
A26: 22 | B26: ARCOS / PÓRTICOS MONTAJE DE SISTEMAS LPR | C26: 31 | D26: =ROUND((I26*5.2%)+I26,0) -> 34382314 | E26: =+C26*D26 -> 1065851734 | I26: 32682808
B27: ELEMENTOS PASIVOS DEL SISTEMA
A28: 23 | B28: POSTES TIPO 1 E INSTALACIÓN | C28: 37 | D28: =ROUND((I28*5.2%)+I28,0) -> 7808273 | E28: =+C28*D28 -> 288906101 | I28: 7422313
A29: 24 | B29: GABINETES DE POSTE/FACHADA | C29: 32 | D29: =ROUND((I29*5.2%)+I29,0) -> 5835541 | E29: =+C29*D29 -> 186737312 | I29: 5547092
A30: 25 | B30: CORONAS ANTI-ESCALATORIAS | C30: 32 | D30: =ROUND((I30*5.2%)+I30,0) -> 633135 | E30: =+C30*D30 -> 20260320 | I30: 601839
A31: 26 | B31: BRAZOS DE SOPORTE PARA CÁMARAS | C31: 47 | D31: =ROUND((I31*5.2%)+I31,0) -> 754339 | E31: =+C31*D31 -> 35453933 | I31: 717052
A32: 27 | B32: PUNTOS DE CABLEADO ESTRUCTURADO | C32: 10 | D32: =ROUND((I32*5.2%)+I32,0) -> 1972913 | E32: =+C32*D32 -> 19729130 | I32: 1875393
A33: 28 | B33: PUNTOS DE ENERGÍA ELÉCTRICA NORMAL | C33: 10 | D33: =ROUND((I33*5.2%)+I33,0) -> 1770893 | E33: =+C33*D33 -> 17708930 | I33: 1683358
A34: 29 | B34: SISTEMAS DE PUESTA A TIERRA (Puntos de cámara y sala de control y nodo) TIPO 1 | C34: 32 | D34: =ROUND((I34*5.2%)+I34,0) -> 5928156 | E34: =+C34*D34 -> 189700992 | I34: 5635129
A35: 30 | B35: MÓDULOS - PUESTOS DE TRABAJO | C35: 5 | D35: =ROUND((I35*5.2%)+I35,0) -> 8147857 | E35: =+C35*D35 -> 40739285 | I35: 7745111
A36: 31 | B36: SISTEMA DE DETECCIÓN DE INCENDIOS, ESTACIÓN MANUAL, EXTINTOR, LUZ ESTROBOSCÓPICA Y CONTROL DE ACCESO | C36: 1 | D36: =ROUND((I36*5.2%)+I36,0) -> 44426309 | E36: =+C36*D36 -> 44426309 | I36: 42230332
A37: 32 | B37: CONTROL DE ACCESO FACIAL A LA SALA DE CONTROL | C37: 1 | D37: =ROUND((I37*5.2%)+I37,0) -> 26522379 | E37: =+C37*D37 -> 26522379 | I37: 25211387
B38: OBRA CIVILES
A39: 33 | B39: SISTEMA DE APERTURA | C39: 1 | D39: =ROUND((I39*5.2%)+I39,0) -> 8137283 | E39: =+C39*D39 -> 8137283 | I39: 7735060
A40: 34 | B40: KIT SEGURIDAD CAI's Y/O ESTACIONES DE POLICÍA | C40: 1 | D40: =ROUND((I40*5.2%)+I40,0) -> 52118279 | E40: =+C40*D40 -> 52118279 | I40: 49542090
A41: 35 | B41: ADAPTACIÓN CENTRO DE MONITOREO Y CUARTO DE EQUIPOS | C41: 1 | D41: =ROUND((I41*5.2%)+I41,0) -> 210400000 | E41: =+C41*D41 -> 210400000 | I41: 200000000
A42: 36 | B42: ALIMENTACIÓN Y DISTRIBUCIÓN ELÉCTRICA CENTRO DE CONTROL | C42: 1 | D42: =ROUND((I42*5.2%)+I42,0) -> 22859602 | E42: =+C42*D42 -> 22859602 | I42: 21729660
A43: 37 | B43: CANALIZACIÓN ELÉCTRICA DE CÁMARAS Y NODOS | C43: 32 | D43: =ROUND((I43*5.2%)+I43,0) -> 6341297 | E43: =+C43*D43 -> 202921504 | I43: 6027849
C44: Valor total de implementación | E44: =SUM(E4:E43) -> 16180234996
A47: Ítem | B47: Descripción | C47: Valor
A48: 1 | B48: Estudios y diseños | C48: ='VALOR PROYECTO'!D7 -> 120585486
A49: 2 | B49: Interventoría estudios y diseños | C49: ='VALOR PROYECTO'!D8 -> 95458661
A50: 3 | B50: Implementación | C50: ='VALOR PROYECTO'!D9 -> 16180234996
A51: 4 | B51: Interventoría implementación | C51: ='VALOR PROYECTO'!D10 -> 385245556
A52: Valor total del proyecto | C52: =SUM(C48:C51) -> 16781524699
B57: TOTAL | C57: =C52 -> 16781524699
B58: APORTE GOBERNACION | C58: =C57*25% -> 4.1953812e+09
B59: APORTE MINISTERIO | C59: =C57-C58 -> 1.2586144e+10

Sheet VALOR ELECTRICO
B3: 3. Acometida electrica
B4: Item | C4: Descripción | D4: Cantidad | E4: Valor unitario | F4: Subtotal
B5: 1 | C5: Acometida eléctrica para la conexión de UPS planta eléctrica | D5: 1 | E5: 7200000 | F5: =E5*D5 -> 7200000
B15: Subtotal | F15: =SUM(F5:F14) -> 7200000
B16: Administracion (A)
B17: Imprevistos (I)
B18: Utilidad (U)
B19: Iva
B20: Valor total Acometida eléctrica | F20: =SUM(F15:F19) -> 7200000

Sheet VALOR OBRA CIVIL
B3: 1. Obra civil
B4: Item | C4: Descripción | D4: Cantidad | E4: Valor unitario | F4: Subtotal
B5: 1 | C5: Adecuación de la sala SIES | D5: 1 | E5: 5000000 | F5: =E5*D5 -> 5000000
E11: |
B22: Subtotal | F22: =SUM(F5:F21) -> 5000000
B23: Administracion (A)
B24: Imprevistos (I)
B25: Utilidad (U)
B26: Iva
B27: Valor total obra civil | F27: =SUM(F22:F26) -> 5000000

Sheet ML FIBRA
D3: 2. Relación Fibra
D4: Tramo | E4: Punto inicial | F4: Punto final | G4: Distancia
D5: 1 | G5: 300
D6: 2 | G6: 200
D7: 3 | G7: 10
D8: 4 | G8: 1000
D14: Subtotal | G14: =SUM(G5:G13) -> 1510
D15: Incremento por medicion
D16: Total fibra | G16: =G14+G15 -> 1510

Sheet VALOR PROYECTO
B2: DIGITE EL VALOR OBTENIDO DE IMPLEMENTACION | D2: =IMPLEMENTACIÓN!E44 -> 16180234996
C4: Valores implementación y consultorías | AM4: AÑOS | AO4: 1967 | AP4: 1968 | AQ4: 1969 | AR4: 1970 | AS4: 1971 | AT4: 1972 | AU4: 1973 | AV4: 1974 | AW4: 1975 | AX4: 1976 | AY4: 1977 | AZ4: 1978 | BA4: 1979 | BB4: 1980 | BC4: 1981 | BD4: 1982 | BE4: 1983 | BF4: 1984 | BG4: 1985 | BH4: 1986 | BI4: 1987 | BJ4: 1988 | BK4: 1989 | BL4: 1990 | BM4: 1991 | BN4: 1992 | BO4: 1993 | BP4: 1994 | BQ4: 1995 | BR4: 1996 | BS4: 1997 | BT4: 1998 | BU4: 1999 | BV4: 2000 | BW4: 2001 | BX4: 2002 | BY4: 2003 | BZ4: 2004 | CA4: 2005 | CB4: 2006 | CC4: 2007 | CD4: 2008 | CE4: 2009 | CF4: 2010 | CG4: 2011 | CH4: 2012 | CI4: 2013 | CJ4: 2014 | CK4: 2015 | CL4: 2016 | CM4: 2017 | CN4: 2018 | CO4: Valor Actual | CP4: AREA INTERVENIDA | CQ4: VALOR M2
AM5: IPC | AO5: 0.079 | AP5: 0.0646 | AQ5: 0.089 | AR5: 0.0706 | AS5: 0.1284 | AT5: 0.1353 | AU5: 0.2249 | AV5: 0.25 | AW5: 0.1752 | AX5: 0.256 | AY5: 0.2745 | AZ5: 0.1975 | BA5: 0.2881 | BB5: 0.2596 | BC5: 0.2636 | BD5: 0.2403 | BE5: 0.1662 | BF5: 0.1828 | BG5: 0.2245 | BH5: 0.2095 | BI5: 0.2402 | BJ5: 0.2812 | BK5: 0.2612 | BL5: 0.3236 | BM5: 0.2682 | BN5: 0.2513 | BO5: 0.226 | BP5: 0.2259 | BQ5: 0.1946 | BR5: 0.2163 | BS5: 0.1768 | BT5: 0.167 | BU5: 0.0923 | BV5: 0.0875 | BW5: 0.0765 | BX5: 0.0699 | BY5: 0.0649 | BZ5: 0.055 | CA5: 0.0485 | CB5: 0.0448 | CC5: 0.0569 | CD5: 0.0767 | CE5: 0.02 | CF5: 0.0317 | CG5: 0.0373 | CH5: 0.0244 | CI5: 0.0194 | CJ5: 0.0366 | CK5: 0.0677 | CL5: 0.0575 | CM5: 0.0409 | CN5: 0.0318
B6: Ítem | C6: Descripción | D6: Valor | AL6: VALOR INICIAL | AM6: AÑO CONVENIO
B7: 1 | C7: Estudios y diseños | D7: =+'Calculo consultorías (2)'!D9 -> 120585486 | AJ7: ÁREA DESCUBIERTA | AK7: POLIDEPORTIVO BARRIO FLORESTA | AL7: 248965183 | AM7: 2014 | AO7: =IF($AM$7=AO4,$AL$7,IF(AN7>0,AN7*(1+AN5),0)) -> 0 | AP7: =IF($AM$7=AP4,$AL$7,IF(AO7>0,AO7*(1+AO5),0)) -> 0 | AQ7: =IF($AM$7=AQ4,$AL$7,IF(AP7>0,AP7*(1+AP5),0)) -> 0 | AR7: =IF($AM$7=AR4,$AL$7,IF(AQ7>0,AQ7*(1+AQ5),0)) -> 0 | AS7: =IF($AM$7=AS4,$AL$7,IF(AR7>0,AR7*(1+AR5),0)) -> 0 | AT7: =IF($AM$7=AT4,$AL$7,IF(AS7>0,AS7*(1+AS5),0)) -> 0 | AU7: =IF($AM$7=AU4,$AL$7,IF(AT7>0,AT7*(1+AT5),0)) -> 0 | AV7: =IF($AM$7=AV4,$AL$7,IF(AU7>0,AU7*(1+AU5),0)) -> 0 | ... CO7: =IF($AM$7=CO4,$AL$7,IF(CN7>0,CN7*(1+CN5),0)) -> 3.129565e+08 | CP7: 756 | CQ7: =+ROUND((CO7/CP7),0) -> 413964
B8: 2 | C8: Interventoría estudios y diseños | D8: =+'Calculo consultorías (2)'!D10 -> 95458661 | AK8: DESARROLLO INFANTIUL CDI | AL8: 83107075 | AM8: 2015 | AO8: =IF($AM$8=AO4,$AL$8,IF(AN8>0,AN8*(1+AN5),0)) -> 0 | AP8: =IF($AM$8=AP4,$AL$8,IF(AO8>0,AO8*(1+AO5),0)) -> 0 | AQ8: =IF($AM$8=AQ4,$AL$8,IF(AP8>0,AP8*(1+AP5),0)) -> 0 | AR8: =IF($AM$8=AR4,$AL$8,IF(AQ8>0,AQ8*(1+AQ5),0)) -> 0 | AS8: =IF($AM$8=AS4,$AL$8,IF(AR8>0,AR8*(1+AR5),0)) -> 0 | AT8: =IF($AM$8=AT4,$AL$8,IF(AS8>0,AS8*(1+AS5),0)) -> 0 | AU8: =IF($AM$8=AU4,$AL$8,IF(AT8>0,AT8*(1+AT5),0)) -> 0 | AV8: =IF($AM$8=AV4,$AL$8,IF(AU8>0,AU8*(1+AU5),0)) -> 0 | ... CO8: =IF($AM$8=CO4,$AL$8,IF(CN8>0,CN8*(1+CN5),0)) -> 1.0077949e+08 | CP8: 201.5 | CQ8: =+ROUND((CO8/CP8),0) -> 500146
B9: 3 | C9: Implementación | D9: =+'Calculo consultorías (2)'!D11 -> 16180234996 | AK9: POLIDEPORTIVO VEREDA BUENOS AIRES | AL9: 516111542 | AM9: 2015 | AO9: =IF($AM$9=AO4,$AL$9,IF(AN9>0,AN9*(1+AN5),0)) -> 0 | AP9: =IF($AM$9=AP4,$AL$9,IF(AO9>0,AO9*(1+AO5),0)) -> 0 | AQ9: =IF($AM$9=AQ4,$AL$9,IF(AP9>0,AP9*(1+AP5),0)) -> 0 | AR9: =IF($AM$9=AR4,$AL$9,IF(AQ9>0,AQ9*(1+AQ5),0)) -> 0 | AS9: =IF($AM$9=AS4,$AL$9,IF(AR9>0,AR9*(1+AR5),0)) -> 0 | AT9: =IF($AM$9=AT4,$AL$9,IF(AS9>0,AS9*(1+AS5),0)) -> 0 | AU9: =IF($AM$9=AU4,$AL$9,IF(AT9>0,AT9*(1+AT5),0)) -> 0 | AV9: =IF($AM$9=AV4,$AL$9,IF(AU9>0,AU9*(1+AU5),0)) -> 0 | ... CO9: =IF($AM$9=CO4,$AL$9,IF(CN9>0,CN9*(1+CN5),0)) -> 6.2586076e+08 | CP9: 1256.53 | CQ9: =+ROUND((CO9/CP9),0) -> 498087
B10: 4 | C10: Interventoría implementación | D10: =+'Calculo consultorías (2)'!D12 -> 385245556 | AJ10: ÁREA INTERVANIDA | AK10: VALOR CONSTRUCCIÓN M2
B11: Valor total del proyecto | D11: =+'Calculo consultorías (2)'!D13 -> 16781524699
C13: Cronograma implementación y consultorías
B15: Ítem | C15: Descripción | D15: meses
B16: 1 | C16: Estudios y diseños | D16: =+'Calculo consultorías (2)'!D18 -> 2
B17: 2 | C17: Interventoría estudios y diseños | D17: =+'Calculo consultorías (2)'!D19 -> 2 | CL17: 903 | CM17: =+#REF! -> #REF! | CN17: =+CL17*CM17 -> #REF!
B18: 3 | C18: Implementación | D18: =+'Calculo consultorías (2)'!D20 -> 7 | CL18: 70 | CM18: =+#REF! -> #REF! | CN18: =+CL18*CM18 -> #REF!
B19: 4 | C19: Interventoría implementación | D19: =+'Calculo consultorías (2)'!D21 -> 7 | CN19: =+CN18+CN17 -> #REF!
B20: Tiempo total del proyecto | D20: =+'Calculo consultorías (2)'!D22 -> 9
CN21: 145500000
CN22: 58200000 | CO22: 0.07
CN23: =+CN19*CO22 -> #REF!
CN24: =+CN23+CN22+CN21+CN19 -> #REF! | CO24: 0.15
CN25: =+CN24*CO24 -> #REF!
CL31: =902.72+71.28 -> 974 | CM31: =451.36+35.64 -> 487
CL32: =903+70 -> 973
BH45: 2005
BH46: 4.85
BH47: 2006
BH48: 4.48
BH49: 2007
BH50: 5.69
BH51: 2008
BH52: 7.67
BH53: 2009
BH54: 2
BH55: 2010
BH56: 3.17
... BH72: 3.18

Sheet Calculo consultorías (2)
L1: CONDICIONES ESTUDIOS Y DISEÑOS
L2: Rango de 0-50 camaras | P2: Rango de 51-150 camaras | T2: Rango de 151-300 camaras
B3: DIGITE EL VALOR OBTENIDO DE IMPLEMENTACION | D3: =+'VALOR PROYECTO'!D2 -> 16180234996 | L3: Valor inicial | M3: Valor 1 | N3: PENDIENTE | O3: Valor 2 | P3: Valor inicial | Q3: Valor 1 | R3: PENDIENTE | S3: Valor 2 | T3: Valor inicial | U3: Valor 1 | V3: PENDIENTE | W3: Valor 2
L4: 90172223 | M4: 1900000000 | N4: =+O6 -> 0 | O4: 10000000000 | P4: 90172224 | Q4: 10000000001 | R4: =+S6 -> 0.0049210526 | S4: 25200000000 | T4: 165045765 | U4: 25200000001 | V4: =+W6 -> 0.0053571429 | W4: 50400000000
L5: punto final | M5: punto inicial | N5: pf-pi | O5: Pendiente | P5: punto final | Q5: punto inicial | R5: pf-pi | S5: Pendiente | T5: punto final | U5: punto inicial | V5: pf-pi | W5: Pendiente | BK5: AÑOS | BM5: 1967 | BN5: 1968 | BO5: 1969 | BP5: 1970 | BQ5: 1971 | BR5: 1972 | BS5: 1973 | BT5: 1974 | BU5: 1975 | BV5: 1976 | BW5: 1977 | BX5: 1978 | BY5: 1979 | BZ5: 1980 | CA5: 1981 | CB5: 1982 | CC5: 1983 | CD5: 1984 | CE5: 1985 | CF5: 1986 | CG5: 1987 | CH5: 1988 | CI5: 1989 | CJ5: 1990 | CK5: 1991 | CL5: 1992 | CM5: 1993 | CN5: 1994 | CO5: 1995 | CP5: 1996 | CQ5: 1997 | CR5: 1998 | CS5: 1999 | CT5: 2000 | CU5: 2001 | CV5: 2002 | CW5: 2003 | CX5: 2004 | CY5: 2005 | CZ5: 2006 | DA5: 2007 | DB5: 2008 | DC5: 2009 | DD5: 2010 | DE5: 2011 | DF5: 2012 | DG5: 2013 | DH5: 2014 | DI5: 2015 | DJ5: 2016 | DK5: 2017 | DL5: 2018 | DM5: Valor Actual | DN5: AREA INTERVENIDA | DO5: VALOR M2
C6: Valores implementación y consultorías | L6: 90.2 | M6: 90.2 | N6: =+L6-M6 -> 0 | O6: =+N6/N7 -> 0 | P6: 165 | Q6: 90.2 | R6: =+P6-Q6 -> 74.8 | S6: =+R6/R7 -> 0.0049210526 | T6: 300 | U6: 165 | V6: =+T6-U6 -> 135 | W6: =+V6/V7 -> 0.0053571429 | BK6: IPC | BM6: 0.079 | BN6: 0.0646 | BO6: 0.089 | BP6: 0.0706 | BQ6: 0.1284 | BR6: 0.1353 | BS6: 0.2249 | BT6: 0.25 | BU6: 0.1752 | BV6: 0.256 | BW6: 0.2745 | BX6: 0.1975 | BY6: 0.2881 | BZ6: 0.2596 | CA6: 0.2636 | CB6: 0.2403 | CC6: 0.1662 | CD6: 0.1828 | CE6: 0.2245 | CF6: 0.2095 | CG6: 0.2402 | CH6: 0.2812 | CI6: 0.2612 | CJ6: 0.3236 | CK6: 0.2682 | CL6: 0.2513 | CM6: 0.226 | CN6: 0.2259 | CO6: 0.1946 | CP6: 0.2163 | CQ6: 0.1768 | CR6: 0.167 | CS6: 0.0923 | CT6: 0.0875 | CU6: 0.0765 | CV6: 0.0699 | CW6: 0.0649 | CX6: 0.055 | CY6: 0.0485 | CZ6: 0.0448 | DA6: 0.0569 | DB6: 0.0767 | DC6: 0.02 | DD6: 0.0317 | DE6: 0.0373 | DF6: 0.0244 | DG6: 0.0194 | DH6: 0.0366 | DI6: 0.0677 | DJ6: 0.0575 | DK6: 0.0409 | DL6: 0.0318
L7: 10000 | M7: 1900 | N7: =+L7-M7 -> 8100 | P7: 25200 | Q7: 10000 | R7: =+P7-Q7 -> 15200 | T7: =+W4/1000000 -> 50400 | U7: 25200 | V7: =+T7-U7 -> 25200 | BJ7: VALOR INICIAL | BK7: AÑO CONVENIO
B8: Ítem | C8: Descripción | D8: Valor | J8: =+L4+(($D$3-M4)*N4) -> 90172223 | BH8: ÁREA DESCUBIERTA | BI8: POLIDEPORTIVO BARRIO FLORESTA | BJ8: 248965183 | BK8: 2014 | BM8: =IF($BK$8=BM5,$BJ$8,IF(BL8>0,BL8*(1+BL6),0)) -> 0 | BN8: =IF($BK$8=BN5,$BJ$8,IF(BM8>0,BM8*(1+BM6),0)) -> 0 | BO8: =IF($BK$8=BO5,$BJ$8,IF(BN8>0,BN8*(1+BN6),0)) -> 0 | BP8: =IF($BK$8=BP5,$BJ$8,IF(BO8>0,BO8*(1+BO6),0)) -> 0 | BQ8: =IF($BK$8=BQ5,$BJ$8,IF(BP8>0,BP8*(1+BP6),0)) -> 0 | BR8: =IF($BK$8=BR5,$BJ$8,IF(BQ8>0,BQ8*(1+BQ6),0)) -> 0 | BS8: =IF($BK$8=BS5,$BJ$8,IF(BR8>0,BR8*(1+BR6),0)) -> 0 | BT8: =IF($BK$8=BT5,$BJ$8,IF(BS8>0,BS8*(1+BS6),0)) -> 0 | ... DM8: =IF($BK$8=DM5,$BJ$8,IF(DL8>0,DL8*(1+DL6),0)) -> 3.129565e+08 | DN8: 756 | DO8: =+ROUND((DM8/DN8),0) -> 413964
B9: 1 | C9: Estudios y diseños | D9: =+H9 -> 120585486 | H9: =+ROUND(J9,0) -> 120585486 | I9: Estudios y diseño | J9: =+IF($D$3=0,0,IF(AND($D$3>=600000000,$D$3<=M4),(L4),IF(AND($D$3>M4,$D$3<=O4),(L4+(($D$3-M4)*N4)),IF(AND($D$3>Q4,$D$3<=S4),(P4+R4*($D$3-Q4)),IF(AND($D$3>U4,$D$3<=W4),(T4+V4*($D$3-U4)),IF($D$3>W4,416576064,0)))))) -> 1.2058549e+08 | L9: CONDICIONES INTERVENTORIA ESTUDIOS Y DISEÑOS | BI9: DESARROLLO INFANTIUL CDI | BJ9: 83107075 | BK9: 2015 | BM9: =IF($BK$9=BM5,$BJ$9,IF(BL9>0,BL9*(1+BL6),0)) -> 0 | BN9: =IF($BK$9=BN5,$BJ$9,IF(BM9>0,BM9*(1+BM6),0)) -> 0 | BO9: =IF($BK$9=BO5,$BJ$9,IF(BN9>0,BN9*(1+BN6),0)) -> 0 | BP9: =IF($BK$9=BP5,$BJ$9,IF(BO9>0,BO9*(1+BO6),0)) -> 0 | BQ9: =IF($BK$9=BQ5,$BJ$9,IF(BP9>0,BP9*(1+BP6),0)) -> 0 | BR9: =IF($BK$9=BR5,$BJ$9,IF(BQ9>0,BQ9*(1+BQ6),0)) -> 0 | BS9: =IF($BK$9=BS5,$BJ$9,IF(BR9>0,BR9*(1+BR6),0)) -> 0 | BT9: =IF($BK$9=BT5,$BJ$9,IF(BS9>0,BS9*(1+BS6),0)) -> 0 | ... DM9: =IF($BK$9=DM5,$BJ$9,IF(DL9>0,DL9*(1+DL6),0)) -> 1.0077949e+08 | DN9: 201.5 | DO9: =+ROUND((DM9/DN9),0) -> 500146
B10: 2 | C10: Interventoría estudios y diseños | D10: =+H10 -> 95458661 | H10: =+ROUND(J10,0) -> 95458661 | I10: Interventoria estudios y diseños | J10: =+IF($D$3=0,0,IF(AND($D$3>=600000000,$D$3<=M12),(L12),IF(AND($D$3>M12,$D$3<=O12),(L12+(($D$3-M12)*N12)),IF(AND($D$3>Q12,$D$3<=S12),(P12+R12*($D$3-Q12)),IF(AND($D$3>U12,$D$3<=W12),(T12+V12*($D$3-U12)),IF($D$3>W12,305522687,0)))))) -> 95458661 | L10: Rango de 0-50 camaras | P10: Rango de 51-150 camaras | T10: Rango de 151-300 camaras | BI10: POLIDEPORTIVO VEREDA BUENOS AIRES | BJ10: 516111542 | BK10: 2015 | BM10: =IF($BK$10=BM5,$BJ$10,IF(BL10>0,BL10*(1+BL6),0)) -> 0 | BN10: =IF($BK$10=BN5,$BJ$10,IF(BM10>0,BM10*(1+BM6),0)) -> 0 | BO10: =IF($BK$10=BO5,$BJ$10,IF(BN10>0,BN10*(1+BN6),0)) -> 0 | BP10: =IF($BK$10=BP5,$BJ$10,IF(BO10>0,BO10*(1+BO6),0)) -> 0 | BQ10: =IF($BK$10=BQ5,$BJ$10,IF(BP10>0,BP10*(1+BP6),0)) -> 0 | BR10: =IF($BK$10=BR5,$BJ$10,IF(BQ10>0,BQ10*(1+BQ6),0)) -> 0 | BS10: =IF($BK$10=BS5,$BJ$10,IF(BR10>0,BR10*(1+BR6),0)) -> 0 | BT10: =IF($BK$10=BT5,$BJ$10,IF(BS10>0,BS10*(1+BS6),0)) -> 0 | ... DM10: =IF($BK$10=DM5,$BJ$10,IF(DL10>0,DL10*(1+DL6),0)) -> 6.2586076e+08 | DN10: 1256.53 | DO10: =+ROUND((DM10/DN10),0) -> 498087
B11: 3 | C11: Implementación | D11: =+D3 -> 16180234996 | H11: =+ROUND(J11,0) -> 385245556 | I11: Interventoria implementacion | J11: =IF($D$3=0,0,IF(AND($D$3>=600000000,$D$3<=M20),(L20),IF(AND($D$3>M20,$D$3<=O20),(L20+(($D$3-M20)*N20)),IF(AND($D$3>Q20,$D$3<=S20),(P20+R20*($D$3-Q20)),IF(AND($D$3>U20,$D$3<=W20),(T20+V20*($D$3-U20)),IF($D$3>W20,961932062,0)))))) -> 3.8524556e+08 | L11: Valor inicial | M11: Valor 1 | N11: PENDIENTE | O11: Valor 2 | P11: Valor inicial | Q11: Valor 1 | R11: PENDIENTE | S11: Valor 2 | T11: Valor inicial | U11: Valor 1 | V11: PENDIENTE | W11: Valor 2 | BH11: ÁREA INTERVANIDA | BI11: VALOR CONSTRUCCIÓN M2
B12: 4 | C12: Interventoría implementación | D12: =+H11 -> 385245556 | J12: =P4+R4*($D$3-Q4) -> 1.2058549e+08 | L12: 77243232 | M12: =+M4 -> 1900000000 | N12: =+O14 -> 0 | O12: =+O4 -> 10000000000 | P12: 77243232 | Q12: =+Q4 -> 10000000001 | R12: =+S14 -> 0.0029473684 | S12: =+S4 -> 25200000000 | T12: 122020483 | U12: =+U4 -> 25200000001 | V12: =+W14 -> 0.003015873 | W12: =+W4 -> 50400000000
B13: Valor total del proyecto | D13: =SUM(D9:D12) -> 16781524699 | J13: =P12+R12*($D$3-Q12) -> 95458661 | L13: punto final | M13: punto inicial | N13: pf-pi | O13: Pendiente | P13: punto final | Q13: punto inicial | R13: pf-pi | S13: Pendiente | T13: punto final | U13: punto inicial | V13: pf-pi | W13: Pendiente
I14: cronograma | J14: =(P20+R20*($D$3-Q20)) -> 3.8524556e+08 | L14: 77.2 | M14: 77.2 | N14: =+L14-M14 -> 0 | O14: =+N14/N15 -> 0 | P14: 122 | Q14: =+L14 -> 77.2 | R14: =+P14-Q14 -> 44.8 | S14: =+R14/R15 -> 0.0029473684 | T14: 198 | U14: =+P14 -> 122 | V14: =+T14-U14 -> 76 | W14: =+V14/V15 -> 0.003015873
C15: Cronograma implementación y consultorías | H15: =+J15 -> 2 | I15: Estudios y diseños e interventoria | J15: =+IF($D$3=0,0,IF(AND($D$3>=599999999,$D$3<=M20),(1.5),IF(AND($D$3>M20,$D$3<=O20),(1.5),IF(AND($D$3>Q20,$D$3<=S20),(2),IF(AND($D$3>U20,$D$3<=W20),(2.5),IF($D$3>W20,3,0)))))) -> 2 | L15: 10000 | M15: =+M7 -> 1900 | N15: =+L15-M15 -> 8100 | P15: 25200 | Q15: =+L15 -> 10000 | R15: =+P15-Q15 -> 15200 | T15: =W12/1000000 -> 50400 | U15: 25200 | V15: =+T15-U15 -> 25200
H16: =+J16 -> 7 | I16: Implementacion e interventoria | J16: =IF($D$3=0,0,IF(AND($D$3>=599999999,$D$3<=M20),(6),IF(AND($D$3>M20,$D$3<=O20),(6),IF(AND($D$3>Q20,$D$3<=S20),(7),IF(AND($D$3>U20,$D$3<=W20),(8),IF($D$3>W20,9,0)))))) -> 7
B17: Ítem | C17: Descripción | D17: meses | L17: CONDICIONES INTERVENTORIA IMPLEMENTACION
B18: 1 | C18: Estudios y diseños | D18: =+H15 -> 2 | L18: Rango de 0-50 camaras | P18: Rango de 51-150 camaras | T18: Rango de 151-300 camaras | DJ18: 903 | DK18: =+#REF! -> #REF! | DL18: =+DJ18*DK18 -> #REF!
B19: 2 | C19: Interventoría estudios y diseños | D19: =+H15 -> 2 | L19: Valor inicial | M19: Valor 1 | N19: PENDIENTE | O19: Valor 2 | P19: Valor inicial | Q19: Valor 1 | R19: PENDIENTE | S19: Valor 2 | T19: Valor inicial | U19: Valor 1 | V19: PENDIENTE | W19: Valor 2 | DJ19: 70 | DK19: =+#REF! -> #REF! | DL19: =+DJ19*DK19 -> #REF!
B20: 3 | C20: Implementación | D20: =+H16 -> 7 | L20: 333770704 | M20: =+M12 -> 1900000000 | N20: =+O22 -> 0 | O20: =+O12 -> 10000000000 | P20: 333770704 | Q20: =+Q12 -> 10000000001 | R20: =+S22 -> 0.0083289474 | S20: =+S12 -> 25200000000 | T20: 460376812 | U20: =+U12 -> 25200000001 | V20: =+W22 -> 0.0062261905 | W20: =+W12 -> 50400000000 | DL20: =+DL19+DL18 -> #REF!
B21: 4 | C21: Interventoría implementación | D21: =+H16 -> 7 | L21: punto final | M21: punto inicial | N21: pf-pi | O21: Pendiente | P21: punto final | Q21: punto inicial | R21: pf-pi | S21: Pendiente | T21: punto final | U21: punto inicial | V21: pf-pi | W21: Pendiente
B22: Tiempo total del proyecto | D22: =+D19+D20 -> 9 | L22: 333.7 | M22: 333.7 | N22: =+L22-M22 -> 0 | O22: =+N22/N23 -> 0 | P22: 460.3 | Q22: 333.7 | R22: =+P22-Q22 -> 126.6 | S22: =+R22/R23 -> 0.0083289474 | T22: 617.2 | U22: =+P22 -> 460.3 | V22: =+T22-U22 -> 156.9 | W22: =+V22/V23 -> 0.0062261905 | DL22: 145500000
L23: 10000 | M23: =+M15 -> 1900 | N23: =+L23-M23 -> 8100 | P23: 25200 | Q23: =+L23 -> 10000 | R23: =+P23-Q23 -> 15200 | T23: =W20/1000000 -> 50400 | U23: 25200 | V23: =+T23-U23 -> 25200 | DL23: 58200000 | DM23: 0.07
DL24: =+DL20*DM23 -> #REF!
DL25: =+DL24+DL23+DL22+DL20 -> #REF! | DM25: 0.15
DL26: =+DL25*DM25 -> #REF!
DJ32: =902.72+71.28 -> 974 | DK32: =451.36+35.64 -> 487
DJ33: =903+70 -> 973
CF46: 2005
CF47: 4.85
CF48: 2006
CF49: 4.48
CF50: 2007
CF51: 5.69
CF52: 2008
CF53: 7.67
CF54: 2009
CF55: 2
CF56: 2010
CF57: 3.17
... CF73: 3.18
