Workbook

Sheet TABLAS DE PONDERACION 
A1: CLASIFICACIÓN Y DESCRIPCION DE NIVEL DE DAÑO
A2: CATEGORIA DEL DAÑO | B2: DAÑO LEVE | C2: DAÑO MODERADO | D2: DAÑO EXTREMO
A3: Salud | B3: Molestias e irritación ejemplo: (dolor de cabeza, enfermedad temporal que produce malestar) | C3: Enfermedad que causan incapacidad temporal. Ejemplo: pérdida parcial de la audición, dermatitis, asma, desordenes de las extremidades superiores | D3: Enfermedades agudas o crónicas, que generan incapacidad, permanente parcial invalidez o muerte.
A4: Seguridad | B4: Lesiones superficiales, heridas de poca profundidad, contusiones, irritación de ojo por material particulado. | C4: Laceraciones, heridas profundas, quemaduras a primer grado; conmoción cerebral, desguinces graves, fracturas de hueso cortos | D4: Lesiones que generan amputaciones, fracturas de huesos largos, trauma cráneo encefálico, quemaduras de segunda y tercer grado, alteraciones severas de mano, de la columna vertebral con compromiso de la medula espinal, oculares que comprometan el campo visual, disminuyan la capacidad auditiva.
A6: DERTERMINACIÒN DEL NIVEL DE DEFICIENCIA
A7: Nivel de Deficiencia | B7: Valor de ND | C7: Significado
A8: Muy Alto | B8: 10 | C8: Se han detectado peligros que determinan como posible la generación de incidentes o consecuencias muy significativas, o a la eficacia
A9: Alto | B9: 6 | C9: Se han detectado algunos peligros que pueden dar a consecuencias significativas, o las eficacias del conjunto, de medidas preventivas existentes es bajas o ambos.
A10: Medio | B10: 2 | C10: Se han detectado peligros que puedan dar lugar a consecuencias poco significativas o de menor importancia, o a la eficacia del producto de medidas preventivas existentes es moderada, o ambos.
A11: Bajo | B11: No se le asigna valor | C11: No se ha detectado consecuencia alguna, o a la eficacia del conjunto de medidas preventivas existentes es alta, o ambos. El riesgo es controlado.
C12: Estos peligros se clasifican directamente al nivel de riesgo y de intervención.
A14: DETERMINACION DEL NIVEL DE EXPOSICIÓN
A15: Nivel de Exposición | B15: Valor de NE | C15: Significado
A16: Continua | B16: 4 | C16: La situación de exposición se presenta sin interrupción o varias veces con tiempo prolongado durante la jornada laboral.
A17: Frecuente | B17: 3 | C17: La situación de exposición se presenta varias veces durante la jornada laboral por tiempos cortos.
A18: Ocasional | B18: 2 | C18: La situación de exposición se presenta alguna vez durante la jornada laboral y un periodo de tiempo corto.
A19: Esporádica | B19: 1 | C19: La situación de exposición se presenta de manera eventual.
A21: DETERMINACIÓN DEL NIVEL DE PROBABILIDAD
A22: Niveles de Probabilidad | C22: Nivel de Exposición (NE)
C23: 4 | D23: 3 | E23: 2 | F23: 1
A24: Nivel de deficiencia | B24: 10 | C24: MA-40 | D24: MA-30 | E24: A-20 | F24: A-10
B25: 6 | C25: MA-24 | D25: A-18 | E25: A-12 | F25: M-6
B26: 2 | C26: M-8 | D26: M-6 | E26: B-4 | F26: B-2
A29: SIGNIFICADO DE LOS DIFERENTES NIVELES DE PROBABILIDAD
A30: Nivel de Probabilidad | B30: Valor de NP | C30: Significado
A31: Muy Alto | B31: Entre 40 y 24 | C31: Situación deficiente con exposición continua, o muy deficiente con exposición frecuente.
C32: Normalmente la materialización del riesgo ocurre con frecuencia.
A33: Alto | B33: Entre 20 y 10 | C33: Situación deficiente con exposición frecuente u ocasional, o bien situación muy deficiente con exposición ocasional o esporádica.
C34: La materialización del riesgo es posible que suceda varias veces en la vida laboral.
A35: Medio | B35: Entre 8 y 6 | C35: Situación deficiente con exposición esporádica, o bien situación mejorable con exposición continúa o frecuente.
C36: Es posible que suceda el daño alguna vez.
A37: Bajo | B37: Entre 4 y 2 | C37: Situación mejorable con exposición ocasional o esporádica o sin anomalía destacable con cualquier nivel de exposición.
C38: No es esperable que se materialice el riesgo, aunque puede ser concebible.
A40: DETERMINACIÓN DE NIVEL DE CONSECUENCIAS
A41: Nivel de Consecuencias | B41: Valor de NC | C41: Significado
C42: Daños Personales
A43: Mortal o Catastrófico | B43: 100 | C43: Muertes
A44: Muy Grave | B44: 60 | C44: Lesiones o enfermedades graves o irreparables (incapacidad permanente parcial o invalidez).
A45: Grave | B45: 25 | C45: Lesiones o enfermedades con incapacidad laboral temporal (ILT)
A46: Leve | B46: 10 | C46: Lesiones o enfermedades que no requieren incapacidad.
...

Sheet CONTROL DE CAMBIOS
A1: SISTEMA DE GESTION DE SEGURIDAD Y SALUD EN EL TRABAJO MATRIZ DE PELIGROS - REGISTRO DE CONTROL DE CAMBIOS
A2: Id. Cambio | B2: Fecha de Cambio | C2: Descripción del cambio | D2: Motivación del Cambio | E2: Responsable del Cambio | F2: Observaciones
A3: Creación | B3: 44761 | C3: Creacion de matriz de peligro | D3: Dar cumplimiento a la normativa | E3: SST
A4: Nueva Definición | B4: 45477 | C4: Se incluye el riesgo público, se incluye en el riesgo de fenomenos naturales el riesgo de innundación e incendios | D4: Actualización | E4: SST
A5: Nueva Definición | B5: 45806 | C5: Se incluye en el riesgo biologico la fiebre amarilla y se incluye dentro de los procesos "administrativos" | D5: Actualización | E5: SST
B119: Tipos de Cambio | E119: Incidencia en:
B120: Modificación | E120: Dic.Datos
B121: Creación | E121: LB Presentación
B122: Eliminación | E122: LB Cálculo
B123: Cambio de denominación | E123: LB Etiquetas
B124: Corrección | E124: LB Referencia
B125: Nueva Definición | E125: LB Definición
E126: LB Genérica (Form, Dim)
E127: Schema de Tipos
E128: Schema de Dimensiones
E129: Roles Extendidos
E130: Nombres de ficheros
E131: Documentación anexa
E132: Definición de contextos
E133: Informe XBRL
E134: Otros

Sheet MATRIZ DE PELIGROS
F1: MATRIZ DE IDENTIFICACION DE PELIGROS VALORACION Y CONTROLES | AH1: Codigo: FO-GC-26 | AK1: Versión 1.0 31 ENERO 2018 | AM1: Revisión
AH2: Version: 3
AH3: Fecha: 07/04/20
E4: CONTRALORIA GENERAL DEL DEPARTAMENTO DEL QUINDÍO | J4: RESPONSABLE: | M4: CAROLINA RODRIGUEZ LONDOÑO | S4: FECHA ACTUALIZACION: 02/07/2026 | AH4: V. 1 17/05/2022
E5: ACTIVIDAD | F5: 5. Peligro | J5: 6. Efectos Posibles | L5: 7. Controles existentes | O5: 8. Evaluación del Riesgo Inherente | Z5: 9 Valoración del riesgo | AA5: 10. Criterios para establecer controles | AF5: 11. Medidas de intervención | AK5: 12.Plan de acción | AN5: 13. Evaluación del Riesgo Residual | AY5: 14 Valoración del riesgo Residual
A6: 1. CARGOS | B6: 2. ÁREA | C6: 3. ZONA / LUGAR | D6: 4. DESCRIPCION DE LA(S) ACTIVIDAD(ES) | E6: 4.1. Tipo de Actividad Rutinaria | F6: 5.a. Clasificación | G6: 5. b. subclasificación | H6: 5.b. Descripción | I6: Se han generado AT/EL? | J6: 6.a. Clase | K6: 6.b. Descripción | L6: 7.a. Fuente | M6: 7.b. Medio | N6: 7.c. Individuo | O6: 8.a. Nivel de deficiencia ND | P6: 8.b. Nivel de deficiencia ND Valor | Q6: 8.c. Nivel de Exposición NE | R6: 8.d. Nivel de Exposición NE Valor | S6: 8.e.Nivel de probabilidad (ND X NE) | T6: 8.f. Interpretación del nivel de probabilidad | U6: 8.g. Nivel de consecuencia | V6: 8.h. Nivel de consecuencia Valor | W6: 8.i. Nivel de riesgo (NR=NPXNC) | X6: 8.j. Interpretación del NR | Y6: 8.i. Nivel de Riesgo. | Z6: Aceptabilidad del riesgo | AA6: 10.a. No. Expuestos Trabajadores Directos | AB6: 10.b. No. Expuestos Contratistas | AC6: 10.c. No. Expuestos Visitantes | AD6: 10.d. Peor consecuencia | AE6: 10.e. Existencia de requisito legal aplicable Relacione | AF6: 11.a. Eliminación | AG6: 11.b. Sustitución | AH6: 11.c. Controles de ingeniería | AI6: 11.d. controles administrativos Señalización / advertencia / | AJ6: 11.e. Equipo de protección personal | AK6: 12.a. Responsable | AM6: 12.b. Fecha de Verificación de Plan de Acción | AN6: 13.a. Nivel de deficiencia ND | AO6: 13.b. Nivel de deficiencia ND Valor | AP6: 13.c. Nivel de Exposición NE | AQ6: 13.d. Nivel de Exposición NE Valor | AR6: 13.e.Nivel de probabilidad (ND X NE) | AS6: 13.f. Interpretación del nivel de probabilidad | AT6: 13.g. Nivel de consecuencia | AU6: 14.h. Nivel de consecuencia Valor | AV6: 13.i. Nivel de riesgo (NR=NPXNC) | AW6: 13.j. Interpretación del NR | AX6: 13.i. Nivel de Riesgo. | AY6: Aceptabilidad del riesgo Residual | BM6: PELIGRO
A7: SERVICIOS GENERALES | B7: OFICINAS COCINETA SALA DE JUNTAS AUDITORIO,BAÑOS | C7: TODAS LAS AREAS | D7: LIMPIEZA Y DESINFECCION DE AREAS COMUNES OFICINAS Y AREAS PRINCIPALES DEL AREA | E7: SI | F7: QUIMICO | H7: MANIPULACION DE HIPOCLORITO, AMBIENTADOR, LIMPIAVIDRIOS, JABONES ETC | I7: NO | J7: Salud- Daño Moderado | K7: SALPICADURAS, ALERGIAS, MAREO, NAUSEAS, ENROJECIMIENTO DE PIEL Y OJOS ETC | L7: PRODUCTOS EN ENVASE ORIGINAL DEBIDAMENTE ROTULADOS | M7: FICHA TECNICA DEL PRODUCTO | N7: USO DE EPP: Guantes, Tapabocas | O7: MEDIO | P7: =IF(O7="","",IF(O7="BAJO",0,IF(O7="MEDIO",2,IF(O7="ALTO",6,IF(O7="MUY ALTO",10,))))) -> 2 | Q7: FRECUENTE | R7: =IF(Q7="","",IF(Q7="Esporadica",1,IF(Q7="Ocasional",2,IF(Q7="Frecuente",3,IF(Q7="Continua",4,))))) -> 3 | S7: =IF(P7="","",IF(P7=0,0,IF(P7>=1,+P7*R7))) -> 6 | T7: =IF(S7="","",IF(S7<=4,"Bajo",IF(S7<=8,"Medio",IF(S7<=20,"Alto",IF(S7<=40,"Muy Alto"))))) -> Medio | U7: LEVE | V7: =IF(U7="","",IF(U7="Leve",10,IF(U7="Grave",25,IF(U7="Muy Grave",60,IF(U7="Mortal o catastrófico",100,))))) -> 10 | W7: =IF(V7="","",IF(V7=0,"",IF(V7>=1,+V7*S7,))) -> 60 | X7: =IF(W7="","",IF(W7<=20,"Mantener las medidas de control existentes",IF(W7<=120,"Mejorar si es posible justificar la intervención y su rentabilidad.",IF(W7<=500,"Corregir y adoptar medidas de control de inmediato si NR es igual o mayor a 360 debe suspender las actividades",IF(W7<=4000,"Situación crítica Suspender actividades hasta que el riesgo sea controlado",))))) -> Mejorar si es posible justificar la intervención y su rentabilidad. | Y7: =IF(W7="","",IF(W7<=20,"IV",IF(W7<=120,"III",IF(W7<=500,"II",IF(W7<=4000,"I",))))) -> III | Z7: =IF(Y7="","",IF(Y7="I","No Aceptable",IF(Y7="II","Prioritario",IF(Y7="III","Mejorable",IF(Y7="IV","Aceptable",))))) -> Mejorable | AA7: 1 | AD7: INTOXICACION | AE7: SI | AF7: N.A | AG7: N.A | AH7: N.A | AI7: BRINDAR FORMACION AL PERSONAL EXPUESTO EN RIESGO QUIMICO CON ENFOQUE A MANIPULACION DE PRODUCTOS DE ASEO, SOCIALIZAR Y/O RETROALIMENTAR LAS HOJAS DE SEGURIDAD DE LOS PRODUCTOS EXISTENTES | AJ7: REALIZAR REPOSICION CORRESPONDIENTE SEGUN USO O VIDA UTIL DEL ELEMENTO
E8: SI | F8: BIOLOGICO | H8: PROPAGACION DEL VIRUS COVID 19, FIEBRE AMARILLA CON RIESGO DE CONTAGIO POR CONTACTO POR GOTAS, CONTACTO CON SUPERFICIES CONTAMINADAS, POR PICADURA DE INSECTOS. | I8: NO | J8: Salud- Daño Moderado | K8: TOS, MALESTAR, SECRECION NASAL, PROBLEMAS RESIRATORIOS, TOS, MUERTE | L8: N/A | M8: CAPACITACION SOBRE MEDIOS DE PROPAGACION , PREVENCION , LAVADO DE MANOS. | N8: DISTANCIAMIENTO SOCIAL. LAVADO DE MANOS CONSTANTE, USO DE PROTECCION RESPIRATORIA EN CASO DE PRESENTAR SINTOMAS | O8: BAJO | P8: =IF(O8="","",IF(O8="BAJO",0,IF(O8="MEDIO",2,IF(O8="ALTO",6,IF(O8="MUY ALTO",10,))))) -> 0 | Q8: ESPORADICO | R8: =IF(Q8="","",IF(Q8="Esporadica",1,IF(Q8="Ocasional",2,IF(Q8="Frecuente",3,IF(Q8="Continua",4,))))) -> 0 | S8: =IF(P8="","",IF(P8=0,0,IF(P8>=1,+P8*R8))) -> 0 | T8: =IF(S8="","",IF(S8<=4,"Bajo",IF(S8<=8,"Medio",IF(S8<=20,"Alto",IF(S8<=40,"Muy Alto"))))) -> Bajo | U8: LEVE | V8: =IF(U8="","",IF(U8="Leve",10,IF(U8="Grave",25,IF(U8="Muy Grave",60,IF(U8="Mortal o catastrófico",100,))))) -> 10 | W8: =IF(V8="","",IF(V8=0,"",IF(V8>=1,+V8*S8,))) -> 0 | X8: Corregir y adoptar medidas de control de inmediato si NR es igual o mayor a 360 debe suspender las actividades | Y8: =IF(W8="","",IF(W8<=20,"IV",IF(W8<=120,"III",IF(W8<=500,"II",IF(W8<=4000,"I",))))) -> IV | Z8: =IF(Y8="","",IF(Y8="I","No Aceptable",IF(Y8="II","Prioritario",IF(Y8="III","Mejorable",IF(Y8="IV","Aceptable",))))) -> Aceptable | AA8: 1 | AD8: Enfermedad | AE8: si | AF8: N.A | AG8: N.A | AH8: AREAS CON PROUCTOS DE LIMPIEZA Y DESINFECCION | AI8: PRODUCTOS DISPONIBLES PARA LAVADO DE MANOS LIMPIEZA Y DESINFECCION | AJ8: USO DE GUANTES GAFAS Y TABABOCAS AL REALIZAR ACTIVIDADES QUE GENEREN AEROSOLES
E9: SI | F9: BIOLÓGICO | H9: ASEO DE BATERIAS SANITARIAS, RECOLECCION Y MANIPULACION DE BOLSAS DE LAS CANECAS DE RESIDUOS, MANIPULACION DE TRAPERO | I9: NO | J9: Salud- Daño leve | K9: CONTAMINACION, ALERGIAS, VIRUS, ALTERACIONES O MOLESTIAS ESTOMACALES E INTESTINALES, PARASITOS | L9: CANECAS DE RECOLECCION CUENTAN CON BOLSAS | M9: SE CUENTA CON INSTRUMENTOS O HERRAMIENTAS QUE PERMITEN LAS LABORES DE ASEO, EVITANDO EL CONTACTO DIRECTO DE LAS MANOS EJP: Carrito para escurrir trapero | N9: USO DE EPP: Guantes de Caucho, Tapabocas, Uniforme Antifluido | O9: MEDIO | P9: =IF(O9="","",IF(O9="BAJO",0,IF(O9="MEDIO",2,IF(O9="ALTO",6,IF(O9="MUY ALTO",10,))))) -> 2 | Q9: FRECUENTE | R9: =IF(Q9="","",IF(Q9="Esporadica",1,IF(Q9="Ocasional",2,IF(Q9="Frecuente",3,IF(Q9="Continua",4,))))) -> 3 | S9: =IF(P9="","",IF(P9=0,0,IF(P9>=1,+P9*R9))) -> 6 | T9: =IF(S9="","",IF(S9<=4,"Bajo",IF(S9<=8,"Medio",IF(S9<=20,"Alto",IF(S9<=40,"Muy Alto"))))) -> Medio | U9: LEVE | V9: =IF(U9="","",IF(U9="Leve",10,IF(U9="Grave",25,IF(U9="Muy Grave",60,IF(U9="Mortal o catastrófico",100,))))) -> 10 | W9: =IF(V9="","",IF(V9=0,"",IF(V9>=1,+V9*S9,))) -> 60 | X9: =IF(W9="","",IF(W9<=20,"Mantener las medidas de control existentes",IF(W9<=120,"Mejorar si es posible justificar la intervención y su rentabilidad.",IF(W9<=500,"Corregir y adoptar medidas de control de inmediato si NR es igual o mayor a 360 debe suspender las actividades",IF(W9<=4000,"Situación crítica Suspender actividades hasta que el riesgo sea controlado",))))) -> Mejorar si es posible justificar la intervención y su rentabilidad. | Y9: =IF(W9="","",IF(W9<=20,"IV",IF(W9<=120,"III",IF(W9<=500,"II",IF(W9<=4000,"I",))))) -> III | Z9: =IF(Y9="","",IF(Y9="I","No Aceptable",IF(Y9="II","Prioritario",IF(Y9="III","Mejorable",IF(Y9="IV","Aceptable",))))) -> Mejorable | AA9: 1 | AD9: INFECCIONES | AE9: SI | AF9: N.A | AG9: N.A | AH9: N.A | AI9: DOCUMENTAR, SOCIALIZAR Y PUBLICAR PROTOCOLO PARA LAVADO DE MANOS; PROCURAR QUE SIEMPRE LAS CANECAS CUENTEN CON LAS RESPECTIVAS BOLSAS DE RECOLECCION DE RESIDUOS PARA EVITAR EL CONTACTO DIRECTO DE LAS MANOS CON LAS CANECAS O SU CONTENIDO | AJ9: REALIZAR REPOSICION CORRESPONDIENTE SEGUN USO O VIDA UTIL DEL ELEMENTO
E10: SI | F10: BIOMECÀNICOS | H10: ADOPCION DE POSTURAS ANTIGRAVITACIONALES "AGACHADO, ENCORVADO, EN CUCLILLAS, DE RODILLAS, BIPEDA, ETC" DURANTE EL DESARROLLO DE LAS LABORES DE ASEO Y LIMPIEZA | I10: NO | J10: Salud- Daño Moderado | K10: DOLOR MUSCULAR EN REGION LUMBAR, LUMBAGOS, TENSION MUSCULAR | L10: N.A | M10: EN LA ORGANIZACIÓN SE CUENTA CON POCETA Y CARRITO ESCURRIDOR PARA EL TRAPERO | N10: N.A | O10: BAJO | P10: =IF(O10="","",IF(O10="BAJO",0,IF(O10="MEDIO",2,IF(O10="ALTO",6,IF(O10="MUY ALTO",10,))))) -> 0 | Q10: ESPORADICO | R10: =IF(Q10="","",IF(Q10="Esporadica",1,IF(Q10="Ocasional",2,IF(Q10="Frecuente",3,IF(Q10="Continua",4,))))) -> 0 | S10: =IF(P10="","",IF(P10=0,0,IF(P10>=1,+P10*R10))) -> 0 | T10: =IF(S10="","",IF(S10<=4,"Bajo",IF(S10<=8,"Medio",IF(S10<=20,"Alto",IF(S10<=40,"Muy Alto"))))) -> Bajo | U10: LEVE | V10: =IF(U10="","",IF(U10="Leve",10,IF(U10="Grave",25,IF(U10="Muy Grave",60,IF(U10="Mortal o catastrófico",100,))))) -> 10 | W10: =IF(V10="","",IF(V10=0,"",IF(V10>=1,+V10*S10,))) -> 0 | X10: =IF(W10="","",IF(W10<=20,"Mantener las medidas de control existentes",IF(W10<=120,"Mejorar si es posible justificar la intervención y su rentabilidad.",IF(W10<=500,"Corregir y adoptar medidas de control de inmediato si NR es igual o mayor a 360 debe suspender las actividades",IF(W10<=4000,"Situación crítica Suspender actividades hasta que el riesgo sea controlado",))))) -> Mantener las medidas de control existentes | Y10: =IF(W10="","",IF(W10<=20,"IV",IF(W10<=120,"III",IF(W10<=500,"II",IF(W10<=4000,"I",))))) -> IV | Z10: =IF(Y10="","",IF(Y10="I","No Aceptable",IF(Y10="II","Prioritario",IF(Y10="III","Mejorable",IF(Y10="IV","Aceptable",))))) -> Aceptable | AA10: 1 | AD10: LESIONES A NIVEL DE COLUMNA VERTEBRAL | AE10: SI | AF10: N.A | AG10: VERIFICAR QUE LA ALTURA DE LOS CABOS DE ESCOBAS Y TRAPERO SEA LA ADECUADA (1.60) | AH10: N.A | AI10: BRINDAR FORMACION Y RETROALIMENTACION AL PERSONAL EXPUESTO SOBRE RIESGO BIOMECANICO CON ENFASIS EN: Tecnicas para Manejo de Espalda, Pausas Activas e Higiene Postural | AJ10: N.A
E11: SI | F11: PSICOLABORAL | H11: RESPONSABILIDAD DE LA LABOR, TRABAJO RUTINARIO, SATISFACCION DEL CLIENTE CON LA LABOR | I11: NO | J11: Salud- Daño leve | K11: CEFALEA, ALTERACIONES EMOCIONALES, IRRITABILIDAD, ANSIEDAD, ENFERMEDADES GASTROINTESTINALES | L11: N.A | M11: N.A | N11: PARTICIPACION EN ACTIVIDADES DEPORTIVAS, RECREATIVAS Y CULTURALES | O11: BAJO | P11: =IF(O11="","",IF(O11="BAJO",0,IF(O11="MEDIO",2,IF(O11="ALTO",6,IF(O11="MUY ALTO",10,))))) -> 0 | Q11: ESPORADICO | R11: =IF(Q11="","",IF(Q11="Esporadica",1,IF(Q11="Ocasional",2,IF(Q11="Frecuente",3,IF(Q11="Continua",4,))))) -> 0 | S11: =IF(P11="","",IF(P11=0,0,IF(P11>=1,+P11*R11))) -> 0 | T11: =IF(S11="","",IF(S11<=4,"Bajo",IF(S11<=8,"Medio",IF(S11<=20,"Alto",IF(S11<=40,"Muy Alto"))))) -> Bajo | U11: LEVE | V11: =IF(U11="","",IF(U11="Leve",10,IF(U11="Grave",25,IF(U11="Muy Grave",60,IF(U11="Mortal o catastrófico",100,))))) -> 10 | W11: =IF(V11="","",IF(V11=0,"",IF(V11>=1,+V11*S11,))) -> 0 | X11: =IF(W11="","",IF(W11<=20,"Mantener las medidas de control existentes",IF(W11<=120,"Mejorar si es posible justificar la intervención y su rentabilidad.",IF(W11<=500,"Corregir y adoptar medidas de control de inmediato si NR es igual o mayor a 360 debe suspender las actividades",IF(W11<=4000,"Situación crítica Suspender actividades hasta que el riesgo sea controlado",))))) -> Mantener las medidas de control existentes | Y11: =IF(W11="","",IF(W11<=20,"IV",IF(W11<=120,"III",IF(W11<=500,"II",IF(W11<=4000,"I",))))) -> IV | Z11: =IF(Y11="","",IF(Y11="I","No Aceptable",IF(Y11="II","Prioritario",IF(Y11="III","Mejorable",IF(Y11="IV","Aceptable",))))) -> Aceptable | AA11: 1 | AD11: ESTRÉS | AE11: SI | AF11: N.A | AG11: N.A | AH11: N.A | AI11: BRINDAR FORMACION AL PERSONAL EXPUESTO EN RIESGO PSICOSOCIAL CON ENFASIS EN: Atencion al Cliente, Manejo del Estrés, Relaciones Interpersonales, BATERIA DE RIESGO PSICOSOCIAL. | AJ11: N.A
E12: SI | F12: FENÓMENOS NATURALES | H12: RIESGO POR FENOMENOS NATURALES COMO: Tormentas Electricas, Vendavales, Sismo, Terremoto, Volcan,Incendio, Innundaciones | I12: NO | J12: Salud- Daño extremo | K12: POLITRAUMATISMOS, LESIONES SEVERAS, ALTERACIONES NERVIOSAS | L12: N.A | M12: PLAN DE EMERGENCIAS | N12: N.A | O12: MEDIO | P12: =IF(O12="","",IF(O12="BAJO",0,IF(O12="MEDIO",2,IF(O12="ALTO",6,IF(O12="MUY ALTO",10,))))) -> 2 | Q12: ESPORADICO | R12: =IF(Q12="","",IF(Q12="Esporadica",1,IF(Q12="Ocasional",2,IF(Q12="Frecuente",3,IF(Q12="Continua",4,))))) -> 0 | S12: =IF(P12="","",IF(P12=0,0,IF(P12>=1,+P12*R12))) -> 0 | T12: =IF(S12="","",IF(S12<=4,"Bajo",IF(S12<=8,"Medio",IF(S12<=20,"Alto",IF(S12<=40,"Muy Alto"))))) -> Bajo | U12: GRAVE | V12: =IF(U12="","",IF(U12="Leve",10,IF(U12="Grave",25,IF(U12="Muy Grave",60,IF(U12="Mortal o catastrófico",100,))))) -> 25 | W12: =IF(V12="","",IF(V12=0,"",IF(V12>=1,+V12*S12,))) -> 0 | X12: =IF(W12="","",IF(W12<=20,"Mantener las medidas de control existentes",IF(W12<=120,"Mejorar si es posible justificar la intervención y su rentabilidad.",IF(W12<=500,"Corregir y adoptar medidas de control de inmediato si NR es igual o mayor a 360 debe suspender las actividades",IF(W12<=4000,"Situación crítica Suspender actividades hasta que el riesgo sea controlado",))))) -> Mantener las medidas de control existentes | Y12: =IF(W12="","",IF(W12<=20,"IV",IF(W12<=120,"III",IF(W12<=500,"II",IF(W12<=4000,"I",))))) -> IV | Z12: =IF(Y12="","",IF(Y12="I","No Aceptable",IF(Y12="II","Prioritario",IF(Y12="III","Mejorable",IF(Y12="IV","Aceptable",))))) -> Aceptable | AA12: 1 | AD12: LESIONES MULTIPLES | AE12: SI | AF12: NA | AG12: NA | AH12: N.A | AI12: REALIZAR LAS PRACTICAS DE EVACUACION, PRIMEROS AUXILIOS Y CONTRAINCENDIOS MINIMO 2 VECES AL AÑO; MANTENER DESPEJADAS AREAS DE CIRCULACION PARA RESPONDER DE MANERA EFECTIVA A UNA EVACUACION EN CASO DE EMERGENCIA Y REALIZAR SIMULACROS DE EVACUACIÓN POR ACTIVIDAD VOLCANICA. | AJ12: N.A
A13: ASISTENTE ADMINISTRATIVA | B13: SECRETARIA | C13: RECEPCIÓN | D13: RECEPCION Y MANEJO DE DOCUMENTACION Y PUBLICO | E13: SI | F13: BIOMECÀNICOS | H13: POSTURA SEDENTE PROLONGADA PARA EL DESARROLLO DE ACTIVIDADES ADMINISTRATIVAS, MOVIMIENTOS REPETITIVOS POR DIGITACION | I13: NO | J13: Salud- Daño Moderado | K13: DAÑOS Y/O LESIONES A NIVEL OSTEOMUSCULAR, DOLORES LUMBARES, DOLOR CERVICAL, EPICONDILITIS, TUNEL CARPIANO | L13: ARMONIA EN LA UBICACIÓN DEL PUESTO E TRABAJO, ELEMENTOS DE OFICINA Y SILLA | M13: N.A | N13: SE REALIZAN PAUSAS ACTIVAS EN EL INTER MEDIO DE LA JORNADA LABORAL | O13: BAJO | P13: =IF(O13="","",IF(O13="BAJO",0,IF(O13="MEDIO",2,IF(O13="ALTO",6,IF(O13="MUY ALTO",10,))))) -> 0 | Q13: FRECUENTE | R13: =IF(Q13="","",IF(Q13="Esporadica",1,IF(Q13="Ocasional",2,IF(Q13="Frecuente",3,IF(Q13="Continua",4,))))) -> 3 | S13: =IF(P13="","",IF(P13=0,0,IF(P13>=1,+P13*R13))) -> 0 | T13: =IF(S13="","",IF(S13<=4,"Bajo",IF(S13<=8,"Medio",IF(S13<=20,"Alto",IF(S13<=40,"Muy Alto"))))) -> Bajo | U13: LEVE | V13: =IF(U13="","",IF(U13="Leve",10,IF(U13="Grave",25,IF(U13="Muy Grave",60,IF(U13="Mortal o catastrófico",100,))))) -> 10 | W13: =IF(V13="","",IF(V13=0,"",IF(V13>=1,+V13*S13,))) -> 0 | X13: =IF(W13="","",IF(W13<=20,"Mantener las medidas de control existentes",IF(W13<=120,"Mejorar si es posible justificar la intervención y su rentabilidad.",IF(W13<=500,"Corregir y adoptar medidas de control de inmediato si NR es igual o mayor a 360 debe suspender las actividades",IF(W13<=4000,"Situación crítica Suspender actividades hasta que el riesgo sea controlado",))))) -> Mantener las medidas de control existentes | Y13: =IF(W13="","",IF(W13<=20,"IV",IF(W13<=120,"III",IF(W13<=500,"II",IF(W13<=4000,"I",))))) -> IV | Z13: =IF(Y13="","",IF(Y13="I","No Aceptable",IF(Y13="II","Prioritario",IF(Y13="III","Mejorable",IF(Y13="IV","Aceptable",))))) -> Aceptable | AA13: 1 | AD13: TUNEL CARPIANO | AE13: SI | AF13: N.A | AG13: N.A | AH13: REALIZAR INSPECCIONES DE ACUERDO A PROGRAMACION DE COPASST PARA VERIFICAR NECESIDADES DE CAMBIO Y/O MANTENIMIENTO DE MOBILIARIO DE OFICINAS | AI13: BRINDAR FORMACION Y/O RETROALIMENTACION AL PERSONAL EN RIESGO BIOMECANICO CON ENFASIS EN: HIGIENE POSTURAL | AJ13: N.A
E14: SI | F14: FISICO | H14: LABOR FRENTE AL ORDENADOR QUE IMPLICA EXPOSICION A RADIACIONES IONIZANTES, ADEMAS DE LA CARGA ELECTROSTATICA EN LA SUPERFICIE DE LOS MISMOS | I14: NO | J14: Salud- Daño leve | K14: SOBREESFUERZO VISUAL CANSANCIO, CEFALEA, ENROJECIMIENTO, FATIGA, RESEQUEDAD, LAGRIMEO | L14: ORDENADORVIDEOTERMINAL CON PANTALLA ANTIREFLEJO | M14: N.A | N14: N.A | O14: BAJO | P14: =IF(O14="","",IF(O14="BAJO",0,IF(O14="MEDIO",2,IF(O14="ALTO",6,IF(O14="MUY ALTO",10,))))) -> 0 | Q14: FRECUENTE | R14: =IF(Q14="","",IF(Q14="Esporadica",1,IF(Q14="Ocasional",2,IF(Q14="Frecuente",3,IF(Q14="Continua",4,))))) -> 3 | S14: =IF(P14="","",IF(P14=0,0,IF(P14>=1,+P14*R14))) -> 0 | T14: Bajo | U14: LEVE | V14: =IF(U14="","",IF(U14="Leve",10,IF(U14="Grave",25,IF(U14="Muy Grave",60,IF(U14="Mortal o catastrófico",100,))))) -> 10 | W14: =IF(V14="","",IF(V14=0,"",IF(V14>=1,+V14*S14,))) -> 0 | X14: =IF(W14="","",IF(W14<=20,"Mantener las medidas de control existentes",IF(W14<=120,"Mejorar si es posible justificar la intervención y su rentabilidad.",IF(W14<=500,"Corregir y adoptar medidas de control de inmediato si NR es igual o mayor a 360 debe suspender las actividades",IF(W14<=4000,"Situación crítica Suspender actividades hasta que el riesgo sea controlado",))))) -> Mantener las medidas de control existentes | Y14: =IF(W14="","",IF(W14<=20,"IV",IF(W14<=120,"III",IF(W14<=500,"II",IF(W14<=4000,"I",))))) -> IV | Z14: =IF(Y14="","",IF(Y14="I","No Aceptable",IF(Y14="II","Prioritario",IF(Y14="III","Mejorable",IF(Y14="IV","Aceptable",))))) -> Aceptable | AA14: 1 | AD14: SINDROME DE FATIGA VISUAL CORPORAL POR COPUTADOR | AE14: SI | AF14: N.A | AG14: N.A | AH14: GRADUAR BRILLO, ALTURA, REALIZAR LIMPIEZA FRECUENTE DE PANTALLA | AI14: BRINDAR FORMACION AL PERSONAL EN RIESGO FISICO CON ENFASIS EN SALUD VISUAL Y PAUSAS ACTIVAS VISUALES | AJ14: N.A
E15: SI | F15: BIOLÓGICO | H15: PROPAGACION DEL VIRUS COVID 19, FIEBRE AMARILLA CON RIESGO DE CONTAGIO POR CONTACTO POR GOTAS, CONTACTO CON SUPERFICIES CONTAMINADAS, POR PICADURA DE INSECTOS. | I15: NO | J15: Salud- Daño Moderado | K15: TOS, MALESTAR, SECRECION NASAL, PROBLEMAS RESIRATORIOS, TOS, MUERTE | L15: N/A | M15: CAPACITACION SOBRE MEDIOS DE PROPAGACION , PREVENCION , LAVADO DE MANOS. | N15: DISTANCIAMIENTO SOCIAL. LAVADO DE MANOS CONSTANTE, USO DE PROTECCION RESPIRATORIA EN CASO DE PRESENTAR SINTOMAS | O15: BAJO | P15: =IF(O15="","",IF(O15="BAJO",0,IF(O15="MEDIO",2,IF(O15="ALTO",6,IF(O15="MUY ALTO",10,))))) -> 0 | Q15: ESPORADICO | R15: =IF(Q15="","",IF(Q15="Esporadica",1,IF(Q15="Ocasional",2,IF(Q15="Frecuente",3,IF(Q15="Continua",4,))))) -> 0 | S15: =IF(P15="","",IF(P15=0,0,IF(P15>=1,+P15*R15))) -> 0 | T15: Medio | U15: LEVE | V15: =IF(U15="","",IF(U15="Leve",10,IF(U15="Grave",25,IF(U15="Muy Grave",60,IF(U15="Mortal o catastrófico",100,))))) -> 10 | W15: =IF(V15="","",IF(V15=0,"",IF(V15>=1,+V15*S15,))) -> 0 | X15: =IF(W15="","",IF(W15<=20,"Mantener las medidas de control existentes",IF(W15<=120,"Mejorar si es posible justificar la intervención y su rentabilidad.",IF(W15<=500,"Corregir y adoptar medidas de control de inmediato si NR es igual o mayor a 360 debe suspender las actividades",IF(W15<=4000,"Situación crítica Suspender actividades hasta que el riesgo sea controlado",))))) -> Mantener las medidas de control existentes | Y15: =IF(W15="","",IF(W15<=20,"IV",IF(W15<=120,"III",IF(W15<=500,"II",IF(W15<=4000,"I",))))) -> IV | Z15: =IF(Y15="","",IF(Y15="I","No Aceptable",IF(Y15="II","Prioritario",IF(Y15="III","Mejorable",IF(Y15="IV","Aceptable",))))) -> Aceptable | AA15: 1 | AD15: ENFERMEDAD | AE15: si | AF15: N.A | AG15: N.A | AH15: AREAS CON PROUCTOS DE LIMPIEZA Y DESINFECCION | AI15: PRODUCTOS DISPONIBLES PARA LAVADO DE MANOS LIMPIEZA Y DESINFECCION | AJ15: USO DE GUANTES GAFAS Y TABABOCAS AL REALIZAR ACTIVIDADES QUE GENEREN AEROSOLES
E16: SI | F16: PSICOLABORAL | H16: CONCENTRACION, RESPONSABILIDADV DE LA LABOR, CUMPLIMIENTO DE OBJETIVOS Y ACTIVIDADES, ELABORACION DE INFORMES, CONSUMO DE SUSTANCIAS PSICOACTIVAS | I16: NO | J16: Salud- Daño Moderado | K16: CANSANCIO, CEFALEA, ALTERACIONES Y/O MOLESTIAS GASTROINTESTINALES, AGOTAMIENTO | L16: N.A | M16: N.A | N16: ACTIVIDADES DEPORTIVAS, RECREATIVAS Y CULTURALES | O16: BAJO | P16: =IF(O16="","",IF(O16="BAJO",0,IF(O16="MEDIO",2,IF(O16="ALTO",6,IF(O16="MUY ALTO",10,))))) -> 0 | Q16: ESPORADICO | R16: =IF(Q16="","",IF(Q16="Esporadica",1,IF(Q16="Ocasional",2,IF(Q16="Frecuente",3,IF(Q16="Continua",4,))))) -> 0 | S16: =IF(P16="","",IF(P16=0,0,IF(P16>=1,+P16*R16))) -> 0 | T16: Bajo | U16: LEVE | V16: =IF(U16="","",IF(U16="Leve",10,IF(U16="Grave",25,IF(U16="Muy Grave",60,IF(U16="Mortal o catastrófico",100,))))) -> 10 | W16: =IF(V16="","",IF(V16=0,"",IF(V16>=1,+V16*S16,))) -> 0 | X16: =IF(W16="","",IF(W16<=20,"Mantener las medidas de control existentes",IF(W16<=120,"Mejorar si es posible justificar la intervención y su rentabilidad.",IF(W16<=500,"Corregir y adoptar medidas de control de inmediato si NR es igual o mayor a 360 debe suspender las actividades",IF(W16<=4000,"Situación crítica Suspender actividades hasta que el riesgo sea controlado",))))) -> Mantener las medidas de control existentes | Y16: =IF(W16="","",IF(W16<=20,"IV",IF(W16<=120,"III",IF(W16<=500,"II",IF(W16<=4000,"I",))))) -> IV | Z16: =IF(Y16="","",IF(Y16="I","No Aceptable",IF(Y16="II","Prioritario",IF(Y16="III","Mejorable",IF(Y16="IV","Aceptable",))))) -> Aceptable | AA16: 13 | AD16: ESTRÉS LABORAL | AE16: SI | AF16: N.A | AG16: N.A | AH16: N.A | AI16: VERIFICAR CON RESULTADOS DE APLICACIÓN DE BATERIAS SI SE REQUIERE INTERVENCION PARA RIESGO PSICOSOCIAL: CONTINUAR CON ACTIVIDADES DE INTEGRACION, RECREACION, DEPORTE Y/O CULTURA; BRINDAR FORMACION LUDICA AL PERSONAL EN MANEJO DEL ESTRÉS, LIDERAZGO, RELACIONES INTERPERSONALES Y COMUNICACION ASERTIVA | AJ16: N.A
E17: SI | F17: CONDICIONES DE SEGURIDAD | H17: ACCESO AL AREA DE TRABAJO POR ESCALAS | I17: NO | J17: Salud- Daño Moderado | K17: TROPEZONES, GOLPES, ESGUINCES, LUXACIONES, TORCEDURAS, HEMATOMAS | L17: ESCALAS CON PASAMANOS, LETRERO DE PISO MOJADO | M17: SEÑALIZACION PARA ESCALAS | N17: N.A | O17: BAJO | P17: =IF(O17="","",IF(O17="BAJO",0,IF(O17="MEDIO",2,IF(O17="ALTO",6,IF(O17="MUY ALTO",10,))))) -> 0 | Q17: ESPORADICO | R17: =IF(Q17="","",IF(Q17="Esporadica",1,IF(Q17="Ocasional",2,IF(Q17="Frecuente",3,IF(Q17="Continua",4,))))) -> 0 | S17: =IF(P17="","",IF(P17=0,0,IF(P17>=1,+P17*R17))) -> 0 | T17: Medio | U17: LEVE | V17: =IF(U17="","",IF(U17="Leve",10,IF(U17="Grave",25,IF(U17="Muy Grave",60,IF(U17="Mortal o catastrófico",100,))))) -> 10 | W17: =IF(V17="","",IF(V17=0,"",IF(V17>=1,+V17*S17,))) -> 0 | X17: =IF(W17="","",IF(W17<=20,"Mantener las medidas de control existentes",IF(W17<=120,"Mejorar si es posible justificar la intervención y su rentabilidad.",IF(W17<=500,"Corregir y adoptar medidas de control de inmediato si NR es igual o mayor a 360 debe suspender las actividades",IF(W17<=4000,"Situación crítica Suspender actividades hasta que el riesgo sea controlado",))))) -> Mantener las medidas de control existentes | Y17: =IF(W17="","",IF(W17<=20,"IV",IF(W17<=120,"III",IF(W17<=500,"II",IF(W17<=4000,"I",))))) -> IV | Z17: =IF(Y17="","",IF(Y17="I","No Aceptable",IF(Y17="II","Prioritario",IF(Y17="III","Mejorable",IF(Y17="IV","Aceptable",))))) -> Aceptable | AA17: 14 | AD17: FRACTURA DE HUESOS LARGOS | AE17: SI | AF17: N.A | AG17: N.A | AH17: N.A | AI17: BRINDAR FORMACION AL PERSONAL EXPUESTO EN RIESGO LOCATIVO CON ENFASIS EN "Prevencion de Caidas a un mismo y a diferente Nivel" ADECUAR SEÑALIZACION SOBRE "Peligro de Caida o Camine No corra" | AJ17: N.A
E18: SI | F18: CONDICIONES DE SEGURIDAD | H18: RIESGO MECANICO POR MANIPULACION DE HERRAMIENTAS MANUALES DE OFICINA (Ganchos, sacaganchos, bisturi, cosedora, perforadora, borde de hojas de `papel, tijeras etc) | I18: NO | J18: Salud- Daño leve | K18: TROPEZONES, GOLPES, ESGUINCES, LUXACIONES, TORCEDURAS, HEMATOMAS | L18: ESCRITORIOS CON CAJONEROS | M18: N.A | N18: N.A | O18: BAJO | P18: =IF(O18="","",IF(O18="BAJO",0,IF(O18="MEDIO",2,IF(O18="ALTO",6,IF(O18="MUY ALTO",10,))))) -> 0 | Q18: FRECUENTE | R18: =IF(Q18="","",IF(Q18="Esporadica",1,IF(Q18="Ocasional",2,IF(Q18="Frecuente",3,IF(Q18="Continua",4,))))) -> 3 | S18: =IF(P18="","",IF(P18=0,0,IF(P18>=1,+P18*R18))) -> 0 | T18: Medio | U18: LEVE | V18: =IF(U18="","",IF(U18="Leve",10,IF(U18="Grave",25,IF(U18="Muy Grave",60,IF(U18="Mortal o catastrófico",100,))))) -> 10 | W18: =IF(V18="","",IF(V18=0,"",IF(V18>=1,+V18*S18,))) -> 0 | X18: =IF(W18="","",IF(W18<=20,"Mantener las medidas de control existentes",IF(W18<=120,"Mejorar si es posible justificar la intervención y su rentabilidad.",IF(W18<=500,"Corregir y adoptar medidas de control de inmediato si NR es igual o mayor a 360 debe suspender las actividades",IF(W18<=4000,"Situación crítica Suspender actividades hasta que el riesgo sea controlado",))))) -> Mantener las medidas de control existentes | Y18: =IF(W18="","",IF(W18<=20,"IV",IF(W18<=120,"III",IF(W18<=500,"II",IF(W18<=4000,"I",))))) -> IV | Z18: =IF(Y18="","",IF(Y18="I","No Aceptable",IF(Y18="II","Prioritario",IF(Y18="III","Mejorable",IF(Y18="IV","Aceptable",))))) -> Aceptable | AA18: 15 | AD18: LESIONES/HERIDAS EN MANOS | AE18: SI | AF18: NA | AG18: NA | AH18: N.A | AI18: DISEÑAR, PUBLICAR Y BRINDAR FORMACION AL PERSONAL EN RIESGO MECANICO CON ENFASIS EN: Normas de Seguridad para Oficinas | AJ18: N.A
A19: AUDITORES, CONTRALORA, ADMINISTRATIVOS | B19: OFICINA SALA DE JUNTAS AUDITORIO AREAS COMUNES | C19: OFICINA | D19: REALIZAR PROCESOS ADMINISTRATIVOS PROPIOS DEL TRABAJO | E19: SI | F19: PSICOLABORAL | H19: CONCENTRACION, ALTA RESPONSABILIDAD DE LA LABOR, CUMPLIMIENTO DE OBJETIVOS Y ACTIVIDADES, RENDICION DE CUENTAS | I19: NO | J19: Salud- Daño extremo | K19: CANSANCIO, CEFALEA, ALTERACIONES Y/O MOLESTIAS GASTROINTESTINALES, AGOTAMIENTO | L19: N.A | M19: N.A | N19: ACTIVIDADES DEPORTIVAS, RECREATIVAS Y CULTURALES | O19: MEDIO | P19: =IF(O19="","",IF(O19="BAJO",0,IF(O19="MEDIO",2,IF(O19="ALTO",6,IF(O19="MUY ALTO",10,))))) -> 2 | Q19: FRECUENTE | R19: =IF(Q19="","",IF(Q19="Esporadica",1,IF(Q19="Ocasional",2,IF(Q19="Frecuente",3,IF(Q19="Continua",4,))))) -> 3 | S19: =IF(P19="","",IF(P19=0,0,IF(P19>=1,+P19*R19))) -> 6 | T19: Bajo | U19: LEVE | V19: =IF(U19="","",IF(U19="Leve",10,IF(U19="Grave",25,IF(U19="Muy Grave",60,IF(U19="Mortal o catastrófico",100,))))) -> 10 | W19: =IF(V19="","",IF(V19=0,"",IF(V19>=1,+V19*S19,))) -> 60 | X19: =IF(W19="","",IF(W19<=20,"Mantener las medidas de control existentes",IF(W19<=120,"Mejorar si es posible justificar la intervención y su rentabilidad.",IF(W19<=500,"Corregir y adoptar medidas de control de inmediato si NR es igual o mayor a 360 debe suspender las actividades",IF(W19<=4000,"Situación crítica Suspender actividades hasta que el riesgo sea controlado",))))) -> Mejorar si es posible justificar la intervención y su rentabilidad. | Y19: =IF(W19="","",IF(W19<=20,"IV",IF(W19<=120,"III",IF(W19<=500,"II",IF(W19<=4000,"I",))))) -> III | Z19: =IF(Y19="","",IF(Y19="I","No Aceptable",IF(Y19="II","Prioritario",IF(Y19="III","Mejorable",IF(Y19="IV","Aceptable",))))) -> Mejorable | AA19: 42 | AD19: ESTRÉS LABORAL | AE19: SI | AF19: N.A | AG19: N.A | AH19: N.A | AI19: VERIFICAR CON RESULTADOS DE APLICACIÓN DE BATERIAS SI SE REQUIERE INTERVENCION PARA RIESGO PSICOSOCIAL: A PERSONAL DE ALTO RIESGO, CONTINUAR CON ACTIVIDADES DE INTEGRACION, RECREACION, DEPORTE Y/O CULTURA; BRINDAR FORMACION LUDICA AL PERSONAL EN MANEJO DEL ESTRÉS, LIDERAZGO, RELACIONES INTERPERSONALES Y COMUNICACION ASERTIVA | AJ19: N.A
E20: SI | F20: BIOLOGICO | H20: PROPAGACION DEL VIRUS COVID 19, FIEBRE AMARILLA CON RIESGO DE CONTAGIO POR CONTACTO POR GOTAS, CONTACTO CON SUPERFICIES CONTAMINADAS, POR PICADURA DE INSECTOS, PROPAGACION DE OTRO TIPO DE VIRUS. | I20: NO | J20: Salud- Daño Moderado | K20: TOS, MALESTAR, SECRECION NASAL, PROBLEMAS RESIRATORIOS, TOS, MUERTE | L20: N/A | M20: CAPACITACION SOBRE MEDIOS DE PROPAGACION , PREVENCION , LAVADO DE MANOS. | N20: DISTANCIAMIENTO SOCIAL. LAVADO DE MANOS CONSTANTE, USO DE PROTECCION RESPIRATORIA EN CASO DE PRESENTAR SINTOMAS | O20: BAJO | P20: =IF(O20="","",IF(O20="BAJO",0,IF(O20="MEDIO",2,IF(O20="ALTO",6,IF(O20="MUY ALTO",10,))))) -> 0 | Q20: ESPORADICO | R20: =IF(Q20="","",IF(Q20="Esporadica",1,IF(Q20="Ocasional",2,IF(Q20="Frecuente",3,IF(Q20="Continua",4,))))) -> 0 | S20: =IF(P20="","",IF(P20=0,0,IF(P20>=1,+P20*R20))) -> 0 | T20: Bajo | U20: LEVE | V20: =IF(U20="","",IF(U20="Leve",10,IF(U20="Grave",25,IF(U20="Muy Grave",60,IF(U20="Mortal o catastrófico",100,))))) -> 10 | W20: =IF(V20="","",IF(V20=0,"",IF(V20>=1,+V20*S20,))) -> 0 | X20: =IF(W20="","",IF(W20<=20,"Mantener las medidas de control existentes",IF(W20<=120,"Mejorar si es posible justificar la intervención y su rentabilidad.",IF(W20<=500,"Corregir y adoptar medidas de control de inmediato si NR es igual o mayor a 360 debe suspender las actividades",IF(W20<=4000,"Situación crítica Suspender actividades hasta que el riesgo sea controlado",))))) -> Mantener las medidas de control existentes | Y20: =IF(W20="","",IF(W20<=20,"IV",IF(W20<=120,"III",IF(W20<=500,"II",IF(W20<=4000,"I",))))) -> IV | Z20: =IF(Y20="","",IF(Y20="I","No Aceptable",IF(Y20="II","Prioritario",IF(Y20="III","Mejorable",IF(Y20="IV","Aceptable",))))) -> Aceptable | AA20: 42 | AD20: ENFERMEDAD | AE20: si | AF20: N.A | AG20: N.A | AH20: N.A | AI20: capacitacion en prevencion y mitigacion del covid 19 generadas por el gobierno nacional, uso de tapabocas cuando presenta sintomas, aislamiento total. Higiene de manos al ingresar a laborar y durante la jornada cada dos o tres horas o cuando se requiera | AJ20: TAPABOCAS EN LUGARES CERRADOS CON AFLUENCIA MASIVA
E21: SI | F21: BIOMECÀNICOS | H21: POSTURA SEDENTE PROLONGADA PARA EL DESARROLLO DE ACTIVIDADES ADMINISTRATIVAS, MOVIMIENTOS REPETITIVOS POR DIGITACION | I21: NO | J21: Salud- Daño Moderado | K21: DAÑOS Y/O LESIONES A NIVEL OSTEOMUSCULAR, DOLORES LUMBARES, DOLOR CERVICAL, EPICONDILITIS, TUNEL CARPIANO | L21: ARMONIA EN LA UBICACIÓN DE VIDEOTERMINAL, ELEMENTOS DE OFICINA Y SILLA | M21: N.A | N21: SE REALIZAN PAUSAS ACTIVAS EN EL INTER EDIO DE LA JORNADA LABORAL | O21: BAJO | P21: =IF(O21="","",IF(O21="BAJO",0,IF(O21="MEDIO",2,IF(O21="ALTO",6,IF(O21="MUY ALTO",10,))))) -> 0 | Q21: FRECUENTE | R21: =IF(Q21="","",IF(Q21="Esporadica",1,IF(Q21="Ocasional",2,IF(Q21="Frecuente",3,IF(Q21="Continua",4,))))) -> 3 | S21: =IF(P21="","",IF(P21=0,0,IF(P21>=1,+P21*R21))) -> 0 | T21: Bajo | U21: LEVE | V21: =IF(U21="","",IF(U21="Leve",10,IF(U21="Grave",25,IF(U21="Muy Grave",60,IF(U21="Mortal o catastrófico",100,))))) -> 10 | W21: =IF(V21="","",IF(V21=0,"",IF(V21>=1,+V21*S21,))) -> 0 | X21: =IF(W21="","",IF(W21<=20,"Mantener las medidas de control existentes",IF(W21<=120,"Mejorar si es posible justificar la intervención y su rentabilidad.",IF(W21<=500,"Corregir y adoptar medidas de control de inmediato si NR es igual o mayor a 360 debe suspender las actividades",IF(W21<=4000,"Situación crítica Suspender actividades hasta que el riesgo sea controlado",))))) -> Mantener las medidas de control existentes | Y21: =IF(W21="","",IF(W21<=20,"IV",IF(W21<=120,"III",IF(W21<=500,"II",IF(W21<=4000,"I",))))) -> IV | Z21: =IF(Y21="","",IF(Y21="I","No Aceptable",IF(Y21="II","Prioritario",IF(Y21="III","Mejorable",IF(Y21="IV","Aceptable",))))) -> Aceptable | AA21: 42 | AD21: LESIONES OSTEOMUSCULARES | AE21: SI | AF21: N.A | AG21: N.A | AH21: REALIZAR INSPECCIONES DE ACUERDO A PROGRAMACION DE COPASST PARA VERIFICAR NECESIDADES DE CAMBIO Y/O MANTENIMIENTO DE MOBILIARIO DE OFICINAS | AI21: BRINDAR FORMACION Y/O RETROALIMENTACION AL PERSONAL EN RIESGO BIOMECANICO CON ENFASIS EN: Higiene Postural e importancia de las Pausas Activas | AJ21: N.A
E22: SI | F22: CONDICIONES DE SEGURIDAD | H22: ACCESO AL AREA DE TRABAJO POR ESCALAS | I22: NO | J22: Salud- Daño Moderado | K22: TROPEZONES, GOLPES, ESGUINCES, LUXACIONES, TORCEDURAS, HEMATOMAS | L22: ESCALAS CON PASAMANOS, LETRERO DE PISO MOJADO | M22: SEÑALIZACION PARA ESCALAS | N22: N.A | O22: BAJO | P22: =IF(O22="","",IF(O22="BAJO",0,IF(O22="MEDIO",2,IF(O22="ALTO",6,IF(O22="MUY ALTO",10,))))) -> 0 | Q22: ESPORADICO | R22: =IF(Q22="","",IF(Q22="Esporadica",1,IF(Q22="Ocasional",2,IF(Q22="Frecuente",3,IF(Q22="Continua",4,))))) -> 0 | S22: =IF(P22="","",IF(P22=0,0,IF(P22>=1,+P22*R22))) -> 0 | T22: Medio | U22: LEVE | V22: =IF(U22="","",IF(U22="Leve",10,IF(U22="Grave",25,IF(U22="Muy Grave",60,IF(U22="Mortal o catastrófico",100,))))) -> 10 | W22: =IF(V22="","",IF(V22=0,"",IF(V22>=1,+V22*S22,))) -> 0 | X22: =IF(W22="","",IF(W22<=20,"Mantener las medidas de control existentes",IF(W22<=120,"Mejorar si es posible justificar la intervención y su rentabilidad.",IF(W22<=500,"Corregir y adoptar medidas de control de inmediato si NR es igual o mayor a 360 debe suspender las actividades",IF(W22<=4000,"Situación crítica Suspender actividades hasta que el riesgo sea controlado",))))) -> Mantener las medidas de control existentes | Y22: =IF(W22="","",IF(W22<=20,"IV",IF(W22<=120,"III",IF(W22<=500,"II",IF(W22<=4000,"I",))))) -> IV | Z22: =IF(Y22="","",IF(Y22="I","No Aceptable",IF(Y22="II","Prioritario",IF(Y22="III","Mejorable",IF(Y22="IV","Aceptable",))))) -> Aceptable | AA22: 42 | AD22: FRACTURA DE HUESOS LARGOS | AE22: SI | AF22: N.A | AG22: N.A | AH22: N.A | AI22: BRINDAR FORMACION AL PERSONAL EXPUESTO EN RIESGO LOCATIVO CON ENFASIS EN "Prevencion de Caidas a un mismo y a diferente Nivel" ADECUAR SEÑALIZACION SOBRE "Peligro de Caida o Camine No corra" | AJ22: N.A
E23: NO | F23: CONDICIONES DE SEGURIDAD | H23: RIESGO MECANICO POR MANIPULACION DE HERRAMIENTAS MANUALES DE OFICINA (Ganchos, sacaganchos, bisturi, cosedora, perforadora, borde de hojas de `papel, tijeras etc) | I23: NO | J23: Salud- Daño leve | K23: LESIONES MUSCULOESQUELETICAS,HERIDAS,CONTUSIONES,GOLPES, ETC | L23: ESCRITORIOS CON CAJONEROS | M23: N.A | N23: N.A | O23: BAJO | P23: =IF(O23="","",IF(O23="BAJO",0,IF(O23="MEDIO",2,IF(O23="ALTO",6,IF(O23="MUY ALTO",10,))))) -> 0 | Q23: FRECUENTE | R23: =IF(Q23="","",IF(Q23="Esporadica",1,IF(Q23="Ocasional",2,IF(Q23="Frecuente",3,IF(Q23="Continua",4,))))) -> 3 | S23: =IF(P23="","",IF(P23=0,0,IF(P23>=1,+P23*R23))) -> 0 | T23: Bajo | U23: LEVE | V23: =IF(U23="","",IF(U23="Leve",10,IF(U23="Grave",25,IF(U23="Muy Grave",60,IF(U23="Mortal o catastrófico",100,))))) -> 10 | W23: =IF(V23="","",IF(V23=0,"",IF(V23>=1,+V23*S23,))) -> 0 | X23: =IF(W23="","",IF(W23<=20,"Mantener las medidas de control existentes",IF(W23<=120,"Mejorar si es posible justificar la intervención y su rentabilidad.",IF(W23<=500,"Corregir y adoptar medidas de control de inmediato si NR es igual o mayor a 360 debe suspender las actividades",IF(W23<=4000,"Situación crítica Suspender actividades hasta que el riesgo sea controlado",))))) -> Mantener las medidas de control existentes | Y23: =IF(W23="","",IF(W23<=20,"IV",IF(W23<=120,"III",IF(W23<=500,"II",IF(W23<=4000,"I",))))) -> IV | Z23: =IF(Y23="","",IF(Y23="I","No Aceptable",IF(Y23="II","Prioritario",IF(Y23="III","Mejorable",IF(Y23="IV","Aceptable",))))) -> Aceptable | AA23: 42 | AD23: LESIONES/HERIDAS EN MANOS | AE23: SI | AF23: NA | AG23: NA | AH23: N.A | AI23: BRINDAR FORMACION AL PERSONAL EN RIESGO MECANICO CON ENFASIS EN: Normas de Seguridad para Oficinas | AJ23: N.A
E24: NO | F24: CONDICIONES DE SEGURIDAD | H24: SE PRESENTA EXPOSICION A RIESGO DE TRANSITO EN RAZON AL DESPLAZAMIENTO PARA REALIZAR VISITAS EN OTROS MUNICIPIOS | I24: NO | J24: Salud- Daño Moderado | K24: ATROPELLAMIENTOS, CHOQUES, LESIONES FISICAS, POLITRAUMATISMOS, MUERTE | L24: N.A | M24: N.A | N24: N.A | O24: MEDIO | P24: =IF(O24="","",IF(O24="BAJO",0,IF(O24="MEDIO",2,IF(O24="ALTO",6,IF(O24="MUY ALTO",10,))))) -> 2 | Q24: ESPORADICO | R24: =IF(Q24="","",IF(Q24="Esporadica",1,IF(Q24="Ocasional",2,IF(Q24="Frecuente",3,IF(Q24="Continua",4,))))) -> 0 | S24: =IF(P24="","",IF(P24=0,0,IF(P24>=1,+P24*R24))) -> 0 | T24: Medio | U24: GRAVE | V24: =IF(U24="","",IF(U24="Leve",10,IF(U24="Grave",25,IF(U24="Muy Grave",60,IF(U24="Mortal o catastrófico",100,))))) -> 25 | W24: =IF(V24="","",IF(V24=0,"",IF(V24>=1,+V24*S24,))) -> 0 | X24: =IF(W24="","",IF(W24<=20,"Mantener las medidas de control existentes",IF(W24<=120,"Mejorar si es posible justificar la intervención y su rentabilidad.",IF(W24<=500,"Corregir y adoptar medidas de control de inmediato si NR es igual o mayor a 360 debe suspender las actividades",IF(W24<=4000,"Situación crítica Suspender actividades hasta que el riesgo sea controlado",))))) -> Mantener las medidas de control existentes | Y24: =IF(W24="","",IF(W24<=20,"IV",IF(W24<=120,"III",IF(W24<=500,"II",IF(W24<=4000,"I",))))) -> IV | Z24: =IF(Y24="","",IF(Y24="I","No Aceptable",IF(Y24="II","Prioritario",IF(Y24="III","Mejorable",IF(Y24="IV","Aceptable",))))) -> Aceptable | AA24: 42 | AD24: DAÑOS SEVEROS CON COMPROMISO DE COLUMNA Y MEDULA | AE24: SI | AF24: N.A | AG24: N.A | AH24: N.A | AI24: SOCIALIZAR NORMAS DE SEGURIDAD PARA RIESGO DE TRANSITO CON ENFASIS EN PEATONES / CONDUCTORES, CAPACITACION EN SEGURIDAD VIAL | AJ24: N.A
E25: NO | F25: CONDICIONES DE SEGURIDAD | H25: SE PRESENTA EXPOSICION A RIESGO DE TRANSITO (PÚBLICO) EN RAZON AL DESPLAZAMIENTO PARA REALIZAR VISITAS EN OTROS MUNICIPIOS | I25: NO | J25: Salud- Daño Moderado | K25: AGRESIONES FISICAS O VERBALES, HERIDAS Y LESIONES MULTIPLES, ROBOS,SECUESTROS. | L25: N.A | M25: N.A | N25: N.A | O25: MEDIO | P25: =IF(O25="","",IF(O25="BAJO",0,IF(O25="MEDIO",2,IF(O25="ALTO",6,IF(O25="MUY ALTO",10,))))) -> 2 | Q25: FRECUENTE | R25: =IF(Q25="","",IF(Q25="Esporadica",1,IF(Q25="Ocasional",2,IF(Q25="Frecuente",3,IF(Q25="Continua",4,))))) -> 3 | S25: =IF(P25="","",IF(P25=0,0,IF(P25>=1,+P25*R25))) -> 6 | T25: Medio | U25: LEVE | V25: =IF(U25="","",IF(U25="Leve",10,IF(U25="Grave",25,IF(U25="Muy Grave",60,IF(U25="Mortal o catastrófico",100,))))) -> 10 | W25: =IF(V25="","",IF(V25=0,"",IF(V25>=1,+V25*S25,))) -> 60 | X25: =IF(W25="","",IF(W25<=20,"Mantener las medidas de control existentes",IF(W25<=120,"Mejorar si es posible justificar la intervención y su rentabilidad.",IF(W25<=500,"Corregir y adoptar medidas de control de inmediato si NR es igual o mayor a 360 debe suspender las actividades",IF(W25<=4000,"Situación crítica Suspender actividades hasta que el riesgo sea controlado",))))) -> Mejorar si es posible justificar la intervención y su rentabilidad. | Y25: =IF(W25="","",IF(W25<=20,"IV",IF(W25<=120,"III",IF(W25<=500,"II",IF(W25<=4000,"I",))))) -> III | Z25: =IF(Y25="","",IF(Y25="I","No Aceptable",IF(Y25="II","Prioritario",IF(Y25="III","Mejorable",IF(Y25="IV","Aceptable",))))) -> Mejorable | AA25: 42 | AD25: TRAUMAS MULTIPLES EN DIFERENTES PARTES DEL CUERPO | AE25: SI | AF25: N.A | AG25: N.A | AH25: N.A | AI25: BRINDAR FORMACION EN TIPS DE MANEJO DEFENSIVO "Que hacer en caso de atraco: Antes, Durante y Despues" | AJ25: N.A
E26: SI | F26: BIOMECÀNICOS | H26: ADOPCION DE POSTURAS PROLONGADAS ANTIGRAVITACIONALES, PARA EL DESARROLLO DE ACTIVIDADES ADMINISTRATIVAS, MOVIMIENTOS REPETITIVOS POR DIGITACION | I26: NO | J26: Salud- Daño Moderado | K26: DAÑOS Y/O LESIONES A NIVEL OSTEOMUSCULAR, DOLORES LUMBARES | L26: N.A | M26: N.A | N26: SE REALIZAN PAUSAS ACTIVAS EN EL INTER EDIO DE LA JORNADA LABORAL | O26: BAJO | P26: =IF(O26="","",IF(O26="BAJO",0,IF(O26="MEDIO",2,IF(O26="ALTO",6,IF(O26="MUY ALTO",10,))))) -> 0 | Q26: ESPORADICO | R26: =IF(Q26="","",IF(Q26="Esporadica",1,IF(Q26="Ocasional",2,IF(Q26="Frecuente",3,IF(Q26="Continua",4,))))) -> 0 | S26: =IF(P26="","",IF(P26=0,0,IF(P26>=1,+P26*R26))) -> 0 | T26: Bajo | U26: LEVE | V26: =IF(U26="","",IF(U26="Leve",10,IF(U26="Grave",25,IF(U26="Muy Grave",60,IF(U26="Mortal o catastrófico",100,))))) -> 10 | W26: =IF(V26="","",IF(V26=0,"",IF(V26>=1,+V26*S26,))) -> 0 | X26: =IF(W26="","",IF(W26<=20,"Mantener las medidas de control existentes",IF(W26<=120,"Mejorar si es posible justificar la intervención y su rentabilidad.",IF(W26<=500,"Corregir y adoptar medidas de control de inmediato si NR es igual o mayor a 360 debe suspender las actividades",IF(W26<=4000,"Situación crítica Suspender actividades hasta que el riesgo sea controlado",))))) -> Mantener las medidas de control existentes | Y26: =IF(W26="","",IF(W26<=20,"IV",IF(W26<=120,"III",IF(W26<=500,"II",IF(W26<=4000,"I",))))) -> IV | Z26: =IF(Y26="","",IF(Y26="I","No Aceptable",IF(Y26="II","Prioritario",IF(Y26="III","Mejorable",IF(Y26="IV","Aceptable",))))) -> Aceptable | AA26: 42 | AD26: LESIONES OSTEOMUSCULARES | AE26: SI | AF26: N.A | AG26: N.A | AH26: REALIZAR INSPECCIONES DE ACUERDO A PROGRAMACION DE COPASST PARA VERIFICAR NECESIDADES DE CAMBIO Y/O MANTENIMIENTO DE MOBILIARIO DE OFICINAS | AI26: BRINDAR FORMACION Y/O RETROALIMENTACION AL PERSONAL EN RIESGO BIOMECANICO CON ENFASIS EN: Higiene Postural Frente a Videoterminales | AJ26: N.A
E27: SI | F27: FISICO | H27: LABOR FRENTE A VIDEOTERMINAL QUE IMPLICA EXPOSICION A RADIACIONES IONIZANTES, ADEMAS DE LA CARGA ELECTROSTATICA EN LA SUPERFICIE DE LOS MISMOS | I27: NO | J27: Salud- Daño leve | K27: SOBREESFUERZO VISUAL CANSANCIO, CEFALEA, ENROJECIMIENTO, FATIGA, RESEQUEDAD, LAGRIMEO | L27: VIDEOTERMINAL CON PANTALLA ANTIREFLEJO | M27: N.A | N27: N.A | O27: BAJO | P27: =IF(O27="","",IF(O27="BAJO",0,IF(O27="MEDIO",2,IF(O27="ALTO",6,IF(O27="MUY ALTO",10,))))) -> 0 | Q27: ESPORADICO | R27: =IF(Q27="","",IF(Q27="Esporadica",1,IF(Q27="Ocasional",2,IF(Q27="Frecuente",3,IF(Q27="Continua",4,))))) -> 0 | S27: =IF(P27="","",IF(P27=0,0,IF(P27>=1,+P27*R27))) -> 0 | T27: Medio | U27: LEVE | V27: =IF(U27="","",IF(U27="Leve",10,IF(U27="Grave",25,IF(U27="Muy Grave",60,IF(U27="Mortal o catastrófico",100,))))) -> 10 | W27: =IF(V27="","",IF(V27=0,"",IF(V27>=1,+V27*S27,))) -> 0 | X27: =IF(W27="","",IF(W27<=20,"Mantener las medidas de control existentes",IF(W27<=120,"Mejorar si es posible justificar la intervención y su rentabilidad.",IF(W27<=500,"Corregir y adoptar medidas de control de inmediato si NR es igual o mayor a 360 debe suspender las actividades",IF(W27<=4000,"Situación crítica Suspender actividades hasta que el riesgo sea controlado",))))) -> Mantener las medidas de control existentes | Y27: =IF(W27="","",IF(W27<=20,"IV",IF(W27<=120,"III",IF(W27<=500,"II",IF(W27<=4000,"I",))))) -> IV | Z27: =IF(Y27="","",IF(Y27="I","No Aceptable",IF(Y27="II","Prioritario",IF(Y27="III","Mejorable",IF(Y27="IV","Aceptable",))))) -> Aceptable | AA27: 42 | AD27: SINDROME DE FATIGA VISUAL CORPORAL POR COMPUTADOR | AE27: SI | AF27: N.A | AG27: N.A | AH27: GRADUAR BRILLO, ALTURA, REALIZAR LIMPIEZA FRECUENTE DE PANTALLA | AI27: BRINDAR FORMACION AL PERSONAL EN RIESGO FISICO CON ENFASIS EN SALUD VISUAL Y PAUSAS ACTIVAS VISUALES | AJ27: N.A
E28: SI | F28: FENÓMENOS NATURALES | H28: RIESGO POR FENOMENOS NATURALES COMO: Tormentas Electricas, Vendavales, Sismo, Terremoto, Incendio, Innundaciones | I28: NO | J28: Salud- Daño extremo | K28: POLITRAUMATISMOS, LESIONES SEVERAS, ALTERACIONES NERVIOSAS | L28: N.A | M28: PLAN DE EMERGENCIAS | N28: N.A | O28: MEDIO | P28: =IF(O28="","",IF(O28="BAJO",0,IF(O28="MEDIO",2,IF(O28="ALTO",6,IF(O28="MUY ALTO",10,))))) -> 2 | Q28: FRECUENTE | R28: =IF(Q28="","",IF(Q28="Esporadica",1,IF(Q28="Ocasional",2,IF(Q28="Frecuente",3,IF(Q28="Continua",4,))))) -> 3 | S28: =IF(P28="","",IF(P28=0,0,IF(P28>=1,+P28*R28))) -> 6 | T28: Medio | U28: LEVE | V28: =IF(U28="","",IF(U28="Leve",10,IF(U28="Grave",25,IF(U28="Muy Grave",60,IF(U28="Mortal o catastrófico",100,))))) -> 10 | W28: =IF(V28="","",IF(V28=0,"",IF(V28>=1,+V28*S28,))) -> 60 | X28: =IF(W28="","",IF(W28<=20,"Mantener las medidas de control existentes",IF(W28<=120,"Mejorar si es posible justificar la intervención y su rentabilidad.",IF(W28<=500,"Corregir y adoptar medidas de control de inmediato si NR es igual o mayor a 360 debe suspender las actividades",IF(W28<=4000,"Situación crítica Suspender actividades hasta que el riesgo sea controlado",))))) -> Mejorar si es posible justificar la intervención y su rentabilidad. | Y28: =IF(W28="","",IF(W28<=20,"IV",IF(W28<=120,"III",IF(W28<=500,"II",IF(W28<=4000,"I",))))) -> III | Z28: =IF(Y28="","",IF(Y28="I","No Aceptable",IF(Y28="II","Prioritario",IF(Y28="III","Mejorable",IF(Y28="IV","Aceptable",))))) -> Mejorable | AA28: 42 | AD28: LESIONES MULTIPLES | AE28: SI | AF28: NA | AG28: NA | AH28: N.A | AI28: REALIZAR LAS PRACTICAS (Simulacros) ANUAL DE EVACUACION, PRIMEROS AUXILIOS Y MANTENER DESPEJADAS AREAS DE CIRCULACION PARA RESPONDER DE MANERA EFECTIVA A UNA EVACUACION EN CASO DE EMERGENCIA | AJ28: N.A
P29: =IF(O29="","",IF(O29="BAJO",0,IF(O29="MEDIO",2,IF(O29="ALTO",6,IF(O29="MUY ALTO",10,))))) | R29: =IF(Q29="","",IF(Q29="Esporadica",1,IF(Q29="Ocasional",2,IF(Q29="Frecuente",3,IF(Q29="Continua",4,))))) | S29: =IF(P29="","",IF(P29=0,0,IF(P29>=1,+P29*R29))) | V29: =IF(U29="","",IF(U29="Leve",10,IF(U29="Grave",25,IF(U29="Muy Grave",60,IF(U29="Mortal o catastrófico",100,))))) | W29: =IF(V29="","",IF(V29=0,"",IF(V29>=1,+V29*S29,))) | X29: =IF(W29="","",IF(W29<=20,"Mantener las medidas de control existentes",IF(W29<=120,"Mejorar si es posible justificar la intervención y su rentabilidad.",IF(W29<=500,"Corregir y adoptar medidas de control de inmediato si NR es igual o mayor a 360 debe suspender las actividades",IF(W29<=4000,"Situación crítica Suspender actividades hasta que el riesgo sea controlado",))))) | Y29: =IF(W29="","",IF(W29<=20,"IV",IF(W29<=120,"III",IF(W29<=500,"II",IF(W29<=4000,"I",)))))
A30: CONDUCTOR | B30: TODAS LAS AREAS | C30: DENTRO Y FUERA DE LA EMPRESA | D30: ENCARGADO DE CONDUCIR EL CARRO DE LA CONTRALORÍA | E30: SI | F30: PSICOLABORAL | H30: CONCENTRACION, RESPONSABILIDAD DE LA LABOR, CONDICIONES DE SEGURIDAD | I30: NO | J30: Salud- Daño Moderado | K30: CANSANCIO, CEFALEA, ALTERACIONES Y/O MOLESTIAS GASTROINTESTINALES, AGOTAMIENTO, CONSUMO DE SUSTANCIAS PSICOACTIVAS | L30: N.A | M30: N.A | N30: ACTIVIDADES DEPORTIVAS, RECREATIVAS Y CULTURALES | O30: MEDIO | P30: =IF(O30="","",IF(O30="BAJO",0,IF(O30="MEDIO",2,IF(O30="ALTO",6,IF(O30="MUY ALTO",10,))))) -> 2 | Q30: FRECUENTE | R30: =IF(Q30="","",IF(Q30="Esporadica",1,IF(Q30="Ocasional",2,IF(Q30="Frecuente",3,IF(Q30="Continua",4,))))) -> 3 | S30: =IF(P30="","",IF(P30=0,0,IF(P30>=1,+P30*R30))) -> 6 | T30: Bajo | U30: LEVE | V30: =IF(U30="","",IF(U30="Leve",10,IF(U30="Grave",25,IF(U30="Muy Grave",60,IF(U30="Mortal o catastrófico",100,))))) -> 10 | W30: =IF(V30="","",IF(V30=0,"",IF(V30>=1,+V30*S30,))) -> 60 | X30: =IF(W30="","",IF(W30<=20,"Mantener las medidas de control existentes",IF(W30<=120,"Mejorar si es posible justificar la intervención y su rentabilidad.",IF(W30<=500,"Corregir y adoptar medidas de control de inmediato si NR es igual o mayor a 360 debe suspender las actividades",IF(W30<=4000,"Situación crítica Suspender actividades hasta que el riesgo sea controlado",))))) -> Mejorar si es posible justificar la intervención y su rentabilidad. | Y30: =IF(W30="","",IF(W30<=20,"IV",IF(W30<=120,"III",IF(W30<=500,"II",IF(W30<=4000,"I",))))) -> III | Z30: =IF(Y30="","",IF(Y30="I","No Aceptable",IF(Y30="II","Prioritario",IF(Y30="III","Mejorable",IF(Y30="IV","Aceptable",))))) -> Mejorable | AA30: 1 | AD30: ESTRÉS LABORAL | AE30: SI | AF30: N.A | AG30: N.A | AH30: N.A | AI30: VERIFICAR CON RESULTADOS DE APLICACIÓN DE BATERIAS SI SE REQUIERE INTERVENCION PARA RIESGO PSICOSOCIAL: CONTINUAR CON ACTIVIDADES DE INTEGRACION, RECREACION, DEPORTE Y/O CULTURA; BRINDAR FORMACION LUDICA AL PERSONAL EN MANEJO DEL ESTRÉS, LIDERAZGO, RELACIONES INTERPERSONALES Y COMUNICACION ASERTIVA | AJ30: N.A
E31: SI | F31: BIOLOGICO | H31: PROPAGACION DEL VIRUS COVID 19, FIEBRE AMARILLA CON RIESGO DE CONTAGIO POR CONTACTO POR GOTAS, CONTACTO CON SUPERFICIES CONTAMINADAS, POR PICADURA DE INSECTOS. | I31: NO | J31: Salud- Daño Moderado | K31: TOS, MALESTAR, SECRECION NASAL, PROBLEMAS RESIRATORIOS, TOS, MUERTE | L31: N/A | M31: CAPACITACION SOBRE MEDIOS DE PROPAGACION , PREVENCION , LAVADO DE MANOS. | N31: DISTANCIAMIENTO SOCIAL. LAVADO DE MANOS CONSTANTE, USO DE PROTECCION RESPIRATORIA EN CASO DE PRESENTAR SINTOMAS | O31: BAJO | P31: =IF(O31="","",IF(O31="BAJO",0,IF(O31="MEDIO",2,IF(O31="ALTO",6,IF(O31="MUY ALTO",10,))))) -> 0 | Q31: ESPORADICO | R31: =IF(Q31="","",IF(Q31="Esporadica",1,IF(Q31="Ocasional",2,IF(Q31="Frecuente",3,IF(Q31="Continua",4,))))) -> 0 | S31: =IF(P31="","",IF(P31=0,0,IF(P31>=1,+P31*R31))) -> 0 | T31: Bajo | U31: LEVE | V31: =IF(U31="","",IF(U31="Leve",10,IF(U31="Grave",25,IF(U31="Muy Grave",60,IF(U31="Mortal o catastrófico",100,))))) -> 10 | W31: =IF(V31="","",IF(V31=0,"",IF(V31>=1,+V31*S31,))) -> 0 | X31: =IF(W31="","",IF(W31<=20,"Mantener las medidas de control existentes",IF(W31<=120,"Mejorar si es posible justificar la intervención y su rentabilidad.",IF(W31<=500,"Corregir y adoptar medidas de control de inmediato si NR es igual o mayor a 360 debe suspender las actividades",IF(W31<=4000,"Situación crítica Suspender actividades hasta que el riesgo sea controlado",))))) -> Mantener las medidas de control existentes | Y31: =IF(W31="","",IF(W31<=20,"IV",IF(W31<=120,"III",IF(W31<=500,"II",IF(W31<=4000,"I",))))) -> IV | Z31: =IF(Y31="","",IF(Y31="I","No Aceptable",IF(Y31="II","Prioritario",IF(Y31="III","Mejorable",IF(Y31="IV","Aceptable",))))) -> Aceptable | AA31: 1 | AD31: Enfermedad | AE31: si | AF31: N.A | AG31: N.A | AH31: Desinfeccion de Area y vehiculos con aspersores con agua y amonio cuentenario de 5o generacion. | AI31: Realizar Protocolos para prevencion de contagio del COVID 19 en jornada laboral. Capacitacion en prevencion y mitigacion del covid 19 generadas por el gobierno nacional. Higiene de manos al ingresar a laborar y durante la jornada cada dos o tres horas o cada que se requiera . Impemenatcion de sistema de verificacion de listas de personas que han tenido contacto los trabajadores. | AJ31: Tapabocas,guantes G40
E32: SI | F32: FENÓMENOS NATURALES | H32: RIESGO POR FENOMENOS NATURALES COMO: Tormentas Electricas, Vendavales, Sismo, Terremoto, Incendio. | I32: NO | J32: Salud- Daño extremo | K32: POLITRAUMATISMOS, LESIONES SEVERAS, ALTERACIONES NERVIOSAS | L32: N.A | M32: PLAN DE EMERGENCIAS | N32: N.A | O32: BAJO | P32: =IF(O32="","",IF(O32="BAJO",0,IF(O32="MEDIO",2,IF(O32="ALTO",6,IF(O32="MUY ALTO",10,))))) -> 0 | Q32: ESPORADICO | R32: =IF(Q32="","",IF(Q32="Esporadica",1,IF(Q32="Ocasional",2,IF(Q32="Frecuente",3,IF(Q32="Continua",4,))))) -> 0 | S32: =IF(P32="","",IF(P32=0,0,IF(P32>=1,+P32*R32))) -> 0 | T32: Bajo | U32: LEVE | V32: =IF(U32="","",IF(U32="Leve",10,IF(U32="Grave",25,IF(U32="Muy Grave",60,IF(U32="Mortal o catastrófico",100,))))) -> 10 | W32: =IF(V32="","",IF(V32=0,"",IF(V32>=1,+V32*S32,))) -> 0 | X32: =IF(W32="","",IF(W32<=20,"Mantener las medidas de control existentes",IF(W32<=120,"Mejorar si es posible justificar la intervención y su rentabilidad.",IF(W32<=500,"Corregir y adoptar medidas de control de inmediato si NR es igual o mayor a 360 debe suspender las actividades",IF(W32<=4000,"Situación crítica Suspender actividades hasta que el riesgo sea controlado",))))) -> Mantener las medidas de control existentes | Y32: =IF(W32="","",IF(W32<=20,"IV",IF(W32<=120,"III",IF(W32<=500,"II",IF(W32<=4000,"I",))))) -> IV | Z32: =IF(Y32="","",IF(Y32="I","No Aceptable",IF(Y32="II","Prioritario",IF(Y32="III","Mejorable",IF(Y32="IV","Aceptable",))))) -> Aceptable | AA32: 1 | AD32: LESIONES MULTIPLES | AE32: SI | AF32: NA | AG32: NA | AH32: N.A | AI32: REALIZAR LAS PRACTICAS (Simulacros) ANUAL DE EVACUACION, PRIMEROS AUXILIOS Y MANTENER DESPEJADAS AREAS DE CIRCULACION PARA RESPONDER DE MANERA EFECTIVA A UNA EVACUACION EN CASO DE EMERGENCIA | AJ32: N.A
E33: NO | F33: CONDICIONES DE SEGURIDAD | H33: SE PRESENTA EXPOSICION A RIESGO DE TRANSITO EN RAZON A SU LABOR DE CONDUCTOR, ATRACOS, ACCIDENTES DE TRANSITO | I33: NO | J33: Salud- Daño Moderado | K33: CHOQUES, LESIONES FISICAS, POLITRAUMATISMOS, MUERTE | L33: N.A | M33: N.A | N33: N.A | O33: MEDIO | P33: =IF(O33="","",IF(O33="BAJO",0,IF(O33="MEDIO",2,IF(O33="ALTO",6,IF(O33="MUY ALTO",10,))))) -> 2 | Q33: FRECUENTE | R33: =IF(Q33="","",IF(Q33="Esporadica",1,IF(Q33="Ocasional",2,IF(Q33="Frecuente",3,IF(Q33="Continua",4,))))) -> 3 | S33: =IF(P33="","",IF(P33=0,0,IF(P33>=1,+P33*R33))) -> 6 | T33: Medio | U33: LEVE | V33: =IF(U33="","",IF(U33="Leve",10,IF(U33="Grave",25,IF(U33="Muy Grave",60,IF(U33="Mortal o catastrófico",100,))))) -> 10 | W33: =IF(V33="","",IF(V33=0,"",IF(V33>=1,+V33*S33,))) -> 60 | X33: =IF(W33="","",IF(W33<=20,"Mantener las medidas de control existentes",IF(W33<=120,"Mejorar si es posible justificar la intervención y su rentabilidad.",IF(W33<=500,"Corregir y adoptar medidas de control de inmediato si NR es igual o mayor a 360 debe suspender las actividades",IF(W33<=4000,"Situación crítica Suspender actividades hasta que el riesgo sea controlado",))))) -> Mejorar si es posible justificar la intervención y su rentabilidad. | Y33: =IF(W33="","",IF(W33<=20,"IV",IF(W33<=120,"III",IF(W33<=500,"II",IF(W33<=4000,"I",))))) -> III | Z33: =IF(Y33="","",IF(Y33="I","No Aceptable",IF(Y33="II","Prioritario",IF(Y33="III","Mejorable",IF(Y33="IV","Aceptable",))))) -> Mejorable | AA33: 1 | AD33: DAÑOS SEVEROS CON COMPROMISO DE COLUMNA Y MEDULA | AE33: SI | AF33: N.A | AG33: N.A | AH33: N.A | AI33: SOCIALIZAR NORMAS DE SEGURIDAD PARA RIESGO DE TRANSITO CON ENFASIS EN CONDUCTORES | AJ33: N.A
