Workbook
Name \0: #REF!
Name \00: #REF!
Name \a: #REF!
Name \a: #REF!
Name \a: #REF!
Name \a: #REF!
Name \a: #REF!
Name \AA: [1]LIQUIDACION!#REF!
Name \b: '[2]CUAD-DIURNA'!#REF!
Name \b: [3]STRSUMM0!#REF!
Name \bb: [3]STRSUMM0!#REF!
Name \c: #REF!
Name \E: #REF!
Name \EE: #REF!
Name \G: #REF!
Name \k: '[4]7422CW00'!#REF!
Name \L: #REF!
Name \l: [5]STRSUMM0!#REF!
Name \M: #REF!
Name \ñ: '[6]7422CW00'!#REF!
Name \P: #REF!
Name \q: #REF!
Name \q: #REF!
Name \q: #N/A
Name \R: #REF!
Name \s: #REF!
Name \s: #REF!
Name \s: #REF!
Name \s: #REF!
Name \s: #REF!
Name \u: #N/A
Name \V: #REF!
Name \w: #N/A
Name \w: #N/A
Name \w: [7]TORRES!#REF!
Name \X: AIU!err
Name \X: 'APU 1.1'!ERR
Name \X: 'APU 1.2'!ERR
Name \X: 'APU 1.3'!ERR
Name \X: 'MEMORIAS DE CALCULO'!ERR
Name \X: 'Transporte de materiales- t'!ERR
Name \X: [0]!ERR
Name \y: [8]!ERR
Name \y: [8]!ERR
Name \y: [8]!ERR
Name \y: [8]!ERR
Name \Z: AIU!err
Name \Z: 'APU 1.1'!ERR
Name \Z: 'APU 1.2'!ERR
Name \Z: 'APU 1.3'!ERR
Name \Z: 'MEMORIAS DE CALCULO'!ERR
Name \Z: 'Transporte de materiales- t'!ERR
Name \Z: [0]!ERR
Name _: #REF!
Name _________________________________________________AFC1: [9]INV!$A$25:$D$28
Name _________________________________________________AFC3: [9]INV!$F$25:$I$28
Name _________________________________________________AFC5: [9]INV!$K$25:$N$28
Name _________________________________________________BGC1: [9]INV!$A$5:$D$8
Name _________________________________________________BGC3: [9]INV!$F$5:$I$8
Name _________________________________________________BGC5: [9]INV!$K$5:$N$8

Sheet AIU
D2: REPÚBLICA DE COLOMBIA
D3: DEPARTAMENTO DE CASANARE
D4: ALCALDÍA MUNICIPAL DE SABANALARGA
D5: ANEXO - ANALISIS DE AIU
D6: ='PRESUPUESTO OFICIAL '!C13 -> 1. PUNTO CRITICO CAÑO BLANCO
C8: Valor estimado del costo directo | G8: 36556478
C9: Valor estimado total presupuesto de obra | G9: ='PRESUPUESTO OFICIAL '!K22 -> 48985680
C10: Plazo de ejecución estimado (mes) | G10: 0.5
B12: CAPITULO | C12: TIPO DE GASTO | F12: UND | G12: CANT | H12: DEDICACIÓN | I12: SALARIO MENSUAL | J12: FACTOR PRESTACIONAL | K12: TIEMPO | L12: VALOR PARCIAL | M12: TOTAL | N12: % sobre C.D.
B13: 1 | C13: GASTOS GENERALES | M13: =SUM(L15:L15) -> 3002000 | N13: =M13/G8 -> 0.082119509
B14: 1.1 | C14: PERSONAL
C15: residente de obra | F15: un | G15: 1 | H15: 1 | I15: 3800000 | J15: 0.58 | K15: =G10 -> 0.5 | L15: =+G15*H15*I15*(1+J15)*K15 -> 3002000
B16: 2 | C16: GASTOS INDIRECTOS | P16: pensión | Q16: 0.12
B17: 2.1 | C17: POLIZAS (% calculados sobre el valor total del contrato) | M17: =SUM(L18:L22) -> 149881.56 | N17: =+M17/$G$8 -> 0.0041 | P17: vacaciones | Q17: 0.0416
C18: Seriedad de la propuesta | F18: un | G18: 1 | H18: 0.0004 | L18: =+H18*$G$8 -> 14622.591 | P18: cesantías | Q18: 0.0833
C19: Cumplimiento | F19: un | G19: 1 | H19: 0.0002 | L19: =+H19*$G$8 -> 7311.2955 | P19: i cesantías | Q19: 0.01
C20: Calidad del bien o servicio | F20: un | G20: 1 | H20: 0.002 | L20: =+H20*$G$8 -> 73112.955 | P20: riesgos | Q20: 0.0696
C21: Responsabilidad civil extracontractual | F21: un | G21: 1 | H21: 0.0012 | L21: =+H21*$G$8 -> 43867.773 | P21: parafiscales | Q21: 0.09
C22: Salarios y prestaciones sociales | F22: un | G22: 1 | H22: 0.0003 | L22: =+H22*$G$8 -> 10966.943 | P22: p servicios | Q22: 0.0833
B23: 2.2 | C23: INSTALACIONES PROVISIONALES, TRANSPORTES Y GASTOS DE OFICINA | M23: =SUM(L24:L26) -> 1389090.8 | N23: =+M23/$G$8 -> 0.037998486 | Q23: =ROUND(SUM(Q15:Q22),4) -> 0.4978
C24: Gastos de papeleria e informes (empastes, copias, impresiones, planos, registro fotografico, videos) | F24: un | G24: 1 | H24: =I24/$G$9 -> 0.011803074 | I24: 578181.6 | K24: =G10 -> 0.5 | L24: =+G24*I24*K24 -> 289090.8
C25: alquiler de vehiculo ( transporte de personal) | F25: un | G25: 1 | H25: =I25/$G$9 -> 0.024496955 | I25: 1200000 | K25: 0.5 | L25: =+G25*I25*K25 -> 600000
C26: Sistema de Seguridad Industrial/Dotación | F26: un | G26: 1 | H26: =I26/$G$9 -> 0.020414129 | I26: 1000000 | K26: =G10 -> 0.5 | L26: =+I26*K26*G26 -> 500000
B27: 2.3 | C27: IMPUESTOS, TASAS Y CONTRIBUCIONES (% calculados sobre el valor del contrato) | M27: =SUM(L28:L35) -> 8195304.3 | N27: =+M27/$G$8 -> 0.224182
C28: Estampilla para el fomento y estímulo a la cultura 1% sobre el valor total del contrato. | H28: 0.01 | L28: =+H28*$G$9 -> 489856.8
C29: Estampilla para el bienestar del adulto mayor 4,2% sobre el valor total del contrato. | H29: 0.042 | L29: =+H29*$G$9 -> 2057398.6
C30: Tasa pro deporte y recreación 1,5 % sobre el valor total del contrato. | H30: 0.015 | L30: =+H30*$G$9 -> 734785.2
C31: Estampilla para la justicia familiar 2%, sobre el valor bruto del contrato, es decir, el valor de cada pago sin incluir el IVA. | H31: 0.02 | L31: =+H31*$G$9 -> 979713.6
C32: Impuesto de seguridad 5 % sobre el valor total del contrato. | H32: 0.05 | L32: =+H32*$G$9 -> 2449284
C33: Industria y Comercio 10 x 1000 sobre el valor total del contrato. (Régimen de rentas del municipio de Sabanalarga) | H33: 0.01 | L33: =+H33*$G$9 -> 489856.8
C34: Estampilla Bomberil 3% de la sumatoria de lo liquidado de industria y comercio y avisos y tableros. | H34: =L34/$G$9 -> 0.0003 | I34: Ind y Com. | L34: =L33*3% -> 14695.704
C35: Retención, Conforme a lo previsto en la ley 1607 de 2012 y sus decretos reglamentarios Nos. 099 y 1070 de 2013. | H35: 0.02 | L35: =+H35*$G$9 -> 979713.6
C36: TOTAL GASTOS ADMINISTRACIÓN | H36: =+M36/$G$9 -> 0.26 | M36: =ROUND(SUM(M13:M35),0) -> 12736277 | P36: 24113205
B37: 3 | C37: IMPREVISTOS | H37: 0.01 | M37: =ROUND(+H37*G9,0) -> 489857
B38: 4 | C38: UTILIDAD | H38: 0.05 | M38: =ROUND(+H38*G9,0) -> 2449284
C39: TOTAL A.I.U. | H39: =H36+H37+H38 -> 0.32 | M39: =ROUND(+M38+M37+M36,0) -> 15675418
C42: Proyectó: | D42: YIMER FERNANDO CARO GAITAN | K42: Revisó/Aprobó: | L42: MÓNICA YULIETH RODRÍGUEZ TORRES
D43: CPSP No. 110.2011.028 de 2026 – SPOP | L43: Secretaria de Planeacion y Obras Publicas

Sheet PRESUPUESTO OFICIAL 
C3: Formulario 1 - Propuesta económica - Documento tipo de mínima cuantía de obra pública de infraestructura de transporte - versión 2
C4: Código | D4: CCE-EICP-FM-32 | E4: Versión | F4: 2
C5: FORMULARIO 1
C6: PRESUPUESTO OFICIAL
C7: [La Entidad puede utilizar este formulario de detalle del presupuesto oficial para determinar las condiciones bajo las cuales los Proponentes analizarán y presentarán su propuesta económica de forma detallada, sin perjuicio que la Entidad pueda modificarlo o establecer la presentación de la oferta económica con un formulario distinto al indicado.] [El presente Formulario aplica para los Procesos de Contratación que tengan como forma de pago precios unitarios. Tratándose de otras modalidades de pago, la Entidad debe ajustarlo cuando corresponde a: precio global, llave en mano, administración delegada, reembolso de gastos o cualquier otra forma de pago.]
C9: Adicionalmente, cuando el proceso de contratación es estructurado por precios unitarios, la Entidad debe aplicar las notas 1, 2 y 3 del presente formulario y las casillas de "Descripción", "Porcentaje" de la Administración, Imprevisto, Utilidad y total A.I.U. resaltadas en color amarillo. Tratándose de otras modalidades de precio, la Entidad puede o no configurar los mismos aspectos.
C10: "Estabilización de punto crítico por deslizamiento lateral de talud contiguo a placa huella en la vía Caño Blanco PR 15+600, mediante conformación de terrazas, construcción de enrocado de protección y obras de drenaje en el municipio de sabanalarga, casanare."
C11: Nº | D11: ITEM DE PAGO | E11: ESPECIFICACIONES | G11: DESCRIPCION | H11: UND. | I11: CANTIDAD | J11: VALOR UNITARIO | K11: VALOR TOTAL
E12: GENERAL | F12: PARTICULAR
C13: 1. PUNTO CRITICO CAÑO BLANCO
C14: 1 | D14: 1.1 | G14: Estabilización de talud mediante terraceo y conformación de enrocado con material pétreo del sitio de intervencion. | H14: M3 | I14: ='MEMORIAS DE CALCULO'!L21 -> 190 | J14: ='APU 1.1'!O68 -> 178710 | K14: =ROUND(J14*I14,0) -> 33954900
C15: 2 | D15: 1.2 | G15: Geodren vial con tuberia de drenaje Ø 100 mm, H=1.00 m | H15: M | I15: ='MEMORIAS DE CALCULO'!L54 -> 41 | J15: ='APU 1.2'!O68 -> 115843 | K15: =ROUND(J15*I15,0) -> 4749563
C16: 3 | D16: 1.3 | G16: Movilizacion y desmovilizacion de equipo pesado | H16: KM | I16: ='MEMORIAS DE CALCULO'!L87 -> 177.4 | J16: ='APU 1.3'!O68 -> 57955 | K16: =ROUND(J16*I16,0) -> 10281217
C17: Subtotal | K17: =SUM(K14:K16) -> 48985680
C18: SUBTOTAL OBRAS | K18: =K17 -> 48985680
C19: SUBTOTAL OBRAS | K19: =K18 -> 48985680
G21: SUBTOTAL OBRAS (INCLUYE AIU) | K21: =K19 -> 48985680
G22: VALOR TOTAL | K22: =K19 -> 48985680
C25: NOTA 1: Se debe tener en cuenta que el PRECIO UNITARIO incluye el valor de AIU. | H25: DESCRIPCION | K25: PORCENTAJE
C26: NOTA 2: Cuando la fracción decimal del peso sea igual o superior a 5 se aproximará por exceso al número entero siguiente del peso y cuando la fracción decimal del peso sea inferior a 5 se aproximará por defecto al número entero del peso. | H26: ADMINISTRACIÓN | J26: A= | K26: 0.28
C27: NOTA 3: El AIU y su discriminación deben estar en porcentaje (%). | H27: IMPREVISTO | J27: I= | K27: 0.01
H28: UTILIDAD | J28: U= | K28: 0.05
H29: TOTAL A.I.U | J29: A.I.U.= | K29: 0.34
D37: Firma | H37: Firma
D38: Nombre: YIMER FERNANDO CARO GAITAN | H38: Nombre: | I38: MONICA YULIETH RODRIGUEZ TORRES
D39: Profesional de Apoyo S.P.O.P | H39: Secretaria de Planeación y Obras Públicas

Sheet APU 1.1
C3: Formulario 1 - Propuesta económica - Documento tipo de mínima cuantía de obra pública de infraestructura de transporte - versión 2
C4: Código | D4: CCE-EICP-FM-32 | E4: Versión | F4: 2
C6: [La entidad podrá utilizar este formato para la presentación de los análisis de Precios Unitarios del Contratista en la oportunidad prevista en el numeral 8.2. de la invitación]
D9: [NOMBRE DE LA ENTIDAD]
L10: VERSIÓN
D11: [NÚMERO DEL PROCESO]
L12: PÁGINA | M12: 1 | N12: DE | O12: 1
D14: ANALISIS DE PRECIOS UNITARIOS
L16: FECHA | M16: DD | N16: MM | O16: AA
M17: 1 | N17: 7 | O17: 2026
C18: ÍTEMS DE LA PROPUESTA ECONÓMICA | I18: ÍTEMS NO PREVISTOS
I20: ='PRESUPUESTO OFICIAL '!C13 -> 1. PUNTO CRITICO CAÑO BLANCO
C22: DATOS ESPECÍFICOS
C24: ÍTEM | D24: DESCRIPCIÓN | M24: UNIDAD | O24: CANTIDAD
C25: ='PRESUPUESTO OFICIAL '!D14 -> 1.1 | D25: ='PRESUPUESTO OFICIAL '!G14 -> Estabilización de talud mediante terraceo y conformación de enrocado con material pétreo del sitio de intervencion. | M25: ='PRESUPUESTO OFICIAL '!H14 -> M3 | O25: ='PRESUPUESTO OFICIAL '!I14 -> 190
C26: I. EQUIPO
C29: DESCRIPCIÓN | H29: MARCA | J29: TIPO | L29: TARIFA/HORA | M29: RENDIMIENTO | O29: Vr. UNITARIO
C30: Retroexcavadora sobre oruga | J30: HR | L30: 0.35 | M30: 363603 | O30: =M30*L30 -> 127261.05
C31: Herramienta menor 10% M.O. AA-2 | J31: HR | L31: 0.125 | M31: 4440 | O31: =M31*L31 -> 555
C33: SUBTOTAL $ | O33: =SUM(O30:O32) -> 127816.05
C34: II. MATERIALES
C37: DESCRIPCIÓN | K37: UNIDAD | L37: CANTIDAD | M37: PRECIO UNIT. | O37: Vr. UNITARIO
C40: SUBTOTAL $ | O40: 0
C41: III. TRANSPORTES
C44: MATERIAL | J44: VOL. o PESO | K44: DISTANCIA | L44: M3 o Ton/Km | M44: TARIFA | O44: Vr. UNITARIO
C47: SUBTOTAL $ | O47: =SUM(O44:O46) -> 0
C48: IV. MANO DE OBRA
C51: TRABAJADOR | J51: JORNAL | K51: PRESTACIONES | L51: JORNAL TOTAL | M51: RENDIMIENTO | O51: Vr. UNITARIO
C52: Cuadrilla AA-2 | J52: h | L52: 44403 | M52: 0.125 | O52: =M52*L52 -> 5550.375
C56: SUBTOTAL $ | O56: =SUM(O52:O55) -> 5550.375
C58: TOTAL COSTO DIRECTO $ | O58: =ROUND(+O56+O47+O40+O33,0) -> 133366
C59: V. COSTOS INDIRECTOS
C62: Descripción | L62: Porcentaje | M62: Valor Total
C63: ADMINISTRACION | L63: 0.28 | M63: =O58 -> 133366 | O63: =M63*28% -> 37342.48
C64: IMPREVISTOS | L64: 0.01 | M64: =M63 -> 133366 | O64: =M64*1% -> 1333.66
C65: UTILIDAD | L65: 0.05 | M65: =M63 -> 133366 | O65: =M65*5% -> 6668.3
C66: SUBTOTAL $ | O66: =ROUND(SUM(O63:O65),0) -> 45344
C68: Precio Unitario Total Aproximado al peso $ | O68: =ROUND(O66+O58,) -> 178710
H72: Firma
H73: Nombre: YIMER FERNANDO CARO GAITAN
...

Sheet APU 1.2
C3: Formulario 1 - Propuesta económica - Documento tipo de mínima cuantía de obra pública de infraestructura de transporte - versión 2
C4: Código | D4: CCE-EICP-FM-32 | E4: Versión | F4: 2
C6: [La entidad podrá utilizar este formato para la presentación de los análisis de Precios Unitarios del Contratista en la oportunidad prevista en el numeral 8.2. de la invitación]
D9: [NOMBRE DE LA ENTIDAD]
L10: VERSIÓN
D11: [NÚMERO DEL PROCESO]
L12: PÁGINA | M12: 1 | N12: DE | O12: 1
D14: ANALISIS DE PRECIOS UNITARIOS
L16: FECHA | M16: DD | N16: MM | O16: AA
M17: 1 | N17: 7 | O17: 2026
C18: ÍTEMS DE LA PROPUESTA ECONÓMICA | I18: ÍTEMS NO PREVISTOS
I20: ='PRESUPUESTO OFICIAL '!C13 -> 1. PUNTO CRITICO CAÑO BLANCO
C22: DATOS ESPECÍFICOS
C24: ÍTEM | D24: DESCRIPCIÓN | M24: UNIDAD | O24: CANTIDAD
C25: ='PRESUPUESTO OFICIAL '!D15 -> 1.2 | D25: ='PRESUPUESTO OFICIAL '!G15 -> Geodren vial con tuberia de drenaje Ø 100 mm, H=1.00 m | M25: ='PRESUPUESTO OFICIAL '!H15 -> M | O25: ='PRESUPUESTO OFICIAL '!I15 -> 41
C26: I. EQUIPO
C29: DESCRIPCIÓN | H29: MARCA | J29: TIPO | L29: TARIFA/HORA | M29: RENDIMIENTO | O29: Vr. UNITARIO
C30: Herramienta menor 5% M.O. AA | J30: HR | L30: 0.0667 | M30: 1574 | O30: =M30*L30 -> 104.9858
C33: SUBTOTAL $ | O33: =SUM(O30:O32) -> 104.9858
C34: II. MATERIALES
C37: DESCRIPCIÓN | K37: UNIDAD | L37: CANTIDAD | M37: PRECIO UNIT. | O37: Vr. UNITARIO
C38: Geodren vial Ø 100 mm h=1.00 m | K38: m | L38: 1 | M38: 84200 | O38: =M38*L38 -> 84200
C40: SUBTOTAL $ | O40: =SUM(O38:O39) -> 84200
C41: III. TRANSPORTES
C44: MATERIAL | J44: VOL. o PESO | K44: DISTANCIA | L44: M3 o Ton/Km | M44: TARIFA | O44: Vr. UNITARIO
C45: Transporte de materiales - t | L45: 0.003 | M45: ='Transporte de materiales- t'!$O$60 -> 15371 | O45: =M45*L45 -> 46.113
C47: SUBTOTAL $ | O47: =SUM(O45:O46) -> 46.113
C48: IV. MANO DE OBRA
C51: TRABAJADOR | J51: JORNAL | K51: PRESTACIONES | L51: JORNAL TOTAL | M51: RENDIMIENTO | O51: Vr. UNITARIO
C52: Cuadrilla AA (Albañileria) | J52: h | L52: 31473 | M52: 0.0667 | O52: =M52*L52 -> 2099.2491
C56: SUBTOTAL $ | O56: =SUM(O52:O55) -> 2099.2491
C58: TOTAL COSTO DIRECTO $ | O58: =ROUND(+O56+O47+O40+O33,0) -> 86450
C59: V. COSTOS INDIRECTOS
C62: Descripción | L62: Porcentaje | M62: Valor Total
C63: ADMINISTRACION | L63: 0.28 | M63: =O58 -> 86450 | O63: =M63*28% -> 24206
C64: IMPREVISTOS | L64: 0.01 | M64: =M63 -> 86450 | O64: =M64*1% -> 864.5
C65: UTILIDAD | L65: 0.05 | M65: =M63 -> 86450 | O65: =M65*5% -> 4322.5
C66: SUBTOTAL $ | O66: =ROUND(SUM(O63:O65),0) -> 29393
C68: Precio Unitario Total Aproximado al peso $ | O68: =ROUND(O66+O58,) -> 115843
H72: Firma
...

Sheet APU 1.3
C3: Formulario 1 - Propuesta económica - Documento tipo de mínima cuantía de obra pública de infraestructura de transporte - versión 2
C4: Código | D4: CCE-EICP-FM-32 | E4: Versión | F4: 2
C6: [La entidad podrá utilizar este formato para la presentación de los análisis de Precios Unitarios del Contratista en la oportunidad prevista en el numeral 8.2. de la invitación]
D9: [NOMBRE DE LA ENTIDAD]
L10: VERSIÓN
D11: [NÚMERO DEL PROCESO]
L12: PÁGINA | M12: 1 | N12: DE | O12: 1
D14: ANALISIS DE PRECIOS UNITARIOS
L16: FECHA | M16: DD | N16: MM | O16: AA
M17: 1 | N17: 7 | O17: 2026
C18: ÍTEMS DE LA PROPUESTA ECONÓMICA | I18: ÍTEMS NO PREVISTOS
I20: ='PRESUPUESTO OFICIAL '!C13 -> 1. PUNTO CRITICO CAÑO BLANCO
C22: DATOS ESPECÍFICOS
C24: ÍTEM | D24: DESCRIPCIÓN | M24: UNIDAD | O24: CANTIDAD
C25: ='PRESUPUESTO OFICIAL '!D16 -> 1.3 | D25: ='PRESUPUESTO OFICIAL '!G16 -> Movilizacion y desmovilizacion de equipo pesado | M25: ='PRESUPUESTO OFICIAL '!H15 -> M | O25: ='PRESUPUESTO OFICIAL '!I16 -> 177.4
C26: I. EQUIPO
C29: DESCRIPCIÓN | H29: MARCA | J29: TIPO | L29: TARIFA/HORA | M29: RENDIMIENTO | O29: Vr. UNITARIO
C30: camabaja | J30: HR | L30: 0.1153 | M30: 375111 | O30: =M30*L30 -> 43250.298
C33: SUBTOTAL $ | O33: =SUM(O30:O32) -> 43250.298
C34: II. MATERIALES
C40: SUBTOTAL $ | O40: =SUM(O38:O39) -> 0
C41: III. TRANSPORTES
C44: MATERIAL | J44: VOL. o PESO | K44: DISTANCIA | L44: M3 o Ton/Km | M44: TARIFA | O44: Vr. UNITARIO
C47: SUBTOTAL $ | O47: =SUM(O45:O46) -> 0
C48: IV. MANO DE OBRA
C51: TRABAJADOR | J51: JORNAL | K51: PRESTACIONES | L51: JORNAL TOTAL | M51: RENDIMIENTO | O51: Vr. UNITARIO
C56: SUBTOTAL $ | O56: =SUM(O52:O55) -> 0
C58: TOTAL COSTO DIRECTO $ | O58: =ROUND(+O56+O47+O40+O33,0) -> 43250
C59: V. COSTOS INDIRECTOS
C62: Descripción | L62: Porcentaje | M62: Valor Total
C63: ADMINISTRACION | L63: 0.28 | M63: =O58 -> 43250 | O63: =M63*28% -> 12110
C64: IMPREVISTOS | L64: 0.01 | M64: =M63 -> 43250 | O64: =M64*1% -> 432.5
C65: UTILIDAD | L65: 0.05 | M65: =M63 -> 43250 | O65: =M65*5% -> 2162.5
C66: SUBTOTAL $ | O66: =ROUND(SUM(O63:O65),0) -> 14705
C68: Precio Unitario Total Aproximado al peso $ | O68: =ROUND(O66+O58,) -> 57955
H72: Firma
H73: Nombre: YIMER FERNANDO CARO GAITAN
H74: Profesional de Apoyo S.P.O.P
C77: OBSERVACIONES INTERVENTORÍA O SUPERVISIÓN
C81: APROBACIÓN POR INTERVENTORÍA O SUPERVISIÓN
...

Sheet MEMORIAS DE CALCULO
D1: DEPARTAMENTO DE CASANARE
D3: MUNICIPIO DE SABANALARGA
D5: MEMORIAS DE CALCULO
A7: OBJETO: | D7: "Estabilización de punto crítico por deslizamiento lateral de talud contiguo a placa huella en la vía Caño Blanco PR 15+600, mediante conformación de terrazas, construcción de enrocado de protección y obras de drenaje en el municipio de sabanalarga, casanare."
A8: ='PRESUPUESTO OFICIAL '!C13 -> 1. PUNTO CRITICO CAÑO BLANCO
A9: ITEM | B9: ='PRESUPUESTO OFICIAL '!D14 -> 1.1 | C9: DESCRIPCIÓN | F9: ='PRESUPUESTO OFICIAL '!G14 -> Estabilización de talud mediante terraceo y conformación de enrocado con material pétreo del sitio de intervencion. | I9: CANT. PROGRAMADA | J9: =L21 -> 190 | K9: UNIDAD | L9: ='PRESUPUESTO OFICIAL '!H14 -> M3
A10: DIAGRAMA / ESQUEMA | F10: LOCALIZACION | G10: ANCHO | H10: LARGO | I10: ALTO | J10: VOLUMEN | K10: CANTIDAD | L10: TOTAL
F11: volumen de intervencion de estabilizacion (terraceo y enrrocado) | G11: 3.8 | H11: 20 | I11: 2.5 | J11: =I11*H11*G11 -> 190 | K11: 1 | L11: =K11*J11 -> 190
F21: TOTAL | L21: =+ROUND(SUM(L11:L20),2) -> 190
A23: NOTA:
A26: Elaboró:
B27: YIMER FERNANDO CARO GAITAN | H27: MONICA YULIETH RODRIGUEZ TORRES
B28: Profesional de Apoyo | H28: Secretaria de Planeacion y obras Publicas
B29: S.P.O.P | H29: Supervisor
D31: DEPARTAMENTO DE CASANARE
D33: MUNICIPIO DE SABANALARGA
D35: MEMORIAS DE CALCULO
A37: OBJETO: | D37: =D7 -> "Estabilización de punto crítico por deslizamiento lateral de talud contiguo a placa huella en la vía Caño Blanco PR 15+600, mediante conformación de terrazas, construcción de enrocado de protección y obras de drenaje en el municipio de sabanalarga, casanare."
A38: ='PRESUPUESTO OFICIAL '!C13 -> 1. PUNTO CRITICO CAÑO BLANCO
A39: ITEM | B39: ='PRESUPUESTO OFICIAL '!D15 -> 1.2 | C39: DESCRIPCIÓN | F39: ='PRESUPUESTO OFICIAL '!G15 -> Geodren vial con tuberia de drenaje Ø 100 mm, H=1.00 m | I39: CANT. PROGRAMADA | J39: =L54 -> 41 | K39: UNIDAD | L39: ='PRESUPUESTO OFICIAL '!H15 -> M
A40: DIAGRAMA / ESQUEMA | F40: LOCALIZACION | G40: ANCHO | H40: LONGITUD | I40: ALTO | J40: AREA | K40: CANTIDAD | L40: TOTAL
F41: geodren vial | H41: 41 | K41: 1 | L41: =K41*H41 -> 41
F54: TOTAL | L54: =+ROUND(L41+L42+L43+L44+L45+L46+L47+L48+L49+L50+L51+L52+L53,2) -> 41
A56: NOTA:
A59: Elaboró:
B60: YIMER FERNANDO CARO GAITAN | H60: MONICA YULIETH RODRIGUEZ TORRES
B61: Profesional de Apoyo | H61: Secretaria de Planeacion y obras Publicas
B62: S.P.O.P | H62: Supervisor
D64: DEPARTAMENTO DE CASANARE
D66: MUNICIPIO DE SABANALARGA
D68: MEMORIAS DE CALCULO
A70: OBJETO: | D70: =D37 -> "Estabilización de punto crítico por deslizamiento lateral de talud contiguo a placa huella en la vía Caño Blanco PR 15+600, mediante conformación de terrazas, construcción de enrocado de protección y obras de drenaje en el municipio de sabanalarga, casanare."
A71: =A38 -> 1. PUNTO CRITICO CAÑO BLANCO
A72: ITEM | B72: ='PRESUPUESTO OFICIAL '!D16 -> 1.3 | C72: DESCRIPCIÓN | F72: ='PRESUPUESTO OFICIAL '!G16 -> Movilizacion y desmovilizacion de equipo pesado | I72: CANT. PROGRAMADA | J72: =L87 -> 177.4 | K72: UNIDAD | L72: ='PRESUPUESTO OFICIAL '!H16 -> KM
A73: DIAGRAMA / ESQUEMA | F73: LOCALIZACION | G73: ANCHO | H73: LONGITUD | I73: ALTO | J73: AREA | K73: CANTIDAD | L73: TOTAL
F74: Retroexcavadora sobre oruga contratista | H74: 27.4 | K74: 2 | L74: =K74*H74 -> 54.8
F75: Retroexcavadora sobre oruga de apoyo Municipal | H75: 61.3 | K75: 2 | L75: =K75*H75 -> 122.6
F87: TOTAL | L87: =+ROUND(L74+L75+L76+L77+L78+L79+L80+L81+L82+L83+L84+L85+L86,2) -> 177.4
A89: NOTA: | C89: La movilización contempla el desplazamiento de la retroexcavadora de oruga del contratista y de la maquinaria de apoyo suministrada por el Municipio, requeridas para la ejecución de las actividades de estabilización del talud en el PR 15+600 de la vía Caño Blanco.
A92: Elaboró:
...

Sheet Transporte de materiales- t
C3: Formulario 1 - Propuesta económica - Documento tipo de mínima cuantía de obra pública de infraestructura de transporte - versión 2
C4: Código | D4: CCE-EICP-FM-32 | E4: Versión | F4: 2
C6: [La entidad podrá utilizar este formato para la presentación de los análisis de Precios Unitarios del Contratista en la oportunidad prevista en el numeral 8.2. de la invitación]
D9: [NOMBRE DE LA ENTIDAD]
L10: VERSIÓN
D11: [NÚMERO DEL PROCESO]
L12: PÁGINA | M12: 1 | N12: DE | O12: 1
D14: ANALISIS DE PRECIOS UNITARIOS
L16: FECHA | M16: DD | N16: MM | O16: AA
M17: 1 | N17: 7 | O17: 2026
C18: ÍTEMS DE LA PROPUESTA ECONÓMICA | I18: ÍTEMS NO PREVISTOS
I20: ='PRESUPUESTO OFICIAL '!C13 -> 1. PUNTO CRITICO CAÑO BLANCO
I21: ANIDADO
C22: DATOS ESPECÍFICOS
C24: ÍTEM | D24: DESCRIPCIÓN | M24: UNIDAD | O24: CANTIDAD
D25: Transporte de materiales-t | M25: t
C26: I. EQUIPO
C29: DESCRIPCIÓN | H29: MARCA | J29: TIPO | L29: TARIFA/HORA | M29: RENDIMIENTO | O29: Vr. UNITARIO
C33: SUBTOTAL $ | O33: =SUM(O30:O32) -> 0
C34: II. MATERIALES
C37: DESCRIPCIÓN | K37: UNIDAD | L37: CANTIDAD | M37: PRECIO UNIT. | O37: Vr. UNITARIO
C40: SUBTOTAL $ | O40: =SUM(O38:O39) -> 0
C41: III. TRANSPORTES
C44: MATERIAL | J44: VOL. o PESO | K44: DISTANCIA | L44: M3 o Ton/Km | M44: TARIFA | O44: Vr. UNITARIO
C45: Transporte por peso en via | K45: 27.4 | L45: m3-km | M45: 561 | O45: =M45*K45 -> 15371.4
C46: transporte por volumen en via ( sin pavimentar) | O46: =M46*L46 -> 0
O47: =M47*L47 -> 0
O48: =M48*L48 -> 0
C49: SUBTOTAL $ | O49: =SUM(O45:O48) -> 15371.4
C50: IV. MANO DE OBRA
C53: TRABAJADOR | J53: JORNAL | K53: PRESTACIONES | L53: JORNAL TOTAL | M53: RENDIMIENTO | O53: Vr. UNITARIO
C58: SUBTOTAL $ | O58: =SUM(O54:O57) -> 0
C60: TOTAL COSTO DIRECTO $ | O60: =ROUND(+O58+O49+O40+O33,0) -> 15371
C61: V. COSTOS INDIRECTOS
C64: Descripción | L64: Porcentaje | M64: Valor Total
C65: ADMINISTRACION
C66: IMPREVISTOS
C67: UTILIDAD
C68: SUBTOTAL $ | O68: =ROUND(SUM(O65:O67),0) -> 0
C70: Precio Unitario Total Aproximado al peso $ | O70: =ROUND(O68+O60,) -> 15371
...
