Workbook

Sheet HISTORICO AMB
A1: PRECIO HISTORICO Y PROYECTADO - AMBULATORIO CARDIOLOGÍA 2026
A3: ITEM | B3: CUPS | C3: DESCRIPCION | D3: INCLUYE | E3: EXCLUYE | F3: HISTORICO | G3: HISTORICO PROYECTADO IPC 5,10%
A4: 1 | B4: 890701 | C4: CONSULTA DE URGENCIAS POR MEDICINA GENERAL | D4: HONORARIOS MEDICOS DEL ESPECIALISTA | F4: 45000 | G4: =(F4*5.1%)+F4 -> 47295
A5: 2 | B5: 881202 | C5: ECOCARDIOGRAMA TRANSTORÁCICO | D5: Adultos | F5: 215025 | G5: =(F5*5.1%)+F5 -> 225991.27
A6: 3 | B6: 890226 | C6: CONSULTA DE PRIMERA VEZ POR ESPECIALISTA EN ANESTESIOLOGÍA | D6: HONORARIOS MEDICOS DEL ESPECIALISTA | F6: 70000 | G6: =(F6*5.1%)+F6 -> 73570
A7: 4 | B7: 129A02 | C7: INTERNACION COMPLEJIDAD ALTA HABITACION BIPERSONAL | F7: 310000 | G7: =(F7*5.1%)+F7 -> 325810
A8: 5 | B8: 895101 | C8: ELECTROCARDIOGRAMA DE RITMO O DE SUPERFICIE SOD | D8: Adultos | F8: 24460 | G8: =(F8*5.1%)+F8 -> 25707.46
A9: 6 | B9: 110A01 | C9: INTERNACION EN UNIDAD DE CUIDADO INTENSIVO ADULTOS | F9: 1340000 | G9: =(F9*5.1%)+F9 -> 1408340
A10: 7 | B10: 890228 | C10: CONSULTA DE PRIMERA VEZ POR ESPECIALISTA EN CARDIOLOGÍA | F10: 47268 | G10: =(F10*5.1%)+F10 -> 49678.668
A11: 8 | B11: 895004 | C11: MONITOREO AMBULATORIO DE PRESIÓN ARTERIAL SISTÉMICA | F11: 185948 | G11: =(F11*5.1%)+F11 -> 195431.35
A12: 9 | B12: 895001 | C12: MONITOREO ELECTROCARDIOGRÁFICO CONTINUO (HOLTER) | D12: Adultos | F12: 139106 | G12: =(F12*5.1%)+F12 -> 146200.41
A13: 10 | B13: 129A01 | C13: INTERNACION COMPLEJIDAD ALTA HABITACION UNIPERSONAL (INCLUYE AISLAMIENTO) | F13: 425844 | G13: =(F13*5.1%)+F13 -> 447562.04
A14: 11 | B14: 890202 | C14: CONSULTA DE PRIMERA VEZ POR OTRAS ESPECIALIDADES MÉDICAS(ELECTROFISIOLOGIA) | F14: 79952 | G14: =(F14*5.1%)+F14 -> 84029.552
A15: 12 | B15: 879111 | C15: TOMOGRAFÍA COMPUTADA DE CRÁNEO SIMPLE | E15: En el caso de requerir anestesiologo se cobrara adicional a la tarifa establecida , materiales de sutura e insumos basicos, medios de contraste | F15: 238802 | G15: =(F15*5.1%)+F15 -> 250980.9
A16: 13 | B16: 879420 | C16: TOMOGRAFÍA COMPUTADA DE ABDOMEN Y PELVIS (ABDOMEN TOTAL) | E16: En el caso de requerir anestesiologo se cobrara adicional a la tarifa establecida , materiales de sutura e insumos basicos, medios de contraste | F16: 307040 | G16: =(F16*5.1%)+F16 -> 322699.04
A17: 14 | B17: 879301 | C17: TOMOGRAFÍA COMPUTADA DE TÓRAX | E17: En el caso de requerir anestesiologo se cobrara adicional a la tarifa establecida , materiales de sutura e insumos basicos, medios de contraste | F17: 249292 | G17: =(F17*5.1%)+F17 -> 262005.89
A18: 15 | B18: 881210 | C18: ECOCARDIOGRAMA DE STRESS CON PRUEBA DE ESFUERZO O CON PRUEBA FARMACOLÓGICA | D18: Adultos | F18: 424236 | G18: =(F18*5.1%)+F18 -> 445872.04
A19: 16 | B19: 890328 | C19: CONSULTA DE CONTROL O DE SEGUIMIENTO POR ESPECIALISTA EN CARDIOLOGÍA | F19: 47268 | G19: =(F19*5.1%)+F19 -> 49678.668
A20: 17 | B20: 890240 | C20: CONSULTA DE PRIMERA VEZ POR ESPECIALISTA EN CIRUGÍA VASCULAR | F20: 51293 | G20: =(F20*5.1%)+F20 -> 53908.943
A21: 18 | B21: 879131 | C21: TOMOGRAFÍA COMPUTADA DE SENOS PARANASALES O CARA | E21: En el caso de requerir anestesiologo se cobrara adicional a la tarifa establecida , materiales de sutura e insumos basicos, medios de contraste | F21: 233547 | G21: =(F21*5.1%)+F21 -> 245457.9
A22: 19 | B22: 879201 | C22: TOMOGRAFÍA COMPUTADA DE COLUMNA SEGMENTOS CERVICAL, TORÁCICO, LUMBAR O SACRO, POR CADA NIVEL (TRES ESPACIOS) | E22: En el caso de requerir anestesiologo se cobrara adicional a la tarifa establecida , materiales de sutura e insumos basicos, medios de contraste | F22: 280000 | G22: =(F22*5.1%)+F22 -> 294280
A23: 20 | B23: 933601 | C23: TERAPIA DE REHABILITACIÓN CARDIOVASCULAR | F23: 55400 | G23: =(F23*5.1%)+F23 -> 58225.4
A24: 21 | B24: 896101 | C24: MONITOREO DE PRESIÓN ARTERIAL SISTÉMICA (TELEMETRÍA) | D24: Adultos | F24: 162000 | G24: =(F24*5.1%)+F24 -> 170262
A25: 22 | B25: 107M01 | C25: INTERNACION EN UNIDAD DE CUIDADO INTERMEDIO ADULTO | E25: EXCLUYE CUALQUIER TIPO DE TERAPIA Y INTERCONSULTA ESPECIALIZA | F25: 750000 | G25: =(F25*5.1%)+F25 -> 788250
A26: 23 | B26: 890302 | C26: CONSULTA DE CONTROL O DE SEGUIMIENTO POR OTRAS ESPECIALIDADES MÉDICAS(ELECTROFISIOLOGIA) | F26: 70000 | G26: =(F26*5.1%)+F26 -> 73570
A27: 24 | B27: 378501 | C27: REVISIÓN (REPROGRAMACIÓN) DE MARCAPASOS | D27: Consulta, revision y reprogramacion de dispositivo | F27: 50700 | G27: =(F27*5.1%)+F27 -> 53285.7
A28: 25 | B28: 879113 | C28: TOMOGRAFÍA COMPUTADA DE CRÁNEO SIMPLE Y CON CONTRASTE | E28: En el caso de requerir anestesiologo se cobrara adicional a la tarifa establecida , materiales de sutura e insumos basicos, medios de contraste | F28: 346594 | G28: =(F28*5.1%)+F28 -> 364270.29
A29: 26 | B29: 879161 | C29: TOMOGRAFÍA COMPUTADA DE CUELLO | E29: En el caso de requerir anestesiologo se cobrara adicional a la tarifa establecida , materiales de sutura e insumos basicos, medios de contraste | F29: 240180 | G29: =(F29*5.1%)+F29 -> 252429.18
A30: 27 | B30: 894402 | C30: PRUEBA DE CAMINATA DE 6 MINUTOS | F30: 220000 | G30: =(F30*5.1%)+F30 -> 231220
A31: 28 | B31: 894102 | C31: PRUEBA DE ESFUERZO CARDIOVASCULAR | D31: Adultos y Pediátricos | F31: 100930 | G31: =(F31*5.1%)+F31 -> 106077.43
A32: 29 | B32: 360101 | C32: ANGIOPLASTIA CORONARIA PERCUTÁNEA (ENDOVASCULAR) UNO O DOS VASOS | D32: Honorario médico Hemodinamista, Derecho de sala, Electrocardiograma (1), RX Tórax(1), Materiales de Sutura y curación, Agentes y gases anestésicos, Insumos básicos de Procedimientos, Consulta pos Procedimiento, Insumos:, Balon coronario para (1) vaso hasta (2), balones para 2 vasos (3) balones., Cateter diagnostico (1), Cateter guia coronario (1) por cada vaso, Guia angioplastia (2) para un vaso, (3) para dos vasos, Guia de diagnostico (1), Guia hidrofilica (1), Insufladorintroductor hemodinamia, Medio de contraste, Transductor de presion, | E32: Complicaciones, Estancia Hospitalaria, Consulta especializada Pre procedimiento, Honorario médico de anestesiólogo, Banco de Sangre, Balón de contrapulsación, Curva de hiperoxia, Iloprost, Insumos y medicamentos no detayados en las inclusiones de los paquetes | F32: 3206700 | G32: =(F32*5.1%)+F32 -> 3370241.7
A33: 30 | B33: 890230 | C33: CONSULTA DE PRIMERA VEZ POR ESPECIALISTA EN CIRUGÍA CARDIOVASCULAR | F33: 70000 | G33: =(F33*5.1%)+F33 -> 73570
A34: 31 | B34: 890340 | C34: CONSULTA DE CONTROL O DE SEGUIMIENTO POR ESPECIALISTA EN CIRUGÍA VASCULAR | F34: 70000 | G34: =(F34*5.1%)+F34 -> 73570
A35: 32 | B35: 879910 | C35: TOMOGRAFÍA COMPUTADA EN RECONSTRUCCIÓN TRIDIMENSIONAL | D35: *SERVICIO | E35: En el caso de requerir anestesiologo se cobrara adicional a la tarifa establecida , materiales de sutura e insumos basicos, medios de contraste | F35: 435896 | G35: =(F35*5.1%)+F35 -> 458126.7
A36: 33 | B36: 879122 | C36: TOMOGRAFÍA COMPUTADA DE OIDO, PEÑASCO Y CONDUCTO AUDITIVO INTERNO | E36: En el caso de requerir anestesiologo se cobrara adicional a la tarifa establecida , materiales de sutura e insumos basicos, medios de contraste | F36: 284647 | G36: =(F36*5.1%)+F36 -> 299164
A37: 34 | B37: 881205 | C37: ECOCARDIOGRAMA TRANSESOFÁGICO | D37: Adultos y Pediátricos | F37: 290125 | G37: =(F37*5.1%)+F37 -> 304921.38
A38: 35 | B38: 890502 | C38: PARTICIPACIÓN EN JUNTA MÉDICA, POR MEDICINA ESPECIALIZADA Y CASO (PACIENTE) JUNTA CARDIOQUIRURGICA (Valor de la Junta) | F38: 151900 | G38: =(F38*5.1%)+F38 -> 159646.9
A39: 36 | B39: 879520 | C39: TOMOGRAFÍA COMPUTADA DE MIEMBROS INFERIORES Y ARTICULACIONES | E39: En el caso de requerir anestesiologo se cobrara adicional a la tarifa establecida , materiales de sutura e insumos basicos, medios de contraste | F39: 233830 | G39: =(F39*5.1%)+F39 -> 245755.33
A40: 37 | B40: 879112 | C40: TOMOGRAFÍA COMPUTADA DE CRÁNEO CON CONTRASTE | E40: En el caso de requerir anestesiologo se cobrara adicional a la tarifa establecida , materiales de sutura e insumos basicos, medios de contraste | F40: 321483 | G40: =(F40*5.1%)+F40 -> 337878.63
A41: 38 | B41: 879901 | C41: ANGIOTAC DE TORAX | E41: En el caso de requerir anestesiologo se cobrara adicional a la tarifa establecida | F41: 1340200 | G41: =(F41*5.1%)+F41 -> 1408550.2
...

Sheet HISTORICO INTEG
A1: PRECIO HISTORICO Y PROYECTADO - INTEGRALIDAD CARDIOLOGÍA 2026
A3: ITEMS | B3: CUPS | C3: DESCRIPCION | D3: INCLUYE | E3: EXCLUYE | F3: HISTORICO | G3: HISTORICO PROYECTADO IPC 5,10%
A4: 1 | B4: 902210 | C4: HEMOGRAMA IV (HEMOGLOBINA HEMATOCRITO RECUENTO DE ERITROCITOS INDICES ERITROCITARIOS LEUCOGRAMA RECUENTO DE PLAQUETAS INDICES PLAQUETARIOS Y MORFOLOGIA ELECTRONICA E HISTOGRAMA) AUTOMATIZADO | D4: SERVICIO OFERTADO | E4: SERVICIOS ADICIONALES AL OFERTADO | F4: 13800 | G4: =(F4*5.1%)+F4 -> 14503.8
A5: 2 | B5: 871121 | C5: RADIOGRAFIA DE TORAX (P.A. O A.P. Y LATERAL, DECUBITO LATERAL, OBLICUAS O LATERAL) | D5: INFORMACION DEL EXAMEN. TOMA DEL ESTUDIO ENTREGA DE RESULTADO | E5: COMPLICACIONES DERIVADAS DEL PROCEDIMIENTO HOSPITALIZACIÓN, UCI Y UCIN. AYUDAS DIAGNOSTICAS ADICONALES A LA SOLICITADA | F5: 74677.514 | G5: =(F5*5.1%)+F5 -> 78486.067
A6: 3 | B6: 890266 | C6: CONSULTA DE PRIMERA VEZ POR ESPECIALISTA EN MEDICINA INTERNA | D6: HONORARIO DEL PROFESIONAL | E6: SERVICIOS, PROCEDIMIENTOS ADICIONALES AL OFERTADO Y/O COMPLICACIONES | F6: 83200 | G6: =(F6*5.1%)+F6 -> 87443.2
A7: 4 | B7: 931001 | C7: TERAPIA FISICA INTEGRAL | D7: HONORARIO DEL PROFESIONAL | E7: DERECHOS DE SALA, MATERIALES, MEDICAMENTOS E INSUMOS, INFECCIONES, COMPLICACIONES QUIRÚRGICAS, MATERIAL DE OSTEOSINTESIS, HOSPITALIZACIÓN EN UCI, UCIM O EN HABITACIÓN, SANGRE Y / O HEMODERIVADOS, NO INCLUYE PROCEDIMIENTOS ADICIONALES. | F7: 30706.667 | G7: =(F7*5.1%)+F7 -> 32272.707
A8: 5 | B8: 890366 | C8: CONSULTA DE CONTROL O DE SEGUIMIENTO POR ESPECIALISTA EN MEDICINA INTERNA | D8: HONORARIO DEL PROFESIONAL | E8: SERVICIOS, PROCEDIMIENTOS ADICIONALES AL OFERTADO Y/O COMPLICACIONES | F8: 71400 | G8: =(F8*5.1%)+F8 -> 75041.4
A9: 6 | B9: 881332 | C9: ECOGRAFIA DE VIAS URINARIAS (RIÑONES, VEJIGA Y PROSTATA TRANSABDOMINAL) | D9: INFORMACION DEL EXAMEN. TOMA DEL ESTUDIO ENTREGA DE RESULTADO | E9: COMPLICACIONES DERIVADAS DEL PROCEDIMIENTO HOSPITALIZACIÓN, UCI Y UCIN. AYUDAS DIAGNOSTICAS ADICONALES A LA SOLICITADA | F9: 145435.5 | G9: =(F9*5.1%)+F9 -> 152852.71
A10: 7 | B10: 881302 | C10: ECOGRAFIA DE ABDOMEN TOTAL | D10: INFORMACION DEL EXAMEN. TOMA DEL ESTUDIO ENTREGA DE RESULTADO | E10: COMPLICACIONES DERIVADAS DEL PROCEDIMIENTO HOSPITALIZACIÓN, UCI Y UCIN. AYUDAS DIAGNOSTICAS ADICONALES A LA SOLICITADA | F10: 159685.05 | G10: =(F10*5.1%)+F10 -> 167828.99
A11: 8 | B11: 998702 | C11: SOPORTE DE SEDACION PARA CONSULTA O APOYO DIAGNOSTICO | F11: 150000 | G11: =(F11*5.1%)+F11 -> 157650
A12: 9 | B12: 873420 | C12: RADIOGRAFIA DE RODILLA (AP, LATERAL) | D12: INFORMACION DEL EXAMEN. TOMA DEL ESTUDIO ENTREGA DE RESULTADO | E12: COMPLICACIONES DERIVADAS DEL PROCEDIMIENTO HOSPITALIZACIÓN, UCI Y UCIN. AYUDAS DIAGNOSTICAS ADICONALES A LA SOLICITADA | F12: 74677.514 | G12: =(F12*5.1%)+F12 -> 78486.067
A13: 10 | B13: 876802 | C13: MAMOGRAFIA BILATERAL | D13: INFORMACION DEL EXAMEN. TOMA DEL ESTUDIO ENTREGA DE RESULTADO | E13: SERVICIOS, PROCEDIMIENTOS ADICIONALES AL OFERTADO Y/O COMPLICACIONES | F13: 131920.95 | G13: =(F13*5.1%)+F13 -> 138648.92
A14: 11 | B14: 881201 | C14: ECOGRAFIA DE MAMA, CON TRANSDUCTOR DE 7 MHZ O MAS | D14: INFORMACION DEL EXAMEN. TOMA DEL ESTUDIO ENTREGA DE RESULTADO | E14: COMPLICACIONES DERIVADAS DEL PROCEDIMIENTO HOSPITALIZACIÓN, UCI Y UCIN. AYUDAS DIAGNOSTICAS ADICONALES A LA SOLICITADA | F14: 121196.25 | G14: =(F14*5.1%)+F14 -> 127377.26
A15: 12 | B15: 871040 | C15: RADIOGRAFIA DE COLUMNA LUMBOSACRA | D15: INFORMACION DEL EXAMEN. TOMA DEL ESTUDIO ENTREGA DE RESULTADO | E15: COMPLICACIONES DERIVADAS DEL PROCEDIMIENTO HOSPITALIZACIÓN, UCI Y UCIN. AYUDAS DIAGNOSTICAS ADICONALES A LA SOLICITADA | F15: 96957 | G15: =(F15*5.1%)+F15 -> 101901.81
A16: 13 | B16: 898101 | C16: ESTUDIO DE COLORACION BASICA EN BIOPSIA | F16: 73000 | G16: =(F16*5.1%)+F16 -> 76723
A17: 14 | B17: 441302 | C17: ESOFAGOGASTRODUODENOSCOPIA [EGD] CON O SIN BIOPSIA | D17: HONORARIOS MEDICOS ( CIRUJANO - ANESTESIOLOGO- AYUDANTE), DERECHOS DE SALA DE CIRUGIA, MATERIALES E INSUMOS BASICOS DEL PROCEDIMIENTO QUIRURGICO (CANASTA BASICA DE CIRUGIA ) , DERECHOS DE RECUPERACION | E17: COMPLICACIONES DERIVADAS DEL PROCEDIMIENTO HOSPITALIZACIÓN, UCI Y UCIN. AYUDAS DIAGNOSTICAS. ESTUDIO ANATOMOPATOLOGICO, BIOPSIA POR CONGELACION INSUMOS Y MEDICAMENTOS ESPECIALES SE FACTURAN POR CONSUMO DE ACUERDO A LA TARIFA CONVENIDA BANCO DE SANGRE (APLICACIÓN Y PROCESAMIENTO). ,NO INCLUYE PROCEDIMIENTOS ADICIONALES. | F17: 385000 | G17: =(F17*5.1%)+F17 -> 404635
A18: 15 | B18: 890206 | C18: CONSULTA DE PRIMERA VEZ POR NUTRICION Y DIETETICA | D18: HONORARIO DEL PROFESIONAL | E18: SERVICIOS, PROCEDIMIENTOS ADICIONALES AL OFERTADO Y/O COMPLICACIONES | F18: 52000 | G18: =(F18*5.1%)+F18 -> 54652
A19: 16 | B19: 890250 | C19: CONSULTA DE PRIMERA VEZ POR ESPECIALISTA EN GINECOLOGIA Y OBSTETRICIA | D19: HONORARIO DEL PROFESIONAL | E19: SERVICIOS, PROCEDIMIENTOS ADICIONALES AL OFERTADO Y/O COMPLICACIONES | F19: 70000 | G19: =(F19*5.1%)+F19 -> 73570
A20: 17 | B20: 890378 | C20: CONSULTA DE CONTROL O DE SEGUIMIENTO POR ESPECIALISTA EN ONCOLOGIA | D20: HONORARIO DEL PROFESIONAL | E20: SERVICIOS, PROCEDIMIENTOS ADICIONALES AL OFERTADO Y/O COMPLICACIONES | F20: 90000 | G20: =(F20*5.1%)+F20 -> 94590
A21: 18 | B21: 890246 | C21: CONSULTA DE PRIMERA VEZ POR ESPECIALISTA EN GASTROENTEROLOGIA | D21: HONORARIO DEL PROFESIONAL | E21: SERVICIOS, PROCEDIMIENTOS ADICIONALES AL OFERTADO Y/O COMPLICACIONES | F21: 99000 | G21: =(F21*5.1%)+F21 -> 104049
A22: 19 | B22: 903815 | C22: COLESTEROL DE ALTA DENSIDAD | D22: TOMA , PROCESAMAIENTO Y ENTREGA DE RESULTADO | E22: SERVICIOS, PROCEDIMIENTOS ADICIONALES AL OFERTADO Y/O COMPLICACIONES | F22: 11920 | G22: =(F22*5.1%)+F22 -> 12527.92
A23: 20 | B23: 873210 | C23: RADIOGRAFIA DE MANO | D23: INFORMACION DEL EXAMEN. TOMA DEL ESTUDIO ENTREGA DE RESULTADO | E23: COMPLICACIONES DERIVADAS DEL PROCEDIMIENTO HOSPITALIZACIÓN, UCI Y UCIN. AYUDAS DIAGNOSTICAS ADICONALES A LA SOLICITADA | F23: 61300 | G23: =(F23*5.1%)+F23 -> 64426.3
A24: 21 | B24: 890294 | C24: CONSULTA DE PRIMERA VEZ POR ESPECIALISTA EN UROLOGIA | D24: HONORARIO DEL PROFESIONAL | E24: SERVICIOS, PROCEDIMIENTOS ADICIONALES AL OFERTADO Y/O COMPLICACIONES | F24: 80700 | G24: =(F24*5.1%)+F24 -> 84815.7
A25: 22 | B25: 890282 | C25: CONSULTA DE PRIMERA VEZ POR ESPECIALISTA EN OTORRINOLARINGOLOGIA | D25: HONORARIO DEL PROFESIONAL | E25: SERVICIOS, PROCEDIMIENTOS ADICIONALES AL OFERTADO Y/O COMPLICACIONES | F25: 80700 | G25: =(F25*5.1%)+F25 -> 84815.7
A26: 23 | B26: 873411 | C26: RADIOGRAFIA DE CADERA O ARTICULACION COXO-FEMORAL (AP, LATERAL) | D26: INFORMACION DEL EXAMEN. TOMA DEL ESTUDIO ENTREGA DE RESULTADO | E26: COMPLICACIONES DERIVADAS DEL PROCEDIMIENTO HOSPITALIZACIÓN, UCI Y UCIN. AYUDAS DIAGNOSTICAS ADICONALES A LA SOLICITADA | F26: 66263 | G26: =(F26*5.1%)+F26 -> 69642.413
A27: 24 | B27: 890235 | C27: CONSULTA DE PRIMERA VEZ POR ESPECIALISTA EN CIRUGIA GENERAL | D27: HONORARIO DEL PROFESIONAL | E27: SERVICIOS, PROCEDIMIENTOS ADICIONALES AL OFERTADO Y/O COMPLICACIONES | F27: 80700 | G27: =(F27*5.1%)+F27 -> 84815.7
A28: 25 | B28: 881141 | C28: ECOGRAFIA DE TIROIDES CON TRANSDUCTOR DE 7 MHZ O MAS | D28: INFORMACION DEL EXAMEN. TOMA DEL ESTUDIO ENTREGA DE RESULTADO | E28: COMPLICACIONES DERIVADAS DEL PROCEDIMIENTO HOSPITALIZACIÓN, UCI Y UCIN. AYUDAS DIAGNOSTICAS ADICONALES A LA SOLICITADA | F28: 121196.25 | G28: =(F28*5.1%)+F28 -> 127377.26
... A30: 27 | B30: 903426 | C30: HEMOGLOBINA GLICOSILADA AUTOMATIZADA | D30: SERVICIO OFERTADO | E30: SERVICIOS ADICIONALES AL OFERTADO | F30: 22200 | G30: =(F30*5.1%)+F30 -> 23332.2
A31: 28 | B31: 882317 | C31: ECOGRAFIA DOPPLER DE VASOS VENOSOS DE MIEMBROS INFERIORES | E31: COMPLICACIONES , TRATAMIENTO HOSPITALARIO, ESTANCIAS, BANCO DE SANGRE, ESTUDIOS NO OFERTADOS O INCLUIDOS (IMÁGENES DIAGNOSTICAS, LABORATORIO CLINICO Y PATOLOGIA ) | F31: 221400 | G31: =(F31*5.1%)+F31 -> 232691.4
A32: 29 | B32: 903895 | C32: CREATININA EN SUERO U OTROS FLUIDOS | D32: TOMA , PROCESAMAIENTO Y ENTREGA DE RESULTADO | E32: SERVICIOS, PROCEDIMIENTOS ADICIONALES AL OFERTADO Y/O COMPLICACIONES | F32: 7100 | G32: =(F32*5.1%)+F32 -> 7462.1
A33: 30 | B33: 870108 | C33: RADIOGRAFIA DE SENOS PARANASALES | D33: INFORMACION DEL EXAMEN. TOMA DEL ESTUDIO ENTREGA DE RESULTADO | E33: COMPLICACIONES DERIVADAS DEL PROCEDIMIENTO HOSPITALIZACIÓN, UCI Y UCIN. AYUDAS DIAGNOSTICAS ADICONALES A LA SOLICITADA | F33: 88877.25 | G33: =(F33*5.1%)+F33 -> 93409.99
A34: 31 | B34: 907106 | C34: UROANALISIS | D34: TOMA , PROCESAMAIENTO Y ENTREGA DE RESULTADO | E34: SERVICIOS, PROCEDIMIENTOS ADICIONALES AL OFERTADO Y/O COMPLICACIONES | F34: 7600 | G34: =(F34*5.1%)+F34 -> 7987.6
A35: 32 | B35: 903026 | C35: MICROALBUMINURIA AUTOMATIZADA EN ORINA PARCIAL | D35: TOMA , PROCESAMAIENTO Y ENTREGA DE RESULTADO | E35: SERVICIOS, PROCEDIMIENTOS ADICIONALES AL OFERTADO Y/O COMPLICACIONES | F35: 31009 | G35: =(F35*5.1%)+F35 -> 32590.459
A36: 33 | B36: 881610 | C36: ECOGRAFIA ARTICULAR DE HOMBRO | D36: INFORMACION DEL EXAMEN. TOMA DEL ESTUDIO ENTREGA DE RESULTADO | E36: COMPLICACIONES DERIVADAS DEL PROCEDIMIENTO HOSPITALIZACIÓN, UCI Y UCIN. AYUDAS DIAGNOSTICAS ADICONALES A LA SOLICITADA | F36: 129276 | G36: =(F36*5.1%)+F36 -> 135869.08
A37: 34 | B37: 890350 | C37: CONSULTA DE CONTROL O DE SEGUIMIENTO POR ESPECIALISTA EN GINECOLOGIA Y OBSTETRICIA | D37: HONORARIO DEL PROFESIONAL | E37: SERVICIOS, PROCEDIMIENTOS ADICIONALES AL OFERTADO Y/O COMPLICACIONES | F37: 72500 | G37: =(F37*5.1%)+F37 -> 76197.5
A38: 35 | B38: 881401 | C38: ECOGRAFIA PELVICA GINECOLOGICA TRANSVAGINAL | D38: INFORMACION DEL EXAMEN. TOMA DEL ESTUDIO ENTREGA DE RESULTADO | E38: COMPLICACIONES DERIVADAS DEL PROCEDIMIENTO HOSPITALIZACIÓN, UCI Y UCIN. AYUDAS DIAGNOSTICAS ADICONALES A LA SOLICITADA | F38: 89600 | G38: =(F38*5.1%)+F38 -> 94169.6
A39: 36 | B39: 452301 | C39: COLONOSCOPIA TOTAL | D39: HONORARIOS, DERECHOS DE SALA E INSUMOS BASICOS, SEDACION | F39: 787900 | G39: =(F39*5.1%)+F39 -> 828082.9
A40: 37 | B40: 873412 | C40: RADIOGRAFIA DE CADERA COMPARATIVA | D40: INFORMACION DEL EXAMEN. TOMA DEL ESTUDIO ENTREGA DE RESULTADO | E40: COMPLICACIONES DERIVADAS DEL PROCEDIMIENTO HOSPITALIZACIÓN, UCI Y UCIN. AYUDAS DIAGNOSTICAS ADICONALES A LA SOLICITADA | F40: 43100 | G40: =(F40*5.1%)+F40 -> 45298.1
A41: 38 | B41: 881301 | C41: ECOGRAFIA DE TEJIDOS BLANDOS DE PARED ABDOMINAL Y DE PELVIS | D41: INFORMACION DEL EXAMEN. TOMA DEL ESTUDIO ENTREGA DE RESULTADO | E41: COMPLICACIONES DERIVADAS DEL PROCEDIMIENTO HOSPITALIZACIÓN, UCI Y UCIN. AYUDAS DIAGNOSTICAS ADICONALES A LA SOLICITADA | F41: 143280.9 | G41: =(F41*5.1%)+F41 -> 150588.23
A42: 39 | B42: 902045 | C42: TIEMPO DE PROTROMBINA [TP] | D42: SERVICIO OFERTADO | E42: SERVICIOS ADICIONALES AL OFERTADO | F42: 12861.751 | G42: =(F42*5.1%)+F42 -> 13517.7
...

Sheet MERCADO
A1: VALOR DEL MERCADO - CARDIOLOGIA 2026
A4: ITEM | B4: CUPS | C4: DESCRIPCION | D4: INCLUYE | E4: EXCLUYE | F4: FVL | G4: OCCIDENTE | H4: NUESTRA | I4: COSMITET | J4: VALRO DEL MERCADO
A5: 1 | B5: 881202 | C5: ECOCARDIOGRAMA TRANSTORÁCICO | D5: Adultos y Pediátricos | F5: =VLOOKUP(B5,FVL!$A$5:$N$6151,14,0) -> 458855 | G5: =VLOOKUP(B5,OCCIDENTE!$A$8:$J$5948,10,0) -> 334279.7 | H5: =VLOOKUP(B5,NUESTRA!$A$2:$G$2913,7,0) -> 456654 | I5: =VLOOKUP(B5,'COSMITET ABR'!$C$3:$H$363,6,0) -> 281586.7 | J5: =AVERAGE(F5,G5,H5,I5) -> 382843.85
A6: 2 | B6: 890226 | C6: CONSULTA DE PRIMERA VEZ POR ESPECIALISTA EN ANESTESIOLOGÍA | D6: HONORARIOS MEDICOS DEL ESPECIALISTA | F6: =VLOOKUP(B6,FVL!$A$5:$N$6151,14,0) -> 133848 | G6: =VLOOKUP(B6,OCCIDENTE!$A$8:$J$5948,10,0) -> 67947.123 | H6: =VLOOKUP(B6,NUESTRA!$A$2:$G$2913,7,0) -> 196114.66 | I6: =VLOOKUP(B6,'COSMITET ABR'!$C$3:$H$363,6,0) -> 90965 | J6: =AVERAGE(F6,G6,H6,I6) -> 122218.7
A7: 3 | B7: 998702 | C7: SOPORTE DE SEDACION PARA CONSULTA O APOYO DIAGNOSTICO | D7: MEDICO GENERAL ENTRENADO SOLO PARA UNIDAD DE ATENCION DIGESTIVA | F7: =VLOOKUP(B7,FVL!$A$5:$N$6151,14,0) -> 458672 | G7: =VLOOKUP(B7,OCCIDENTE!$A$8:$J$5948,10,0) -> 238871.89 | H7: =VLOOKUP(B7,NUESTRA!$A$2:$G$2913,7,0) -> 211200 | I7: 186900 | J7: =AVERAGE(F7,G7,H7,I7) -> 273910.97
A8: 4 | B8: 890228 | C8: CONSULTA DE PRIMERA VEZ POR ESPECIALISTA EN CARDIOLOGÍA | F8: =VLOOKUP(B8,FVL!$A$5:$N$6151,14,0) -> 133848 | G8: =VLOOKUP(B8,OCCIDENTE!$A$8:$J$5948,10,0) -> 75496.804 | H8: =VLOOKUP(B8,NUESTRA!$A$2:$G$2913,7,0) -> 196114.66 | I8: =VLOOKUP(B8,'COSMITET ABR'!$C$3:$H$363,6,0) -> 83681.667 | J8: =AVERAGE(F8,G8,H8,I8) -> 122285.28
A9: 5 | B9: 890701 | C9: CONSULTA DE URGENCIAS POR MEDICINA GENERAL | D9: HONORARIOS MEDICOS DEL ESPECIALISTA | F9: =VLOOKUP(B9,FVL!$A$5:$N$6151,14,0) -> 95605 | G9: =VLOOKUP(B9,OCCIDENTE!$A$8:$J$5948,10,0) -> 25098.5 | H9: =VLOOKUP(B9,NUESTRA!$A$2:$G$2913,7,0) -> 79200 | I9: =VLOOKUP(B9,'COSMITET ABR'!$C$3:$H$363,6,0) -> 73790.9 | J9: =AVERAGE(F9,G9,H9,I9) -> 68423.6
A10: 6 | B10: 895001 | C10: MONITOREO ELECTROCARDIOGRÁFICO CONTINUO (HOLTER) | D10: Adultos y Pediátricos (éstos últimos mayores de 12 años exclusivamente) | F10: =VLOOKUP(B10,FVL!$A$5:$N$6151,14,0) -> 380591 | G10: =VLOOKUP(B10,OCCIDENTE!$A$8:$J$5948,10,0) -> 250560.8 | H10: =VLOOKUP(B10,NUESTRA!$A$2:$G$2913,7,0) -> 257485.54 | I10: =VLOOKUP(B10,'COSMITET ABR'!$C$3:$H$363,6,0) -> 400848.89 | J10: =AVERAGE(F10,G10,H10,I10) -> 322371.56
A11: 7 | B11: 895004 | C11: MONITOREO AMBULATORIO DE PRESIÓN ARTERIAL SISTÉMICA | F11: =VLOOKUP(B11,FVL!$A$5:$N$6151,14,0) -> 390754 | G11: =VLOOKUP(B11,OCCIDENTE!$A$8:$J$5948,10,0) -> 250560.8 | H11: =VLOOKUP(B11,NUESTRA!$A$2:$G$2913,7,0) -> 257485.54 | I11: NO OFERTA | J11: =AVERAGE(F11,G11,H11,I11) -> 299600.11
A12: 8 | B12: 881210 | C12: ECOCARDIOGRAMA DE STRESS CON PRUEBA DE ESFUERZO O CON PRUEBA FARMACOLÓGICA | D12: Adultos y Pediátricos (éstos últimos mayores de 15 años y previa revisión de la HC por parte de nuestro especialista) | F12: =VLOOKUP(B12,FVL!$A$5:$N$6151,14,0) -> 858658 | G12: =VLOOKUP(B12,OCCIDENTE!$A$8:$J$5948,10,0) -> 625543.5 | H12: =VLOOKUP(B12,NUESTRA!$A$2:$G$2913,7,0) -> 422400 | I12: =VLOOKUP(B12,'COSMITET ABR'!$C$3:$H$363,6,0) -> 1330896.4 | J12: =AVERAGE(F12,G12,H12,I12) -> 809374.48
A13: 9 | B13: 890328 | C13: CONSULTA DE CONTROL O DE SEGUIMIENTO POR ESPECIALISTA EN CARDIOLOGÍA | F13: =VLOOKUP(B13,FVL!$A$5:$N$6151,14,0) -> 133848 | G13: =VLOOKUP(B13,OCCIDENTE!$A$8:$J$5948,10,0) -> 75496.804 | H13: =VLOOKUP(B13,NUESTRA!$A$2:$G$2913,7,0) -> 101954.29 | I13: =VLOOKUP(B13,'COSMITET ABR'!$C$3:$H$363,6,0) -> 76935 | J13: =AVERAGE(F13,G13,H13,I13) -> 97058.523
A14: 10 | B14: 933601 | C14: TERAPIA DE REHABILITACIÓN CARDIOVASCULAR | F14: =VLOOKUP(B14,FVL!$A$5:$N$6151,14,0) -> 73656 | G14: =VLOOKUP(B14,OCCIDENTE!$A$8:$J$5948,10,0) -> 45298.082 | H14: =VLOOKUP(B14,NUESTRA!$A$2:$G$2913,7,0) -> 148331.86 | I14: =VLOOKUP(B14,'COSMITET ABR'!$C$3:$H$363,6,0) -> 68003.525 | J14: =AVERAGE(F14,G14,H14,I14) -> 83822.368
A15: 11 | B15: 129A01 | C15: INTERNACION COMPLEJIDAD ALTA HABITACION UNIPERSONAL (INCLUYE AISLAMIENTO) | E15: EXCLUYE CUALQUIER TIPO DE TERAPIA Y INTERCONSULTA ESPECIALIZA | F15: 360377 | G15: =VLOOKUP(B15,OCCIDENTE!$A$8:$J$5948,10,0) -> 615495.31 | H15: =VLOOKUP(B15,NUESTRA!$A$2:$G$2913,7,0) -> 520963.87 | I15: =VLOOKUP(B15,'COSMITET ABR'!$C$3:$H$363,6,0) -> 477200.17 | J15: =AVERAGE(F15,G15,H15,I15) -> 493509.09
A16: 12 | B16: 129A02 | C16: INTERNACION COMPLEJIDAD ALTA HABITACION MULTIPLE | E16: EXCLUYE CUALQUIER TIPO DE TERAPIA Y INTERCONSULTA ESPECIALIZA | F16: =VLOOKUP(B16,FVL!$A$5:$N$6151,14,0) -> 360377 | G16: =VLOOKUP(B16,OCCIDENTE!$A$8:$J$5948,10,0) -> 218940.73 | H16: =VLOOKUP(B16,NUESTRA!$A$2:$G$2913,7,0) -> 428562.42 | I16: =VLOOKUP(B16,'COSMITET ABR'!$C$3:$H$363,6,0) -> 365230.03 | J16: =AVERAGE(F16,G16,H16,I16) -> 343277.55
A17: 13 | B17: 110A01 | C17: INTERNACION EN UNIDAD DE CUIDADO INTENSIVO ADULTOS | E17: EXCLUYE CUALQUIER TIPO DE TERAPIA Y INTERCONSULTA ESPECIALIZA | F17: =VLOOKUP(B17,FVL!$A$5:$N$6151,14,0) -> 2229609 | G17: =VLOOKUP(B17,OCCIDENTE!$A$8:$J$5948,10,0) -> 1543908.4 | H17: =VLOOKUP(B17,NUESTRA!$A$2:$G$2913,7,0) -> 2087261 | I17: NO OFERTA | J17: =AVERAGE(F17,G17,H17,I17) -> 1953592.8
A18: 14 | B18: 107M01 | C18: INTERNACION EN UNIDAD DE CUIDADO INTERMEDIO ADULTO | E18: EXCLUYE CUALQUIER TIPO DE TERAPIA Y INTERCONSULTA ESPECIALIZA | F18: =VLOOKUP(B18,FVL!$A$5:$N$6151,14,0) -> 980647 | G18: =VLOOKUP(B18,OCCIDENTE!$A$8:$J$5948,10,0) -> 665860.27 | H18: =VLOOKUP(B18,NUESTRA!$A$2:$G$2913,7,0) -> 1440598 | I18: =VLOOKUP(B18,'COSMITET ABR'!$C$3:$H$363,6,0) -> 964424.5 | J18: =AVERAGE(F18,G18,H18,I18) -> 1012882.4
A19: 15 | B19: 372202 | C19: CATETERISMO CARDÍACO DEL LADO IZQUIERDO DEL CORAZÓN | D19: * Honorarios profesional de hemodinamia. * (1) Consulta post durante los 15 días siguientes al procedimiento y por la misma especialidad. * Derechos de sala * Derechos de Recuperación *Exámenes de laboratorio: (Hemograma. PT. PTT, Creatinina) antes del procedimiento * (1) Electrocardiograma; si se requiere durante el procedimiento. * Insumos alto costo: dos (2) cateter Diagnóstico 5F, un (1) Introductor 5F, una (1) Guia Hidrofílica * Materiales de sutura y curación. * Medio de contraste: equivalentes máximo a 100cc. * Agentes y gases anestésicos (locales) * Medicamentos e Insumos básicos de procedimiento | E19: * Complicaciones * Exámenes de laboratorio pre, durante y post. (Excepto los descritos en las inclusiones) * Consultas especializadas pre y post procedimiento pasado más de 15 días. * Apoyo diagnostico pre y post procedimiento. * Banco de sangre * Honorarios de anestesiólogo en caso de necesitarlos se facturara a 250,000. * LO QUE NO ESTE EXPLICITO, SE ENTIENDE EXCLUIDO DEL PAQUETE y se facturará a tarifas convenidas | F19: =VLOOKUP(B19,FVL!$A$5:$N$6151,14,0) -> 11775108 | G19: NO OFERTA | H19: NO OFERTA | I19: =VLOOKUP(B19,'COSMITET ABR'!$C$3:$H$363,6,0) -> 1781738.7 | J19: =AVERAGE(F19,G19,H19,I19) -> 6778423.3
A20: 16 | B20: 378501 | C20: REVISIÓN (REPROGRAMACIÓN) DE MARCAPASOS | F20: =VLOOKUP(B20,FVL!$A$5:$N$6151,14,0) -> 98750 | G20: NO OFERTA | H20: NO OFERTA | I20: =VLOOKUP(B20,'COSMITET ABR'!$C$3:$H$363,6,0) -> 69000 | J20: =AVERAGE(F20,G20,H20,I20) -> 83875
A21: 17 | B21: 890202 | C21: CONSULTA DE PRIMERA VEZ POR OTRAS ESPECIALIDADES MÉDICAS(ELECTROFISIOLOGIA) | F21: =VLOOKUP(B21,FVL!$A$5:$N$6151,14,0) -> 163533 | G21: NO OFERTA | H21: =VLOOKUP(B21,NUESTRA!$A$2:$G$2913,7,0) -> 196114.66 | I21: =VLOOKUP(B21,'COSMITET ABR'!$C$3:$H$363,6,0) -> 78161.667 | J21: =AVERAGE(F21,G21,H21,I21) -> 145936.44
A22: 18 | B22: 890240 | C22: CONSULTA DE PRIMERA VEZ POR ESPECIALISTA EN CIRUGÍA VASCULAR | F22: =VLOOKUP(B22,FVL!$A$5:$N$6151,14,0) -> 133848 | G22: =VLOOKUP(B22,OCCIDENTE!$A$8:$J$5948,10,0) -> 90596.164 | H22: =VLOOKUP(B22,NUESTRA!$A$2:$G$2913,7,0) -> 196114.66 | I22: =VLOOKUP(B22,'COSMITET ABR'!$C$3:$H$363,6,0) -> 83681.667 | J22: =AVERAGE(F22,G22,H22,I22) -> 126060.12
A23: 19 | B23: 890230 | C23: CONSULTA DE PRIMERA VEZ POR ESPECIALISTA EN CIRUGÍA CARDIOVASCULAR | F23: =VLOOKUP(B23,FVL!$A$5:$N$6151,14,0) -> 133848 | G23: =VLOOKUP(B23,OCCIDENTE!$A$8:$J$5948,10,0) -> 75496.804 | H23: =VLOOKUP(B23,NUESTRA!$A$2:$G$2913,7,0) -> 196114.66 | I23: =VLOOKUP(B23,'COSMITET ABR'!$C$3:$H$363,6,0) -> 88895 | J23: =AVERAGE(F23,G23,H23,I23) -> 123588.62
A24: 20 | B24: 360101 | C24: ANGIOPLASTIA CORONARIA PERCUTÁNEA (ENDOVASCULAR) UNO O DOS VASOS | D24: Honorario médico Hemodinamista, Derecho de sala, (1) día de hospitalización en piso, (1) día de UCIN, Materiales de Sutura y curación, Agentes y gases anestésicos, Insumos básicos de Procedimientos, Consulta pos Procedimiento, Insumos:, Balon coronario para (1) vaso hasta (2), balones para 2 vasos (3) balones., Cateter diagnostico (1), Cateter guia coronario (1) por cada vaso, Guia angioplastia (2) para un vaso, (3) para dos vasos, Guia de diagnostico (1), Guia hidrofilica (1), Insufladorintroductor hemodinamia, Medio de contraste, Transductor de presion, , Aguja Angiografica (1),Jeringa De 5 C.C. (3),Jeringa De 10 C.C. (3),Extensiones (1),Jeringa de Inyeccion (1),Manifold (1). | E24: Complicaciones Consulta especializada Pre Honorario médico de anestesiólogo Insumos y medicamentos No incluidos en los paquetes Banco de Sangre No incluye los insumos relacionados con aterectomia rotacional ( Rotablator) Balón de contrapulsación Estancia adicionales a las incluidas en el paquete | F24: =VLOOKUP(B24,FVL!$A$5:$N$6151,14,0) -> 2003234 | G24: NO OFERTA | H24: NO OFERTA | I24: =VLOOKUP(B24,'COSMITET ABR'!$C$3:$H$363,6,0) -> 6233248.4 | J24: =AVERAGE(F24,G24,H24,I24) -> 4118241.2
A25: 21 | B25: 896101 | C25: MONITOREO DE PRESIÓN ARTERIAL SISTÉMICA (TELEMETRÍA) | D25: Adultos y Pediátricos (éstos últimos mayores de 12 años exclusivamente) | F25: NO OFERTA | G25: =VLOOKUP(B25,OCCIDENTE!$A$8:$J$5948,10,0) -> 250560.8 | H25: =VLOOKUP(B25,NUESTRA!$A$2:$G$2913,7,0) -> 279673.37 | I25: =VLOOKUP(B25,'COSMITET ABR'!$C$3:$H$363,6,0) -> 172500 | J25: =AVERAGE(F25,G25,H25,I25) -> 234244.72
A26: 22 | B26: 894102 | C26: PRUEBA DE ESFUERZO CARDIOVASCULAR | D26: Adultos y Pediátricos | F26: =VLOOKUP(B26,FVL!$A$5:$N$6151,14,0) -> 372257 | G26: =VLOOKUP(B26,OCCIDENTE!$A$8:$J$5948,10,0) -> 266396.14 | H26: =VLOOKUP(B26,NUESTRA!$A$2:$G$2913,7,0) -> 170611.51 | I26: =VLOOKUP(B26,'COSMITET ABR'!$C$3:$H$363,6,0) -> 257203.25 | J26: =AVERAGE(F26,G26,H26,I26) -> 266616.97
A27: 23 | B27: 894402 | C27: PRUEBA DE CAMINATA DE 6 MINUTOS | F27: =VLOOKUP(B27,FVL!$A$5:$N$6151,14,0) -> 122251 | G27: =VLOOKUP(B27,OCCIDENTE!$A$8:$J$5948,10,0) -> 126834.63 | H27: NO OFERTA | I27: =VLOOKUP(B27,'COSMITET ABR'!$C$3:$H$363,6,0) -> 343539.21 | J27: =AVERAGE(F27,G27,H27,I27) -> 197541.61
A28: 24 | B28: 881205 | C28: ECOCARDIOGRAMA TRANSESOFÁGICO | D28: Adultos y Pediátricos (éstos últimos mayores de 15 años y previa revisión de la HC por parte de nuestro especialista) | F28: =VLOOKUP(B28,FVL!$A$5:$N$6151,14,0) -> 502041 | G28: =VLOOKUP(B28,OCCIDENTE!$A$8:$J$5948,10,0) -> 424927.2 | H28: =VLOOKUP(B28,NUESTRA!$A$2:$G$2913,7,0) -> 539748 | I28: =VLOOKUP(B28,'COSMITET ABR'!$C$3:$H$363,6,0) -> 712000.07 | J28: =AVERAGE(F28,G28,H28,I28) -> 544679.07
A29: 25 | B29: 372302 | C29: CATETERISMO COMBINADO DE LOS LADOS DERECHO E IZQUIERDO DEL CORAZÓN | D29: Honorario médico Hemodinamista , Derecho de sala, (1) día de hospitalización en piso, Materiales de Sutura y curación, Agentes y gases anestésicos, Insumos básicos de Procedimientos, Consulta post-Procedimiento, Insumos:, Cateter diagnostico (4), Extension de inyector (1), Guia de diagnostico (2), Introductor hemodinamia (2), Medio de contraste , Pulsera compresion (1), Transductor de presion (1), Aguja Angiografica (1),Jeringa De 5 C.C. (3),Jeringa De 10 C.C. (3),Extensiones (1),Jeringa de Inyeccion (1),Manifold (1). | E29: Complicaciones Consulta especializada Pre Honorario médico de anestesiólogo Insumos y medicamentos No incluidos en los paquetes Banco de Sangre Balón de contrapulsación Estancia adicionales a las incluidas en el paquete Curva de hiperoxia Iloprost | F29: =VLOOKUP(B29,FVL!$A$5:$N$6151,14,0) -> 1499158 | G29: NO OFERTA | H29: NO OFERTA | I29: =VLOOKUP(B29,'COSMITET ABR'!$C$3:$H$363,6,0) -> 1971244.3 | J29: =AVERAGE(F29,G29,H29,I29) -> 1735201.2
A30: 26 | B30: 890502 | C30: PARTICIPACIÓN EN JUNTA MÉDICA, POR MEDICINA ESPECIALIZADA Y CASO (PACIENTE) JUNTA CARDIOQUIRURGICA (Valor de la Junta) | F30: =VLOOKUP(B30,FVL!$A$5:$N$6151,14,0) -> 109573 | G30: =VLOOKUP(B30,OCCIDENTE!$A$8:$J$5948,10,0) -> 1207948.9 | H30: =VLOOKUP(B30,NUESTRA!$A$2:$G$2913,7,0) -> 277200 | I30: =VLOOKUP(B30,'COSMITET ABR'!$C$3:$H$363,6,0) -> 206858.17 | J30: =AVERAGE(F30,G30,H30,I30) -> 450395.01
A31: 27 | B31: 360601 | C31: INSERCIÓN O IMPLANTE DE PRÓTESIS INTRACORONARIA (STENT) SOD | D31: Honorario médico Hemodinamista, Derecho de sala, (1) día de hospitalización en piso, (1) día de UCIN, Materiales de Sutura y curación, Agentes y gases anestésicos, Insumos básicos de Procedimientos, Consulta pos Procedimiento, Insumos:, Cateter diagnostico (1), Cateter guia coronario (1) por cada vaso , Guia angioplastia (2) para un vaso, (3) para dos vasos y (4) para (3) vasos, Guia de diagnostico (1), Guia hidrofilica (1), Insuflador , Introductor hemodinamia (1), Medio de contraste, Transductor de presion., Aguja Angiografica (1),Jeringa De 5 C.C. (3),Jeringa De 10 C.C. (3),Extensiones (1),Jeringa de Inyeccion (1),Manifold (1). | E31: Complicaciones Consulta especializada Pre Honorario médico de anestesiólogo Insumos y medicamentos No incluidos en los paquetes Banco de Sangre Balón de contrapulsación Estancia adicionales a las incluidas en el paquete | F31: NO OFERTA | G31: NO OFERTA | H31: NO OFERTA | I31: =VLOOKUP(B31,'COSMITET ABR'!$C$3:$H$363,6,0) -> 4174360.9 | J31: =AVERAGE(F31,G31,H31,I31) -> 4174360.9
A32: 28 | B32: 890302 | C32: CONSULTA DE CONTROL O DE SEGUIMIENTO POR OTRAS ESPECIALIDADES MÉDICAS(ELECTROFISIOLOGIA) | F32: =VLOOKUP(B32,FVL!$A$5:$N$6151,14,0) -> 133848 | G32: NO OFERTA | H32: =VLOOKUP(B32,NUESTRA!$A$2:$G$2913,7,0) -> 101954.29 | I32: =VLOOKUP(B32,'COSMITET ABR'!$C$3:$H$363,6,0) -> 78161.667 | J32: =AVERAGE(F32,G32,H32,I32) -> 104654.65
A33: 29 | B33: 890340 | C33: CONSULTA DE CONTROL O DE SEGUIMIENTO POR ESPECIALISTA EN CIRUGÍA VASCULAR | F33: =VLOOKUP(B33,FVL!$A$5:$N$6151,14,0) -> 133848 | G33: =VLOOKUP(B33,OCCIDENTE!$A$8:$J$5948,10,0) -> 90596.164 | H33: =VLOOKUP(B33,NUESTRA!$A$2:$G$2913,7,0) -> 101954.29 | I33: =VLOOKUP(B33,'COSMITET ABR'!$C$3:$H$363,6,0) -> 76935 | J33: =AVERAGE(F33,G33,H33,I33) -> 100833.36
A34: 30 | B34: 876121 | C34: ARTERIOGRAFÍA CORONARIA CON CATETERISMO DERECHO E IZQUIERDO | D34: Honorario médico Hemodinamista , Derecho de sala, (1) día de hospitalización en piso, Materiales de Sutura y curación, Agentes y gases anestésicos, Insumos básicos de Procedimientos, Consulta post-Procedimiento, Insumos:, Cateter diagnostico (4), Extension de inyector (1), Guia de diagnostico (2), Introductor hemodinamia (2), Medio de contraste , Pulsera compresion (1), Transductor de presion (1), , Aguja Angiografica (1),Jeringa De 5 C.C. (3),Jeringa De 10 C.C. (3),Extensiones (1),Jeringa de Inyeccion (1),Manifold (1). | E34: Complicaciones Consulta especializada Pre Honorario médico de anestesiólogo Insumos y medicamentos No incluidos en los paquetes Banco de Sangre Balón de contrapulsación Estancia adicionales a las incluidas en el paquete Curva de hiperoxia Iloprost | F34: =VLOOKUP(B34,FVL!$A$5:$N$6151,14,0) -> 1588311 | G34: NO OFERTA | H34: NO OFERTA | I34: =VLOOKUP(B34,'COSMITET ABR'!$C$3:$H$363,6,0) -> 2107314.9 | J34: =AVERAGE(F34,G34,H34,I34) -> 1847813
A35: 31 | B35: 360102 | C35: ANGIOPLASTIA CORONARIA PERCUTÁNEA (ENDOVASCULAR) MAS DE DOS VASOS | D35: Honorario médico Hemodinamista, Derecho de sala, (1) día de hospitalización en piso, (1) día de UCIN, Materiales de Sutura y curación, Agentes y gases anestésicos, Insumos básicos de Procedimientos, Consulta pos Procedimiento, Insumos:, Balon coronario para 1 vaso hasta (2), balones para 2 vasos (3) balones., Cateter diagnostico (1), Cateter guia coronario (1) por cada vaso, Guia angioplastia (2) para un vaso, (3) para dos vasos y (4) para 3 vasos, Guia de diagnostico (1), Guia hidrofilica (1), Insufladorintroductor hemodinamia, Medio de contraste, Transductor de presion, , Aguja Angiografica (1),Jeringa De 5 C.C. (3),Jeringa De 10 C.C. (3),Extensiones (1),Jeringa de Inyeccion (1),Manifold (1). | E35: Complicaciones Consulta especializada Pre Honorario médico de anestesiólogo Insumos y medicamentos No incluidos en los paquetes Banco de Sangre No incluye los insumos relacionados con aterectomia rotacional ( Rotablator) Balón de contrapulsación Estancia adicionales a las incluidas en el paquete | F35: =VLOOKUP(B35,FVL!$A$5:$N$6151,14,0) -> 2289408 | G35: NO OFERTA | H35: NO OFERTA | I35: 2336900 | J35: =AVERAGE(F35,G35,H35,I35) -> 2313154
A36: 32 | B36: 890330 | C36: CONSULTA DE CONTROL O DE SEGUIMIENTO POR ESPECIALISTA EN CIRUGÍA CARDIOVASCULAR | F36: =VLOOKUP(B36,FVL!$A$5:$N$6151,14,0) -> 133848 | G36: =VLOOKUP(B36,OCCIDENTE!$A$8:$J$5948,10,0) -> 75496.804 | H36: =VLOOKUP(B36,NUESTRA!$A$2:$G$2913,7,0) -> 101954.29 | I36: =VLOOKUP(B36,'COSMITET ABR'!$C$3:$H$363,6,0) -> 84985 | J36: =AVERAGE(F36,G36,H36,I36) -> 99071.023
A37: 33 | B37: 872202 | C37: AORTOGRAMA ABDOMINAL Y ESTUDIO DE MIEMBROS INFERIORES | D37: Honorario médico Vascular Periférico, Derecho de sala, (1) día de hospitalización en piso, Materiales de Sutura y curación, Agentes y gases anestésicos, Insumos básicos de Procedimientos, Insumos:, Cateter diagnostico (1), Cefazolina o aztreonam con clindamicina, Extension inyector (1), Guia hidrofilica (1), Introductor hemodinamia (1), Medio de contraste, Transductor de presion , Aguja Angiografica (1),Jeringa De 5 C.C. (3),Jeringa De 10 C.C. (3),Extensiones (1),Jeringa de Inyeccion (1),Manifold (1). | E37: Complicaciones Consulta especializada Pre Honorario médico de anestesiólogo Insumos y medicamentos No incluidos en los paquetes Banco de Sangre Balón de contrapulsación Estancia adicionales a las incluidas en el paquete | F37: =VLOOKUP(B37,FVL!$A$5:$N$6151,14,0) -> 2488348 | G37: NO OFERTA | H37: NO OFERTA | I37: =VLOOKUP(B37,'COSMITET ABR'!$C$3:$H$363,6,0) -> 2151451 | J37: =AVERAGE(F37,G37,H37,I37) -> 2319899.5
A38: 34 | B38: 879910 | C38: TOMOGRAFÍA COMPUTADA EN RECONSTRUCCIÓN TRIDIMENSIONAL | D38: *SERVICIO | E38: * Excluye Medio de Contraste * Honorario Anestesiologo | F38: =VLOOKUP(B38,FVL!$A$5:$N$6151,14,0) -> 535824 | G38: =VLOOKUP(B38,OCCIDENTE!$A$8:$J$5948,10,0) -> 284193.8 | H38: =VLOOKUP(B38,NUESTRA!$A$2:$G$2913,7,0) -> 670032 | I38: =VLOOKUP(B38,'COSMITET ABR'!$C$3:$H$363,6,0) -> 886067.72 | J38: =AVERAGE(F38,G38,H38,I38) -> 594029.38
A39: 35 | B39: 895101 | C39: ELECTROCARDIOGRAMA DE RITMO O DE SUPERFICIE SOD | D39: Adultos y Pediátricos | F39: =VLOOKUP(B39,FVL!$A$5:$N$6151,14,0) -> 33731 | G39: =VLOOKUP(B39,OCCIDENTE!$A$8:$J$5948,10,0) -> 27542.7 | H39: NO OFERTA | I39: =VLOOKUP(B39,'COSMITET ABR'!$C$3:$H$363,6,0) -> 27827.7 | J39: =AVERAGE(F39,G39,H39,I39) -> 29700.467
A40: 36 | B40: 378301 | C40: INSERCIÓN [IMPLANTACIÓN] DE MARCAPASOS BICAMERAL | D40: Honorario médico Electro fisiólogo, Derecho de sala, (1) días de hospitalización en piso, Materiales de Sutura y curación, Agentes y gases anestésicos, Insumos básicos de Procedimientos, Consulta Pos Procedimiento, Insumos:, Bupirop y lidocaina, Cables medicion de umbral (1), Cefazolina o aztreonam con clindamicina, Electrodo bipolar 2, Electrodo multifuncion (1), Introductor marcapaso (1), Marcapaso bicameraltransductor de presion (1), Aguja Angiografica (1),Jeringa De 5 C.C. (3),Jeringa De 10 C.C. (3),Extensiones (1),Jeringa de Inyeccion (1),Manifold (1). | E40: Complicaciones Consulta especializada Pre Honorario médico de anestesiólogo Insumos y medicamentos No incluidos en los paquetes Banco de Sangre Balón de contrapulsación Estancia adicionales a las incluidas en el paquete | F40: =VLOOKUP(B40,FVL!$A$5:$N$6151,14,0) -> 1172445 | G40: NO OFERTA | H40: NO OFERTA | I40: =VLOOKUP(B40,'COSMITET ABR'!$C$3:$H$363,6,0) -> 16860879 | J40: =AVERAGE(F40,G40,H40,I40) -> 9016662.2
A41: 37 | B41: 876122 | C41: ARTERIOGRAFÍA CORONARIA CON CATETERISMO IZQUIERDO | D41: Honorario médico Hemodinamista, Derecho de sala, (1) día de hospitalización en piso, Materiales de Sutura y curación, Agentes y gases anestésicos, Insumos básicos de Procedimientos, Consulta pos Procedimiento, Insumos:, Cateter diagnostico (3), Extension de inyector (1), Guia de diagnostico (1), Introductor hemodinamia (1), Medio de contraste, Pulsera compresion (1), Transductor de presion (1), , Aguja Angiografica (1),Jeringa De 5 C.C. (3),Jeringa De 10 C.C. (3),Extensiones (1),Jeringa de Inyeccion (1),Manifold (1). | E41: Complicaciones Consulta especializada Pre Honorario médico de anestesiólogo Insumos y medicamentos No incluidos en los paquetes Banco de Sangre Balón de contrapulsación Estancia adicionales a las incluidas en el paquete | F41: =VLOOKUP(B41,FVL!$A$5:$N$6151,14,0) -> 1499158 | G41: NO OFERTA | H41: NO OFERTA | I41: =VLOOKUP(B41,'COSMITET ABR'!$C$3:$H$363,6,0) -> 1296182.2 | J41: =AVERAGE(F41,G41,H41,I41) -> 1397670.1
A42: 38 | B42: 881204 | C42: ECOCARDIOGRAMA TRANSTORÁCICO TRIDIMENSIONAL | D42: Adultos y Pediátricos | F42: NO OFERTA | G42: =VLOOKUP(B42,OCCIDENTE!$A$8:$J$5948,10,0) -> 550673.68 | H42: NO OFERTA | I42: =VLOOKUP(B42,'COSMITET ABR'!$C$3:$H$363,6,0) -> 445896.4 | J42: =AVERAGE(F42,G42,H42,I42) -> 498285.04
...

Sheet ESTIMADO
A1: VALOR ESTIMADO - CARDIOLOGIA 2026
A3: ITEM | B3: CUPS | C3: DESCRIPCION | D3: INCLUYE | E3: EXCLUYE | F3: HISTORICO | G3: HISTORICO PROYECTADO IPC 5,10% | H3: VALOR DEL MERCADO | I3: VALOR ESTIMADO | J3: OBSERVACIONES
A4: 1 | B4: 881202 | C4: ECOCARDIOGRAMA TRANSTORÁCICO | D4: Adultos y Pediátricos | F4: 215025 | G4: =(F4*5.1%)+F4 -> 225991.27 | H4: =MERCADO!J5 -> 382843.85 | I4: 304418 | J4: SE MANTIENE
A5: 2 | B5: 890226 | C5: CONSULTA DE PRIMERA VEZ POR ESPECIALISTA EN ANESTESIOLOGÍA | D5: HONORARIOS MEDICOS DEL ESPECIALISTA | F5: 70000 | G5: =(F5*5.1%)+F5 -> 73570 | H5: =MERCADO!J6 -> 122218.7 | I5: 97894 | J5: SE MANTIENE
A6: 3 | B6: 998702 | C6: SOPORTE DE SEDACION PARA CONSULTA O APOYO DIAGNOSTICO | D6: MEDICO GENERAL ENTRENADO SOLO PARA UNIDAD DE ATENCION DIGESTIVA | F6: 150000 | G6: =(F6*5.1%)+F6 -> 157650 | H6: =MERCADO!J7 -> 273910.97 | I6: 273910.97 | J6: SE AJUSTA
A7: 4 | B7: 890228 | C7: CONSULTA DE PRIMERA VEZ POR ESPECIALISTA EN CARDIOLOGÍA | F7: 47268 | G7: =(F7*5.1%)+F7 -> 49678.668 | H7: =MERCADO!J8 -> 122285.28 | I7: 85982 | J7: SE MANTIENE
A8: 5 | B8: 890701 | C8: CONSULTA DE URGENCIAS POR MEDICINA GENERAL | D8: HONORARIOS MEDICOS DEL ESPECIALISTA | F8: 45000 | G8: =(F8*5.1%)+F8 -> 47295 | H8: =MERCADO!J9 -> 68423.6 | I8: 57859 | J8: SE MANTIENE
A9: 6 | B9: 895001 | C9: MONITOREO ELECTROCARDIOGRÁFICO CONTINUO (HOLTER) | D9: Adultos y Pediátricos (éstos últimos mayores de 12 años exclusivamente) | F9: 139106 | G9: =(F9*5.1%)+F9 -> 146200.41 | H9: =MERCADO!J10 -> 322371.56 | I9: 234286 | J9: SE MANTIENE
A10: 7 | B10: 895004 | C10: MONITOREO AMBULATORIO DE PRESIÓN ARTERIAL SISTÉMICA | F10: 185948 | G10: =(F10*5.1%)+F10 -> 195431.35 | H10: =MERCADO!J11 -> 299600.11 | I10: 247516 | J10: SE MANTIENE
A11: 8 | B11: 881210 | C11: ECOCARDIOGRAMA DE STRESS CON PRUEBA DE ESFUERZO O CON PRUEBA FARMACOLÓGICA | D11: Adultos y Pediátricos (éstos últimos mayores de 15 años y previa revisión de la HC por parte de nuestro especialista) | F11: 424236 | G11: =(F11*5.1%)+F11 -> 445872.04 | H11: =MERCADO!J12 -> 809374.48 | I11: 627623 | J11: SE MANTIENE
A12: 9 | B12: 890328 | C12: CONSULTA DE CONTROL O DE SEGUIMIENTO POR ESPECIALISTA EN CARDIOLOGÍA | F12: 47268 | G12: =(F12*5.1%)+F12 -> 49678.668 | H12: =MERCADO!J13 -> 97058.523 | I12: 73369 | J12: SE MANTIENE
A13: 10 | B13: 933601 | C13: TERAPIA DE REHABILITACIÓN CARDIOVASCULAR | F13: 55400 | G13: =(F13*5.1%)+F13 -> 58225.4 | H13: =MERCADO!J14 -> 83822.368 | I13: 71024 | J13: SE MANTIENE
A14: 11 | B14: 129A01 | C14: INTERNACION COMPLEJIDAD ALTA HABITACION UNIPERSONAL (INCLUYE AISLAMIENTO) | E14: EXCLUYE CUALQUIER TIPO DE TERAPIA Y INTERCONSULTA ESPECIALIZA | F14: 425844 | G14: =(F14*5.1%)+F14 -> 447562.04 | H14: =MERCADO!J15 -> 493509.09 | I14: 470536 | J14: SE MANTIENE
A15: 12 | B15: 129A02 | C15: INTERNACION COMPLEJIDAD ALTA HABITACION MULTIPLE | E15: EXCLUYE CUALQUIER TIPO DE TERAPIA Y INTERCONSULTA ESPECIALIZA | F15: 310000 | G15: =(F15*5.1%)+F15 -> 325810 | H15: =MERCADO!J16 -> 343277.55 | I15: 334544 | J15: SE MANTIENE
A16: 13 | B16: 110A01 | C16: INTERNACION EN UNIDAD DE CUIDADO INTENSIVO ADULTOS | E16: EXCLUYE CUALQUIER TIPO DE TERAPIA Y INTERCONSULTA ESPECIALIZA | F16: 1340000 | G16: =(F16*5.1%)+F16 -> 1408340 | H16: =MERCADO!J17 -> 1953592.8 | I16: 1680966 | J16: SE MANTIENE
A17: 14 | B17: 107M01 | C17: INTERNACION EN UNIDAD DE CUIDADO INTERMEDIO ADULTO | E17: EXCLUYE CUALQUIER TIPO DE TERAPIA Y INTERCONSULTA ESPECIALIZA | F17: 750000 | G17: =(F17*5.1%)+F17 -> 788250 | H17: =MERCADO!J18 -> 1012882.4 | I17: 900566 | J17: SE MANTIENE
A18: 15 | B18: 372202 | C18: CATETERISMO CARDÍACO DEL LADO IZQUIERDO DEL CORAZÓN | D18: * Honorarios profesional de hemodinamia. * (1) Consulta post durante los 15 días siguientes al procedimiento y por la misma especialidad. * Derechos de sala * Derechos de Recuperación *Exámenes de laboratorio: (Hemograma. PT. PTT, Creatinina) antes del procedimiento * (1) Electrocardiograma; si se requiere durante el procedimiento. * Insumos alto costo: dos (2) cateter Diagnóstico 5F, un (1) Introductor 5F, una (1) Guia Hidrofílica * Materiales de sutura y curación. * Medio de contraste: equivalentes máximo a 100cc. * Agentes y gases anestésicos (locales) * Medicamentos e Insumos básicos de procedimiento | E18: * Complicaciones * Exámenes de laboratorio pre, durante y post. (Excepto los descritos en las inclusiones) * Consultas especializadas pre y post procedimiento pasado más de 15 días. * Apoyo diagnostico pre y post procedimiento. * Banco de sangre * Honorarios de anestesiólogo en caso de necesitarlos se facturara a 250,000. * LO QUE NO ESTE EXPLICITO, SE ENTIENDE EXCLUIDO DEL PAQUETE y se facturará a tarifas convenidas | F18: NO OFERTA | G18: NO OFERTA | H18: =MERCADO!J19 -> 6778423.3 | I18: 6778423 | J18: SE MANTIENE
A19: 16 | B19: 378501 | C19: REVISIÓN (REPROGRAMACIÓN) DE MARCAPASOS | F19: 50700 | G19: =(F19*5.1%)+F19 -> 53285.7 | H19: =MERCADO!J20 -> 83875 | I19: 68580 | J19: SE MANTIENE
A20: 17 | B20: 890202 | C20: CONSULTA DE PRIMERA VEZ POR OTRAS ESPECIALIDADES MÉDICAS(ELECTROFISIOLOGIA) | F20: 79952 | G20: =(F20*5.1%)+F20 -> 84029.552 | H20: =MERCADO!J21 -> 145936.44 | I20: 114983 | J20: SE MANTIENE
A21: 18 | B21: 890240 | C21: CONSULTA DE PRIMERA VEZ POR ESPECIALISTA EN CIRUGÍA VASCULAR | F21: 51293 | G21: =(F21*5.1%)+F21 -> 53908.943 | H21: =MERCADO!J22 -> 126060.12 | I21: 89985 | J21: SE MANTIENE
A22: 19 | B22: 890230 | C22: CONSULTA DE PRIMERA VEZ POR ESPECIALISTA EN CIRUGÍA CARDIOVASCULAR | F22: 70000 | G22: =(F22*5.1%)+F22 -> 73570 | H22: =MERCADO!J23 -> 123588.62 | I22: 98579 | J22: SE MANTIENE
A23: 20 | B23: 360101 | C23: ANGIOPLASTIA CORONARIA PERCUTÁNEA (ENDOVASCULAR) UNO O DOS VASOS | D23: Honorario médico Hemodinamista, Derecho de sala, (1) día de hospitalización en piso, (1) día de UCIN, Materiales de Sutura y curación, Agentes y gases anestésicos, Insumos básicos de Procedimientos, Consulta pos Procedimiento, Insumos:, Balon coronario para (1) vaso hasta (2), balones para 2 vasos (3) balones., Cateter diagnostico (1), Cateter guia coronario (1) por cada vaso, Guia angioplastia (2) para un vaso, (3) para dos vasos, Guia de diagnostico (1), Guia hidrofilica (1), Insufladorintroductor hemodinamia, Medio de contraste, Transductor de presion, , Aguja Angiografica (1),Jeringa De 5 C.C. (3),Jeringa De 10 C.C. (3),Extensiones (1),Jeringa de Inyeccion (1),Manifold (1). | E23: Complicaciones Consulta especializada Pre Honorario médico de anestesiólogo Insumos y medicamentos No incluidos en los paquetes Banco de Sangre No incluye los insumos relacionados con aterectomia rotacional ( Rotablator) Balón de contrapulsación Estancia adicionales a las incluidas en el paquete | F23: 3206700 | G23: =(F23*5.1%)+F23 -> 3370241.7 | H23: =MERCADO!J24 -> 4118241.2 | I23: 4118241.2 | J23: SE AJUSTA
A24: 21 | B24: 896101 | C24: MONITOREO DE PRESIÓN ARTERIAL SISTÉMICA (TELEMETRÍA) | D24: Adultos y Pediátricos (éstos últimos mayores de 12 años exclusivamente) | F24: 162000 | G24: =(F24*5.1%)+F24 -> 170262 | H24: =MERCADO!J25 -> 234244.72 | I24: 202253 | J24: SE MANTIENE
A25: 22 | B25: 894102 | C25: PRUEBA DE ESFUERZO CARDIOVASCULAR | D25: Adultos y Pediátricos | F25: 100930 | G25: =(F25*5.1%)+F25 -> 106077.43 | H25: =MERCADO!J26 -> 266616.97 | I25: 186347 | J25: SE MANTIENE
A26: 23 | B26: 894402 | C26: PRUEBA DE CAMINATA DE 6 MINUTOS | F26: 220000 | G26: =(F26*5.1%)+F26 -> 231220 | H26: =MERCADO!J27 -> 197541.61 | I26: 224385.18 | J26: SE AJUSTA
A27: 24 | B27: 881205 | C27: ECOCARDIOGRAMA TRANSESOFÁGICO | D27: Adultos y Pediátricos (éstos últimos mayores de 15 años y previa revisión de la HC por parte de nuestro especialista) | F27: 290125 | G27: =(F27*5.1%)+F27 -> 304921.38 | H27: =MERCADO!J28 -> 544679.07 | I27: 424800 | J27: SE MANTIENE
A28: 25 | B28: 372302 | C28: CATETERISMO COMBINADO DE LOS LADOS DERECHO E IZQUIERDO DEL CORAZÓN | D28: Honorario médico Hemodinamista , Derecho de sala, (1) día de hospitalización en piso, Materiales de Sutura y curación, Agentes y gases anestésicos, Insumos básicos de Procedimientos, Consulta post-Procedimiento, Insumos:, Cateter diagnostico (4), Extension de inyector (1), Guia de diagnostico (2), Introductor hemodinamia (2), Medio de contraste , Pulsera compresion (1), Transductor de presion (1), Aguja Angiografica (1),Jeringa De 5 C.C. (3),Jeringa De 10 C.C. (3),Extensiones (1),Jeringa de Inyeccion (1),Manifold (1). | E28: Complicaciones Consulta especializada Pre Honorario médico de anestesiólogo Insumos y medicamentos No incluidos en los paquetes Banco de Sangre Balón de contrapulsación Estancia adicionales a las incluidas en el paquete Curva de hiperoxia Iloprost | F28: 1242900 | G28: =(F28*5.1%)+F28 -> 1306287.9 | H28: =MERCADO!J29 -> 1735201.2 | I28: 1735201.2 | J28: SE AJUSTA
A29: 26 | B29: 890502 | C29: PARTICIPACIÓN EN JUNTA MÉDICA, POR MEDICINA ESPECIALIZADA Y CASO (PACIENTE) JUNTA CARDIOQUIRURGICA (Valor de la Junta) | F29: 151900 | G29: =(F29*5.1%)+F29 -> 159646.9 | H29: =MERCADO!J30 -> 450395.01 | I29: 305021 | J29: SE MANTIENE
A30: 27 | B30: 360601 | C30: INSERCIÓN O IMPLANTE DE PRÓTESIS INTRACORONARIA (STENT) SOD | D30: Honorario médico Hemodinamista, Derecho de sala, (1) día de hospitalización en piso, (1) día de UCIN, Materiales de Sutura y curación, Agentes y gases anestésicos, Insumos básicos de Procedimientos, Consulta pos Procedimiento, Insumos:, Cateter diagnostico (1), Cateter guia coronario (1) por cada vaso , Guia angioplastia (2) para un vaso, (3) para dos vasos y (4) para (3) vasos, Guia de diagnostico (1), Guia hidrofilica (1), Insuflador , Introductor hemodinamia (1), Medio de contraste, Transductor de presion., Aguja Angiografica (1),Jeringa De 5 C.C. (3),Jeringa De 10 C.C. (3),Extensiones (1),Jeringa de Inyeccion (1),Manifold (1). | E30: Complicaciones Consulta especializada Pre Honorario médico de anestesiólogo Insumos y medicamentos No incluidos en los paquetes Banco de Sangre Balón de contrapulsación Estancia adicionales a las incluidas en el paquete | F30: NO OFERTA | G30: NO OFERTA | H30: =MERCADO!J31 -> 4174360.9 | I30: 4621142.9 | J30: SE AJUSTA
A31: 28 | B31: 890302 | C31: CONSULTA DE CONTROL O DE SEGUIMIENTO POR OTRAS ESPECIALIDADES MÉDICAS(ELECTROFISIOLOGIA) | F31: 70000 | G31: =(F31*5.1%)+F31 -> 73570 | H31: =MERCADO!J32 -> 104654.65 | I31: 89112 | J31: SE MANTIENE
A32: 29 | B32: 890340 | C32: CONSULTA DE CONTROL O DE SEGUIMIENTO POR ESPECIALISTA EN CIRUGÍA VASCULAR | F32: 70000 | G32: =(F32*5.1%)+F32 -> 73570 | H32: =MERCADO!J33 -> 100833.36 | I32: 87202 | J32: SE MANTIENE
A33: 30 | B33: 876121 | C33: ARTERIOGRAFÍA CORONARIA CON CATETERISMO DERECHO E IZQUIERDO | D33: Honorario médico Hemodinamista , Derecho de sala, (1) día de hospitalización en piso, Materiales de Sutura y curación, Agentes y gases anestésicos, Insumos básicos de Procedimientos, Consulta post-Procedimiento, Insumos:, Cateter diagnostico (4), Extension de inyector (1), Guia de diagnostico (2), Introductor hemodinamia (2), Medio de contraste , Pulsera compresion (1), Transductor de presion (1), , Aguja Angiografica (1),Jeringa De 5 C.C. (3),Jeringa De 10 C.C. (3),Extensiones (1),Jeringa de Inyeccion (1),Manifold (1). | E33: Complicaciones Consulta especializada Pre Honorario médico de anestesiólogo Insumos y medicamentos No incluidos en los paquetes Banco de Sangre Balón de contrapulsación Estancia adicionales a las incluidas en el paquete Curva de hiperoxia Iloprost | F33: 1242900 | G33: =(F33*5.1%)+F33 -> 1306287.9 | H33: =MERCADO!J34 -> 1847813 | I33: 1847813 | J33: SE AJUSTA
A34: 31 | B34: 360102 | C34: ANGIOPLASTIA CORONARIA PERCUTÁNEA (ENDOVASCULAR) MAS DE DOS VASOS | D34: Honorario médico Hemodinamista, Derecho de sala, (1) día de hospitalización en piso, (1) día de UCIN, Materiales de Sutura y curación, Agentes y gases anestésicos, Insumos básicos de Procedimientos, Consulta pos Procedimiento, Insumos:, Balon coronario para 1 vaso hasta (2), balones para 2 vasos (3) balones., Cateter diagnostico (1), Cateter guia coronario (1) por cada vaso, Guia angioplastia (2) para un vaso, (3) para dos vasos y (4) para 3 vasos, Guia de diagnostico (1), Guia hidrofilica (1), Insufladorintroductor hemodinamia, Medio de contraste, Transductor de presion, , Aguja Angiografica (1),Jeringa De 5 C.C. (3),Jeringa De 10 C.C. (3),Extensiones (1),Jeringa de Inyeccion (1),Manifold (1). | E34: Complicaciones Consulta especializada Pre Honorario médico de anestesiólogo Insumos y medicamentos No incluidos en los paquetes Banco de Sangre No incluye los insumos relacionados con aterectomia rotacional ( Rotablator) Balón de contrapulsación Estancia adicionales a las incluidas en el paquete | F34: 6054588 | G34: =(F34*5.1%)+F34 -> 6363372 | H34: =MERCADO!J35 -> 2313154 | I34: 5662714.3 | J34: SE AJUSTA
A35: 32 | B35: 890330 | C35: CONSULTA DE CONTROL O DE SEGUIMIENTO POR ESPECIALISTA EN CIRUGÍA CARDIOVASCULAR | F35: 84850 | G35: =(F35*5.1%)+F35 -> 89177.35 | H35: =MERCADO!J36 -> 99071.023 | I35: 94124 | J35: SE MANTIENE
A36: 33 | B36: 872202 | C36: AORTOGRAMA ABDOMINAL Y ESTUDIO DE MIEMBROS INFERIORES | D36: Honorario médico Vascular Periférico, Derecho de sala, (1) día de hospitalización en piso, Materiales de Sutura y curación, Agentes y gases anestésicos, Insumos básicos de Procedimientos, Insumos:, Cateter diagnostico (1), Cefazolina o aztreonam con clindamicina, Extension inyector (1), Guia hidrofilica (1), Introductor hemodinamia (1), Medio de contraste, Transductor de presion , Aguja Angiografica (1),Jeringa De 5 C.C. (3),Jeringa De 10 C.C. (3),Extensiones (1),Jeringa de Inyeccion (1),Manifold (1). | E36: Complicaciones Consulta especializada Pre Honorario médico de anestesiólogo Insumos y medicamentos No incluidos en los paquetes Banco de Sangre Balón de contrapulsación Estancia adicionales a las incluidas en el paquete | F36: 1706726 | G36: =(F36*5.1%)+F36 -> 1793769 | H36: =MERCADO!J37 -> 2319899.5 | I36: 2483280 | J36: SE AJUSTA
A37: 34 | B37: 879910 | C37: TOMOGRAFÍA COMPUTADA EN RECONSTRUCCIÓN TRIDIMENSIONAL | D37: *SERVICIO | E37: * Excluye Medio de Contraste * Honorario Anestesiologo | F37: 435896 | G37: =(F37*5.1%)+F37 -> 458126.7 | H37: =MERCADO!J38 -> 594029.38 | I37: 526078 | J37: SE MANTIENE
A38: 35 | B38: 895101 | C38: ELECTROCARDIOGRAMA DE RITMO O DE SUPERFICIE SOD | D38: Adultos y Pediátricos | F38: 24460 | G38: =(F38*5.1%)+F38 -> 25707.46 | H38: =MERCADO!J39 -> 29700.467 | I38: 27704 | J38: SE MANTIENE
A39: 36 | B39: 378301 | C39: INSERCIÓN [IMPLANTACIÓN] DE MARCAPASOS BICAMERAL | D39: Honorario médico Electro fisiólogo, Derecho de sala, (1) días de hospitalización en piso, Materiales de Sutura y curación, Agentes y gases anestésicos, Insumos básicos de Procedimientos, Consulta Pos Procedimiento, Insumos:, Bupirop y lidocaina, Cables medicion de umbral (1), Cefazolina o aztreonam con clindamicina, Electrodo bipolar 2, Electrodo multifuncion (1), Introductor marcapaso (1), Marcapaso bicameraltransductor de presion (1), Aguja Angiografica (1),Jeringa De 5 C.C. (3),Jeringa De 10 C.C. (3),Extensiones (1),Jeringa de Inyeccion (1),Manifold (1). | E39: Complicaciones Consulta especializada Pre Honorario médico de anestesiólogo Insumos y medicamentos No incluidos en los paquetes Banco de Sangre Balón de contrapulsación Estancia adicionales a las incluidas en el paquete | F39: 12410700 | G39: =(F39*5.1%)+F39 -> 13043646 | H39: =MERCADO!J40 -> 9016662.2 | I39: 16161000 | J39: SE AJUSTA
A40: 37 | B40: 876122 | C40: ARTERIOGRAFÍA CORONARIA CON CATETERISMO IZQUIERDO | D40: Honorario médico Hemodinamista, Derecho de sala, (1) día de hospitalización en piso, Materiales de Sutura y curación, Agentes y gases anestésicos, Insumos básicos de Procedimientos, Consulta pos Procedimiento, Insumos:, Cateter diagnostico (3), Extension de inyector (1), Guia de diagnostico (1), Introductor hemodinamia (1), Medio de contraste, Pulsera compresion (1), Transductor de presion (1), , Aguja Angiografica (1),Jeringa De 5 C.C. (3),Jeringa De 10 C.C. (3),Extensiones (1),Jeringa de Inyeccion (1),Manifold (1). | E40: Complicaciones Consulta especializada Pre Honorario médico de anestesiólogo Insumos y medicamentos No incluidos en los paquetes Banco de Sangre Balón de contrapulsación Estancia adicionales a las incluidas en el paquete | F40: 1179624 | G40: =(F40*5.1%)+F40 -> 1239784.8 | H40: =MERCADO!J41 -> 1397670.1 | I40: 1726680 | J40: SE AJUSTA
A41: 38 | B41: 881204 | C41: ECOCARDIOGRAMA TRANSTORÁCICO TRIDIMENSIONAL | D41: Adultos y Pediátricos | F41: 387503 | G41: =(F41*5.1%)+F41 -> 407265.65 | H41: =MERCADO!J42 -> 498285.04 | I41: 550673.68 | J41: SE AJUSTA
...

Sheet TECNICO
A1: CONDICIONES TECNICAS - CARDIOLOGIA 2026
A3: ITEM | B3: CUPS | C3: DESCRIPCION | D3: INCLUYE | E3: EXCLUYE | F3: OFRECE | G3: NO OFRECE
A4: 1 | B4: 881202 | C4: ECOCARDIOGRAMA TRANSTORÁCICO | D4: Adultos y Pediátricos
A5: 2 | B5: 890226 | C5: CONSULTA DE PRIMERA VEZ POR ESPECIALISTA EN ANESTESIOLOGÍA | D5: HONORARIOS MEDICOS DEL ESPECIALISTA
A6: 3 | B6: 998702 | C6: SOPORTE DE SEDACION PARA CONSULTA O APOYO DIAGNOSTICO | D6: MEDICO GENERAL ENTRENADO SOLO PARA UNIDAD DE ATENCION DIGESTIVA
A7: 4 | B7: 890228 | C7: CONSULTA DE PRIMERA VEZ POR ESPECIALISTA EN CARDIOLOGÍA
A8: 5 | B8: 890701 | C8: CONSULTA DE URGENCIAS POR MEDICINA GENERAL | D8: HONORARIOS MEDICOS DEL ESPECIALISTA
A9: 6 | B9: 895001 | C9: MONITOREO ELECTROCARDIOGRÁFICO CONTINUO (HOLTER) | D9: Adultos y Pediátricos (éstos últimos mayores de 12 años exclusivamente)
A10: 7 | B10: 895004 | C10: MONITOREO AMBULATORIO DE PRESIÓN ARTERIAL SISTÉMICA
A11: 8 | B11: 881210 | C11: ECOCARDIOGRAMA DE STRESS CON PRUEBA DE ESFUERZO O CON PRUEBA FARMACOLÓGICA | D11: Adultos y Pediátricos (éstos últimos mayores de 15 años y previa revisión de la HC por parte de nuestro especialista)
A12: 9 | B12: 890328 | C12: CONSULTA DE CONTROL O DE SEGUIMIENTO POR ESPECIALISTA EN CARDIOLOGÍA
A13: 10 | B13: 933601 | C13: TERAPIA DE REHABILITACIÓN CARDIOVASCULAR
A14: 11 | B14: 129A01 | C14: INTERNACION COMPLEJIDAD ALTA HABITACION UNIPERSONAL (INCLUYE AISLAMIENTO) | E14: EXCLUYE CUALQUIER TIPO DE TERAPIA Y INTERCONSULTA ESPECIALIZA
A15: 12 | B15: 129A02 | C15: INTERNACION COMPLEJIDAD ALTA HABITACION MULTIPLE | E15: EXCLUYE CUALQUIER TIPO DE TERAPIA Y INTERCONSULTA ESPECIALIZA
A16: 13 | B16: 110A01 | C16: INTERNACION EN UNIDAD DE CUIDADO INTENSIVO ADULTOS | E16: EXCLUYE CUALQUIER TIPO DE TERAPIA Y INTERCONSULTA ESPECIALIZA
A17: 14 | B17: 107M01 | C17: INTERNACION EN UNIDAD DE CUIDADO INTERMEDIO ADULTO | E17: EXCLUYE CUALQUIER TIPO DE TERAPIA Y INTERCONSULTA ESPECIALIZA
