Workbook
Name BuiltIn_Print_Area: #REF!
Name BuiltIn_Print_Area___0: #REF!
Name BuiltIn_Print_Area___0___0: #REF!
Name BuiltIn_Print_Area___0___0___0: #REF!
Name BuiltIn_Print_Area___0___0___0___0: #REF!
Name BuiltIn_Print_Area___0___0___0___0___0: #REF!
Name BuiltIn_Print_Titles: #REF!

Sheet PRESUPUESTO
B2: ALCALDIA MUNICIPAL DE SAN ANTONIO TOLIMA.
B3: REPOSICION ALCANTARILLADO CASCO URBANO
B4: ITM | C4: DESCRIPCION | D4: UND. | E4: CANT. | F4: VALOR UNIT. | G4: VALOR TOTAL.
B5: 1 | C5: PRELIMINARES.
B6: 1.1 | C6: Demolicion de placa en concreto e:0.15m. | D6: M2 | E6: =#REF! -> #REF! | F6: 19000 | G6: =E6*F6 -> #REF!
B7: 1.2 | C7: Excavacion en material conglomerado. | D7: M3 | E7: =#REF! -> #REF! | F7: 16300 | G7: =E7*F7 -> #REF!
B8: 1.3 | C8: Retiro de sobrantes distancia max. 8km. | D8: M3 | E8: =+#REF! -> #REF! | F8: =+'APU RETIRO DE SOBR.'!T37 -> 19910 | G8: =E8*F8 -> #REF!
B9: 1.4 | C9: Manejo de aguas. | D9: UND. | E9: 5 | F9: 200000 | G9: =E9*F9 -> 1000000
B10: 2 | C10: ALCANTARILLADO.
B11: 2.1 | C11: Cama de arena. | D11: M3 | E11: =+#REF! -> #REF! | F11: 70000 | G11: =E11*F11 -> #REF!
B12: 2.2 | C12: Tuberia Novafort de 8" incluye accesorios de conexión. | D12: ML | E12: =#REF! -> #REF! | F12: =+'APU TUBERIA'!T39 -> 50400 | G12: =E12*F12 -> #REF!
B13: 3 | C13: CONCRETO Y ACERO.
B14: 3.1 | C14: Pavimento rigido de 3000 psi Espesor 0,15 Incluye corte y juntas. | D14: M2 | E14: =E6 -> #REF! | F14: 71000 | G14: =E14*F14 -> #REF!
B15: 3.2 | C15: Concreto de 3000 PSI. | D15: M3 | E15: 3 | F15: 507000 | G15: =E15*F15 -> 1521000
B16: 3.3 | C16: Acero de refuerzo. | D16: KG | E16: =+#REF! -> #REF! | F16: 3600 | G16: =E16*F16 -> #REF!
B17: 3.4 | C17: Reparacion de rejilla. | D17: GL | E17: 1 | F17: 65000 | G17: =E17*F17 -> 65000
B18: 3.5 | C18: Construccion de tapa en concreto de 3000 psi de 1x1m para caja de inspeccion incluye acero de refuerzo, marco y agarradera. | D18: UND. | E18: 1 | F18: 125000 | G18: =E18*F18 -> 125000
B19: 4 | C19: RELLENOS.
B20: 4.1 | C20: Relleno compactado material seleccionado. | D20: M3 | E20: =+#REF! -> #REF! | F20: 54000 | G20: =E20*F20 -> #REF!
B22: TOTAL COSTO DIRECTO | G22: =SUM(G6:G20) -> #REF!
C23: ADMINISTRACION | F23: 0.15 | G23: =G22*F23 -> #REF!
C24: IMPREVISTOS | F24: 0.1 | G24: =G22*F24 -> #REF!
C25: UTILIDAD | F25: 0.05 | G25: =G22*F25 -> #REF!
C26: TOTAL COSTO INDIRECTO | G26: =SUM(G23:G25) -> #REF!
C27: TOTAL OBRA | G27: =G22+G26 -> #REF!
C31: ANDRES FELIPE SOSSA CABALLERO | E31: EDER SALAZAR BUENO
C32: REALIZO | E32: APROBO

Sheet CANT.
B3: =+'PRESUPUESTO TOTAL'!B2:G2 -> ALCALDIA MUNICIPAL DE SAN ANTONIO TOLIMA.
B4: =+'PRESUPUESTO TOTAL'!B3:G3 -> REPOSICION ALCANTARILLADO
B5: =+'PRESUPUESTO TOTAL'!B4:G4 -> CARRERA 6 ENTRE LA CALLE 4-3
C7: DESCRIPCIÓN | D7: UND
B8: =PRESUPUESTO!B5 -> 1 | C8: =PRESUPUESTO!C5 -> PRELIMINARES.
B9: =PRESUPUESTO!B6 -> 1.1 | C9: =PRESUPUESTO!C6 -> Demolicion de placa en concreto e:0.15m. | D9: =PRESUPUESTO!D6 -> M2 | F9: LARGO | G9: ANCHO | H9: ALTURA | I9: REPETICIONES | J9: TOTAL
C10: =+'PRESUPUESTO TOTAL'!B4 -> CARRERA 6 ENTRE LA CALLE 4-3 | F10: 50 | G10: 1.2 | J10: =F10*G10 -> 60
C11: Acometidas | F11: 3 | G11: 1 | I11: 12 | J11: =F11*G11*I11 -> 36
J12: =SUM(J10:J11) -> 96
B13: =PRESUPUESTO!B7 -> 1.2 | C13: =PRESUPUESTO!C7 -> Excavacion en material conglomerado. | D13: =PRESUPUESTO!D7 -> M3 | F13: LARGO | G13: ANCHO | H13: ALTURA | I13: REPETICIONES | J13: TOTAL
C14: =C10 -> CARRERA 6 ENTRE LA CALLE 4-3 | F14: =F10 -> 50 | G14: 1 | H14: 1.5 | J14: =F14*G14*H14 -> 75
C15: =+C11 -> Acometidas | F15: =+F11 -> 3 | G15: =+G11 -> 1 | H15: =+H14 -> 1.5 | I15: =+I11 -> 12 | J15: =F15*G15*H15*I15 -> 54
J16: =SUM(J14:J15) -> 129
B17: =PRESUPUESTO!B8 -> 1.3 | C17: =PRESUPUESTO!C8 -> Retiro de sobrantes distancia max. 8km. | D17: M3 | F17: CANTIDAD | G17: ANCHO | H17: ALTURA | I17: F.E. | J17: TOTAL
C18: Demolicion de placa. | F18: =+J12 -> 96 | H18: 0.15 | I18: 1.25 | J18: =F18*H18*I18 -> 18
C19: Excavacion. | F19: =J16 -> 129 | I19: 1.25 | J19: =F19*I19 -> 161.25
J20: =SUM(J18:J19) -> 179.25
B21: =PRESUPUESTO!B10 -> 2 | C21: =PRESUPUESTO!C10 -> ALCANTARILLADO.
B22: =+PRESUPUESTO!B11 -> 2.1 | C22: =+PRESUPUESTO!C11 -> Cama de arena. | D22: =+PRESUPUESTO!D11 -> M3 | F22: LARGO | G22: ANCHO | H22: ALTURA | I22: REPETICIONES | J22: TOTAL
C23: =+C14 -> CARRERA 6 ENTRE LA CALLE 4-3 | F23: =+F14 -> 50 | G23: =+G14 -> 1 | H23: 0.15 | J23: =F23*G23*H23 -> 7.5
C24: =+C15 -> Acometidas | F24: =+F11 -> 3 | G24: =+G11 -> 1 | H24: =+H23 -> 0.15 | I24: =+I15 -> 12 | J24: =F24*G24*H24*I24 -> 5.4
J25: =SUM(J23:J24) -> 12.9
B26: =PRESUPUESTO!B12 -> 2.2 | C26: =+'PRESUPUESTO TOTAL'!C13 -> Tuberia Novafort de 12" incluye accesorios de conexión. | D26: ML | F26: LARGO | G26: ANCHO | H26: ALTURA | I26: REPETICIONES | J26: TOTAL
C27: =C23 -> CARRERA 6 ENTRE LA CALLE 4-3 | F27: =F23 -> 50 | J27: =F27 -> 50
J28: =SUM(J27:J27) -> 50
B29: 2.3 | C29: =+'PRESUPUESTO TOTAL'!C14 -> Tuberia Novafort de 6" incluye accesorios de conexión. | D29: =+'PRESUPUESTO TOTAL'!D14 -> ML | F29: LARGO | G29: ANCHO | H29: ALTURA | I29: REPETICIONES | J29: TOTAL
F30: =+F24 -> 3 | G30: =+G24 -> 1 | I30: =+I24 -> 12 | J30: =F30*G30*I30 -> 36
J31: =SUM(J30:J30) -> 36
B33: =PRESUPUESTO!B13 -> 3 | C33: =PRESUPUESTO!C13 -> CONCRETO Y ACERO.
B34: =PRESUPUESTO!B16 -> 3.3 | C34: =+PRESUPUESTO!C16 -> Acero de refuerzo. | D34: =PRESUPUESTO!D16 -> KG | F34: LARGO | G34: %MAY | H34: PESO/ML | I34: REPETICIONES | J34: TOTAL
C35: =C27 -> CARRERA 6 ENTRE LA CALLE 4-3 | F35: =(F10/0.2)*G10*2 -> 600 | G35: 1.1 | H35: 0.56 | J35: =F35*G35*H35 -> 369.6
J36: =SUM(J35:J35) -> 369.6
B37: =+PRESUPUESTO!B19 -> 4 | C37: =+PRESUPUESTO!C19 -> RELLENOS.
B38: =+PRESUPUESTO!B20 -> 4.1 | C38: =+PRESUPUESTO!C20 -> Relleno compactado material seleccionado. | D38: =+PRESUPUESTO!D20 -> M3 | F38: LARGO | G38: ANCHO | H38: ALTURA | I38: F.C. | J38: TOTAL
C39: =+C27 -> CARRERA 6 ENTRE LA CALLE 4-3 | F39: =+F23 -> 50 | G39: =+G14 -> 1 | H39: 1 | I39: 1.25 | J39: =F39*G39*H39*I39 -> 62.5
F40: =+F30 -> 3 | G40: =+G30 -> 1 | H40: =+H39 -> 1 | I40: =+I39 -> 1.25 | J40: =F40*G40*H40*I40*12 -> 45
J41: =SUM(J39:J40) -> 107.5
C70: =PRESUPUESTO!C31 -> ANDRES FELIPE SOSSA CABALLERO | G70: =PRESUPUESTO!E31 -> EDER SALAZAR BUENO
C71: =PRESUPUESTO!C32 -> REALIZO | G71: =+PRESUPUESTO!E32 -> APROBO

Sheet PRESUPUESTO TOTAL
B2: ALCALDIA MUNICIPAL DE SAN ANTONIO TOLIMA.
B3: REPOSICION ALCANTARILLADO
B4: CARRERA 6 ENTRE LA CALLE 4-3
B5: ITM | C5: DESCRIPCION | D5: UND. | E5: CANT. | F5: VALOR UNIT. | G5: VALOR TOTAL.
B6: 1 | C6: PRELIMINARES.
B7: 1.1 | C7: Demolicion de placa en concreto e:0.15m. | D7: M2 | E7: =+'CANT.'!J12 -> 96 | F7: 19000 | G7: =E7*F7 -> 1824000
B8: 1.2 | C8: Excavacion en material conglomerado. | D8: M3 | E8: =+'CANT.'!J16 -> 129 | F8: 16300 | G8: =E8*F8 -> 2102700
B9: 1.3 | C9: Retiro de sobrantes distancia max. 8km. | D9: M3 | E9: =+'CANT.'!J20 -> 179.25 | F9: =+'APU RETIRO DE SOBR.'!T37 -> 19910 | G9: =E9*F9 -> 3568867.5
B10: 1.4 | C10: Manejo de aguas. | D10: UND. | E10: 1 | F10: 200000 | G10: =E10*F10 -> 200000
B11: 2 | C11: ALCANTARILLADO.
B12: 2.1 | C12: Cama de arena. | D12: M3 | E12: =+'CANT.'!J25 -> 12.9 | F12: 70000 | G12: =E12*F12 -> 903000
B13: 2.2 | C13: Tuberia Novafort de 12" incluye accesorios de conexión. | D13: ML | E13: =+'CANT.'!J28 -> 50 | F13: =+'APU TUBERIA DE 12"'!T39 -> 112600 | G13: =E13*F13 -> 5630000
B14: 2.3 | C14: Tuberia Novafort de 6" incluye accesorios de conexión. | D14: ML | E14: =+'CANT.'!J31 -> 36 | F14: =+'APU TUBERIA 6'!T39 -> 46900 | G14: =E14*F14 -> 1688400
B15: 3 | C15: CONCRETO Y ACERO.
B16: 3.1 | C16: Pavimento rigido de 3000 psi Espesor 0,15 Incluye corte y juntas. | D16: M2 | E16: =E7 -> 96 | F16: 71000 | G16: =E16*F16 -> 6816000
B17: 3.2 | C17: Acero de refuerzo. | D17: KG | E17: =+'CANT.'!J36 -> 369.6 | F17: 3600 | G17: =E17*F17 -> 1330560
B18: 4 | C18: RELLENOS.
B19: 4.1 | C19: Relleno compactado material seleccionado. | D19: M3 | E19: =+'CANT.'!J41 -> 107.5 | F19: 54000 | G19: =E19*F19 -> 5805000
B21: TOTAL COSTO DIRECTO | G21: =SUM(G7:G19) -> 29868528
C22: ADMINISTRACION | F22: 0.15 | G22: =G21*F22 -> 4480279.1
C23: IMPREVISTOS | F23: 0.05 | G23: =G21*F23 -> 1493426.4
C24: UTILIDAD | F24: 0.05 | G24: =G21*F24 -> 1493426.4
C25: TOTAL COSTO INDIRECTO | G25: =SUM(G22:G24) -> 7467131.9
C26: TOTAL OBRA | G26: =G21+G25 -> 37335659
C30: ANDRES FELIPE SOSSA CABALLERO | E30: EDER SALAZAR BUENO
C31: REALIZO | E31: APROBO

Sheet APU RETIRO DE SOBR.
B1: ANALISIS DE PRECIOS UNITARIOS
B3: =PRESUPUESTO!B3 -> REPOSICION ALCANTARILLADO CASCO URBANO
B5: Item | D5: Descripción | Q5: Unidad | T5: Cantidad
B6: =+PRESUPUESTO!B8 -> 1.3 | D6: =+PRESUPUESTO!C8 -> Retiro de sobrantes distancia max. 8km. | Q6: =+PRESUPUESTO!D8 -> M3 | T6: 1
B9: 1. Equipo
B11: Descripción | F11: Marca | I11: Tipo | L11: Tarifa/Hora | Q11: Rendimiento | T11: Vr. Unitario
B12: Retroexcavadora | I12: HR | L12: ='[1]APU 1.2'!L11:P11 -> 80000 | Q12: 0.1 | T12: =+Q12*L12 -> 8000
B14: SUBTOTAL | T14: =SUM(T12:T13) -> 8000
B16: 2. Materiales
B18: Descripción | J18: Unidad | L18: Cantidad | Q18: Precio Unit. | T18: Vr Unitario
B20: SUBTOTAL | T20: =SUM(T19:T19) -> 0
B22: 3. Transportes
B24: Material | H24: Vol. o Peso | J24: Distancia | L24: m3 o Ton/Km | Q24: Tarifa | T24: Vr. Unitario
B25: Material sobrante de excavacion | H25: 1.1 | J25: 8 | L25: =H25*J25 -> 8.8 | Q25: 1200 | T25: =+Q25*L25 -> 10560
B28: SUBTOTAL | T28: =+T25 -> 10560
B30: 4. Mano de Obra
B32: Trabajador | H32: Jornal | J32: Prestac. | L32: Jornal Total | Q32: Rendimiento | T32: Vr. Unitario
B33: 1 AYUDANTE | H33: 15000 | J33: =+H33*0.8 -> 12000 | L33: =+J33+H33 -> 27000 | Q33: 20 | T33: =+L33/Q33 -> 1350
B36: SUBTOTAL | T36: =SUM(T33:T35) -> 1350
B37: TOTAL COSTO DIRECTO | T37: =ROUND(T36+T28+T20+T14,0) -> 19910
B38: ADMINISTRACION 15% | T38: =T37*15% -> 2986.5
B39: IMPREVISTO 5% | T39: =T37*5% -> 995.5
B40: UTILIDAD 5% | T40: =T37*5% -> 995.5
B41: TOTAL PRECIO UNITARIO | T41: =ROUND(SUM(T37:T40),0) -> 24888

Sheet APU TUBERIA
B1: ANALISIS DE PRECIOS UNITARIOS
B3: =+'APU RETIRO DE SOBR.'!B3:T4 -> REPOSICION ALCANTARILLADO CASCO URBANO
B5: Item | D5: Descripción | Q5: Unidad | T5: Cantidad
B6: =+PRESUPUESTO!B12 -> 2.2 | D6: =+PRESUPUESTO!C12 -> Tuberia Novafort de 8" incluye accesorios de conexión. | Q6: ='[1]ACTA MODIFICATORIA'!C42 -> ML | T6: 1
B9: 1. Equipo
B11: Descripción | F11: UND | I11: Tipo | L11: Tarifa/Hora | Q11: Rendimiento | T11: Vr. Unitario
B12: HERRAMIENTA MENOR (10%) | F12: GL | L12: =T38*10% -> 1080 | Q12: 1 | T12: =L12*Q12 -> 1080
B15: SUBTOTAL | T15: =SUM(T12:T14) -> 1080
B17: 2. Materiales
B19: Descripción | J19: Unidad | L19: Cantidad | Q19: Precio Unit. | T19: Vr Unitario
B20: Tuberia Novafort de 8" | J20: ML | L20: 1 | Q20: 38500 | T20: =L20*Q20 -> 38500
B21: Hidrosello. | J21: UND | L21: =0.2 -> 0.2 | Q21: 5500 | T21: =L21*Q21 -> 1100
B22: SUBTOTAL | T22: =SUM(T20:T21) -> 39600
B24: 3. Transportes
B26: Material | H26: Vol. o Peso | J26: Distancia | L26: m3 o Ton/Km | Q26: Tarifa | T26: Vr. Unitario
B30: SUBTOTAL | T30: =T27 -> 0
B32: 4. Mano de Obra
B34: Trabajador | H34: Jornal | J34: Prestac. | L34: Jornal Total | Q34: Rendimiento | T34: Vr. Unitario
B35: 1 OFICIAL | H35: 30000 | J35: =+H35*0.8 -> 24000 | L35: =+J35+H35 -> 54000 | Q35: 10 | T35: =L35/Q35 -> 5400
B36: 2 AYUDANTE | H36: 30000 | J36: =+H36*0.8 -> 24000 | L36: =+J36+H36 -> 54000 | Q36: 10 | T36: =L36/Q36 -> 5400
B38: SUBTOTAL | T38: =SUM(T35:T36) -> 10800
B39: TOTAL COSTO DIRECTO | T39: =ROUND(T38+T30+T22+T16,0) -> 50400
B40: ADMINISTRACION 15% | T40: =T39*15% -> 7560
B41: IMPREVISTO 5% | T41: =T39*5% -> 2520
B42: UTILIDAD 5% | T42: =T39*5% -> 2520
B43: TOTAL PRECIO UNITARIO | T43: =ROUND(SUM(T39:T42),0) -> 63000
D47: ING. DANIEL TORRES BETANCOURTH | N47: ING. JUAN CARLOS MESA CASTILLO
D48: REPRESENTANTE LEGAL | N48: INTERVENTOR DE OBRA
D49: DISING DISEÑO E INGENIERIA INDUSTRIAL E.U

Sheet APU TUBERIA DE 12"
B1: ANALISIS DE PRECIOS UNITARIOS
B3: =+'APU RETIRO DE SOBR.'!B3:T4 -> REPOSICION ALCANTARILLADO CASCO URBANO
B5: Item | D5: Descripción | Q5: Unidad | T5: Cantidad
B6: =+PRESUPUESTO!B12 -> 2.2 | D6: =+'PRESUPUESTO TOTAL'!#REF! -> #REF! | Q6: =+'PRESUPUESTO TOTAL'!#REF! -> #REF! | T6: 1
B9: 1. Equipo
B11: Descripción | F11: UND | I11: Tipo | L11: Tarifa/Hora | Q11: Rendimiento | T11: Vr. Unitario
B12: HERRAMIENTA MENOR (10%) | F12: GL | L12: =T38*10% -> 1350 | Q12: 1 | T12: =L12*Q12 -> 1350
B15: SUBTOTAL | T15: =SUM(T12:T14) -> 1350
B17: 2. Materiales
B19: Descripción | J19: Unidad | L19: Cantidad | Q19: Precio Unit. | T19: Vr Unitario
B20: Tuberia Novafort de 12" | J20: ML | L20: 1 | Q20: 98000 | T20: =L20*Q20 -> 98000
B21: Hidrosello. | J21: UND | L21: =0.2 -> 0.2 | Q21: 5500 | T21: =L21*Q21 -> 1100
B22: SUBTOTAL | T22: =SUM(T20:T21) -> 99100
B24: 3. Transportes
B26: Material | H26: Vol. o Peso | J26: Distancia | L26: m3 o Ton/Km | Q26: Tarifa | T26: Vr. Unitario
B30: SUBTOTAL | T30: =T27 -> 0
B32: 4. Mano de Obra
B34: Trabajador | H34: Jornal | J34: Prestac. | L34: Jornal Total | Q34: Rendimiento | T34: Vr. Unitario
B35: 1 OFICIAL | H35: 30000 | J35: =+H35*0.8 -> 24000 | L35: =+J35+H35 -> 54000 | Q35: 8 | T35: =L35/Q35 -> 6750
B36: 2 AYUDANTE | H36: 30000 | J36: =+H36*0.8 -> 24000 | L36: =+J36+H36 -> 54000 | Q36: 8 | T36: =L36/Q36 -> 6750
B38: SUBTOTAL | T38: =SUM(T35:T36) -> 13500
B39: TOTAL COSTO DIRECTO | T39: =ROUND(T38+T30+T22+T16,0) -> 112600
B40: ADMINISTRACION 15% | T40: =T39*15% -> 16890
B41: IMPREVISTO 5% | T41: =T39*5% -> 5630
B42: UTILIDAD 5% | T42: =T39*5% -> 5630
B43: TOTAL PRECIO UNITARIO | T43: =ROUND(SUM(T39:T42),0) -> 140750
D47: ING. DANIEL TORRES BETANCOURTH | N47: ING. JUAN CARLOS MESA CASTILLO
D48: REPRESENTANTE LEGAL | N48: INTERVENTOR DE OBRA
D49: DISING DISEÑO E INGENIERIA INDUSTRIAL E.U

Sheet APU TUBERIA DE 16"
B1: ANALISIS DE PRECIOS UNITARIOS
B3: =+'APU RETIRO DE SOBR.'!B3:T4 -> REPOSICION ALCANTARILLADO CASCO URBANO
B5: Item | D5: Descripción | Q5: Unidad | T5: Cantidad
B6: =+PRESUPUESTO!B12 -> 2.2 | D6: =+'PRESUPUESTO TOTAL'!#REF! -> #REF! | Q6: =+'PRESUPUESTO TOTAL'!#REF! -> #REF! | T6: 1
B9: 1. Equipo
B11: Descripción | F11: UND | I11: Tipo | L11: Tarifa/Hora | Q11: Rendimiento | T11: Vr. Unitario
B12: HERRAMIENTA MENOR (10%) | F12: GL | L12: =T38*10% -> 1542.8571 | Q12: 1 | T12: =L12*Q12 -> 1542.8571
B15: SUBTOTAL | T15: =SUM(T12:T14) -> 1542.8571
B17: 2. Materiales
B19: Descripción | J19: Unidad | L19: Cantidad | Q19: Precio Unit. | T19: Vr Unitario
B20: Tuberia Novafort de 16" | J20: ML | L20: 1 | Q20: 142000 | T20: =L20*Q20 -> 142000
B21: Hidrosello. | J21: UND | L21: =0.2 -> 0.2 | Q21: 5500 | T21: =L21*Q21 -> 1100
B22: SUBTOTAL | T22: =SUM(T20:T21) -> 143100
B24: 3. Transportes
B26: Material | H26: Vol. o Peso | J26: Distancia | L26: m3 o Ton/Km | Q26: Tarifa | T26: Vr. Unitario
B30: SUBTOTAL | T30: =T27 -> 0
B32: 4. Mano de Obra
B34: Trabajador | H34: Jornal | J34: Prestac. | L34: Jornal Total | Q34: Rendimiento | T34: Vr. Unitario
B35: 1 OFICIAL | H35: 30000 | J35: =+H35*0.8 -> 24000 | L35: =+J35+H35 -> 54000 | Q35: 7 | T35: =L35/Q35 -> 7714.2857
B36: 2 AYUDANTE | H36: 30000 | J36: =+H36*0.8 -> 24000 | L36: =+J36+H36 -> 54000 | Q36: 7 | T36: =L36/Q36 -> 7714.2857
B38: SUBTOTAL | T38: =SUM(T35:T36) -> 15428.571
B39: TOTAL COSTO DIRECTO | T39: =ROUND(T38+T30+T22+T16,0) -> 158529
B40: ADMINISTRACION 15% | T40: =T39*15% -> 23779.35
B41: IMPREVISTO 5% | T41: =T39*5% -> 7926.45
B42: UTILIDAD 5% | T42: =T39*5% -> 7926.45
B43: TOTAL PRECIO UNITARIO | T43: =ROUND(SUM(T39:T42),0) -> 198161
D47: ING. DANIEL TORRES BETANCOURTH | N47: ING. JUAN CARLOS MESA CASTILLO
D48: REPRESENTANTE LEGAL | N48: INTERVENTOR DE OBRA
D49: DISING DISEÑO E INGENIERIA INDUSTRIAL E.U

Sheet APU TUBERIA 6
B1: ANALISIS DE PRECIOS UNITARIOS
B3: =+'APU RETIRO DE SOBR.'!B3:T4 -> REPOSICION ALCANTARILLADO CASCO URBANO
B5: Item | D5: Descripción | Q5: Unidad | T5: Cantidad
B6: =+'PRESUPUESTO TOTAL'!#REF! -> #REF! | D6: =+'PRESUPUESTO TOTAL'!#REF! -> #REF! | Q6: =+'PRESUPUESTO TOTAL'!#REF! -> #REF! | T6: 1
B9: 1. Equipo
B11: Descripción | F11: UND | I11: Tipo | L11: Tarifa/Hora | Q11: Rendimiento | T11: Vr. Unitario
B12: HERRAMIENTA MENOR (10%) | F12: GL | L12: =T38*10% -> 1080 | Q12: 1 | T12: =L12*Q12 -> 1080
B15: SUBTOTAL | T15: =SUM(T12:T14) -> 1080
B17: 2. Materiales
B19: Descripción | J19: Unidad | L19: Cantidad | Q19: Precio Unit. | T19: Vr Unitario
B20: Tuberia Novafort de 6" | J20: ML | L20: 1 | Q20: 35000 | T20: =L20*Q20 -> 35000
B21: Hidrosello. | J21: UND | L21: =0.2 -> 0.2 | Q21: 5500 | T21: =L21*Q21 -> 1100
B22: SUBTOTAL | T22: =SUM(T20:T21) -> 36100
B24: 3. Transportes
B26: Material | H26: Vol. o Peso | J26: Distancia | L26: m3 o Ton/Km | Q26: Tarifa | T26: Vr. Unitario
B30: SUBTOTAL | T30: =T27 -> 0
B32: 4. Mano de Obra
B34: Trabajador | H34: Jornal | J34: Prestac. | L34: Jornal Total | Q34: Rendimiento | T34: Vr. Unitario
B35: 1 OFICIAL | H35: 30000 | J35: =+H35*0.8 -> 24000 | L35: =+J35+H35 -> 54000 | Q35: 10 | T35: =L35/Q35 -> 5400
B36: 2 AYUDANTE | H36: 30000 | J36: =+H36*0.8 -> 24000 | L36: =+J36+H36 -> 54000 | Q36: 10 | T36: =L36/Q36 -> 5400
B38: SUBTOTAL | T38: =SUM(T35:T36) -> 10800
B39: TOTAL COSTO DIRECTO | T39: =ROUND(T38+T30+T22+T16,0) -> 46900
B40: ADMINISTRACION 15% | T40: =T39*15% -> 7035
B41: IMPREVISTO 5% | T41: =T39*5% -> 2345
B42: UTILIDAD 5% | T42: =T39*5% -> 2345
B43: TOTAL PRECIO UNITARIO | T43: =ROUND(SUM(T39:T42),0) -> 58625
D47: ING. DANIEL TORRES BETANCOURTH | N47: ING. JUAN CARLOS MESA CASTILLO
D48: REPRESENTANTE LEGAL | N48: INTERVENTOR DE OBRA
D49: DISING DISEÑO E INGENIERIA INDUSTRIAL E.U

Sheet PRESUPUESTO OFICIAL
A2: PRESUPUESTO OFICIAL
A3: MANTENIMIENTO Y ADECUACIÓN DE LA SALA DE PROFESORES DE LA INSTITUCIÓN EDUCATIVA JOSÉ MARÍA CARBONELL, SEDE PRINCIPAL DEL MUNICIPIO DE SAN ANTONIO - TOLIMA
A5: SEDE PRINCIPAL
A6: ITEM | B6: DESCRIPCION | C6: UND. | D6: CANT. | E6: VALOR UNIT. | F6: VALOR TOTAL.
A7: 1 | B7: VARIOS
A8: 1.1 | B8: Mantenimiento de viga canal incluye (nivelacion y enchape) | C8: ML | D8: =+'MEMORIA DE CANTIDADES'!I7 -> 15 | E8: =+APU!I37 -> 97800 | F8: =+D8*E8 -> 1467000
A9: 1.2 | B9: Cielo razo en pvc incluye estructura de soporte | C9: M2 | D9: =+'MEMORIA DE CANTIDADES'!I11 -> 40 | E9: =+APU!I75 -> 56000 | F9: =+D9*E9 -> 2240000
A10: 2 | B10: PINTURA Y ESTRUCTURA DE PARED | F10: =+D10*E10 -> 0
A11: 2.2 | B11: Estuco y Pintura vinilo tipo 1 sobre lamina de superboard | C11: M2 | D11: =+'MEMORIA DE CANTIDADES'!I16 -> 84 | E11: =+APU!I113 -> 26580 | F11: =+D11*E11 -> 2232720
A12: 2.3 | B12: Muro doble cara con placas de fibro cemento superboard incluye (Estructura y sello de juntas ) | C12: M2 | D12: =+'MEMORIA DE CANTIDADES'!I21 -> 84 | E12: =+APU!I151 -> 109000 | F12: =+D12*E12 -> 9156000
A13: 3 | B13: INSTALACIONES ELECTRICAS | F13: =+D13*E13 -> 0
A14: 3.1 | B14: Punto toma corriente de 6 metros | C14: UND. | D14: =+'MEMORIA DE CANTIDADES'!I25 -> 4 | E14: =+APU!I189 -> 120000 | F14: =+D14*E14 -> 480000
A15: 3.2 | B15: Punto electrico incluye panel led cuadrado de 18 w | C15: UND. | D15: =+'MEMORIA DE CANTIDADES'!I29 -> 4 | E15: =+APU!I227 -> 120000 | F15: =+D15*E15 -> 480000
A16: 4 | B16: Carpinteria | F16: =+D16*E16 -> 0
A17: 4.1 | B17: Suministro e instalacion de puerta en aluminio de 1mx2m, (incluye vidrio y persiana) | C17: UND. | D17: =+'MEMORIA DE CANTIDADES'!I33 -> 2 | E17: =+APU!I265 -> 480000 | F17: =+D17*E17 -> 960000
A18: TOTAL COSTO DIRECTO | F18: =SUM(F8:F17) -> 17015720
B19: ADMINISTRACION | E19: =+AIU!P30 -> 0.16712689 | F19: =F18*E19 -> 2843784.3
B20: IMPREVISTOS | E20: =+AIU!P32 -> 0.01 | F20: =F18*E20 -> 170157.2
B21: UTILIDAD | E21: =+AIU!P34 -> 0.05 | F21: =F18*E21 -> 850786
B22: TOTAL COSTO INDIRECTO (AIU) | E22: =SUM(E19:E21) -> 0.22712689 | F22: =SUM(F19:F21) -> 3864727.5
B23: TOTAL OBRA | F23: =F18+F22 -> 20880448

Sheet APU
B1: ANALISIS DE PRECIOS UNITARIOS
B2: PROPONENTE | C2: I.E JOSE MARIA CARBONELL | G2: FECHA | I2: 46175
B3: OBRA | E3: DESCRIPCION
B4: UNIDAD | C4: =+'PRESUPUESTO OFICIAL'!C8 -> ML | E4: =+'PRESUPUESTO OFICIAL'!B8 -> Mantenimiento de viga canal incluye (nivelacion y enchape)
C5: ITEM : | D5: =+'PRESUPUESTO OFICIAL'!A8 -> 1.1
B6: CANTIDAD EN EL PROYECTO : | D6: =+'PRESUPUESTO OFICIAL'!D8 -> 15
B7: I.- EQUIPOS Y HERRAMIENTAS
B8: TIPO INSUMO | D8: HH/DD/MES | E8: RENDIM. o % | F8: V-UNITARIO | G8: VALOR PARCIAL | I8: V. PARCIAL TOTAL
B9: SECCION DE ANDAMIO | D9: DIA | E9: 5 | F9: 18000 | G9: =+F9/E9 -> 3600
G12: SUB TOTAL EQUIPOS | I12: =SUM(G9:G11) -> 3600
B13: II.-MATERIALES DE OBRA
B14: TIPO INSUMO | D14: UN | E14: CANTIDAD | F14: DESPERD. % | G14: V. UNITARIO | I14: V. PARCIAL TOTAL
B15: MORTERO DE NIVELACION | D15: ML | E15: 1 | F15: 5 | G15: 45000 | I15: =(E15*(1+F15/100))*(G15*(1+H15/100)) -> 47250
B16: ENCHAPE 20X20 | D16: ML | E16: =1*0.2 -> 0.2 | F16: 5 | G16: 65000 | I16: =(E16*(1+F16/100))*(G16*(1+H16/100)) -> 13650
B17: PEGANTE PARA ENCHAPE | D17: ML | E17: 0.1 | F17: 5 | G17: 45000 | I17: =(E17*(1+F17/100))*(G17*(1+H17/100)) -> 4725
B18: BOQUILLA | D18: ML | E18: 0.1 | F18: 5 | G18: 22000 | I18: =(E18*(1+F18/100))*(G18*(1+H18/100)) -> 2310
I19: =(E19*(1+F19/100))*(G19*(1+H19/100)) -> 0
I20: =(E20*(1+F20/100))*(G20*(1+H20/100)) -> 0
I21: =(E21*(1+F21/100))*(G21*(1+H21/100)) -> 0
I22: =(E22*(1+F22/100))*(G22*(1+H22/100)) -> 0
I23: =(E23*(1+F23/100))*(G23*(1+H23/100)) -> 0
F24: SUB TOTAL MATERIALES | I24: =SUM(I15:I23) -> 67935
B25: III.-TRANSPORTES DE MATERIALES
B26: TIPO INSUMO | D26: VOL-PES-DIST | E26: RENDIMIENTO | F26: TARIFA | G26: V. UNITARIO | I26: V. PARCIAL TOTAL
F29: SUB TOTAL TRANSPORTE | I29: =SUM(G27:G28) -> 0
B30: IV.- MANO DE OBRA
B31: TIPO INSUMO | D31: UNIDAD | E31: CANTIDAD | F31: V. UNITARIO | G31: RENDIMIENTO | I31: V. PARCIAL TOTAL
B32: =+[2]Cuadrillas!B5 -> CUADRILLA ALBAÑILERIA TA( 1 OFICIAL + 1 AYUDANTE) | D32: dia | E32: 1 | F32: =+[2]Cuadrillas!G5 -> 209236 | G32: 7.966343 | I32: =+F32/G32 -> 26265
I33: =SUM(F33*E33)*G33 -> 0
I34: =SUM(F34*E34)*G34 -> 0
F35: SUB TOTAL MANO DE OBRA | I35: =I32 -> 26265
E37: TOTAL COSTO DIRECTO | I37: =SUM(I12+I24+I29+I35) -> 97800
B39: ANALISIS DE PRECIOS UNITARIOS
B40: PROPONENTE | C40: =+C2 -> I.E JOSE MARIA CARBONELL | G40: FECHA | I40: =+I2 -> 46175
B41: OBRA | E41: DESCRIPCION
B42: UNIDAD | C42: =+[2]PRESUPUESTO!C7 -> M2 | E42: =+'PRESUPUESTO OFICIAL'!B9 -> Cielo razo en pvc incluye estructura de soporte
C43: ITEM : | D43: =+'PRESUPUESTO OFICIAL'!A9 -> 1.2
B44: CANTIDAD EN EL PROYECTO : | D44: =+[2]PRESUPUESTO!D7 -> 31.6
B45: I.- EQUIPOS Y HERRAMIENTAS
B46: TIPO INSUMO | D46: HH/DD/MES | E46: RENDIM. o % | F46: V-UNITARIO | G46: VALOR PARCIAL | I46: V. PARCIAL TOTAL
...

Sheet MEMORIA DE CANTIDADES
A2: MEMORIA DE CANTIDADES
A3: =+'PRESUPUESTO OFICIAL'!A3 -> MANTENIMIENTO Y ADECUACIÓN DE LA SALA DE PROFESORES DE LA INSTITUCIÓN EDUCATIVA JOSÉ MARÍA CARBONELL, SEDE PRINCIPAL DEL MUNICIPIO DE SAN ANTONIO - TOLIMA
A5: =+'PRESUPUESTO OFICIAL'!A8 -> 1.1 | B5: =+'PRESUPUESTO OFICIAL'!B8 -> Mantenimiento de viga canal incluye (nivelacion y enchape) | C5: =+'PRESUPUESTO OFICIAL'!C8 -> ML | E5: LARGO | F5: ANCHO | G5: ALTURA | H5: REPETICIONES | I5: TOTAL
B6: VIGA CANAL EXTERNA DE SALA DE PROFESORES | E6: 15 | I6: =+E6 -> 15
I7: =SUM(I6:I6) -> 15
A8: =+'PRESUPUESTO OFICIAL'!A9 -> 1.2 | B8: =+'PRESUPUESTO OFICIAL'!B9 -> Cielo razo en pvc incluye estructura de soporte | C8: =+[3]SEGUIMIENTO!C7 -> M2 | E8: LARGO | F8: ANCHO | G8: ALTURA | H8: REPETICIONES | I8: TOTAL
B9: AREA 1 BODEGA | E9: 5 | F9: 4 | I9: =+E9*F9 -> 20
B10: AREA 2 OFICINA | E10: 5 | F10: 4 | I10: =+E10*F10 -> 20
I11: =+I9+I10 -> 40
A12: =+'PRESUPUESTO OFICIAL'!A11 -> 2.2 | B12: =+'PRESUPUESTO OFICIAL'!B11 -> Estuco y Pintura vinilo tipo 1 sobre lamina de superboard | C12: =+[3]SEGUIMIENTO!C8 -> M2 | E12: LARGO | F12: ANCHO | G12: ALTURA | H12: REPETICIONES | I12: TOTAL
B13: =+B9 -> AREA 1 BODEGA | E13: 5 | G13: 3 | H13: 2 | I13: =+E13*G13*H13 -> 30
B14: =+B10 -> AREA 2 OFICINA | E14: 5 | G14: 3 | H14: 2 | I14: =+E14*G14*H14 -> 30
B15: DIVISION ENTRE AREAS | E15: 4 | G15: 3 | H15: 2 | I15: =+E15*G15*H15 -> 24
I16: =SUM(I13:I15) -> 84
A17: =+'PRESUPUESTO OFICIAL'!A12 -> 2.3 | B17: =+'PRESUPUESTO OFICIAL'!B12 -> Muro doble cara con placas de fibro cemento superboard incluye (Estructura y sello de juntas ) | C17: =+[3]SEGUIMIENTO!C9 -> M2 | E17: =+E12 -> LARGO | F17: =+F12 -> ANCHO | G17: =+G12 -> ALTURA | H17: =+H12 -> REPETICIONES | I17: =+I12 -> TOTAL
B18: =+B13 -> AREA 1 BODEGA | E18: 5 | G18: 3 | H18: 2 | I18: =+E18*G18*H18 -> 30
B19: =+B14 -> AREA 2 OFICINA | E19: 5 | G19: 3 | H19: 2 | I19: =+E19*G19*H19 -> 30
B20: =+B15 -> DIVISION ENTRE AREAS | E20: 4 | G20: 3 | H20: 2 | I20: =+E20*G20*H20 -> 24
I21: =SUM(I18:I20) -> 84
A22: =+'PRESUPUESTO OFICIAL'!A14 -> 3.1 | B22: =+'PRESUPUESTO OFICIAL'!B14 -> Punto toma corriente de 6 metros | C22: =+'PRESUPUESTO OFICIAL'!C14 -> UND. | E22: LARGO | F22: ANCHO | G22: ALTURA | H22: REPETICIONES | I22: TOTAL
B23: =+B18 -> AREA 1 BODEGA | H23: 2 | I23: =+H23 -> 2
B24: =+B19 -> AREA 2 OFICINA | H24: 2 | I24: =+H24 -> 2
I25: =SUM(I23:I24) -> 4
A26: =+'PRESUPUESTO OFICIAL'!A15 -> 3.2 | B26: =+'PRESUPUESTO OFICIAL'!B15 -> Punto electrico incluye panel led cuadrado de 18 w | C26: =+'PRESUPUESTO OFICIAL'!C15 -> UND. | E26: LARGO | F26: ANCHO | G26: ALTURA | H26: REPETICIONES | I26: TOTAL
B27: =+B23 -> AREA 1 BODEGA | H27: 2 | I27: =+H27 -> 2
B28: =+B23 -> AREA 1 BODEGA | H28: 2 | I28: =+H28 -> 2
I29: =SUM(I27:I28) -> 4
A30: =+'PRESUPUESTO OFICIAL'!A17 -> 4.1 | B30: =+'PRESUPUESTO OFICIAL'!B17 -> Suministro e instalacion de puerta en aluminio de 1mx2m, (incluye vidrio y persiana) | C30: =+'PRESUPUESTO OFICIAL'!C17 -> UND. | E30: =+E26 -> LARGO | F30: =+F26 -> ANCHO | G30: =+G26 -> ALTURA | H30: =+H26 -> REPETICIONES | I30: =+I26 -> TOTAL
B31: =+B27 -> AREA 1 BODEGA | H31: 1 | I31: =+H31 -> 1
B32: =+B27 -> AREA 1 BODEGA | H32: 1 | I32: =+H32 -> 1
I33: =SUM(I31:I32) -> 2

Sheet AIU
B2: =+'PRESUPUESTO OFICIAL'!A3 -> MANTENIMIENTO Y ADECUACIÓN DE LA SALA DE PROFESORES DE LA INSTITUCIÓN EDUCATIVA JOSÉ MARÍA CARBONELL, SEDE PRINCIPAL DEL MUNICIPIO DE SAN ANTONIO - TOLIMA
B3: CALCULO Y DESENGLOSE DEL AIU
C6: VALOR DEL CONTRATO ANTES DE AIU | X6: =+'PRESUPUESTO OFICIAL'!F18 -> 17015720
C7: PLAZO DE EJECUCIÓN | X7: 1
C9: 1 | D9: GASTOS DE LEGALIZACIÓN Art 7 y 8 Ley 1150/07 | AF9: =SUM(AB10:AE13) -> 0.00055 | AN9: PUC
D10: GARANTÍA CUMPLIMIENTO | AB10: =+AO10 -> 0.0001 | AN10: =X6*0.1 -> 1701572 | AO10: =(AN10/X6)/1000 -> 0.0001
D11: GARANTÍA SALARIOS | AB11: =AO11 -> 5e-05 | AN11: =X6*0.05 -> 850786 | AO11: =(AN11/X6)/1000 -> 5e-05
D12: GARANTÍA CALIDAD | AB12: =AO12 -> 0.0002 | AN12: =X6*0.2 -> 3403144 | AO12: =(AN12/X6)/1000 -> 0.0002
D13: ESTABILIDAD Y CALIDAD DE LA OBRA | AB13: =AO13 -> 0.0002 | AN13: =X6*0.2 -> 3403144 | AO13: =(AN13/X6)/1000 -> 0.0002
C15: =+C9+1 -> 2 | D15: IMPUESTOS | AF15: =SUM(AB16:AE20) -> 0.1125
D16: RETEICA | AB16: 0.01 | AN16: CUADRO DE PERSONAL REQUERIDO EN OBRA, DEICACION Y SALARIOS
D17: RETEFUENTE OBRAS | AB17: 0.02
D18: ESTAMPILLAS DEPARTAMENTALES | AB18: 0.03 | AN18: Ingeniero Residente de obra | AP18: 2500000 | AQ18: 1 | AR18: 0.3 | AS18: =+AP18*AR18 -> 750000
D19: LEY 1106/06 APORTE SEGURIDAD | AB19: 0.05
D20: FIC - SENA | AB20: 0.0025
C22: 3 | D22: PERSONAL ADMINISTRATIVO DE OBRA | AF22: =+AB23 -> 0.044076889 | MD22: TIEMPO DE EJECUCION | MF22: 6
D23: Ingeniero Residente de obra | AB23: =+AS18/X6 -> 0.044076889 | MC23: Ingeniero Residente de Interventoría | ME23: =+[4]INTERVENTORIA!G17 -> 2500000 | MF23: 1 | MG23: 1 | MH23: =+ME23*$MF$22*MF23 -> 15000000 | MI23: =+MH23/$X$6 -> 0.88153778
C25: 4 | D25: IMPREVISTOS (I) | AF25: =SUM(AB26:AE27) -> 0.01
D26: GASTOS POR RETRASOS EN LA OBRA POR DIFERENTES FACTORES | AB26: 0.005
D27: DEMORA POR PARTE DE LOS PROVEEDORES | AB27: 0.005
D30: SUBTOTAL ADMINISTRACIÓN | P30: =+AF9+AF15+AF22+AF25 -> 0.16712689
D32: IMPREVISTOS | P32: =+AF25 -> 0.01
D34: UTILIDAD | P34: 0.05
D36: TOTAL A.I.U. | P36: =SUM(P30:T34) -> 0.22712689

Sheet PROGRAMACION
A1: =+'PRESUPUESTO OFICIAL'!A3 -> MANTENIMIENTO Y ADECUACIÓN DE LA SALA DE PROFESORES DE LA INSTITUCIÓN EDUCATIVA JOSÉ MARÍA CARBONELL, SEDE PRINCIPAL DEL MUNICIPIO DE SAN ANTONIO - TOLIMA | D1: MES 1
D2: SEMANA 1 | K2: SEMANA 2 | R2: SEMANA 3 | Y2: SEMANA 4
A3: N° | B3: Nombre de tarea | C3: Valor total capitulo
A4: =+'PRESUPUESTO OFICIAL'!A8 -> 1.1 | B4: =+'PRESUPUESTO OFICIAL'!B8 -> Mantenimiento de viga canal incluye (nivelacion y enchape) | C4: =+'PRESUPUESTO OFICIAL'!F8 -> 1467000
D5: =+C4/2 -> 733500 | K5: =+C4/2 -> 733500
A6: =+'PRESUPUESTO OFICIAL'!A9 -> 1.2 | B6: =+'PRESUPUESTO OFICIAL'!B9 -> Cielo razo en pvc incluye estructura de soporte | C6: =+'PRESUPUESTO OFICIAL'!F9 -> 2240000
Y7: =+C6 -> 2240000
A8: =+'PRESUPUESTO OFICIAL'!A11 -> 2.2 | B8: =+'PRESUPUESTO OFICIAL'!B11 -> Estuco y Pintura vinilo tipo 1 sobre lamina de superboard | C8: =+'PRESUPUESTO OFICIAL'!F11 -> 2232720
R9: =+C8/2 -> 1116360 | Y9: =+R9 -> 1116360
A10: =+'PRESUPUESTO OFICIAL'!A12 -> 2.3 | B10: =+'PRESUPUESTO OFICIAL'!B12 -> Muro doble cara con placas de fibro cemento superboard incluye (Estructura y sello de juntas ) | C10: =+'PRESUPUESTO OFICIAL'!F12 -> 9156000
R11: =+$C$10/2 -> 4578000 | Y11: =+R11 -> 4578000
A12: =+'PRESUPUESTO OFICIAL'!A14 -> 3.1 | B12: =+'PRESUPUESTO OFICIAL'!B14 -> Punto toma corriente de 6 metros | C12: =+'PRESUPUESTO OFICIAL'!F14 -> 480000
Y13: =+C12 -> 480000
A14: =+'PRESUPUESTO OFICIAL'!A15 -> 3.2 | B14: =+'PRESUPUESTO OFICIAL'!B15 -> Punto electrico incluye panel led cuadrado de 18 w | C14: =+'PRESUPUESTO OFICIAL'!F15 -> 480000
Y15: =+C14 -> 480000
A16: =+'PRESUPUESTO OFICIAL'!A17 -> 4.1 | B16: =+'PRESUPUESTO OFICIAL'!B17 -> Suministro e instalacion de puerta en aluminio de 1mx2m, (incluye vidrio y persiana) | C16: =+'PRESUPUESTO OFICIAL'!F17 -> 960000
Y17: =+C16 -> 960000
B19: VALOR FLUJO SEMANAL (costo directo) | C19: =SUM(C4:C18) -> 17015720 | D19: =+SUM(D4:J18) -> 733500 | K19: =+SUM(K4:Q18) -> 733500 | R19: =+SUM(R4:X18) -> 5694360 | Y19: =+SUM(Y4:AE18) -> 9854360
A20: AIU | B20: =+AIU!P36 -> 0.22712689 | C20: =+C19*B20 -> 3864727.5 | D20: =+D19*$B$20 -> 166597.57 | K20: =+K19*$B$20 -> 166597.57 | R20: =+R19*$B$20 -> 1293342.3 | Y20: =+Y19*$B$20 -> 2238190.1
A21: VALOR FLUJO SEMANAL | C21: =+C19+C20 -> 20880448 | D21: =+D19+D20 -> 900097.58 | K21: =+K19+K20 -> 900097.58 | R21: =+R19+R20 -> 6987702.3 | Y21: =+Y19+Y20 -> 12092550
A22: VALOR FLUJO MENSUAL
A23: TOTALES FLUJO DE INVERSION
A24: TOTALES FLUJO DE INVERSION CON INTERVENTORIA
A25: VALOR FLUJO SEMANAL ACUMULADO | D25: =+D21 -> 900097.58 | K25: =+K21+D25 -> 1800195.2 | R25: =+R21+K25 -> 8787897.4 | Y25: =+Y21+R25 -> 20880448

Sheet ANEXO 5 - OFERTA ECONOMICA
A2: ANEXO 5 - OFERTA ECONOMICA
A3: MANTENIMIENTO Y ADECUACIÓN DE LA SALA DE PROFESORES DE LA INSTITUCIÓN EDUCATIVA JOSÉ MARÍA CARBONELL, SEDE PRINCIPAL DEL MUNICIPIO DE SAN ANTONIO - TOLIMA
A5: SEDE PRINCIPAL
A6: ITM | B6: DESCRIPCION | C6: UND. | D6: CANT. | E6: VALOR UNIT. | F6: VALOR TOTAL.
A7: 1 | B7: VARIOS
A8: 1.1 | B8: Mantenimiento de viga canal incluye (nivelacion y enchape) | C8: ML | D8: =+'MEMORIA DE CANTIDADES'!I7 -> 15
A9: 1.2 | B9: Cielo razo en pvc incluye estructura de soporte | C9: M2 | D9: =+'MEMORIA DE CANTIDADES'!I11 -> 40
A10: 2 | B10: PINTURA Y ESTRUCTURA DE PARED
A11: 2.2 | B11: Estuco y Pintura vinilo tipo 1 sobre lamina de superboard | C11: M2 | D11: =+'MEMORIA DE CANTIDADES'!I16 -> 84
A12: 2.3 | B12: Muro doble cara con placas de fibro cemento superboard incluye (Estructura y sello de juntas ) | C12: M2 | D12: =+'MEMORIA DE CANTIDADES'!I21 -> 84
A13: 3 | B13: INSTALACIONES ELECTRICAS
A14: 3.1 | B14: Punto toma corriente de 6 metros | C14: UND. | D14: =+'MEMORIA DE CANTIDADES'!I25 -> 4
A15: 3.2 | B15: Punto electrico incluye panel led cuadrado de 18 w | C15: UND. | D15: =+'MEMORIA DE CANTIDADES'!I29 -> 4
A16: 4 | B16: Carpinteria
A17: 4.1 | B17: Suministro e instalacion de puerta en aluminio de 1mx2m, (incluye vidrio y persiana) | C17: UND. | D17: =+'MEMORIA DE CANTIDADES'!I33 -> 2
A18: TOTAL COSTO DIRECTO
B19: ADMINISTRACION | E19: =+AIU!P30 -> 0.16712689
B20: IMPREVISTOS | E20: =+AIU!P32 -> 0.01
B21: UTILIDAD | E21: =+AIU!P34 -> 0.05
B22: TOTAL COSTO INDIRECTO (AIU) | E22: =SUM(E19:E21) -> 0.22712689
B23: TOTAL OBRA
