Workbook
Name \0: #REF!
Name \00: #REF!
Name \a: #REF!
Name \a: #REF!
Name \a: #REF!
Name \a: #REF!
Name \a: #REF!
Name \AA: [1]LIQUIDACION!#REF!
Name \b: [2]STRSUMM0!#REF!
Name \bb: [2]STRSUMM0!#REF!
Name \E: #REF!
Name \EE: #REF!
Name \G: #REF!
Name \k: '[3]7422CW00'!#REF!
Name \l: [4]STRSUMM0!#REF!
Name \M: #REF!
Name \ñ: '[5]7422CW00'!#REF!
Name \P: #REF!
Name \R: #REF!
Name \s: #REF!
Name \s: #REF!
Name \s: #REF!
Name \s: #REF!
Name \s: #REF!
Name \V: #REF!
Name \X: 'apu 1'!ERR
Name \X: 'apu 2'!ERR
Name \X: 'apu 3'!ERR
Name \X: 'apu 4'!ERR
Name \X: [0]!ERR
Name \Z: 'apu 1'!ERR
Name \Z: 'apu 2'!ERR
Name \Z: 'apu 3'!ERR
Name \Z: 'apu 4'!ERR
Name \Z: [0]!ERR
Name _________AFC1: [6]INV!$A$25:$D$28
Name _________AFC3: [6]INV!$F$25:$I$28
Name _________AFC5: [6]INV!$K$25:$N$28
Name _________BGC1: [6]INV!$A$5:$D$8
Name _________BGC3: [6]INV!$F$5:$I$8
Name _________BGC5: [6]INV!$K$5:$N$8
Name _________CAC1: [6]INV!$A$19:$D$22
Name _________CAC3: [6]INV!$F$19:$I$22
Name _________CAC5: [6]INV!$K$19:$N$22
Name _________PJ50: #REF!
Name _________PJ50: #REF!
Name _________PJ50: #REF!
Name _________PJ50: #REF!
Name _________PJ50: #REF!
Name _________SBC1: [6]INV!$A$12:$D$15
Name _________SBC3: [6]INV!$F$12:$I$15
Name _________SBC5: [6]INV!$K$12:$N$15
Name ________AFC1: [6]INV!$A$25:$D$28
Name ________AFC3: [6]INV!$F$25:$I$28
Name ________AFC5: [6]INV!$K$25:$N$28
Name ________BGC1: [6]INV!$A$5:$D$8
Name ________BGC3: [6]INV!$F$5:$I$8
Name ________BGC5: [6]INV!$K$5:$N$8
Name ________CAC1: [6]INV!$A$19:$D$22
Name ________CAC3: [6]INV!$F$19:$I$22

Sheet PRESUPUESTO OFICIAL (Entidad)
B1: Formulario 1 - Propuesta económica - Documento tipo de mínima cuantía de obra pública de infraestructura social
B2: Versión: 1 de 21 de agosto de 2025
C5: FORMULARIO 1
C6: PRESUPUESTO OFICIAL
C7: [La Entidad puede utilizar este formulario de detalle del presupuesto oficial para determinar las condiciones bajo las cuales los Proponentes analizarán y presentarán su propuesta económica de forma detallada, sin perjuicio que la Entidad pueda modificarlo o establecer la presentación de la oferta económica con un formulario distinto al indicado.] [El presente Formulario aplica para los Procesos de Contratación que tengan como forma de pago precios unitarios. Tratándose de otras modalidades de pago, la Entidad debe ajustarlo cuando corresponde a: precio global, llave en mano, administración delegada, reembolso de gastos o cualquier otra forma de pago.]
C9: Adicionalmente, cuando el proceso de contratación es estructurado por precios unitarios, la Entidad debe aplicar las notas 1, 2 y 3 del presente formulario y las casillas de "Descripción", "Porcentaje" de la Administración, Imprevisto, Utilidad y total A.I.U. resaltadas en color amarillo. Tratándose de otras modalidades de precio, la Entidad puede o no configurar los mismos aspectos.
C11: Nº | D11: ÍTEM DE PAGO | E11: ESPECIFICACIONES | G11: DESCRIPCIÓN | H11: UND. | I11: CANTIDAD | J11: VALOR UNITARIO | K11: VALOR TOTAL
E12: GENERAL | F12: PARTICULAR
C14: 1 | D14: Limpieza de superficie | E14: N.A. | F14: Limpieza y preparación de la superficie deportiva existente | G14: Limpieza de superficie | H14: M2 | I14: 1064 | J14: 3536 | K14: =I14*J14 -> 3762304
C15: 2 | D15: Tratamiento para fisuras | E15: N.A. | F15: Reparación y sellado de fisuras existentes | G15: Tratamiento para fisuras | H15: ML | I15: 10 | J15: 65000 | K15: =I15*J15 -> 650000
C16: 3 | D16: Sistema de recubrimiento de base acrílica | E16: N.A. | F16: Suministro e instalación del sistema de recubrimiento acrílico | G16: Suministro e instalación de sistema de recubrimiento de base acrílica | H16: M2 | I16: 550 | J16: 2860 | K16: =I16*J16 -> 1573000
C17: 4 | D17: Emulsión acrílica | E17: N.A. | F17: Suministro e instalación de emulsión con alta concentración de polímeros acrílicos | G17: Suministro e instalación de emulsión con alta concentración de polímeros acrílicos | H17: M2 | I17: =I14 -> 1064 | J17: 40443 | K17: =I17*J17 -> 43031352
C18: Subtotal | K18: =SUM(K14:K17) -> 49016656
C24: Subtotal
C34: Subtotal
C39: Subtotal
C42: Subtotal
C43: SUBTOTAL OBRAS | K43: =K18 -> 49016656
G48: SUBTOTAL OBRAS (INCLUYE IVA) | K48: =K43 -> 49016656
G52: VALOR TOTAL | K52: =SUM(K48+K49+K51) -> 49016656
C55: NOTA 1: Se debe tener en cuenta que el PRECIO UNITARIO incluye el valor de AIU. | H55: DESCRIPCION | K55: PORCENTAJE
C56: NOTA 2: Cuando la fracción decimal del peso sea igual o superior a 5 se aproximará por exceso al número entero siguiente del peso y cuando la fracción decimal del peso sea inferior a 5 se aproximará por defecto al número entero del peso. | H56: ADMINISTRACIÓN | J56: A= | K56: 0.25
C57: NOTA 3: El AIU y su discriminación deben estar en porcentaje (%). | H57: IMPREVISTO | J57: I= | K57: 0
H58: UTILIDAD | J58: U= | K58: 0.05
H59: TOTAL A.I.U | J59: A.I.U.= | K59: 0.3

Sheet PROPUESTA ECONOMICA(Proponente)
B1: Formulario 1 - Propuesta económica - Documento tipo de mínima cuantía de obra pública de infraestructura social
B2: Versión: 1 de 21 de agosto de 2025
C5: FORMULARIO 1
C6: PROPUESTA ECONÓMICA
C7: [ El Proponente puede usar el presente formulario de presentación para determinar su propuesta económica conforme al Formulario 1 - Presupuesto Oficial por la Entidad]
C9: Cuando el proceso de contratación es estructurado por Precios Unitarios, la Entidad debe aplicar las notas 1, 2 y 3 del presente formato y las casillas de "Descripción", "Porcentaje" de la Administración, Imprevisto, Utilidad y total A.I.U. resaltadas en color amarillo.
C11: Nº | D11: ÍTEM DE PAGO | E11: ESPECIFICACIONES | G11: DESCRIPCIÓN | H11: UND. | I11: CANTIDAD | J11: VALOR UNITARIO | K11: VALOR TOTAL
E12: GENERAL | F12: PARTICULAR
C15: Subtotal
C21: Subtotal
C31: Subtotal
C36: Subtotal
C39: Subtotal
C40: SUBTOTAL OBRAS
G45: SUBTOTAL OBRAS (INCLUYE IVA)
G46: ADMINISTRACIÓN | I46: A
G47: IMPREVISTO | I47: I
G48: UTILIDAD | I48: U
G49: VALOR TOTAL
C52: NOTA 1: Se debe tener en cuenta que el PRECIO UNITARIO incluye el valor de AIU. | H52: DESCRIPCIÓN | K52: PORCENTAJE
C53: NOTA 2: Cuando la fracción decimal del peso sea igual o superior a 5 se aproximara por exceso al número entero siguiente del peso y cuando la fracción decimal del peso sea inferior a 5 se aproximará por defecto al número entero del peso. | H53: ADMINISTRACIÓN | J53: A=
C54: NOTA 3: El AIU y su discriminación deben estar en porcentaje (%). | H54: IMPREVISTO | J54: I=
H55: UTILIDAD | J55: U=
H56: TOTAL A.I.U | J56: A.I.U.=
G59: Firma del Proponente o de su Representante Legal

Sheet apu 1
B1: Formulario 1 - Propuesta económica - Documento tipo de mínima cuantía de obra pública de infraestructura social
B2: Versión: 1 de 21 de agosto de 2025
C5: [La entidad podrá utilizar este formato para la presentación de los análisis de Precios Unitarios del Contratista en la oportunidad prevista en el numeral 8.2. de la invitación]
D8: [NOMBRE DE LA ENTIDAD]
L9: VERSIÓN
D10: [NÚMERO DEL PROCESO]
L11: PÁGINA | M11: 1 | N11: DE | O11: 1
D13: ANALISIS DE PRECIOS UNITARIOS
L15: FECHA | M15: DD | N15: MM | O15: AA
C17: ÍTEMS DE LA PROPUESTA ECONÓMICA | I17: ÍTEMS NO PREVISTOS
C21: DATOS ESPECÍFICOS
C23: ÍTEM | D23: DESCRIPCIÓN | M23: UNIDAD | O23: CANTIDAD
C24: =+'PRESUPUESTO OFICIAL (Entidad)'!C14 -> 1 | D24: =+'PRESUPUESTO OFICIAL (Entidad)'!G14 -> Limpieza de superficie | M24: =+'PRESUPUESTO OFICIAL (Entidad)'!H14 -> M2 | O24: 1
C25: I. EQUIPO
C28: DESCRIPCIÓN | H28: MARCA | J28: TIPO | L28: TARIFA/HORA | M28: RENDIMIENTO | O28: Vr. UNITARIO
C30: HIDROLAVADORA CHORRO PRESION-AUTONOMA | L30: 10000 | M30: 0.115488 | O30: =+L30*M30 -> 1154.88
C32: SUBTOTAL $ | O32: =SUM(O29:O31) -> 1154.88
C33: II. MATERIALES
C36: DESCRIPCIÓN | K36: UNIDAD | L36: CANTIDAD | M36: PRECIO UNIT. | O36: Vr. UNITARIO
C39: SUBTOTAL $ | O39: =SUM(O38) -> 0
C40: III. TRANSPORTES
C43: MATERIAL | J43: VOL. o PESO | K43: DISTANCIA | L43: M3 o Ton/Km | M43: TARIFA | O43: Vr. UNITARIO
C46: SUBTOTAL $ | O46: =SUM(O44+O45) -> 0
C47: IV. MANO DE OBRA
C50: TRABAJADOR | J50: JORNAL | K50: PRESTACIONES | L50: JORNAL TOTAL | M50: RENDIMIENTO | O50: Vr. UNITARIO
C51: M.O. 1 AYUDANTE + 1 OFICIAL | J51: 383882 | K51: 1.8 | L51: 383882 | M51: 245.27257 | O51: =+L51/M51 -> 1565.1241
C55: SUBTOTAL $ | O55: =SUM(O51) -> 1565.1241
C57: TOTAL COSTO DIRECTO $ | O57: =+O32+O39+O46+O55 -> 2720.0041
C58: V. COSTOS INDIRECTOS
C61: Descripción | L61: Porcentaje | M61: Valor Total
C62: ADMINISTRACION | L62: 0.25 | O62: =+O57*L62 -> 680.00102
C63: IMPREVISTOS | L63: 0
C64: UTILIDAD | L64: 0.05 | O64: =+O57*L64 -> 136.0002
C65: SUBTOTAL $
C67: Precio Unitario Total Aproximado al peso $ | O67: =+O57+O62+O64 -> 3536.0053
H71: Firma
H72: Nombre:
H73: Representante Legal del Contratista o su Apoderado
H74: Matricula No. :
C76: OBSERVACIONES INTERVENTORÍA O SUPERVISIÓN
...

Sheet apu 2
B1: Formulario 1 - Propuesta económica - Documento tipo de mínima cuantía de obra pública de infraestructura social
B2: Versión: 1 de 21 de agosto de 2025
C5: [La entidad podrá utilizar este formato para la presentación de los análisis de Precios Unitarios del Contratista en la oportunidad prevista en el numeral 8.2. de la invitación]
D8: [NOMBRE DE LA ENTIDAD]
L9: VERSIÓN
D10: [NÚMERO DEL PROCESO]
L11: PÁGINA | M11: 1 | N11: DE | O11: 1
D13: ANALISIS DE PRECIOS UNITARIOS
L15: FECHA | M15: DD | N15: MM | O15: AA
C17: ÍTEMS DE LA PROPUESTA ECONÓMICA | I17: ÍTEMS NO PREVISTOS
C21: DATOS ESPECÍFICOS
C23: ÍTEM | D23: DESCRIPCIÓN | M23: UNIDAD | O23: CANTIDAD
C24: 2 | D24: =+'PRESUPUESTO OFICIAL (Entidad)'!G15 -> Tratamiento para fisuras | M24: ml | O24: 1
C25: I. EQUIPO
C28: DESCRIPCIÓN | H28: MARCA | J28: TIPO | L28: TARIFA/HORA | M28: RENDIMIENTO | O28: Vr. UNITARIO
C30: PULIDORA CON PIEDRA O DISCO | L30: 3753.3 | M30: 0.1 | O30: =+L30*M30 -> 375.33
C32: SUBTOTAL $ | O32: =SUM(O29:O31) -> 375.33
C33: II. MATERIALES
C36: DESCRIPCIÓN | K36: UNIDAD | L36: CANTIDAD | M36: PRECIO UNIT. | O36: Vr. UNITARIO
C37: EPOXICO PARA SELLO DE FISURAS | K37: KG | L37: 0.5 | M37: 65649.165 | O37: =+L37*M37 -> 32824.582
C39: SUBTOTAL $ | O39: =+O37 -> 32824.582
C40: III. TRANSPORTES
C43: MATERIAL | J43: VOL. o PESO | K43: DISTANCIA | L43: M3 o Ton/Km | M43: TARIFA | O43: Vr. UNITARIO
C46: SUBTOTAL $ | O46: =SUM(O44+O45) -> 0
C47: IV. MANO DE OBRA
C50: TRABAJADOR | J50: JORNAL | K50: PRESTACIONES | L50: JORNAL TOTAL | M50: RENDIMIENTO | O50: Vr. UNITARIO
C51: M.O. ALB. ACABADOS 1 AYUDANTE + 1 OFICIAL | J51: 383882 | K51: 1.8 | L51: 383882 | M51: 22.85 | O51: =+L51/M51 -> 16800.088
C55: SUBTOTAL $ | O55: =SUM(O51) -> 16800.088
C57: TOTAL COSTO DIRECTO $ | O57: =+O32+O39+O46+O55 -> 50000
C58: V. COSTOS INDIRECTOS
C61: Descripción | L61: Porcentaje | M61: Valor Total
C62: ADMINISTRACION | L62: 0.25 | O62: =+O57*L62 -> 12500
C63: IMPREVISTOS | L63: 0
C64: UTILIDAD | L64: 0.05 | O64: =+O57*L64 -> 2500
C65: SUBTOTAL $
C67: Precio Unitario Total Aproximado al peso $ | O67: =+O57+O62+O64 -> 65000
H71: Firma
H72: Nombre:
H73: Representante Legal del Contratista o su Apoderado
H74: Matricula No. :
...

Sheet apu 3
B1: Formulario 1 - Propuesta económica - Documento tipo de mínima cuantía de obra pública de infraestructura social
B2: Versión: 1 de 21 de agosto de 2025
C5: [La entidad podrá utilizar este formato para la presentación de los análisis de Precios Unitarios del Contratista en la oportunidad prevista en el numeral 8.2. de la invitación]
D8: [NOMBRE DE LA ENTIDAD]
L9: VERSIÓN
D10: [NÚMERO DEL PROCESO]
L11: PÁGINA | M11: 1 | N11: DE | O11: 1
D13: ANALISIS DE PRECIOS UNITARIOS
L15: FECHA | M15: DD | N15: MM | O15: AA
C17: ÍTEMS DE LA PROPUESTA ECONÓMICA | I17: ÍTEMS NO PREVISTOS
C21: DATOS ESPECÍFICOS
C23: ÍTEM | D23: DESCRIPCIÓN | M23: UNIDAD | O23: CANTIDAD
C24: 3 | D24: =+'PRESUPUESTO OFICIAL (Entidad)'!G16 -> Suministro e instalación de sistema de recubrimiento de base acrílica | M24: M2 | O24: 1
C25: I. EQUIPO
C28: DESCRIPCIÓN | H28: MARCA | J28: TIPO | L28: TARIFA/HORA | M28: RENDIMIENTO | O28: Vr. UNITARIO
C32: SUBTOTAL $ | O32: =SUM(O29:O31) -> 0
C33: II. MATERIALES
C36: DESCRIPCIÓN | K36: UNIDAD | L36: CANTIDAD | M36: PRECIO UNIT. | O36: Vr. UNITARIO
C37: PINTURA ACRILICA BASE | K37: GLN | L37: 0.25 | M37: 2657.888 | O37: =+L37*M37 -> 664.472
C39: SUBTOTAL $ | O39: =+O37 -> 664.472
C40: III. TRANSPORTES
C43: MATERIAL | J43: VOL. o PESO | K43: DISTANCIA | L43: M3 o Ton/Km | M43: TARIFA | O43: Vr. UNITARIO
C46: SUBTOTAL $ | O46: =SUM(O44+O45) -> 0
C47: IV. MANO DE OBRA
C50: TRABAJADOR | J50: JORNAL | K50: PRESTACIONES | L50: JORNAL TOTAL | M50: RENDIMIENTO | O50: Vr. UNITARIO
C51: M.O. PINTURA 1 AYUDANTE + 1 OFICIAL | J51: 383882 | K51: 1.8 | L51: 383882 | M51: 250 | O51: =+L51/M51 -> 1535.528
C55: SUBTOTAL $ | O55: =SUM(O51) -> 1535.528
C57: TOTAL COSTO DIRECTO $ | O57: =+O32+O39+O46+O55 -> 2200
C58: V. COSTOS INDIRECTOS
C61: Descripción | L61: Porcentaje | M61: Valor Total
C62: ADMINISTRACION | L62: 0.25 | O62: =+O57*L62 -> 550
C63: IMPREVISTOS | L63: 0
C64: UTILIDAD | L64: 0.05 | O64: =+O57*L64 -> 110
C65: SUBTOTAL $
C67: Precio Unitario Total Aproximado al peso $ | O67: =+O57+O62+O64 -> 2860
H71: Firma
H72: Nombre:
H73: Representante Legal del Contratista o su Apoderado
H74: Matricula No. :
C76: OBSERVACIONES INTERVENTORÍA O SUPERVISIÓN
...

Sheet apu 4
B1: Formulario 1 - Propuesta económica - Documento tipo de mínima cuantía de obra pública de infraestructura social
B2: Versión: 1 de 21 de agosto de 2025
C5: [La entidad podrá utilizar este formato para la presentación de los análisis de Precios Unitarios del Contratista en la oportunidad prevista en el numeral 8.2. de la invitación]
D8: [NOMBRE DE LA ENTIDAD]
L9: VERSIÓN
D10: [NÚMERO DEL PROCESO]
L11: PÁGINA | M11: 1 | N11: DE | O11: 1
D13: ANALISIS DE PRECIOS UNITARIOS
L15: FECHA | M15: DD | N15: MM | O15: AA
C17: ÍTEMS DE LA PROPUESTA ECONÓMICA | I17: ÍTEMS NO PREVISTOS
C21: DATOS ESPECÍFICOS
C23: ÍTEM | D23: DESCRIPCIÓN | M23: UNIDAD | O23: CANTIDAD
C24: 4 | D24: =+'PRESUPUESTO OFICIAL (Entidad)'!G17 -> Suministro e instalación de emulsión con alta concentración de polímeros acrílicos | M24: M2 | O24: 1
C25: I. EQUIPO
C28: DESCRIPCIÓN | H28: MARCA | J28: TIPO | L28: TARIFA/HORA | M28: RENDIMIENTO | O28: Vr. UNITARIO
C32: SUBTOTAL $ | O32: =SUM(O29:O31) -> 0
C33: II. MATERIALES
C36: DESCRIPCIÓN | K36: UNIDAD | L36: CANTIDAD | M36: PRECIO UNIT. | O36: Vr. UNITARIO
C37: PINTURA ACRILICA ALTA CONCENTRACION DE POLIMEROS | K37: GLN | L37: 0.25 | M37: 118297.89 | O37: =+L37*M37 -> 29574.472
C39: SUBTOTAL $ | O39: =+O37 -> 29574.472
C40: III. TRANSPORTES
C43: MATERIAL | J43: VOL. o PESO | K43: DISTANCIA | L43: M3 o Ton/Km | M43: TARIFA | O43: Vr. UNITARIO
C46: SUBTOTAL $ | O46: =SUM(O44+O45) -> 0
C47: IV. MANO DE OBRA
C50: TRABAJADOR | J50: JORNAL | K50: PRESTACIONES | L50: JORNAL TOTAL | M50: RENDIMIENTO | O50: Vr. UNITARIO
C51: M.O. PINTURA 1 AYUDANTE + 1 OFICIAL | J51: 383882 | K51: 1.8 | L51: 383882 | M51: 250 | O51: =+L51/M51 -> 1535.528
C55: SUBTOTAL $ | O55: =SUM(O51) -> 1535.528
C57: TOTAL COSTO DIRECTO $ | O57: =+O32+O39+O46+O55 -> 31110
C58: V. COSTOS INDIRECTOS
C61: Descripción | L61: Porcentaje | M61: Valor Total
C62: ADMINISTRACION | L62: 0.25 | O62: =+O57*L62 -> 7777.5
C63: IMPREVISTOS | L63: 0
C64: UTILIDAD | L64: 0.05 | O64: =+O57*L64 -> 1555.5
C65: SUBTOTAL $
C67: Precio Unitario Total Aproximado al peso $ | O67: =+O57+O62+O64 -> 40443
H71: Firma
H72: Nombre:
H73: Representante Legal del Contratista o su Apoderado
H74: Matricula No. :
C76: OBSERVACIONES INTERVENTORÍA O SUPERVISIÓN
...
