Workbook
Name Acero: #REF!
Name Agregados: #REF!
Name Apar.Sanitarios: #REF!
Name Carp.Aluminio: #REF!
Name Carp.Metalica: #REF!
Name Cerrajeria: #REF!
Name Ciudades: #REF!
Name Combustible: #REF!
Name Concretos: #REF!
Name Cuadrillas: #REF!
Name Cubierta: #REF!
Name Drywall: #REF!
Name Dsfsff: #REF!
Name Equipos: #REF!
Name EquiposEspeciales: #REF!
Name Ferreteria: #REF!
Name Formaletas: #REF!
Name Geosinteticos: #REF!
Name Impermeabilizantes: #REF!
Name Inst.Electricas: #REF!
Name Inst.Hidrosanitarias: #REF!
Name INSUMOS: #REF!
Name INSUMOS_NOM: #REF!
Name INSUMOS_PRECIO: #REF!
Name INSUMOS_TIPO: #REF!
Name INSUMOS_UNI: #REF!
Name Ladrillos: #REF!
Name Maderas: #REF!
Name Pinturas: #REF!
Name PisosEnchapes: #REF!
Name Prefabricados: #REF!
Name VariosAnalisis: #REF!

Sheet PPTO-OFICIAL
C3: Código | D3: CCE-EICP-FM-14
C4: FORMULARIO 1
C5: PRESUPUESTO - COSTO DIRECTO
C6: [Las Entidades Estatales deben usar el presente formulario para determinar el Presupuesto Oficial del Proceso de Contratación y solo pueden modificar o ajustar aquello que en este se permite expresamente] [El presente formulario aplica para los procesos de contratación que tengan como forma de pago precios unitarios. Tratándose de otras modalidades de precio, la Entidad debe ajustarlo cuando corresponde a: precio global, llave en mano, administración delegada, reembolso de gastos o cualquier otra forma de precio.]
C8: Adicionalmente, cuando el proceso de contratación es estructurado por precios unitarios, la Entidad debe aplicar las notas 1, 2 y 3 del presente formulario y las casillas de "Descripción", "Porcentaje" de la Administración, Imprevisto, Utilidad y total A.I.U. resaltadas en color amarillo. Tratándose de otras modalidades de precio, la Entidad puede o no configurar los mismos aspectos.
C9: “MANTENIMIENTO, REHABILITACIÓN, MEJORAMIENTO Y OPTIMIZACIÓN DE LA INFRAESTRUCTURA VIAL URBANA, MEDIANTE LA EJECUCIÓN DE ACTIVIDADES ORIENTADAS A LA REPARACIÓN, RECONSTRUCCIÓN, CONSTRUCCIÓN Y/O REPOSICIÓN DE PAVIMENTOS VEHICULARES Y PEATONALES DE LA CIUDAD DE MANIZALES FASE II POR EL SISTEMA DE MONTO AGOTABLE”
C11: No. | D11: ITEM DE PAGO | E11: DESCRIPCION | F11: UND. | G11: CANTIDAD | H11: VALOR UNITARIO | I11: VALOR TOTAL
D12: 1 | E12: PRELIMINARES
C13: 1 | D13: 001.044 | E13: =VLOOKUP(D13,A.P.U!A:I,3,FALSE) -> DESCAPOTE MANUAL E=0.20 M. | F13: =VLOOKUP(D13,A.P.U!A:I,5,FALSE) -> M2 | G13: 1 | H13: =VLOOKUP(D13,A.P.U!A:M,13,FALSE) -> 4479 | I13: =ROUND((G13*H13),0) -> 4479
C14: 2 | D14: 001.049 | E14: =VLOOKUP(D14,A.P.U!A:I,3,FALSE) -> SUMINISTRO, TRANSPORTE E INSTALACIÓN CERRAMIENTO EN YUTE H= 2 M | F14: =VLOOKUP(D14,A.P.U!A:I,5,FALSE) -> ML | G14: 1 | H14: =VLOOKUP(D14,A.P.U!A:M,13,FALSE) -> 20559 | I14: =ROUND((G14*H14),0) -> 20559
C15: 3 | D15: 001.060 | E15: =VLOOKUP(D15,A.P.U!A:I,3,FALSE) -> SUMINISTRO, TRANSPORTE E INSTALACION TECHADO MOVIBLE EN GUADUA Y PLÁSTICO | F15: =VLOOKUP(D15,A.P.U!A:I,5,FALSE) -> M2 | G15: 1 | H15: =VLOOKUP(D15,A.P.U!A:M,13,FALSE) -> 16160 | I15: =ROUND((G15*H15),0) -> 16160
C16: 4 | D16: 001.083 | E16: =VLOOKUP(D16,A.P.U!A:I,3,FALSE) -> SOBREACARREO AL HOMBRO FUERTE PENDIENTE (DESPUÉS DE 50M DE ACARREO LIBRE) | F16: =VLOOKUP(D16,A.P.U!A:I,5,FALSE) -> M3 - HM | G16: 1 | H16: =VLOOKUP(D16,A.P.U!A:M,13,FALSE) -> 222151 | I16: =ROUND((G16*H16),0) -> 222151
C17: 5 | D17: 001.084 | E17: =VLOOKUP(D17,A.P.U!A:I,3,FALSE) -> TRANSPORTE POR DÍA LABORADO VEHÍCULO AUTOMOTOR TIPO CAMIONETA DE ESTACAS O SIMILAR. INCLUYE CONDUCTOR Y COMBUSTIBLE | F17: =VLOOKUP(D17,A.P.U!A:I,5,FALSE) -> DIA | G17: 1 | H17: =VLOOKUP(D17,A.P.U!A:M,13,FALSE) -> 298965 | I17: =ROUND((G17*H17),0) -> 298965
C18: 6 | D18: 001.085 | E18: =VLOOKUP(D18,A.P.U!A:I,3,FALSE) -> LOCALIZACION Y REPLANTEO DE VIAS INCLUYE EJE DE VIA Y LATERALES CON ANDENES | F18: =VLOOKUP(D18,A.P.U!A:I,5,FALSE) -> ML | G18: 1 | H18: =VLOOKUP(D18,A.P.U!A:M,13,FALSE) -> 6469 | I18: =ROUND((G18*H18),0) -> 6469
C19: subtotal | I19: =SUM(I13:I18) -> 568783
D20: 002 | E20: =VLOOKUP(D20,A.P.U!A:I,3,FALSE) -> MOVIMIENTO DE TIERRAS
C21: 7 | D21: 002.001 | E21: =VLOOKUP(D21,A.P.U!A:I,3,FALSE) -> EXCAVACIÓN EN ZANJA - MATERIAL COMÚN - 0.0 A 2.0 M | F21: =VLOOKUP(D21,A.P.U!A:I,5,FALSE) -> M3 | G21: 1 | H21: =VLOOKUP(D21,A.P.U!A:M,13,FALSE) -> 58645 | I21: =ROUND((G21*H21),0) -> 58645
C22: 8 | D22: 002.015 | E22: =VLOOKUP(D22,A.P.U!A:I,3,FALSE) -> EXCAVACIÓN MECANIZADA P/ESTRUCTURAS-MATER COMÚN/CONGLOM 0.0 A 6.0 M. | F22: =VLOOKUP(D22,A.P.U!A:I,5,FALSE) -> M3 | G22: 1 | H22: =VLOOKUP(D22,A.P.U!A:M,13,FALSE) -> 18083 | I22: =ROUND((G22*H22),0) -> 18083
C23: 9 | D23: 002.016 | E23: =VLOOKUP(D23,A.P.U!A:I,3,FALSE) -> EXCAVACIÓN A CIELO ABIERTO - MATERIAL COMÚN - 0.0 A 2.0 M | F23: =VLOOKUP(D23,A.P.U!A:I,5,FALSE) -> M3 | G23: 1 | H23: =VLOOKUP(D23,A.P.U!A:M,13,FALSE) -> 63560 | I23: =ROUND((G23*H23),0) -> 63560
C24: 10 | D24: 002.017 | E24: =VLOOKUP(D24,A.P.U!A:I,3,FALSE) -> EXCAVACIÓN A CIELO ABIERTO - CONGLOMERADO - 0.0 A 2.0 M | F24: =VLOOKUP(D24,A.P.U!A:I,5,FALSE) -> M3 | G24: 1 | H24: =VLOOKUP(D24,A.P.U!A:M,13,FALSE) -> 90709 | I24: =ROUND((G24*H24),0) -> 90709
C25: 11 | D25: 002.050 | E25: =VLOOKUP(D25,A.P.U!A:I,3,FALSE) -> RELLENO EN MATERIAL SELECCIONADO PROVENIENTE DE LA EXCAVACION (CANGURO) | F25: =VLOOKUP(D25,A.P.U!A:I,5,FALSE) -> M3 | G25: 1 | H25: =VLOOKUP(D25,A.P.U!A:M,13,FALSE) -> 56340 | I25: =ROUND((G25*H25),0) -> 56340
C26: 12 | D26: 002.086 | E26: =VLOOKUP(D26,A.P.U!A:I,3,FALSE) -> RETIRO DE MATERIAL SOBRANTE EN VOLQUETA, CARGUE MECANICO, DISPOSICIÓN EN BOTADERO (HASTA 25 KM) | F26: =VLOOKUP(D26,A.P.U!A:I,5,FALSE) -> M3-Suelto | G26: 1 | H26: =VLOOKUP(D26,A.P.U!A:M,13,FALSE) -> 45353 | I26: =ROUND((G26*H26),0) -> 45353
C27: 13 | D27: 002.089 | E27: =VLOOKUP(D27,A.P.U!A:I,3,FALSE) -> RETIRO DE MATERIAL SOBRANTE EN VOLQUETA, CARGUE MANUAL, DISPOSICIÓN EN BOTADERO (HASTA 25 KM) | F27: =VLOOKUP(D27,A.P.U!A:I,5,FALSE) -> M3-Suelto | G27: 1 | H27: =VLOOKUP(D27,A.P.U!A:M,13,FALSE) -> 58484 | I27: =ROUND((G27*H27),0) -> 58484
C28: subtotal | I28: =SUM(I21:I27) -> 391174
D29: 003 | E29: =VLOOKUP(D29,A.P.U!A:I,3,FALSE) -> DESAGUES E INSTALACIONES SANITARIAS
C30: 14 | D30: 003.058 | E30: =VLOOKUP(D30,A.P.U!A:I,3,FALSE) -> SUMINISTRO, TRANSPORTE E INSTALACION FILTRO DRENAJE (0.50 X 0.80 M.) TUBO DRENAJE CORRUGADO DE 4" CON FILTRO. INCLUYE INCLUYE RELLENO PIEDRA FILTRO, GEOTEXTIL NT 3000 | F30: =VLOOKUP(D30,A.P.U!A:I,5,FALSE) -> ML | G30: 1 | H30: =VLOOKUP(D30,A.P.U!A:M,13,FALSE) -> 152241 | I30: =ROUND((G30*H30),0) -> 152241
C31: subtotal | I31: =I30 -> 152241
D32: 006 | E32: =VLOOKUP(D32,A.P.U!A:I,3,FALSE) -> MAMPOSTERIA
C33: 15 | D33: 006.031 | E33: =VLOOKUP(D33,A.P.U!A:I,3,FALSE) -> SUMINISTRO, TRANSPORTE E INSTALACION ANCLAJE EPOXICO 3/8" L=15 CM (INCLUYE PERFORACIÓN Y ADHESIVO EPÓXICO) | F33: =VLOOKUP(D33,A.P.U!A:I,5,FALSE) -> UND | G33: 1 | H33: =VLOOKUP(D33,A.P.U!A:M,13,FALSE) -> 12847 | I33: =ROUND((G33*H33),0) -> 12847
C34: subtotal | I34: =I33 -> 12847
D35: 021 | E35: =VLOOKUP(D35,A.P.U!A:I,3,FALSE) -> OBRAS EXTERIORES
C36: 16 | D36: 021.016 | E36: =VLOOKUP(D36,A.P.U!A:I,3,FALSE) -> SUMINISTRO, TRANSPORTE E INSTALACION SARDINEL CHAFLANADO ANCHO = 20 CM H = ENTRE 17 Y 24 CM EN CONCRETO 3000 PSI | F36: =VLOOKUP(D36,A.P.U!A:I,5,FALSE) -> ML | G36: 1 | H36: =VLOOKUP(D36,A.P.U!A:M,13,FALSE) -> 117859 | I36: =ROUND((G36*H36),0) -> 117859
C37: 17 | D37: 021.034 | E37: =VLOOKUP(D37,A.P.U!A:I,3,FALSE) -> SUMINISTRO, TRANSPORTE E INSTALACION ESCALAS CONCRETO 3000 PSI E= 0.10M. SOBRE TIERRA ACABADO ESCOBIADO | F37: =VLOOKUP(D37,A.P.U!A:I,5,FALSE) -> M2 | G37: 1 | H37: =VLOOKUP(D37,A.P.U!A:M,13,FALSE) -> 233051 | I37: =ROUND((G37*H37),0) -> 233051
C38: subtotal | I38: =SUM(I36:I37) -> 350910
D39: 023 | E39: =VLOOKUP(D39,A.P.U!A:I,3,FALSE) -> VIAS
C40: 18 | D40: 023.001 | E40: =VLOOKUP(D40,A.P.U!A:I,3,FALSE) -> SUMINISTRO, TRANSPORTE E INSTALACION DE PAVIMENTO EN CONCRETO PREMEZCLADO FAST TRACK MR42 | F40: =VLOOKUP(D40,A.P.U!A:I,5,FALSE) -> M3 | G40: 1 | H40: =VLOOKUP(D40,A.P.U!A:M,13,FALSE) -> 1667852 | I40: =ROUND((G40*H40),0) -> 1667852
C41: 19 | D41: 023.002 | E41: =VLOOKUP(D41,A.P.U!A:I,3,FALSE) -> SUMINISTRO, TRANSPORTE E INSTALACION IMPRIMACION CON EMULSION ASFALTICA | F41: =VLOOKUP(D41,A.P.U!A:I,5,FALSE) -> M2 | G41: 1 | H41: =VLOOKUP(D41,A.P.U!A:M,13,FALSE) -> 8232 | I41: =ROUND((G41*H41),0) -> 8232
C42: 20 | D42: 023.004 | E42: =VLOOKUP(D42,A.P.U!A:I,3,FALSE) -> SUMINISTRO, TRANSPORTE E INSTALACION MEZCLA ASFALTICA TIPO MDC-19. EXTENDIDO MECÁNICO Y COMPACTADO | F42: =VLOOKUP(D42,A.P.U!A:I,5,FALSE) -> M3 | G42: 1 | H42: =VLOOKUP(D42,A.P.U!A:M,13,FALSE) -> 1886261 | I42: =ROUND((G42*H42),0) -> 1886261
C43: 21 | D43: 023.008 | E43: =VLOOKUP(D43,A.P.U!A:I,3,FALSE) -> SUMINISTRO, TRANSPORTE E INSTALACION AFIRMADO PARA ANDENES | F43: =VLOOKUP(D43,A.P.U!A:I,5,FALSE) -> M3 | G43: 1 | H43: =VLOOKUP(D43,A.P.U!A:M,13,FALSE) -> 165938 | I43: =ROUND((G43*H43),0) -> 165938
C44: 22 | D44: 023.009 | E44: =VLOOKUP(D44,A.P.U!A:I,3,FALSE) -> SUMINISTRO, TRANSPORTE E INSTALACION BASE COMPACTADA CON CILINDRO | F44: =VLOOKUP(D44,A.P.U!A:I,5,FALSE) -> M3 | G44: 1 | H44: =VLOOKUP(D44,A.P.U!A:M,13,FALSE) -> 265593 | I44: =ROUND((G44*H44),0) -> 265593
...

Sheet FORMULARIO 1 
C3: Código | D3: CCE-EICP-FM-14
C4: FORMULARIO 1
C5: PRESUPUESTO - COSTO DIRECTO
C6: [Las Entidades Estatales deben usar el presente formulario para determinar el Presupuesto Oficial del Proceso de Contratación y solo pueden modificar o ajustar aquello que en este se permite expresamente] [El presente formulario aplica para los procesos de contratación que tengan como forma de pago precios unitarios. Tratándose de otras modalidades de precio, la Entidad debe ajustarlo cuando corresponde a: precio global, llave en mano, administración delegada, reembolso de gastos o cualquier otra forma de precio.]
C8: Adicionalmente, cuando el proceso de contratación es estructurado por precios unitarios, la Entidad debe aplicar las notas 1, 2 y 3 del presente formulario y las casillas de "Descripción", "Porcentaje" de la Administración, Imprevisto, Utilidad y total A.I.U. resaltadas en color amarillo. Tratándose de otras modalidades de precio, la Entidad puede o no configurar los mismos aspectos.
C9: “MANTENIMIENTO, REHABILITACIÓN, MEJORAMIENTO Y OPTIMIZACIÓN DE LA INFRAESTRUCTURA VIAL URBANA, MEDIANTE LA EJECUCIÓN DE ACTIVIDADES ORIENTADAS A LA REPARACIÓN, RECONSTRUCCIÓN, CONSTRUCCIÓN Y/O REPOSICIÓN DE PAVIMENTOS VEHICULARES Y PEATONALES DE LA CIUDAD DE MANIZALES FASE II POR EL SISTEMA DE MONTO AGOTABLE”
C11: No. | D11: ITEM DE PAGO | E11: DESCRIPCION | F11: UND. | G11: CANTIDAD | H11: VALOR UNITARIO | I11: VALOR TOTAL
E100: SUBTOTAL OBRAS (costo directo) | I100: =SUM(I13:I97)/2 -> 0
E101: VALOR TOTAL | I101: 6500000000
C103: NOTA 1: Se debe tener en cuenta que el PRECIO UNITARIO incluye el valor de A.I.U. | F103: DESCRIPCION | I103: PORCENTAJE
C104: NOTA 2: Cuando la fracción decimal del peso sea igual o superior a 5 se aproximará por exceso al número entero siguiente del peso y cuando la fracción decimal del peso sea inferior a 5 se aproximará por defecto al número entero del peso. | F104: ADMINISTRACION | H104: A= | I104: =ROUND('Analisis AU'!J47,4) -> 0.2496
C105: NOTA 3: El A.I.U y su discriminación deben estar en porcentaje (%). | F105: IMPREVISTO | H105: I= | I105: 0
C106: NOTA 4: Siguiendo las recomendaciones de la Guía de Colombia Compra Eficiente, presentar la oferta | F106: UTILIDAD | H106: U= | I106: 0.06
C107: NOTA 5: Revisar el Formulario 1 de Presupuesto con sus decimales y tenerlos en cuenta para la presentación de la propuesta económica. | F107: TOTAL A.I.U | H107: A.I.U.= | I107: =SUM(I104:I106) -> 0.3096

Sheet A.P.U
A1: CODIGO | B1: CODINS | C1: INSUMO | D1: TIPO | E1: UNIDAD | F1: REND | G1: UNITARIO | H1: VR. PARCIAL | I1: VR. TOTAL | J1: Link_Ins | L1: AIU
A2: AB | C2: ANALISIS BÁSICOS | D2: Capitulo | L2: =ROUND('Analisis AU'!J49,4) -> 0.3096
A3: AB1 | B3: - | C3: ACERO 60.000 PSI (INCLUYE ALAMBRE NEGRO Y FIGURACIÓN ) | D3: Analisis Basico | E3: KG | I3: 8042 | M3: =ROUND(I3*(1+$L$2),0) -> 10532
A4: AB1 | B4: I2 | C4: ACERO 60.000 PSI | D4: Insumos | E4: KG | F4: 1.05 | G4: 4423 | H4: 4644 | J4: =HYPERLINK("#"&"Insumos"&"!A"&MATCH($B4,#REF!,0),"Ins "&$B4) -> #REF!
A5: AB1 | B5: I3 | C5: ALAMBRE NEGRO NO. 18 | D5: Insumos | E5: KG | F5: 0.11 | G5: 6176 | H5: 679 | J5: =HYPERLINK("#"&"Insumos"&"!A"&MATCH($B5,#REF!,0),"Ins "&$B5) -> #REF!
A6: AB1 | B6: C1 | C6: CUADRILLA AA TIPO 1 (1 OFICIAL + 1 AYUDANTE) (Albañileria) | D6: Cuadrilla | E6: HR | F6: 0.062 | G6: 37863 | H6: 2348 | J6: =HYPERLINK("#"&"Insumos"&"!A"&MATCH($B6,#REF!,0),"Ins "&$B6) -> #REF!
A7: AB1 | B7: H2 | C7: EQUIPO BASICO (HERRAMIENTA MENOR) | D7: Herramienta | E7: UND | F7: 0.05 | G7: 3623 | H7: 181 | J7: =HYPERLINK("#"&"Insumos"&"!A"&MATCH($B7,#REF!,0),"Ins "&$B7) -> #REF!
A8: AB1 | B8: I1565 | C8: ACARREO INTERNO | D8: Insumos | E8: UND | F8: 0.1 | G8: 1897 | H8: 190 | J8: =HYPERLINK("#"&"Insumos"&"!A"&MATCH($B8,#REF!,0),"Ins "&$B8) -> #REF!
A9: AB2 | B9: - | C9: CONCRETO 1500 psi - 10.5 Mpa | D9: Analisis Basico | E9: M3 | I9: 447186 | M9: =ROUND(I9*(1+$L$2),0) -> 585635
A10: AB2 | B10: I33 | C10: ARENA GRUESA (Inc Transporte hasta 39 km) | D10: Insumos | E10: M3 | F10: 0.5 | G10: 110940 | H10: 55470 | J10: =HYPERLINK("#"&"Insumos"&"!A"&MATCH($B10,#REF!,0),"Ins "&$B10) -> #REF!
A11: AB2 | B11: I34 | C11: TRITURADO DE 3/4" (Inc. Transporte hasta 39 km) | D11: Insumos | E11: M3 | F11: 1 | G11: 142000 | H11: 142000 | J11: =HYPERLINK("#"&"Insumos"&"!A"&MATCH($B11,#REF!,0),"Ins "&$B11) -> #REF!
A12: AB2 | B12: I274 | C12: CEMENTO GRIS | D12: Insumos | E12: KG | F12: 210 | G12: 690 | H12: 144900 | J12: =HYPERLINK("#"&"Insumos"&"!A"&MATCH($B12,#REF!,0),"Ins "&$B12) -> #REF!
A13: AB2 | B13: I49 | C13: AGUA LITRO | D13: Insumos | E13: LT | F13: 122.85 | G13: 34 | H13: 4177 | J13: =HYPERLINK("#"&"Insumos"&"!A"&MATCH($B13,#REF!,0),"Ins "&$B13) -> #REF!
A14: AB2 | B14: E14 | C14: MEZCLADORA A GASOLINA 1 SACO | D14: Equipos | E14: DIA | F14: 0.175 | G14: 80444 | H14: 14078 | J14: =HYPERLINK("#"&"Insumos"&"!A"&MATCH($B14,#REF!,0),"Ins "&$B14) -> #REF!
A15: AB2 | B15: I271 | C15: GASOLINA CORRIENTE | D15: Insumos | E15: GAL | F15: 0.5 | G15: 16500 | H15: 8250 | J15: =HYPERLINK("#"&"Insumos"&"!A"&MATCH($B15,#REF!,0),"Ins "&$B15) -> #REF!
A16: AB2 | B16: I1565 | C16: ACARREO INTERNO | D16: Insumos | E16: UND | F16: 0.44280443 | G16: 1897 | H16: 840 | J16: =HYPERLINK("#"&"Insumos"&"!A"&MATCH($B16,#REF!,0),"Ins "&$B16) -> #REF!
A17: AB2 | B17: C36 | C17: CUADRILLA AA TIPO 6 (1 OFICIAL + 6 AYUDANTE) (Albañileria) | D17: Cuadrilla | E17: HR | F17: 0.7 | G17: 110673 | H17: 77471 | J17: =HYPERLINK("#"&"Insumos"&"!A"&MATCH($B17,#REF!,0),"Ins "&$B17) -> #REF!
A18: AB3 | B18: - | C18: CONCRETO 2000 PSI - 14 MPA | D18: Analisis Basico | E18: M3 | I18: 465478 | M18: =ROUND(I18*(1+$L$2),0) -> 609590
A19: AB3 | B19: I33 | C19: ARENA GRUESA (Inc Transporte hasta 39 km) | D19: Insumos | E19: M3 | F19: 0.56 | G19: 110940 | H19: 62126 | J19: =HYPERLINK("#"&"Insumos"&"!A"&MATCH($B19,#REF!,0),"Ins "&$B19) -> #REF!
A20: AB3 | B20: I34 | C20: TRITURADO DE 3/4" (Inc. Transporte hasta 39 km) | D20: Insumos | E20: M3 | F20: 0.92 | G20: 142000 | H20: 130640 | J20: =HYPERLINK("#"&"Insumos"&"!A"&MATCH($B20,#REF!,0),"Ins "&$B20) -> #REF!
A21: AB3 | B21: I274 | C21: CEMENTO GRIS | D21: Insumos | E21: KG | F21: 230 | G21: 690 | H21: 158700 | J21: =HYPERLINK("#"&"Insumos"&"!A"&MATCH($B21,#REF!,0),"Ins "&$B21) -> #REF!
A22: AB3 | B22: I49 | C22: AGUA LITRO | D22: Insumos | E22: LT | F22: 134.55 | G22: 34 | H22: 4575 | J22: =HYPERLINK("#"&"Insumos"&"!A"&MATCH($B22,#REF!,0),"Ins "&$B22) -> #REF!
A23: AB3 | B23: E14 | C23: MEZCLADORA A GASOLINA 1 SACO | D23: Equipos | E23: DIA | F23: 0.19166667 | G23: 80444 | H23: 15418 | J23: =HYPERLINK("#"&"Insumos"&"!A"&MATCH($B23,#REF!,0),"Ins "&$B23) -> #REF!
A24: AB3 | B24: I271 | C24: GASOLINA CORRIENTE | D24: Insumos | E24: GAL | F24: 0.5 | G24: 16500 | H24: 8250 | J24: =HYPERLINK("#"&"Insumos"&"!A"&MATCH($B24,#REF!,0),"Ins "&$B24) -> #REF!
A25: AB3 | B25: I1565 | C25: ACARREO INTERNO | D25: Insumos | E25: UND | F25: 0.48497628 | G25: 1897 | H25: 920 | J25: =HYPERLINK("#"&"Insumos"&"!A"&MATCH($B25,#REF!,0),"Ins "&$B25) -> #REF!
A26: AB3 | B26: C36 | C26: CUADRILLA AA TIPO 6 (1 OFICIAL + 6 AYUDANTE) (Albañileria) | D26: Cuadrilla | E26: HR | F26: 0.76666667 | G26: 110673 | H26: 84849 | J26: =HYPERLINK("#"&"Insumos"&"!A"&MATCH($B26,#REF!,0),"Ins "&$B26) -> #REF!
A27: AB4 | B27: - | C27: CONCRETO 2500 psi - 17.5 Mpa | D27: Analisis Basico | E27: M3 | I27: 535318 | M27: =ROUND(I27*(1+$L$2),0) -> 701052
A28: AB4 | B28: I33 | C28: ARENA GRUESA (Inc Transporte hasta 39 km) | D28: Insumos | E28: M3 | F28: 0.72 | G28: 110940 | H28: 79877 | J28: =HYPERLINK("#"&"Insumos"&"!A"&MATCH($B28,#REF!,0),"Ins "&$B28) -> #REF!
A29: AB4 | B29: I34 | C29: TRITURADO DE 3/4" (Inc. Transporte hasta 39 km) | D29: Insumos | E29: M3 | F29: 0.72 | G29: 142000 | H29: 102240 | J29: =HYPERLINK("#"&"Insumos"&"!A"&MATCH($B29,#REF!,0),"Ins "&$B29) -> #REF!
A30: AB4 | B30: I274 | C30: CEMENTO GRIS | D30: Insumos | E30: KG | F30: 300 | G30: 690 | H30: 207000 | J30: =HYPERLINK("#"&"Insumos"&"!A"&MATCH($B30,#REF!,0),"Ins "&$B30) -> #REF!
A31: AB4 | B31: I49 | C31: AGUA LITRO | D31: Insumos | E31: LT | F31: 175.5 | G31: 34 | H31: 5967 | J31: =HYPERLINK("#"&"Insumos"&"!A"&MATCH($B31,#REF!,0),"Ins "&$B31) -> #REF!
A32: AB4 | B32: E14 | C32: MEZCLADORA A GASOLINA 1 SACO | D32: Equipos | E32: DIA | F32: 0.25 | G32: 80444 | H32: 20111 | J32: =HYPERLINK("#"&"Insumos"&"!A"&MATCH($B32,#REF!,0),"Ins "&$B32) -> #REF!
A33: AB4 | B33: I271 | C33: GASOLINA CORRIENTE | D33: Insumos | E33: GAL | F33: 0.5 | G33: 16500 | H33: 8250 | J33: =HYPERLINK("#"&"Insumos"&"!A"&MATCH($B33,#REF!,0),"Ins "&$B33) -> #REF!
A34: AB4 | B34: I1565 | C34: ACARREO INTERNO | D34: Insumos | E34: UND | F34: 0.63257775 | G34: 1897 | H34: 1200 | J34: =HYPERLINK("#"&"Insumos"&"!A"&MATCH($B34,#REF!,0),"Ins "&$B34) -> #REF!
A35: AB4 | B35: C36 | C35: CUADRILLA AA TIPO 6 (1 OFICIAL + 6 AYUDANTE) (Albañileria) | D35: Cuadrilla | E35: HR | F35: 1 | G35: 110673 | H35: 110673 | J35: =HYPERLINK("#"&"Insumos"&"!A"&MATCH($B35,#REF!,0),"Ins "&$B35) -> #REF!
A36: AB5 | B36: - | C36: CONCRETO 3000 psi - 21 Mpa | D36: Analisis Basico | E36: M3 | I36: 597780 | M36: =ROUND(I36*(1+$L$2),0) -> 782853
A37: AB5 | B37: I33 | C37: ARENA GRUESA (Inc Transporte hasta 39 km) | D37: Insumos | E37: M3 | F37: 0.56 | G37: 110940 | H37: 62126 | J37: =HYPERLINK("#"&"Insumos"&"!A"&MATCH($B37,#REF!,0),"Ins "&$B37) -> #REF!
A38: AB5 | B38: I34 | C38: TRITURADO DE 3/4" (Inc. Transporte hasta 39 km) | D38: Insumos | E38: M3 | F38: 0.88 | G38: 142000 | H38: 124960 | J38: =HYPERLINK("#"&"Insumos"&"!A"&MATCH($B38,#REF!,0),"Ins "&$B38) -> #REF!
A39: AB5 | B39: I274 | C39: CEMENTO GRIS | D39: Insumos | E39: KG | F39: 350 | G39: 690 | H39: 241500 | J39: =HYPERLINK("#"&"Insumos"&"!A"&MATCH($B39,#REF!,0),"Ins "&$B39) -> #REF!
A40: AB5 | B40: I49 | C40: AGUA LITRO | D40: Insumos | E40: LT | F40: 204.75 | G40: 34 | H40: 6962 | J40: =HYPERLINK("#"&"Insumos"&"!A"&MATCH($B40,#REF!,0),"Ins "&$B40) -> #REF!
...

Sheet Analisis AU
A1: ANALISIS DEL AIU
A3: Valor estimado de la Obra (Costo Directo). | D3: Valor | E3: 4963167818
A4: Plazo estimado de ejecución. | D4: Meses | E4: 5
A6: CAPITULO | B6: TIPO DE GASTO | C6: UN | D6: CANTIDAD. | E6: DEDICACION | F6: VLOR UNITARIO (mes) | G6: FACTOR PRESTACIONAL O FACTOR AIU (PARA INDIRECTOS) | H6: VALOR TOTAL | I6: SUMA | J6: PORCENTAJE
A7: 1 | B7: GASTOS GENERALES. | J7: =+J8 -> 0.050302933
A8: 1.1 | B8: MANO DE OBRA Y GASTOS DE OFICINA | I8: =SUM(H9:H23) -> 2.496619e+08 | J8: =+I8/$E$3 -> 0.050302933
B9: Ingeniero Director | C9: Un | D9: 1 | E9: 0.5 | F9: 6700000 | G9: 0.6556 | H9: =+D9*E9*$E$4*F9*(1+G9) -> 27731300 | J9: =+H9/$E$3 -> 0.0055874194
B10: Ingeniero Residente | C10: Un | D10: 2 | E10: 1 | F10: 4500000 | G10: 0.6556 | H10: =+D10*E10*$E$4*F10*(1+G10) -> 74502000 | J10: =+H10/$E$3 -> 0.015010977
B11: Maestro de Obra | C11: Un | D11: 2 | E11: 1 | F11: 3600000 | G11: 0.6556 | H11: =+D11*E11*$E$4*F11*(1+G11) -> 59601600 | J11: =+H11/$E$3 -> 0.012008782
B12: Residente de Salud Ocupacional | C12: Un | D12: 1 | E12: 1 | F12: 3600000 | G12: 0.6556 | H12: =+D12*E12*$E$4*F12*(1+G12) -> 29800800 | J12: =+H12/$E$3 -> 0.006004391
B13: Profesional ambiental | C13: Un | D13: 1 | E13: 0.5 | F13: 3600000 | G13: 0.6556 | H13: =+D13*E13*$E$4*F13*(1+G13) -> 14900400 | J13: =+H13/$E$3 -> 0.0030021955
B14: Trabajador social | C14: Un | D14: 1 | E14: 1 | F14: 3600000 | G14: 0.6556 | H14: =+D14*E14*$E$4*F14*(1+G14) -> 29800800 | J14: =+H14/$E$3 -> 0.006004391
B15: Almacenista | C15: Un | D15: 0 | E15: 1 | F15: 1750905 | G15: 0.829 | H15: =+D15*E15*$E$4*F15*(1+G15) -> 0 | J15: =+H15/$E$3 -> 0
B16: Secretaria | C16: Un | D16: 0 | E16: 0.2 | F16: 1750905 | G16: 0.829 | H16: =+D16*E16*$E$4*F16*(1+G16) -> 0 | J16: =+H16/$E$3 -> 0
B17: Contador | C17: Un | D17: 0 | E17: 0.15 | F17: 3600000 | H17: =+D17*E17*$E$4*F17*(1+G17) -> 0 | J17: =+H17/$E$3 -> 0
B18: Oficina y/o campamento (Incluye Equipo de Oficina, Escritorio, pc, impresora, sillas, papeleria, consumo servicios publicos etc) | C18: Mes | D18: =+$E$4 -> 5 | E18: 1 | F18: 800000 | H18: =+D18*E18*F18*(1+G18) -> 4000000 | J18: =+H18/$E$3 -> 0.00080593688
B19: Plan de Salud ocupacional y seguridad industrial | C19: Mes | D19: =+$E$4 -> 5 | E19: 1 | F19: 500000 | H19: =+D19*E19*F19*(1+G19) -> 2500000 | J19: =+H19/$E$3 -> 0.00050371055
B20: Sistema de gestion ambiental | C20: Mes | D20: =+$E$4 -> 5 | E20: 1 | F20: 300000 | H20: =+D20*E20*F20*(1+G20) -> 1500000 | J20: =+H20/$E$3 -> 0.00030222633
B21: Sistema de gestion de calidad incluye ensayos de laboratorio solicitados por norma | C21: Mes | D21: =+$E$4 -> 5 | E21: 1 | F21: 1000000 | H21: =+D21*E21*F21*(1+G21) -> 5000000 | J21: =+H21/$E$3 -> 0.0010074211
B22: Costos financiero | C22: Mes | D22: =+$E$4 -> 5 | E22: 1 | F22: 65000 | H22: =+D22*E22*F22*(1+G22) -> 325000 | J22: =+H22/$E$3 -> 6.5482372e-05
J23: =+H23/$E$3 -> 0
A24: 2 | B24: GASTOS INDIRECTOS. | J24: =+J25+J27+J38+J34 -> 0.1993445
A25: 2.1 | B25: LEGALIZACION. | I25: =SUM(H26:H26) -> 0 | J25: =+I25/$E$3 -> 0
B26: AIU ITERACION | G26: 1.3096 | H26: =+F26*D26*G26 -> 0
A27: 2.2 | B27: POLIZAS | I27: =SUM(H28:H32) -> 60063808 | J27: =+I27/$E$3 -> 0.01210191
B28: Anticipo | C28: % | D28: 0.0006 | E28: 0.2 | F28: =+$E$3*E28 -> 9.9263356e+08 | G28: =+$G$26 -> 1.3096 | H28: =+(((F28*G28*D28)/365)*($E$4*30+120))*1.19 -> 686588.83 | J28: =+H28/$E$3 -> 0.00013833682
B29: Cumplimiento | C29: % | D29: 0.0006 | F29: =+$E$3 -> 4963167818 | G29: =+$G$26 -> 1.3096 | H29: =+(((F29*G29*D29)/365)*($E$4*30+120))*1.19 -> 3432944.1 | J29: =+H29/$E$3 -> 0.00069168408
B30: Estabilidad | C30: % | D30: 0.0009 | F30: =+$E$3 -> 4963167818 | G30: =+$G$26 -> 1.3096 | H30: =+(((F30*G30*D30)/365)*(1825))*1.19 -> 34806239 | J30: =+H30/$E$3 -> 0.007012908
B31: Prestaciones Sociales | C31: % | D31: 0.0005 | F31: =+$E$3 -> 4963167818 | G31: =+$G$26 -> 1.3096 | H31: =+(((F31*G31*D31)/365)*($E$4*30+1095))*1.19 -> 13191406 | J31: =+H31/$E$3 -> 0.0026578601
B32: Responsabilidad Civil | C32: % | D32: 0.0025 | F32: =+$E$3 -> 4963167818 | G32: =+$G$26 -> 1.3096 | H32: =+(((F32*G32*D32)/365)*($E$4*30+0))*1.19 -> 7946630 | J32: =+H32/$E$3 -> 0.0016011205
A34: 2.3 | B34: VALLAS Y SEÑALIZACION | I34: =SUM(H35:H37) -> 1800000 | J34: =+I34/$E$3 -> 0.0003626716
B35: Vallas incluye estructura de fijacion | C35: M2 | D35: 6 | E35: 300000 | F35: =E35*D35 -> 1800000 | H35: =+F35 -> 1800000 | J35: =+H35/$E$3 -> 0.0003626716
H36: =+F36*D36 -> 0 | J36: =+H36/$E$3 -> 0
A38: 2.4 | B38: IMPUESTOS Y CONTRIBUCIONES | I38: =SUM(H39:H46) -> 9.275164e+08 | J38: =+I38/$E$3 -> 0.18687992
B39: Contribuación Especial | C39: % | D39: 0.05 | F39: =+$E$3 -> 4963167818 | G39: =+$G$26 -> 1.3096 | H39: =+F39*D39*G39 -> 3.2498823e+08 | J39: =+H39/$E$3 -> 0.06548
B40: Estampillas para el bienestar del adulto mayor | C40: % | D40: 0.02 | F40: =+$E$3 -> 4963167818 | G40: =+$G$26 -> 1.3096 | H40: =+F40*D40*G40 -> 1.2999529e+08 | J40: =+H40/$E$3 -> 0.026192
B41: Estampillas Pro - Universidades. | C41: % | D41: 0.02 | F41: =+$E$3 -> 4963167818 | G41: =+$G$26 -> 1.3096 | H41: =+F41*D41*G41 -> 1.2999529e+08 | J41: =+H41/$E$3 -> 0.026192
B42: Estampilla pro cultura | C42: % | D42: 0.02 | F42: =+$E$3 -> 4963167818 | G42: =+$G$26 -> 1.3096 | H42: =+F42*D42*G42 -> 1.2999529e+08 | J42: =+H42/$E$3 -> 0.026192
B43: Estampilla pro justicia familiar | C43: % | D43: 0.02 | F43: =+$E$3 -> 4963167818 | G43: =+$G$26 -> 1.3096 | H43: =+F43*D43*G43 -> 1.2999529e+08 | J43: =+H43/$E$3 -> 0.026192
B44: Gasto bancarios4x1000 y retiros | C44: % | D44: 0.004 | F44: =+$E$3 -> 4963167818 | G44: =+$G$26 -> 1.3096 | H44: =+F44*D44*G44 -> 25999058 | J44: =+H44/$E$3 -> 0.0052384
...

Sheet Analisis Herramienta Menor
B1: ESTIMATIVO GENERAL DE HERRAMIENTAS MENORES DE UN PROYECTO
B3: Descripción | C3: Unidad | D3: IVA | E3: Valor unitario Antes de IVA | F3: Valor Total
B4: PALA CON CABO | C4: und | D4: 0.19 | E4: 17442.308 | F4: =ROUNDUP($E4*(1+$D4),0) -> 20757
B5: PICA CON CABO | C5: und | D5: 0.19 | E5: 26635.446 | F5: =ROUNDUP($E5*(1+$D5),0) -> 31697
B6: PALÍN CON CABO | C6: und | D6: 0.19 | E6: 18316.532 | F6: =ROUNDUP($E6*(1+$D6),0) -> 21797
B7: ALMADANA CON CABO | C7: und | D7: 0.19 | E7: 59422.899 | F7: =ROUNDUP($E7*(1+$D7),0) -> 70714
B8: BARRA METÁLICA | C8: und | D8: 0.19 | E8: 67114.123 | F8: =ROUNDUP($E8*(1+$D8),0) -> 79866
B9: BALDE PLÁSTICO | C9: und | D9: 0.19 | E9: 3005.4489 | F9: =ROUNDUP($E9*(1+$D9),0) -> 3577
B10: CARRETA BUGGY | C10: und | D10: 0.19 | E10: 137793.26 | F10: =ROUNDUP($E10*(1+$D10),0) -> 163974
B11: MANILA DE 1/2" | C11: ml | D11: 0.19 | E11: 1537.5961 | F11: =ROUNDUP($E11*(1+$D11),0) -> 1830
B12: PLÁSTICO PARA COBERTORES | C12: m2 | D12: 0.19 | E12: 2470.2098 | F12: =ROUNDUP($E12*(1+$D12),0) -> 2940
B13: SEGUETA | C13: und | D13: 0.19 | E13: 3634.7604 | F13: =ROUNDUP($E13*(1+$D13),0) -> 4326
B14: ESCOBA | C14: und | D14: 0.19 | E14: 4541.4231 | F14: =ROUNDUP($E14*(1+$D14),0) -> 5405
B15: PALUSTRE | C15: und | D15: 0.19 | E15: 11184.876 | F15: =ROUNDUP($E15*(1+$D15),0) -> 13311
... B17: FLEXOMETRO | C17: und | D17: 0.19 | E17: 13981.095 | F17: =ROUNDUP($E17*(1+$D17),0) -> 16638
B18: COSTO TOTAL | F18: =SUM(F4:F17) -> 450143
B19: NO. ESTIMADO DE USOS | D19: 10
B20: COSTO TOTAL POR USO | F20: =+F18/D19 -> 45014.3
B21: NO. DE HERRAMIENTAS | D21: =+COUNT(D4:D17) -> 14
B22: COSTO UNITARIO HERRAMIENTA MENOR | F22: =+ROUND(F20/D21,0) -> 3215
E23: IVA | F23: 0
B24: EQUIPO BASICO ( CONSTRUCCIÓN ) | D24: Incluye IVA | F24: =+(F22*F23)+F22 -> 3215
B25: EQUIPO BASICO ( HERRAMIENTA MENOR ) | D25: Incluye IVA | F25: =+F24 -> 3215
