Workbook

Sheet BTL
A1: PRESUPUESTO SUPUESTO | C1: 3654000000
A2: INTERMEDIACIÓN | G2: VALOR TOTAL DE LOS ÍTEMS
A3: No | B3: EMPRESA | C3: INTERMEDIACIÓN | D3: VALOR INTERMEDIACIÓN | E3: TIPO | G3: No | H3: EMPRESA | I3: VALOR | J3: TIPO
A4: 1 | B4: VALOR HISTORICO - OP. PÚBLICO | C4: 0.04 | D4: =$C$1*C4 -> 146160000 | E4: Pública | G4: 1 | H4: VALOR HISTORICO - PÚBLICA | I4: =+Cotización!F196 -> 236886279
A5: 2 | B5: CANAL CAPITAL | C5: 0.08 | D5: =$C$1*C5 -> 292320000 | E5: Pública | G5: 2 | H5: CANAL CAPITAL | I5: =+Cotización!I196 -> 190796508
A6: 3 | B6: DU BRANS SAS | C6: 0.143 | D6: =$C$1*C6 -> 5.22522e+08 | E6: Privada | G6: 3 | H6: DU BRANS SAS | I6: =+Cotización!L196 -> 280247381
A7: 4 | B7: ERCA | C7: 0.08 | D7: =$C$1*C7 -> 292320000 | E7: Privada | G7: 4 | H7: ERCA | I7: =+Cotización!O196 -> 2.5931873e+08
A8: 5 | B8: INNOVATECHVR | C8: 0.1 | D8: =$C$1*C8 -> 365400000 | E8: Privada | G8: 5 | H8: INNOVATECHVR | I8: =+Cotización!R196 -> 239988490
A9: 6 | B9: LOGÍSTICA 911 | C9: 0.19 | D9: =$C$1*C9 -> 694260000 | E9: Privada | G9: 6 | H9: LOGÍSTICA 911 | I9: =+Cotización!U196 -> 2.4104396e+08
A10: 7 | B10: MERCADEO ESTRATÉGICO | C10: 0.23 | D10: =$C$1*C10 -> 840420000 | E10: Privada | G10: 7 | H10: MERCADEO ESTRATÉGICO | I10: =+Cotización!X196 -> 473304650
A11: 8 | B11: Miacom S.A.S. | C11: 0.08 | D11: =$C$1*C11 -> 292320000 | E11: Privada | G11: 8 | H11: Miacom S.A.S. | I11: =+Cotización!AA196 -> 2.7854931e+08
A12: 9 | B12: PUBBLICA | C12: 0.08 | D12: =$C$1*C12 -> 292320000 | E12: Privada | G12: 9 | H12: PUBBLICA | I12: =+Cotización!AD196 -> 2.7115215e+08
A13: 10 | B13: SINTONIZAR MEDIOS | C13: 0.07 | D13: =$C$1*C13 -> 2.5578e+08 | E13: Privada | G13: 10 | H13: SINTONIZAR MEDIOS | I13: =+Cotización!AG196 -> 2.7502795e+08
A14: 11 | B14: TAKTIKOS | C14: 0.14 | D14: =$C$1*C14 -> 5.1156e+08 | E14: Privada | G14: 11 | H14: TAKTIKOS | I14: =+Cotización!AJ196 -> 2.698586e+08
A15: 12 | B15: ACOMEDIOS | C15: 0.03 | D15: =$C$1*C15 -> 109620000 | E15: Privada | G15: 12 | H15: ACOMEDIOS | I15: =+Cotización!AM196 -> 3.5474238e+08
A16: 13 | B16: PIRME PRODUCCIONES | C16: 0.14 | D16: =$C$1*C16 -> 5.1156e+08 | E16: Privada | G16: 13 | H16: PIRME PRODUCCIONES | I16: =+Cotización!AP196 -> 244574216
A17: PROMEDIO | C17: =AVERAGE(C4:C16) -> 0.10792308
A19: MEDIANA | B19: =MEDIAN(C4:C16) -> 0.08
A20: MEDIAN ARMO. | B20: =HARMEAN(C4:C16) -> 0.079506447
A21: DEVESTA | B21: =STDEVA(C4:C16) -> 0.057902881
A22: VALOR TECHO | B22: =C17-B21 -> 0.050020196 | C22: (promedio - devesta)
A23: VALOR PISO | B23: =B20-B21 -> 0.021603566 | C23: (media armo - devesta)

Sheet Cotización
A1: TRANSMILENIO S.A. Subgerencia de Atención al Usuario y Comunicaciones Formato cotización COMPONENTE DE OPERACIÓN LOGÍSTICA
A2: LEER ATENTAMENTE ANTES DE DILIGENCIAR LA COTIZACIÓN (1) Se deben tener en cuenta todos los aspectos relacionados en el proyecto anexo tecnico (2) Diligenciar las celdas resaltadas en color amarillo | D2: HISTORICO PÚBLICA | G2: CANAL CAPITAL | J2: DU BRANS SAS | M2: ERCA | P2: INNOVATECHVR | S2: LOGÍSTICA 911 | V2: MERCADEO ESTRATÉGICO | Y2: Miacom S.A.S. | AB2: PUBBLICA | AE2: SINTONIZAR MEDIOS | AH2: TAKTIKOS | AK2: ACOMEDIOS | AN2: PIRME PRODUCCIONES | AQ2: PROMEDIO ÍTEMS FÓRMULA MEDIANA VALOR TECHO
A3: DESCRIPCIÓN | B3: ÍTEM | C3: DESCRIPCIÓN | D3: CANTIDAD | E3: VALOR ANTES DE IVA | F3: VALOR IVA INCLUIDO | G3: CANTIDAD | H3: VALOR ANTES DE IVA | I3: VALOR IVA INCLUIDO | J3: CANTIDAD | K3: VALOR ANTES DE IVA | L3: VALOR IVA INCLUIDO | M3: CANTIDAD | N3: VALOR ANTES DE IVA | O3: VALOR IVA INCLUIDO | P3: CANTIDAD | Q3: VALOR ANTES DE IVA | R3: VALOR IVA INCLUIDO | S3: CANTIDAD | T3: VALOR ANTES DE IVA | U3: VALOR IVA INCLUIDO | V3: CANTIDAD | W3: VALOR ANTES DE IVA | X3: VALOR IVA INCLUIDO | Y3: CANTIDAD | Z3: VALOR ANTES DE IVA | AA3: VALOR IVA INCLUIDO | AB3: CANTIDAD | AC3: VALOR ANTES DE IVA | AD3: VALOR IVA INCLUIDO | AE3: CANTIDAD | AF3: VALOR ANTES DE IVA | AG3: VALOR IVA INCLUIDO | AH3: CANTIDAD | AI3: VALOR ANTES DE IVA | AJ3: VALOR IVA INCLUIDO | AK3: CANTIDAD | AL3: VALOR ANTES DE IVA | AM3: VALOR IVA INCLUIDO | AN3: CANTIDAD | AO3: VALOR ANTES DE IVA | AP3: VALOR IVA INCLUIDO | AQ3: CANTIDAD | AR3: VALOR ANTES DE IVA | AS3: VALOR IVA INCLUIDO
A5: AUDITORIOS Y SALAS ALTERNAS | B5: Auditorio para 50 personas | C5: (Incluye: tarima, computador, video beam, pantalla de proyección, sistema de amplificación de sonido, mesas, sillas y manteles. Lo anterior, debe ser proporcional al área del lugar, al aforo y al tipo de montaje seleccionado), técnico de montaje y técnico de sonido. | D5: 1 día | E5: 3784200 | F5: 4503198 | G5: 1 día | H5: 4458000 | I5: =(H5*19%)+H5 -> 5305020 | J5: 1 día | K5: 5000000 | L5: 5950000 | M5: 1 día | N5: 6950000 | O5: =N5+(N5*19%) -> 8270500 | P5: 1 día | Q5: 8000000 | R5: =Q5*19%+Q5 -> 9520000 | S5: 1 día | T5: 4792700 | U5: =T5*1.19 -> 5703313 | V5: 1 día | W5: 10000000 | X5: =W5*1.19 -> 11900000 | Y5: 1 día | Z5: 4360840 | AA5: =Z5+(Z5*19%) -> 5189399.6 | AB5: 1 día | AC5: 4650000 | AD5: =AC5*19%+AC5 -> 5533500 | AE5: 1 día | AF5: 4351830 | AG5: =+AF5*1.19 -> 5178677.7 | AH5: 1 día | AI5: 6855000 | AJ5: =+AI5*19%+AI5 -> 8157450 | AK5: 1 día | AL5: 17000000 | AM5: =AL5+(AL5*19%) -> 20230000 | AN5: 1 día | AO5: 4561865 | AP5: 5428619 | AQ5: 1 día | AR5: =MEDIAN(E5,H5,K5,N5,Q5,T5,W5,Z5,AC5,AF5,AI5,AL5,AO5) -> 4792700 | AS5: =MEDIAN(F5,I5,L5,O5,R5,U5,X5,AA5,AD5,AG5,AJ5,AM5,AP5) -> 5703313
D6: 1 día adicional | E6: 3459800 | F6: 4117162 | G6: 1 día adicional | H6: 3566000 | I6: =(H6*19%)+H6 -> 4243540 | J6: 1 día adicional | K6: 4200000 | L6: 4998000 | M6: 1 día adicional | N6: 6950000 | O6: =N6+(N6*19%) -> 8270500 | P6: 1 día adicional | Q6: 6000000 | R6: =Q6*19%+Q6 -> 7140000 | S6: 1 día adicional | T6: 4156900 | U6: =T6*1.19 -> 4946711 | V6: 1 día adicional | W6: 10000000 | X6: =W6*1.19 -> 11900000 | Y6: 1 día adicional | Z6: 3986950 | AA6: =Z6+(Z6*19%) -> 4744470.5 | AB6: 1 día adicional | AC6: 3875000 | AD6: =AC6*19%+AC6 -> 4611250 | AE6: 1 día adicional | AF6: 3978770 | AG6: =+AF6*1.19 -> 4734736.3 | AH6: 1 día adicional | AI6: 5205000 | AJ6: =+AI6*19%+AI6 -> 6193950 | AK6: 1 día adicional | AL6: 17000000 | AM6: =AL6+(AL6*19%) -> 20230000 | AN6: 1 día adicional | AO6: 3526184 | AP6: 4196159 | AQ6: 1 día adicional | AR6: =MEDIAN(E6,H6,K6,N6,Q6,T6,W6,Z6,AC6,AF6,AI6,AL6,AO6) -> 4156900 | AS6: =MEDIAN(F6,I6,L6,O6,R6,U6,X6,AA6,AD6,AG6,AJ6,AM6,AP6) -> 4946711
B7: Sala alterna para 5 personas | D7: 1 día | E7: 1296800 | F7: 1543192 | G7: 1 día | H7: 1100000 | I7: =(H7*19%)+H7 -> 1309000 | J7: 1 día | K7: 2800000 | L7: 3332000 | M7: 1 día | N7: 1500000 | O7: =N7+(N7*19%) -> 1785000 | P7: 1 día | Q7: 1000000 | R7: =Q7*19%+Q7 -> 1190000 | S7: 1 día | T7: 922570 | U7: =T7*1.19 -> 1097858.3 | V7: 1 día | W7: 1667000 | X7: =W7*1.19 -> 1983730 | Y7: 1 día | Z7: 1494350 | AA7: =Z7+(Z7*19%) -> 1778276.5 | AB7: 1 día | AC7: 1350000 | AD7: =AC7*19%+AC7 -> 1606500 | AE7: 1 día | AF7: 1556160 | AG7: =+AF7*1.19 -> 1851830.4 | AH7: 1 día | AI7: 1470000 | AJ7: =+AI7*19%+AI7 -> 1749300 | AK7: 1 día | AL7: 4000000 | AM7: =AL7+(AL7*19%) -> 4760000 | AN7: 1 día | AO7: 1009157 | AP7: 1200897 | AQ7: 1 día | AR7: =MEDIAN(E7,H7,K7,N7,Q7,T7,W7,Z7,AC7,AF7,AI7,AL7,AO7) -> 1470000 | AS7: =MEDIAN(F7,I7,L7,O7,R7,U7,X7,AA7,AD7,AG7,AJ7,AM7,AP7) -> 1749300
D8: 1 día adicional | E8: 1080500 | F8: 1285795 | G8: 1 día adicional | H8: 770000 | I8: =(H8*19%)+H8 -> 916300 | J8: 1 día adicional | K8: 2000000 | L8: 2380000 | M8: 1 día adicional | N8: 1350000 | O8: =N8+(N8*19%) -> 1606500 | P8: 1 día adicional | Q8: 800000 | R8: =Q8*19%+Q8 -> 952000 | S8: 1 día adicional | T8: 673200 | U8: =T8*1.19 -> 801108 | V8: 1 día adicional | W8: 1667000 | X8: =W8*1.19 -> 1983730 | Y8: 1 día adicional | Z8: 1245090 | AA8: =Z8+(Z8*19%) -> 1481657.1 | AB8: 1 día adicional | AC8: 1125000 | AD8: =AC8*19%+AC8 -> 1338750 | AE8: 1 día adicional | AF8: 1296600 | AG8: =+AF8*1.19 -> 1542954 | AH8: 1 día adicional | AI8: 1470000 | AJ8: =+AI8*19%+AI8 -> 1749300 | AK8: 1 día adicional | AL8: 4000000 | AM8: =AL8+(AL8*19%) -> 4760000 | AN8: 1 día adicional | AO8: 832039 | AP8: 990127 | AQ8: 1 día adicional | AR8: =MEDIAN(E8,H8,K8,N8,Q8,T8,W8,Z8,AC8,AF8,AI8,AL8,AO8) -> 1245090 | AS8: =MEDIAN(F8,I8,L8,O8,R8,U8,X8,AA8,AD8,AG8,AJ8,AM8,AP8) -> 1481657.1
B9: Sala alterna para 20 personas | D9: 1 día | E9: 1729400 | F9: 2057986 | G9: 1 día | H9: 1400000 | I9: =(H9*19%)+H9 -> 1666000 | J9: 1 día | K9: 3200000 | L9: 3808000 | M9: 1 día | N9: 3500000 | O9: =N9+(N9*19%) -> 4165000 | P9: 1 día | Q9: 2000000 | R9: =Q9*19%+Q9 -> 2380000 | S9: 1 día | T9: 2287120 | U9: =T9*1.19 -> 2721672.8 | V9: 1 día | W9: 2500000 | X9: =W9*1.19 -> 2975000 | Y9: 1 día | Z9: 1992870 | AA9: =Z9+(Z9*19%) -> 2371515.3 | AB9: 1 día | AC9: 2400000 | AD9: =AC9*19%+AC9 -> 2856000 | AE9: 1 día | AF9: 2075280 | AG9: =+AF9*1.19 -> 2469583.2 | AH9: 1 día | AI9: 1860000 | AJ9: =+AI9*19%+AI9 -> 2213400 | AK9: 1 día | AL9: 4000000 | AM9: =AL9+(AL9*19%) -> 4760000 | AN9: 1 día | AO9: 1692018 | AP9: 2013501 | AQ9: 1 día | AR9: =MEDIAN(E9,H9,K9,N9,Q9,T9,W9,Z9,AC9,AF9,AI9,AL9,AO9) -> 2075280 | AS9: =MEDIAN(F9,I9,L9,O9,R9,U9,X9,AA9,AD9,AG9,AJ9,AM9,AP9) -> 2469583.2
D10: 1 día adicional | E10: 1296800 | F10: 1543192 | G10: 1 día adicional | H10: 1400000 | I10: =(H10*19%)+H10 -> 1666000 | J10: 1 día adicional | K10: 2200000 | L10: 2618000 | M10: 1 día adicional | N10: 3500000 | O10: =N10+(N10*19%) -> 4165000 | P10: 1 día adicional | Q10: 1800000 | R10: =Q10*19%+Q10 -> 2142000 | S10: 1 día adicional | T10: 1887600 | U10: =T10*1.19 -> 2246244 | V10: 1 día adicional | W10: 2500000 | X10: =W10*1.19 -> 2975000 | Y10: 1 día adicional | Z10: 1494350 | AA10: =Z10+(Z10*19%) -> 1778276.5 | AB10: 1 día adicional | AC10: 2000000 | AD10: =AC10*19%+AC10 -> 2380000 | AE10: 1 día adicional | AF10: 1556160 | AG10: =+AF10*1.19 -> 1851830.4 | AH10: 1 día adicional | AI10: 1860000 | AJ10: =+AI10*19%+AI10 -> 2213400 | AK10: 1 día adicional | AL10: 4000000 | AM10: =AL10+(AL10*19%) -> 4760000 | AN10: 1 día adicional | AO10: 1419048 | AP10: 1688667 | AQ10: 1 día adicional | AR10: =MEDIAN(E10,H10,K10,N10,Q10,T10,W10,Z10,AC10,AF10,AI10,AL10,AO10) -> 1860000 | AS10: =MEDIAN(F10,I10,L10,O10,R10,U10,X10,AA10,AD10,AG10,AJ10,AM10,AP10) -> 2213400
B11: Sala alterna para 50 personas | D11: 1 día | E11: 2162000 | F11: 2572780 | G11: 1 día | H11: 2690000 | I11: =(H11*19%)+H11 -> 3201100 | J11: 1 día | K11: 4200000 | L11: 4998000 | M11: 1 día | N11: 6950000 | O11: =N11+(N11*19%) -> 8270500 | P11: 1 día | Q11: 6000000 | R11: =Q11*19%+Q11 -> 7140000 | S11: 1 día | T11: 4000700 | U11: =T11*1.19 -> 4760833 | V11: 1 día | W11: 3333000 | X11: =W11*1.19 -> 3966270 | Y11: 1 día | Z11: 2491390 | AA11: =Z11+(Z11*19%) -> 2964754.1 | AB11: 1 día | AC11: 3500000 | AD11: =AC11*19%+AC11 -> 4165000 | AE11: 1 día | AF11: 2594400 | AG11: =+AF11*1.19 -> 3087336 | AH11: 1 día | AI11: 3600000 | AJ11: =+AI11*19%+AI11 -> 4284000 | AK11: 1 día | AL11: 5200000 | AM11: =AL11+(AL11*19%) -> 6188000 | AN11: 1 día | AO11: 2811330 | AP11: 3345483 | AQ11: 1 día | AR11: =MEDIAN(E11,H11,K11,N11,Q11,T11,W11,Z11,AC11,AF11,AI11,AL11,AO11) -> 3500000 | AS11: =MEDIAN(F11,I11,L11,O11,R11,U11,X11,AA11,AD11,AG11,AJ11,AM11,AP11) -> 4165000
D12: 1 día adicional | E12: 1729400 | F12: 2057986 | G12: 1 día adicional | H12: 2690000 | I12: =(H12*19%)+H12 -> 3201100 | J12: 1 día adicional | K12: 3100000 | L12: 3689000 | M12: 1 día adicional | N12: 6950000 | O12: =N12+(N12*19%) -> 8270500 | P12: 1 día adicional | Q12: 5000000 | R12: =Q12*19%+Q12 -> 5950000 | S12: 1 día adicional | T12: 3399000 | U12: =T12*1.19 -> 4044810 | V12: 1 día adicional | W12: 3333000 | X12: =W12*1.19 -> 3966270 | Y12: 1 día adicional | Z12: 1992870 | AA12: =Z12+(Z12*19%) -> 2371515.3 | AB12: 1 día adicional | AC12: 2916666 | AD12: =AC12*19%+AC12 -> 3470832.5 | AE12: 1 día adicional | AF12: 2075280 | AG12: =+AF12*1.19 -> 2469583.2 | AH12: 1 día adicional | AI12: 3600000 | AJ12: =+AI12*19%+AI12 -> 4284000 | AK12: 1 día adicional | AL12: 5200000 | AM12: =AL12+(AL12*19%) -> 6188000 | AN12: 1 día adicional | AO12: 2373575 | AP12: 2824554 | AQ12: 1 día adicional | AR12: =MEDIAN(E12,H12,K12,N12,Q12,T12,W12,Z12,AC12,AF12,AI12,AL12,AO12) -> 3100000 | AS12: =MEDIAN(F12,I12,L12,O12,R12,U12,X12,AA12,AD12,AG12,AJ12,AM12,AP12) -> 3689000
B13: Carpa 2x2 m | C13: Carpa sin paredes laterales, con instalación y desinstalación | D13: 1 a 10 | E13: 431600 | F13: 513604 | G13: 1 a 10 | H13: 350000 | I13: =(H13*19%)+H13 -> 416500 | J13: 1 a 10 | K13: 240000 | L13: 285600 | M13: 1 a 10 | N13: 494000 | O13: =N13+(N13*19%) -> 587860 | P13: 1 a 10 | Q13: 350000 | R13: =Q13*19%+Q13 -> 416500 | S13: 1 a 10 | T13: 389620 | U13: =T13*1.19 -> 463647.8 | V13: 1 a 10 | W13: 667000 | X13: =W13*1.19 -> 793730 | Y13: 1 a 10 | Z13: 497310 | AA13: =Z13+(Z13*19%) -> 591798.9 | AB13: 1 a 10 | AC13: 390000 | AD13: =AC13*19%+AC13 -> 464100 | AE13: 1 a 10 | AF13: 448864 | AG13: =+AF13*1.19 -> 534148.16 | AH13: 1 a 10 | AI13: 510000 | AJ13: =+AI13*19%+AI13 -> 606900 | AK13: 1 a 10 | AL13: 337337 | AM13: =+AL13+(AL13*19%) -> 401431.03 | AN13: 1 a 10 | AO13: 292620 | AP13: 348218 | AQ13: 1 a 10 | AR13: =MEDIAN(E13,H13,K13,N13,Q13,T13,W13,Z13,AC13,AF13,AI13,AL13,AO13) -> 390000 | AS13: =MEDIAN(F13,I13,L13,O13,R13,U13,X13,AA13,AD13,AG13,AJ13,AM13,AP13) -> 464100
E14: 409500 | F14: 487305 | H14: 290000 | I14: =(H14*19%)+H14 -> 345100 | K14: 240000 | L14: 285600 | R14: =Q14*19%+Q14 -> 0 | T14: 389620 | U14: =T14*1.19 -> 463647.8 | W14: 667000 | X14: =W14*1.19 -> 793730 | Z14: 471900 | AA14: =Z14+(Z14*19%) -> 561561 | AC14: 325000 | AD14: =AC14*19%+AC14 -> 386750 | AF14: 425880 | AG14: =+AF14*1.19 -> 506797.2 | AI14: 384000 | AJ14: =+AI14*19%+AI14 -> 456960 | AL14: 303603 | AM14: =+AL14+(AL14*19%) -> 361287.57 | AO14: 262860 | AP14: 312803 | AR14: =MEDIAN(E14,H14,K14,N14,Q14,T14,W14,Z14,AC14,AF14,AI14,AL14,AO14) -> 384000 | AS14: =MEDIAN(F14,I14,L14,O14,R14,U14,X14,AA14,AD14,AG14,AJ14,AM14,AP14) -> 421855
B15: Carpa 3x3 m | C15: Carpa con paredes laterales, con instalación y desinstalación | D15: 1 a 10 | E15: 517700 | F15: 616063 | G15: 1 a 10 | H15: 425000 | I15: =(H15*19%)+H15 -> 505750 | J15: 1 a 10 | K15: 500000 | L15: 595000 | M15: 1 a 10 | N15: 546000 | O15: =N15+(N15*19%) -> 649740 | P15: 1 a 10 | Q15: 650000 | R15: =Q15*19%+Q15 -> 773500 | S15: 1 a 10 | T15: 473110 | U15: =T15*1.19 -> 563000.9 | V15: 1 a 10 | W15: 767000 | X15: =W15*1.19 -> 912730 | Y15: 1 a 10 | Z15: 596530 | AA15: =Z15+(Z15*19%) -> 709870.7 | AB15: 1 a 10 | AC15: 585000 | AD15: =AC15*19%+AC15 -> 696150 | AE15: 1 a 10 | AF15: 538408 | AG15: =+AF15*1.19 -> 640705.52 | AH15: 1 a 10 | AI15: 570000 | AJ15: =+AI15*19%+AI15 -> 678300 | AK15: 1 a 10 | AL15: 415100 | AM15: =+AL15+(AL15*19%) -> 493969 | AN15: 1 a 10 | AO15: 375974 | AP15: 447410 | AQ15: 1 a 10 | AR15: =MEDIAN(E15,H15,K15,N15,Q15,T15,W15,Z15,AC15,AF15,AI15,AL15,AO15) -> 538408 | AS15: =MEDIAN(F15,I15,L15,O15,R15,U15,X15,AA15,AD15,AG15,AJ15,AM15,AP15) -> 640705.52
D16: 10 en adelante | E16: 453600 | F16: 539784 | G16: 10 en adelante | H16: 320000 | I16: =(H16*19%)+H16 -> 380800 | J16: 10 en adelante | K16: 470000 | L16: 559300 | M16: 10 en adelante | N16: 507000 | O16: =N16+(N16*19%) -> 603330 | P16: 10 en adelante | Q16: 450000 | R16: =Q16*19%+Q16 -> 535500 | S16: 10 en adelante | T16: 236555 | U16: =T16*1.19 -> 281500.45 | V16: 10 en adelante | W16: 767000 | X16: =W16*1.19 -> 912730 | Y16: 10 en adelante | Z16: 522720 | AA16: =Z16+(Z16*19%) -> 622036.8 | AB16: 10 en adelante | AC16: 487500 | AD16: =AC16*19%+AC16 -> 580125 | AE16: 10 en adelante | AF16: 471744 | AG16: =+AF16*1.19 -> 561375.36 | AH16: 10 en adelante | AI16: 420000 | AJ16: =+AI16*19%+AI16 -> 499800 | AK16: 10 en adelante | AL16: 373590 | AM16: =+AL16+(AL16*19%) -> 444572.1 | AN16: 10 en adelante | AO16: 350028 | AP16: 416533 | AQ16: 10 en adelante | AR16: =MEDIAN(E16,H16,K16,N16,Q16,T16,W16,Z16,AC16,AF16,AI16,AL16,AO16) -> 453600 | AS16: =MEDIAN(F16,I16,L16,O16,R16,U16,X16,AA16,AD16,AG16,AJ16,AM16,AP16) -> 539784
B17: Carpa 4x4 m | C17: Carpa con paredes laterales, con instalación y desinstalación | D17: 1 a 10 | E17: 637400 | F17: 758506 | G17: 1 a 10 | H17: 470000 | I17: =(H17*19%)+H17 -> 559300 | J17: 1 a 10 | K17: 560000 | L17: 666400 | M17: 1 a 10 | N17: 624000 | O17: =N17+(N17*19%) -> 742560 | P17: 1 a 10 | Q17: 950000 | R17: =Q17*19%+Q17 -> 1130500 | S17: 1 a 10 | T17: 473110 | U17: =T17*1.19 -> 563000.9 | V17: 1 a 10 | W17: 917000 | X17: =W17*1.19 -> 1091230 | Y17: 1 a 10 | Z17: 734470 | AA17: =Z17+(Z17*19%) -> 874019.3 | AB17: 1 a 10 | AC17: 605000 | AD17: =AC17*19%+AC17 -> 719950 | AE17: 1 a 10 | AF17: 662896 | AG17: =+AF17*1.19 -> 788846.24 | AH17: 1 a 10 | AI17: 630000 | AJ17: =+AI17*19%+AI17 -> 749700 | AK17: 1 a 10 | AL17: 441133 | AM17: =+AL17+(AL17*19%) -> 524948.27 | AN17: 1 a 10 | AO17: 558978 | AP17: 665184 | AQ17: 1 a 10 | AR17: =MEDIAN(E17,H17,K17,N17,Q17,T17,W17,Z17,AC17,AF17,AI17,AL17,AO17) -> 624000 | AS17: =MEDIAN(F17,I17,L17,O17,R17,U17,X17,AA17,AD17,AG17,AJ17,AM17,AP17) -> 742560
D18: 10 en adelante | E18: 550200 | F18: 654738 | G18: 10 en adelante | H18: 360000 | I18: =(H18*19%)+H18 -> 428400 | J18: 10 en adelante | K18: 530000 | L18: 630700 | M18: 10 en adelante | N18: 559000 | O18: =N18+(N18*19%) -> 665210 | P18: 10 en adelante | Q18: 850000 | R18: =Q18*19%+Q18 -> 1011500 | S18: 10 en adelante | T18: 236555 | U18: =T18*1.19 -> 281500.45 | V18: 10 en adelante | W18: 917000 | X18: =W18*1.19 -> 1091230 | Y18: 10 en adelante | Z18: 634040 | AA18: =Z18+(Z18*19%) -> 754507.6 | AB18: 10 en adelante | AC18: 504200 | AD18: =AC18*19%+AC18 -> 599998 | AE18: 10 en adelante | AF18: 572208 | AG18: =+AF18*1.19 -> 680927.52 | AH18: 10 en adelante | AI18: 480000 | AJ18: =+AI18*19%+AI18 -> 571200 | AK18: 10 en adelante | AL18: 397019.7 | AM18: =+AL18+(AL18*19%) -> 472453.44 | AN18: 10 en adelante | AO18: 533228 | AP18: 634542 | AQ18: 10 en adelante | AR18: =MEDIAN(E18,H18,K18,N18,Q18,T18,W18,Z18,AC18,AF18,AI18,AL18,AO18) -> 533228 | AS18: =MEDIAN(F18,I18,L18,O18,R18,U18,X18,AA18,AD18,AG18,AJ18,AM18,AP18) -> 634542
B19: Carpa 2x2 m | C19: Carpa con paredes laterales y piso en estiba, con instalación y desinstalación | D19: 1 a 10 | E19: 431600 | F19: 513604 | G19: 1 a 10 | H19: 490000 | I19: =(H19*19%)+H19 -> 583100 | J19: 1 a 10 | K19: 1300000 | L19: 1547000 | M19: 1 a 10 | N19: 858000 | O19: =N19+(N19*19%) -> 1021020 | P19: 1 a 10 | Q19: 850000 | R19: =Q19*19%+Q19 -> 1011500 | S19: 1 a 10 | T19: 465300 | U19: =T19*1.19 -> 553707 | V19: 1 a 10 | W19: 800000 | X19: =W19*1.19 -> 952000 | Y19: 1 a 10 | Z19: 497310 | AA19: =Z19+(Z19*19%) -> 591798.9 | AB19: 1 a 10 | AC19: 435000 | AD19: =AC19*19%+AC19 -> 517650 | AE19: 1 a 10 | AF19: 448864 | AG19: =+AF19*1.19 -> 534148.16 | AH19: 1 a 10 | AI19: 816000 | AJ19: =+AI19*19%+AI19 -> 971040 | AK19: 1 a 10 | AL19: 648725 | AM19: =+AL19+(AL19*19%) -> 771982.75 | AN19: 1 a 10 | AO19: 353284 | AP19: 420407 | AQ19: 1 a 10 | AR19: =MEDIAN(E19,H19,K19,N19,Q19,T19,W19,Z19,AC19,AF19,AI19,AL19,AO19) -> 497310 | AS19: =MEDIAN(F19,I19,L19,O19,R19,U19,X19,AA19,AD19,AG19,AJ19,AM19,AP19) -> 591798.9
D20: 10 en adelante | E20: 409500 | F20: 487305 | G20: 10 en adelante | H20: 400000 | I20: =(H20*19%)+H20 -> 476000 | J20: 10 en adelante | K20: 1280000 | L20: 1523200 | M20: 10 en adelante | N20: 767000 | O20: =N20+(N20*19%) -> 912730 | P20: 10 en adelante | Q20: 700000 | R20: =Q20*19%+Q20 -> 833000 | S20: 10 en adelante | T20: 425480 | U20: =T20*1.19 -> 506321.2 | V20: 10 en adelante | W20: 800000 | X20: =W20*1.19 -> 952000 | Y20: 10 en adelante | Z20: 471900 | AA20: =Z20+(Z20*19%) -> 561561 | AB20: 10 en adelante | AC20: 362500 | AD20: =AC20*19%+AC20 -> 431375 | AE20: 10 en adelante | AF20: 425880 | AG20: =+AF20*1.19 -> 506797.2 | AH20: 10 en adelante | AI20: 614400 | AJ20: =+AI20*19%+AI20 -> 731136 | AK20: 10 en adelante | AL20: 583852.5 | AM20: =+AL20+(AL20*19%) -> 694784.47 | AN20: 10 en adelante | AO20: 319030 | AP20: 379645 | AQ20: 10 en adelante | AR20: =MEDIAN(E20,H20,K20,N20,Q20,T20,W20,Z20,AC20,AF20,AI20,AL20,AO20) -> 471900 | AS20: =MEDIAN(F20,I20,L20,O20,R20,U20,X20,AA20,AD20,AG20,AJ20,AM20,AP20) -> 561561
B21: Carpa 3x3 m | C21: Carpa con paredes laterales y piso en estiba, con instalación y desinstalación | D21: 1 a 10 | E21: 517700 | F21: 616063 | G21: 1 a 10 | H21: 590000 | I21: =(H21*19%)+H21 -> 702100 | J21: 1 a 10 | K21: 1600000 | L21: 1904000 | M21: 1 a 10 | N21: 1014000 | O21: =N21+(N21*19%) -> 1206660 | P21: 1 a 10 | Q21: 1200000 | R21: =Q21*19%+Q21 -> 1428000 | S21: 1 a 10 | T21: 541200 | U21: =T21*1.19 -> 644028 | V21: 1 a 10 | W21: 920000 | X21: =W21*1.19 -> 1094800 | Y21: 1 a 10 | Z21: 596530 | AA21: =Z21+(Z21*19%) -> 709870.7 | AB21: 1 a 10 | AC21: 622000 | AD21: =AC21*19%+AC21 -> 740180 | AE21: 1 a 10 | AF21: 538408 | AG21: =+AF21*1.19 -> 640705.52 | AH21: 1 a 10 | AI21: 912000 | AJ21: =+AI21*19%+AI21 -> 1085280 | AK21: 1 a 10 | AL21: 1115723 | AM21: =+AL21+(AL21*19%) -> 1327710.4 | AN21: 1 a 10 | AO21: 453912 | AP21: 540156 | AQ21: 1 a 10 | AR21: =MEDIAN(E21,H21,K21,N21,Q21,T21,W21,Z21,AC21,AF21,AI21,AL21,AO21) -> 622000 | AS21: =MEDIAN(F21,I21,L21,O21,R21,U21,X21,AA21,AD21,AG21,AJ21,AM21,AP21) -> 740180
D22: 10 en adelante | E22: 453600 | F22: 539784 | G22: 10 en adelante | H22: 450000 | I22: =(H22*19%)+H22 -> 535500 | J22: 10 en adelante | K22: 1580000 | L22: 1880200 | M22: 10 en adelante | N22: 936000 | O22: =N22+(N22*19%) -> 1113840 | P22: 10 en adelante | Q22: 1000000 | R22: =Q22*19%+Q22 -> 1190000 | S22: 10 en adelante | T22: 531300 | U22: =T22*1.19 -> 632247 | V22: 10 en adelante | W22: 920000 | X22: =W22*1.19 -> 1094800 | Y22: 10 en adelante | Z22: 522720 | AA22: =Z22+(Z22*19%) -> 622036.8 | AB22: 10 en adelante | AC22: 518334 | AD22: =AC22*19%+AC22 -> 616817.46 | AE22: 10 en adelante | AF22: 471744 | AG22: =+AF22*1.19 -> 561375.36 | AH22: 10 en adelante | AI22: 672000 | AJ22: =+AI22*19%+AI22 -> 799680 | AK22: 10 en adelante | AL22: 1004150.7 | AM22: =+AL22+(AL22*19%) -> 1194939.3 | AN22: 10 en adelante | AO22: 428744 | AP22: 510206 | AQ22: 10 en adelante | AR22: =MEDIAN(E22,H22,K22,N22,Q22,T22,W22,Z22,AC22,AF22,AI22,AL22,AO22) -> 531300 | AS22: =MEDIAN(F22,I22,L22,O22,R22,U22,X22,AA22,AD22,AG22,AJ22,AM22,AP22) -> 632247
B23: Carpa 4x4 m | C23: Carpa con paredes laterales y piso en estiba, con instalación y desinstalación | D23: 1 a 10 | E23: 637400 | F23: 758506 | G23: 1 a 10 | H23: 660000 | I23: =(H23*19%)+H23 -> 785400 | J23: 1 a 10 | K23: 1950000 | L23: 2320500 | M23: 1 a 10 | N23: 1248000 | O23: =N23+(N23*19%) -> 1485120 | P23: 1 a 10 | Q23: 1750000 | R23: =Q23*19%+Q23 -> 2082500 | S23: 1 a 10 | T23: 806300 | U23: =T23*1.19 -> 959497 | V23: 1 a 10 | W23: 1100000 | X23: =W23*1.19 -> 1309000 | Y23: 1 a 10 | Z23: 734470 | AA23: =Z23+(Z23*19%) -> 874019.3 | AB23: 1 a 10 | AC23: 680000 | AD23: =AC23*19%+AC23 -> 809200 | AE23: 1 a 10 | AF23: 662896 | AG23: =+AF23*1.19 -> 788846.24 | AH23: 1 a 10 | AI23: 1008000 | AJ23: =+AI23*19%+AI23 -> 1199520 | AK23: 1 a 10 | AL23: 1686685 | AM23: =+AL23+(AL23*19%) -> 2007155.1 | AN23: 1 a 10 | AO23: 708268 | AP23: 842839 | AQ23: 1 a 10 | AR23: =MEDIAN(E23,H23,K23,N23,Q23,T23,W23,Z23,AC23,AF23,AI23,AL23,AO23) -> 806300 | AS23: =MEDIAN(F23,I23,L23,O23,R23,U23,X23,AA23,AD23,AG23,AJ23,AM23,AP23) -> 959497
D24: 10 en adelante | E24: 550200 | F24: 654738 | G24: 10 en adelante | H24: 580000 | I24: =(H24*19%)+H24 -> 690200 | J24: 10 en adelante | K24: 1930000 | L24: 2296700 | M24: 10 en adelante | N24: 1157000 | O24: =N24+(N24*19%) -> 1376830 | P24: 10 en adelante | Q24: 1500000 | R24: =Q24*19%+Q24 -> 1785000 | S24: 10 en adelante | T24: 789800 | U24: =T24*1.19 -> 939862 | V24: 10 en adelante | W24: 1100000 | X24: =W24*1.19 -> 1309000 | Y24: 10 en adelante | Z24: 634040 | AA24: =Z24+(Z24*19%) -> 754507.6 | AB24: 10 en adelante | AC24: 566666 | AD24: =AC24*19%+AC24 -> 674332.54 | AE24: 10 en adelante | AF24: 572208 | AG24: =+AF24*1.19 -> 680927.52 | AH24: 10 en adelante | AI24: 768000 | AJ24: =+AI24*19%+AI24 -> 913920 | AK24: 10 en adelante | AL24: 1518016.5 | AM24: =+AL24+(AL24*19%) -> 1806439.6 | AN24: 10 en adelante | AO24: 679042 | AP24: 808060 | AQ24: 10 en adelante | AR24: =MEDIAN(E24,H24,K24,N24,Q24,T24,W24,Z24,AC24,AF24,AI24,AL24,AO24) -> 768000 | AS24: =MEDIAN(F24,I24,L24,O24,R24,U24,X24,AA24,AD24,AG24,AJ24,AM24,AP24) -> 913920
B25: Carpa | C25: Carpa tipo hangar de 12 X 6 m con paredes laterales. Adecuación en laterales para evacuación, con anclajes y soportes certificados, con instalación y desinstalación | D25: 1 | E25: 2648100 | F25: 3151239 | G25: 1 | H25: 1400000 | I25: =(H25*19%)+H25 -> 1666000 | J25: 1 | K25: 2700000 | L25: 3213000 | M25: 1 | N25: 2145000 | O25: =N25+(N25*19%) -> 2552550 | P25: 1 | Q25: 7500000 | R25: =Q25*19%+Q25 -> 8925000 | S25: 1 | T25: 605000 | U25: =T25*1.19 -> 719950 | V25: 1 | W25: 7000000 | X25: =W25*1.19 -> 8330000 | Y25: 1 | Z25: 4161300 | AA25: =Z25+(Z25*19%) -> 4951947 | AB25: 1 | AC25: 2200000 | AD25: =AC25*19%+AC25 -> 2618000 | AE25: 1 | AF25: 3045315 | AG25: =+AF25*1.19 -> 3623924.8 | AH25: 1 | AI25: 1815000 | AJ25: =+AI25*19%+AI25 -> 2159850 | AK25: 1 | AL25: 1556940 | AM25: =+AL25+(AL25*19%) -> 1852758.6 | AN25: 1 | AO25: 3850000 | AP25: 4581500 | AQ25: 1 | AR25: =MEDIAN(E25,H25,K25,N25,Q25,T25,W25,Z25,AC25,AF25,AI25,AL25,AO25) -> 2648100 | AS25: =MEDIAN(F25,I25,L25,O25,R25,U25,X25,AA25,AD25,AG25,AJ25,AM25,AP25) -> 3151239
B26: Carpa | C26: Carpa tipo hangar de 12 X 24 m con paredes laterales. Adecuación en laterales para evacuación, con anclajes y soportes certificados, con instalación y desistalación | D26: 1 | E26: 6369300 | F26: 7579467 | G26: 1 | H26: 3900000 | I26: =(H26*19%)+H26 -> 4641000 | J26: 1 | K26: 5600000 | L26: 6664000 | M26: 1 | N26: 8580000 | O26: =N26+(N26*19%) -> 10210200 | P26: 1 | Q26: 12000000 | R26: =Q26*19%+Q26 -> 14280000 | S26: 1 | T26: 3179000 | U26: =T26*1.19 -> 3783010 | V26: 1 | W26: 20000000 | X26: =W26*1.19 -> 23800000 | Y26: 1 | Z26: 7673490 | AA26: =Z26+(Z26*19%) -> 9131453.1 | AB26: 1 | AC26: 4165000 | AD26: =AC26*19%+AC26 -> 4956350 | AE26: 1 | AF26: 7324695 | AG26: =+AF26*1.19 -> 8716387 | AH26: 1 | AI26: 5535000 | AJ26: =+AI26*19%+AI26 -> 6586650 | AK26: 1 | AL26: 6227760 | AM26: =+AL26+(AL26*19%) -> 7411034.4 | AN26: 1 | AO26: 10200000 | AP26: 12138000 | AQ26: 1 | AR26: =MEDIAN(E26,H26,K26,N26,Q26,T26,W26,Z26,AC26,AF26,AI26,AL26,AO26) -> 6369300 | AS26: =MEDIAN(F26,I26,L26,O26,R26,U26,X26,AA26,AD26,AG26,AJ26,AM26,AP26) -> 7579467
B27: Tarima 1,22 m x 4,88 m x 0,80 m | C27: Color negro, con doble ingreso (escaleras de acceso) y faldón, con instalación y desinstalación | D27: 1 | E27: 961800 | F27: 1144542 | G27: 1 | H27: 750000 | I27: =(H27*19%)+H27 -> 892500 | J27: 1 | K27: 400000 | L27: 476000 | M27: 1 | N27: 715000 | O27: =N27+(N27*19%) -> 850850 | P27: 1 | Q27: 800000 | R27: =Q27*19%+Q27 -> 952000 | S27: 1 | T27: 454444.1 | U27: =T27*1.19 -> 540788.48 | V27: 1 | W27: 2333000 | X27: =W27*1.19 -> 2776270 | Y27: 1 | Z27: 1108360 | AA27: =Z27+(Z27*19%) -> 1318948.4 | AB27: 1 | AC27: 1560000 | AD27: =AC27*19%+AC27 -> 1856400 | AE27: 1 | AF27: 1057980 | AG27: =+AF27*1.19 -> 1258996.2 | AH27: 1 | AI27: 1005000 | AJ27: =+AI27*19%+AI27 -> 1195950 | AK27: 1 | AL27: 289660 | AM27: =+AL27+(AL27*19%) -> 344695.4 | AN27: 1 | AO27: 1200000 | AP27: 1428000 | AQ27: 1 | AR27: =MEDIAN(E27,H27,K27,N27,Q27,T27,W27,Z27,AC27,AF27,AI27,AL27,AO27) -> 961800 | AS27: =MEDIAN(F27,I27,L27,O27,R27,U27,X27,AA27,AD27,AG27,AJ27,AM27,AP27) -> 1144542
B28: Tarima de 6.10 m x 4.88 m x 0,80 m | C28: Color negro, con doble ingreso (escaleras de acceso) y faldón, técnico de montaje. | D28: 1 | E28: 3081800 | F28: 3667342 | G28: 1 | H28: 990000 | I28: =(H28*19%)+H28 -> 1178100 | J28: 1 | K28: 2800000 | L28: 3332000 | M28: 1 | N28: 1274000 | O28: =N28+(N28*19%) -> 1516060 | P28: 1 | Q28: 1200000 | R28: =Q28*19%+Q28 -> 1428000 | S28: 1 | T28: 2117500 | U28: =T28*1.19 -> 2519825 | V28: 1 | W28: 3333000 | X28: =W28*1.19 -> 3966270 | Y28: 1 | Z28: 3551350 | AA28: =Z28+(Z28*19%) -> 4226106.5 | AB28: 1 | AC28: 1980000 | AD28: =AC28*19%+AC28 -> 2356200 | AE28: 1 | AF28: 3235890 | AG28: =+AF28*1.19 -> 3850709.1 | AH28: 1 | AI28: 1336200 | AJ28: =+AI28*19%+AI28 -> 1590078 | AK28: 1 | AL28: 1961680 | AM28: =+AL28+(AL28*19%) -> 2334399.2 | AN28: 1 | AO28: 2950000 | AP28: 3510500 | AQ28: 1 | AR28: =MEDIAN(E28,H28,K28,N28,Q28,T28,W28,Z28,AC28,AF28,AI28,AL28,AO28) -> 2117500 | AS28: =MEDIAN(F28,I28,L28,O28,R28,U28,X28,AA28,AD28,AG28,AJ28,AM28,AP28) -> 2519825
A29: SONIDO | B29: Cabina de sonido | C29: Montada sobre trípode, con instalación y desinstalación | D29: 1 día | E29: 1070000 | F29: 1273300 | G29: 1 día | H29: 320000 | I29: =(H29*19%)+H29 -> 380800 | J29: 1 día | K29: 350000 | L29: 416500 | M29: 1 día | N29: 416000 | O29: =N29+(N29*19%) -> 495040 | P29: 1 día | Q29: 250000 | R29: =Q29*19%+Q29 -> 297500 | S29: 1 día | T29: 239250 | U29: =T29*1.19 -> 284707.5 | V29: 1 día | W29: 3333000 | X29: =W29*1.19 -> 3966270 | Y29: 1 día | Z29: 1232990 | AA29: =Z29+(Z29*19%) -> 1467258.1 | AB29: 1 día | AC29: 950000 | AD29: =AC29*19%+AC29 -> 1130500 | AE29: 1 día | AF29: 1177000 | AG29: =+AF29*1.19 -> 1400630 | AH29: 1 día | AI29: 420000 | AJ29: =+AI29*19%+AI29 -> 499800 | AK29: 1 día | AL29: 518000 | AM29: =+AL29+(AL29*19%) -> 616420 | AN29: 1 día | AO29: 650000 | AP29: 773500 | AQ29: 1 día | AR29: =MEDIAN(E29,H29,K29,N29,Q29,T29,W29,Z29,AC29,AF29,AI29,AL29,AO29) -> 518000 | AS29: =MEDIAN(F29,I29,L29,O29,R29,U29,X29,AA29,AD29,AG29,AJ29,AM29,AP29) -> 616420
B30: Ingeniero de sonido | D30: 1 día | E30: 702500 | F30: 835975 | G30: 1 día | H30: 430000 | I30: =(H30*19%)+H30 -> 511700 | J30: 1 día | K30: 750000 | L30: 892500 | M30: 1 día | N30: 325000 | O30: =N30+(N30*19%) -> 386750 | P30: 1 día | Q30: 150000 | R30: =Q30*19%+Q30 -> 178500 | S30: 1 día | T30: 350900 | U30: =T30*1.19 -> 417571 | V30: 1 día | W30: 1333000 | X30: =W30*1.19 -> 1586270 | Y30: 1 día | Z30: 809490 | AA30: =Z30+(Z30*19%) -> 963293.1 | AB30: 1 día | AC30: 575000 | AD30: =AC30*19%+AC30 -> 684250 | AE30: 1 día | AF30: 730600 | AG30: =+AF30*1.19 -> 869414 | AH30: 1 día | AI30: 675000 | AJ30: =+AI30*19%+AI30 -> 803250 | AK30: 1 día | AL30: 1816430 | AM30: =+AL30+(AL30*19%) -> 2161551.7 | AN30: 1 día | AO30: 650000 | AP30: 773500 | AQ30: 1 día | AR30: =MEDIAN(E30,H30,K30,N30,Q30,T30,W30,Z30,AC30,AF30,AI30,AL30,AO30) -> 675000 | AS30: =MEDIAN(F30,I30,L30,O30,R30,U30,X30,AA30,AD30,AG30,AJ30,AM30,AP30) -> 803250
B31: Ingeniero de video | D31: 1 día | E31: 702500 | F31: 835975 | G31: 1 día | H31: 540000 | I31: =(H31*19%)+H31 -> 642600 | J31: 1 día | K31: 750000 | L31: 892500 | M31: 1 día | N31: 325000 | O31: =N31+(N31*19%) -> 386750 | P31: 1 día | Q31: 150000 | R31: =Q31*19%+Q31 -> 178500 | S31: 1 día | T31: 350900 | U31: =T31*1.19 -> 417571 | V31: 1 día | W31: 1333000 | X31: =W31*1.19 -> 1586270 | Y31: 1 día | Z31: 809490 | AA31: =Z31+(Z31*19%) -> 963293.1 | AB31: 1 día | AC31: 575000 | AD31: =AC31*19%+AC31 -> 684250 | AE31: 1 día | AF31: 730600 | AG31: =+AF31*1.19 -> 869414 | AH31: 1 día | AI31: 720000 | AJ31: =+AI31*19%+AI31 -> 856800 | AK31: 1 día | AL31: 1297450 | AM31: =+AL31+(AL31*19%) -> 1543965.5 | AN31: 1 día | AO31: 650000 | AP31: 773500 | AQ31: 1 día | AR31: =MEDIAN(E31,H31,K31,N31,Q31,T31,W31,Z31,AC31,AF31,AI31,AL31,AO31) -> 702500 | AS31: =MEDIAN(F31,I31,L31,O31,R31,U31,X31,AA31,AD31,AG31,AJ31,AM31,AP31) -> 835975
B32: Sonido básico | C32: De 20 a 50 pax con técnico de sonido para su operación. | D32: 1 día | E32: 1296800 | F32: 1543192 | G32: 1 día | H32: 1290000 | I32: =(H32*19%)+H32 -> 1535100 | J32: 1 día | K32: 700000 | L32: 833000 | M32: 1 día | N32: 1014000 | O32: =N32+(N32*19%) -> 1206660 | P32: 1 día | Q32: 1500000 | R32: =Q32*19%+Q32 -> 1785000 | S32: 1 día | T32: 2073500 | U32: =T32*1.19 -> 2467465 | V32: 1 día | W32: 2333000 | X32: =W32*1.19 -> 2776270 | Y32: 1 día | Z32: 1494350 | AA32: =Z32+(Z32*19%) -> 1778276.5 | AB32: 1 día | AC32: 2142000 | AD32: =AC32*19%+AC32 -> 2548980 | AE32: 1 día | AF32: 1621000 | AG32: =+AF32*1.19 -> 1928990 | AH32: 1 día | AI32: 1845000 | AJ32: =+AI32*19%+AI32 -> 2195550 | AK32: 1 día | AL32: 2075920 | AM32: =+AL32+(AL32*19%) -> 2470344.8 | AN32: 1 día | AO32: 900000 | AP32: 1071000 | AQ32: 1 día | AR32: =MEDIAN(E32,H32,K32,N32,Q32,T32,W32,Z32,AC32,AF32,AI32,AL32,AO32) -> 1500000 | AS32: =MEDIAN(F32,I32,L32,O32,R32,U32,X32,AA32,AD32,AG32,AJ32,AM32,AP32) -> 1785000
A33: SISTEMA DE AUDIO | B33: Sonido de 3000 watts: para su operación. | C33: Cabinas auto potenciadas con base, consola mínimo de 16 canales análoga, reproductor de cd doble bandeja, mp3, puerto USB, cableado de señal, acometidas eléctricas, kit de 6 micrófonos alámbricos de mano, 6 micrófonos inalámbricos de mano, ingeniero de sonido, técnico de sonido, todos los elementos requeridos de solapa, 2 micrófonos de diadema, y todos los elementos requeridos para su operación. | D33: 1 día | E33: 1793400 | F33: 2134146 | G33: 1 día | H33: 2600000 | I33: =(H33*19%)+H33 -> 3094000 | J33: 1 día | K33: 2800000 | L33: 3332000 | M33: 1 día | N33: 0 | O33: =N33+(N33*19%) -> 0 | P33: 1 día | Q33: 3000000 | R33: =Q33*19%+Q33 -> 3570000 | S33: 1 día | T33: 9570000 | U33: =T33*1.19 -> 11388300 | V33: 1 día | W33: 7500000 | X33: =W33*1.19 -> 8925000 | Y33: 1 día | Z33: 2066680 | AA33: =Z33+(Z33*19%) -> 2459349.2 | AB33: 1 día | AC33: 3300000 | AD33: =AC33*19%+AC33 -> 3927000 | AE33: 1 día | AF33: 1972740 | AG33: =+AF33*1.19 -> 2347560.6 | AH33: 1 día | AI33: 2835000 | AJ33: =+AI33*19%+AI33 -> 3373650 | AK33: 1 día | AL33: 3892350 | AM33: =+AL33+(AL33*19%) -> 4631896.5 | AN33: 1 día | AO33: 6530652 | AP33: 7771476 | AQ33: 1 día | AR33: =MEDIAN(E33,H33,K33,N33,Q33,T33,W33,Z33,AC33,AF33,AI33,AL33,AO33) -> 2835000 | AS33: =MEDIAN(F33,I33,L33,O33,R33,U33,X33,AA33,AD33,AG33,AJ33,AM33,AP33) -> 3373650
D34: 1 día adicional | E34: 1610700 | F34: 1916733 | G34: 1 día adicional | H34: 1350000 | I34: =(H34*19%)+H34 -> 1606500 | J34: 1 día adicional | K34: 600000 | L34: 714000 | M34: 1 día adicional | N34: 5980000 | O34: =N34+(N34*19%) -> 7116200 | P34: 1 día adicional | Q34: 1000000 | R34: =Q34*19%+Q34 -> 1190000 | S34: 1 día adicional | T34: 5940000 | U34: =T34*1.19 -> 7068600 | V34: 1 día adicional | W34: 7500000 | X34: =W34*1.19 -> 8925000 | Y34: 1 día adicional | Z34: 1856140 | AA34: =Z34+(Z34*19%) -> 2208806.6 | AB34: 1 día adicional | AC34: 3665200 | AD34: =AC34*19%+AC34 -> 4361588 | AE34: 1 día adicional | AF34: 2013375 | AG34: =+AF34*1.19 -> 2395916.2 | AH34: 1 día adicional | AI34: 1845000 | AJ34: =+AI34*19%+AI34 -> 2195550 | AK34: 1 día adicional | AL34: 2919262.5 | AM34: =+AL34+(AL34*19%) -> 3473922.4 | AN34: 1 día adicional | AO34: 4987880 | AP34: 5935578 | AQ34: 1 día adicional | AR34: =MEDIAN(E34,H34,K34,N34,Q34,T34,W34,Z34,AC34,AF34,AI34,AL34,AO34) -> 2013375 | AS34: =MEDIAN(F34,I34,L34,O34,R34,U34,X34,AA34,AD34,AG34,AJ34,AM34,AP34) -> 2395916.2
B35: Sonido 6000 a 10000 watts: sistema line array, | C35: Consola mínimo de 32 canales digital para PA y consola de monitoreo de 36 canales, reproductor de cd doble bandeja, mp3, puerto USB, cableado de señal, acometidas eléctricas, kit de 6 micrófonos alámbricos de mano, 3 micrófonos inalámbricos de mano, 2 micrófonos de solapa, 2 micrófonos de diadema, ingeniero de sonido, técnico de sonido y todos los elementos requeridos para su operación. | D35: 1 día | E35: 2692200 | F35: 3203718 | G35: 1 día | H35: 6350000 | I35: =(H35*19%)+H35 -> 7556500 | J35: 1 día | K35: 3800000 | L35: 4522000 | M35: 1 día | N35: 7280000 | O35: =N35+(N35*19%) -> 8663200 | P35: 1 día | Q35: 6000000 | R35: =Q35*19%+Q35 -> 7140000 | S35: 1 día | T35: 10340000 | U35: =T35*1.19 -> 12304600 | V35: 1 día | W35: 26667000 | X35: =W35*1.19 -> 31733730 | Y35: 1 día | Z35: 3102440 | AA35: =Z35+(Z35*19%) -> 3691903.6 | AB35: 1 día | AC35: 6000000 | AD35: =AC35*19%+AC35 -> 7140000 | AE35: 1 día | AF35: 3365250 | AG35: =+AF35*1.19 -> 4004647.5 | AH35: 1 día | AI35: 8505000 | AJ35: =+AI35*19%+AI35 -> 10120950 | AK35: 1 día | AL35: 21277200 | AM35: =+AL35+(AL35*19%) -> 25319868 | AN35: 1 día | AO35: 10800000 | AP35: 12852000 | AQ35: 1 día | AR35: =MEDIAN(E35,H35,K35,N35,Q35,T35,W35,Z35,AC35,AF35,AI35,AL35,AO35) -> 6350000 | AS35: =MEDIAN(F35,I35,L35,O35,R35,U35,X35,AA35,AD35,AG35,AJ35,AM35,AP35) -> 7556500
B36: Sonido de 1000 watts: cabinas auto potenciadas con base | C36: Consola mínimo de 8 canales análoga, reproductor de cd doble bandeja, mp3, puerto USB, cableado de señal, acometidas eléctricas, kit de 3 micrófonos inalámbricos de mano, 1 micrófono de solapa, ingeniero de sonido, técnico de sonido y todos los elementos requeridos para su operación. | D36: 1 día | E36: 2378300 | F36: 2830177 | G36: 1 día | H36: 1650000 | I36: =(H36*19%)+H36 -> 1963500 | J36: 1 día | K36: 1950000 | L36: 2320500 | M36: 1 día | N36: 1495000 | O36: =N36+(N36*19%) -> 1779050 | P36: 1 día | Q36: 3000000 | R36: =Q36*19%+Q36 -> 3570000 | S36: 1 día | T36: 7053200 | U36: =T36*1.19 -> 8393308 | V36: 1 día | W36: 3333000 | X36: =W36*1.19 -> 3966270 | Y36: 1 día | Z36: 2740650 | AA36: =Z36+(Z36*19%) -> 3261373.5 | AB36: 1 día | AC36: 3300000 | AD36: =AC36*19%+AC36 -> 3927000 | AE36: 1 día | AF36: 2972875 | AG36: =+AF36*1.19 -> 3537721.2 | AH36: 1 día | AI36: 2175000 | AJ36: =+AI36*19%+AI36 -> 2588250 | AK36: 1 día | AL36: 6746740 | AM36: =+AL36+(AL36*19%) -> 8028620.6 | AN36: 1 día | AO36: 4166677 | AP36: 4958346 | AQ36: 1 día | AR36: =MEDIAN(E36,H36,K36,N36,Q36,T36,W36,Z36,AC36,AF36,AI36,AL36,AO36) -> 2972875 | AS36: =MEDIAN(F36,I36,L36,O36,R36,U36,X36,AA36,AD36,AG36,AJ36,AM36,AP36) -> 3537721.2
B37: 1 Micrófono inalámbrico de mano | D37: 1 día | E37: 204800 | F37: 243712 | G37: 1 día | H37: 160000 | I37: =(H37*19%)+H37 -> 190400 | J37: 1 día | K37: 280000 | L37: 333200 | M37: 1 día | N37: 162500 | O37: =N37+(N37*19%) -> 193375 | P37: 1 día | Q37: 100000 | R37: =Q37*19%+Q37 -> 119000 | S37: 1 día | T37: 212355 | U37: =T37*1.19 -> 252702.45 | V37: 1 día | W37: 500000 | X37: =W37*1.19 -> 595000 | Y37: 1 día | Z37: 235950 | AA37: =Z37+(Z37*19%) -> 280780.5 | AB37: 1 día | AC37: 308600 | AD37: =AC37*19%+AC37 -> 367234 | AE37: 1 día | AF37: 256000 | AG37: =+AF37*1.19 -> 304640 | AH37: 1 día | AI37: 210000 | AJ37: =+AI37*19%+AI37 -> 249900 | AK37: 1 día | AL37: 467082 | AM37: =+AL37+(AL37*19%) -> 555827.58 | AN37: 1 día | AO37: 182597 | AP37: 217290 | AQ37: 1 día | AR37: =MEDIAN(E37,H37,K37,N37,Q37,T37,W37,Z37,AC37,AF37,AI37,AL37,AO37) -> 212355 | AS37: =MEDIAN(F37,I37,L37,O37,R37,U37,X37,AA37,AD37,AG37,AJ37,AM37,AP37) -> 252702.45
D38: 1 día adicional | E38: 172200 | F38: 204918 | G38: 1 día adicional | H38: 115000 | I38: =(H38*19%)+H38 -> 136850 | J38: 1 día adicional | K38: 200000 | L38: 238000 | M38: 1 día adicional | N38: 123500 | O38: =N38+(N38*19%) -> 146965 | P38: 1 día adicional | Q38: 50000 | R38: =Q38*19%+Q38 -> 59500 | S38: 1 día adicional | T38: 179685 | U38: =T38*1.19 -> 213825.15 | V38: 1 día adicional | W38: 500000 | X38: =W38*1.19 -> 595000 | Y38: 1 día adicional | Z38: 198440 | AA38: =Z38+(Z38*19%) -> 236143.6 | AB38: 1 día adicional | AC38: 259400 | AD38: =AC38*19%+AC38 -> 308686 | AE38: 1 día adicional | AF38: 215250 | AG38: =+AF38*1.19 -> 256147.5 | AH38: 1 día adicional | AI38: 150000 | AJ38: =+AI38*19%+AI38 -> 178500 | AK38: 1 día adicional | AL38: 350311.5 | AM38: =+AL38+(AL38*19%) -> 416870.68 | AN38: 1 día adicional | AO38: 147060 | AP38: 175002 | AQ38: 1 día adicional | AR38: =MEDIAN(E38,H38,K38,N38,Q38,T38,W38,Z38,AC38,AF38,AI38,AL38,AO38) -> 179685 | AS38: =MEDIAN(F38,I38,L38,O38,R38,U38,X38,AA38,AD38,AG38,AJ38,AM38,AP38) -> 213825.15
B39: 1 Micrófono inalámbrico de solapa | D39: 1 día | E39: 264600 | F39: 314874 | G39: 1 día | H39: 202000 | I39: =(H39*19%)+H39 -> 240380 | J39: 1 día | K39: 290000 | L39: 345100 | M39: 1 día | N39: 123500 | O39: =N39+(N39*19%) -> 146965 | P39: 1 día | Q39: 100000 | R39: =Q39*19%+Q39 -> 119000 | S39: 1 día | T39: 212355 | U39: =T39*1.19 -> 252702.45 | V39: 1 día | W39: 500000 | X39: =W39*1.19 -> 595000 | Y39: 1 día | Z39: 304920 | AA39: =Z39+(Z39*19%) -> 362854.8 | AB39: 1 día | AC39: 367000 | AD39: =AC39*19%+AC39 -> 436730 | AE39: 1 día | AF39: 330750 | AG39: =+AF39*1.19 -> 393592.5 | AH39: 1 día | AI39: 285000 | AJ39: =+AI39*19%+AI39 -> 339150 | AK39: 1 día | AL39: 467082 | AM39: =+AL39+(AL39*19%) -> 555827.58 | AN39: 1 día | AO39: 196360 | AP39: 233668 | AQ39: 1 día | AR39: =MEDIAN(E39,H39,K39,N39,Q39,T39,W39,Z39,AC39,AF39,AI39,AL39,AO39) -> 285000 | AS39: =MEDIAN(F39,I39,L39,O39,R39,U39,X39,AA39,AD39,AG39,AJ39,AM39,AP39) -> 339150
D40: 1 día adicional | E40: 226800 | F40: 269892 | G40: 1 día adicional | H40: 168000 | I40: =(H40*19%)+H40 -> 199920 | J40: 1 día adicional | K40: 210000 | L40: 249900 | M40: 1 día adicional | N40: 104000 | O40: =N40+(N40*19%) -> 123760 | P40: 1 día adicional | Q40: 50000 | R40: =Q40*19%+Q40 -> 59500 | S40: 1 día adicional | T40: 179685 | U40: =T40*1.19 -> 213825.15 | V40: 1 día adicional | W40: 500000 | X40: =W40*1.19 -> 595000 | Y40: 1 día adicional | Z40: 261360 | AA40: =Z40+(Z40*19%) -> 311018.4 | AB40: 1 día adicional | AC40: 308335 | AD40: =AC40*19%+AC40 -> 366918.65 | AE40: 1 día adicional | AF40: 283500 | AG40: =+AF40*1.19 -> 337365 | AH40: 1 día adicional | AI40: 225000 | AJ40: =+AI40*19%+AI40 -> 267750 | AK40: 1 día adicional | AL40: 350311.5 | AM40: =+AL40+(AL40*19%) -> 416870.68 | AN40: 1 día adicional | AO40: 168308 | AP40: 200287 | AQ40: 1 día adicional | AR40: =MEDIAN(E40,H40,K40,N40,Q40,T40,W40,Z40,AC40,AF40,AI40,AL40,AO40) -> 225000 | AS40: =MEDIAN(F40,I40,L40,O40,R40,U40,X40,AA40,AD40,AG40,AJ40,AM40,AP40) -> 267750
B41: Caja de audio para prensa | C41: Con mínimo 12 entradas en canon, cableada y con elementos necesarios para entrar a la consola principal. | D41: 1 día | E41: 561800 | F41: 668542 | G41: 1 día | H41: 315000 | I41: =(H41*19%)+H41 -> 374850 | J41: 1 día | K41: 480000 | L41: 571200 | M41: 1 día | N41: 494000 | O41: =N41+(N41*19%) -> 587860 | P41: 1 día | Q41: 500000 | R41: =Q41*19%+Q41 -> 595000 | S41: 1 día | T41: 417450 | U41: =T41*1.19 -> 496765.5 | V41: 1 día | W41: 583000 | X41: =W41*1.19 -> 693770 | Y41: 1 día | Z41: 647350 | AA41: =Z41+(Z41*19%) -> 770346.5 | AB41: 1 día | AC41: 579250 | AD41: =AC41*19%+AC41 -> 689307.5 | AE41: 1 día | AF41: 617980 | AG41: =+AF41*1.19 -> 735396.2 | AH41: 1 día | AI41: 420000 | AJ41: =+AI41*19%+AI41 -> 499800 | AK41: 1 día | AL41: 588000 | AM41: =+AL41+(AL41*19%) -> 699720 | AN41: 1 día | AO41: 491881 | AP41: 585339 | AQ41: 1 día | AR41: =MEDIAN(E41,H41,K41,N41,Q41,T41,W41,Z41,AC41,AF41,AI41,AL41,AO41) -> 500000 | AS41: =MEDIAN(F41,I41,L41,O41,R41,U41,X41,AA41,AD41,AG41,AJ41,AM41,AP41) -> 595000
...

Sheet % Intermediación
A1: EMPRESA DE TRANSPORTE DEL TERCER MILENIO - TRANSMILENIO S.A. COTIZACIÓN % DE INTERMEDIACIÓN
A2: Instrucciones para el diligenciamiento del formato Propuesta económica
A3: • Revisar todos los requerimientos que se exponen en el documento "Proyecto estudios previos", garantizando que los servicios ofrecidos cumplan con las necesidades de TRANSMILENIO S.A. • El oferente deberá anotar máximo dos decimales.
B4: % INTERMEDIACIÓN OFERTADO
A5: VALOR HISTÓRICO | B5: 0.04
A6: CANAL CAPITAL | B6: 0.08
A7: DU BRANS SAS | B7: 0.143
A8: ERCA | B8: 0.08
A9: INNOVATECHVR | B9: 0.1
A10: LOGÍSTICA 911 | B10: 0.19
A11: MERCADEO ESTRATÉGICO | B11: 0.23
A12: Miacom S.A.S. | B12: 0.08
A13: PUBBLICA | B13: 0.08
A14: SINTONIZAR MEDIOS | B14: 0.07
A15: TAKTIKOS | B15: 0.14
A16: ACOMEDIOS | B16: 0.03
A17: PIRME PRODUCCIONES | B17: 0.14
A18: PROMEDIO | B18: =AVERAGE(B5:E17) -> 0.10792308
A19: PROMEDIO PRIVADOS | B19: =AVERAGE(B7:E17) -> 0.11663636
A20: PROMEDIO PÚBLICOS | B20: =AVERAGE(B5,B6) -> 0.06
F204: =SUM(F5:F203) -> 0

Sheet ITEM´S+INTERMEDIACIÓN
A1: COTIZACIONES BTL
A2: COMPONENTE | B2: EMPRESAS PÚBLICAS | D2: EMPRESAS PRIVADAS
B3: VALOR HISTÓRICO | C3: CANAL CAPITAL | D3: DU BRANS SAS | E3: ERCA | F3: INNOVATECHVR | G3: LOGÍSTICA 911 | H3: MERCADEO ESTRATÉGICO | I3: Miacom S.A.S. | J3: PUBBLICA | K3: SINTONIZAR MEDIOS | L3: TAKTIKOS | M3: ACOMEDIOS | N3: PIRME PRODUCCIONES
A4: VALOR ITEMS | B4: =+Cotización!F196 -> 236886279 | C4: 190796508 | D4: 280247381 | E4: 2.5931873e+08 | F4: 239988490 | G4: 2.4104396e+08 | H4: 473304650 | I4: 2.7854931e+08 | J4: 2.7115215e+08 | K4: 2.7502795e+08 | L4: 2.698586e+08 | M4: 3.5474238e+08 | N4: 244574216
A6: % INTERMEDIACIÓN (Antes IVA) | B6: 0.04 | C6: 0.08 | D6: 0.143 | E6: 0.08 | F6: 0.1 | G6: 0.19 | H6: 0.23 | I6: 0.08 | J6: 0.08 | K6: 0.07 | L6: 0.14 | M6: 0.03 | N6: 0.14
A8: VALOR ITEM + INTERMEDIACIÓN | B8: =B4*(1+B6) -> 2.4636173e+08 | C8: =C4*(1+C6) -> 2.0606023e+08 | D8: =D4*(1+D6) -> 3.2032276e+08 | E8: =E4*(1+E6) -> 2.8006423e+08 | F8: =F4*(1+F6) -> 2.6398734e+08 | G8: =G4*(1+G6) -> 2.8684231e+08 | H8: =H4*(1+H6) -> 5.8216472e+08 | I8: =I4*(1+I6) -> 3.0083325e+08 | ... N8: =N4*(1+N6) -> 2.7881461e+08
