Workbook

Sheet presupuesto inicial
B3: ASOCIACION PARA EL DESARROLLO INTEGRAL Y CULTURAL
B4: DE LAS COMUNIDADES
B5: PRESUPUESTO DE LA CASA DEL ABUELO EL BUEN SAMARITANO
B6: AGUSTIN CODAZZI - CESAR
B8: CONCEPTOS | C8: VALOR
B9: CONTRATACION TALENTO HUMANO | C9: 153890000
B10: SERVICIO DE ALIMENTACION NUTRICIONAL BALANCEADA | C10: 96006000
B11: PROYECTOS PRODUCTIVOS PARA LA INCLUSION DEL ADULTO MAYOR | C11: 19450000
B12: SERVICIOS DE MEDICAMENTOS,SOLUCIONES E INSUMOS DEL AREA DE MEDICINA PARA EL ADULTO MAYOR | C12: 10500000
B13: PROYECTO PARA LA DOTACION Y BUEN VESTIR DEL ADULTO MAYOR | C13: 19404000
B14: ASEO GENERAL DEL ADULTO MAYOR Y LOCATIVO | C14: 39750000
B15: TRANSPORTE GENERAL | C15: 12000000
B16: GASTOS VARIOS O DIVERSOS | C16: 9000000
B17: INVERSION TOTAL DE FUNCIONAMIENTO | C17: =SUM(C9:C16) -> 360000000
B18: MAS ADMINISTRACION 10% | C18: 40000000
B19: VALOR TOTAL EJECUCIÓN | C19: =SUM(C17:C18) -> 400000000

Sheet INFORME 20 AB A 30 MAY2026
B3: ASOCIACION PARA EL DESARROLLO INTEGRAL Y CULTURAL
B4: DE LAS COMUNIDADES
B5: CASA DEL ABUELO "EL BUEN SAMARITANO"
B6: CONTRATACION TALENTO HUMANO
B7: DEL 20 DE ABRIL AL 30 DE MAYO/2026
B8: FECHA | C8: CONCEPTO | D8: VALOR
B9: 30/04/2026 | C9: PAGO PRESTACION DE SERVICIOS COMO ADMINISTRADOR EN EL ANCIANATO EL BUEN SAMARITANO DEL 20 AL 30 DE ABRIL /2026 | D9: 1320000
B10: 30/04/2026 | C10: PAGO PRESTACION DE SERVICIOS COMO COORDINADORA EN EL ANCIANATO EL BUEN SAMARITANO DEL 20 AL 30 DE ABRIL /2026. RETENCION $51,333 VALOR PAGADO $1,232,000 | D10: 1283333
B11: 30/04/2026 | C11: PAGO PRESTACION DE SERVICIOS COMO SERVICIO GENERAL (OFICIOS VARIOS) EN EL ANCIANATO EL BUEN SAMARITANO DEL 20 AL 30 DE ABRIL /2026 | D11: 843000
B12: 30/04/2026 | C12: PAGO PRESTACION DE SERVICIOS COMO SERVICIOS GENERALES EN EL ANCIANATO EL BUEN SAMARITANO DEL 20 AL 30 DE ABRIL /2026 | D12: 806667
B13: 30/04/2026 | C13: PAGO PRESTACION DE SERVICIOS COMO AUXILIAR DE ENFERMERIA EN EL ANCIANATO EL BUEN SAMARITANO DEL 20 AL 30 DE ABRIL /2026 | D13: 806667
B14: 30/04/2026 | C14: PAGO PRESTACION DE SERVICIOS COMO AUXILIAR DE ENFERMERIA EN EL ANCIANATO EL BUEN SAMARITANO DEL 20 AL 30 DE ABRIL /2026 | D14: 806667
B15: 30/04/2026 | C15: PAGO PRESTACION DE SERVICIOS COMO AUXILIAR DE ENFERMERIA EN EL ANCIANATO EL BUEN SAMARITANO DEL 20 AL 30 DE ABRIL /2026 | D15: 806667
B16: 30/04/2026 | C16: PAGO PRESTACION DE SERVICIOS COMO AUXILIAR DE ENFERMERIA EN EL ANCIANATO EL BUEN SAMARITANO DEL 20 AL 30 DE ABRIL /2026 | D16: 806667
B17: 30/04/2026 | C17: PAGO PRESTACION DE SERVICIOS COMO SERVICIOS GENERALES EN EL ANCIANATO EL BUEN SAMARITANO DEL 20 AL 30 DE ABRIL /2026 | D17: 806667
B18: 30/04/2026 | C18: PAGO PRESTACION DE SERVICIOS COMO SERVICIOS GENERALES EN EL ANCIANATO EL BUEN SAMARITANO DEL 20 AL 30 DE ABRIL /2026 | D18: 806667
B19: 30/04/2026 | C19: PAGO PRESTACION DE SERVICIOS COMO SERVICIOS GENERALES EN EL ANCIANATO EL BUEN SAMARITANO DEL 20 AL 30 DE ABRIL /2026 | D19: 806667
B20: 30/04/2026 | C20: PAGO PRESTACION DE SERVICIOS COMO MANIPULADORA DE ALIMENTOS EN EL ANCIANATO EL BUEN SAMARITANO DEL 20 AL 30 DE ABRIL /2026 | D20: 806667
... B54: 30/05/2026 | C54: PAGO PRESTACION DE SERVICIOS AL CUIDADO DE LOS PROYECTOS PRODUCTIVOS EN EL ANCIANATO EL BUEN SAMARITANO DEL MES DE MAYO /2026. RETENCION $96.000 Y VALOR PAGADO $1,504,0000 | D54: 1600000
B55: TOTAL GASTOS TALENTO HUMANO | D55: =SUM(D9:D54) -> 68003003
B58: ASOCIACION PARA EL DESARROLLO INTEGRAL Y CULTURAL
B59: DE LAS COMUNIDADES
B60: CASA DEL ABUELO "EL BUEN SAMARITANO"
B61: SERVICIO DE ALIMENTACION NUTRICIONAL BALANCEADA
B62: DEL 20 DE ABRIL AL 30 DE MAYO/2026
B63: FECHA | C63: CONCEPTO | D63: VALOR
B64: 30/04/2026 | C64: GASTOS MANUTENCION PARA LOS ABUELOS DEL ANCIANATO. FACTURAS N. FE 614- CARMEN CECILIA GELVEZ ROMERO. VALOR RETEFUENTE $ 730,148 Y VALOR PAGADO $ 29,269,852 | D64: 30000000
B65: 30/05/2026 | C65: GASTOS MANUTENCION PARA LOS ABUELOS DEL ANCIANATO. FACTURAS N. FE 621- CARMEN CECILIA GELVEZ ROMERO. VALOR RETEFUENTE $835,710 Y VALOR PAGADO $ 33,164,290 | D65: 34000000
B66: TOTAL SERVICIOS DE ALIMENTACION NUTRICIONAL BALANCEADA | D66: =SUM(D64:D65) -> 64000000
B70: ASOCIACION PARA EL DESARROLLO INTEGRAL Y CULTURAL
B71: DE LAS COMUNIDADES
B72: CASA DEL ABUELO "EL BUEN SAMARITANO"
B73: PROYECTOS PRODUCTIVOS PARA LA INCLUSION DEL ADULTO MAYOR
B74: DEL 20 DE ABRIL AL 30 DE MAYO/2026
B75: FECHA | C75: CONCEPTO | D75: VALOR
B76: 46150 | C76: GASTOS INSUMOS PARA PROYECTOS PRODUCTIVO PARA LOS ABUELOS DEL ANCIANATO. FACTURAS N. FV 1748- NATALY PAOLA JIMENEZ ARIZA. | D76: 170000
B77: 46150 | C77: GASTOS INSUMOS PARA PROYECTOS PRODUCTIVO PARA LOS ABUELOS DEL ANCIANATO. FACTURAS N. FV 1730- NATALY PAOLA JIMENEZ ARIZA. | D77: 1445000
B78: 46151 | C78: GASTOS INSUMOS PARA PROYECTOS PRODUCTIVO PARA LOS ABUELOS DEL ANCIANATO. FACTURAS N. FV 1759- NATALY PAOLA JIMENEZ ARIZA. | D78: 170000
B79: 46154 | C79: GASTOS INSUMOS PARA PROYECTOS PRODUCTIVO PARA LOS ABUELOS DEL ANCIANATO. FACTURAS N. FV 1776- NATALY PAOLA JIMENEZ ARIZA. | D79: 170000
B80: 46155 | C80: GASTOS INSUMOS PARA PROYECTOS PRODUCTIVO PARA LOS ABUELOS DEL ANCIANATO. FACTURAS N. FV 1799- NATALY PAOLA JIMENEZ ARIZA. | D80: 255000
...

Sheet TOTAL GASTOS
B2: ASOCIACION PARA EL DESARROLLO INTEGRAL Y CULTURAL
B3: DE LAS COMUNIDADES
B4: CASA DEL ABUELO EL BUEN SAMARITANO
B5: AGUSTIN CODAZZI - CESAR
B6: DEL 20 DE ABRIL AL 30 DE MAYO/2026
B7: CONCEPTOS | C7: GASTOS EJECUTADOS
B8: CONTRATACION TALENTO HUMANO | C8: ='INFORME 20 AB A 30 MAY2026'!D55 -> 68003003
B9: SERVICIO DE ALIMENTACION NUTRICIONAL BALANCEADA | C9: ='INFORME 20 AB A 30 MAY2026'!D66 -> 64000000
B10: PROYECTOS PRODUCTIVOS PARA LA INCLUSION DEL ADULTO MAYOR | C10: ='INFORME 20 AB A 30 MAY2026'!D83 -> 2890000
B11: SERVICIOS DE MEDICAMENTOS,SOLUCIONES E INSUMOS DEL AREA DE MEDICINA PARA EL ADULTO MAYOR | C11: ='INFORME 20 AB A 30 MAY2026'!D96 -> 6500000
B12: PROYECTO PARA LA DOTACION Y BUEN VESTIR DEL ADULTO MAYOR | C12: ='INFORME 20 AB A 30 MAY2026'!D106 -> 7812000
B13: ASEO GENERAL DEL ADULTO MAYOR Y LOCATIVO | C13: ='INFORME 20 AB A 30 MAY2026'!D120 -> 26401000
B14: TRANSPORTE GENERAL | C14: ='INFORME 20 AB A 30 MAY2026'!D139 -> 7138000
B15: GASTOS VARIOS O DIVERSOS | C15: ='INFORME 20 AB A 30 MAY2026'!D155 -> 3302013
B16: INVERSION TOTAL DE FUNCIONAMIENTO | C16: =SUM(C8:C15) -> 186046016
B17: MAS ADMINISTRACION 10% | C17: ='INFORME 20 AB A 30 MAY2026'!D171 -> 33614006
B18: VALOR TOTAL GASTOS EJECUTADOS A 30 DE MAYO/26 | C18: =SUM(C16:C17) -> 219660022

Sheet PRESUPUESTO EJECUTADO
B3: ASOCIACION PARA EL DESARROLLO INTEGRAL Y CULTURAL
B4: DE LAS COMUNIDADES
B5: CASA DEL ABUELO EL BUEN SAMARITANO
B6: AGUSTIN CODAZZI - CESAR
B7: DEL 20 DE ABRIL AL 30 DE MAYO/2026
B8: CONCEPTOS | C8: PRESUPUESTO | D8: GASTOS EJECUTADOS | E8: VALOR POR EJECUTAR
B9: CONTRATACION TALENTO HUMANO | C9: 153890000 | D9: 68003003 | E9: =C9-D9 -> 85886997
B10: SERVICIO DE ALIMENTACION NUTRICIONAL BALANCEADA | C10: 96006000 | D10: 64000000 | E10: =C10-D10 -> 32006000
B11: PROYECTOS PRODUCTIVOS PARA LA INCLUSION DEL ADULTO MAYOR | C11: 19450000 | D11: 2890000 | E11: =C11-D11 -> 16560000
B12: SERVICIOS DE MEDICAMENTOS,SOLUCIONES E INSUMOS DEL AREA DE MEDICINA PARA EL ADULTO MAYOR | C12: 10500000 | D12: 6500000 | E12: =C12-D12 -> 4000000
B13: PROYECTO PARA LA DOTACION Y BUEN VESTIR DEL ADULTO MAYOR | C13: 19404000 | D13: 7812000 | E13: =C13-D13 -> 11592000
B14: ASEO GENERAL DEL ADULTO MAYOR Y LOCATIVO | C14: 39750000 | D14: 26401000 | E14: =C14-D14 -> 13349000
B15: TRANSPORTE GENERAL | C15: 12000000 | D15: 7138000 | E15: =C15-D15 -> 4862000
B16: GASTOS VARIOS O DIVERSOS | C16: 9000000 | D16: 3302013 | E16: =C16-D16 -> 5697987
B17: INVERSION TOTAL DE FUNCIONAMIENTO | C17: =SUM(C9:C16) -> 360000000 | D17: =SUM(D9:D16) -> 186046016 | E17: =C17-D17 -> 173953984
B18: MAS ADMINISTRACION 10% | C18: 40000000 | D18: 33614006 | E18: =C18-D18 -> 6385994
B19: VALOR TOTAL GASTOS EJECUTADO A MAYO 30/2026 | C19: =SUM(C17:C18) -> 400000000 | D19: =D17+D18 -> 219660022 | E19: =SUM(E17:E18) -> 180339978
