Workbook

Sheet ACTA 1 TERRON
D1: FECHA DE ESTA ACTA: | H1: 30 DE ABRIL DE 2026 | M1: FECHAS | U1: CAUSA | V1: DESCRIPCION DE CAUSA DE MAYOR CANTIDAD DE OBRA | Z1: EN CALI VALE DEL CAUCA A LOS TREINTA (30) DIAS DEL MES DE ABRIL DE 2026 SE REUNIERON LOS SEÑORES: ARQ. HECTOR MARIO LONDOÑO TOVAR EN SU CALIDAD DE REPRESENTANTE LEGAL DEL CONSORCIO CENTRO DE SALUD TERRON COLORADO Y COMO DIRECTOR DE OBRA PARA EL PROYECTO "OBRAS NECESARIAS DE REPOSICION PARA EL MEJORAMIENO DE LA IPS TERRON COLORADO, EN DESARROLLO DEL PROYECTO "FORTALECIMIENTO DE LA CAPACIDAD DE OPERACIÓN DE LA RED DE SALUD LADERA E.S.E. EN SANTIAGO DE CALI" CON FICHA BP-26005919, EN MARCO DEL CONVENIO INTERADMINISTRATIVO No. 4145.010.27.1.006-2025", EL ING. MARCO HERNAN HOYOS OSORIO, EN REPRESENTACION LEGAL DE CONSORCIO INTER HTC, COMO INTERVENTOR DEL ENTE CONTRATANTE, DARWIN STEVEN ZAPATA FORERO COMO SUPERVISOR DEL CONTRATO DE LA ENTIDAD CONTRATANTE, CON EL OBJETO DE EVALUAR EL DESARROLLO DE LAS OBRAS Y HACER EL RECIBO DEL INFORME DE OBRA No. 1 DE LAS MISMAS DE ACUERDO CON LAS CANTIDADES QUE SE ANOTAN A CONTINUACION
D2: CONTRATO No. | H2: 00-2025-JCON-303 | M2: FECHA DE INICIO DE OBRA | Q2: 30 DE DICIEMBRE DE 2025 | U2: A | V2: MAYOR CANTIDAD NO PRESUPUESTADA
D3: CONTRATISTA | H3: CONSORCIO CENTRO DE SALUD TERRON COLORADO | M3: FECHA DE TERMINACION No. 01 | Q3: 30 DE ABRIL DE 2027 | U3: B | V3: MAYOR CANTIDAD POR CAMBIOS ARQUITECTONICOS
D4: NIT | H4: 902.019.652-8 | M4: PRORROGA No. 1 | Q4: N/A | U4: C | V4: MAYOR CANTIDAD POR CAMBIOS ESTRUCTURALES
D5: VALOR INICIAL | H5: 25437758125 | M5: FECHA DE SUSPENSION No. 1 | Q5: N/A | U5: D | V5: OBRA NO PRESUPUESTADA PERO ESTABA EN PLANOS
D6: CERTIFICADO DE DISPONIBILIDAD PRESUPUESTAL | H6: 00-2025-PDIS-773 | M6: FECHA DE REINICO No.1 | Q6: N/A | U6: E | V6: OBRA NUEVA POR CAMBIOS APROBADOS
D7: PLAZO | H7: DIECISEIS (16) MESES | M7: FECHA DE TERMINACION No. 1 | Q7: N/A | U7: F | V7: OBRA NUEVA - CAMBIO DE CONDICIONES
D8: OBJETO | H8: REALIZAR LAS OBRAS NECESARIAS DE REPOSICION PARA EL MEJORAMIENO DE LA IPS TERON COLORADO, EN DESARROLLO DEL PROYECTO "FORTALECIMIENTO DE LA CAPACIDAD DE OPERACIÓN DE LA RED DE SALUD LADERA E.S.E. EN SANTIAGO DE CALI" CON FICHA BP-26005919, EN MARCO DEL CONVENIO INTERADMINISTRATIVO No. 4145.010.27.1.006-2025" | M8: PRORROGA No. 2 | Q8: N/A | U8: G | V8: CAMBIO DE CONDICIONES INICIALES
D9: INTERVENTORIA | H9: CONSORCIO INTER HTC - RL. ING. MARCO HERNAN HOYOS OSORIO | M9: FECHA DE TERMINACION PRORROGA No. 2 | Q9: N/A
D10: SUPERVISORIA | H10: RED DE SALUD DE LADERA E.S.E .DR. DARWIN STEVEN ZAPATA FORERO
A12: Item | B12: DESCRIPCION | C12: UND | D12: CONTRATO ORIGINAL | G12: % PORCENTAJE DE INCIDENCIA INICIAL | H12: ACTA DE BALANCE Nº. 01 DEL CONTRATO No. 00-2025-JCON-303 | U12: ACTA DE BALANCE Nº. 1 | X12: ACTA DE BALANCE Nº. 2 | Z12: ACTA DE BALANCE Nº. 3 | AB12: Acta de Informe No. 04 | AD12: ACTIVIDADES AL 100% DE EJECUCION PARA SABER PRESUPUESTO LIBRE | AF12: TOTAL | AI12: % DE INCIDENCIA FINAL | AK12: Acta de Informe No. 03a | AL12: Acta de Informe No. 03B | AM12: Acta de Informe No. 03a+b | AN12: % DE INCIDENCIA FINAL
AF13: ACUMULADO
H14: Obras contratadas ejecutadas mayor cantidad | J14: Obras contratadas ejecutadas menor cantidad | L14: Obras contratadas no ejecutadas | N14: OBRAS ADICIONALES | P14: OBRAS REALMENTE EJECUTADAS CONTRADAS | R14: Cantidad Total | S14: VALOR TOTAL
D15: Cantidad | E15: Vr.Unitario | F15: Vr.Parcial | U15: Cantidad | V15: Valor | X15: Cantidad | Y15: Valor | Z15: Cantidad | AA15: Valor | AB15: Cantidad | AC15: Valor | AD15: Cantidad | AE15: Valor | AF15: Cantidad Ejecutada | AG15: % | AH15: Valor | AK15: Cantidad Ejecutada | AL15: % | AM15: Valor
N16: Cantidad total | O16: valor total | P16: Cantidad total | Q16: valor total | U16: Ejecutada | X16: Ejecutada | Z16: Ejecutada | AB16: Ejecutada | AD16: Ejecutada
A18: PRELIMINARES
A20: 1 | B20: OBRAS PRELIMINARES MOVIEMIENTOS DE TIERRA Y DEMOLICIONES
A22: 1.1 | B22: EXCAVACION A MAQUINA SIN RETIRO | C22: M3 | D22: 2850.4 | E22: 17900 | F22: =D22*E22 -> 51022160 | G22: =F22*1/$F$885 -> 0.0020057648 | H22: =IF(D22-AF22<0,AF22-D22,0) -> 1333.16 | I22: =E22*H22 -> 23863564 | J22: =IF(D22-AF22>0,AF22-D22,0) -> 0 | K22: =E22*J22 -> 0 | L22: =IF(AF22=0,D22,0) -> 0 | M22: =L22*E22 -> 0 | P22: =D22+H22+J22-L22 -> 4183.56 | Q22: =E22*P22 -> 74885724 | R22: =AF22 -> 4183.56 | S22: =E22*R22 -> 74885724 | U22: 4183.56 | V22: =E22*U22 -> 74885724 | X22: 0 | Y22: =E22*X22 -> 0 | Z22: 0 | AA22: =E22*Z22 -> 0 | AB22: 0 | AC22: =AB22*E22 -> 0 | AD22: 0 | AE22: =AD22*E22 -> 0 | AF22: =U22+X22+Z22 -> 4183.56 | AG22: =AF22/D22 -> 1.4677098 | AH22: =E22*AF22 -> 74885724 | AI22: =AH22*1/$E$895 -> 0.0029438807 | AK22: =U22+X22+Z22+AB22+#REF!+#REF!+AD22 -> #REF! | AL22: =AF22/D22 -> 1.4677098 | AM22: =E22*AK22 -> #REF! | AN22: =AM22*1/$E$895 -> #REF!
A23: 1.2 | B23: EXCAVACION EN ROCA | C23: M3 | D23: 10 | E23: 70000 | F23: =D23*E23 -> 700000 | G23: =F23*1/$F$885 -> 2.7518148e-05 | H23: =IF(D23-AF23<0,AF23-D23,0) -> 0 | I23: =E23*H23 -> 0 | J23: 0 | K23: =E23*J23 -> 0 | L23: =IF(AF23=0,D23,0) -> 10 | M23: =L23*E23 -> 700000 | P23: =D23+H23+J23-L23 -> 0 | Q23: =E23*P23 -> 0 | R23: =AF23 -> 0 | S23: =E23*R23 -> 0 | U23: 0 | V23: =E23*U23 -> 0 | X23: 0 | Y23: =E23*X23 -> 0 | Z23: 0 | AA23: =E23*Z23 -> 0 | AF23: =U23+X23+Z23 -> 0 | AG23: =AF23/D23 -> 0 | AH23: =E23*AF23 -> 0 | AI23: =AH23*1/$E$895 -> 0
A24: 1.3 | B24: RELLENO MATERIAL SITIO COMPACTADO CILINDRO | C24: M3 | D24: 300.6 | E24: 21000 | F24: =D24*E24 -> 6312600 | G24: =F24*1/$F$885 -> 0.00024815866 | H24: =IF(D24-AF24<0,AF24-D24,0) -> 38.78 | I24: =E24*H24 -> 814380 | J24: 0 | K24: =E24*J24 -> 0 | L24: =IF(AF24=0,D24,0) -> 0 | M24: =L24*E24 -> 0 | P24: =D24+H24+J24-L24 -> 339.38 | Q24: =E24*P24 -> 7126980 | R24: =AF24 -> 339.38 | S24: =E24*R24 -> 7126980 | U24: 339.38 | V24: =E24*U24 -> 7126980 | X24: 0 | Y24: =E24*X24 -> 0 | Z24: 0 | AA24: =E24*Z24 -> 0 | AF24: =U24+X24+Z24 -> 339.38 | AG24: =AF24/D24 -> 1.1290086 | AH24: =E24*AF24 -> 7126980 | AI24: =AH24*1/$E$895 -> 0.00028017327
A25: 1.4 | B25: RELLENO ROCAMUERTA COMPACT-SALTARIN | C25: M3 | D25: 42.55 | E25: 85000 | F25: =D25*E25 -> 3616750 | G25: =F25*1/$F$885 -> 0.00014218038 | H25: =IF(D25-AF25<0,AF25-D25,0) -> 51.43 | I25: =E25*H25 -> 4371550 | J25: 0 | K25: =E25*J25 -> 0 | L25: =IF(AF25=0,D25,0) -> 0 | M25: =L25*E25 -> 0 | P25: =D25+H25+J25-L25 -> 93.98 | Q25: =E25*P25 -> 7988300 | R25: =AF25 -> 93.98 | S25: =E25*R25 -> 7988300 | U25: 93.98 | V25: =E25*U25 -> 7988300 | X25: 0 | Y25: =E25*X25 -> 0 | Z25: 0 | AA25: =E25*Z25 -> 0 | AF25: =U25+X25+Z25 -> 93.98 | AG25: =AF25/D25 -> 2.2086957 | AH25: =E25*AF25 -> 7988300 | AI25: =AH25*1/$E$895 -> 0.00031403318
A26: 1.5 | B26: CONFIGURACION NIVELACION TERRENO | C26: M2 | D26: 1018 | E26: 4500 | F26: =D26*E26 -> 4581000 | G26: =F26*1/$F$885 -> 0.00018008662 | H26: =IF(D26-AF26<0,AF26-D26,0) -> 366 | I26: =E26*H26 -> 1647000 | J26: 0 | K26: =E26*J26 -> 0 | L26: =IF(AF26=0,D26,0) -> 0 | M26: =L26*E26 -> 0 | P26: =D26+H26+J26-L26 -> 1384 | Q26: =E26*P26 -> 6228000 | R26: =AF26 -> 1384 | S26: =E26*R26 -> 6228000 | U26: 1384 | V26: =E26*U26 -> 6228000 | X26: 0 | Y26: =E26*X26 -> 0 | Z26: 0 | AA26: =E26*Z26 -> 0 | AF26: =U26+X26+Z26 -> 1384 | AG26: =AF26/D26 -> 1.3595285 | AH26: =E26*AF26 -> 6228000 | AI26: =AH26*1/$E$895 -> 0.0002448329
A27: 1.6 | B27: DEMOLICION EDIFICACION EXISTENTE | C27: M2 | D27: 3900 | E27: 68000 | F27: =D27*E27 -> 265200000 | G27: =F27*1/$F$885 -> 0.010425447 | H27: =IF(D27-AF27<0,AF27-D27,0) -> 0 | I27: =E27*H27 -> 0 | J27: =IF(D27-AF27>0,AF27-D27,0) -> -2204.93 | K27: =E27*J27 -> -1.4993524e+08 | L27: =IF(AF27=0,D27,0) -> 0 | M27: =L27*E27 -> 0 | P27: =D27+H27+J27-L27 -> 1695.07 | Q27: =E27*P27 -> 1.1526476e+08 | R27: =AF27 -> 1695.07 | S27: =E27*R27 -> 115264760 | U27: 1695.07 | V27: =E27*U27 -> 115264760 | X27: 0 | Y27: =E27*X27 -> 0 | Z27: 0 | AA27: =E27*Z27 -> 0 | AF27: =U27+X27+Z27 -> 1695.07 | AG27: =AF27/D27 -> 0.43463333 | AH27: =E27*AF27 -> 115264760 | AI27: =AH27*1/$E$895 -> 0.0045312468
A28: 1.7 | B28: CARGUE Y RETIRO DE SOBRANTES A MAQUINA <=10 KMS | C28: M3 | D28: 5681.8 | E28: 49000 | F28: =D28*E28 -> 278408200 | G28: =F28*1/$F$885 -> 0.010944683 | H28: =IF(D28-AF28<0,AF28-D28,0) -> 636.31 | I28: =E28*H28 -> 31179190 | J28: =IF(D28-AF28>0,AF28-D28,0) -> 0 | K28: =E28*J28 -> 0 | L28: =IF(AF28=0,D28,0) -> 0 | M28: =L28*E28 -> 0 | P28: =D28+H28+J28-L28 -> 6318.11 | Q28: =E28*P28 -> 309587390 | R28: =AF28 -> 6318.11 | S28: =E28*R28 -> 309587390 | U28: 6318.11 | V28: =E28*U28 -> 309587390 | X28: 0 | Y28: =E28*X28 -> 0 | Z28: 0 | AA28: =E28*Z28 -> 0 | AF28: =U28+X28+Z28 -> 6318.11 | AG28: =AF28/D28 -> 1.1119909 | AH28: =E28*AF28 -> 309587390 | AI28: =AH28*1/$E$895 -> 0.012170388
B30: SUBTOTAL OBRAS PRELIMINARES MOVIEMIENTOS DE TIERRA Y DEMOLICIONES | F30: =SUM(F22:F28) -> 609840710 | I30: =SUM(I22:I29) -> 61875684 | K30: =SUM(K22:K28) -> -1.4993524e+08 | M30: =SUM(M22:M28) -> 700000 | Q30: =SUM(Q22:Q28) -> 521081154 | S30: =SUM(S22:S28) -> 521081154 | V30: =SUM(V22:V28) -> 521081154 | Y30: =SUM(Y22:Y28) -> 0 | AA30: =SUM(AA22:AA28) -> 0 | AC30: =SUM(AC22:AC22) -> 0 | AE30: =SUM(AE22:AE22) -> 0 | AH30: =SUM(AH22:AH28) -> 521081154 | AK30: =U30+X30+Z30+AB30+#REF!+#REF!+AD30 -> #REF! | AM30: =SUM(AM22:AM22) -> #REF!
F31: =F30*1/$F$885 -> 0.023973839 | G31: =SUM(G22:G28) -> 0.023973839 | AG31: =AH30*1/F30 -> 0.85445452 | AI31: =SUM(AI22:AI28) -> 0.020484555 | AK31: =U31+X31+Z31+AB31+#REF!+#REF!+AD31 -> #REF! | AL31: =AM30*1/F30 -> #REF! | AN31: =SUM(AN22:AN22) -> #REF!
A32: 2 | B32: OBRAS PRELIMINARES | AK32: =U32+X32+Z32+AB32+#REF!+#REF!+AD32 -> #REF!
AD33: 0 | AE33: =AD33*E33 -> 0 | AK33: =U33+X33+Z33+AB33+#REF!+#REF!+AD33 -> #REF! | AL33: =AF33/D33 -> #DIV/0! | AM33: =E33*AK33 -> #REF! | AN33: =AM33*1/$E$895 -> #REF!
A34: 2.1 | B34: EXCAVACION MATERIAL COMUN Y/O CONGLOMERADO A MANO ENTRE 0-2 M | C34: M3 | D34: 292.8 | E34: 35000 | F34: =D34*E34 -> 10248000 | G34: =F34*1/$F$885 -> 0.00040286569 | H34: =IF(D34-AF34<0,AF34-D34,0) -> 253.43 | I34: =E34*H34 -> 8870050 | J34: 0 | K34: =E34*J34 -> 0 | L34: =IF(AF34=0,D34,0) -> 0 | M34: =L34*E34 -> 0 | P34: =D34+H34+J34-L34 -> 546.23 | Q34: =E34*P34 -> 19118050 | R34: =AF34 -> 546.23 | S34: =E34*R34 -> 19118050 | U34: 546.23 | V34: =E34*U34 -> 19118050 | X34: 0 | Y34: =E34*X34 -> 0 | Z34: 0 | AA34: =E34*Z34 -> 0 | AB34: 0 | AC34: =AB34*E34 -> 0 | AD34: 0 | AE34: =AD34*E34 -> 0 | AF34: =U34+X34+Z34 -> 546.23 | AG34: =AF34/D34 -> 1.8655396 | AH34: =E34*AF34 -> 19118050 | AI34: =AH34*1/$E$895 -> 0.00075156191 | AK34: =U34+X34+Z34+AB34+#REF!+#REF!+AD34 -> #REF! | AL34: =AF34/D34 -> 1.8655396 | AM34: =E34*AK34 -> #REF! | AN34: =AM34*1/$E$895 -> #REF!
A35: 2.2 | B35: EXCAVACION TIERRA MANO BAJO AGUA H=2.0 | C35: M3 | D35: 5 | E35: 31000 | F35: =D35*E35 -> 155000 | G35: =F35*1/$F$885 -> 6.0933043e-06 | H35: =IF(D35-AF35<0,AF35-D35,0) -> 0 | I35: =E35*H35 -> 0 | J35: 0 | K35: =E35*J35 -> 0 | L35: =IF(AF35=0,D35,0) -> 5 | M35: =L35*E35 -> 155000 | P35: =D35+H35+J35-L35 -> 0 | Q35: =E35*P35 -> 0 | R35: =AF35 -> 0 | S35: =E35*R35 -> 0 | U35: 0 | V35: =E35*U35 -> 0 | X35: 0 | Y35: =E35*X35 -> 0 | Z35: 0 | AA35: =E35*Z35 -> 0 | AF35: =U35+X35+Z35 -> 0 | AG35: =AF35/D35 -> 0 | AH35: =E35*AF35 -> 0 | AI35: =AH35*1/$E$895 -> 0
A36: 2.3 | B36: PROTECCION TALUDES (ENTIBADO) | C36: M2 | D36: 85 | E36: 83800 | F36: =D36*E36 -> 7123000 | G36: =F36*1/$F$885 -> 0.00028001681 | H36: =IF(D36-AF36<0,AF36-D36,0) -> 219.7 | I36: =E36*H36 -> 18410860 | J36: 0 | K36: =E36*J36 -> 0 | L36: =IF(AF36=0,D36,0) -> 0 | M36: =L36*E36 -> 0 | P36: =D36+H36+J36-L36 -> 304.7 | Q36: =E36*P36 -> 25533860 | R36: =AF36 -> 304.7 | S36: =E36*R36 -> 25533860 | U36: 304.7 | V36: =E36*U36 -> 25533860 | X36: 0 | Y36: =E36*X36 -> 0 | Z36: 0 | AA36: =E36*Z36 -> 0 | AF36: =U36+X36+Z36 -> 304.7 | AG36: =AF36/D36 -> 3.5847059 | AH36: =E36*AF36 -> 25533860 | AI36: =AH36*1/$E$895 -> 0.0010037779
A37: 2.4 | B37: RELLENO MATERIAL SITIO COMPACTADO A RANA | C37: M3 | D37: 51.7 | E37: 21000 | F37: =D37*E37 -> 1085700 | G37: =F37*1/$F$885 -> 4.2680648e-05 | H37: =IF(D37-AF37<0,AF37-D37,0) -> 0 | I37: =E37*H37 -> 0 | J37: 0 | K37: =E37*J37 -> 0 | L37: =IF(AF37=0,D37,0) -> 0 | M37: =L37*E37 -> 0 | P37: =D37+H37+J37-L37 -> 51.7 | Q37: =E37*P37 -> 1085700 | R37: =AF37 -> 51.7 | S37: =E37*R37 -> 1085700 | U37: 51.7 | V37: =E37*U37 -> 1085700 | X37: 0 | Y37: =E37*X37 -> 0 | Z37: 0 | AA37: =E37*Z37 -> 0 | AF37: =U37+X37+Z37 -> 51.7 | AG37: =AF37/D37 -> 1 | AH37: =E37*AF37 -> 1085700 | AI37: =AH37*1/$E$895 -> 4.2680648e-05
A38: 2.5 | B38: RELLENO ROCAMUERTA COMPACT-SALTARIN | C38: M3 | D38: 272.7 | E38: 85000 | F38: =D38*E38 -> 23179500 | G38: =F38*1/$F$885 -> 0.00091122417 | H38: =IF(D38-AF38<0,AF38-D38,0) -> 0 | I38: =E38*H38 -> 0 | J38: 0 | K38: =E38*J38 -> 0 | L38: =IF(AF38=0,D38,0) -> 0 | M38: =L38*E38 -> 0 | P38: =D38+H38+J38-L38 -> 272.7 | Q38: =E38*P38 -> 23179500 | R38: =AF38 -> 272.7 | S38: =E38*R38 -> 23179500 | U38: 272.7 | V38: =E38*U38 -> 23179500 | X38: 0 | Y38: =E38*X38 -> 0 | Z38: 0 | AA38: =E38*Z38 -> 0 | AF38: =U38+X38+Z38 -> 272.7 | AG38: =AF38/D38 -> 1 | AH38: =E38*AF38 -> 23179500 | AI38: =AH38*1/$E$895 -> 0.00091122417
A39: 2.6 | B39: CAMPAMENT O TABLA 9 M2 | C39: UND | D39: 2 | E39: 1800000 | F39: =D39*E39 -> 3600000 | G39: =F39*1/$F$885 -> 0.00014152191 | H39: =IF(D39-AF39<0,AF39-D39,0) -> 0 | I39: =E39*H39 -> 0 | J39: =IF(D39-AF39>0,AF39-D39,0) -> 0 | K39: =E39*J39 -> 0 | L39: =IF(AF39=0,D39,0) -> 0 | M39: =L39*E39 -> 0 | P39: =D39+H39+J39-L39 -> 2 | Q39: =E39*P39 -> 3600000 | R39: =AF39 -> 2 | S39: =E39*R39 -> 3600000 | U39: 2 | V39: =E39*U39 -> 3600000 | X39: 0 | Y39: =E39*X39 -> 0 | Z39: 0 | AA39: =E39*Z39 -> 0 | AF39: =U39+X39+Z39 -> 2 | AG39: =AF39/D39 -> 1 | AH39: =E39*AF39 -> 3600000 | AI39: =AH39*1/$E$895 -> 0.00014152191
A40: 2.7 | B40: CERRAMIENTO EN LAMINA DE ZINC | C40: M2 | D40: 267.5 | E40: 41000 | F40: =D40*E40 -> 10967500 | G40: =F40*1/$F$885 -> 0.00043115042 | H40: =IF(D40-AF40<0,AF40-D40,0) -> 41.38 | I40: =E40*H40 -> 1696580 | J40: =IF(D40-AF40>0,AF40-D40,0) -> 0 | K40: =E40*J40 -> 0 | L40: =IF(AF40=0,D40,0) -> 0 | M40: =L40*E40 -> 0 | P40: =D40+H40+J40-L40 -> 308.88 | Q40: =E40*P40 -> 12664080 | R40: =AF40 -> 308.88 | S40: =E40*R40 -> 12664080 | U40: 308.88 | V40: =E40*U40 -> 12664080 | X40: 0 | Y40: =E40*X40 -> 0 | Z40: 0 | AA40: =E40*Z40 -> 0 | AF40: =U40+X40+Z40 -> 308.88 | AG40: =AF40/D40 -> 1.1546916 | AH40: =E40*AF40 -> 12664080 | AI40: =AH40*1/$E$895 -> 0.00049784576
A41: 2.8 | B41: ACOMETIDA PROVISIONAL ENERGIA | C41: MES | D41: 18 | E41: 145000 | F41: =D41*E41 -> 2610000 | G41: =F41*1/$F$885 -> 0.00010260338 | H41: =IF(D41-AF41<0,AF41-D41,0) -> 0 | I41: =E41*H41 -> 0 | J41: =IF(D41-AF41>0,AF41-D41,0) -> 0 | K41: =E41*J41 -> 0 | L41: =IF(AF41=0,D41,0) -> 0 | M41: =L41*E41 -> 0 | P41: =D41+H41+J41-L41 -> 18 | Q41: =E41*P41 -> 2610000 | R41: =AF41 -> 18 | S41: =E41*R41 -> 2610000 | U41: 18 | V41: =E41*U41 -> 2610000 | X41: 0 | Y41: =E41*X41 -> 0 | Z41: 0 | AA41: =E41*Z41 -> 0 | AF41: =U41+X41+Z41 -> 18 | AG41: =AF41/D41 -> 1 | AH41: =E41*AF41 -> 2610000 | AI41: =AH41*1/$E$895 -> 0.00010260338
A42: 2.9 | B42: ACOMETIDA PROVISIONAL ACUEDUCTO | C42: MES | D42: 18 | E42: 125000 | F42: =D42*E42 -> 2250000 | G42: =F42*1/$F$885 -> 8.8451191e-05 | H42: =IF(D42-AF42<0,AF42-D42,0) -> 0 | I42: =E42*H42 -> 0 | J42: =IF(D42-AF42>0,AF42-D42,0) -> 0 | K42: =E42*J42 -> 0 | L42: =IF(AF42=0,D42,0) -> 0 | M42: =L42*E42 -> 0 | P42: =D42+H42+J42-L42 -> 18 | Q42: =E42*P42 -> 2250000 | R42: =AF42 -> 18 | S42: =E42*R42 -> 2250000 | U42: 18 | V42: =E42*U42 -> 2250000 | X42: 0 | Y42: =E42*X42 -> 0 | Z42: 0 | AA42: =E42*Z42 -> 0 | AF42: =U42+X42+Z42 -> 18 | AG42: =AF42/D42 -> 1 | AH42: =E42*AF42 -> 2250000 | AI42: =AH42*1/$E$895 -> 8.8451191e-05
A43: 2.10 | B43: LOCALIZACION REPLANTEO OBRA ARQUITECTONICA | C43: M2 | D43: 3700 | E43: 7500 | F43: =D43*E43 -> 27750000 | G43: =F43*1/$F$885 -> 0.001090898 | H43: =IF(D43-AF43<0,AF43-D43,0) -> 370.32 | I43: =E43*H43 -> 2777400 | J43: =IF(D43-AF43>0,AF43-D43,0) -> 0 | K43: =E43*J43 -> 0 | L43: =IF(AF43=0,D43,0) -> 0 | M43: =L43*E43 -> 0 | P43: =D43+H43+J43-L43 -> 4070.32 | Q43: =E43*P43 -> 30527400 | R43: =AF43 -> 4070.32 | S43: =E43*R43 -> 30527400 | U43: 4070.32 | V43: =E43*U43 -> 30527400 | X43: 0 | Y43: =E43*X43 -> 0 | Z43: 0 | AA43: =E43*Z43 -> 0 | AF43: =U43+X43+Z43 -> 4070.32 | AG43: =AF43/D43 -> 1.1000865 | AH43: =E43*AF43 -> 30527400 | AI43: =AH43*1/$E$895 -> 0.0012000822
A44: 2.11 | B44: CONSTRUCCION LAVAMANOS Y WC
A45: 2.12 | B45: LAVAMANOS COLGAR PEDESTALTAZA SANITARIO | C45: JGO | D45: 3 | E45: 258750 | F45: =D45*E45 -> 776250 | G45: =F45*1/$F$885 -> 3.0515661e-05 | H45: =IF(D45-AF45<0,AF45-D45,0) -> 0 | I45: =E45*H45 -> 0 | J45: =IF(D45-AF45>0,AF45-D45,0) -> 0 | K45: =E45*J45 -> 0 | L45: =IF(AF45=0,D45,0) -> 0 | M45: =L45*E45 -> 0 | P45: =D45+H45+J45-L45 -> 3 | Q45: =E45*P45 -> 776250 | R45: =AF45 -> 3 | S45: =E45*R45 -> 776250 | U45: 3 | V45: =E45*U45 -> 776250 | X45: 0 | Y45: =E45*X45 -> 0 | Z45: 0 | AA45: =E45*Z45 -> 0 | AF45: =U45+X45+Z45 -> 3 | AG45: =AF45/D45 -> 1 | AH45: =E45*AF45 -> 776250 | AI45: =AH45*1/$E$895 -> 3.0515661e-05
...

Sheet PRELIMINARES MOVIMIENTOS TIERRA
A1: OBJETO | C1: REALIZAR LAS OBRAS NECESARIAS DE REPOSICION PARA EL MEJORAMIENO DE LA IPS TERON COLORADO, EN DESARROLLO DEL PROYECTO "FORTALECIMIENTO DE LA CAPACIDAD DE OPERACIÓN DE LA RED DE SALUD LADERA E.S.E. EN SANTIAGO DE CALI" CON FICHA BP-26005919, EN MARCO DEL CONVENIO INTERADMINISTRATIVO No. 4145.010.27.1.006-2025"
A2: CONTRATO NO. | C2: 00-2025-JCON-303
A3: CONTRATISTA | C3: CONSORCIO CENTRO DE SALUD TERRON COLORADO
A7: 1. OBRAS PRELIMINARES MOVIEMIENTOS DE TIERRA Y DEMOLICIONES
C11: % DE INCIDENCIA INICIAL | D11: % DE INCIDENCIA FINAL | E11: VALOR TOTAL DEL CONTRATO | F11: INCIDENCIA INICIAL (CANTIDAD EJECUTADA) | G11: INCIDENCIA FINAL (CANTIDAD EJECUTADA)
C17: ='ACTA 1 TERRON'!G31 -> 0.023973839 | D17: ='ACTA 1 TERRON'!AI31 -> 0.020484555 | E17: 2.5437758e+10 | F17: =C17*E17 -> 609840710 | G17: =D17*E17 -> 5.2108115e+08

Sheet PRELIMINARES
A1: OBJETO | C1: REALIZAR LAS OBRAS NECESARIAS DE REPOSICION PARA EL MEJORAMIENO DE LA IPS TERON COLORADO, EN DESARROLLO DEL PROYECTO "FORTALECIMIENTO DE LA CAPACIDAD DE OPERACIÓN DE LA RED DE SALUD LADERA E.S.E. EN SANTIAGO DE CALI" CON FICHA BP-26005919, EN MARCO DEL CONVENIO INTERADMINISTRATIVO No. 4145.010.27.1.006-2025"
A2: CONTRATO NO. | C2: 00-2025-JCON-303
A3: CONTRATISTA | C3: CONSORCIO CENTRO DE SALUD TERRON COLORADO
A7: 2. OBRAS PRELIMINARES
C11: % DE INCIDENCIA INICIAL | D11: % DE INCIDENCIA FINAL | E11: VALOR TOTAL DEL CONTRATO | F11: INCIDENCIA INICIAL (CANTIDAD EJECUTADA) | G11: INCIDENCIA FINAL (CANTIDAD EJECUTADA)
C17: ='ACTA 1 TERRON'!G55 -> 0.0050430792 | D17: ='ACTA 1 TERRON'!AI55 -> 0.006213509 | E17: 2.5437758e+10 | F17: =C17*E17 -> 128284630 | G17: =D17*E17 -> 1.5805774e+08

Sheet DESAGUE
A1: OBJETO | C1: REALIZAR LAS OBRAS NECESARIAS DE REPOSICION PARA EL MEJORAMIENO DE LA IPS TERON COLORADO, EN DESARROLLO DEL PROYECTO "FORTALECIMIENTO DE LA CAPACIDAD DE OPERACIÓN DE LA RED DE SALUD LADERA E.S.E. EN SANTIAGO DE CALI" CON FICHA BP-26005919, EN MARCO DEL CONVENIO INTERADMINISTRATIVO No. 4145.010.27.1.006-2025"
A2: CONTRATO NO. | C2: 00-2025-JCON-303
A3: CONTRATISTA | C3: CONSORCIO CENTRO DE SALUD TERRON COLORADO
A7: 3. DESAGUES BAJO TIERRA
C11: % DE INCIDENCIA INICIAL | D11: % DE INCIDENCIA FINAL | E11: VALOR TOTAL DEL CONTRATO | F11: INCIDENCIA INICIAL (CANTIDAD EJECUTADA) | G11: INCIDENCIA FINAL (CANTIDAD EJECUTADA)
C17: ='ACTA 1 TERRON'!G70 -> 0.0015901378 | D17: ='ACTA 1 TERRON'!AI70 -> 0.0015901378 | E17: 2.5437758e+10 | F17: =C17*E17 -> 40449540 | G17: =D17*E17 -> 40449540

Sheet CIMENTACION
A1: OBJETO | C1: REALIZAR LAS OBRAS NECESARIAS DE REPOSICION PARA EL MEJORAMIENO DE LA IPS TERON COLORADO, EN DESARROLLO DEL PROYECTO "FORTALECIMIENTO DE LA CAPACIDAD DE OPERACIÓN DE LA RED DE SALUD LADERA E.S.E. EN SANTIAGO DE CALI" CON FICHA BP-26005919, EN MARCO DEL CONVENIO INTERADMINISTRATIVO No. 4145.010.27.1.006-2025"
A2: CONTRATO NO. | C2: 00-2025-JCON-303
A3: CONTRATISTA | C3: CONSORCIO CENTRO DE SALUD TERRON COLORADO
A7: 4. CIMENTACION
C11: % DE INCIDENCIA INICIAL | D11: % DE INCIDENCIA FINAL | E11: VALOR TOTAL DEL CONTRATO | F11: INCIDENCIA INICIAL (CANTIDAD EJECUTADA) | G11: INCIDENCIA FINAL (CANTIDAD EJECUTADA)
C17: ='ACTA 1 TERRON'!G85 -> 0.066075137 | D17: ='ACTA 1 TERRON'!AI85 -> 0.070868165 | E17: 2.5437758e+10 | F17: =C17*E17 -> 1.6808034e+09 | G17: =D17*E17 -> 1.8027272e+09

Sheet ESTRUCTURA
A1: OBJETO | C1: REALIZAR LAS OBRAS NECESARIAS DE REPOSICION PARA EL MEJORAMIENO DE LA IPS TERON COLORADO, EN DESARROLLO DEL PROYECTO "FORTALECIMIENTO DE LA CAPACIDAD DE OPERACIÓN DE LA RED DE SALUD LADERA E.S.E. EN SANTIAGO DE CALI" CON FICHA BP-26005919, EN MARCO DEL CONVENIO INTERADMINISTRATIVO No. 4145.010.27.1.006-2025"
A2: CONTRATO NO. | C2: 00-2025-JCON-303
A3: CONTRATISTA | C3: CONSORCIO CENTRO DE SALUD TERRON COLORADO
A7: 5. INSTALACIONES ESTRUCTURA
C11: % DE INCIDENCIA INICIAL | D11: % DE INCIDENCIA FINAL | E11: VALOR TOTAL DEL CONTRATO | F11: INCIDENCIA INICIAL (CANTIDAD EJECUTADA) | G11: INCIDENCIA FINAL (CANTIDAD EJECUTADA)
C17: ='ACTA 1 TERRON'!G102 -> 0.1493859 | D17: ='ACTA 1 TERRON'!AI102 -> 0.1493859 | E17: 2.5437758e+10 | F17: =C17*E17 -> 3.8000424e+09 | G17: =D17*E17 -> 3.8000424e+09

Sheet MAMPOSTERIA
A1: OBJETO | C1: REALIZAR LAS OBRAS NECESARIAS DE REPOSICION PARA EL MEJORAMIENO DE LA IPS TERON COLORADO, EN DESARROLLO DEL PROYECTO "FORTALECIMIENTO DE LA CAPACIDAD DE OPERACIÓN DE LA RED DE SALUD LADERA E.S.E. EN SANTIAGO DE CALI" CON FICHA BP-26005919, EN MARCO DEL CONVENIO INTERADMINISTRATIVO No. 4145.010.27.1.006-2025"
A2: CONTRATO NO. | C2: 00-2025-JCON-303
A3: CONTRATISTA | C3: CONSORCIO CENTRO DE SALUD TERRON COLORADO
A7: 6. MAMPOSTERIA
C11: % DE INCIDENCIA INICIAL | D11: % DE INCIDENCIA FINAL | E11: VALOR TOTAL DEL CONTRATO | F11: INCIDENCIA INICIAL (CANTIDAD EJECUTADA) | G11: INCIDENCIA FINAL (CANTIDAD EJECUTADA)
C17: ='ACTA 1 TERRON'!G111 -> 0.016130826 | D17: ='ACTA 1 TERRON'!AI111 -> 0.016130826 | E17: 2.5437758e+10 | F17: =C17*E17 -> 4.1033206e+08 | G17: =D17*E17 -> 4.1033206e+08

Sheet CUBIERTA
A1: OBJETO | C1: REALIZAR LAS OBRAS NECESARIAS DE REPOSICION PARA EL MEJORAMIENO DE LA IPS TERON COLORADO, EN DESARROLLO DEL PROYECTO "FORTALECIMIENTO DE LA CAPACIDAD DE OPERACIÓN DE LA RED DE SALUD LADERA E.S.E. EN SANTIAGO DE CALI" CON FICHA BP-26005919, EN MARCO DEL CONVENIO INTERADMINISTRATIVO No. 4145.010.27.1.006-2025"
A2: CONTRATO NO. | C2: 00-2025-JCON-303
A3: CONTRATISTA | C3: CONSORCIO CENTRO DE SALUD TERRON COLORADO
A7: 7. CUBIERTA
C11: % DE INCIDENCIA INICIAL | D11: % DE INCIDENCIA FINAL | E11: VALOR TOTAL DEL CONTRATO | F11: INCIDENCIA INICIAL (CANTIDAD EJECUTADA) | G11: INCIDENCIA FINAL (CANTIDAD EJECUTADA)
C17: ='ACTA 1 TERRON'!G122 -> 0.010768229 | D17: ='ACTA 1 TERRON'!AI122 -> 0.010768229 | E17: 2.5437758e+10 | F17: =C17*E17 -> 2.739196e+08 | G17: =D17*E17 -> 2.739196e+08

Sheet INST. SANITARIAS
A1: OBJETO | C1: REALIZAR LAS OBRAS NECESARIAS DE REPOSICION PARA EL MEJORAMIENO DE LA IPS TERON COLORADO, EN DESARROLLO DEL PROYECTO "FORTALECIMIENTO DE LA CAPACIDAD DE OPERACIÓN DE LA RED DE SALUD LADERA E.S.E. EN SANTIAGO DE CALI" CON FICHA BP-26005919, EN MARCO DEL CONVENIO INTERADMINISTRATIVO No. 4145.010.27.1.006-2025"
A2: CONTRATO NO. | C2: 00-2025-JCON-303
A3: CONTRATISTA | C3: CONSORCIO CENTRO DE SALUD TERRON COLORADO
A7: 8. INSTALACIONES SANITARIAS Y AGUAS LLUVIAS
C11: % DE INCIDENCIA INICIAL | D11: % DE INCIDENCIA FINAL | E11: VALOR TOTAL DEL CONTRATO | F11: INCIDENCIA INICIAL (CANTIDAD EJECUTADA) | G11: INCIDENCIA FINAL (CANTIDAD EJECUTADA)
C17: ='ACTA 1 TERRON'!G137 -> 0.0014460244 | D17: ='ACTA 1 TERRON'!AI137 -> 0.0014460244 | E17: 2.5437758e+10 | F17: =C17*E17 -> 36783619 | G17: =D17*E17 -> 36783619

Sheet ALCANTARILADO
A1: OBJETO | C1: REALIZAR LAS OBRAS NECESARIAS DE REPOSICION PARA EL MEJORAMIENO DE LA IPS TERON COLORADO, EN DESARROLLO DEL PROYECTO "FORTALECIMIENTO DE LA CAPACIDAD DE OPERACIÓN DE LA RED DE SALUD LADERA E.S.E. EN SANTIAGO DE CALI" CON FICHA BP-26005919, EN MARCO DEL CONVENIO INTERADMINISTRATIVO No. 4145.010.27.1.006-2025"
A2: CONTRATO NO. | C2: 00-2025-JCON-303
A3: CONTRATISTA | C3: CONSORCIO CENTRO DE SALUD TERRON COLORADO
A7: 8.2. ALCANTARILLADO PLUVIAL
C11: % DE INCIDENCIA INICIAL | D11: % DE INCIDENCIA FINAL | E11: VALOR TOTAL DEL CONTRATO | F11: INCIDENCIA INICIAL (CANTIDAD EJECUTADA) | G11: INCIDENCIA FINAL (CANTIDAD EJECUTADA)
C17: ='ACTA 1 TERRON'!G147 -> 0.00029164837 | D17: ='ACTA 1 TERRON'!AI147 -> 0.00029164837 | E17: 2.5437758e+10 | F17: =C17*E17 -> 7418880.7 | G17: =D17*E17 -> 7418880.7

Sheet INST. HIDRAULICAS
A1: OBJETO | C1: REALIZAR LAS OBRAS NECESARIAS DE REPOSICION PARA EL MEJORAMIENO DE LA IPS TERON COLORADO, EN DESARROLLO DEL PROYECTO "FORTALECIMIENTO DE LA CAPACIDAD DE OPERACIÓN DE LA RED DE SALUD LADERA E.S.E. EN SANTIAGO DE CALI" CON FICHA BP-26005919, EN MARCO DEL CONVENIO INTERADMINISTRATIVO No. 4145.010.27.1.006-2025"
A2: CONTRATO NO. | C2: 00-2025-JCON-303
A3: CONTRATISTA | C3: CONSORCIO CENTRO DE SALUD TERRON COLORADO
A7: 9. INSTALACIONES HIDRAULICAS
C11: % DE INCIDENCIA INICIAL | D11: % DE INCIDENCIA FINAL | E11: VALOR TOTAL DEL CONTRATO | F11: INCIDENCIA INICIAL (CANTIDAD EJECUTADA) | G11: INCIDENCIA FINAL (CANTIDAD EJECUTADA)
C17: ='ACTA 1 TERRON'!G177 -> 0.010318812 | D17: ='ACTA 1 TERRON'!AI177 -> 0.0074460268 | E17: 2.5437758e+10 | F17: =C17*E17 -> 2.6248744e+08 | G17: =D17*E17 -> 1.8941023e+08

Sheet INST. ELECTRICAS
A1: OBJETO | C1: REALIZAR LAS OBRAS NECESARIAS DE REPOSICION PARA EL MEJORAMIENO DE LA IPS TERON COLORADO, EN DESARROLLO DEL PROYECTO "FORTALECIMIENTO DE LA CAPACIDAD DE OPERACIÓN DE LA RED DE SALUD LADERA E.S.E. EN SANTIAGO DE CALI" CON FICHA BP-26005919, EN MARCO DEL CONVENIO INTERADMINISTRATIVO No. 4145.010.27.1.006-2025"
A2: CONTRATO NO. | C2: 00-2025-JCON-303
A3: CONTRATISTA | C3: CONSORCIO CENTRO DE SALUD TERRON COLORADO
A7: 10. INSTALACIONES ELECTRICAS
C11: % DE INCIDENCIA INICIAL | D11: % DE INCIDENCIA FINAL | E11: VALOR TOTAL DEL CONTRATO | F11: INCIDENCIA INICIAL (CANTIDAD EJECUTADA) | G11: INCIDENCIA FINAL (CANTIDAD EJECUTADA)
C17: ='ACTA 1 TERRON'!G336 -> 0.10895569 | D17: ='ACTA 1 TERRON'!AI336 -> 0.10895569 | E17: 2.5437758e+10 | F17: =C17*E17 -> 2.7715884e+09 | G17: =D17*E17 -> 2.7715884e+09

Sheet COMUNICACIONES
A1: OBJETO | C1: REALIZAR LAS OBRAS NECESARIAS DE REPOSICION PARA EL MEJORAMIENO DE LA IPS TERON COLORADO, EN DESARROLLO DEL PROYECTO "FORTALECIMIENTO DE LA CAPACIDAD DE OPERACIÓN DE LA RED DE SALUD LADERA E.S.E. EN SANTIAGO DE CALI" CON FICHA BP-26005919, EN MARCO DEL CONVENIO INTERADMINISTRATIVO No. 4145.010.27.1.006-2025"
A2: CONTRATO NO. | C2: 00-2025-JCON-303
A3: CONTRATISTA | C3: CONSORCIO CENTRO DE SALUD TERRON COLORADO
A7: 11. COMUNICACIONES
C11: % DE INCIDENCIA INICIAL | D11: % DE INCIDENCIA FINAL | E11: VALOR TOTAL DEL CONTRATO | F11: INCIDENCIA INICIAL (CANTIDAD EJECUTADA) | G11: INCIDENCIA FINAL (CANTIDAD EJECUTADA)
C17: ='ACTA 1 TERRON'!G413 -> 0.03508027 | D17: ='ACTA 1 TERRON'!AI413 -> 0.03508027 | E17: 2.5437758e+10 | F17: =C17*E17 -> 8.9236343e+08 | G17: =D17*E17 -> 8.9236343e+08

Sheet RED. ELECTRICA
A1: OBJETO | C1: REALIZAR LAS OBRAS NECESARIAS DE REPOSICION PARA EL MEJORAMIENO DE LA IPS TERON COLORADO, EN DESARROLLO DEL PROYECTO "FORTALECIMIENTO DE LA CAPACIDAD DE OPERACIÓN DE LA RED DE SALUD LADERA E.S.E. EN SANTIAGO DE CALI" CON FICHA BP-26005919, EN MARCO DEL CONVENIO INTERADMINISTRATIVO No. 4145.010.27.1.006-2025"
A2: CONTRATO NO. | C2: 00-2025-JCON-303
A3: CONTRATISTA | C3: CONSORCIO CENTRO DE SALUD TERRON COLORADO
A7: 12. REDES ELECTRICAS
C11: % DE INCIDENCIA INICIAL | D11: % DE INCIDENCIA FINAL | E11: VALOR TOTAL DEL CONTRATO | F11: INCIDENCIA INICIAL (CANTIDAD EJECUTADA) | G11: INCIDENCIA FINAL (CANTIDAD EJECUTADA)
C17: ='ACTA 1 TERRON'!G454 -> 0.0065256749 | D17: ='ACTA 1 TERRON'!AI454 -> 0.0065256749 | E17: 2.5437758e+10 | F17: =C17*E17 -> 1.6599854e+08 | G17: =D17*E17 -> 1.6599854e+08

Sheet REVESTIMIENTOS
A1: OBJETO | C1: REALIZAR LAS OBRAS NECESARIAS DE REPOSICION PARA EL MEJORAMIENO DE LA IPS TERON COLORADO, EN DESARROLLO DEL PROYECTO "FORTALECIMIENTO DE LA CAPACIDAD DE OPERACIÓN DE LA RED DE SALUD LADERA E.S.E. EN SANTIAGO DE CALI" CON FICHA BP-26005919, EN MARCO DEL CONVENIO INTERADMINISTRATIVO No. 4145.010.27.1.006-2025"
A2: CONTRATO NO. | C2: 00-2025-JCON-303
A3: CONTRATISTA | C3: CONSORCIO CENTRO DE SALUD TERRON COLORADO
A7: 13. REVESTIMIENTOS
C11: % DE INCIDENCIA INICIAL | D11: % DE INCIDENCIA FINAL | E11: VALOR TOTAL DEL CONTRATO | F11: INCIDENCIA INICIAL (CANTIDAD EJECUTADA) | G11: INCIDENCIA FINAL (CANTIDAD EJECUTADA)
C17: ='ACTA 1 TERRON'!G463 -> 0.0060799623 | D17: ='ACTA 1 TERRON'!AI463 -> 0.0060799623 | E17: 2.5437758e+10 | F17: =C17*E17 -> 1.5466061e+08 | G17: =D17*E17 -> 1.5466061e+08

Sheet PISOS
A1: OBJETO | C1: REALIZAR LAS OBRAS NECESARIAS DE REPOSICION PARA EL MEJORAMIENO DE LA IPS TERON COLORADO, EN DESARROLLO DEL PROYECTO "FORTALECIMIENTO DE LA CAPACIDAD DE OPERACIÓN DE LA RED DE SALUD LADERA E.S.E. EN SANTIAGO DE CALI" CON FICHA BP-26005919, EN MARCO DEL CONVENIO INTERADMINISTRATIVO No. 4145.010.27.1.006-2025"
A2: CONTRATO NO. | C2: 00-2025-JCON-303
A3: CONTRATISTA | C3: CONSORCIO CENTRO DE SALUD TERRON COLORADO
A7: 14. PISOS
C11: % DE INCIDENCIA INICIAL | D11: % DE INCIDENCIA FINAL | E11: VALOR TOTAL DEL CONTRATO | F11: INCIDENCIA INICIAL (CANTIDAD EJECUTADA) | G11: INCIDENCIA FINAL (CANTIDAD EJECUTADA)
C17: ='ACTA 1 TERRON'!G477 -> 0.029213184 | D17: ='ACTA 1 TERRON'!AI477 -> 0.029213184 | E17: 2.5437758e+10 | F17: =C17*E17 -> 7.431179e+08 | G17: =D17*E17 -> 7.431179e+08

Sheet CARP. MADERA
A1: OBJETO | C1: REALIZAR LAS OBRAS NECESARIAS DE REPOSICION PARA EL MEJORAMIENO DE LA IPS TERON COLORADO, EN DESARROLLO DEL PROYECTO "FORTALECIMIENTO DE LA CAPACIDAD DE OPERACIÓN DE LA RED DE SALUD LADERA E.S.E. EN SANTIAGO DE CALI" CON FICHA BP-26005919, EN MARCO DEL CONVENIO INTERADMINISTRATIVO No. 4145.010.27.1.006-2025"
A2: CONTRATO NO. | C2: 00-2025-JCON-303
A3: CONTRATISTA | C3: CONSORCIO CENTRO DE SALUD TERRON COLORADO
A7: 15. CARPINTERIA EN MADERA Y METALICA
C11: % DE INCIDENCIA INICIAL | D11: % DE INCIDENCIA FINAL | E11: VALOR TOTAL DEL CONTRATO | F11: INCIDENCIA INICIAL (CANTIDAD EJECUTADA) | G11: INCIDENCIA FINAL (CANTIDAD EJECUTADA)
C17: ='ACTA 1 TERRON'!G489 -> 0.0093488781 | D17: ='ACTA 1 TERRON'!AI489 -> 0.0093488781 | E17: 2.5437758e+10 | F17: =C17*E17 -> 2.378145e+08 | G17: =D17*E17 -> 2.378145e+08

Sheet CARP. METALICA
A1: OBJETO | C1: REALIZAR LAS OBRAS NECESARIAS DE REPOSICION PARA EL MEJORAMIENO DE LA IPS TERON COLORADO, EN DESARROLLO DEL PROYECTO "FORTALECIMIENTO DE LA CAPACIDAD DE OPERACIÓN DE LA RED DE SALUD LADERA E.S.E. EN SANTIAGO DE CALI" CON FICHA BP-26005919, EN MARCO DEL CONVENIO INTERADMINISTRATIVO No. 4145.010.27.1.006-2025"
A2: CONTRATO NO. | C2: 00-2025-JCON-303
A3: CONTRATISTA | C3: CONSORCIO CENTRO DE SALUD TERRON COLORADO
A7: 16. CARPINTERIA METALICA ALUMINIO
C11: % DE INCIDENCIA INICIAL | D11: % DE INCIDENCIA FINAL | E11: VALOR TOTAL DEL CONTRATO | F11: INCIDENCIA INICIAL (CANTIDAD EJECUTADA) | G11: INCIDENCIA FINAL (CANTIDAD EJECUTADA)
C17: ='ACTA 1 TERRON'!G507 -> 0.026550342 | D17: ='ACTA 1 TERRON'!AI507 -> 0.026550342 | E17: 2.5437758e+10 | F17: =C17*E17 -> 6.7538117e+08 | G17: =D17*E17 -> 6.7538117e+08

Sheet DIVISIONES
A1: OBJETO | C1: REALIZAR LAS OBRAS NECESARIAS DE REPOSICION PARA EL MEJORAMIENO DE LA IPS TERON COLORADO, EN DESARROLLO DEL PROYECTO "FORTALECIMIENTO DE LA CAPACIDAD DE OPERACIÓN DE LA RED DE SALUD LADERA E.S.E. EN SANTIAGO DE CALI" CON FICHA BP-26005919, EN MARCO DEL CONVENIO INTERADMINISTRATIVO No. 4145.010.27.1.006-2025"
A2: CONTRATO NO. | C2: 00-2025-JCON-303
A3: CONTRATISTA | C3: CONSORCIO CENTRO DE SALUD TERRON COLORADO
A7: 17. DIVISIONES
C11: % DE INCIDENCIA INICIAL | D11: % DE INCIDENCIA FINAL | E11: VALOR TOTAL DEL CONTRATO | F11: INCIDENCIA INICIAL (CANTIDAD EJECUTADA) | G11: INCIDENCIA FINAL (CANTIDAD EJECUTADA)
C17: ='ACTA 1 TERRON'!G515 -> 0.025753464 | D17: ='ACTA 1 TERRON'!AI515 -> 0.025753464 | E17: 2.5437758e+10 | F17: =C17*E17 -> 6.5511038e+08 | G17: =D17*E17 -> 6.5511038e+08

Sheet EQUIPAMIENTO BAÑOS
A1: OBJETO | C1: REALIZAR LAS OBRAS NECESARIAS DE REPOSICION PARA EL MEJORAMIENO DE LA IPS TERON COLORADO, EN DESARROLLO DEL PROYECTO "FORTALECIMIENTO DE LA CAPACIDAD DE OPERACIÓN DE LA RED DE SALUD LADERA E.S.E. EN SANTIAGO DE CALI" CON FICHA BP-26005919, EN MARCO DEL CONVENIO INTERADMINISTRATIVO No. 4145.010.27.1.006-2025"
A2: CONTRATO NO. | C2: 00-2025-JCON-303
A3: CONTRATISTA | C3: CONSORCIO CENTRO DE SALUD TERRON COLORADO
A7: 18. EQUIPAMIENTO BAÑOS - OTROS
C11: % DE INCIDENCIA INICIAL | D11: % DE INCIDENCIA FINAL | E11: VALOR TOTAL DEL CONTRATO | F11: INCIDENCIA INICIAL (CANTIDAD EJECUTADA) | G11: INCIDENCIA FINAL (CANTIDAD EJECUTADA)
C17: ='ACTA 1 TERRON'!G536 -> 0.017004868 | D17: ='ACTA 1 TERRON'!AI536 -> 0.0063121046 | E17: 2.5437758e+10 | F17: =C17*E17 -> 4.3256572e+08 | G17: =D17*E17 -> 1.6056579e+08

Sheet PINTURA
A1: OBJETO | C1: REALIZAR LAS OBRAS NECESARIAS DE REPOSICION PARA EL MEJORAMIENO DE LA IPS TERON COLORADO, EN DESARROLLO DEL PROYECTO "FORTALECIMIENTO DE LA CAPACIDAD DE OPERACIÓN DE LA RED DE SALUD LADERA E.S.E. EN SANTIAGO DE CALI" CON FICHA BP-26005919, EN MARCO DEL CONVENIO INTERADMINISTRATIVO No. 4145.010.27.1.006-2025"
A2: CONTRATO NO. | C2: 00-2025-JCON-303
A3: CONTRATISTA | C3: CONSORCIO CENTRO DE SALUD TERRON COLORADO
A7: 19. PINTURA
C11: % DE INCIDENCIA INICIAL | D11: % DE INCIDENCIA FINAL | E11: VALOR TOTAL DEL CONTRATO | F11: INCIDENCIA INICIAL (CANTIDAD EJECUTADA) | G11: INCIDENCIA FINAL (CANTIDAD EJECUTADA)
C17: ='ACTA 1 TERRON'!G549 -> 0.012505746 | D17: ='ACTA 1 TERRON'!AI549 -> 0.012505746 | E17: 2.5437758e+10 | F17: =C17*E17 -> 3.1811815e+08 | G17: =D17*E17 -> 3.1811815e+08

Sheet OBRAS EXTERIORES
A1: OBJETO | C1: REALIZAR LAS OBRAS NECESARIAS DE REPOSICION PARA EL MEJORAMIENO DE LA IPS TERON COLORADO, EN DESARROLLO DEL PROYECTO "FORTALECIMIENTO DE LA CAPACIDAD DE OPERACIÓN DE LA RED DE SALUD LADERA E.S.E. EN SANTIAGO DE CALI" CON FICHA BP-26005919, EN MARCO DEL CONVENIO INTERADMINISTRATIVO No. 4145.010.27.1.006-2025"
A2: CONTRATO NO. | C2: 00-2025-JCON-303
A3: CONTRATISTA | C3: CONSORCIO CENTRO DE SALUD TERRON COLORADO
A7: 20. OBRAS EXTERIORES - CERRAMIENTOS
C11: % DE INCIDENCIA INICIAL | D11: % DE INCIDENCIA FINAL | E11: VALOR TOTAL DEL CONTRATO | F11: INCIDENCIA INICIAL (CANTIDAD EJECUTADA) | G11: INCIDENCIA FINAL (CANTIDAD EJECUTADA)
C17: ='ACTA 1 TERRON'!G562 -> 0.0011381181 | D17: ='ACTA 1 TERRON'!AI562 -> 0.0006629284 | E17: 2.5437758e+10 | F17: =C17*E17 -> 28951172 | G17: =D17*E17 -> 16863412

Sheet LIMPIEZA VARIOS
A1: OBJETO | C1: REALIZAR LAS OBRAS NECESARIAS DE REPOSICION PARA EL MEJORAMIENO DE LA IPS TERON COLORADO, EN DESARROLLO DEL PROYECTO "FORTALECIMIENTO DE LA CAPACIDAD DE OPERACIÓN DE LA RED DE SALUD LADERA E.S.E. EN SANTIAGO DE CALI" CON FICHA BP-26005919, EN MARCO DEL CONVENIO INTERADMINISTRATIVO No. 4145.010.27.1.006-2025"
A2: CONTRATO NO. | C2: 00-2025-JCON-303
A3: CONTRATISTA | C3: CONSORCIO CENTRO DE SALUD TERRON COLORADO
A7: 21. LIMPIEZA - VARIOS
C11: % DE INCIDENCIA INICIAL | D11: % DE INCIDENCIA FINAL | E11: VALOR TOTAL DEL CONTRATO | F11: INCIDENCIA INICIAL (CANTIDAD EJECUTADA) | G11: INCIDENCIA FINAL (CANTIDAD EJECUTADA)
C17: ='ACTA 1 TERRON'!G570 -> 0.0041817917 | D17: ='ACTA 1 TERRON'!AI570 -> 0.0041807567 | E17: 2.5437758e+10 | F17: =C17*E17 -> 1.0637541e+08 | G17: =D17*E17 -> 1.0634908e+08

Sheet RCI
A1: OBJETO | C1: REALIZAR LAS OBRAS NECESARIAS DE REPOSICION PARA EL MEJORAMIENO DE LA IPS TERON COLORADO, EN DESARROLLO DEL PROYECTO "FORTALECIMIENTO DE LA CAPACIDAD DE OPERACIÓN DE LA RED DE SALUD LADERA E.S.E. EN SANTIAGO DE CALI" CON FICHA BP-26005919, EN MARCO DEL CONVENIO INTERADMINISTRATIVO No. 4145.010.27.1.006-2025"
A2: CONTRATO NO. | C2: 00-2025-JCON-303
A3: CONTRATISTA | C3: CONSORCIO CENTRO DE SALUD TERRON COLORADO
A7: 22. RED CONTRAINCENDIOS
C11: % DE INCIDENCIA INICIAL | D11: % DE INCIDENCIA FINAL | E11: VALOR TOTAL DEL CONTRATO | F11: INCIDENCIA INICIAL (CANTIDAD EJECUTADA) | G11: INCIDENCIA FINAL (CANTIDAD EJECUTADA)
C17: ='ACTA 1 TERRON'!G603 -> 0.0098707086 | D17: ='ACTA 1 TERRON'!AI603 -> 0.0098707086 | E17: 2.5437758e+10 | F17: =C17*E17 -> 2.510887e+08 | G17: =D17*E17 -> 2.510887e+08

Sheet AIRE ACONDICIONADO
A1: OBJETO | C1: REALIZAR LAS OBRAS NECESARIAS DE REPOSICION PARA EL MEJORAMIENO DE LA IPS TERON COLORADO, EN DESARROLLO DEL PROYECTO "FORTALECIMIENTO DE LA CAPACIDAD DE OPERACIÓN DE LA RED DE SALUD LADERA E.S.E. EN SANTIAGO DE CALI" CON FICHA BP-26005919, EN MARCO DEL CONVENIO INTERADMINISTRATIVO No. 4145.010.27.1.006-2025"
A2: CONTRATO NO. | C2: 00-2025-JCON-303
A3: CONTRATISTA | C3: CONSORCIO CENTRO DE SALUD TERRON COLORADO
A7: 23. SISTEMA DE AIRE ACONDICIONADO Y VENTILACION MECANICA
C11: % DE INCIDENCIA INICIAL | D11: % DE INCIDENCIA FINAL | E11: VALOR TOTAL DEL CONTRATO | F11: INCIDENCIA INICIAL (CANTIDAD EJECUTADA) | G11: INCIDENCIA FINAL (CANTIDAD EJECUTADA)
C17: ='ACTA 1 TERRON'!G688 -> 0.063049007 | D17: ='ACTA 1 TERRON'!AI688 -> 0.063049007 | E17: 2.5437758e+10 | F17: =C17*E17 -> 1.6038254e+09 | G17: =D17*E17 -> 1.6038254e+09

Sheet GASES MEDICINALES
A1: OBJETO | C1: REALIZAR LAS OBRAS NECESARIAS DE REPOSICION PARA EL MEJORAMIENO DE LA IPS TERON COLORADO, EN DESARROLLO DEL PROYECTO "FORTALECIMIENTO DE LA CAPACIDAD DE OPERACIÓN DE LA RED DE SALUD LADERA E.S.E. EN SANTIAGO DE CALI" CON FICHA BP-26005919, EN MARCO DEL CONVENIO INTERADMINISTRATIVO No. 4145.010.27.1.006-2025"
A2: CONTRATO NO. | C2: 00-2025-JCON-303
A3: CONTRATISTA | C3: CONSORCIO CENTRO DE SALUD TERRON COLORADO
A7: 24.REDES GASES MEDICINALES
C11: % DE INCIDENCIA INICIAL | D11: % DE INCIDENCIA FINAL | E11: VALOR TOTAL DEL CONTRATO | F11: INCIDENCIA INICIAL (CANTIDAD EJECUTADA) | G11: INCIDENCIA FINAL (CANTIDAD EJECUTADA)
C17: ='ACTA 1 TERRON'!G738 -> 0.014235357 | D17: ='ACTA 1 TERRON'!AI738 -> 0.014235357 | E17: 2.5437758e+10 | F17: =C17*E17 -> 3.6211558e+08 | G17: =D17*E17 -> 3.6211558e+08

Sheet SEÑALETICA
A1: OBJETO | C1: REALIZAR LAS OBRAS NECESARIAS DE REPOSICION PARA EL MEJORAMIENO DE LA IPS TERON COLORADO, EN DESARROLLO DEL PROYECTO "FORTALECIMIENTO DE LA CAPACIDAD DE OPERACIÓN DE LA RED DE SALUD LADERA E.S.E. EN SANTIAGO DE CALI" CON FICHA BP-26005919, EN MARCO DEL CONVENIO INTERADMINISTRATIVO No. 4145.010.27.1.006-2025"
A2: CONTRATO NO. | C2: 00-2025-JCON-303
A3: CONTRATISTA | C3: CONSORCIO CENTRO DE SALUD TERRON COLORADO
A7: 25. SEÑALETICA HOSPITALARIA
C11: % DE INCIDENCIA INICIAL | D11: % DE INCIDENCIA FINAL | E11: VALOR TOTAL DEL CONTRATO | F11: INCIDENCIA INICIAL (CANTIDAD EJECUTADA) | G11: INCIDENCIA FINAL (CANTIDAD EJECUTADA)
C17: ='ACTA 1 TERRON'!G752 -> 0.0050848226 | D17: ='ACTA 1 TERRON'!AI752 -> 0.00018923837 | E17: 2.5437758e+10 | F17: =C17*E17 -> 1.2934649e+08 | G17: =D17*E17 -> 4813800

Sheet OBRAS COMPLEMENTARIAS
A1: OBJETO | C1: REALIZAR LAS OBRAS NECESARIAS DE REPOSICION PARA EL MEJORAMIENO DE LA IPS TERON COLORADO, EN DESARROLLO DEL PROYECTO "FORTALECIMIENTO DE LA CAPACIDAD DE OPERACIÓN DE LA RED DE SALUD LADERA E.S.E. EN SANTIAGO DE CALI" CON FICHA BP-26005919, EN MARCO DEL CONVENIO INTERADMINISTRATIVO No. 4145.010.27.1.006-2025"
A2: CONTRATO NO. | C2: 00-2025-JCON-303
A3: CONTRATISTA | C3: CONSORCIO CENTRO DE SALUD TERRON COLORADO
A7: 27. OBRAS COMPLEMENTARIAS
C11: % DE INCIDENCIA INICIAL | D11: % DE INCIDENCIA FINAL | E11: VALOR TOTAL DEL CONTRATO | F11: INCIDENCIA INICIAL (CANTIDAD EJECUTADA) | G11: INCIDENCIA FINAL (CANTIDAD EJECUTADA)
C17: 0 | D17: =G17/E17 -> 0.025847022 | E17: 2.5437758e+10 | F17: =C17*E17 -> 0 | G17: ='ACTA 1 TERRON'!AH785 -> 6.574903e+08

Sheet EQUIPOS ELECTR.
A1: OBJETO | C1: REALIZAR LAS OBRAS NECESARIAS DE REPOSICION PARA EL MEJORAMIENO DE LA IPS TERON COLORADO, EN DESARROLLO DEL PROYECTO "FORTALECIMIENTO DE LA CAPACIDAD DE OPERACIÓN DE LA RED DE SALUD LADERA E.S.E. EN SANTIAGO DE CALI" CON FICHA BP-26005919, EN MARCO DEL CONVENIO INTERADMINISTRATIVO No. 4145.010.27.1.006-2025"
A2: CONTRATO NO. | C2: 00-2025-JCON-303
A3: CONTRATISTA | C3: CONSORCIO CENTRO DE SALUD TERRON COLORADO
A7: 26.1. EQUIPOS ELÉCTRICOS
C11: % DE INCIDENCIA INICIAL | D11: % DE INCIDENCIA FINAL | E11: VALOR TOTAL DEL CONTRATO | F11: INCIDENCIA INICIAL (CANTIDAD EJECUTADA) | G11: INCIDENCIA FINAL (CANTIDAD EJECUTADA)
C17: ='ACTA 1 TERRON'!G808 -> 0.0056098497 | D17: ='ACTA 1 TERRON'!AI808 -> 0.0016707447 | E17: 2.5437758e+10 | F17: =C17*E17 -> 142702000 | G17: =D17*E17 -> 42500000

Sheet EQUIPOS SENSORES
A1: OBJETO | C1: REALIZAR LAS OBRAS NECESARIAS DE REPOSICION PARA EL MEJORAMIENO DE LA IPS TERON COLORADO, EN DESARROLLO DEL PROYECTO "FORTALECIMIENTO DE LA CAPACIDAD DE OPERACIÓN DE LA RED DE SALUD LADERA E.S.E. EN SANTIAGO DE CALI" CON FICHA BP-26005919, EN MARCO DEL CONVENIO INTERADMINISTRATIVO No. 4145.010.27.1.006-2025"
A2: CONTRATO NO. | C2: 00-2025-JCON-303
A3: CONTRATISTA | C3: CONSORCIO CENTRO DE SALUD TERRON COLORADO
A7: 26.2. EQUIPOS SENSORES
C11: % DE INCIDENCIA INICIAL | D11: % DE INCIDENCIA FINAL | E11: VALOR TOTAL DEL CONTRATO | F11: INCIDENCIA INICIAL (CANTIDAD EJECUTADA) | G11: INCIDENCIA FINAL (CANTIDAD EJECUTADA)
C17: ='ACTA 1 TERRON'!G821 -> 0.0047272248 | D17: ='ACTA 1 TERRON'!AI821 -> 0.0047272248 | E17: 2.5437758e+10 | F17: =C17*E17 -> 120250000 | G17: =D17*E17 -> 120250000

Sheet EQUIPOS TRANSMISION
A1: OBJETO | C1: REALIZAR LAS OBRAS NECESARIAS DE REPOSICION PARA EL MEJORAMIENO DE LA IPS TERON COLORADO, EN DESARROLLO DEL PROYECTO "FORTALECIMIENTO DE LA CAPACIDAD DE OPERACIÓN DE LA RED DE SALUD LADERA E.S.E. EN SANTIAGO DE CALI" CON FICHA BP-26005919, EN MARCO DEL CONVENIO INTERADMINISTRATIVO No. 4145.010.27.1.006-2025"
A2: CONTRATO NO. | C2: 00-2025-JCON-303
A3: CONTRATISTA | C3: CONSORCIO CENTRO DE SALUD TERRON COLORADO
A7: 26.3. Realizar la adquisición de equipamiento fijo de trasmisión y recepción de audio
C11: % DE INCIDENCIA INICIAL | D11: % DE INCIDENCIA FINAL | E11: VALOR TOTAL DEL CONTRATO | F11: INCIDENCIA INICIAL (CANTIDAD EJECUTADA) | G11: INCIDENCIA FINAL (CANTIDAD EJECUTADA)
C17: ='ACTA 1 TERRON'!G833 -> 0.0022708369 | D17: ='ACTA 1 TERRON'!AI833 -> 0.0022708369 | E17: 2.5437758e+10 | F17: =C17*E17 -> 57765000 | G17: =D17*E17 -> 57765000

Sheet EQUIPOS FIJO ELEVACION
A1: OBJETO | C1: REALIZAR LAS OBRAS NECESARIAS DE REPOSICION PARA EL MEJORAMIENO DE LA IPS TERON COLORADO, EN DESARROLLO DEL PROYECTO "FORTALECIMIENTO DE LA CAPACIDAD DE OPERACIÓN DE LA RED DE SALUD LADERA E.S.E. EN SANTIAGO DE CALI" CON FICHA BP-26005919, EN MARCO DEL CONVENIO INTERADMINISTRATIVO No. 4145.010.27.1.006-2025"
A2: CONTRATO NO. | C2: 00-2025-JCON-303
A3: CONTRATISTA | C3: CONSORCIO CENTRO DE SALUD TERRON COLORADO
A7: 26.4. Realizar la adquisición de equipamiento fijo de elevación
C11: % DE INCIDENCIA INICIAL | D11: % DE INCIDENCIA FINAL | E11: VALOR TOTAL DEL CONTRATO | F11: INCIDENCIA INICIAL (CANTIDAD EJECUTADA) | G11: INCIDENCIA FINAL (CANTIDAD EJECUTADA)
C17: ='ACTA 1 TERRON'!G842 -> 0.046033931 | D17: ='ACTA 1 TERRON'!AI842 -> 0.037680207 | E17: 2.5437758e+10 | F17: =C17*E17 -> 1.171e+09 | G17: =D17*E17 -> 9.585e+08

Sheet EQUIPOS FIJO BOMBEO
A1: OBJETO | C1: REALIZAR LAS OBRAS NECESARIAS DE REPOSICION PARA EL MEJORAMIENO DE LA IPS TERON COLORADO, EN DESARROLLO DEL PROYECTO "FORTALECIMIENTO DE LA CAPACIDAD DE OPERACIÓN DE LA RED DE SALUD LADERA E.S.E. EN SANTIAGO DE CALI" CON FICHA BP-26005919, EN MARCO DEL CONVENIO INTERADMINISTRATIVO No. 4145.010.27.1.006-2025"
A2: CONTRATO NO. | C2: 00-2025-JCON-303
A3: CONTRATISTA | C3: CONSORCIO CENTRO DE SALUD TERRON COLORADO
A7: 26.5. Realizar la adquisición de equipamiento fijo de bombeo
C11: % DE INCIDENCIA INICIAL | D11: % DE INCIDENCIA FINAL | E11: VALOR TOTAL DEL CONTRATO | F11: INCIDENCIA INICIAL (CANTIDAD EJECUTADA) | G11: INCIDENCIA FINAL (CANTIDAD EJECUTADA)
C17: ='ACTA 1 TERRON'!G850 -> 0.0044794828 | D17: ='ACTA 1 TERRON'!AI850 -> 0.0044794828 | E17: 2.5437758e+10 | F17: =C17*E17 -> 113948000 | G17: =D17*E17 -> 113948000

Sheet EQUIPOS AIRE 
A1: OBJETO | C1: REALIZAR LAS OBRAS NECESARIAS DE REPOSICION PARA EL MEJORAMIENO DE LA IPS TERON COLORADO, EN DESARROLLO DEL PROYECTO "FORTALECIMIENTO DE LA CAPACIDAD DE OPERACIÓN DE LA RED DE SALUD LADERA E.S.E. EN SANTIAGO DE CALI" CON FICHA BP-26005919, EN MARCO DEL CONVENIO INTERADMINISTRATIVO No. 4145.010.27.1.006-2025"
A2: CONTRATO NO. | C2: 00-2025-JCON-303
A3: CONTRATISTA | C3: CONSORCIO CENTRO DE SALUD TERRON COLORADO
A7: 26.6. EQUIPOS AIRE ACONDICIONADO
C11: % DE INCIDENCIA INICIAL | D11: % DE INCIDENCIA FINAL | E11: VALOR TOTAL DEL CONTRATO | F11: INCIDENCIA INICIAL (CANTIDAD EJECUTADA) | G11: INCIDENCIA FINAL (CANTIDAD EJECUTADA)
C17: ='ACTA 1 TERRON'!G873 -> 0.072800692 | D17: ='ACTA 1 TERRON'!AI873 -> 0.072800692 | E17: 2.5437758e+10 | F17: =C17*E17 -> 1.8518864e+09 | G17: =D17*E17 -> 1.8518864e+09

Sheet RESUMEN
A1: OBJETO | C1: REALIZAR LAS OBRAS NECESARIAS DE REPOSICION PARA EL MEJORAMIENO DE LA IPS TERON COLORADO, EN DESARROLLO DEL PROYECTO "FORTALECIMIENTO DE LA CAPACIDAD DE OPERACIÓN DE LA RED DE SALUD LADERA E.S.E. EN SANTIAGO DE CALI" CON FICHA BP-26005919, EN MARCO DEL CONVENIO INTERADMINISTRATIVO No. 4145.010.27.1.006-2025"
A2: CONTRATO NO. | C2: 00-2025-JCON-303
A3: CONTRATISTA | C3: CONSORCIO CENTRO DE SALUD TERRON COLORADO
D8: RESUMEN GENERAL POR CAPITULOS
D13: Valor del contrato | E13: 2.5437758e+10
C14: Actividad | D14: Incidencia Inicial | E14: Incidencia Final | F14: Incidencia Inicial | G14: Incidencia Final
C15: OBRAS PRELIMINARES MOVIEMIENTOS DE TIERRA Y DEMOLICIONES | D15: ='PRELIMINARES MOVIMIENTOS TIERRA'!C17 -> 0.023973839 | E15: ='PRELIMINARES MOVIMIENTOS TIERRA'!D17 -> 0.020484555 | F15: =D15*$E$13 -> 609840710 | G15: =E15*$E$13 -> 5.2108115e+08
C16: OBRAS PRELIMINARES | D16: =PRELIMINARES!C17 -> 0.0050430792 | E16: =PRELIMINARES!D17 -> 0.006213509 | F16: =D16*$E$13 -> 128284630 | G16: =E16*$E$13 -> 1.5805774e+08
C17: DESAGUES BAJO TIERRA | D17: =DESAGUE!C17 -> 0.0015901378 | E17: =DESAGUE!D17 -> 0.0015901378 | F17: =D17*$E$13 -> 40449540 | G17: =E17*$E$13 -> 40449540
C18: CIMENTACION | D18: =CIMENTACION!C17 -> 0.066075137 | E18: =CIMENTACION!D17 -> 0.070868165 | F18: =D18*$E$13 -> 1.6808034e+09 | G18: =E18*$E$13 -> 1.8027272e+09
C19: INSTALACIONES ESTRUCTURA | D19: =ESTRUCTURA!C17 -> 0.1493859 | E19: =ESTRUCTURA!D17 -> 0.1493859 | F19: =D19*$E$13 -> 3.8000424e+09 | G19: =E19*$E$13 -> 3.8000424e+09
C20: MAMPOSTERIA | D20: =MAMPOSTERIA!C17 -> 0.016130826 | E20: =MAMPOSTERIA!D17 -> 0.016130826 | F20: =D20*$E$13 -> 4.1033206e+08 | G20: =E20*$E$13 -> 4.1033206e+08
C21: CUBIERTA | D21: =CUBIERTA!C17 -> 0.010768229 | E21: =CUBIERTA!D17 -> 0.010768229 | F21: =D21*$E$13 -> 2.739196e+08 | G21: =E21*$E$13 -> 2.739196e+08
C22: INSTALACIONES SANITARIAS Y AGUAS LLUVIAS | D22: ='INST. SANITARIAS'!C17 -> 0.0014460244 | E22: ='INST. SANITARIAS'!D17 -> 0.0014460244 | F22: =D22*$E$13 -> 36783619 | G22: =E22*$E$13 -> 36783619
C23: ALCANTARILLADO PLUVIAL | D23: =ALCANTARILADO!C17 -> 0.00029164837 | E23: =ALCANTARILADO!D17 -> 0.00029164837 | F23: =D23*$E$13 -> 7418880.7 | G23: =E23*$E$13 -> 7418880.7
C24: INSTALACIONES HIDRAULICAS | D24: ='INST. HIDRAULICAS'!C17 -> 0.010318812 | E24: ='INST. HIDRAULICAS'!D17 -> 0.0074460268 | F24: =D24*$E$13 -> 2.6248744e+08 | G24: =E24*$E$13 -> 1.8941023e+08
C25: INSTALACIONES ELECTRICAS | D25: ='INST. ELECTRICAS'!C17 -> 0.10895569 | E25: ='INST. ELECTRICAS'!D17 -> 0.10895569 | F25: =D25*$E$13 -> 2.7715884e+09 | G25: =E25*$E$13 -> 2.7715884e+09
C26: COMUNICACIONES | D26: =COMUNICACIONES!C17 -> 0.03508027 | E26: =COMUNICACIONES!D17 -> 0.03508027 | F26: =D26*$E$13 -> 8.9236343e+08 | G26: =E26*$E$13 -> 8.9236343e+08
C27: REDES ELECTRICAS | D27: ='RED. ELECTRICA'!C17 -> 0.0065256749 | E27: ='RED. ELECTRICA'!D17 -> 0.0065256749 | F27: =D27*$E$13 -> 1.6599854e+08 | G27: =E27*$E$13 -> 1.6599854e+08
C28: REVESTIMIENTOS | D28: =REVESTIMIENTOS!C17 -> 0.0060799623 | E28: =REVESTIMIENTOS!D17 -> 0.0060799623 | F28: =D28*$E$13 -> 1.5466061e+08 | G28: =E28*$E$13 -> 1.5466061e+08
C29: PISOS | D29: =PISOS!C17 -> 0.029213184 | E29: =PISOS!D17 -> 0.029213184 | F29: =D29*$E$13 -> 7.431179e+08 | G29: =E29*$E$13 -> 7.431179e+08
C30: CARPINTERIA EN MADERA Y METALICA | D30: ='CARP. MADERA'!C17 -> 0.0093488781 | E30: ='CARP. MADERA'!D17 -> 0.0093488781 | F30: =D30*$E$13 -> 2.378145e+08 | G30: =E30*$E$13 -> 2.378145e+08
C31: CARPINTERIA METALICA ALUMINIO | D31: ='CARP. METALICA'!C17 -> 0.026550342 | E31: ='CARP. METALICA'!D17 -> 0.026550342 | F31: =D31*$E$13 -> 6.7538117e+08 | G31: =E31*$E$13 -> 6.7538117e+08
C32: DIVISIONES | D32: =DIVISIONES!C17 -> 0.025753464 | E32: =DIVISIONES!D17 -> 0.025753464 | F32: =D32*$E$13 -> 6.5511038e+08 | G32: =E32*$E$13 -> 6.5511038e+08
C33: EQUIPAMIENTO BAÑOS - OTROS | D33: ='EQUIPAMIENTO BAÑOS'!C17 -> 0.017004868 | E33: =PINTURA!D17 -> 0.012505746 | F33: =D33*$E$13 -> 4.3256572e+08 | G33: =E33*$E$13 -> 3.1811815e+08
C34: PINTURA | D34: =PINTURA!C17 -> 0.012505746 | E34: =PINTURA!D17 -> 0.012505746 | F34: =D34*$E$13 -> 3.1811815e+08 | G34: =E34*$E$13 -> 3.1811815e+08
C35: OBRAS EXTERIORES - CERRAMIENTOS | D35: ='OBRAS EXTERIORES'!C17 -> 0.0011381181 | E35: ='OBRAS EXTERIORES'!D17 -> 0.0006629284 | F35: =D35*$E$13 -> 28951172 | G35: =E35*$E$13 -> 16863412
C36: LIMPIEZA - VARIOS | D36: ='LIMPIEZA VARIOS'!C17 -> 0.0041817917 | E36: ='LIMPIEZA VARIOS'!D17 -> 0.0041807567 | F36: =D36*$E$13 -> 1.0637541e+08 | G36: =E36*$E$13 -> 1.0634908e+08
C37: RED CONTRAINCENDIOS | D37: =RCI!C17 -> 0.0098707086 | E37: =RCI!D17 -> 0.0098707086 | F37: =D37*$E$13 -> 2.510887e+08 | G37: =E37*$E$13 -> 2.510887e+08
C38: SISTEMA DE AIRE ACONDICIONADO Y VENTILACION MECANICA | D38: ='AIRE ACONDICIONADO'!C17 -> 0.063049007 | E38: ='AIRE ACONDICIONADO'!D17 -> 0.063049007 | F38: =D38*$E$13 -> 1.6038254e+09 | G38: =E38*$E$13 -> 1.6038254e+09
C39: REDES GASES MEDICINALES | D39: ='GASES MEDICINALES'!C17 -> 0.014235357 | E39: ='GASES MEDICINALES'!D17 -> 0.014235357 | F39: =D39*$E$13 -> 3.6211558e+08 | G39: =E39*$E$13 -> 3.6211558e+08
C40: SEÑALETICA HOSPITALARIA | D40: =SEÑALETICA!C17 -> 0.0050848226 | E40: =SEÑALETICA!D17 -> 0.00018923837 | F40: =D40*$E$13 -> 1.2934649e+08 | G40: =E40*$E$13 -> 4813800
C41: OBRAS COMPLEMENTARIAS | D41: ='OBRAS COMPLEMENTARIAS'!C17 -> 0 | E41: ='OBRAS COMPLEMENTARIAS'!D17 -> 0.025847022 | F41: =D41*$E$13 -> 0 | G41: =E41*$E$13 -> 6.574903e+08
C42: ADMINISTRACION | D42: =SUM(D15:D41)*(0.31) -> 0.20447647 | E42: =SUM(E15:E41)*(0.31) -> 0.20930549 | F42: =SUM(F6:F41)*(0.31) -> 5.201423e+09 | G42: =SUM(G6:G41)*(0.31) -> 5.3242624e+09
C43: EQUIPOS ELÉCTRICOS | D43: ='EQUIPOS ELECTR.'!C17 -> 0.0056098497 | E43: ='EQUIPOS ELECTR.'!D17 -> 0.0016707447 | F43: =D43*$E$13 -> 142702000
C44: EQUIPOS SENSORES | D44: ='EQUIPOS SENSORES'!C17 -> 0.0047272248 | E44: ='EQUIPOS SENSORES'!D17 -> 0.0047272248 | F44: =D44*$E$13 -> 120250000
C45: Realizar la adquisición de equipamiento fijo de trasmisión y recepción de audio | D45: ='EQUIPOS TRANSMISION'!C17 -> 0.0022708369 | E45: ='EQUIPOS TRANSMISION'!D17 -> 0.0022708369 | F45: =D45*$E$13 -> 57765000
C46: Realizar la adquisición de equipamiento fijo de elevación | D46: ='EQUIPOS FIJO ELEVACION'!C17 -> 0.046033931 | E46: ='EQUIPOS FIJO ELEVACION'!D17 -> 0.037680207 | F46: =D46*$E$13 -> 1.171e+09
C47: Realizar la adquisición de equipamiento fijo de bombeo | D47: ='EQUIPOS FIJO BOMBEO'!C17 -> 0.0044794828 | E47: ='EQUIPOS FIJO BOMBEO'!D17 -> 0.0044794828 | F47: =D47*$E$13 -> 113948000
C48: EQUIPOS AIRE ACONDICIONADO | D48: ='EQUIPOS AIRE '!C17 -> 0.072800692 | E48: ='EQUIPOS AIRE '!D17 -> 0.072800692 | F48: =D48*$E$13 -> 1.8518864e+09
...
