Workbook
Name \0: #REF!
Name \00: #REF!
Name \a: #REF!
Name \a: #REF!
Name \a: #REF!
Name \a: #REF!
Name \a: #REF!
Name \a: #REF!
Name \a: #REF!
Name \a: #REF!
Name \a: #REF!
Name \a: #REF!
Name \a: #REF!
Name \a: #REF!
Name \a: #REF!
Name \a: #REF!
Name \a: #REF!
Name \a: #REF!
Name \a: #REF!
Name \a: #REF!
Name \a: #REF!
Name \a: #REF!
Name \a: #REF!
Name \a: #REF!
Name \a: #REF!
Name \a: #REF!
Name \a: #REF!
Name \a: #REF!
Name \a: #REF!
Name \a: #REF!
Name \a: #REF!
Name \a: #REF!
Name \a: #REF!
Name \a: #REF!
Name \a: #REF!
Name \a: #REF!
Name \a: #REF!
Name \a: #REF!
Name \a: #REF!
Name \a: #REF!
Name \a: #REF!
Name \a: #REF!
Name \a: #REF!
Name \a: #REF!
Name \a: #REF!
Name \a: #REF!
Name \a: #REF!
Name \a: #REF!
Name \a: #REF!
Name \a: #REF!
Name \a: #REF!
Name \a: #REF!
Name \a: #REF!
Name \a: #REF!
Name \a: #REF!
Name \a: #REF!
Name \a: #REF!
Name \a: #REF!
Name \a: #REF!
Name \a: #REF!

Sheet PRESUPUESTO
C3: Formulario 1 - Pesupuesto oficial - Documento tipo de selección abreviada de menor cuantía - versión 1
C4: Versión: 1 del 21 de agosto de 2025
C5: [La Entidad puede utilizar este Formulario de detalle del Presupuesto Oficial para determinar las condiciones bajo las cuales los Proponentes analizarán y presentarán su propuesta económica de forma detallada, sin perjuicio que la Entidad pueda modificarlo o establecer la presentación de la oferta económica con un Formulario distinto al indicado.]
C7: Adicionalmente, cuando el Proceso de Contratación es estructurado por Precios Unitarios, la Entidad debe aplicar las notas 1, 2 y 3 del presente Formulario y las casillas de "Descripción", "Porcentaje" de la Administración, Imprevisto, Utilidad y total A.I.U. resaltadas en color amarillo. Tratándose de otras modalidades de precio, la Entidad puede o no configurar los mismos aspectos.
C9: Nº | D9: ÍTEM DE PAGO | E9: ESPECIFICACIONES | G9: DESCRIPCIÓN | H9: UND. | I9: CANTIDAD | J9: VALOR UNITARIO | K9: VALOR TOTAL
E10: GENERAL | F10: PARTICULAR
C11: 1 | G11: OBRAS PRELIMINARES
C12: 1.1 | G12: DEMOLICIÓN CIELO RASO FALSO | H12: M2 | I12: 659.5 | J12: ='ICCU 1.1'!O58 -> 19575 | K12: =+I12*J12 -> 12909712
C13: 1.2 | G13: DEMOLICIÓN PLACA PISO 0.10M, INC RETIRO | H13: M2 | I13: 32.91 | J13: ='ICCU 1.2'!O58 -> 29615 | K13: =+I13*J13 -> 974629.65
C14: 1.3 | G14: DESMONTE DE CUBIERTAS (ASBESTO CEMENTO) | H14: M2 | I14: 99.18 | J14: ='ICCU 1.3'!O58 -> 21672 | K14: =+I14*J14 -> 2149429
C15: 1.4 | G15: DEMOLICIÓN PAÑETE | H15: M2 | I15: 40.6 | J15: ='ICCU 1.4'!O58 -> 19029 | K15: =+I15*J15 -> 772577.4
C16: 1.5 | G16: DESMONTE E INSTALACION DE VENTILADOR DE TECHO | H16: UN | I16: 6 | J16: ='1.5'!O57 -> 62389 | K16: =+I16*J16 -> 374334
C17: 1.6 | G17: DESMONTE APARATOS SANITARIOS, INC RETIRO | H17: UN | I17: 1 | J17: ='ICCU 1.6'!O58 -> 40253 | K17: =+I17*J17 -> 40253
C18: 1.7 | G18: DEMOLICIÓN PLACA MACIZA 0.10 M, INC RETIRO INC RETIRO | H18: M2 | I18: 15.52 | J18: ='1.7'!O58 -> 44893 | K18: =+I18*J18 -> 696739.36
C19: 1.8 | G19: DEMOLICIÓN MUROS EN MAMPOSTERÍA 0.15 M, INC RETIRO | H19: M2 | I19: 47.37 | J19: ='ICCU 1.8'!O58 -> 26178 | K19: =+I19*J19 -> 1240051.9
C20: 1.9 | G20: RETIRO DE SOBRANTES A UNA DISTANCIA DE 5 KM (INCLUYE CARGUE Y BOTADERO AUTORIZADO) | H20: M3 | I20: 2.55 | J20: ='ICCU 1.9'!O58 -> 12762 | K20: =+I20*J20 -> 32543.1
C21: 1.10 | G21: DESCAPOTE MANUAL Y RETIRO E= 0.20 M APILE A 15 M | H21: M2 | I21: 19.98 | J21: ='ICCU 1.10'!O58 -> 11851 | K21: =+I21*J21 -> 236782.98
C22: SUBTOTAL OBRAS PRELIMINARES | K22: =SUM(K12:K21) -> 19427053
C23: 2 | G23: EXCAVACIONES Y RELLENOS
C24: 2.1 | G24: EXCAVACIÓN MANUAL EN MATERIAL COMÚN H=0.0-2.0 M (INCLUYE RETIRO DE SOBRANTES A UNA DISTANCIA MENOR DE 5 KM) | H24: M3 | I24: 10.63 | J24: ='ICCU 2.1'!O57 -> 63372 | K24: =+I24*J24 -> 673644.36
C25: 2.2 | G25: RELLENO EN RECEBO COMÚN COMPACTADO MECÁNICAMENTE | H25: M3 | I25: 4.19 | J25: ='ICCU 2.2'!O58 -> 125320 | K25: =+I25*J25 -> 525090.8
C26: SUBTOTAL EXCAVACIONES Y RELLENOS | K26: =SUM(K24:K25) -> 1198735.2
C27: 3 | G27: CIMIENTOS
C28: 3.1 | G28: VIGA AMARRE EN CONCRETO 3500 PSI | H28: M3 | I28: 1.17 | J28: ='ICCU 3.1'!O60 -> 960167 | K28: =+I28*J28 -> 1123395.4
C29: 3.2 | G29: ZAPATAS EN CONCRETO 3500PSI | H29: M3 | I29: 0.77 | J29: ='ICCU 3.2'!O61 -> 872157 | K29: =+I29*J29 -> 671560.89
C30: SUBTOTAL CIMIENTOS | K30: =SUM(K28:K29) -> 1794956.3
C31: 4 | G31: ESTRUCTURAS EN CONCRETO
C32: 4.1 | G32: COLUMNAS 3500 PSI | H32: M3 | I32: 0.89 | J32: ='ICCU 4.1'!O62 -> 1203755 | K32: =+I32*J32 -> 1071341.9
C33: 4.2 | G33: VIGA AÉREA 3500 PSI | H33: M3 | I33: 1.15 | J33: ='ICCU 4.2'!O63 -> 1193924 | K33: =+I33*J33 -> 1373012.6
C34: 4.3 | G34: ACERO FIGURADO 60000 PSI | H34: KG | I34: 915.57 | J34: ='ICCU 4.3'!O60 -> 8548 | K34: =+I34*J34 -> 7826292.4
C35: 4.4 | G35: ESCALERA MACIZA 3500 PSI | H35: M3 | I35: 1.33 | J35: ='ICCU 4.4'!O63 -> 1315129 | K35: =+I35*J35 -> 1749121.6
C36: 4.5 | G36: ENTREPISO PLACA MACIZA 3500 PSI E=0.15 M | H36: M2 | I36: 3.75 | J36: ='ICCU 4.5'!O59 -> 142911 | K36: =+I36*J36 -> 535916.25
C37: 4.6 | G37: CONCRETO CICLÓPEO 2000 PSI, 40% RAJÓN | H37: M3 | I37: 0.64 | J37: 363770 | K37: =+I37*J37 -> 232812.8
C38: SUBTOTAL ESTRUCTURAS EN CONCRETO | K38: =SUM(K32:K37) -> 12788498
C39: 5 | G39: MAMPOSTERÍA
C40: 5.1 | G40: MURO DRYWALL DOBLE CARA 0.12 M | H40: M2 | I40: 17.51 | J40: ='ICCU 5.1'!O64 -> 140800 | K40: =+I40*J40 -> 2465408
C41: 5.2 | G41: MURO SUPERBOARD 8MM DOBLE CARA 0.12 M | H41: M2 | I41: 20.91 | J41: ='ICCU 5.2'!O64 -> 187856 | K41: =+I41*J41 -> 3928069
C42: 5.3 | G42: MURO EN BLOQUE No. 5 E=0.12 | H42: M2 | I42: 28.55 | J42: ='ICCU 5.3'!O64 -> 64121 | K42: =+I42*J42 -> 1830654.6
C43: 5.4 | G43: DINTELES CONCRETO DE 2500 PSI 15x20, INC. ACERO | H43: ML | I43: 4.9 | J43: ='ICCU 5.4'!O64 -> 74221 | K43: =+I43*J43 -> 363682.9
C44: SUBTOTAL MAMPOSTERIA | K44: =SUM(K40:K43) -> 8587814.4
...

Sheet OFERTA ECONOMICA
C3: Formulario 1 A - Oferta económica - Documento tipo de selección abreviada de menor cuantía - versión 1
C4: Versión: 1 del 21 de agosto de 2025
C5: [La Entidad puede utilizar este Formulario de detalle del Presupuesto Oficial para determinar las condiciones bajo las cuales los Proponentes analizarán y presentarán su propuesta económica de forma detallada, sin perjuicio que la Entidad pueda modificarlo o establecer la presentación de la oferta económica con un Formulario distinto al indicado.]
C7: Adicionalmente, cuando el Proceso de Contratación es estructurado por Precios Unitarios, la Entidad debe aplicar las notas 1, 2 y 3 del presente Formulario y las casillas de "Descripción", "Porcentaje" de la Administración, Imprevisto, Utilidad y total A.I.U. resaltadas en color amarillo. Tratándose de otras modalidades de precio, la Entidad puede o no configurar los mismos aspectos.
C9: Nº | D9: ÍTEM DE PAGO | E9: ESPECIFICACIONES | G9: DESCRIPCIÓN | H9: UND. | I9: CANTIDAD | J9: VALOR UNITARIO | K9: VALOR TOTAL
E10: GENERAL | F10: PARTICULAR
C11: 1 | G11: OBRAS PRELIMINARES
C12: 1.1 | G12: DEMOLICIÓN CIELO RASO FALSO | H12: M2 | I12: 659.5 | K12: =+I12*J12 -> 0
C13: 1.2 | G13: DEMOLICIÓN PLACA PISO 0.10M, INC RETIRO | H13: M2 | I13: 32.91 | K13: =+I13*J13 -> 0
C14: 1.3 | G14: DESMONTE DE CUBIERTAS (ASBESTO CEMENTO) | H14: M2 | I14: 99.18 | K14: =+I14*J14 -> 0
C15: 1.4 | G15: DEMOLICIÓN PAÑETE | H15: M2 | I15: 40.6 | K15: =+I15*J15 -> 0
C16: 1.5 | G16: DESMONTE E INSTALACION DE VENTILADOR DE TECHO | H16: UN | I16: 6 | K16: =+I16*J16 -> 0
C17: 1.6 | G17: DESMONTE APARATOS SANITARIOS, INC RETIRO | H17: UN | I17: 1 | K17: =+I17*J17 -> 0
C18: 1.7 | G18: DEMOLICIÓN PLACA MACIZA 0.10 M, INC RETIRO INC RETIRO | H18: M2 | I18: 15.52 | K18: =+I18*J18 -> 0
C19: 1.8 | G19: DEMOLICIÓN MUROS EN MAMPOSTERÍA 0.15 M, INC RETIRO | H19: M2 | I19: 47.37 | K19: =+I19*J19 -> 0
C20: 1.9 | G20: RETIRO DE SOBRANTES A UNA DISTANCIA DE 5 KM (INCLUYE CARGUE Y BOTADERO AUTORIZADO) | H20: M3 | I20: 2.55 | K20: =+I20*J20 -> 0
C21: 1.10 | G21: DESCAPOTE MANUAL Y RETIRO E= 0.20 M APILE A 15 M | H21: M2 | I21: 19.98 | K21: =+I21*J21 -> 0
C22: SUBTOTAL OBRAS PRELIMINARES | K22: =SUM(K12:K21) -> 0
C23: 2 | G23: EXCAVACIONES Y RELLENOS
C24: 2.1 | G24: EXCAVACIÓN MANUAL EN MATERIAL COMÚN H=0.0-2.0 M (INCLUYE RETIRO DE SOBRANTES A UNA DISTANCIA MENOR DE 5 KM) | H24: M3 | I24: 10.63 | K24: =+I24*J24 -> 0
C25: 2.2 | G25: RELLENO EN RECEBO COMÚN COMPACTADO MECÁNICAMENTE | H25: M3 | I25: 4.19 | K25: =+I25*J25 -> 0
C26: SUBTOTAL EXCAVACIONES Y RELLENOS | K26: =SUM(K24:K25) -> 0
C27: 3 | G27: CIMIENTOS
C28: 3.1 | G28: VIGA AMARRE EN CONCRETO 3500 PSI | H28: M3 | I28: 1.17 | K28: =+I28*J28 -> 0
C29: 3.2 | G29: ZAPATAS EN CONCRETO 3500PSI | H29: M3 | I29: 0.77 | K29: =+I29*J29 -> 0
C30: SUBTOTAL CIMIENTOS | K30: =SUM(K28:K29) -> 0
C31: 4 | G31: ESTRUCTURAS EN CONCRETO
C32: 4.1 | G32: COLUMNAS 3500 PSI | H32: M3 | I32: 0.89 | K32: =+I32*J32 -> 0
C33: 4.2 | G33: VIGA AÉREA 3500 PSI | H33: M3 | I33: 1.15 | K33: =+I33*J33 -> 0
C34: 4.3 | G34: ACERO FIGURADO 60000 PSI | H34: KG | I34: 915.57 | K34: =+I34*J34 -> 0
C35: 4.4 | G35: ESCALERA MACIZA 3500 PSI | H35: M3 | I35: 1.33 | K35: =+I35*J35 -> 0
C36: 4.5 | G36: ENTREPISO PLACA MACIZA 3500 PSI E=0.15 M | H36: M2 | I36: 3.75 | K36: =+I36*J36 -> 0
C37: 4.6 | G37: CONCRETO CICLÓPEO 2000 PSI, 40% RAJÓN | H37: M3 | I37: 0.64 | K37: =+I37*J37 -> 0
C38: SUBTOTAL ESTRUCTURAS EN CONCRETO | K38: =SUM(K32:K37) -> 0
C39: 5 | G39: MAMPOSTERÍA
C40: 5.1 | G40: MURO DRYWALL DOBLE CARA 0.12 M | H40: M2 | I40: 17.51 | K40: =+I40*J40 -> 0
C41: 5.2 | G41: MURO SUPERBOARD 8MM DOBLE CARA 0.12 M | H41: M2 | I41: 20.91 | K41: =+I41*J41 -> 0
C42: 5.3 | G42: MURO EN BLOQUE No. 5 E=0.12 | H42: M2 | I42: 28.55 | K42: =+I42*J42 -> 0
C43: 5.4 | G43: DINTELES CONCRETO DE 2500 PSI 15x20, INC. ACERO | H43: ML | I43: 4.9 | K43: =+I43*J43 -> 0
C44: SUBTOTAL MAMPOSTERIA | K44: =SUM(K40:K43) -> 0
...

Sheet ICCU 1.1
C3: Formulario 1 - Propuesta económica - Documento tipo de selección abreviada de menor cuantía - versión 1
C4: Versión: 1 del 21 de agosto de 2025
C6: [La Entidad podrá utilizar este Formato para la presentación de los análisis de Precios Unitarios del Contratista en la oportunidad prevista en el numeral 8.2. del Documento Base]
D9: MUNICIPIO DE EL ESPINAL
L10: VERSIÓN
D11: [NÚMERO DEL PROCESO]
L12: PÁGINA | M12: 1 | N12: DE | O12: 1
D14: ANÁLISIS DE PRECIOS UNITARIOS
L16: FECHA | M16: DD | N16: MM | O16: AA
C18: ÍTEMS DE LA PROPUESTA ECONÓMICA
C22: DATOS ESPECÍFICOS
C24: ÍTEM | D24: DESCRIPCIÓN | M24: UNIDAD | O24: CANTIDAD
C25: 1.1 | D25: DEMOLICIÓN CIELO RASO FALSO, INC RETIRO | M25: M2
C26: I. EQUIPO
C29: DESCRIPCIÓN | H29: UNIDAD | J29: TIPO | L29: TARIFA | M29: RENDIMIENTO | O29: Vr. UNITARIO
C30: VOLQUETA M3 | H30: H | L30: 83867 | M30: 40 | O30: =L30/M30 -> 2096.675
C31: HERRAMIENTA MENOR | H31: GL | L31: 758.73 | M31: 1 | O31: =L31/M31 -> 758.73
C32: SECCION DE 1,4 POR 1,4 H=2,0 - ANDAMIO CERTIFICADO | H32: D | L32: 30900 | M32: 20 | O32: =L32/M32 -> 1545
C33: SUBTOTAL $ | O33: =SUM(O30:O32) -> 4400.405
C34: II. MATERIALES
C37: DESCRIPCIÓN | K37: UNIDAD | L37: CANTIDAD | M37: PRECIO UNIT. | O37: Vr. UNITARIO
C40: SUBTOTAL $ | O40: 0
C41: III. TRANSPORTES
C44: MATERIAL | J44: VOL. o PESO | K44: DISTANCIA | L44: M3 o Ton/Km | M44: TARIFA | O44: Vr. UNITARIO
C47: SUBTOTAL $
C48: IV. MANO DE OBRA
C51: TRABAJADOR | J51: JORNAL | K51: PRESTACIONES | L51: HORA TOTAL | M51: RENDIMIENTO | O51: Vr. UNITARIO
C52: AYUDANTE (2) AA | J52: 151745 | K52: 2 | L52: =J52*K52 -> 303490 | M52: 20 | O52: =L52/M52 -> 15174.5
C56: SUBTOTAL $ | O56: =SUM(O52) -> 15174.5
C58: TOTAL COSTO DIRECTO $ | O58: =ROUND(O33+O56,0) -> 19575
C59: V. COSTOS INDIRECTOS
C62: Descripción | L62: Porcentaje | M62: Valor Total
C63: ADMINISTRACION
C64: IMPREVISTOS
C65: UTILIDAD
C66: SUBTOTAL $
C68: Precio Unitario Total Aproximado al peso $
C70: Firma | H70: Firma
C71: Nombre: JUAN FELIPE VARON VASQUEZ | H71: Nombre: RICARDO JOSE GUTIERREZ PARRA
C72: SECRETARIO DE PLANEACION INFRAESTRUCTURA Y MEDIO AMBIENTE | H72: DIRECTOR ADMINISTRATIVO DE INFRAESTRUCTURA
...

Sheet ICCU 1.2
C3: Formulario 1 - Propuesta económica - Documento tipo de selección abreviada de menor cuantía - versión 1
C4: Versión: 1 del 21 de agosto de 2025
C6: [La Entidad podrá utilizar este Formato para la presentación de los análisis de Precios Unitarios del Contratista en la oportunidad prevista en el numeral 8.2. del Documento Base]
D9: MUNICIPIO DE EL ESPINAL
L10: VERSIÓN
D11: [NÚMERO DEL PROCESO]
L12: PÁGINA | M12: 1 | N12: DE | O12: 1
D14: ANÁLISIS DE PRECIOS UNITARIOS
L16: FECHA | M16: DD | N16: MM | O16: AA
C18: ÍTEMS DE LA PROPUESTA ECONÓMICA
C22: DATOS ESPECÍFICOS
C24: ÍTEM | D24: DESCRIPCIÓN | M24: UNIDAD | O24: CANTIDAD
C25: 1.2 | D25: DEMOLICIÓN PLACA PISO 0.10M, INC RETIRO | M25: M2
C26: I. EQUIPO
C29: DESCRIPCIÓN | H29: UNIDAD | J29: TIPO | L29: TARIFA | M29: RENDIMIENTO | O29: Vr. UNITARIO
C30: VOLQUETA M3 | H30: H | L30: 83867 | M30: 24 | O30: =L30/M30 -> 3494.4583
C31: HERRAMIENTA MENOR | H31: GL | L31: 1243.82 | M31: 1 | O31: =L31/M31 -> 1243.82
C33: SUBTOTAL $ | O33: =SUM(O30:O32) -> 4738.2783
C34: II. MATERIALES
C37: DESCRIPCIÓN | K37: UNIDAD | L37: CANTIDAD | M37: PRECIO UNIT. | O37: Vr. UNITARIO
C40: SUBTOTAL $ | O40: 0
C41: III. TRANSPORTES
C44: MATERIAL | J44: VOL. o PESO | K44: DISTANCIA | L44: M3 o Ton/Km | M44: TARIFA | O44: Vr. UNITARIO
C47: SUBTOTAL $
C48: IV. MANO DE OBRA
C51: TRABAJADOR | J51: JORNAL | K51: PRESTACIONES | L51: HORA TOTAL | M51: RENDIMIENTO | O51: Vr. UNITARIO
C52: AYUDANTE (1) AA | J52: 75873 | K52: 2 | L52: =J52*K52 -> 151746 | M52: 6.1 | O52: =L52/M52 -> 24876.393
C56: SUBTOTAL $ | O56: =SUM(O52) -> 24876.393
C58: TOTAL COSTO DIRECTO $ | O58: =ROUND(O33+O56,0) -> 29615
C59: V. COSTOS INDIRECTOS
C62: Descripción | L62: Porcentaje | M62: Valor Total
C63: ADMINISTRACION
C64: IMPREVISTOS
C65: UTILIDAD
C66: SUBTOTAL $
C68: Precio Unitario Total Aproximado al peso $
C70: Firma | H70: Firma
C71: Nombre: JUAN FELIPE VARON VASQUEZ | H71: Nombre: RICARDO JOSE GUTIERREZ PARRA
C72: SECRETARIO DE PLANEACION INFRAESTRUCTURA Y MEDIO AMBIENTE | H72: DIRECTOR ADMINISTRATIVO DE INFRAESTRUCTURA
C73: CEDULA : | H73: CEDULA :
...

Sheet ICCU 1.3
C3: Formulario 1 - Propuesta económica - Documento tipo de selección abreviada de menor cuantía - versión 1
C4: Versión: 1 del 21 de agosto de 2025
C6: [La Entidad podrá utilizar este Formato para la presentación de los análisis de Precios Unitarios del Contratista en la oportunidad prevista en el numeral 8.2. del Documento Base]
D9: MUNICIPIO DE EL ESPINAL
L10: VERSIÓN
D11: [NÚMERO DEL PROCESO]
L12: PÁGINA | M12: 1 | N12: DE | O12: 1
D14: ANÁLISIS DE PRECIOS UNITARIOS
L16: FECHA | M16: DD | N16: MM | O16: AA
C18: ÍTEMS DE LA PROPUESTA ECONÓMICA
C22: DATOS ESPECÍFICOS
C24: ÍTEM | D24: DESCRIPCIÓN | M24: UNIDAD | O24: CANTIDAD
C25: 1.3 | D25: DESMONTE DE CUBIERTAS (ASBESTO CEMENTO), INC RETIRO | M25: M2
C26: I. EQUIPO
C29: DESCRIPCIÓN | H29: UNIDAD | J29: TIPO | L29: TARIFA | M29: RENDIMIENTO | O29: Vr. UNITARIO
C30: VOLQUETA M3 | H30: H | L30: 83867 | M30: 20 | O30: =L30/M30 -> 4193.35
C31: HERRAMIENTA MENOR | H31: GL | L31: 758.73 | M31: 1 | O31: =L31/M31 -> 758.73
C32: SECCION DE 1,4 POR 1,4 H=2,0 - ANDAMIO CERTIFICADO | H32: D | L32: 30900 | M32: 20 | O32: =L32/M32 -> 1545
C33: SUBTOTAL $ | O33: =SUM(O30:O32) -> 6497.08
C34: II. MATERIALES
C37: DESCRIPCIÓN | K37: UNIDAD | L37: CANTIDAD | M37: PRECIO UNIT. | O37: Vr. UNITARIO
C40: SUBTOTAL $ | O40: 0
C41: III. TRANSPORTES
C44: MATERIAL | J44: VOL. o PESO | K44: DISTANCIA | L44: M3 o Ton/Km | M44: TARIFA | O44: Vr. UNITARIO
C47: SUBTOTAL $
C48: IV. MANO DE OBRA
C51: TRABAJADOR | J51: JORNAL | K51: PRESTACIONES | L51: HORA TOTAL | M51: RENDIMIENTO | O51: Vr. UNITARIO
C52: AYUDANTE (2) AA | J52: 151745 | K52: 2 | L52: =J52*K52 -> 303490 | M52: 20 | O52: =L52/M52 -> 15174.5
C56: SUBTOTAL $ | O56: =SUM(O52) -> 15174.5
C58: TOTAL COSTO DIRECTO $ | O58: =ROUND(O33+O56,0) -> 21672
C59: V. COSTOS INDIRECTOS
C62: Descripción | L62: Porcentaje | M62: Valor Total
C63: ADMINISTRACION
C64: IMPREVISTOS
C65: UTILIDAD
C66: SUBTOTAL $
C68: Precio Unitario Total Aproximado al peso $
C70: Firma | H70: Firma
C71: Nombre: JUAN FELIPE VARON VASQUEZ | H71: Nombre: RICARDO JOSE GUTIERREZ PARRA
C72: SECRETARIO DE PLANEACION INFRAESTRUCTURA Y MEDIO AMBIENTE | H72: DIRECTOR ADMINISTRATIVO DE INFRAESTRUCTURA
...

Sheet ICCU 1.4
C3: Formulario 1 - Propuesta económica - Documento tipo de selección abreviada de menor cuantía - versión 1
C4: Versión: 1 del 21 de agosto de 2025
C6: [La Entidad podrá utilizar este Formato para la presentación de los análisis de Precios Unitarios del Contratista en la oportunidad prevista en el numeral 8.2. del Documento Base]
D9: MUNICIPIO DE EL ESPINAL
L10: VERSIÓN
D11: [NÚMERO DEL PROCESO]
L12: PÁGINA | M12: 1 | N12: DE | O12: 1
D14: ANÁLISIS DE PRECIOS UNITARIOS
L16: FECHA | M16: DD | N16: MM | O16: AA
C18: ÍTEMS DE LA PROPUESTA ECONÓMICA
C22: DATOS ESPECÍFICOS
C24: ÍTEM | D24: DESCRIPCIÓN | M24: UNIDAD | O24: CANTIDAD
C25: 1.4 | D25: DEMOLICIÓN PAÑETE, INC RETIRO | M25: M2
C26: I. EQUIPO
C29: DESCRIPCIÓN | H29: UNIDAD | J29: TIPO | L29: TARIFA | M29: RENDIMIENTO | O29: Vr. UNITARIO
C30: VOLQUETA M3 | H30: H | L30: 83867 | M30: 50 | O30: =L30/M30 -> 1677.34
C31: HERRAMIENTA MENOR | H31: GL | L31: 632.27 | M31: 1 | O31: =L31/M31 -> 632.27
C32: SECCION DE 1,4 POR 1,4 H=2,0 - ANDAMIO CERTIFICADO | H32: D | L32: 30900 | M32: 20 | O32: =L32/M32 -> 1545
C33: SUBTOTAL $ | O33: =SUM(O30:O32) -> 3854.61
C34: II. MATERIALES
C37: DESCRIPCIÓN | K37: UNIDAD | L37: CANTIDAD | M37: PRECIO UNIT. | O37: Vr. UNITARIO
C40: SUBTOTAL $ | O40: 0
C41: III. TRANSPORTES
C44: MATERIAL | J44: VOL. o PESO | K44: DISTANCIA | L44: M3 o Ton/Km | M44: TARIFA | O44: Vr. UNITARIO
C47: SUBTOTAL $
C48: IV. MANO DE OBRA
C51: TRABAJADOR | J51: JORNAL | K51: PRESTACIONES | L51: HORA TOTAL | M51: RENDIMIENTO | O51: Vr. UNITARIO
C52: AYUDANTE (2) AA | J52: 151745 | K52: 2 | L52: =J52*K52 -> 303490 | M52: 20 | O52: =L52/M52 -> 15174.5
C56: SUBTOTAL $ | O56: =SUM(O52) -> 15174.5
C58: TOTAL COSTO DIRECTO $ | O58: =ROUND(O33+O56,0) -> 19029
C59: V. COSTOS INDIRECTOS
C62: Descripción | L62: Porcentaje | M62: Valor Total
C63: ADMINISTRACION
C64: IMPREVISTOS
C65: UTILIDAD
C66: SUBTOTAL $
C68: Precio Unitario Total Aproximado al peso $
C70: Firma | H70: Firma
C71: Nombre: JUAN FELIPE VARON VASQUEZ | H71: Nombre: RICARDO JOSE GUTIERREZ PARRA
C72: SECRETARIO DE PLANEACION INFRAESTRUCTURA Y MEDIO AMBIENTE | H72: DIRECTOR ADMINISTRATIVO DE INFRAESTRUCTURA
...

Sheet 1.5
C3: Formulario 1 - Propuesta económica - Documento tipo de selección abreviada de menor cuantía - versión 1
C4: Versión: 1 del 21 de agosto de 2025
C6: [La Entidad podrá utilizar este Formato para la presentación de los análisis de Precios Unitarios del Contratista en la oportunidad prevista en el numeral 8.2. del Documento Base]
D9: MUNICIPIO DE EL ESPINAL
L10: VERSIÓN
D11: [NÚMERO DEL PROCESO]
L12: PÁGINA | M12: 1 | N12: DE | O12: 1
D14: ANÁLISIS DE PRECIOS UNITARIOS
L16: FECHA | M16: DD | N16: MM | O16: AA
C18: ÍTEMS DE LA PROPUESTA ECONÓMICA
C22: DATOS ESPECÍFICOS
C24: ÍTEM | D24: DESCRIPCIÓN | M24: UNIDAD | O24: CANTIDAD
C25: 1.5 | D25: DESMONTE E INSTALACION DE VENTILADOR DE TECHO | M25: UN
C26: I. EQUIPO
C29: DESCRIPCIÓN | H29: UNIDAD | J29: TIPO | L29: TARIFA | M29: RENDIMIENTO | O29: Vr. UNITARIO
C30: HERRAMIENTA MENOR | H30: GL | L30: 1046.46 | M30: 1 | O30: =L30/M30 -> 1046.46
C31: SECCION DE 1,4 POR 1,4 H=2,0 - ANDAMIO CERTIFICADO | H31: D | L31: 30900 | M31: 20 | O31: =L31/M31 -> 1545
C32: SUBTOTAL $ | O32: =SUM(O30:O31) -> 2591.46
C33: II. MATERIALES
C36: DESCRIPCIÓN | K36: UNIDAD | L36: CANTIDAD | M36: PRECIO UNIT. | O36: Vr. UNITARIO
C39: SUBTOTAL $ | O39: 0
C40: III. TRANSPORTES
C43: MATERIAL | J43: VOL. o PESO | K43: DISTANCIA | L43: M3 o Ton/Km | M43: TARIFA | O43: Vr. UNITARIO
C46: SUBTOTAL $
C47: IV. MANO DE OBRA
C50: TRABAJADOR | J50: JORNAL | K50: PRESTACIONES | L50: HORA TOTAL | M50: RENDIMIENTO | O50: Vr. UNITARIO
C51: MANO DE OBRA BB | J51: 209292 | K51: 2 | L51: =J51*K51 -> 418584 | M51: 7 | O51: =L51/M51 -> 59797.714
C55: SUBTOTAL $ | O55: =SUM(O51) -> 59797.714
C57: TOTAL COSTO DIRECTO $ | O57: =ROUND(O32+O55,0) -> 62389
C58: V. COSTOS INDIRECTOS
C61: Descripción | L61: Porcentaje | M61: Valor Total
C62: ADMINISTRACION
C63: IMPREVISTOS
C64: UTILIDAD
C65: SUBTOTAL $
C67: Precio Unitario Total Aproximado al peso $
C69: Firma | H69: Firma
C70: Nombre: JUAN FELIPE VARON VASQUEZ | H70: Nombre: RICARDO JOSE GUTIERREZ PARRA
C71: SECRETARIO DE PLANEACION INFRAESTRUCTURA Y MEDIO AMBIENTE | H71: DIRECTOR ADMINISTRATIVO DE INFRAESTRUCTURA
C72: CEDULA : | H72: CEDULA :
...

Sheet ICCU 1.6
C3: Formulario 1 - Propuesta económica - Documento tipo de selección abreviada de menor cuantía - versión 1
C4: Versión: 1 del 21 de agosto de 2025
C6: [La Entidad podrá utilizar este Formato para la presentación de los análisis de Precios Unitarios del Contratista en la oportunidad prevista en el numeral 8.2. del Documento Base]
D9: MUNICIPIO DE EL ESPINAL
L10: VERSIÓN
D11: [NÚMERO DEL PROCESO]
L12: PÁGINA | M12: 1 | N12: DE | O12: 1
D14: ANÁLISIS DE PRECIOS UNITARIOS
L16: FECHA | M16: DD | N16: MM | O16: AA
C18: ÍTEMS DE LA PROPUESTA ECONÓMICA
C22: DATOS ESPECÍFICOS
C24: ÍTEM | D24: DESCRIPCIÓN | M24: UNIDAD | O24: CANTIDAD
C25: 1.6 | D25: DESMONTE APARATOS SANITARIOS, INC RETIRO | M25: UN
C26: I. EQUIPO
C29: DESCRIPCIÓN | H29: UNIDAD | J29: TIPO | L29: TARIFA | M29: RENDIMIENTO | O29: Vr. UNITARIO
C30: VOLQUETA M3 | H30: H | L30: 83867 | M30: 10 | O30: =L30/M30 -> 8386.7
C31: HERRAMIENTA MENOR | H31: GL | L31: 1517.45 | M31: 1 | O31: =L31/M31 -> 1517.45
C33: SUBTOTAL $ | O33: =SUM(O30:O32) -> 9904.15
C34: II. MATERIALES
C37: DESCRIPCIÓN | K37: UNIDAD | L37: CANTIDAD | M37: PRECIO UNIT. | O37: Vr. UNITARIO
C40: SUBTOTAL $ | O40: 0
C41: III. TRANSPORTES
C44: MATERIAL | J44: VOL. o PESO | K44: DISTANCIA | L44: M3 o Ton/Km | M44: TARIFA | O44: Vr. UNITARIO
C47: SUBTOTAL $
C48: IV. MANO DE OBRA
C51: TRABAJADOR | J51: JORNAL | K51: PRESTACIONES | L51: HORA TOTAL | M51: RENDIMIENTO | O51: Vr. UNITARIO
C52: AYUDANTE (2) AA | J52: 151745 | K52: 2 | L52: =J52*K52 -> 303490 | M52: 10 | O52: =L52/M52 -> 30349
C56: SUBTOTAL $ | O56: =SUM(O52) -> 30349
C58: TOTAL COSTO DIRECTO $ | O58: =ROUND(O33+O56,0) -> 40253
C59: V. COSTOS INDIRECTOS
C62: Descripción | L62: Porcentaje | M62: Valor Total
C63: ADMINISTRACION
C64: IMPREVISTOS
C65: UTILIDAD
C66: SUBTOTAL $
C68: Precio Unitario Total Aproximado al peso $
C70: Firma | H70: Firma
C71: Nombre: JUAN FELIPE VARON VASQUEZ | H71: Nombre: RICARDO JOSE GUTIERREZ PARRA
C72: SECRETARIO DE PLANEACION INFRAESTRUCTURA Y MEDIO AMBIENTE | H72: DIRECTOR ADMINISTRATIVO DE INFRAESTRUCTURA
C73: CEDULA : | H73: CEDULA :
...

Sheet 1.7
C3: Formulario 1 - Propuesta económica - Documento tipo de selección abreviada de menor cuantía - versión 1
C4: Versión: 1 del 21 de agosto de 2025
C6: [La Entidad podrá utilizar este Formato para la presentación de los análisis de Precios Unitarios del Contratista en la oportunidad prevista en el numeral 8.2. del Documento Base]
D9: MUNICIPIO DE EL ESPINAL
L10: VERSIÓN
D11: [NÚMERO DEL PROCESO]
L12: PÁGINA | M12: 1 | N12: DE | O12: 1
D14: ANÁLISIS DE PRECIOS UNITARIOS
L16: FECHA | M16: DD | N16: MM | O16: AA
C18: ÍTEMS DE LA PROPUESTA ECONÓMICA
C22: DATOS ESPECÍFICOS
C24: ÍTEM | D24: DESCRIPCIÓN | M24: UNIDAD | O24: CANTIDAD
C25: 1.7 | D25: DEMOLICIÓN PLACA MACIZA 0.10 M, INC RETIRO | M25: M2
C26: I. EQUIPO
C29: DESCRIPCIÓN | H29: UNIDAD | J29: TIPO | L29: TARIFA | M29: RENDIMIENTO | O29: Vr. UNITARIO
C30: VOLQUETA M3 | H30: H | L30: 83867 | M30: 17 | O30: =L30/M30 -> 4933.3529
C31: HERRAMIENTA MENOR | H31: GL | L31: 2023.27 | M31: 1 | O31: =L31/M31 -> 2023.27
C33: SUBTOTAL $ | O33: =SUM(O30:O32) -> 6956.6229
C34: II. MATERIALES
C37: DESCRIPCIÓN | K37: UNIDAD | L37: CANTIDAD | M37: PRECIO UNIT. | O37: Vr. UNITARIO
C40: SUBTOTAL $ | O40: 0
C41: III. TRANSPORTES
C44: MATERIAL | J44: VOL. o PESO | K44: DISTANCIA | L44: M3 o Ton/Km | M44: TARIFA | O44: Vr. UNITARIO
C47: SUBTOTAL $
C48: IV. MANO DE OBRA
C51: TRABAJADOR | J51: JORNAL | K51: PRESTACIONES | L51: HORA TOTAL | M51: RENDIMIENTO | O51: Vr. UNITARIO
C52: AYUDANTE (2) AA | J52: 151745 | K52: 2 | L52: =J52*K52 -> 303490 | M52: 8 | O52: =L52/M52 -> 37936.25
C56: SUBTOTAL $ | O56: =SUM(O52) -> 37936.25
C58: TOTAL COSTO DIRECTO $ | O58: =ROUND(O33+O56,0) -> 44893
C59: V. COSTOS INDIRECTOS
C62: Descripción | L62: Porcentaje | M62: Valor Total
C63: ADMINISTRACION
C64: IMPREVISTOS
C65: UTILIDAD
C66: SUBTOTAL $
C68: Precio Unitario Total Aproximado al peso $
C70: Firma | H70: Firma
C71: Nombre: JUAN FELIPE VARON VASQUEZ | H71: Nombre: RICARDO JOSE GUTIERREZ PARRA
C72: SECRETARIO DE PLANEACION INFRAESTRUCTURA Y MEDIO AMBIENTE | H72: DIRECTOR ADMINISTRATIVO DE INFRAESTRUCTURA
C73: CEDULA : | H73: CEDULA :
...

Sheet ICCU 1.8
C3: Formulario 1 - Propuesta económica - Documento tipo de selección abreviada de menor cuantía - versión 1
C4: Versión: 1 del 21 de agosto de 2025
C6: [La Entidad podrá utilizar este Formato para la presentación de los análisis de Precios Unitarios del Contratista en la oportunidad prevista en el numeral 8.2. del Documento Base]
D9: MUNICIPIO DE EL ESPINAL
L10: VERSIÓN
D11: [NÚMERO DEL PROCESO]
L12: PÁGINA | M12: 1 | N12: DE | O12: 1
D14: ANÁLISIS DE PRECIOS UNITARIOS
L16: FECHA | M16: DD | N16: MM | O16: AA
C18: ÍTEMS DE LA PROPUESTA ECONÓMICA
C22: DATOS ESPECÍFICOS
C24: ÍTEM | D24: DESCRIPCIÓN | M24: UNIDAD | O24: CANTIDAD
C25: 1.8 | D25: DEMOLICIÓN MUROS EN MAMPOSTERÍA 0.15 M, INC RETIRO | M25: M2
C26: I. EQUIPO
C29: DESCRIPCIÓN | H29: UNIDAD | J29: TIPO | L29: TARIFA | M29: RENDIMIENTO | O29: Vr. UNITARIO
C30: VOLQUETA M3 | H30: H | L30: 83867 | M30: 17 | O30: =L30/M30 -> 4933.3529
C31: HERRAMIENTA MENOR | H31: GL | L31: 1011.63 | M31: 1 | O31: =L31/M31 -> 1011.63
C33: SUBTOTAL $ | O33: =SUM(O30:O32) -> 5944.9829
C34: II. MATERIALES
C37: DESCRIPCIÓN | K37: UNIDAD | L37: CANTIDAD | M37: PRECIO UNIT. | O37: Vr. UNITARIO
C40: SUBTOTAL $ | O40: 0
C41: III. TRANSPORTES
C44: MATERIAL | J44: VOL. o PESO | K44: DISTANCIA | L44: M3 o Ton/Km | M44: TARIFA | O44: Vr. UNITARIO
C47: SUBTOTAL $
C48: IV. MANO DE OBRA
C51: TRABAJADOR | J51: JORNAL | K51: PRESTACIONES | L51: HORA TOTAL | M51: RENDIMIENTO | O51: Vr. UNITARIO
C52: AYUDANTE (2) AA | J52: 151745 | K52: 2 | L52: =J52*K52 -> 303490 | M52: 15 | O52: =L52/M52 -> 20232.667
C56: SUBTOTAL $ | O56: =SUM(O52) -> 20232.667
C58: TOTAL COSTO DIRECTO $ | O58: =ROUND(O33+O56,0) -> 26178
C59: V. COSTOS INDIRECTOS
C62: Descripción | L62: Porcentaje | M62: Valor Total
C63: ADMINISTRACION
C64: IMPREVISTOS
C65: UTILIDAD
C66: SUBTOTAL $
C68: Precio Unitario Total Aproximado al peso $
C70: Firma | H70: Firma
C71: Nombre: JUAN FELIPE VARON VASQUEZ | H71: Nombre: RICARDO JOSE GUTIERREZ PARRA
C72: SECRETARIO DE PLANEACION INFRAESTRUCTURA Y MEDIO AMBIENTE | H72: DIRECTOR ADMINISTRATIVO DE INFRAESTRUCTURA
C73: CEDULA : | H73: CEDULA :
...

Sheet ICCU 1.9
C3: Formulario 1 - Propuesta económica - Documento tipo de selección abreviada de menor cuantía - versión 1
C4: Versión: 1 del 21 de agosto de 2025
C6: [La Entidad podrá utilizar este Formato para la presentación de los análisis de Precios Unitarios del Contratista en la oportunidad prevista en el numeral 8.2. del Documento Base]
D9: MUNICIPIO DE EL ESPINAL
L10: VERSIÓN
D11: [NÚMERO DEL PROCESO]
L12: PÁGINA | M12: 1 | N12: DE | O12: 1
D14: ANÁLISIS DE PRECIOS UNITARIOS
L16: FECHA | M16: DD | N16: MM | O16: AA
C18: ÍTEMS DE LA PROPUESTA ECONÓMICA
C22: DATOS ESPECÍFICOS
C24: ÍTEM | D24: DESCRIPCIÓN | M24: UNIDAD | O24: CANTIDAD
C25: 1.9 | D25: RETIRO DE SOBRANTES A UNA DISTANCIA DE 5 KM (INCLUYE CARGUE) | M25: M3
C26: I. EQUIPO
C29: DESCRIPCIÓN | H29: UNIDAD | J29: TIPO | L29: TARIFA | M29: RENDIMIENTO | O29: Vr. UNITARIO
C30: VOLQUETA M3 | H30: H | L30: 83867 | M30: 10 | O30: =L30/M30 -> 8386.7
C31: BOBCAT | H31: H | L31: 87506 | M31: 20 | O31: =L31/M31 -> 4375.3
C33: SUBTOTAL $ | O33: =SUM(O30:O32) -> 12762
C34: II. MATERIALES
C37: DESCRIPCIÓN | K37: UNIDAD | L37: CANTIDAD | M37: PRECIO UNIT. | O37: Vr. UNITARIO
C40: SUBTOTAL $ | O40: 0
C41: III. TRANSPORTES
C44: MATERIAL | J44: VOL. o PESO | K44: DISTANCIA | L44: M3 o Ton/Km | M44: TARIFA | O44: Vr. UNITARIO
C47: SUBTOTAL $
C48: IV. MANO DE OBRA
C51: TRABAJADOR | J51: JORNAL | K51: PRESTACIONES | L51: HORA TOTAL | M51: RENDIMIENTO | O51: Vr. UNITARIO
C56: SUBTOTAL $ | O56: =SUM(O52) -> 0
C58: TOTAL COSTO DIRECTO $ | O58: =ROUND(O33+O56,0) -> 12762
C59: V. COSTOS INDIRECTOS
C62: Descripción | L62: Porcentaje | M62: Valor Total
C63: ADMINISTRACION
C64: IMPREVISTOS
C65: UTILIDAD
C66: SUBTOTAL $
C68: Precio Unitario Total Aproximado al peso $
C70: Firma | H70: Firma
C71: Nombre: JUAN FELIPE VARON VASQUEZ | H71: Nombre: RICARDO JOSE GUTIERREZ PARRA
C72: SECRETARIO DE PLANEACION INFRAESTRUCTURA Y MEDIO AMBIENTE | H72: DIRECTOR ADMINISTRATIVO DE INFRAESTRUCTURA
C73: CEDULA : | H73: CEDULA :
C75: OBSERVACIONES INTERVENTORÍA
...

Sheet ICCU 1.10
C3: Formulario 1 - Propuesta económica - Documento tipo de selección abreviada de menor cuantía - versión 1
C4: Versión: 1 del 21 de agosto de 2025
C6: [La Entidad podrá utilizar este Formato para la presentación de los análisis de Precios Unitarios del Contratista en la oportunidad prevista en el numeral 8.2. del Documento Base]
D9: MUNICIPIO DE EL ESPINAL
L10: VERSIÓN
D11: [NÚMERO DEL PROCESO]
L12: PÁGINA | M12: 1 | N12: DE | O12: 1
D14: ANÁLISIS DE PRECIOS UNITARIOS
L16: FECHA | M16: DD | N16: MM | O16: AA
C18: ÍTEMS DE LA PROPUESTA ECONÓMICA
C22: DATOS ESPECÍFICOS
C24: ÍTEM | D24: DESCRIPCIÓN | M24: UNIDAD | O24: CANTIDAD
C25: 1.10 | D25: DESCAPOTE MANUAL Y RETIRO E= 0.20 M APILE A 15 M | M25: M2
C26: I. EQUIPO
C29: DESCRIPCIÓN | H29: UNIDAD | J29: TIPO | L29: TARIFA | M29: RENDIMIENTO | O29: Vr. UNITARIO
C30: VOLQUETA M3 | H30: H | L30: 83867 | M30: 80 | O30: =L30/M30 -> 1048.3375
C31: HERRAMIENTA MENOR | H31: H | L31: 514.39 | M31: 1 | O31: =L31/M31 -> 514.39
C33: SUBTOTAL $ | O33: =SUM(O30:O32) -> 1562.7275
C34: II. MATERIALES
C37: DESCRIPCIÓN | K37: UNIDAD | L37: CANTIDAD | M37: PRECIO UNIT. | O37: Vr. UNITARIO
C40: SUBTOTAL $ | O40: 0
C41: III. TRANSPORTES
C44: MATERIAL | J44: VOL. o PESO | K44: DISTANCIA | L44: M3 o Ton/Km | M44: TARIFA | O44: Vr. UNITARIO
C47: SUBTOTAL $
C48: IV. MANO DE OBRA
C51: TRABAJADOR | J51: JORNAL | K51: PRESTACIONES | L51: HORA TOTAL | M51: RENDIMIENTO | O51: Vr. UNITARIO
C52: AYUDANTE (4) AA | J52: 303490 | K52: 2 | L52: =J52*K52 -> 606980 | M52: 59 | O52: 10287.8
C56: SUBTOTAL $ | O56: =SUM(O52) -> 10287.8
C58: TOTAL COSTO DIRECTO $ | O58: =ROUND(O33+O56,0) -> 11851
C59: V. COSTOS INDIRECTOS
C62: Descripción | L62: Porcentaje | M62: Valor Total
C63: ADMINISTRACION
C64: IMPREVISTOS
C65: UTILIDAD
C66: SUBTOTAL $
C68: Precio Unitario Total Aproximado al peso $
C70: Firma | H70: Firma
C71: Nombre: JUAN FELIPE VARON VASQUEZ | H71: Nombre: RICARDO JOSE GUTIERREZ PARRA
C72: SECRETARIO DE PLANEACION INFRAESTRUCTURA Y MEDIO AMBIENTE | H72: DIRECTOR ADMINISTRATIVO DE INFRAESTRUCTURA
C73: CEDULA : | H73: CEDULA :
...

Sheet ICCU 2.1
C3: Formulario 1 - Propuesta económica - Documento tipo de selección abreviada de menor cuantía - versión 1
C4: Versión: 1 del 21 de agosto de 2025
C6: [La Entidad podrá utilizar este Formato para la presentación de los análisis de Precios Unitarios del Contratista en la oportunidad prevista en el numeral 8.2. del Documento Base]
D9: MUNICIPIO DE EL ESPINAL
L10: VERSIÓN
D11: [NÚMERO DEL PROCESO]
L12: PÁGINA | M12: 1 | N12: DE | O12: 1
D14: ANÁLISIS DE PRECIOS UNITARIOS
L16: FECHA | M16: DD | N16: MM | O16: AA
C18: ÍTEMS DE LA PROPUESTA ECONÓMICA
C22: DATOS ESPECÍFICOS
C24: ÍTEM | D24: DESCRIPCIÓN | M24: UNIDAD | O24: CANTIDAD
C25: 2.1 | D25: EXCAVACIÓN MANUAL EN MATERIAL COMÚN H=0.0-2.0 M (INCLUYE RETIRO DE SOBRANTES A UNA DISTANCIA MENOR DE 5 KM) | M25: M3
C26: I. EQUIPO
C29: DESCRIPCIÓN | H29: UNIDAD | J29: TIPO | L29: TARIFA | M29: RENDIMIENTO | O29: Vr. UNITARIO
C30: HERRAMIENTA MENOR | H30: H | L30: 2709.74 | M30: 1 | O30: =L30/M30 -> 2709.74
C32: SUBTOTAL $ | O32: =SUM(O30:O31) -> 2709.74
C33: II. MATERIALES
C36: DESCRIPCIÓN | K36: UNIDAD | L36: CANTIDAD | M36: PRECIO UNIT. | O36: Vr. UNITARIO
C39: SUBTOTAL $ | O39: 0
C40: III. TRANSPORTES
C43: MATERIAL | J43: VOL. o PESO | K43: DISTANCIA | L43: M3 o Ton/Km | M43: TARIFA | O43: Vr. UNITARIO
C44: MATERIAL EXCAVADO | J44: 1.3 | K44: 5 | L44: 6.5 | M44: 995 | O44: =L44*M44 -> 6467.5
C46: SUBTOTAL $
C47: IV. MANO DE OBRA
C50: TRABAJADOR | J50: JORNAL | K50: PRESTACIONES | L50: HORA TOTAL | M50: RENDIMIENTO | O50: Vr. UNITARIO
C51: AYUDANTE (5) AA | J51: 379363 | K51: 2 | L51: =J51*K51 -> 758726 | M51: 14 | O51: =L51/M51 -> 54194.714
C55: SUBTOTAL $ | O55: =SUM(O51) -> 54194.714
C57: TOTAL COSTO DIRECTO $ | O57: =ROUND(O32+O55+O44,0) -> 63372
C58: V. COSTOS INDIRECTOS
C61: Descripción | L61: Porcentaje | M61: Valor Total
C62: ADMINISTRACION
C63: IMPREVISTOS
C64: UTILIDAD
C65: SUBTOTAL $
C67: Precio Unitario Total Aproximado al peso $
C69: Firma | H69: Firma
C70: Nombre: JUAN FELIPE VARON VASQUEZ | H70: Nombre: RICARDO JOSE GUTIERREZ PARRA
C71: SECRETARIO DE PLANEACION INFRAESTRUCTURA Y MEDIO AMBIENTE | H71: DIRECTOR ADMINISTRATIVO DE INFRAESTRUCTURA
C72: CEDULA : | H72: CEDULA :
...

Sheet ICCU 2.2
C3: Formulario 1 - Propuesta económica - Documento tipo de selección abreviada de menor cuantía - versión 1
C4: Versión: 1 del 21 de agosto de 2025
C6: [La Entidad podrá utilizar este Formato para la presentación de los análisis de Precios Unitarios del Contratista en la oportunidad prevista en el numeral 8.2. del Documento Base]
D9: MUNICIPIO DE EL ESPINAL
L10: VERSIÓN
D11: [NÚMERO DEL PROCESO]
L12: PÁGINA | M12: 1 | N12: DE | O12: 1
D14: ANÁLISIS DE PRECIOS UNITARIOS
L16: FECHA | M16: DD | N16: MM | O16: AA
C18: ÍTEMS DE LA PROPUESTA ECONÓMICA
C22: DATOS ESPECÍFICOS
C24: ÍTEM | D24: DESCRIPCIÓN | M24: UNIDAD | O24: CANTIDAD
C25: 2.2 | D25: RELLENO EN RECEBO COMÚN COMPACTADO MECÁNICAMENTE | M25: M3
C26: I. EQUIPO
C29: DESCRIPCIÓN | H29: UNIDAD | J29: TIPO | L29: TARIFA | M29: RENDIMIENTO | O29: Vr. UNITARIO
C30: VIBROCOMPACTADOR A GASOLINA (RANA) | H30: D | L30: 185713 | M30: 16.7 | O30: =L30/M30 -> 11120.539
C31: HERRAMIENTA MENOR | H31: H | L31: 1517.45 | M31: 1 | O31: =L31/M31 -> 1517.45
C33: SUBTOTAL $ | O33: =SUM(O30:O32) -> 12637.989
C34: II. MATERIALES
C37: DESCRIPCIÓN | K37: UNIDAD | L37: CANTIDAD | M37: PRECIO UNIT. | O37: Vr. UNITARIO
C38: RECEBO COMÚN | K38: M3 | L38: 1.3 | M38: 17758 | O38: =L38*M38 -> 23085.4
C40: SUBTOTAL $ | O40: =O38 -> 23085.4
C41: III. TRANSPORTES
C44: MATERIAL | J44: VOL. o PESO | K44: DISTANCIA | L44: M3 o Ton/Km | M44: TARIFA | O44: Vr. UNITARIO
C45: MATERIAL EXCAVADO | J45: 1.3 | K45: 25 | L45: 32.5 | M45: 1823 | O45: =L45*M45 -> 59247.5
C47: SUBTOTAL $
C48: IV. MANO DE OBRA
C51: TRABAJADOR | J51: JORNAL | K51: PRESTACIONES | L51: HORA TOTAL | M51: RENDIMIENTO | O51: Vr. UNITARIO
C52: AYUDANTE (4) AA | J52: 303490 | K52: 2 | L52: =J52*K52 -> 606980 | M52: 20 | O52: =L52/M52 -> 30349
C56: SUBTOTAL $ | O56: =SUM(O52) -> 30349
C58: TOTAL COSTO DIRECTO $ | O58: =ROUND(O33+O56+O45+O40,0) -> 125320
C59: V. COSTOS INDIRECTOS
C62: Descripción | L62: Porcentaje | M62: Valor Total
C63: ADMINISTRACION
C64: IMPREVISTOS
C65: UTILIDAD
C66: SUBTOTAL $
C68: Precio Unitario Total Aproximado al peso $
C70: Firma | H70: Firma
C71: Nombre: JUAN FELIPE VARON VASQUEZ | H71: Nombre: RICARDO JOSE GUTIERREZ PARRA
...

Sheet ICCU 3.1
C3: Formulario 1 - Propuesta económica - Documento tipo de selección abreviada de menor cuantía - versión 1
C4: Versión: 1 del 21 de agosto de 2025
C6: [La Entidad podrá utilizar este Formato para la presentación de los análisis de Precios Unitarios del Contratista en la oportunidad prevista en el numeral 8.2. del Documento Base]
D9: MUNICIPIO DE EL ESPINAL
L10: VERSIÓN
D11: [NÚMERO DEL PROCESO]
L12: PÁGINA | M12: 1 | N12: DE | O12: 1
D14: ANÁLISIS DE PRECIOS UNITARIOS
L16: FECHA | M16: DD | N16: MM | O16: AA
C18: ÍTEMS DE LA PROPUESTA ECONÓMICA
C22: DATOS ESPECÍFICOS
C24: ÍTEM | D24: DESCRIPCIÓN | M24: UNIDAD | O24: CANTIDAD
C25: 3.1 | D25: VIGA AMARRE EN CONCRETO 3500 PSI | M25: M3
C26: I. EQUIPO
C29: DESCRIPCIÓN | H29: UNIDAD | J29: TIPO | L29: TARIFA | M29: RENDIMIENTO | O29: Vr. UNITARIO
C30: VIBRADOR PARA CONCRETO | H30: D | L30: 86639 | M30: 25 | O30: =L30/M30 -> 3465.56
C31: HERRAMIENTA MENOR | H31: H | L31: 17296.82 | M31: 1 | O31: =L31/M31 -> 17296.82
C33: SUBTOTAL $ | O33: =SUM(O30:O32) -> 20762.38
C34: II. MATERIALES
C37: DESCRIPCIÓN | K37: UNIDAD | L37: CANTIDAD | M37: PRECIO UNIT. | O37: Vr. UNITARIO
C38: CONCRETO 3500 PSI | K38: M3 | L38: 1.1 | M38: 492868 | O38: =L38*M38 -> 542154.8
C39: PUNTILLA CON CABEZA 2" | K39: LB | L39: 1.47 | M39: 6758 | O39: =L39*M39 -> 9934.26
C40: REPISA EN ORDINARIO | K40: ML | L40: 3.11 | M40: 4142 | O40: =L40*M40 -> 12881.62
C41: TABLA BURRA ORDINARIO 0.30 | K41: ML | L41: 3.52 | M41: 8096 | O41: =L41*M41 -> 28497.92
C42: SUBTOTAL $ | O42: =SUM(O38:O41) -> 593468.6
C43: III. TRANSPORTES
C46: MATERIAL | J46: VOL. o PESO | K46: DISTANCIA | L46: M3 o Ton/Km | M46: TARIFA | O46: Vr. UNITARIO
C49: SUBTOTAL $
C50: IV. MANO DE OBRA
C53: TRABAJADOR | J53: JORNAL | K53: PRESTACIONES | L53: HORA TOTAL | M53: RENDIMIENTO | O53: Vr. UNITARIO
C54: MANO DE OBRA AA | J54: 190265 | K54: 2 | L54: =J54*K54 -> 380530 | M54: 1.1 | O54: =L54/M54 -> 345936.36
C58: SUBTOTAL $ | O58: =SUM(O54) -> 345936.36
C60: TOTAL COSTO DIRECTO $ | O60: =ROUND(O33+O58+O47+O42,0) -> 960167
C61: V. COSTOS INDIRECTOS
C64: Descripción | L64: Porcentaje | M64: Valor Total
C65: ADMINISTRACION
C66: IMPREVISTOS
C67: UTILIDAD
C68: SUBTOTAL $
C70: Precio Unitario Total Aproximado al peso $
...

Sheet ICCU 3.2
C3: Formulario 1 - Propuesta económica - Documento tipo de selección abreviada de menor cuantía - versión 1
C4: Versión: 1 del 21 de agosto de 2025
C6: [La Entidad podrá utilizar este Formato para la presentación de los análisis de Precios Unitarios del Contratista en la oportunidad prevista en el numeral 8.2. del Documento Base]
D9: MUNICIPIO DE EL ESPINAL
L10: VERSIÓN
D11: [NÚMERO DEL PROCESO]
L12: PÁGINA | M12: 1 | N12: DE | O12: 1
D14: ANÁLISIS DE PRECIOS UNITARIOS
L16: FECHA | M16: DD | N16: MM | O16: AA
C18: ÍTEMS DE LA PROPUESTA ECONÓMICA
C22: DATOS ESPECÍFICOS
C24: ÍTEM | D24: DESCRIPCIÓN | M24: UNIDAD | O24: CANTIDAD
C25: 3.2 | D25: ZAPATAS EN CONCRETO 3500PSI | M25: M3
C26: I. EQUIPO
C29: DESCRIPCIÓN | H29: UNIDAD | J29: TIPO | L29: TARIFA | M29: RENDIMIENTO | O29: Vr. UNITARIO
C30: VIBRADOR PARA CONCRETO | H30: D | L30: 86639 | M30: 10 | O30: =L30/M30 -> 8663.9
C31: HERRAMIENTA MENOR | H31: H | L31: 15855.42 | M31: 1 | O31: =L31/M31 -> 15855.42
C33: SUBTOTAL $ | O33: =SUM(O30:O32) -> 24519.32
C34: II. MATERIALES
C37: DESCRIPCIÓN | K37: UNIDAD | L37: CANTIDAD | M37: PRECIO UNIT. | O37: Vr. UNITARIO
C38: CONCRETO 3500 PSI | K38: M3 | L38: 1.03 | M38: 492868 | O38: =L38*M38 -> 507654.04
C39: PLANCHÓN ORDINARIO | K39: ML | L39: 0.29 | M39: 8096 | O39: =L39*M39 -> 2347.84
C40: PUNTILLA CON CABEZA 2" | K40: LB | L40: 0.1 | M40: 6758 | O40: =L40*M40 -> 675.8
C41: TABLA CHAPA ORDINARIO 0.30 | K41: ML | L41: 3 | M41: 6115 | O41: =L41*M41 -> 18345
C42: VARA CLAVO | K42: ML | L42: 0.5 | M42: 3013 | O42: =L42*M42 -> 1506.5
C43: SUBTOTAL $ | O43: =SUM(O38:O42) -> 530529.18
C44: III. TRANSPORTES
C47: MATERIAL | J47: VOL. o PESO | K47: DISTANCIA | L47: M3 o Ton/Km | M47: TARIFA | O47: Vr. UNITARIO
C50: SUBTOTAL $
C51: IV. MANO DE OBRA
C54: TRABAJADOR | J54: JORNAL | K54: PRESTACIONES | L54: HORA TOTAL | M54: RENDIMIENTO | O54: Vr. UNITARIO
C55: MANO DE OBRA AA | J55: 190265 | K55: 2 | L55: =J55*K55 -> 380530 | M55: 1.2 | O55: =L55/M55 -> 317108.33
C59: SUBTOTAL $ | O59: =SUM(O55) -> 317108.33
C61: TOTAL COSTO DIRECTO $ | O61: =ROUND(O33+O59+O48+O43,0) -> 872157
C62: V. COSTOS INDIRECTOS
C65: Descripción | L65: Porcentaje | M65: Valor Total
C66: ADMINISTRACION
C67: IMPREVISTOS
C68: UTILIDAD
C69: SUBTOTAL $
...

Sheet ICCU 4.1
C3: Formulario 1 - Propuesta económica - Documento tipo de selección abreviada de menor cuantía - versión 1
C4: Versión: 1 del 21 de agosto de 2025
C6: [La Entidad podrá utilizar este Formato para la presentación de los análisis de Precios Unitarios del Contratista en la oportunidad prevista en el numeral 8.2. del Documento Base]
D9: MUNICIPIO DE EL ESPINAL
L10: VERSIÓN
D11: [NÚMERO DEL PROCESO]
L12: PÁGINA | M12: 1 | N12: DE | O12: 1
D14: ANÁLISIS DE PRECIOS UNITARIOS
L16: FECHA | M16: DD | N16: MM | O16: AA
C18: ÍTEMS DE LA PROPUESTA ECONÓMICA
C22: DATOS ESPECÍFICOS
C24: ÍTEM | D24: DESCRIPCIÓN | M24: UNIDAD | O24: CANTIDAD
C25: 4.1 | D25: COLUMNAS 3500 PSI | M25: M3
C26: I. EQUIPO
C29: DESCRIPCIÓN | H29: UNIDAD | J29: TIPO | L29: TARIFA | M29: RENDIMIENTO | O29: Vr. UNITARIO
C30: VIBRADOR PARA CONCRETO | H30: D | L30: 86639 | M30: 3 | O30: =L30/M30 -> 28879.667
C31: HERRAMIENTA MENOR | H31: H | L31: 23783.13 | M31: 1 | O31: =L31/M31 -> 23783.13
C32: SECCION DE 1,4 POR 1,4 H=2,0 - ANDAMIO CERTIFICADO | H32: D | L32: 30900 | M32: 2.4 | O32: =L32/M32 -> 12875
C33: SUBTOTAL $ | O33: =SUM(O30:O32) -> 65537.797
C34: II. MATERIALES
C37: DESCRIPCIÓN | K37: UNIDAD | L37: CANTIDAD | M37: PRECIO UNIT. | O37: Vr. UNITARIO
C38: CONCRETO 3500 PSI | K38: M3 | L38: 1.03 | M38: 492868 | O38: =L38*M38 -> 507654.04
C39: PARAL TELESCÓPICO 2.2 M | K39: MS | L39: 1 | M39: 9414 | O39: =L39*M39 -> 9414
C40: PUNTILLA CON CABEZA 2" | K40: LB | L40: 8 | M40: 6758 | O40: =L40*M40 -> 54064
C41: REPISA EN ORDINARIO | K41: ML | L41: 7.26 | M41: 4142 | O41: =L41*M41 -> 30070.92
C42: TABLA BURRA CEDRO ROJO 0.28 | K42: ML | L42: 2.64 | M42: 23168 | O42: =L42*M42 -> 61163.52
C43: ANTISOL | K43: KG | L43: 0.01 | M43: 18828 | O43: =L43*M43 -> 188.28
C44: SUBTOTAL $ | O44: =SUM(O38:O43) -> 662554.76
C45: III. TRANSPORTES
C48: MATERIAL | J48: VOL. o PESO | K48: DISTANCIA | L48: M3 o Ton/Km | M48: TARIFA | O48: Vr. UNITARIO
C51: SUBTOTAL $
C52: IV. MANO DE OBRA
C55: TRABAJADOR | J55: JORNAL | K55: PRESTACIONES | L55: HORA TOTAL | M55: RENDIMIENTO | O55: Vr. UNITARIO
C56: MANO DE OBRA AA | J56: 190265 | K56: 2 | L56: =J56*K56 -> 380530 | M56: 0.8 | O56: =L56/M56 -> 475662.5
C60: SUBTOTAL $ | O60: =SUM(O56) -> 475662.5
C62: TOTAL COSTO DIRECTO $ | O62: =ROUND(O33+O60+O49+O44,0) -> 1203755
C63: V. COSTOS INDIRECTOS
C66: Descripción | L66: Porcentaje | M66: Valor Total
C67: ADMINISTRACION
C68: IMPREVISTOS
...

Sheet ICCU 4.2
C3: Formulario 1 - Propuesta económica - Documento tipo de selección abreviada de menor cuantía - versión 1
C4: Versión: 1 del 21 de agosto de 2025
C6: [La Entidad podrá utilizar este Formato para la presentación de los análisis de Precios Unitarios del Contratista en la oportunidad prevista en el numeral 8.2. del Documento Base]
D9: MUNICIPIO DE EL ESPINAL
L10: VERSIÓN
D11: [NÚMERO DEL PROCESO]
L12: PÁGINA | M12: 1 | N12: DE | O12: 1
D14: ANÁLISIS DE PRECIOS UNITARIOS
L16: FECHA | M16: DD | N16: MM | O16: AA
C18: ÍTEMS DE LA PROPUESTA ECONÓMICA
C22: DATOS ESPECÍFICOS
C24: ÍTEM | D24: DESCRIPCIÓN | M24: UNIDAD | O24: CANTIDAD
C25: 4.2 | D25: VIGA AÉREA 3500 PSI | M25: M3
C26: I. EQUIPO
C29: DESCRIPCIÓN | H29: UNIDAD | J29: TIPO | L29: TARIFA | M29: RENDIMIENTO | O29: Vr. UNITARIO
C30: SECCION DE 1,4 POR 1,4 H=2,0 - ANDAMIO CERTIFICADO | H30: D | L30: 30900 | M30: 2.4 | N30: 2.4 | O30: =L30/M30 -> 12875
C31: VIBRADOR PARA CONCRETO | H31: D | L31: 86639 | M31: 3.12 | N31: 3.12 | O31: =L31/M31 -> 27768.91
C32: SECCION DE 1,4 POR 1,4 H=2,0 - ANDAMIO CERTIFICADO | H32: D | L32: 30900 | M32: 2.4 | N32: 3.12 | O32: =L32/M32 -> 12875
C33: HERRAMIENTA MENOR | H33: GL | L33: 23783.13 | M33: 1 | N33: 1 | O33: =L33/M33 -> 23783.13
C34: SUBTOTAL $ | O34: =SUM(O30:O33) -> 77302.04
C35: II. MATERIALES
C38: DESCRIPCIÓN | K38: UNIDAD | L38: CANTIDAD | M38: PRECIO UNIT. | O38: Vr. UNITARIO
C39: ALAMBRE NEGRO NO. 18 | K39: KG | L39: 2.1 | M39: 12921 | O39: =L39*M39 -> 27134.1
C40: CONCRETO 3500 PSI | K40: M3 | L40: 1.03 | M40: 492868 | O40: =L40*M40 -> 507654.04
C41: PUNTILLA CON CABEZA 2" | K41: LB | L41: 3.99 | M41: 6758 | O41: =L41*M41 -> 26964.42
C42: REPISA EN ORDINARIO | K42: ML | L42: 4.76 | M42: 4142 | O42: =19701.42 -> 19701.42
C43: TABLA BURRA CEDRO ROJO 0.28 | K43: ML | L43: 7.35 | M43: 8096 | O43: =L43*M43 -> 59505.6
C45: SUBTOTAL $ | O45: =SUM(O39:O44) -> 640959.58
C46: III. TRANSPORTES
C49: MATERIAL | J49: VOL. o PESO | K49: DISTANCIA | L49: M3 o Ton/Km | M49: TARIFA | O49: Vr. UNITARIO
C52: SUBTOTAL $
C53: IV. MANO DE OBRA
C56: TRABAJADOR | J56: JORNAL | K56: PRESTACIONES | L56: HORA TOTAL | M56: RENDIMIENTO | O56: Vr. UNITARIO
C57: MANO DE OBRA AA | J57: 190265 | K57: 2 | L57: =J57*K57 -> 380530 | M57: 0.8 | O57: =L57/M57 -> 475662.5
C61: SUBTOTAL $ | O61: =SUM(O57) -> 475662.5
C63: TOTAL COSTO DIRECTO $ | O63: =ROUND(O34+O61+O50+O45,0) -> 1193924
C64: V. COSTOS INDIRECTOS
C67: Descripción | L67: Porcentaje | M67: Valor Total
C68: ADMINISTRACION
C69: IMPREVISTOS
...

Sheet ICCU 4.3
C3: Formulario 1 - Propuesta económica - Documento tipo de selección abreviada de menor cuantía - versión 1
C4: Versión: 1 del 21 de agosto de 2025
C6: [La Entidad podrá utilizar este Formato para la presentación de los análisis de Precios Unitarios del Contratista en la oportunidad prevista en el numeral 8.2. del Documento Base]
D9: MUNICIPIO DE EL ESPINAL
L10: VERSIÓN
D11: [NÚMERO DEL PROCESO]
L12: PÁGINA | M12: 1 | N12: DE | O12: 1
D14: ANÁLISIS DE PRECIOS UNITARIOS
L16: FECHA | M16: DD | N16: MM | O16: AA
C18: ÍTEMS DE LA PROPUESTA ECONÓMICA
C22: DATOS ESPECÍFICOS
C24: ÍTEM | D24: DESCRIPCIÓN | M24: UNIDAD | O24: CANTIDAD
C25: 4.3 | D25: ACERO FIGURADO 60000 PSI | M25: KG
C26: I. EQUIPO
C29: DESCRIPCIÓN | H29: UNIDAD | J29: TIPO | L29: TARIFA | M29: RENDIMIENTO | O29: Vr. UNITARIO
C30: HERRAMIENTA MENOR | H30: GL | L30: 59.46 | M30: 1 | N30: 1 | O30: =L30/M30 -> 59.46
C31: SUBTOTAL $ | O31: =SUM(O30:O30) -> 59.46
C32: II. MATERIALES
C35: DESCRIPCIÓN | K35: UNIDAD | L35: CANTIDAD | M35: PRECIO UNIT. | O35: Vr. UNITARIO
C36: ACERO DE REFUERZO 60000 PSI | K36: KG | L36: 1.05 | M36: 6262 | O36: =L36*M36 -> 6575.1
C37: ALAMBRE NEGRO NO. 18 | K37: KG | L37: 0.03 | M37: 12921 | O37: =L37*M37 -> 387.63
C38: SEGUETA | K38: UN | L38: 0.05 | M38: 6741 | O38: =L38*M38 -> 337.05
C42: SUBTOTAL $ | O42: =SUM(O36:O41) -> 7299.78
C43: III. TRANSPORTES
C46: MATERIAL | J46: VOL. o PESO | K46: DISTANCIA | L46: M3 o Ton/Km | M46: TARIFA | O46: Vr. UNITARIO
C49: SUBTOTAL $
C50: IV. MANO DE OBRA
C53: TRABAJADOR | J53: JORNAL | K53: PRESTACIONES | L53: HORA TOTAL | M53: RENDIMIENTO | O53: Vr. UNITARIO
C54: MANO DE OBRA AA | J54: 190265 | K54: 2 | L54: =J54*K54 -> 380530 | M54: 320 | O54: =L54/M54 -> 1189.1562
C58: SUBTOTAL $ | O58: =SUM(O54) -> 1189.1562
C60: TOTAL COSTO DIRECTO $ | O60: =ROUND(O31+O58+O47+O42,0) -> 8548
C61: V. COSTOS INDIRECTOS
C64: Descripción | L64: Porcentaje | M64: Valor Total
C65: ADMINISTRACION
C66: IMPREVISTOS
C67: UTILIDAD
C68: SUBTOTAL $
C70: Precio Unitario Total Aproximado al peso $
C72: Firma | H72: Firma
C73: Nombre: JUAN FELIPE VARON VASQUEZ | H73: Nombre: RICARDO JOSE GUTIERREZ PARRA
...

Sheet ICCU 4.4
C3: Formulario 1 - Propuesta económica - Documento tipo de selección abreviada de menor cuantía - versión 1
C4: Versión: 1 del 21 de agosto de 2025
C6: [La Entidad podrá utilizar este Formato para la presentación de los análisis de Precios Unitarios del Contratista en la oportunidad prevista en el numeral 8.2. del Documento Base]
D9: MUNICIPIO DE EL ESPINAL
L10: VERSIÓN
D11: [NÚMERO DEL PROCESO]
L12: PÁGINA | M12: 1 | N12: DE | O12: 1
D14: ANÁLISIS DE PRECIOS UNITARIOS
L16: FECHA | M16: DD | N16: MM | O16: AA
C18: ÍTEMS DE LA PROPUESTA ECONÓMICA
C22: DATOS ESPECÍFICOS
C24: ÍTEM | D24: DESCRIPCIÓN | M24: UNIDAD | O24: CANTIDAD
C25: 4.4 | D25: ESCALERA MACIZA 3500 PSI | M25: M3
C26: I. EQUIPO
C29: DESCRIPCIÓN | H29: UNIDAD | J29: TIPO | L29: TARIFA | M29: RENDIMIENTO | O29: Vr. UNITARIO
C30: VIBRADOR PARA CONCRETO | H30: D | I30: D | L30: 86639 | M30: 25 | N30: 25 | O30: =L30/M30 -> 3465.56
C31: FORMALETA ENTREPISOS | H31: MS | I31: MS | L31: 14498 | M31: 0.12 | N31: 0.12 | O31: =L31/M31 -> 120816.67
C32: HERRAMIENTA MENOR | H32: GL | I32: GL | L32: 27180.71 | M32: 1 | N32: 1 | O32: =L32/M32 -> 27180.71
C33: SECCION DE 1,4 POR 1,4 H=2,0 - ANDAMIO CERTIFICADO | H33: D | I33: D | L33: 30900 | M33: 2.1 | N33: 2.1 | O33: =L33/M33 -> 14714.286
C34: SUBTOTAL $ | O34: =SUM(O30:O33) -> 166177.22
C35: II. MATERIALES
C38: DESCRIPCIÓN | K38: UNIDAD | L38: CANTIDAD | M38: PRECIO UNIT. | O38: Vr. UNITARIO
C39: ALAMBRE NEGRO NO. 18 | K39: KG | L39: 0.12 | M39: 12921 | O39: =L39*M39 -> 1550.52
C40: CONCRETO 3500 PSI | K40: M3 | L40: 1.03 | M40: 492868 | O40: =L40*M40 -> 507654.04
C41: PUNTILLA CON CABEZA 2" | K41: LB | L41: 1.5 | M41: 6758 | O41: =L41*M41 -> 10137
C42: REPISA EN ORDINARIO | K42: ML | L42: 2.76 | M42: 4142 | O42: =L42*M42 -> 11431.92
C43: TABLA BURRA ORDINARIO 0.30 | K43: ML | L43: 9.21 | M43: 8096 | O43: =L43*M43 -> 74564.16
C45: SUBTOTAL $ | O45: =SUM(O39:O44) -> 605337.64
C46: III. TRANSPORTES
C49: MATERIAL | J49: VOL. o PESO | K49: DISTANCIA | L49: M3 o Ton/Km | M49: TARIFA | O49: Vr. UNITARIO
C52: SUBTOTAL $
C53: IV. MANO DE OBRA
C56: TRABAJADOR | J56: JORNAL | K56: PRESTACIONES | L56: HORA TOTAL | M56: RENDIMIENTO | O56: Vr. UNITARIO
C57: MANO DE OBRA AA | J57: 190265 | K57: 2 | L57: =J57*K57 -> 380530 | M57: 0.7 | O57: =L57/M57 -> 543614.29
C61: SUBTOTAL $ | O61: =SUM(O57) -> 543614.29
C63: TOTAL COSTO DIRECTO $ | O63: =ROUND(O34+O61+O50+O45,0) -> 1315129
C64: V. COSTOS INDIRECTOS
C67: Descripción | L67: Porcentaje | M67: Valor Total
C68: ADMINISTRACION
C69: IMPREVISTOS
...

Sheet ICCU 4.5
C3: Formulario 1 - Propuesta económica - Documento tipo de selección abreviada de menor cuantía - versión 1
C4: Versión: 1 del 21 de agosto de 2025
C6: [La Entidad podrá utilizar este Formato para la presentación de los análisis de Precios Unitarios del Contratista en la oportunidad prevista en el numeral 8.2. del Documento Base]
D9: MUNICIPIO DE EL ESPINAL
L10: VERSIÓN
D11: [NÚMERO DEL PROCESO]
L12: PÁGINA | M12: 1 | N12: DE | O12: 1
D14: ANÁLISIS DE PRECIOS UNITARIOS
L16: FECHA | M16: DD | N16: MM | O16: AA
C18: ÍTEMS DE LA PROPUESTA ECONÓMICA
C22: DATOS ESPECÍFICOS
C24: ÍTEM | D24: DESCRIPCIÓN | M24: UNIDAD | O24: CANTIDAD
C25: 4.5 | D25: ENTREPISO PLACA MACIZA 3500 PSI E=0.15 M | M25: M2
C26: I. EQUIPO
C29: DESCRIPCIÓN | H29: UNIDAD | J29: TIPO | L29: TARIFA | M29: RENDIMIENTO | O29: Vr. UNITARIO
C30: VIBRADOR PARA CONCRETO | H30: D | I30: D | L30: 86639 | M30: 16 | N30: 16 | O30: =L30/M30 -> 5414.9375
C31: FORMALETA ENTREPISOS | H31: MS | I31: MS | L31: 14498 | M31: 0.8 | N31: 0.8 | O31: =L31/M31 -> 18122.5
C32: HERRAMIENTA MENOR | H32: GL | I32: GL | L32: 1902.65 | M32: 1 | N32: 1 | O32: =L32/M32 -> 1902.65
C33: SECCION DE 1,4 POR 1,4 H=2,0 - ANDAMIO CERTIFICADO | H33: D | I33: D | L33: 30900 | M33: 20 | N33: 20 | O33: =L33/M33 -> 1545
C34: SUBTOTAL $ | O34: =SUM(O30:O33) -> 26985.088
C35: II. MATERIALES
C38: DESCRIPCIÓN | K38: UNIDAD | L38: CANTIDAD | M38: PRECIO UNIT. | O38: Vr. UNITARIO
C39: CONCRETO 3500 PSI | K39: M3 | L39: 0.158 | M39: 492868 | O39: =L39*M39 -> 77873.144
C41: SUBTOTAL $ | O41: =SUM(O39:O40) -> 77873.144
C42: III. TRANSPORTES
C45: MATERIAL | J45: VOL. o PESO | K45: DISTANCIA | L45: M3 o Ton/Km | M45: TARIFA | O45: Vr. UNITARIO
C48: SUBTOTAL $
C49: IV. MANO DE OBRA
C52: TRABAJADOR | J52: JORNAL | K52: PRESTACIONES | L52: HORA TOTAL | M52: RENDIMIENTO | O52: Vr. UNITARIO
C53: MANO DE OBRA AA | J53: 190265 | K53: 2 | L53: =J53*K53 -> 380530 | M53: 10 | O53: =L53/M53 -> 38053
C57: SUBTOTAL $ | O57: =SUM(O53) -> 38053
C59: TOTAL COSTO DIRECTO $ | O59: =ROUND(O34+O57+O46+O41,0) -> 142911
C60: V. COSTOS INDIRECTOS
C63: Descripción | L63: Porcentaje | M63: Valor Total
C64: ADMINISTRACION
C65: IMPREVISTOS
C66: UTILIDAD
C67: SUBTOTAL $
C69: Precio Unitario Total Aproximado al peso $
C71: Firma | H71: Firma
...

Sheet ICCU 4.6
C3: Formulario 1 - Propuesta económica - Documento tipo de selección abreviada de menor cuantía - versión 1
C4: Versión: 1 del 21 de agosto de 2025
C6: [La Entidad podrá utilizar este Formato para la presentación de los análisis de Precios Unitarios del Contratista en la oportunidad prevista en el numeral 8.2. del Documento Base]
D9: MUNICIPIO DE EL ESPINAL
L10: VERSIÓN
D11: [NÚMERO DEL PROCESO]
L12: PÁGINA | M12: 1 | N12: DE | O12: 1
D14: ANÁLISIS DE PRECIOS UNITARIOS
L16: FECHA | M16: DD | N16: MM | O16: AA
C18: ÍTEMS DE LA PROPUESTA ECONÓMICA
C22: DATOS ESPECÍFICOS
C24: ÍTEM | D24: DESCRIPCIÓN | M24: UNIDAD | O24: CANTIDAD
C25: 4.6 | D25: CONCRETO CICLÓPEO 2000 PSI, 40% RAJÓN | M25: M3
C26: I. EQUIPO
C29: DESCRIPCIÓN | H29: UNIDAD | J29: TIPO | L29: TARIFA | M29: RENDIMIENTO | O29: Vr. UNITARIO
C30: HERRAMIENTA MENOR | H30: GL | I30: GL | L30: 6342.17 | M30: 1 | N30: 1 | O30: =L30/M30 -> 6342.17
C31: SUBTOTAL $ | O31: =SUM(O30:O30) -> 6342.17
C32: II. MATERIALES
C35: DESCRIPCIÓN | K35: UNIDAD | L35: CANTIDAD | M35: PRECIO UNIT. | O35: Vr. UNITARIO
C36: AGUA | K36: LT | L36: 158 | M36: 75 | O36: =L36*M36 -> 11850
C37: CEMENTO GRIS | K37: KG | L37: 180 | M37: 750 | O37: =L37*M37 -> 135000
C38: ARENA LAVADA DE RÍO EN MUNICIPIO | K38: M3 | L38: 0.3 | M38: 47354 | O38: =L38*M38 -> 14206.2
C39: GRAVILLA DE RÍO EN MUNICIPIO | K39: M3 | L39: 0.57 | M39: 60585 | O39: =L39*M39 -> 34533.45
C40: RAJÓN | K40: M3 | L40: 0.42 | M40: 68395 | O40: =L40*M40 -> 28725.9
C41: SUBTOTAL $ | O41: =SUM(O36:O40) -> 224315.55
C42: III. TRANSPORTES
C45: MATERIAL | J45: VOL. o PESO | K45: DISTANCIA | L45: M3 o Ton/Km | M45: TARIFA | O45: Vr. UNITARIO
C46: TRANS. RAJÓN | J46: 0.42 | K46: 15 | L46: 6.3 | M46: 995 | O46: =M46*L46 -> 6268.5
C48: SUBTOTAL $ | O48: =O46 -> 6268.5
C49: IV. MANO DE OBRA
C52: TRABAJADOR | J52: JORNAL | K52: PRESTACIONES | L52: HORA TOTAL | M52: RENDIMIENTO | O52: Vr. UNITARIO
C53: MANO DE OBRA AA | J53: 190265 | K53: 2 | L53: =J53*K53 -> 380530 | M53: 3 | O53: =L53/M53 -> 126843.33
C57: SUBTOTAL $ | O57: =SUM(O53) -> 126843.33
C59: TOTAL COSTO DIRECTO $ | O59: =ROUND(O31+O57+O46+O41,0) -> 363770
C60: V. COSTOS INDIRECTOS
C63: Descripción | L63: Porcentaje | M63: Valor Total
C64: ADMINISTRACION
C65: IMPREVISTOS
C66: UTILIDAD
C67: SUBTOTAL $
...

Sheet ICCU 5.1
C3: Formulario 1 - Propuesta económica - Documento tipo de selección abreviada de menor cuantía - versión 1
C4: Versión: 1 del 21 de agosto de 2025
C6: [La Entidad podrá utilizar este Formato para la presentación de los análisis de Precios Unitarios del Contratista en la oportunidad prevista en el numeral 8.2. del Documento Base]
D9: MUNICIPIO DE EL ESPINAL
L10: VERSIÓN
D11: [NÚMERO DEL PROCESO]
L12: PÁGINA | M12: 1 | N12: DE | O12: 1
D14: ANÁLISIS DE PRECIOS UNITARIOS
L16: FECHA | M16: DD | N16: MM | O16: AA
C18: ÍTEMS DE LA PROPUESTA ECONÓMICA
C22: DATOS ESPECÍFICOS
C24: ÍTEM | D24: DESCRIPCIÓN | M24: UNIDAD | O24: CANTIDAD
C25: 5.1 | D25: MURO DRYWALL DOBLE CARA 0.12 M | M25: M2
C26: I. EQUIPO
C29: DESCRIPCIÓN | H29: UNIDAD | J29: TIPO | L29: TARIFA | M29: RENDIMIENTO | O29: Vr. UNITARIO
C30: SECCION DE 1,4 POR 1,4 H=2,0 - ANDAMIO CERTIFICADO | H30: D | L30: 30900 | M30: 14 | O30: =L30/M30 -> 2207.1429
C31: HERRAMIENTA MENOR | H31: GL | I31: GL | L31: 2718.07 | M31: 1 | N31: 1 | O31: =L31/M31 -> 2718.07
C32: SUBTOTAL $ | O32: =SUM(O30:O31) -> 4925.2129
C33: II. MATERIALES
C36: DESCRIPCIÓN | K36: UNIDAD | L36: CANTIDAD | M36: PRECIO UNIT. | O36: Vr. UNITARIO
C37: CANAL B 9X2.44 CAL. 26 | K37: UN | L37: 0.35 | M37: 12596 | O37: =L37*M37 -> 4408.6
C38: CARGA FULMINANTE FUERTE + CLAVO 5/16" B. VEL. 1" | K38: UN | L38: 1.61 | M38: 608 | O38: =L38*M38 -> 978.88
C39: CINTA DE PAPEL SUPERCINTA 250 | K39: RL | L39: 0.07 | M39: 11768 | O39: =L39*M39 -> 823.76
C40: LÁMINA DRYWALL 1/2" SUPERPLACA 1.22X2.44 | K40: UN | L40: 0.71 | M40: 75314 | O40: =L40*M40 -> 53472.94
C41: LIJA DE AGUA 150 SUPER | K41: UN | L41: 0.42 | M41: 1883 | O41: =L41*M41 -> 790.86
C42: MASILLA SUPERMÁSTICO 5GLN | K42: GLN | L42: 0.09 | M42: 86422 | O42: =L42*M42 -> 7777.98
C43: PARAL B 9X2.44 CAL. 26 | K43: UN | L43: 0.71 | M43: 17322 | O43: =L43*M43 -> 12298.62
C44: TORNILLO 7 X 7/16 | K44: UN | L44: 2.82 | M44: 32 | O44: =L44*M44 -> 90.24
C45: TORNILLO GRABER 6X1" | K45: UN | L45: 27.22 | M45: 32 | O45: =L45*M45 -> 871.04
C46: SUBTOTAL $ | O46: =SUM(O37:O45) -> 81512.92
C47: III. TRANSPORTES
C50: MATERIAL | J50: VOL. o PESO | K50: DISTANCIA | L50: M3 o Ton/Km | M50: TARIFA | O50: Vr. UNITARIO
C53: SUBTOTAL $ | O53: =O51 -> 0
C54: IV. MANO DE OBRA
C57: TRABAJADOR | J57: JORNAL | K57: PRESTACIONES | L57: HORA TOTAL | M57: RENDIMIENTO | O57: Vr. UNITARIO
C58: MANO DE OBRA AA | J58: 190265 | K58: 2 | L58: =J58*K58 -> 380530 | M58: 7 | O58: =L58/M58 -> 54361.429
C62: SUBTOTAL $ | O62: =SUM(O58) -> 54361.429
C64: TOTAL COSTO DIRECTO $ | O64: =ROUND(O32+O62+O51+O46,0) -> 140800
C65: V. COSTOS INDIRECTOS
C68: Descripción | L68: Porcentaje | M68: Valor Total
...

Sheet ICCU 5.2
C3: Formulario 1 - Propuesta económica - Documento tipo de selección abreviada de menor cuantía - versión 1
C4: Versión: 1 del 21 de agosto de 2025
C6: [La Entidad podrá utilizar este Formato para la presentación de los análisis de Precios Unitarios del Contratista en la oportunidad prevista en el numeral 8.2. del Documento Base]
D9: MUNICIPIO DE EL ESPINAL
L10: VERSIÓN
D11: [NÚMERO DEL PROCESO]
L12: PÁGINA | M12: 1 | N12: DE | O12: 1
D14: ANÁLISIS DE PRECIOS UNITARIOS
L16: FECHA | M16: DD | N16: MM | O16: AA
C18: ÍTEMS DE LA PROPUESTA ECONÓMICA
C22: DATOS ESPECÍFICOS
C24: ÍTEM | D24: DESCRIPCIÓN | M24: UNIDAD | O24: CANTIDAD
C25: 5.2 | D25: MURO SUPERBOARD 8MM DOBLE CARA 0.12 M | M25: M2
C26: I. EQUIPO
C29: DESCRIPCIÓN | H29: UNIDAD | J29: TIPO | L29: TARIFA | M29: RENDIMIENTO | O29: Vr. UNITARIO
C30: SECCION DE 1,4 POR 1,4 H=2,0 - ANDAMIO CERTIFICADO | H30: D | L30: 30900 | M30: 16 | O30: =L30/M30 -> 1931.25
C31: HERRAMIENTA MENOR | H31: GL | I31: GL | L31: 5707.95 | M31: 1 | N31: 1 | O31: =L31/M31 -> 5707.95
C32: SUBTOTAL $ | O32: =SUM(O30:O31) -> 7639.2
C33: II. MATERIALES
C36: DESCRIPCIÓN | K36: UNIDAD | L36: CANTIDAD | M36: PRECIO UNIT. | O36: Vr. UNITARIO
C37: CANAL 92 MM CAL. 20 | K37: ML | L37: 0.82 | M37: 44676 | O37: =L37*M37 -> 36634.32
C38: PARAL 92 MM CAL. 26 | K38: ML | L38: 1.7 | M38: 12992 | O38: =L38*M38 -> 22086.4
C39: CARGA FULMINANTE FUERTE + CLAVO 5/16" B. VEL. 1" | K39: UN | L39: 5 | M39: 608 | O39: =L39*M39 -> 3040
C40: TORNILLO CABEZA EXTRAPLANA 8 X 1/2" | K40: UN | L40: 10 | M40: 151 | O40: =L40*M40 -> 1510
C41: TORNILLO 7 X 7/16 | K41: M2 | L41: 1.1 | M41: 29050 | O41: =L41*M41 -> 31955
C42: MASILLA SUPERMÁSTICO 5GLN | K42: UN | L42: 6 | M42: 32 | O42: =L42*M42 -> 192
C43: CINTA EN FIBRA DE VIDRIO DE 50 MM, 90M | K43: RL | L43: 0.008 | M43: 14874 | O43: =L43*M43 -> 118.992
C44: MASILLA SUPERMÁSTICO 5GLN | K44: GLN | L44: 0.286 | M44: 86422 | O44: 24692
C45: LIJA DE AGUA 965 SUPER | K45: UN | L45: 1.5 | M45: 1939 | O45: =L45*M45 -> 2908.5
C46: SUBTOTAL $ | O46: =SUM(O37:O45) -> 123137.21
C47: III. TRANSPORTES
C50: MATERIAL | J50: VOL. o PESO | K50: DISTANCIA | L50: M3 o Ton/Km | M50: TARIFA | O50: Vr. UNITARIO
C53: SUBTOTAL $ | O53: =O51 -> 0
C54: IV. MANO DE OBRA
C57: TRABAJADOR | J57: JORNAL | K57: PRESTACIONES | L57: HORA TOTAL | M57: RENDIMIENTO | O57: Vr. UNITARIO
C58: MANO DE OBRA DD | J58: 228318 | K58: 2 | L58: =J58*K58 -> 456636 | M58: 8 | O58: =L58/M58 -> 57079.5
C62: SUBTOTAL $ | O62: =SUM(O58) -> 57079.5
C64: TOTAL COSTO DIRECTO $ | O64: =ROUND(O32+O62+O51+O46,0) -> 187856
C65: V. COSTOS INDIRECTOS
C68: Descripción | L68: Porcentaje | M68: Valor Total
...

Sheet ICCU 5.3
C3: Formulario 1 - Propuesta económica - Documento tipo de selección abreviada de menor cuantía - versión 1
C4: Versión: 1 del 21 de agosto de 2025
C6: [La Entidad podrá utilizar este Formato para la presentación de los análisis de Precios Unitarios del Contratista en la oportunidad prevista en el numeral 8.2. del Documento Base]
D9: MUNICIPIO DE EL ESPINAL
L10: VERSIÓN
D11: [NÚMERO DEL PROCESO]
L12: PÁGINA | M12: 1 | N12: DE | O12: 1
D14: ANÁLISIS DE PRECIOS UNITARIOS
L16: FECHA | M16: DD | N16: MM | O16: AA
