Workbook

Sheet LOTE 1
C1: OBJETO: “SERVICIO DE MANTENIMIENTO PREVENTIVO Y/O CORRECTIVO INCLUIDA BOLSA DE REPUESTOS DE EQUIPOS DE LABORATORIO DE LAS DEPENDENCIAS DEL ICA”
A6: INSITITUTO COLOMBIANO AGROPECUARIO - ICA
A7: ANEXO ESTUDIO DE MERCADO | Q7: NO HAY HISTORICO DE REFERENCIA
A9: LOTE 1. SERVICIO DE MANTENIMIENTO CON BOLSA DE REPUESTOS DE LOS ESPECTROFOTÓMETROS DENOVIX
A10: SERVICIOS DE MANTENIMIENTO | H10: AM Asesoría y Mantenimiento Ltda | K10: INSTRUMENTACION & METROLOGIA | N10: KASSEL GROUP S.A.S | Q10: DESVIACION ESTANDAR | R10: % DISPERSIÓN | S10: PROMEDIO
A11: Ítem | B11: Laboratorio | C11: Equipo | D11: Marca | E11: Modelo | F11: Tipo de mantenimiento | G11: Cantidad | H11: VALOR UNITARIO SIN IVA | I11: IVA | J11: VALOR UNITARIO IVA INCLUIDO | K11: VALOR UNITARIO SIN IVA | L11: IVA | M11: VALOR UNITARIO IVA INCLUIDO | N11: VALOR UNITARIO SIN IVA | O11: IVA | P11: VALOR UNITARIO IVA INCLUIDO | Q11: VALOR UNITARIO IVA INCLUIDO | R11: VALOR UNITARIO IVA INCLUIDO | S11: VALOR UNITARIO IVA INCLUIDO
A12: 1 | B12: LDF ATLÁNTICO | C12: ESPECTROFOTOMETRO | D12: DENOVIX | E12: QFX | F12: Mantenimiento Preventivo | G12: 1 | H12: 2061000 | I12: =H12*19% -> 391590 | J12: =+H12+I12 -> 2452590 | K12: 2308320 | L12: =K12*19% -> 438580.8 | M12: =+K12+L12 -> 2746900.8 | N12: 2450000 | O12: =N12*19% -> 465500 | P12: =+N12+O12 -> 2915500 | Q12: =IFERROR(STDEVA(J12,M12,P12)," ") -> 234282.67 | R12: =IFERROR(Q12/S12," ") -> 0.086611063 | S12: =ROUND(IFERROR(AVERAGE(J12,M12,P12)," "),0) -> 2704997
A13: 2 | B13: LDF-SOGAMOSO | C13: ESPECTROFOTOMETRO | D13: DENOVIX | E13: DS-11 | F13: Mantenimiento Preventivo | G13: 1 | H13: 2026000 | I13: =H13*19% -> 384940 | J13: =+H13+I13 -> 2410940 | K13: 2269120 | L13: =K13*19% -> 431132.8 | M13: =+K13+L13 -> 2700252.8 | N13: 2450000 | O13: =N13*19% -> 465500 | P13: =+N13+O13 -> 2915500 | Q13: =IFERROR(STDEVA(J13,M13,P13)," ") -> 253184.4 | R13: =IFERROR(Q13/S13," ") -> 0.094628423 | S13: =ROUND(IFERROR(AVERAGE(J13,M13,P13)," "),0) -> 2675564
A14: 3 | B14: LDF-Manizales | C14: ESPECTROFOTOMETRO | D14: DENOVIX | E14: DS11 | F14: Mantenimiento Preventivo | G14: 1 | H14: 2537000 | I14: =H14*19% -> 482030 | J14: =+H14+I14 -> 3019030 | K14: 2841440 | L14: =K14*19% -> 539873.6 | M14: =+K14+L14 -> 3381313.6 | N14: 3000000 | O14: =N14*19% -> 570000 | P14: =+N14+O14 -> 3570000 | Q14: =IFERROR(STDEVA(J14,M14,P14)," ") -> 280005.92 | R14: =IFERROR(Q14/S14," ") -> 0.084251634 | S14: =ROUND(IFERROR(AVERAGE(J14,M14,P14)," "),0) -> 3323448
A15: 4 | B15: LNDV - Bogotá | C15: ESPECTROFOTOMETRO | D15: DENOVIX | E15: DS-100 | F15: Mantenimiento Preventivo | G15: 1 | H15: 1456000 | I15: =H15*19% -> 276640 | J15: =+H15+I15 -> 1732640 | K15: 1630720 | L15: =K15*19% -> 309836.8 | M15: =+K15+L15 -> 1940556.8 | N15: 1700000 | O15: =N15*19% -> 323000 | P15: =+N15+O15 -> 2023000 | Q15: =IFERROR(STDEVA(J15,M15,P15)," ") -> 149630.21 | R15: =IFERROR(Q15/S15," ") -> 0.078805337 | S15: =ROUND(IFERROR(AVERAGE(J15,M15,P15)," "),0) -> 1898732
A16: 5 | B16: LDF PALMIRA | C16: ESPECTROFOTOMETRO | D16: DENOVIX | E16: DS-11 | F16: Mantenimiento Preventivo | G16: 1 | H16: 2537000 | I16: =H16*19% -> 482030 | J16: =+H16+I16 -> 3019030 | K16: 2841440 | L16: =K16*19% -> 539873.6 | M16: =+K16+L16 -> 3381313.6 | N16: 3000000 | O16: =N16*19% -> 570000 | P16: =+N16+O16 -> 3570000 | Q16: =IFERROR(STDEVA(J16,M16,P16)," ") -> 280005.92 | R16: =IFERROR(Q16/S16," ") -> 0.084251634 | S16: =ROUND(IFERROR(AVERAGE(J16,M16,P16)," "),0) -> 3323448
A17: 6 | B17: LDF DE ZONA BANANERA | C17: ESPECTROFOTOMETRO | D17: DENOVIX | E17: DS-11 | F17: Mantenimiento Preventivo | G17: 1 | H17: 2537000 | I17: =H17*19% -> 482030 | J17: =+H17+I17 -> 3019030 | K17: 2841440 | L17: =K17*19% -> 539873.6 | M17: =+K17+L17 -> 3381313.6 | N17: 3000000 | O17: =N17*19% -> 570000 | P17: =+N17+O17 -> 3570000 | Q17: =IFERROR(STDEVA(J17,M17,P17)," ") -> 280005.92 | R17: =IFERROR(Q17/S17," ") -> 0.084251634 | S17: =ROUND(IFERROR(AVERAGE(J17,M17,P17)," "),0) -> 3323448
A18: 7 | B18: LDF BUCARAMANGA | C18: ESPECTROFOTOMETRO | D18: DENOVIX | E18: DS-11 | F18: Mantenimiento Preventivo | G18: 1 | H18: 2537000 | I18: =H18*19% -> 482030 | J18: =+H18+I18 -> 3019030 | K18: 2841440 | L18: =K18*19% -> 539873.6 | M18: =+K18+L18 -> 3381313.6 | N18: 3000000 | O18: =N18*19% -> 570000 | P18: =+N18+O18 -> 3570000 | Q18: =IFERROR(STDEVA(J18,M18,P18)," ") -> 280005.92 | R18: =IFERROR(Q18/S18," ") -> 0.084251634 | S18: =ROUND(IFERROR(AVERAGE(J18,M18,P18)," "),0) -> 3323448
A19: SUBTOTAL MANTENIMIENTOS (Sumatoria valores unitarios y totales) | H19: =SUM(H12:H18) -> 15691000 | I19: =SUM(I12:I18) -> 2981290 | J19: =SUM(J12:J18) -> 18672290 | K19: =SUM(K12:K18) -> 17573920 | L19: =SUM(L12:L18) -> 3339044.8 | M19: =SUM(M12:M18) -> 20912965 | N19: =SUM(N12:N18) -> 18600000 | O19: =SUM(O12:O18) -> 3534000 | P19: =SUM(P12:P18) -> 22134000 | S19: =SUM(S12:S18) -> 20573085
A20: BOLSA DE REPUESTOS | H20: AM Asesoría y Mantenimiento Ltda | K20: INSTRUMENTACION & METROLOGIA | N20: KASSEL GROUP S.A.S | Q20: DESVIACION ESTANDAR | R20: % DISPERSIÓN | S20: PROMEDIO
A21: Ítem | B21: Elemento | F21: Marca | G21: Cantidad | H21: VALOR UNITARIO SIN IVA | I21: IVA | J21: VALOR UNITARIO IVA INCLUIDO | K21: VALOR UNITARIO SIN IVA | L21: IVA | M21: VALOR UNITARIO IVA INCLUIDO | N21: VALOR UNITARIO SIN IVA | O21: IVA | P21: VALOR UNITARIO IVA INCLUIDO | Q21: VALOR UNITARIO IVA INCLUIDO | R21: VALOR UNITARIO IVA INCLUIDO | S21: VALOR UNITARIO IVA INCLUIDO
A22: 1 | B22: Continuity Button | F22: DENOVIX | G22: 1 | H22: 578000 | I22: =H22*19% -> 109820 | J22: =+H22+I22 -> 687820 | K22: 647360 | L22: =K22*19% -> 122998.4 | M22: =+K22+L22 -> 770358.4 | N22: 702084 | O22: =N22*19% -> 133395.96 | P22: =+N22+O22 -> 835479.96 | Q22: =IFERROR(STDEVA(J22,M22,P22)," ") -> 74000.978 | R22: =IFERROR(Q22/S22," ") -> 0.096789861 | S22: =ROUND(IFERROR(AVERAGE(J22,M22,P22)," "),0) -> 764553
A23: 2 | B23: Continuity Button Sleeve | F23: DENOVIX | G23: 1 | H23: 578000 | I23: =H23*19% -> 109820 | J23: =+H23+I23 -> 687820 | K23: 647360 | L23: =K23*19% -> 122998.4 | M23: =+K23+L23 -> 770358.4 | N23: 702084 | O23: =N23*19% -> 133395.96 | P23: =+N23+O23 -> 835479.96 | Q23: =IFERROR(STDEVA(J23,M23,P23)," ") -> 74000.978 | R23: =IFERROR(Q23/S23," ") -> 0.096789861 | S23: =ROUND(IFERROR(AVERAGE(J23,M23,P23)," "),0) -> 764553
A24: 3 | B24: SanDisk de 32 GB con programación serializada de fábrica | F24: DENOVIX | G24: 1 | H24: 578000 | I24: =H24*19% -> 109820 | J24: =+H24+I24 -> 687820 | K24: 647360 | L24: =K24*19% -> 122998.4 | M24: =+K24+L24 -> 770358.4 | N24: 702084 | O24: =N24*19% -> 133395.96 | P24: =+N24+O24 -> 835479.96 | Q24: =IFERROR(STDEVA(J24,M24,P24)," ") -> 74000.978 | R24: =IFERROR(Q24/S24," ") -> 0.096789861 | S24: =ROUND(IFERROR(AVERAGE(J24,M24,P24)," "),0) -> 764553
A25: 4 | B25: Nicotinic acid verification fluid | F25: DENOVIX | G25: 1 | H25: 514000 | I25: =H25*19% -> 97660 | J25: =+H25+I25 -> 611660 | K25: 575680 | L25: =K25*19% -> 109379.2 | M25: =+K25+L25 -> 685059.2 | N25: 600000 | O25: =N25*19% -> 114000 | P25: =+N25+O25 -> 714000 | Q25: =IFERROR(STDEVA(J25,M25,P25)," ") -> 52754.918 | R25: =IFERROR(Q25/S25," ") -> 0.078710488 | S25: =ROUND(IFERROR(AVERAGE(J25,M25,P25)," "),0) -> 670240
A26: SUBTOTAL BOLSA DE REPUESTOS (Sumatoria valores unitarios y totales) | H26: =SUM(H22:H25) -> 2248000 | I26: =SUM(I22:I25) -> 427120 | J26: =SUM(J22:J25) -> 2675120 | K26: =SUM(K22:K25) -> 2517760 | L26: =SUM(L22:L25) -> 478374.4 | M26: =SUM(M22:M25) -> 2996134.4 | N26: =SUM(N22:N25) -> 2706252 | O26: =SUM(O22:O25) -> 514187.88 | P26: =SUM(P22:P25) -> 3220439.9 | S26: =SUM(S22:S25) -> 2963899
A27: TOTAL | H27: =+H19+H26 -> 17939000 | I27: =+I19+I26 -> 3408410 | J27: =+J19+J26 -> 21347410 | K27: =+K19+K26 -> 20091680 | L27: =+L19+L26 -> 3817419.2 | M27: =+M19+M26 -> 23909099 | N27: =+N19+N26 -> 21306252 | O27: =+O19+O26 -> 4048187.9 | P27: =+P19+P26 -> 25354440 | S27: =+S19+S26 -> 23536984

Sheet LOTE 2
C1: OBJETO: “SERVICIO DE MANTENIMIENTO PREVENTIVO Y/O CORRECTIVO INCLUIDA BOLSA DE REPUESTOS DE EQUIPOS DE LABORATORIO DE LAS DEPENDENCIAS DEL ICA”
A6: INSITITUTO COLOMBIANO AGROPECUARIO - ICA
A7: ANEXO ESTUDIO DE MERCADO | Q7: NO HAY HISTORICO DE REFERENCIA
A9: LOTE 2. SERVICIO DE MANTENIMIENTO CON BOLSA DE REPUESTOS DEL LECTOR BIOLOG
A10: SERVICIOS DE MANTENIMIENTO | H10: ADVANCED INSTRUMENTS S.A.S | K10: INSTRUMENTACION & METROLOGIA S.A.S | N10: KASSEL GROUP S.A.S | Q10: DESVIACION ESTANDAR | R10: % DISPERSIÓN | S10: PROMEDIO
A11: Ítem | B11: Laboratorio | C11: Equipo | D11: Marca | E11: Modelo | F11: Tipo de mantenimiento | G11: Cantidad | H11: VALOR UNITARIO SIN IVA | I11: IVA | J11: VALOR UNITARIO IVA INCLUIDO | K11: VALOR UNITARIO SIN IVA | L11: IVA | M11: VALOR UNITARIO IVA INCLUIDO | N11: VALOR UNITARIO SIN IVA | O11: IVA | P11: VALOR UNITARIO IVA INCLUIDO | Q11: VALOR UNITARIO IVA INCLUIDO | R11: VALOR UNITARIO IVA INCLUIDO | S11: VALOR UNITARIO IVA INCLUIDO
A12: 1 | B12: LNDF | C12: LECTOR BIOLOG 808 | D12: BIOLOG | E12: ELX 808 | F12: Mantenimiento Preventivo | G12: 1 | H12: 2112706 | I12: =H12*19% -> 401414.14 | J12: =+H12+I12 -> 2514120.1 | K12: 2143762.8 | L12: =K12*19% -> 407314.93 | M12: =+K12+L12 -> 2551077.7 | N12: 2200000 | O12: =N12*19% -> 418000 | P12: =+N12+O12 -> 2618000 | Q12: =IFERROR(STDEVA(J12,M12,P12)," ") -> 52655.295 | R12: =IFERROR(Q12/S12," ") -> 0.020559913 | S12: =ROUND(IFERROR(AVERAGE(J12,M12,P12)," "),0) -> 2561066
A13: SUBTOTAL MANTENIMIENTOS (Sumatoria valores unitarios y totales) | H13: =SUM(H12:H12) -> 2112706 | I13: =SUM(I12:I12) -> 401414.14 | J13: =SUM(J12:J12) -> 2514120.1 | K13: =SUM(K12:K12) -> 2143762.8 | L13: =SUM(L12:L12) -> 407314.93 | M13: =SUM(M12:M12) -> 2551077.7 | N13: =SUM(N12:N12) -> 2200000 | O13: =SUM(O12:O12) -> 418000 | P13: =SUM(P12:P12) -> 2618000 | S13: =SUM(S12:S12) -> 2561066
A14: BOLSA DE REPUESTOS | H14: ADVANCED INSTRUMENTS S.A.S | K14: INSTRUMENTACION & METROLOGIA S.A.S | N14: KASSEL GROUP S.A.S | Q14: DESVIACION ESTANDAR | R14: % DISPERSIÓN | S14: PROMEDIO
A15: Ítem | B15: Elemento | F15: Marca | G15: Cantidad | H15: VALOR UNITARIO SIN IVA | I15: IVA | J15: VALOR UNITARIO IVA INCLUIDO | K15: VALOR UNITARIO SIN IVA | L15: IVA | M15: VALOR UNITARIO IVA INCLUIDO | N15: VALOR UNITARIO SIN IVA | O15: IVA | P15: VALOR UNITARIO IVA INCLUIDO | Q15: VALOR UNITARIO IVA INCLUIDO | R15: VALOR UNITARIO IVA INCLUIDO | S15: VALOR UNITARIO IVA INCLUIDO
A16: 1 | B16: "Replacement Lamp for MicroStation Reader (BioTek) (Sold individually)" | F16: BIOLOG | G16: 1 | H16: 4000000 | I16: =H16*19% -> 760000 | J16: =+H16+I16 -> 4760000 | K16: 4058800 | L16: =K16*19% -> 771172 | M16: =+K16+L16 -> 4829972 | N16: 4000000 | O16: =N16*19% -> 760000 | P16: =+N16+O16 -> 4760000 | Q16: =IFERROR(STDEVA(J16,M16,P16)," ") -> 40398.353 | R16: =IFERROR(Q16/S16," ") -> 0.0084456652 | S16: =ROUND(IFERROR(AVERAGE(J16,M16,P16)," "),0) -> 4783324
A17: 2 | B17: Replacement Filter for MicroStation Reader (BioTek), 405 nm | F17: BIOLOG | G17: 1 | H17: 5260890 | I17: =H17*19% -> 999569.1 | J17: =+H17+I17 -> 6260459.1 | K17: 5338225.1 | L17: =K17*19% -> 1014262.8 | M17: =+K17+L17 -> 6352487.8 | N17: 5450000 | O17: =N17*19% -> 1035500 | P17: =+N17+O17 -> 6485500 | Q17: =IFERROR(STDEVA(J17,M17,P17)," ") -> 113140.72 | R17: =IFERROR(Q17/S17," ") -> 0.017772238 | S17: =ROUND(IFERROR(AVERAGE(J17,M17,P17)," "),0) -> 6366149
A18: 3 | B18: Replacement Filter for MicroStation Reader (BioTek), 490 nm | F18: BIOLOG | G18: 1 | H18: 5260890 | I18: =H18*19% -> 999569.1 | J18: =+H18+I18 -> 6260459.1 | K18: 5338225.1 | L18: =K18*19% -> 1014262.8 | M18: =+K18+L18 -> 6352487.8 | N18: 5450000 | O18: =N18*19% -> 1035500 | P18: =+N18+O18 -> 6485500 | Q18: =IFERROR(STDEVA(J18,M18,P18)," ") -> 113140.72 | R18: =IFERROR(Q18/S18," ") -> 0.017772238 | S18: =ROUND(IFERROR(AVERAGE(J18,M18,P18)," "),0) -> 6366149
A19: 4 | B19: Replacement Filter for MicroStation Reader (BioTek), 590 nm | F19: BIOLOG | G19: 1 | H19: 5260890 | I19: =H19*19% -> 999569.1 | J19: =+H19+I19 -> 6260459.1 | K19: 5338225.1 | L19: =K19*19% -> 1014262.8 | M19: =+K19+L19 -> 6352487.8 | N19: 5450000 | O19: =N19*19% -> 1035500 | P19: =+N19+O19 -> 6485500 | Q19: =IFERROR(STDEVA(J19,M19,P19)," ") -> 113140.72 | R19: =IFERROR(Q19/S19," ") -> 0.017772238 | S19: =ROUND(IFERROR(AVERAGE(J19,M19,P19)," "),0) -> 6366149
A20: 5 | B20: Replacement Filter for MicroStation Reader (BioTek), 750 nm | F20: BIOLOG | G20: 1 | H20: 5260890 | I20: =H20*19% -> 999569.1 | J20: =+H20+I20 -> 6260459.1 | K20: 5338225.1 | L20: =K20*19% -> 1014262.8 | M20: =+K20+L20 -> 6352487.8 | N20: 5450000 | O20: =N20*19% -> 1035500 | P20: =+N20+O20 -> 6485500 | Q20: =IFERROR(STDEVA(J20,M20,P20)," ") -> 113140.72 | R20: =IFERROR(Q20/S20," ") -> 0.017772238 | S20: =ROUND(IFERROR(AVERAGE(J20,M20,P20)," "),0) -> 6366149
A21: SUBTOTAL BOLSA DE REPUESTOS (Sumatoria valores unitarios y totales) | H21: =SUM(H16:H20) -> 25043560 | I21: =SUM(I16:I20) -> 4758276.4 | J21: =SUM(J16:J20) -> 29801836 | K21: =SUM(K16:K20) -> 25411700 | L21: =SUM(L16:L20) -> 4828223.1 | M21: =SUM(M16:M20) -> 30239923 | N21: =SUM(N16:N20) -> 25800000 | O21: =SUM(O16:O20) -> 4902000 | P21: =SUM(P16:P20) -> 30702000 | S21: =SUM(S16:S20) -> 30247920
A22: TOTAL | H22: =+H13+H21 -> 27156266 | I22: =+I13+I21 -> 5159690.5 | J22: =+J13+J21 -> 32315957 | K22: =+K13+K21 -> 27555463 | L22: =+L13+L21 -> 5235538 | M22: =+M13+M21 -> 32791001 | N22: =+N13+N21 -> 28000000 | O22: =+O13+O21 -> 5320000 | P22: =+P13+P21 -> 33320000 | S22: =+S13+S21 -> 32808986

Sheet LOTE 3
C1: OBJETO: “SERVICIO DE MANTENIMIENTO PREVENTIVO Y/O CORRECTIVO INCLUIDA BOLSA DE REPUESTOS DE EQUIPOS DE LABORATORIO DE LAS DEPENDENCIAS DEL ICA”
A6: INSITITUTO COLOMBIANO AGROPECUARIO - ICA
A7: ANEXO ESTUDIO DE MERCADO
A9: LOTE 3. SERVICIO DE MANTENIMIENTO CON BOLSA DE REPUESTOS DE LOS EQUIPOS OPTICOS
A10: SERVICIOS DE MANTENIMIENTO | H10: HISTORICO 2025 + IPC (5,1%) | J10: INSTRUMENTACIÓN Y METROLOGÍA S.A.S | M10: ADVANCED INSTRUMENTS S.A.S | P10: KASSEL GROUP S.A.S | S10: DESVIACION ESTANDAR | T10: % DISPERSIÓN | U10: PROMEDIO
A11: Ítem | B11: Laboratorio | C11: Ubicación interna | D11: Equipo | E11: Marca | F11: Modelo | G11: Cantidad | H11: VALOR UNITARIO CON IVA 2025 | I11: VALOR ACTUALIZADO CON IPC | J11: VALOR UNITARIO SIN IVA | K11: IVA | L11: VALOR UNITARIO IVA INCLUIDO | M11: VALOR UNITARIO SIN IVA | N11: IVA | O11: VALOR UNITARIO IVA INCLUIDO | P11: VALOR UNITARIO SIN IVA | Q11: IVA | R11: VALOR UNITARIO IVA INCLUIDO | S11: VALOR UNITARIO IVA INCLUIDO | T11: VALOR UNITARIO IVA INCLUIDO | U11: VALOR UNITARIO IVA INCLUIDO
A12: 7 | B12: LANIP | C12: MATERIAL SEMINAL | D12: MICROSCOPIO | E12: NIKON | F12: Eclipse E200LED | G12: 1 | J12: 1200000 | K12: =J12*19% -> 228000 | L12: =+J12+K12 -> 1428000 | M12: 1250000 | N12: =M12*19% -> 237500 | O12: =+M12+N12 -> 1487500 | P12: 1344000 | Q12: =P12*0.19 -> 255360 | R12: =P12+Q12 -> 1599360 | S12: =IFERROR(STDEVA(L12,O12,R12)," ") -> 87003.026 | T12: =IFERROR(S12/U12," ") -> 0.057811125 | U12: =ROUND(IFERROR(AVERAGE(L12,O12,R12)," "),0) -> 1504953
A13: 8 | B13: LANIP | C13: MEDICAMENTOS MICROBIOLOGÍA | D13: MICROSCOPIO | E13: ZEISS | F13: AXIOSTAR PLUS | G13: 1 | J13: 1200000 | K13: =J13*19% -> 228000 | L13: =+J13+K13 -> 1428000 | M13: 1250000 | N13: =M13*19% -> 237500 | O13: =+M13+N13 -> 1487500 | P13: 1344000 | Q13: =P13*0.19 -> 255360 | R13: =P13+Q13 -> 1599360 | S13: =IFERROR(STDEVA(L13,O13,R13)," ") -> 87003.026 | T13: =IFERROR(S13/U13," ") -> 0.057811125 | U13: =ROUND(IFERROR(AVERAGE(L13,O13,R13)," "),0) -> 1504953
A14: 9 | B14: LANIP | C14: CULTIVOS CELULARES | D14: MICROSCOPIO | E14: AMERICAN OPTICAL | F14: 1810 | G14: 1 | J14: 1200000 | K14: =J14*19% -> 228000 | L14: =+J14+K14 -> 1428000 | M14: 1250000 | N14: =M14*19% -> 237500 | O14: =+M14+N14 -> 1487500 | P14: 1344000 | Q14: =P14*0.19 -> 255360 | R14: =P14+Q14 -> 1599360 | S14: =IFERROR(STDEVA(L14,O14,R14)," ") -> 87003.026 | T14: =IFERROR(S14/U14," ") -> 0.057811125 | U14: =ROUND(IFERROR(AVERAGE(L14,O14,R14)," "),0) -> 1504953
A15: 10 | B15: LANIP | C15: MATERIAL SEMINAL | D15: MICROSCOPIO | E15: ZEISS | F15: AXIOSTAR | G15: 1 | J15: 1200000 | K15: =J15*19% -> 228000 | L15: =+J15+K15 -> 1428000 | M15: 1250000 | N15: =M15*19% -> 237500 | O15: =+M15+N15 -> 1487500 | P15: 1344000 | Q15: =P15*0.19 -> 255360 | R15: =P15+Q15 -> 1599360 | S15: =IFERROR(STDEVA(L15,O15,R15)," ") -> 87003.026 | T15: =IFERROR(S15/U15," ") -> 0.057811125 | U15: =ROUND(IFERROR(AVERAGE(L15,O15,R15)," "),0) -> 1504953
A16: 11 | B16: LANIP | C16: MATERIAL SEMINAL | D16: MICROSCOPIO | E16: NIKON | F16: ECLIPSE | G16: 1 | J16: 1200000 | K16: =J16*19% -> 228000 | L16: =+J16+K16 -> 1428000 | M16: 1250000 | N16: =M16*19% -> 237500 | O16: =+M16+N16 -> 1487500 | P16: 1344000 | Q16: =P16*0.19 -> 255360 | R16: =P16+Q16 -> 1599360 | S16: =IFERROR(STDEVA(L16,O16,R16)," ") -> 87003.026 | T16: =IFERROR(S16/U16," ") -> 0.057811125 | U16: =ROUND(IFERROR(AVERAGE(L16,O16,R16)," "),0) -> 1504953
A17: 12 | B17: LANIP | C17: ESTERILIDAD | D17: MICROSCOPIO | E17: AMERICAN OPTICAL | F17: 1810 | G17: 1 | J17: 1200000 | K17: =J17*19% -> 228000 | L17: =+J17+K17 -> 1428000 | M17: 1250000 | N17: =M17*19% -> 237500 | O17: =+M17+N17 -> 1487500 | P17: 1344000 | Q17: =P17*0.19 -> 255360 | R17: =P17+Q17 -> 1599360 | S17: =IFERROR(STDEVA(L17,O17,R17)," ") -> 87003.026 | T17: =IFERROR(S17/U17," ") -> 0.057811125 | U17: =ROUND(IFERROR(AVERAGE(L17,O17,R17)," "),0) -> 1504953
A18: 13 | B18: LANIP | C18: MATERIAL SEMINAL | D18: MICROSCOPIO | E18: LEICA | F18: GALEN III 317502-02 | G18: 1 | J18: 1200000 | K18: =J18*19% -> 228000 | L18: =+J18+K18 -> 1428000 | M18: 1250000 | N18: =M18*19% -> 237500 | O18: =+M18+N18 -> 1487500 | P18: 1344000 | Q18: =P18*0.19 -> 255360 | R18: =P18+Q18 -> 1599360 | S18: =IFERROR(STDEVA(L18,O18,R18)," ") -> 87003.026 | T18: =IFERROR(S18/U18," ") -> 0.057811125 | U18: =ROUND(IFERROR(AVERAGE(L18,O18,R18)," "),0) -> 1504953
A19: 14 | B19: LANIP | C19: BACTERIANOS Y VIRALES DE CAMPAÑA | D19: MICROSCOPIO | E19: LEITZ | F19: LABORLUX D | G19: 1 | J19: 1200000 | K19: =J19*19% -> 228000 | L19: =+J19+K19 -> 1428000 | M19: 1250000 | N19: =M19*19% -> 237500 | O19: =+M19+N19 -> 1487500 | P19: 1344000 | Q19: =P19*0.19 -> 255360 | R19: =P19+Q19 -> 1599360 | S19: =IFERROR(STDEVA(L19,O19,R19)," ") -> 87003.026 | T19: =IFERROR(S19/U19," ") -> 0.057811125 | U19: =ROUND(IFERROR(AVERAGE(L19,O19,R19)," "),0) -> 1504953
A20: 15 | B20: LANIP | C20: BACTERIANOS Y VIRALES DE CAMPAÑA | D20: MICROSCOPIO | E20: NIKON | F20: ECLIPSE E200 MV | G20: 1 | J20: 1200000 | K20: =J20*19% -> 228000 | L20: =+J20+K20 -> 1428000 | M20: 1250000 | N20: =M20*19% -> 237500 | O20: =+M20+N20 -> 1487500 | P20: 1344000 | Q20: =P20*0.19 -> 255360 | R20: =P20+Q20 -> 1599360 | S20: =IFERROR(STDEVA(L20,O20,R20)," ") -> 87003.026 | T20: =IFERROR(S20/U20," ") -> 0.057811125 | U20: =ROUND(IFERROR(AVERAGE(L20,O20,R20)," "),0) -> 1504953
A21: 21 | B21: LCIPIE | C21: ÁREA CRIA | D21: MICROSCOPIO | E21: NIKON | F21: ECLIPSE CL | G21: 1 | J21: 1900000 | K21: =J21*19% -> 361000 | L21: =+J21+K21 -> 2261000 | M21: 1950000 | N21: =M21*19% -> 370500 | O21: =+M21+N21 -> 2320500 | P21: 2128000 | Q21: =P21*0.19 -> 404320 | R21: =P21+Q21 -> 2532320 | S21: =IFERROR(STDEVA(L21,O21,R21)," ") -> 142608.15 | T21: =IFERROR(S21/U21," ") -> 0.060139912 | U21: =ROUND(IFERROR(AVERAGE(L21,O21,R21)," "),0) -> 2371273
A22: 22 | B22: LCV | C22: MICROSCOPIA Y LECTURA DE ENSAYOS | D22: MICROSCOPIO | E22: NIKON | F22: ALPHAPHOTS/YS | G22: 1 | J22: 1900000 | K22: =J22*19% -> 361000 | L22: =+J22+K22 -> 2261000 | M22: 1950000 | N22: =M22*19% -> 370500 | O22: =+M22+N22 -> 2320500 | P22: 2128000 | Q22: =P22*0.19 -> 404320 | R22: =P22+Q22 -> 2532320 | S22: =IFERROR(STDEVA(L22,O22,R22)," ") -> 142608.15 | T22: =IFERROR(S22/U22," ") -> 0.060139912 | U22: =ROUND(IFERROR(AVERAGE(L22,O22,R22)," "),0) -> 2371273
A23: 23 | B23: LCV | C23: MICROSCOPIA Y LECTURA DE ENSAYOS | D23: MICROSCOPIO | E23: NIKON | F23: ECLIPSE E 400 | G23: 1 | J23: 1900000 | K23: =J23*19% -> 361000 | L23: =+J23+K23 -> 2261000 | M23: 1950000 | N23: =M23*19% -> 370500 | O23: =+M23+N23 -> 2320500 | P23: 2128000 | Q23: =P23*0.19 -> 404320 | R23: =P23+Q23 -> 2532320 | S23: =IFERROR(STDEVA(L23,O23,R23)," ") -> 142608.15 | T23: =IFERROR(S23/U23," ") -> 0.060139912 | U23: =ROUND(IFERROR(AVERAGE(L23,O23,R23)," "),0) -> 2371273
A24: 28 | B24: LDF BELLO | C24: ÁREA DE ENTOMOLOGÍA | D24: MICROSCOPIO | E24: NIKON | F24: Eclipse Ci | G24: 1 | J24: 1900000 | K24: =J24*19% -> 361000 | L24: =+J24+K24 -> 2261000 | M24: 1950000 | N24: =M24*19% -> 370500 | O24: =+M24+N24 -> 2320500 | P24: 2128000 | Q24: =P24*0.19 -> 404320 | R24: =P24+Q24 -> 2532320 | S24: =IFERROR(STDEVA(L24,O24,R24)," ") -> 142608.15 | T24: =IFERROR(S24/U24," ") -> 0.060139912 | U24: =ROUND(IFERROR(AVERAGE(L24,O24,R24)," "),0) -> 2371273
A25: 29 | B25: LDF BUCARAMANGA | C25: ENTOMOLOGÍA | D25: MICROSCOPIO | E25: NIKON | F25: ECLIPSE CI | G25: 1 | J25: 1900000 | K25: =J25*19% -> 361000 | L25: =+J25+K25 -> 2261000 | M25: 1950000 | N25: =M25*19% -> 370500 | O25: =+M25+N25 -> 2320500 | P25: 2128000 | Q25: =P25*0.19 -> 404320 | R25: =P25+Q25 -> 2532320 | S25: =IFERROR(STDEVA(L25,O25,R25)," ") -> 142608.15 | T25: =IFERROR(S25/U25," ") -> 0.060139912 | U25: =ROUND(IFERROR(AVERAGE(L25,O25,R25)," "),0) -> 2371273
A26: 30 | B26: LDF BUCARAMANGA | C26: ELISA - FITOPALOGÍA | D26: MICROSCOPIO | E26: OLYMPUS | F26: CX21F51 | G26: 1 | J26: 1900000 | K26: =J26*19% -> 361000 | L26: =+J26+K26 -> 2261000 | M26: 1950000 | N26: =M26*19% -> 370500 | O26: =+M26+N26 -> 2320500 | P26: 2128000 | Q26: =P26*0.19 -> 404320 | R26: =P26+Q26 -> 2532320 | S26: =IFERROR(STDEVA(L26,O26,R26)," ") -> 142608.15 | T26: =IFERROR(S26/U26," ") -> 0.060139912 | U26: =ROUND(IFERROR(AVERAGE(L26,O26,R26)," "),0) -> 2371273
A27: 31 | B27: LDF BUCARAMANGA | C27: ELISA - FITOPALOGÍA | D27: MICROSCOPIO | E27: CARL ZEISS | F27: STANDARD 20 | G27: 1 | J27: 1900000 | K27: =J27*19% -> 361000 | L27: =+J27+K27 -> 2261000 | M27: 1950000 | N27: =M27*19% -> 370500 | O27: =+M27+N27 -> 2320500 | P27: 2128000 | Q27: =P27*0.19 -> 404320 | R27: =P27+Q27 -> 2532320 | S27: =IFERROR(STDEVA(L27,O27,R27)," ") -> 142608.15 | T27: =IFERROR(S27/U27," ") -> 0.060139912 | U27: =ROUND(IFERROR(AVERAGE(L27,O27,R27)," "),0) -> 2371273
A28: 32 | B28: LDF BUCARAMANGA | C28: ELISA - FITOPALOGÍA | D28: MICROSCOPIO | E28: KYOMAMICRO | F28: MICROLUX 11 | G28: 1 | J28: 1900000 | K28: =J28*19% -> 361000 | L28: =+J28+K28 -> 2261000 | M28: 1950000 | N28: =M28*19% -> 370500 | O28: =+M28+N28 -> 2320500 | P28: 2128000 | Q28: =P28*0.19 -> 404320 | R28: =P28+Q28 -> 2532320 | S28: =IFERROR(STDEVA(L28,O28,R28)," ") -> 142608.15 | T28: =IFERROR(S28/U28," ") -> 0.060139912 | U28: =ROUND(IFERROR(AVERAGE(L28,O28,R28)," "),0) -> 2371273
A29: 39 | B29: LDF CÚCUTA | C29: FITOPATOLOGÍA | D29: MICROSCOPIO | E29: OLYMPUS | F29: CHT | G29: 1 | J29: 1900000 | K29: =J29*19% -> 361000 | L29: =+J29+K29 -> 2261000 | M29: 1950000 | N29: =M29*19% -> 370500 | O29: =+M29+N29 -> 2320500 | P29: 2128000 | Q29: =P29*0.19 -> 404320 | R29: =P29+Q29 -> 2532320 | S29: =IFERROR(STDEVA(L29,O29,R29)," ") -> 142608.15 | T29: =IFERROR(S29/U29," ") -> 0.060139912 | U29: =ROUND(IFERROR(AVERAGE(L29,O29,R29)," "),0) -> 2371273
... A46: 127 | B46: LNDF | C46: AREA DE CONTENCION | D46: MICROSCOPIO | E46: OLYMPUS | F46: CHS 6M0002 | G46: 1 | J46: 1600000 | K46: =J46*19% -> 304000 | L46: =+J46+K46 -> 1904000 | M46: 1250000 | N46: =M46*19% -> 237500 | O46: =+M46+N46 -> 1487500 | P46: 1792000 | Q46: =P46*0.19 -> 340480 | R46: =P46+Q46 -> 2132480 | S46: =IFERROR(STDEVA(L46,O46,R46)," ") -> 327025.63 | T46: =IFERROR(S46/U46," ") -> 0.17760323 | U46: =ROUND(IFERROR(AVERAGE(L46,O46,R46)," "),0) -> 1841327
A47: 128 | B47: LNDF | C47: ENTOMOLOGÍA | D47: MICROSCOPIO | E47: NOVEX | F47: 86.025 | G47: 1 | J47: 1600000 | K47: =J47*19% -> 304000 | L47: =+J47+K47 -> 1904000 | M47: 1250000 | N47: =M47*19% -> 237500 | O47: =+M47+N47 -> 1487500 | P47: 1792000 | Q47: =P47*0.19 -> 340480 | R47: =P47+Q47 -> 2132480 | S47: =IFERROR(STDEVA(L47,O47,R47)," ") -> 327025.63 | T47: =IFERROR(S47/U47," ") -> 0.17760323 | U47: =ROUND(IFERROR(AVERAGE(L47,O47,R47)," "),0) -> 1841327
A48: 129 | B48: LNDF | C48: ENTOMOLOGÍA | D48: MICROSCOPIO | E48: OLYMPUS | F48: BX 40F-3 | G48: 1 | J48: 1600000 | K48: =J48*19% -> 304000 | L48: =+J48+K48 -> 1904000 | M48: 1250000 | N48: =M48*19% -> 237500 | O48: =+M48+N48 -> 1487500 | P48: 1792000 | Q48: =P48*0.19 -> 340480 | R48: =P48+Q48 -> 2132480 | S48: =IFERROR(STDEVA(L48,O48,R48)," ") -> 327025.63 | T48: =IFERROR(S48/U48," ") -> 0.17760323 | U48: =ROUND(IFERROR(AVERAGE(L48,O48,R48)," "),0) -> 1841327
A49: 130 | B49: LNDF | C49: FITOPATOLOGIA (MICROBIOLOGIA) | D49: MICROSCOPIO | E49: OLYMPUS | F49: CX22 | G49: 1 | J49: 1600000 | K49: =J49*19% -> 304000 | L49: =+J49+K49 -> 1904000 | M49: 1250000 | N49: =M49*19% -> 237500 | O49: =+M49+N49 -> 1487500 | P49: 1792000 | Q49: =P49*0.19 -> 340480 | R49: =P49+Q49 -> 2132480 | S49: =IFERROR(STDEVA(L49,O49,R49)," ") -> 327025.63 | T49: =IFERROR(S49/U49," ") -> 0.17760323 | U49: =ROUND(IFERROR(AVERAGE(L49,O49,R49)," "),0) -> 1841327
A50: 131 | B50: LNDF | C50: ENTOMOLOGÍA | D50: MICROSCOPIO | E50: NIKON | F50: ECLIPSE CI | G50: 1 | J50: 1600000 | K50: =J50*19% -> 304000 | L50: =+J50+K50 -> 1904000 | M50: 1250000 | N50: =M50*19% -> 237500 | O50: =+M50+N50 -> 1487500 | P50: 1792000 | Q50: =P50*0.19 -> 340480 | R50: =P50+Q50 -> 2132480 | S50: =IFERROR(STDEVA(L50,O50,R50)," ") -> 327025.63 | T50: =IFERROR(S50/U50," ") -> 0.17760323 | U50: =ROUND(IFERROR(AVERAGE(L50,O50,R50)," "),0) -> 1841327
A51: 132 | B51: LNDF | C51: ENTOMOLOGÍA | D51: MICROSCOPIO | E51: NIKON | F51: DS-RI2 | G51: 1 | J51: 1600000 | K51: =J51*19% -> 304000 | L51: =+J51+K51 -> 1904000 | M51: 1250000 | N51: =M51*19% -> 237500 | O51: =+M51+N51 -> 1487500 | P51: 1792000 | Q51: =P51*0.19 -> 340480 | R51: =P51+Q51 -> 2132480 | S51: =IFERROR(STDEVA(L51,O51,R51)," ") -> 327025.63 | T51: =IFERROR(S51/U51," ") -> 0.17760323 | U51: =ROUND(IFERROR(AVERAGE(L51,O51,R51)," "),0) -> 1841327
A52: 133 | B52: LNDF | C52: AREA IIAD | D52: MICROSCOPIO | E52: ZEISS | F52: AXIOLAB 5 | G52: 1 | J52: 1600000 | K52: =J52*19% -> 304000 | L52: =+J52+K52 -> 1904000 | M52: 1250000 | N52: =M52*19% -> 237500 | O52: =+M52+N52 -> 1487500 | P52: 1792000 | Q52: =P52*0.19 -> 340480 | R52: =P52+Q52 -> 2132480 | S52: =IFERROR(STDEVA(L52,O52,R52)," ") -> 327025.63 | T52: =IFERROR(S52/U52," ") -> 0.17760323 | U52: =ROUND(IFERROR(AVERAGE(L52,O52,R52)," "),0) -> 1841327
A53: 134 | B53: LNDF | C53: AREA IIAD | D53: ESTEREOMICROSCOPIO | E53: ZEISS | F53: Discovery.V20​ | G53: 1 | J53: 1600000 | K53: =J53*19% -> 304000 | L53: =+J53+K53 -> 1904000 | M53: 1250000 | N53: =M53*19% -> 237500 | O53: =+M53+N53 -> 1487500 | P53: 1792000 | Q53: =P53*0.19 -> 340480 | R53: =P53+Q53 -> 2132480 | S53: =IFERROR(STDEVA(L53,O53,R53)," ") -> 327025.63 | T53: =IFERROR(S53/U53," ") -> 0.17760323 | U53: =ROUND(IFERROR(AVERAGE(L53,O53,R53)," "),0) -> 1841327
A54: 161 | B54: LTC IBAGUÉ | C54: ÁREA DE CRÍA MF | D54: MICROSCOPIO | E54: BAUCH & LOMB | F54: GALEN 2 | G54: 1 | J54: 1900000 | K54: =J54*19% -> 361000 | L54: =+J54+K54 -> 2261000 | M54: 1950000 | N54: =M54*19% -> 370500 | O54: =+M54+N54 -> 2320500 | P54: 2128000 | Q54: =P54*0.19 -> 404320 | R54: =P54+Q54 -> 2532320 | S54: =IFERROR(STDEVA(L54,O54,R54)," ") -> 142608.15 | T54: =IFERROR(S54/U54," ") -> 0.060139912 | U54: =ROUND(IFERROR(AVERAGE(L54,O54,R54)," "),0) -> 2371273
A55: 162 | B55: Oficina ICA Aeropuerto Alfonso Bonilla Aragon de Palmira | C55: N.I | D55: ESTEREOSCOPIO | E55: NIKON | F55: SMZ-2B | G55: 1 | J55: 1900000 | K55: =J55*19% -> 361000 | L55: =+J55+K55 -> 2261000 | M55: 2350000 | N55: =M55*19% -> 446500 | O55: =+M55+N55 -> 2796500 | P55: 2128000 | Q55: =P55*0.19 -> 404320 | R55: =P55+Q55 -> 2532320 | S55: =IFERROR(STDEVA(L55,O55,R55)," ") -> 267757.93 | T55: =IFERROR(S55/U55," ") -> 0.10583569 | U55: =ROUND(IFERROR(AVERAGE(L55,O55,R55)," "),0) -> 2529940
A56: 163 | B56: Oficina ICA Paso Fronterizo de Rumichaca NARIÑO | C56: N.I | D56: ESTEREOSCOPIO | E56: NIKON | F56: SMZ1000 | G56: 1 | J56: 1900000 | K56: =J56*19% -> 361000 | L56: =+J56+K56 -> 2261000 | M56: 2350000 | N56: =M56*19% -> 446500 | O56: =+M56+N56 -> 2796500 | P56: 2128000 | Q56: =P56*0.19 -> 404320 | R56: =P56+Q56 -> 2532320 | S56: =IFERROR(STDEVA(L56,O56,R56)," ") -> 267757.93 | T56: =IFERROR(S56/U56," ") -> 0.10583569 | U56: =ROUND(IFERROR(AVERAGE(L56,O56,R56)," "),0) -> 2529940
A57: 164 | B57: Oficina ICA Puerto de Buenaventura VALLE DEL CAUCA | C57: N.I | D57: ESTEREOSCOPIO | E57: NIKON | F57: SMZ1000 | G57: 1 | J57: 1900000 | K57: =J57*19% -> 361000 | L57: =+J57+K57 -> 2261000 | M57: 2350000 | N57: =M57*19% -> 446500 | O57: =+M57+N57 -> 2796500 | P57: 2128000 | Q57: =P57*0.19 -> 404320 | R57: =P57+Q57 -> 2532320 | S57: =IFERROR(STDEVA(L57,O57,R57)," ") -> 267757.93 | T57: =IFERROR(S57/U57," ") -> 0.10583569 | U57: =ROUND(IFERROR(AVERAGE(L57,O57,R57)," "),0) -> 2529940
A58: 165 | B58: Oficina ICA Puerto de Buenaventura VALLE DEL CAUCA | C58: N.I | D58: ESTEREOSCOPIO | E58: NIKON | F58: SMZ1000 | G58: 1 | J58: 1900000 | K58: =J58*19% -> 361000 | L58: =+J58+K58 -> 2261000 | M58: 2350000 | N58: =M58*19% -> 446500 | O58: =+M58+N58 -> 2796500 | P58: 2128000 | Q58: =P58*0.19 -> 404320 | R58: =P58+Q58 -> 2532320 | S58: =IFERROR(STDEVA(L58,O58,R58)," ") -> 267757.93 | T58: =IFERROR(S58/U58," ") -> 0.10583569 | U58: =ROUND(IFERROR(AVERAGE(L58,O58,R58)," "),0) -> 2529940
A59: 166 | B59: Oficina ICA Puerto de Buenaventura VALLE DEL CAUCA | C59: N.I | D59: ESTEREOSCOPIO | E59: NIKON | F59: SMZ-800 | G59: 1 | J59: 1900000 | K59: =J59*19% -> 361000 | L59: =+J59+K59 -> 2261000 | M59: 2350000 | N59: =M59*19% -> 446500 | O59: =+M59+N59 -> 2796500 | P59: 2128000 | Q59: =P59*0.19 -> 404320 | R59: =P59+Q59 -> 2532320 | S59: =IFERROR(STDEVA(L59,O59,R59)," ") -> 267757.93 | T59: =IFERROR(S59/U59," ") -> 0.10583569 | U59: =ROUND(IFERROR(AVERAGE(L59,O59,R59)," "),0) -> 2529940
... A69: 176 | B69: Puerto de Turbo- ANTIOQUIA | C69: N.I | D69: ESTEREOSCOPIO | E69: NIKON | F69: SMZ1000 | G69: 1 | J69: 1900000 | K69: =J69*19% -> 361000 | L69: =+J69+K69 -> 2261000 | M69: 2350000 | N69: =M69*19% -> 446500 | O69: =+M69+N69 -> 2796500 | P69: 2128000 | Q69: =P69*0.19 -> 404320 | R69: =P69+Q69 -> 2532320 | S69: =IFERROR(STDEVA(L69,O69,R69)," ") -> 267757.93 | T69: =IFERROR(S69/U69," ") -> 0.10583569 | U69: =ROUND(IFERROR(AVERAGE(L69,O69,R69)," "),0) -> 2529940
A70: SUBTOTAL MANTENIMIENTOS (Sumatoria valores unitarios y totales) | H70: =SUM(H12:H69) -> 0 | I70: =SUM(I12:I69) -> 0 | J70: =SUM(J12:J69) -> 100000000 | K70: =SUM(K12:K69) -> 19000000 | L70: =SUM(L12:L69) -> 119000000 | M70: =SUM(M12:M69) -> 103700000 | N70: =SUM(N12:N69) -> 19703000 | O70: =SUM(O12:O69) -> 123403000 | ... R70: =SUM(R12:R69) -> 133280000 | U70: =SUM(U12:U69) -> 125227661
A71: BOLSA DE REPUESTOS | H71: HISTORICO 2025 + IPC (5,1%) | J71: INSTRUMENTACIÓN Y METROLOGÍA S.A.S | M71: ADVANCED INSTRUMENTS S.A.S | P71: KASSEL GROUP S.A.S | S71: DESVIACION ESTANDAR | T71: % DISPERSIÓN | U71: PROMEDIO
A72: Ítem | B72: Elemento | C72: Descripción | G72: Cantidad | H72: VALOR UNITARIO CON IVA 2025 | I72: VALOR ACTUALIZADO CON IPC | J72: VALOR UNITARIO SIN IVA | K72: IVA | L72: VALOR UNITARIO IVA INCLUIDO | M72: VALOR UNITARIO SIN IVA | N72: IVA | O72: VALOR UNITARIO IVA INCLUIDO | P72: VALOR UNITARIO SIN IVA | Q72: IVA | R72: VALOR UNITARIO IVA INCLUIDO | S72: VALOR UNITARIO IVA INCLUIDO | T72: VALOR UNITARIO IVA INCLUIDO | U72: VALOR UNITARIO IVA INCLUIDO
A73: 1 | B73: Elemento | C73: Bombillo halógeno 150W-21 V, para fuente de luz OSRAM | G73: 1 | H73: 384981 | I73: =H73+(H73*5.1%) -> 404615.03 | J73: 450000 | K73: =J73*19% -> 85500 | L73: =+J73+K73 -> 535500 | M73: 390000 | N73: =M73*19% -> 74100 | O73: =+M73+N73 -> 464100 | P73: 384384 | Q73: =P73*19% -> 73032.96 | R73: =+P73+Q73 -> 457416.96 | S73: =IFERROR(STDEVA(I73,L73,O73,R73)," ") -> 53771.867 | T73: =IFERROR(S73/U73," ") -> 0.11553705 | U73: =ROUND(IFERROR(AVERAGE(I73,L73,O73,R73)," "),0) -> 465408
A74: 2 | B74: Elemento | C74: Bombillo halógeno 6V/30w | G74: 1 | H74: 110432 | I74: =H74+(H74*5.1%) -> 116064.03 | J74: 150000 | K74: =J74*19% -> 28500 | L74: =+J74+K74 -> 178500 | M74: 160000 | N74: =M74*19% -> 30400 | O74: =+M74+N74 -> 190400 | P74: 157696 | Q74: =P74*19% -> 29962.24 | R74: =+P74+Q74 -> 187658.24 | S74: =IFERROR(STDEVA(I74,L74,O74,R74)," ") -> 35098.454 | T74: =IFERROR(S74/U74," ") -> 0.20872555 | U74: =ROUND(IFERROR(AVERAGE(I74,L74,O74,R74)," "),0) -> 168156
A75: 3 | B75: Elemento | C75: Bombillo halógeno 6V/20w | G75: 1 | H75: 102776 | I75: =H75+(H75*5.1%) -> 108017.58 | J75: 150000 | K75: =J75*19% -> 28500 | L75: =+J75+K75 -> 178500 | M75: 145000 | N75: =M75*19% -> 27550 | O75: =+M75+N75 -> 172550 | P75: 142912 | Q75: =P75*19% -> 27153.28 | R75: =+P75+Q75 -> 170065.28 | S75: =IFERROR(STDEVA(I75,L75,O75,R75)," ") -> 33033.877 | T75: =IFERROR(S75/U75," ") -> 0.21002827 | U75: =ROUND(IFERROR(AVERAGE(I75,L75,O75,R75)," "),0) -> 157283
A76: 4 | B76: Elemento | C76: Objetivo de 100X | G76: 1 | H76: 1242123 | I76: =H76+(H76*5.1%) -> 1305471.3 | J76: 1800000 | K76: =J76*19% -> 342000 | L76: =+J76+K76 -> 2142000 | M76: 1540000 | N76: =M76*19% -> 292600 | O76: =+M76+N76 -> 1832600 | P76: 1517824 | Q76: =P76*19% -> 288386.56 | R76: =+P76+Q76 -> 1806210.6 | S76: =IFERROR(STDEVA(I76,L76,O76,R76)," ") -> 346117.05 | T76: =IFERROR(S76/U76," ") -> 0.19537306 | U76: =ROUND(IFERROR(AVERAGE(I76,L76,O76,R76)," "),0) -> 1771570
A77: 5 | B77: Elemento | C77: Objetivo de 40X | G77: 1 | H77: 1208790 | I77: =H77+(H77*5.1%) -> 1270438.3 | J77: 1500000 | K77: =J77*19% -> 285000 | L77: =+J77+K77 -> 1785000 | M77: 1480000 | N77: =M77*19% -> 281200 | O77: =+M77+N77 -> 1761200 | P77: 1458688 | Q77: =P77*19% -> 277150.72 | R77: =+P77+Q77 -> 1735838.7 | S77: =IFERROR(STDEVA(I77,L77,O77,R77)," ") -> 245941.19 | T77: =IFERROR(S77/U77," ") -> 0.15013634 | U77: =ROUND(IFERROR(AVERAGE(I77,L77,O77,R77)," "),0) -> 1638119
A78: 6 | B78: Elemento | C78: Objetivo de 20X | G78: 1 | H78: 1005677 | I78: =H78+(H78*5.1%) -> 1056966.5 | J78: 1200000 | K78: =J78*19% -> 228000 | L78: =+J78+K78 -> 1428000 | M78: 1310000 | N78: =M78*19% -> 248900 | O78: =+M78+N78 -> 1558900 | P78: 1291136 | Q78: =P78*19% -> 245315.84 | R78: =+P78+Q78 -> 1536451.8 | S78: =IFERROR(STDEVA(I78,L78,O78,R78)," ") -> 232542.07 | T78: =IFERROR(S78/U78," ") -> 0.16668726 | U78: =ROUND(IFERROR(AVERAGE(I78,L78,O78,R78)," "),0) -> 1395080
A79: 7 | B79: Elemento | C79: Fuente de luz cuello de cisne (fuente y cuello) | G79: 1 | H79: 2847250 | I79: =H79+(H79*5.1%) -> 2992459.8 | J79: 2800000 | K79: =J79*19% -> 532000 | L79: =+J79+K79 -> 3332000 | M79: 3100000 | N79: =M79*19% -> 589000 | O79: =+M79+N79 -> 3689000 | P79: 3055360 | Q79: =P79*19% -> 580518.4 | R79: =+P79+Q79 -> 3635878.4 | S79: =IFERROR(STDEVA(I79,L79,O79,R79)," ") -> 321073.26 | T79: =IFERROR(S79/U79," ") -> 0.094091951 | U79: =ROUND(IFERROR(AVERAGE(I79,L79,O79,R79)," "),0) -> 3412335
A80: 8 | B80: Elemento | C80: Pintura ( totalidad del equipo) | G80: 1 | H80: 797618 | I80: =H80+(H80*5.1%) -> 838296.52 | J80: 900000 | K80: =J80*19% -> 171000 | L80: =+J80+K80 -> 1071000 | M80: 950000 | N80: =M80*19% -> 180500 | O80: =+M80+N80 -> 1130500 | P80: 936320 | Q80: =P80*19% -> 177900.8 | R80: =+P80+Q80 -> 1114220.8 | S80: =IFERROR(STDEVA(I80,L80,O80,R80)," ") -> 135812.77 | T80: =IFERROR(S80/U80," ") -> 0.13077732 | U80: =ROUND(IFERROR(AVERAGE(I80,L80,O80,R80)," "),0) -> 1038504
A81: 9 | B81: Elemento | C81: Filtro azul 33 o 40 mm | G81: 1 | H81: 236447 | I81: =H81+(H81*5.1%) -> 248505.8 | J81: 300000 | K81: =J81*19% -> 57000 | L81: =+J81+K81 -> 357000 | M81: 380000 | N81: =M81*19% -> 72200 | O81: =+M81+N81 -> 452200 | P81: 374528 | Q81: =P81*19% -> 71160.32 | R81: =+P81+Q81 -> 445688.32 | S81: =IFERROR(STDEVA(I81,L81,O81,R81)," ") -> 95356.492 | T81: =IFERROR(S81/U81," ") -> 0.25370958 | U81: =ROUND(IFERROR(AVERAGE(I81,L81,O81,R81)," "),0) -> 375849
A82: 10 | B82: Elemento | C82: Platina B&N | G82: 1 | H82: 369304 | I82: =H82+(H82*5.1%) -> 388138.5 | J82: 550000 | K82: =J82*19% -> 104500 | L82: =+J82+K82 -> 654500 | M82: 460000 | N82: =M82*19% -> 87400 | O82: =+M82+N82 -> 547400 | P82: 453376 | Q82: =P82*19% -> 86141.44 | R82: =+P82+Q82 -> 539517.44 | S82: =IFERROR(STDEVA(I82,L82,O82,R82)," ") -> 109537.58 | T82: =IFERROR(S82/U82," ") -> 0.20574727 | U82: =ROUND(IFERROR(AVERAGE(I82,L82,O82,R82)," "),0) -> 532389
A83: 11 | B83: Elemento | C83: Fuente de luz LED para microscopio | G83: 1 | H83: 1698350 | I83: =H83+(H83*5.1%) -> 1784965.9 | J83: 1800000 | K83: =J83*19% -> 342000 | L83: =+J83+K83 -> 2142000 | M83: 2500000 | N83: =M83*19% -> 475000 | O83: =+M83+N83 -> 2975000 | P83: 2464000 | Q83: =P83*19% -> 468160 | R83: =+P83+Q83 -> 2932160 | S83: =IFERROR(STDEVA(I83,L83,O83,R83)," ") -> 590182.61 | T83: =IFERROR(S83/U83," ") -> 0.24005498 | U83: =ROUND(IFERROR(AVERAGE(I83,L83,O83,R83)," "),0) -> 2458531
A84: 12 | B84: Elemento | C84: Cable de poder a 110 V Ac | G84: 1 | H84: 81787 | I84: =H84+(H84*5.1%) -> 85958.137 | J84: 150000 | K84: =J84*19% -> 28500 | L84: =+J84+K84 -> 178500 | M84: 85000 | N84: =M84*19% -> 16150 | O84: =+M84+N84 -> 101150 | P84: 83776 | Q84: =P84*19% -> 15917.44 | R84: =+P84+Q84 -> 99693.44 | S84: =IFERROR(STDEVA(I84,L84,O84,R84)," ") -> 42010.976 | T84: =IFERROR(S84/U84," ") -> 0.36115174 | U84: =ROUND(IFERROR(AVERAGE(I84,L84,O84,R84)," "),0) -> 116325
... A89: 17 | B89: Elemento | C89: Anillo de luz led | G89: 1 | H89: 1779885 | I89: =H89+(H89*5.1%) -> 1870659.1 | J89: 1950000 | K89: =J89*19% -> 370500 | L89: =+J89+K89 -> 2320500 | M89: 2500000 | N89: =M89*19% -> 475000 | O89: =+M89+N89 -> 2975000 | P89: 2464000 | Q89: =P89*19% -> 468160 | R89: =+P89+Q89 -> 2932160 | S89: =IFERROR(STDEVA(I89,L89,O89,R89)," ") -> 528602.17 | T89: =IFERROR(S89/U89," ") -> 0.20938222 | U89: =ROUND(IFERROR(AVERAGE(I89,L89,O89,R89)," "),0) -> 2524580
A90: SUBTOTAL BOLSA DE REPUESTOS (Sumatoria valores unitarios y totales) | H90: =SUM(H73:H89) -> 15347399 | I90: =SUM(I73:I89) -> 16130116 | J90: =SUM(J73:J89) -> 17700000 | K90: =SUM(K73:K89) -> 3363000 | L90: =SUM(L73:L89) -> 21063000 | M90: =SUM(M73:M89) -> 19080000 | N90: =SUM(N73:N89) -> 3625200 | O90: =SUM(O73:O89) -> 22705200 | ... R90: =SUM(R73:R89) -> 22378245 | U90: =SUM(U73:U89) -> 20569141
A91: TOTAL | H91: =+H70+H90 -> 15347399 | I91: =+I70+I90 -> 16130116 | J91: =+J70+J90 -> 117700000 | K91: =+K70+K90 -> 22363000 | L91: =+L70+L90 -> 140063000 | M91: =+M70+M90 -> 122780000 | N91: =+N70+N90 -> 23328200 | O91: =+O70+O90 -> 146108200 | ... R91: =+R70+R90 -> 1.5565825e+08 | U91: =+U70+U90 -> 145796802
L93: se ajusta lote 3

Sheet LOTE 4
C1: OBJETO: “SERVICIO DE MANTENIMIENTO PREVENTIVO Y/O CORRECTIVO INCLUIDA BOLSA DE REPUESTOS DE EQUIPOS DE LABORATORIO DE LAS DEPENDENCIAS DEL ICA”
A6: INSITITUTO COLOMBIANO AGROPECUARIO - ICA
A7: ANEXO ESTUDIO DE MERCADO
A9: LOTE 4. SERVICIO DE MANTENIMIENTO CON BOLSA DE REPUESTOS DE LOS HOMOGEINIZADORES
A10: SERVICIOS DE MANTENIMIENTO | H10: HISTORICO 2025 + IPC (5,1%) | J10: ADVANCED INSTRUMENTS S.A.S | M10: INSTRUMENTACION & METROLOGIA S.A.S | P10: KASSEL GROUP S.A.S | S10: DESVIACION ESTANDAR | T10: % DISPERSIÓN | U10: PROMEDIO
A11: Ítem | B11: Laboratorio | C11: Equipo | D11: Marca | E11: Modelo | F11: Tipo de mantenimiento | G11: Cantidad | H11: VALOR UNITARIO CON IVA 2025 | I11: VALOR ACTUALIZADO CON IPC | J11: VALOR UNITARIO SIN IVA | K11: IVA | L11: VALOR UNITARIO IVA INCLUIDO | M11: VALOR UNITARIO SIN IVA | N11: IVA | O11: VALOR UNITARIO IVA INCLUIDO | P11: VALOR UNITARIO SIN IVA | Q11: IVA | R11: VALOR UNITARIO IVA INCLUIDO | S11: VALOR UNITARIO IVA INCLUIDO | T11: VALOR UNITARIO IVA INCLUIDO | U11: VALOR UNITARIO IVA INCLUIDO
A12: 1 | B12: LNDV | C12: HOMOGENIZADOR | D12: MP Biomedicals | E12: FASTPREP-24™ 5G | F12: Mantenimiento Preventivo | G12: 1 | J12: 950000 | K12: =J12*19% -> 180500 | L12: =+J12+K12 -> 1130500 | M12: 972800 | N12: =M12*19% -> 184832 | O12: =+M12+N12 -> 1157632 | P12: 945560 | Q12: =P12*19% -> 179656.4 | R12: =+P12+Q12 -> 1125216.4 | S12: =IFERROR(STDEVA(L12,O12,R12)," ") -> 17391.727 | T12: =IFERROR(S12/U12," ") -> 0.015285627 | U12: =ROUND(IFERROR(AVERAGE(L12,O12,R12)," "),0) -> 1137783
A13: 2 | B13: LNDV | C13: HOMOGENIZADOR | D13: MP Biomedicals | E13: FASTPREP-24™ 5G | F13: Mantenimiento Preventivo | G13: 1 | J13: 950000 | K13: =J13*19% -> 180500 | L13: =+J13+K13 -> 1130500 | M13: 963300 | N13: =M13*19% -> 183027 | O13: =+M13+N13 -> 1146327 | P13: 945560 | Q13: =P13*19% -> 179656.4 | R13: =+P13+Q13 -> 1125216.4 | S13: =IFERROR(STDEVA(L13,O13,R13)," ") -> 10985.352 | T13: =IFERROR(S13/U13," ") -> 0.0096871399 | U13: =ROUND(IFERROR(AVERAGE(L13,O13,R13)," "),0) -> 1134014
A14: 3 | B14: LNDV | C14: HOMOGENIZADOR | D14: MP Biomedicals | E14: FASTPREP-24™ 5G | F14: Mantenimiento Preventivo | G14: 1 | J14: 950000 | K14: =J14*19% -> 180500 | L14: =+J14+K14 -> 1130500 | M14: 963300 | N14: =M14*19% -> 183027 | O14: =+M14+N14 -> 1146327 | P14: 945560 | Q14: =P14*19% -> 179656.4 | R14: =+P14+Q14 -> 1125216.4 | S14: =IFERROR(STDEVA(L14,O14,R14)," ") -> 10985.352 | T14: =IFERROR(S14/U14," ") -> 0.0096871399 | U14: =ROUND(IFERROR(AVERAGE(L14,O14,R14)," "),0) -> 1134014
A15: 4 | B15: LAMA | C15: HOMOGENIZADOR | D15: MP Biomedicals | E15: FASTPREP-24™ 5G | F15: Mantenimiento Preventivo | G15: 1 | J15: 950000 | K15: =J15*19% -> 180500 | L15: =+J15+K15 -> 1130500 | M15: 963300 | N15: =M15*19% -> 183027 | O15: =+M15+N15 -> 1146327 | P15: 945560 | Q15: =P15*19% -> 179656.4 | R15: =+P15+Q15 -> 1125216.4 | S15: =IFERROR(STDEVA(L15,O15,R15)," ") -> 10985.352 | T15: =IFERROR(S15/U15," ") -> 0.0096871399 | U15: =ROUND(IFERROR(AVERAGE(L15,O15,R15)," "),0) -> 1134014
A16: 5 | B16: LDF Sogamoso | C16: HOMOGEINIZADOR | D16: SPLEX SAMPLEPREP | E16: SPLEX SAMPLEPREP | F16: Mantenimiento Preventivo | G16: 1 | H16: 2283753 | I16: =H16+(H16*5.1%) -> 2400224.4 | J16: 2700000 | K16: =J16*19% -> 513000 | L16: =+J16+K16 -> 3213000 | M16: 2737800 | N16: =M16*19% -> 520182 | O16: =+M16+N16 -> 3257982 | P16: 2660000 | Q16: =P16*19% -> 505400 | R16: =+P16+Q16 -> 3165400 | S16: =IFERROR(STDEVA(I16,L16,O16,R16)," ") -> 407707.67 | T16: =IFERROR(S16/U16," ") -> 0.13548922 | U16: =ROUND(IFERROR(AVERAGE(I16,L16,O16,R16)," "),0) -> 3009152
A17: 6 | B17: LNDF | C17: HOMOGEINIZADOR | D17: SPLEX SAMPLEPREP | E17: SPEX | F17: Mantenimiento Preventivo | G17: 1 | H17: 718189 | I17: =H17+(H17*5.1%) -> 754816.64 | J17: 950000 | K17: =J17*19% -> 180500 | L17: =+J17+K17 -> 1130500 | M17: 963300 | N17: =M17*19% -> 183027 | O17: =+M17+N17 -> 1146327 | P17: 945560 | Q17: =P17*19% -> 179656.4 | R17: =+P17+Q17 -> 1125216.4 | S17: =IFERROR(STDEVA(I17,L17,O17,R17)," ") -> 189810.96 | T17: =IFERROR(S17/U17," ") -> 0.1826484 | U17: =ROUND(IFERROR(AVERAGE(I17,L17,O17,R17)," "),0) -> 1039215
A18: 7 | B18: LDF-Palmira | C18: HOMOGEINIZADOR | D18: SPLEX SAMPLEPREP | E18: SPLEX SAMPLE PIEP | F18: Mantenimiento Preventivo | G18: 1 | H18: 2671312 | I18: =H18+(H18*5.1%) -> 2807548.9 | J18: 2700000 | K18: =J18*19% -> 513000 | L18: =+J18+K18 -> 3213000 | M18: 2737800 | N18: =M18*19% -> 520182 | O18: =+M18+N18 -> 3257982 | P18: 2660000 | Q18: =P18*19% -> 505400 | R18: =+P18+Q18 -> 3165400 | S18: =IFERROR(STDEVA(I18,L18,O18,R18)," ") -> 205790.86 | T18: =IFERROR(S18/U18," ") -> 0.066149785 | U18: =ROUND(IFERROR(AVERAGE(I18,L18,O18,R18)," "),0) -> 3110983
A19: 8 | B19: LCV | C19: HOMOGEINIZADOR | D19: SPLEX SAMPLEPREP | E19: GENO GRINDER 2010 | F19: Mantenimiento Preventivo | G19: 1 | H19: 718189 | I19: =H19+(H19*5.1%) -> 754816.64 | J19: 950000 | K19: =J19*19% -> 180500 | L19: =+J19+K19 -> 1130500 | M19: 963300 | N19: =M19*19% -> 183027 | O19: =+M19+N19 -> 1146327 | P19: 945560 | Q19: =P19*19% -> 179656.4 | R19: =+P19+Q19 -> 1125216.4 | S19: =IFERROR(STDEVA(I19,L19,O19,R19)," ") -> 189810.96 | T19: =IFERROR(S19/U19," ") -> 0.1826484 | U19: =ROUND(IFERROR(AVERAGE(I19,L19,O19,R19)," "),0) -> 1039215
A20: 9 | B20: LDF Manizales - Caldas | C20: HOMOGEINIZADOR | D20: SPLEX SAMPLEPREP | E20: 2010-115-13403 | F20: Mantenimiento Preventivo | G20: 1 | H20: 2434106 | I20: =H20+(H20*5.1%) -> 2558245.4 | J20: 2700000 | K20: =J20*19% -> 513000 | L20: =+J20+K20 -> 3213000 | M20: 2737800 | N20: =M20*19% -> 520182 | O20: =+M20+N20 -> 3257982 | P20: 2660000 | Q20: =P20*19% -> 505400 | R20: =+P20+Q20 -> 3165400 | S20: =IFERROR(STDEVA(I20,L20,O20,R20)," ") -> 329119.04 | T20: =IFERROR(S20/U20," ") -> 0.10795542 | U20: =ROUND(IFERROR(AVERAGE(I20,L20,O20,R20)," "),0) -> 3048657
A21: SUBTOTAL MANTENIMIENTOS (Sumatoria valores unitarios y totales) | H21: =SUM(H12:H20) -> 8825549 | I21: =SUM(I12:I20) -> 9275652 | J21: =SUM(J12:J20) -> 13800000 | K21: =SUM(K12:K20) -> 2622000 | L21: =SUM(L12:L20) -> 16422000 | M21: =SUM(M12:M20) -> 14002700 | N21: =SUM(N12:N20) -> 2660513 | O21: =SUM(O12:O20) -> 16663213 | ... R21: =SUM(R12:R20) -> 16247498 | U21: =SUM(U12:U20) -> 15787047
A22: BOLSA DE REPUESTOS | H22: HISTORICO 2025 + IPC (5,1%) | J22: ADVANCED INSTRUMENTS S.A.S | M22: INSTRUMENTACION & METROLOGIA S.A.S | P22: KASSEL GROUP S.A.S | S22: DESVIACION ESTANDAR | T22: % DISPERSIÓN | U22: PROMEDIO
A23: Ítem | B23: Referencia | C23: Marca | D23: Repuesto o consumible requerido | F23: Presentación | G23: Cantidad | H23: VALOR UNITARIO CON IVA 2025 | I23: VALOR ACTUALIZADO CON IPC | J23: VALOR UNITARIO SIN IVA | K23: IVA | L23: VALOR UNITARIO IVA INCLUIDO | M23: VALOR UNITARIO SIN IVA | N23: IVA | O23: VALOR UNITARIO IVA INCLUIDO | P23: VALOR UNITARIO SIN IVA | Q23: IVA | R23: VALOR UNITARIO IVA INCLUIDO | S23: VALOR UNITARIO IVA INCLUIDO | T23: VALOR UNITARIO IVA INCLUIDO | U23: VALOR UNITARIO IVA INCLUIDO
A24: 1 | B24: 2011 | C24: SPLEX SAMPLEPREP | D24: Abrazadera ajustable para Geno/Grinder 2010 (Referencia 2011) | F24: UNIDAD | G24: 1 | H24: 21003500 | I24: =H24+(H24*5.1%) -> 22074678 | J24: 25000000 | K24: =J24*19% -> 4750000 | L24: =+J24+K24 -> 29750000 | M24: 22500000 | N24: =M24*19% -> 4275000 | O24: =+M24+N24 -> 26775000 | P24: 24000000 | Q24: =P24*19% -> 4560000 | R24: =+P24+Q24 -> 28560000 | S24: =IFERROR(STDEVA(I24,L24,O24,R24)," ") -> 3372881.2 | T24: =IFERROR(S24/U24," ") -> 0.12590113 | U24: =ROUND(IFERROR(AVERAGE(I24,L24,O24,R24)," "),0) -> 26789920
A25: 2 | B25: 2196-16-PE | C25: SPLEX SAMPLEPREP | D25: Soporte de espuma para tubos de centrífuga de 50 ml. (Referencia 2196-16-PE) | F25: UNIDAD | G25: 1 | H25: 600950 | I25: =H25+(H25*5.1%) -> 631598.45 | J25: 890000 | K25: =J25*19% -> 169100 | L25: =+J25+K25 -> 1059100 | M25: 900000 | N25: =M25*19% -> 171000 | O25: =+M25+N25 -> 1071000 | P25: 980000 | Q25: =P25*19% -> 186200 | R25: =+P25+Q25 -> 1166200 | S25: =IFERROR(STDEVA(I25,L25,O25,R25)," ") -> 238450.76 | T25: =IFERROR(S25/U25," ") -> 0.24282773 | U25: =ROUND(IFERROR(AVERAGE(I25,L25,O25,R25)," "),0) -> 981975
A26: 3 | B26: 2197 | C26: SPLEX SAMPLEPREP | D26: Soporte de espuma para tubos de centrífuga de 15 ml: (Referencia 2197) | F26: UNIDAD | G26: 1 | H26: 600950 | I26: =H26+(H26*5.1%) -> 631598.45 | J26: 890000 | K26: =J26*19% -> 169100 | L26: =+J26+K26 -> 1059100 | M26: 900000 | N26: =M26*19% -> 171000 | O26: =+M26+N26 -> 1071000 | P26: 980000 | Q26: =P26*19% -> 186200 | R26: =+P26+Q26 -> 1166200 | S26: =IFERROR(STDEVA(I26,L26,O26,R26)," ") -> 238450.76 | T26: =IFERROR(S26/U26," ") -> 0.24282773 | U26: =ROUND(IFERROR(AVERAGE(I26,L26,O26,R26)," "),0) -> 981975
A27: 4 | B27: 2300 | C27: SPLEX SAMPLEPREP | D27: Soporte de espuma para tubos de 2 ml:(Referencia 2300) | F27: UNIDAD | G27: 1 | H27: 715983 | I27: =H27+(H27*5.1%) -> 752498.13 | J27: 890000 | K27: =J27*19% -> 169100 | L27: =+J27+K27 -> 1059100 | M27: 780000 | N27: =M27*19% -> 148200 | O27: =+M27+N27 -> 928200 | P27: 800000 | Q27: =P27*19% -> 152000 | R27: =+P27+Q27 -> 952000 | S27: =IFERROR(STDEVA(I27,L27,O27,R27)," ") -> 127098.55 | T27: =IFERROR(S27/U27," ") -> 0.13770903 | U27: =ROUND(IFERROR(AVERAGE(I27,L27,O27,R27)," "),0) -> 922950
A28: 5 | B28: 116005506 | C28: MP BIOMEDICALS | D28: Dome For Fastprep-24™ 5G | F28: UNIDAD | G28: 1 | J28: 8500000 | K28: =J28*19% -> 1615000 | L28: =+J28+K28 -> 10115000 | M28: 8800000 | N28: =M28*19% -> 1672000 | O28: =+M28+N28 -> 10472000 | P28: 9000000 | Q28: =P28*19% -> 1710000 | R28: =+P28+Q28 -> 10710000 | S28: =IFERROR(STDEVA(L28,O28,R28)," ") -> 299476.77 | T28: =IFERROR(S28/U28," ") -> 0.028706596 | U28: =ROUND(IFERROR(AVERAGE(L28,O28,R28)," "),0) -> 10432333
A29: 6 | B29: 116002540 | C29: MP BIOMEDICALS | D29: TallPrep™ Adapter | F29: UNIDAD | G29: 1 | J29: 29024904 | K29: =J29*19% -> 5514731.8 | L29: =+J29+K29 -> 34539636 | M29: 27900000 | N29: =M29*19% -> 5301000 | O29: =+M29+N29 -> 33201000 | P29: 28500000 | Q29: =P29*19% -> 5415000 | R29: =+P29+Q29 -> 33915000 | S29: =IFERROR(STDEVA(L29,O29,R29)," ") -> 669814.84 | T29: =IFERROR(S29/U29," ") -> 0.019767173 | U29: =ROUND(IFERROR(AVERAGE(L29,O29,R29)," "),0) -> 33885212
A30: SUBTOTAL BOLSA DE REPUESTOS (Sumatoria valores unitarios y totales) | H30: =SUM(H24:H29) -> 22921383 | I30: =SUM(I24:I29) -> 24090374 | J30: =SUM(J24:J29) -> 65194904 | K30: =SUM(K24:K29) -> 12387032 | L30: =SUM(L24:L29) -> 77581936 | M30: =SUM(M24:M29) -> 61780000 | N30: =SUM(N24:N29) -> 11738200 | O30: =SUM(O24:O29) -> 73518200 | ... R30: =SUM(R24:R29) -> 76469400 | U30: =SUM(U24:U29) -> 73994365
A31: TOTAL | H31: =+H21+H30 -> 31746932 | I31: =+I21+I30 -> 33366026 | J31: =+J21+J30 -> 78994904 | K31: =+K21+K30 -> 15009032 | L31: =+L21+L30 -> 94003936 | M31: =+M21+M30 -> 75782700 | N31: =+N21+N30 -> 14398713 | O31: =+O21+O30 -> 90181413 | ... R31: =+R21+R30 -> 92716898 | U31: =+U21+U30 -> 89781412
L33: se ajusta lote 4

Sheet LOTE 5
C1: OBJETO: “SERVICIO DE MANTENIMIENTO PREVENTIVO Y/O CORRECTIVO INCLUIDA BOLSA DE REPUESTOS DE EQUIPOS DE LABORATORIO DE LAS DEPENDENCIAS DEL ICA”
A6: INSITITUTO COLOMBIANO AGROPECUARIO - ICA
A7: ANEXO ESTUDIO DE MERCADO | Q7: NO HAY HISTORICO
A9: LOTE 5. SERVICIO DE MANTENIMIENTO CON BOLSA DE REPUESTOS DEL EQUIPO DE HEMATOLOGIA MINDRAY
A10: SERVICIOS DE MANTENIMIENTO | H10: ADVANCED INSTRUMENTS S.A.S | K10: KASSEL GROUP S.A.S | N10: INSTRUMENTACION & METROLOGIA S.A.S | Q10: DESVIACION ESTANDAR | R10: % DISPERSIÓN | S10: PROMEDIO
A11: Ítem | B11: Laboratorio | C11: Equipo | D11: Marca | E11: Modelo | F11: Tipo de mantenimiento | G11: Cantidad | H11: VALOR UNITARIO SIN IVA | I11: IVA | J11: VALOR UNITARIO IVA INCLUIDO | K11: VALOR UNITARIO SIN IVA | L11: IVA | M11: VALOR UNITARIO IVA INCLUIDO | N11: VALOR UNITARIO SIN IVA | O11: IVA | P11: VALOR UNITARIO IVA INCLUIDO | Q11: VALOR UNITARIO IVA INCLUIDO | R11: VALOR UNITARIO IVA INCLUIDO | S11: VALOR UNITARIO IVA INCLUIDO
A12: 1 | B12: LDV YOPAL | C12: HEMATOLOGIA | D12: MINDRAY | E12: BC-2800 VET | F12: Mantenimiento Preventivo | G12: 1 | H12: 2552941 | I12: =H12*19% -> 485058.79 | J12: =+H12+I12 -> 3037999.8 | K12: 2500000 | L12: =K12*19% -> 475000 | M12: =+K12+L12 -> 2975000 | N12: 2685000 | O12: =N12*19% -> 510150 | P12: =+N12+O12 -> 3195150 | Q12: =IFERROR(STDEVA(J12,M12,P12)," ") -> 113380.76 | R12: =IFERROR(Q12/S12," ") -> 0.036939269 | S12: =ROUND(IFERROR(AVERAGE(J12,M12,P12)," "),0) -> 3069383
A13: SUBTOTAL MANTENIMIENTOS (Sumatoria valores unitarios y totales) | H13: =SUM(H12:H12) -> 2552941 | I13: =SUM(I12:I12) -> 485058.79 | J13: =SUM(J12:J12) -> 3037999.8 | K13: =SUM(K12:K12) -> 2500000 | L13: =SUM(L12:L12) -> 475000 | M13: =SUM(M12:M12) -> 2975000 | N13: =SUM(N12:N12) -> 2685000 | O13: =SUM(O12:O12) -> 510150 | P13: =SUM(P12:P12) -> 3195150 | S13: =SUM(S12:S12) -> 3069383
A14: BOLSA DE REPUESTOS | H14: ADVANCED INSTRUMENTS S.A.S | K14: KASSEL GROUP S.A.S | N14: INSTRUMENTACION & METROLOGIA S.A.S | Q14: DESVIACION ESTANDAR | R14: % DISPERSIÓN | S14: PROMEDIO
A15: Ítem | B15: Repuesto o consumible | F15: Marca | G15: Cantidad | H15: VALOR UNITARIO SIN IVA | I15: IVA | J15: VALOR UNITARIO IVA INCLUIDO | K15: VALOR UNITARIO SIN IVA | L15: IVA | M15: VALOR UNITARIO IVA INCLUIDO | N15: VALOR UNITARIO SIN IVA | O15: IVA | P15: VALOR UNITARIO IVA INCLUIDO | Q15: VALOR UNITARIO IVA INCLUIDO | R15: VALOR UNITARIO IVA INCLUIDO | S15: VALOR UNITARIO IVA INCLUIDO
A16: 1 | B16: Mangueras Internas Mindray BC2800 | F16: MINDRAY | G16: 1 | H16: 145897 | I16: =H16*19% -> 27720.43 | J16: =+H16+I16 -> 173617.43 | K16: 127805.77 | L16: =K16*19% -> 24283.097 | M16: =+K16+L16 -> 152088.87 | N16: 160520 | O16: =N16*19% -> 30498.8 | P16: =+N16+O16 -> 191018.8 | Q16: =IFERROR(STDEVA(J16,M16,P16)," ") -> 19501.394 | R16: =IFERROR(Q16/S16," ") -> 0.1132209 | S16: =ROUND(IFERROR(AVERAGE(J16,M16,P16)," "),0) -> 172242
A17: 2 | B17: Ultimate diluyente UM-30 X 20L | F17: MINDRAY | G17: 1 | H17: 532859 | I17: =H17*19% -> 101243.21 | J17: =+H17+I17 -> 634102.21 | K17: 499000 | L17: =K17*19% -> 94810 | M17: =+K17+L17 -> 593810 | N17: 567000 | O17: =N17*19% -> 107730 | P17: =+N17+O17 -> 674730 | Q17: =IFERROR(STDEVA(J17,M17,P17)," ") -> 40460.116 | R17: =IFERROR(Q17/S17," ") -> 0.063795684 | S17: =ROUND(IFERROR(AVERAGE(J17,M17,P17)," "),0) -> 634214
A18: 3 | B18: Ultimate lisante UM-30 X 500L | F18: MINDRAY | G18: 1 | H18: 532859 | I18: =H18*19% -> 101243.21 | J18: =+H18+I18 -> 634102.21 | K18: 499000 | L18: =K18*19% -> 94810 | M18: =+K18+L18 -> 593810 | N18: 567000 | O18: =N18*19% -> 107730 | P18: =+N18+O18 -> 674730 | Q18: =IFERROR(STDEVA(J18,M18,P18)," ") -> 40460.116 | R18: =IFERROR(Q18/S18," ") -> 0.063795684 | S18: =ROUND(IFERROR(AVERAGE(J18,M18,P18)," "),0) -> 634214
A19: 4 | B19: Ultimate rinse UM-30 X 20L | F19: MINDRAY | G19: 1 | H19: 532859 | I19: =H19*19% -> 101243.21 | J19: =+H19+I19 -> 634102.21 | K19: 499000 | L19: =K19*19% -> 94810 | M19: =+K19+L19 -> 593810 | N19: 567000 | O19: =N19*19% -> 107730 | P19: =+N19+O19 -> 674730 | Q19: =IFERROR(STDEVA(J19,M19,P19)," ") -> 40460.116 | R19: =IFERROR(Q19/S19," ") -> 0.063795684 | S19: =ROUND(IFERROR(AVERAGE(J19,M19,P19)," "),0) -> 634214
A20: 5 | B20: Probe cleanser x 50 ml myndray | F20: MINDRAY | G20: 1 | H20: 350623 | I20: =H20*19% -> 66618.37 | J20: =+H20+I20 -> 417241.37 | K20: 330000 | L20: =K20*19% -> 62700 | M20: =+K20+L20 -> 392700 | N20: 386000 | O20: =N20*19% -> 73340 | P20: =+N20+O20 -> 459340 | Q20: =IFERROR(STDEVA(J20,M20,P20)," ") -> 33703.272 | R20: =IFERROR(Q20/S20," ") -> 0.079659063 | S20: =ROUND(IFERROR(AVERAGE(J20,M20,P20)," "),0) -> 423094
A21: 6 | B21: M30E EZ Cleanser 100ml | F21: MINDRAY | G21: 1 | H21: 199520 | I21: =H21*19% -> 37908.8 | J21: =+H21+I21 -> 237428.8 | K21: 210000 | L21: =K21*19% -> 39900 | M21: =+K21+L21 -> 249900 | N21: 220000 | O21: =N21*19% -> 41800 | P21: =+N21+O21 -> 261800 | Q21: =IFERROR(STDEVA(J21,M21,P21)," ") -> 12186.716 | R21: =IFERROR(Q21/S21," ") -> 0.048803474 | S21: =ROUND(IFERROR(AVERAGE(J21,M21,P21)," "),0) -> 249710
A22: 7 | B22: AMP Hemotrol 16 ( Kit de controles para hematologia 3 diff x 3 niveles , 4 frascos 1 bajo, 2 normales, 1 alto) | F22: MINDRAY | G22: 1 | H22: 2156982 | I22: =H22*19% -> 409826.58 | J22: =+H22+I22 -> 2566808.6 | K22: 2022330 | L22: =K22*19% -> 384242.7 | M22: =+K22+L22 -> 2406572.7 | N22: 2373232.4 | O22: =N22*19% -> 450914.15 | P22: =+N22+O22 -> 2824146.5 | Q22: =IFERROR(STDEVA(J22,M22,P22)," ") -> 210660.18 | R22: =IFERROR(Q22/S22," ") -> 0.081048834 | S22: =ROUND(IFERROR(AVERAGE(J22,M22,P22)," "),0) -> 2599176
A23: 8 | B23: Junta tonica de sellado para jeringa Mindray BC | F23: MINDRAY | G23: 1 | H23: 848952 | I23: =H23*19% -> 161300.88 | J23: =+H23+I23 -> 1010252.9 | K23: 913000 | L23: =K23*19% -> 173470 | M23: =+K23+L23 -> 1086470 | N23: 935000 | O23: =N23*19% -> 177650 | P23: =+N23+O23 -> 1112650 | Q23: =IFERROR(STDEVA(J23,M23,P23)," ") -> 53197.136 | R23: =IFERROR(Q23/S23," ") -> 0.049726663 | S23: =ROUND(IFERROR(AVERAGE(J23,M23,P23)," "),0) -> 1069791
A24: 9 | B24: RBC bath, camara | F24: MINDRAY | G24: 1 | H24: 1158714 | I24: =H24*19% -> 220155.66 | J24: =+H24+I24 -> 1378869.7 | K24: 1115033.5 | L24: =K24*19% -> 211856.36 | M24: =+K24+L24 -> 1326889.8 | N24: 1250000 | O24: =N24*19% -> 237500 | P24: =+N24+O24 -> 1487500 | Q24: =IFERROR(STDEVA(J24,M24,P24)," ") -> 81953.324 | R24: =IFERROR(Q24/S24," ") -> 0.058632193 | S24: =ROUND(IFERROR(AVERAGE(J24,M24,P24)," "),0) -> 1397753
A25: 10 | B25: Way solenoid valve, valvula de dos vias 12 VDC | F25: MINDRAY | G25: 1 | H25: 223521 | I25: =H25*19% -> 42468.99 | J25: =+H25+I25 -> 265989.99 | K25: 215000 | L25: =K25*19% -> 40850 | M25: =+K25+L25 -> 255850 | N25: 245930.32 | O25: =N25*19% -> 46726.761 | P25: =+N25+O25 -> 292657.08 | Q25: =IFERROR(STDEVA(J25,M25,P25)," ") -> 19011.902 | R25: =IFERROR(Q25/S25," ") -> 0.07002568 | S25: =ROUND(IFERROR(AVERAGE(J25,M25,P25)," "),0) -> 271499
A26: 11 | B26: Bomba 12V mindray BC BS | F26: MINDRAY | G26: 1 | H26: 398521 | I26: =H26*19% -> 75718.99 | J26: =+H26+I26 -> 474239.99 | K26: 420000 | L26: =K26*19% -> 79800 | M26: =+K26+L26 -> 499800 | N26: 438000 | O26: =N26*19% -> 83220 | P26: =+N26+O26 -> 521220 | Q26: =IFERROR(STDEVA(J26,M26,P26)," ") -> 23520.388 | R26: =IFERROR(Q26/S26," ") -> 0.047189896 | S26: =ROUND(IFERROR(AVERAGE(J26,M26,P26)," "),0) -> 498420
A27: SUBTOTAL BOLSA DE REPUESTOS (Sumatoria valores unitarios y totales) | H27: =SUM(H16:H26) -> 7081307 | I27: =SUM(I16:I26) -> 1345448.3 | J27: =SUM(J16:J26) -> 8426755.3 | K27: =SUM(K16:K26) -> 6850169.2 | L27: =SUM(L16:L26) -> 1301532.2 | M27: =SUM(M16:M26) -> 8151701.4 | N27: =SUM(N16:N26) -> 7709682.7 | O27: =SUM(O16:O26) -> 1464839.7 | P27: =SUM(P16:P26) -> 9174522.4 | S27: =SUM(S16:S26) -> 8584327
A28: TOTAL | H28: =+H13+H27 -> 9634248 | I28: =+I13+I27 -> 1830507.1 | J28: =+J13+J27 -> 11464755 | K28: =+K13+K27 -> 9350169.2 | L28: =+L13+L27 -> 1776532.2 | M28: =+M13+M27 -> 11126701 | N28: =+N13+N27 -> 10394683 | O28: =+O13+O27 -> 1974989.7 | P28: =+P13+P27 -> 12369672 | S28: =+S13+S27 -> 11653710

Sheet LOTE 6
C1: OBJETO: “SERVICIO DE MANTENIMIENTO PREVENTIVO Y/O CORRECTIVO INCLUIDA BOLSA DE REPUESTOS DE EQUIPOS DE LABORATORIO DE LAS DEPENDENCIAS DEL ICA”
A6: INSITITUTO COLOMBIANO AGROPECUARIO - ICA
A7: ANEXO ESTUDIO DE MERCADO | Q7: NO HAY HISTORICO
A9: LOTE 6. SERVICIO DE MANTENIMIENTO DE LOS ESPECTROFOTÓMETROS NANODROP
A10: SERVICIOS DE MANTENIMIENTO | H10: EQUIPOS Y LABORATORIO DE COLOMBIA SAS | K10: ADVANCED INSTRUMENTS SAS | N10: KASSEL GROUP SAS | Q10: DESVIACION ESTANDAR | R10: % DISPERSIÓN | S10: PROMEDIO
A11: Ítem | B11: Laboratorio | C11: Ubicación interna | D11: Equipo | E11: Marca | F11: Modelo | G11: Cantidad | H11: VALOR UNITARIO SIN IVA | I11: IVA | J11: VALOR UNITARIO IVA INCLUIDO | K11: VALOR UNITARIO SIN IVA | L11: IVA | M11: VALOR UNITARIO IVA INCLUIDO | N11: VALOR UNITARIO SIN IVA | O11: IVA | P11: VALOR UNITARIO IVA INCLUIDO | Q11: VALOR UNITARIO IVA INCLUIDO | R11: VALOR UNITARIO IVA INCLUIDO | S11: VALOR UNITARIO IVA INCLUIDO
A12: 1 | B12: LDF CAREPA | C12: ÁREA DE EXTRACCIÓN DE ÁCIDOS NUCLEICOS | D12: NANODROP | E12: THERMO SCIENTIFIC | F12: NANODROP ONE | G12: 1 | H12: 3200000 | I12: =H12*19% -> 608000 | J12: =+H12+I12 -> 3808000 | K12: 3500000 | L12: =K12*19% -> 665000 | M12: =+K12+L12 -> 4165000 | N12: 3552500 | O12: =N12*19% -> 674975 | P12: =+N12+O12 -> 4227475 | Q12: =IFERROR(STDEVA(J12,M12,P12)," ") -> 226315.19 | R12: =IFERROR(Q12/S12," ") -> 0.05564911 | S12: =ROUND(IFERROR(AVERAGE(J12,M12,P12)," "),0) -> 4066825
A13: 2 | B13: LNDV | C13: VESICULARES | D13: NANODROP | E13: THERMO SCIENTIFIC | F13: NANODROP ONE | G13: 1 | H13: 1900000 | I13: =H13*19% -> 361000 | J13: =+H13+I13 -> 2261000 | K13: 2100000 | L13: =K13*19% -> 399000 | M13: =+K13+L13 -> 2499000 | N13: 2131500 | O13: =N13*19% -> 404985 | P13: =+N13+O13 -> 2536485 | Q13: =IFERROR(STDEVA(J13,M13,P13)," ") -> 149410.57 | R13: =IFERROR(Q13/S13," ") -> 0.061431175 | S13: =ROUND(IFERROR(AVERAGE(J13,M13,P13)," "),0) -> 2432162
A14: 3 | B14: LNDV | C14: BIOLOGÍA MOLECULAR | D14: NANODROP | E14: THERMO SCIENTIFIC | F14: NANODROP 1000 | G14: 1 | H14: 1700000 | I14: =H14*19% -> 323000 | J14: =+H14+I14 -> 2023000 | K14: 1900000 | L14: =K14*19% -> 361000 | M14: =+K14+L14 -> 2261000 | N14: 1928500 | O14: =N14*19% -> 366415 | P14: =+N14+O14 -> 2294915 | Q14: =IFERROR(STDEVA(J14,M14,P14)," ") -> 148173.32 | R14: =IFERROR(Q14/S14," ") -> 0.067567356 | S14: =ROUND(IFERROR(AVERAGE(J14,M14,P14)," "),0) -> 2192972
A15: 5 | B15: LNDV | C15: UNIDAD REFERENCIA | D15: NANODROP | E15: THERMO SCIENTIFIC | F15: Nanodrop eight | G15: 1 | H15: 1980000 | I15: =H15*19% -> 376200 | J15: =+H15+I15 -> 2356200 | K15: 2200000 | L15: =K15*19% -> 418000 | M15: =+K15+L15 -> 2618000 | N15: 2233000 | O15: =N15*19% -> 424270 | P15: =+N15+O15 -> 2657270 | Q15: =IFERROR(STDEVA(J15,M15,P15)," ") -> 163668.63 | R15: =IFERROR(Q15/S15," ") -> 0.064339629 | S15: =ROUND(IFERROR(AVERAGE(J15,M15,P15)," "),0) -> 2543823
A16: 6 | B16: LCV | C16: EXTRACCION DE ACIDOS NUCLEICOS | D16: NANODROP | E16: THERMO SCIENTIFIC | F16: NANODROP ONE | G16: 1 | H16: 2130000 | I16: =H16*19% -> 404700 | J16: =+H16+I16 -> 2534700 | K16: 2360000 | L16: =K16*19% -> 448400 | M16: =+K16+L16 -> 2808400 | N16: 2395400 | O16: =N16*19% -> 455126 | P16: =+N16+O16 -> 2850526 | Q16: =IFERROR(STDEVA(J16,M16,P16)," ") -> 171480 | R16: =IFERROR(Q16/S16," ") -> 0.062785384 | S16: =ROUND(IFERROR(AVERAGE(J16,M16,P16)," "),0) -> 2731209
A17: 7 | B17: LDF SOLEDAD | C17: EXTRACCIÓN ADN | D17: NANODROP | E17: THERMO SCIENTIFIC | F17: ND-ONE | G17: 1 | H17: 1900000 | I17: =H17*19% -> 361000 | J17: =+H17+I17 -> 2261000 | K17: 2100000 | L17: =K17*19% -> 399000 | M17: =+K17+L17 -> 2499000 | N17: 2131500 | O17: =N17*19% -> 404985 | P17: =+N17+O17 -> 2536485 | Q17: =IFERROR(STDEVA(J17,M17,P17)," ") -> 149410.57 | R17: =IFERROR(Q17/S17," ") -> 0.061431175 | S17: =ROUND(IFERROR(AVERAGE(J17,M17,P17)," "),0) -> 2432162
A18: 8 | B18: LDF BELLO | C18: ÁREA DE TÉCNICAS ESPECIALES | D18: NANODROP | E18: THERMO SCIENTIFIC | F18: NANODROP ONE | G18: 1 | H18: 1900000 | I18: =H18*19% -> 361000 | J18: =+H18+I18 -> 2261000 | K18: 2100000 | L18: =K18*19% -> 399000 | M18: =+K18+L18 -> 2499000 | N18: 2131500 | O18: =N18*19% -> 404985 | P18: =+N18+O18 -> 2536485 | Q18: =IFERROR(STDEVA(J18,M18,P18)," ") -> 149410.57 | R18: =IFERROR(Q18/S18," ") -> 0.061431175 | S18: =ROUND(IFERROR(AVERAGE(J18,M18,P18)," "),0) -> 2432162
A19: 9 | B19: LAMA | C19: EXTRACCIÓN ÁCIDOS NUCLEICOS | D19: NANODROP | E19: THERMO SCIENTIFIC | F19: NANODROP 8000 | G19: 1 | H19: 1980000 | I19: =H19*19% -> 376200 | J19: =+H19+I19 -> 2356200 | K19: 2360000 | L19: =K19*19% -> 448400 | M19: =+K19+L19 -> 2808400 | N19: 2395400 | O19: =N19*19% -> 455126 | P19: =+N19+O19 -> 2850526 | Q19: =IFERROR(STDEVA(J19,M19,P19)," ") -> 274049.15 | R19: =IFERROR(Q19/S19," ") -> 0.10257448 | S19: =ROUND(IFERROR(AVERAGE(J19,M19,P19)," "),0) -> 2671709
A20: 10 | B20: LNDF | C20: MOLECULAR | D20: NANODROP | E20: THERMO SCIENTIFIC | F20: ND-ONE | G20: 1 | H20: 1900000 | I20: =H20*19% -> 361000 | J20: =+H20+I20 -> 2261000 | K20: 2100000 | L20: =K20*19% -> 399000 | M20: =+K20+L20 -> 2499000 | N20: 2131500 | O20: =N20*19% -> 404985 | P20: =+N20+O20 -> 2536485 | Q20: =IFERROR(STDEVA(J20,M20,P20)," ") -> 149410.57 | R20: =IFERROR(Q20/S20," ") -> 0.061431175 | S20: =ROUND(IFERROR(AVERAGE(J20,M20,P20)," "),0) -> 2432162
A21: TOTAL MANTENIMIENTOS (Sumatoria valores unitarios y totales) | H21: =SUM(H12:H20) -> 18590000 | I21: =SUM(I12:I20) -> 3532100 | J21: =SUM(J12:J20) -> 22122100 | K21: =SUM(K12:K20) -> 20720000 | L21: =SUM(L12:L20) -> 3936800 | M21: =SUM(M12:M20) -> 24656800 | N21: =SUM(N12:N20) -> 21030800 | O21: =SUM(O12:O20) -> 3995852 | P21: =SUM(P12:P20) -> 25026652 | S21: =SUM(S12:S20) -> 23935186

Sheet LOTE 7
C1: OBJETO: “SERVICIO DE MANTENIMIENTO PREVENTIVO Y/O CORRECTIVO INCLUIDA BOLSA DE REPUESTOS DE EQUIPOS DE LABORATORIO DE LAS DEPENDENCIAS DEL ICA”
A6: INSITITUTO COLOMBIANO AGROPECUARIO - ICA
A7: ANEXO ESTUDIO DE MERCADO | Q7: NO HAY HISTORICO DE REFERENCIA
A9: LOTE 7. SERVICIO DE MANTENIMIENTO INTEGRAL DEL SECUENCIADOR DEL LNDV APPLIED BIOSYSTEM
A10: SERVICIOS DE MANTENIMIENTO | H10: EQUIPOS Y LABORATORIO DE COLOMBIA SAS | K10: ADVANCED INSTRUMENTS S.A.S | N10: KASSEL GROUP S.A.S | Q10: DESVIACION ESTANDAR | R10: % DISPERSIÓN | S10: PROMEDIO
A11: Ítem | B11: Laboratorio | C11: Equipo | D11: Marca | E11: Modelo | F11: Tipo de mantenimiento | G11: Cantidad | H11: VALOR UNITARIO SIN IVA | I11: IVA | J11: VALOR UNITARIO IVA INCLUIDO | K11: VALOR UNITARIO SIN IVA | L11: IVA | M11: VALOR UNITARIO IVA INCLUIDO | N11: VALOR UNITARIO SIN IVA | O11: IVA | P11: VALOR UNITARIO IVA INCLUIDO | Q11: VALOR UNITARIO IVA INCLUIDO | R11: VALOR UNITARIO IVA INCLUIDO | S11: VALOR UNITARIO IVA INCLUIDO
A12: 1 | B12: LNDV | C12: SECUENCIADOR | D12: Applied Biosystems | E12: 3500 Genetic Analyzer | F12: Mantenimiento Preventivo/ integral | G12: 1 | H12: 38900000 | I12: =H12*19% -> 7391000 | J12: =+H12+I12 -> 46291000 | K12: 43000000 | L12: =K12*19% -> 8170000 | M12: =+K12+L12 -> 51170000 | N12: 39750000 | O12: =N12*19% -> 7552500 | P12: =+N12+O12 -> 47302500 | Q12: =IFERROR(STDEVA(J12,M12,P12)," ") -> 2575051.1 | R12: =IFERROR(Q12/S12," ") -> 0.053363958 | S12: =ROUND(IFERROR(AVERAGE(J12,M12,P12)," "),0) -> 48254500
A13: VALOR TOTAL MANTENIMIENTOS (Sumatoria valores unitarios y totales) | H13: =SUM(H12:H12) -> 38900000 | I13: =SUM(I12:I12) -> 7391000 | J13: =SUM(J12:J12) -> 46291000 | K13: =SUM(K12:K12) -> 43000000 | L13: =SUM(L12:L12) -> 8170000 | M13: =SUM(M12:M12) -> 51170000 | N13: =SUM(N12:N12) -> 39750000 | O13: =SUM(O12:O12) -> 7552500 | P13: =SUM(P12:P12) -> 47302500 | S13: =SUM(S12:S12) -> 48254500

Sheet LOTE 8
C1: OBJETO: “SERVICIO DE MANTENIMIENTO PREVENTIVO Y/O CORRECTIVO INCLUIDA BOLSA DE REPUESTOS DE EQUIPOS DE LABORATORIO DE LAS DEPENDENCIAS DEL ICA”
A6: INSITITUTO COLOMBIANO AGROPECUARIO - ICA
A7: ANEXO ESTUDIO DE MERCADO
A9: LOTE 8. SERVICIO DE MANTENIMIENTO CON BOLSA DE REPUESTOS DE LOS EQUIPOS ISOTERMOS
A10: SERVICIOS DE MANTENIMIENTO | H10: HISTORICO 2025 + IPC (5,1%) | J10: INSTRUMENTACIÓN Y METROLOGÍA S.A.S | M10: ADVANCED INSTRUMENTS S.A.S | P10: KASSEL GROUP | S10: DESVIACION ESTANDAR | T10: % DISPERSIÓN | U10: PROMEDIO
A11: Ítem | B11: Laboratorio | C11: Equipo | D11: Marca | E11: Modelo | F11: Tipo de mantenimiento | G11: Cantidad | H11: VALOR UNITARIO CON IVA 2025 | I11: VALOR ACTUALIZADO CON IPC | J11: VALOR UNITARIO SIN IVA | K11: IVA | L11: VALOR UNITARIO IVA INCLUIDO | M11: VALOR UNITARIO SIN IVA | N11: IVA | O11: VALOR UNITARIO IVA INCLUIDO | P11: VALOR UNITARIO SIN IVA | Q11: IVA | R11: VALOR UNITARIO IVA INCLUIDO | S11: VALOR UNITARIO IVA INCLUIDO | T11: VALOR UNITARIO IVA INCLUIDO | U11: VALOR UNITARIO IVA INCLUIDO
A12: 2 | B12: LDV BARRANQUILLA | C12: CONGELADOR | D12: SANYO | E12: MDF-U731M | F12: Requiere cambio de compresor, con filtro secador, limpieza de tuberia y carga de gas refrigerante. (mantenimiento correctivo general sistema de refrigeracion) | G12: 1 | J12: 10000000 | K12: =J12*19% -> 1900000 | L12: =+J12+K12 -> 11900000 | M12: 9000000 | N12: =M12*19% -> 1710000 | O12: =+M12+N12 -> 10710000 | P12: 10000000 | Q12: =P12*19% -> 1900000 | R12: =+P12+Q12 -> 11900000 | S12: =IFERROR(STDEVA(L12,O12,R12)," ") -> 687046.82 | T12: =IFERROR(S12/U12," ") -> 0.059725892 | U12: =ROUND(IFERROR(AVERAGE(L12,O12,R12)," "),0) -> 11503333
A13: 4 | B13: LDV BARRANQUILLA | C13: CONGELADOR | D13: THERMO SCIENTIFIC | E13: REVCO | F13: Requiere cambio de compresor, con filtro secador, limpieza de tuberia y carga de gas refrigerante. (mantenimiento correctivo general sistema de refrigeracion) | G13: 1 | J13: 13000000 | K13: =J13*19% -> 2470000 | L13: =+J13+K13 -> 15470000 | M13: 9000000 | N13: =M13*19% -> 1710000 | O13: =+M13+N13 -> 10710000 | P13: 10000000 | Q13: =P13*19% -> 1900000 | R13: =+P13+Q13 -> 11900000 | S13: =IFERROR(STDEVA(L13,O13,R13)," ") -> 2477182.5 | T13: =IFERROR(S13/U13," ") -> 0.19515619 | U13: =ROUND(IFERROR(AVERAGE(L13,O13,R13)," "),0) -> 12693333
A14: 5 | B14: LANASE | C14: CUARTO DE GERMINACIÓN | D14: RISS Technology | E14: N.A | F14: Rediseño del sistema de humidificacion, perforacion al muro del cuarto de 6" del ducto de generacion de nieblina,asilamiento en poliuretano, resanes, extraccion del sistema de prefiltrado de agua, mantenimiento correctivo del humidificador (pintura, cambio de componentes electronicos y fabricadores de niebla con el fin de proyectar vida util | G14: 1 | J14: 6800000 | K14: =J14*19% -> 1292000 | L14: =+J14+K14 -> 8092000 | M14: 6000000 | N14: =M14*19% -> 1140000 | O14: =+M14+N14 -> 7140000 | P14: 6500000 | Q14: =P14*19% -> 1235000 | R14: =+P14+Q14 -> 7735000 | S14: =IFERROR(STDEVA(L14,O14,R14)," ") -> 480932.77 | T14: =IFERROR(S14/U14," ") -> 0.062820493 | U14: =ROUND(IFERROR(AVERAGE(L14,O14,R14)," "),0) -> 7655667
A15: 6 | B15: LANASE | C15: CUARTO DE GERMINACIÓN | D15: RISS Technology | E15: N.A | F15: Rediseño del sistema de humidificacion, perforacion al muro del cuarto de 6" del ducto de generacion de nieblina,asilamiento en poliuretano, resanes, extraccion del sistema de prefiltrado de agua, mantenimiento correctivo del humidificador (pintura, cambio de componentes electronicos y fabricadores de niebla con el fin de proyectar vida util | G15: 1 | J15: 6800000 | K15: =J15*19% -> 1292000 | L15: =+J15+K15 -> 8092000 | M15: 6000000 | N15: =M15*19% -> 1140000 | O15: =+M15+N15 -> 7140000 | P15: 6500000 | Q15: =P15*19% -> 1235000 | R15: =+P15+Q15 -> 7735000 | S15: =IFERROR(STDEVA(L15,O15,R15)," ") -> 480932.77 | T15: =IFERROR(S15/U15," ") -> 0.062820493 | U15: =ROUND(IFERROR(AVERAGE(L15,O15,R15)," "),0) -> 7655667
A16: 7 | B16: LASE IBAGUÉ | C16: CUARTO DE GERMINACIÓN | D16: RISS | E16: N.A | F16: Rediseño del sistema de humidificacion, perforacion al muro del cuarto de 6" del ducto de generacion de nieblina,asilamiento en poliuretano, resanes, extraccion del sistema de prefiltrado de agua, mantenimiento correctivo del humidificador (pintura, cambio de componentes electronicos y fabricadores de niebla con el fin de proyectar vida util | G16: 1 | J16: 6800000 | K16: =J16*19% -> 1292000 | L16: =+J16+K16 -> 8092000 | M16: 6350000 | N16: =M16*19% -> 1206500 | O16: =+M16+N16 -> 7556500 | P16: 6500000 | Q16: =P16*19% -> 1235000 | R16: =+P16+Q16 -> 7735000 | S16: =IFERROR(STDEVA(L16,O16,R16)," ") -> 272663.25 | T16: =IFERROR(S16/U16," ") -> 0.034981494 | U16: =ROUND(IFERROR(AVERAGE(L16,O16,R16)," "),0) -> 7794500
A17: 8 | B17: LASE PALMIRA | C17: CUARTO DE GERMINACIÓN | D17: RISS TECHNOLOGY | E17: N.A | F17: Rediseño del sistema de humidificacion, perforacion al muro del cuarto de 6" del ducto de generacion de nieblina,asilamiento en poliuretano, resanes, extraccion del sistema de prefiltrado de agua, mantenimiento correctivo del humidificador (pintura, cambio de componentes electronicos y fabricadores de niebla con el fin de proyectar vida util | G17: 1 | J17: 6800000 | K17: =J17*19% -> 1292000 | L17: =+J17+K17 -> 8092000 | M17: 6850000 | N17: =M17*19% -> 1301500 | O17: =+M17+N17 -> 8151500 | P17: 6500000 | Q17: =P17*19% -> 1235000 | R17: =+P17+Q17 -> 7735000 | S17: =IFERROR(STDEVA(L17,O17,R17)," ") -> 225263.36 | T17: =IFERROR(S17/U17," ") -> 0.028183169 | U17: =ROUND(IFERROR(AVERAGE(L17,O17,R17)," "),0) -> 7992833
A18: 9 | B18: LNDF | C18: INCUBADORA | D18: THERMO SCIENTIFIC | E18: HERATHERM IGS 100 | F18: Requiere cambio de tarjeta principal y de display. | G18: 1 | J18: 15000000 | K18: =J18*19% -> 2850000 | L18: =+J18+K18 -> 17850000 | M18: 13000000 | N18: =M18*19% -> 2470000 | O18: =+M18+N18 -> 15470000 | P18: 13780000 | Q18: =P18*19% -> 2618200 | R18: =+P18+Q18 -> 16398200 | S18: =IFERROR(STDEVA(L18,O18,R18)," ") -> 1199560.9 | T18: =IFERROR(S18/U18," ") -> 0.0723816 | U18: =ROUND(IFERROR(AVERAGE(L18,O18,R18)," "),0) -> 16572733
A19: SUBTOTAL MANTENIMIENTOS (Sumatoria valores unitarios y totales) | H19: =SUM(H12:H18) -> 0 | I19: =SUM(I12:I18) -> 0 | J19: =SUM(J12:J18) -> 65200000 | K19: =SUM(K12:K18) -> 12388000 | L19: =SUM(L12:L18) -> 77588000 | M19: =SUM(M12:M18) -> 56200000 | N19: =SUM(N12:N18) -> 10678000 | O19: =SUM(O12:O18) -> 66878000 | ... R19: =SUM(R12:R18) -> 71138200 | U19: =SUM(U12:U18) -> 71868066
A20: BOLSA DE REPUESTOS | H20: HISTORICO 2025 + IPC (5,1%) | J20: INSTRUMENTACIÓN Y METROLOGÍA S.A.S | M20: ADVANCED INSTRUMENTS S.A.S | P20: KASSEL GROUP | S20: DESVIACION ESTANDAR | T20: % DISPERSIÓN | U20: PROMEDIO
A21: Ítem | B21: Elemento | C21: Repuesto o consumible requerido | F21: Unidad de medida | G21: Cantidad | H21: VALOR UNITARIO CON IVA 2025 | I21: VALOR ACTUALIZADO CON IPC | J21: VALOR UNITARIO SIN IVA | K21: IVA | L21: VALOR UNITARIO IVA INCLUIDO | M21: VALOR UNITARIO SIN IVA | N21: IVA | O21: VALOR UNITARIO IVA INCLUIDO | P21: VALOR UNITARIO SIN IVA | Q21: IVA | R21: VALOR UNITARIO IVA INCLUIDO | S21: VALOR UNITARIO IVA INCLUIDO | T21: VALOR UNITARIO IVA INCLUIDO | U21: VALOR UNITARIO IVA INCLUIDO
A22: 1 | B22: Elemento | C22: UNIDAD COMPRESORA REFRIGERACION DE 1/4 HP A 110 V Ac | F22: UNIDAD | G22: 1 | H22: 3520020 | I22: =H22+(H22*5.1%) -> 3699541 | J22: 3300000 | K22: =J22*19% -> 627000 | L22: =+J22+K22 -> 3927000 | M22: 3520020 | N22: =M22*19% -> 668803.8 | O22: =+M22+N22 -> 4188823.8 | P22: 3415500 | Q22: =P22*19% -> 648945 | R22: =+P22+Q22 -> 4064445 | S22: =IFERROR(STDEVA(I22,L22,O22,R22)," ") -> 209603.41 | T22: =IFERROR(S22/U22," ") -> 0.052797466 | U22: =ROUND(IFERROR(AVERAGE(I22,L22,O22,R22)," "),0) -> 3969952
A23: 2 | B23: Elemento | C23: UNIDAD COMPRESORA REFRIGERACION DE 1/3 HP A 110 V Ac | F23: UNIDAD | G23: 1 | H23: 3705660 | I23: =H23+(H23*5.1%) -> 3894648.7 | J23: 3450000 | K23: =J23*19% -> 655500 | L23: =+J23+K23 -> 4105500 | M23: 3705660 | N23: =M23*19% -> 704075.4 | O23: =+M23+N23 -> 4409735.4 | P23: 3570750 | Q23: =P23*19% -> 678442.5 | R23: =+P23+Q23 -> 4249192.5 | S23: =IFERROR(STDEVA(I23,L23,O23,R23)," ") -> 218794.94 | T23: =IFERROR(S23/U23," ") -> 0.052534712 | U23: =ROUND(IFERROR(AVERAGE(I23,L23,O23,R23)," "),0) -> 4164769
A24: 3 | B24: Elemento | C24: UNIDAD COMPRESORA REFRIGERACION DE 1/2 HP A 110 V Ac | F24: UNIDAD | G24: 1 | H24: 4453932 | I24: =H24+(H24*5.1%) -> 4681082.5 | J24: 4200000 | K24: =J24*19% -> 798000 | L24: =+J24+K24 -> 4998000 | M24: 4453932 | N24: =M24*19% -> 846247.08 | O24: =+M24+N24 -> 5300179.1 | P24: 4347000 | Q24: =P24*19% -> 825930 | R24: =+P24+Q24 -> 5172930 | S24: =IFERROR(STDEVA(I24,L24,O24,R24)," ") -> 268287.19 | T24: =IFERROR(S24/U24," ") -> 0.053252209 | U24: =ROUND(IFERROR(AVERAGE(I24,L24,O24,R24)," "),0) -> 5038048
A25: 4 | B25: Elemento | C25: VALVULA DE EXPANSION | F25: UNIDAD | G25: 1 | H25: 1113364 | I25: =H25+(H25*5.1%) -> 1170145.6 | J25: 1000000 | K25: =J25*19% -> 190000 | L25: =+J25+K25 -> 1190000 | M25: 1113364 | N25: =M25*19% -> 211539.16 | O25: =+M25+N25 -> 1324903.2 | P25: 1035000 | Q25: =P25*19% -> 196650 | R25: =+P25+Q25 -> 1231650 | S25: =IFERROR(STDEVA(I25,L25,O25,R25)," ") -> 68772.963 | T25: =IFERROR(S25/U25," ") -> 0.055950506 | U25: =ROUND(IFERROR(AVERAGE(I25,L25,O25,R25)," "),0) -> 1229175
A26: 5 | B26: Elemento | C26: CAPACITOR DE ARRANQUE DE 330 V | F26: UNIDAD | G26: 1 | H26: 436492 | I26: =H26+(H26*5.1%) -> 458753.09 | J26: 500000 | K26: =J26*19% -> 95000 | L26: =+J26+K26 -> 595000 | M26: 436492 | N26: =M26*19% -> 82933.48 | O26: =+M26+N26 -> 519425.48 | P26: 517500 | Q26: =P26*19% -> 98325 | R26: =+P26+Q26 -> 615825 | S26: =IFERROR(STDEVA(I26,L26,O26,R26)," ") -> 72084.441 | T26: =IFERROR(S26/U26," ") -> 0.13172098 | U26: =ROUND(IFERROR(AVERAGE(I26,L26,O26,R26)," "),0) -> 547251
A27: 6 | B27: Elemento | C27: CONTACTOR 120 Vac a 30 Amp PARA REFRIGERACION | F27: UNIDAD | G27: 1 | H27: 966756 | I27: =H27+(H27*5.1%) -> 1016060.6 | J27: 1000000 | K27: =J27*19% -> 190000 | L27: =+J27+K27 -> 1190000 | M27: 966756 | N27: =M27*19% -> 183683.64 | O27: =+M27+N27 -> 1150439.6 | P27: 1035000 | Q27: =P27*19% -> 196650 | R27: =+P27+Q27 -> 1231650 | S27: =IFERROR(STDEVA(I27,L27,O27,R27)," ") -> 93401.617 | T27: =IFERROR(S27/U27," ") -> 0.081428529 | U27: =ROUND(IFERROR(AVERAGE(I27,L27,O27,R27)," "),0) -> 1147038
A28: 7 | B28: Elemento | C28: FILTRO DANFOSS DE SOLDAR PARA TUBERIA DE 1/4" | F28: UNIDAD | G28: 1 | H28: 294168 | I28: =H28+(H28*5.1%) -> 309170.57 | J28: 320000 | K28: =J28*19% -> 60800 | L28: =+J28+K28 -> 380800 | M28: 294168 | N28: =M28*19% -> 55891.92 | O28: =+M28+N28 -> 350059.92 | P28: 331200 | Q28: =P28*19% -> 62928 | R28: =+P28+Q28 -> 394128 | S28: =IFERROR(STDEVA(I28,L28,O28,R28)," ") -> 37732.682 | T28: =IFERROR(S28/U28," ") -> 0.10523981 | U28: =ROUND(IFERROR(AVERAGE(I28,L28,O28,R28)," "),0) -> 358540
A29: 8 | B29: Elemento | C29: CONTROLADOR DE TEMPERATURA FULL GAUGE MT-514E | F29: UNIDAD | G29: 1 | H29: 1364692 | I29: =H29+(H29*5.1%) -> 1434291.3 | J29: 1500000 | K29: =J29*19% -> 285000 | L29: =+J29+K29 -> 1785000 | M29: 1364692 | N29: =M29*19% -> 259291.48 | O29: =+M29+N29 -> 1623983.5 | P29: 1552500 | Q29: =P29*19% -> 294975 | R29: =+P29+Q29 -> 1847475 | S29: =IFERROR(STDEVA(I29,L29,O29,R29)," ") -> 184724.66 | T29: =IFERROR(S29/U29," ") -> 0.11043588 | U29: =ROUND(IFERROR(AVERAGE(I29,L29,O29,R29)," "),0) -> 1672687
A30: 9 | B30: Elemento | C30: CONTROLADOR DE TEMPERATURA FULL GAUGE MT-512 E LOG | F30: UNIDAD | G30: 1 | H30: 1314712 | I30: =H30+(H30*5.1%) -> 1381762.3 | J30: 1500000 | K30: =J30*19% -> 285000 | L30: =+J30+K30 -> 1785000 | M30: 1314712 | N30: =M30*19% -> 249795.28 | O30: =+M30+N30 -> 1564507.3 | P30: 1552500 | Q30: =P30*19% -> 294975 | R30: =+P30+Q30 -> 1847475 | S30: =IFERROR(STDEVA(I30,L30,O30,R30)," ") -> 213204.82 | T30: =IFERROR(S30/U30," ") -> 0.12963254 | U30: =ROUND(IFERROR(AVERAGE(I30,L30,O30,R30)," "),0) -> 1644686
A31: 10 | B31: Elemento | C31: RESISTENCIA DE CALENTAMIENTO PARA DESCONGELACION DE 500w | F31: UNIDAD | G31: 1 | H31: 1202852 | I31: =H31+(H31*5.1%) -> 1264197.5 | J31: 1500000 | K31: =J31*19% -> 285000 | L31: =+J31+K31 -> 1785000 | M31: 1202852 | N31: =M31*19% -> 228541.88 | O31: =+M31+N31 -> 1431393.9 | P31: 1552500 | Q31: =P31*19% -> 294975 | R31: =+P31+Q31 -> 1847475 | S31: =IFERROR(STDEVA(I31,L31,O31,R31)," ") -> 280099.17 | T31: =IFERROR(S31/U31," ") -> 0.17705194 | U31: =ROUND(IFERROR(AVERAGE(I31,L31,O31,R31)," "),0) -> 1582017
A32: 11 | B32: Elemento | C32: CINTA Rubatex 1/8 *2 | F32: UNIDAD | G32: 1 | H32: 150892 | I32: =H32+(H32*5.1%) -> 158587.49 | J32: 170000 | K32: =J32*19% -> 32300 | L32: =+J32+K32 -> 202300 | M32: 150892 | N32: =M32*19% -> 28669.48 | O32: =+M32+N32 -> 179561.48 | P32: 175950 | Q32: =P32*19% -> 33430.5 | R32: =+P32+Q32 -> 209380.5 | S32: =IFERROR(STDEVA(I32,L32,O32,R32)," ") -> 23070.488 | T32: =IFERROR(S32/U32," ") -> 0.12307083 | U32: =ROUND(IFERROR(AVERAGE(I32,L32,O32,R32)," "),0) -> 187457
A33: 12 | B33: Elemento | C33: Resistencia Nevera 35,6 Cm Con Bimetalico | F33: UNIDAD | G33: 1 | H33: 476714 | I33: =H33+(H33*5.1%) -> 501026.41 | J33: 500000 | K33: =J33*19% -> 95000 | L33: =+J33+K33 -> 595000 | M33: 476714 | N33: =M33*19% -> 90575.66 | O33: =+M33+N33 -> 567289.66 | P33: 517500 | Q33: =P33*19% -> 98325 | R33: =+P33+Q33 -> 615825 | S33: =IFERROR(STDEVA(I33,L33,O33,R33)," ") -> 49964.813 | T33: =IFERROR(S33/U33," ") -> 0.087690643 | U33: =ROUND(IFERROR(AVERAGE(I33,L33,O33,R33)," "),0) -> 569785
... A41: 20 | B41: Elemento | C41: Filtro Deshidratador 3/8 Un Flujo SO DANFOSS Soldar | F41: UNIDAD | G41: 1 | H41: 418563 | I41: =H41+(H41*5.1%) -> 439909.71 | J41: 425600 | K41: =J41*19% -> 80864 | L41: =+J41+K41 -> 506464 | M41: 418563 | N41: =M41*19% -> 79526.97 | O41: =+M41+N41 -> 498089.97 | P41: 440496 | Q41: =P41*19% -> 83694.24 | R41: =+P41+Q41 -> 524190.24 | S41: =IFERROR(STDEVA(I41,L41,O41,R41)," ") -> 36495.651 | T41: =IFERROR(S41/U41," ") -> 0.074153586 | U41: =ROUND(IFERROR(AVERAGE(I41,L41,O41,R41)," "),0) -> 492163
A42: SUBTOTAL BOLSA DE REPUESTOS (Sumatoria valores unitarios y totales) | H42: =SUM(H22:H41) -> 22378585 | I42: =SUM(I22:I41) -> 23519893 | J42: =SUM(J22:J41) -> 22531380 | K42: =SUM(K22:K41) -> 4280962.2 | L42: =SUM(L22:L41) -> 26812342 | M42: =SUM(M22:M41) -> 22378585 | N42: =SUM(N22:N41) -> 4251931.2 | O42: =SUM(O22:O41) -> 26630516 | ... R42: =SUM(R22:R41) -> 27750774 | U42: =SUM(U22:U41) -> 26178380
A43: TOTAL | H43: =+H19+H42 -> 22378585 | I43: =+I19+I42 -> 23519893 | J43: =+J19+J42 -> 87731380 | K43: =+K19+K42 -> 16668962 | L43: =+L19+L42 -> 1.0440034e+08 | M43: =+M19+M42 -> 78578585 | N43: =+N19+N42 -> 14929931 | O43: =+O19+O42 -> 93508516 | ... R43: =+R19+R42 -> 98888974 | U43: =+U19+U42 -> 98046446
J45: INSTRUMENTACION AJUSTA COTIZACION DEL EVENTO | M45: se ajusta lote 8

Sheet LOTE 9
C1: OBJETO: “SERVICIO DE MANTENIMIENTO PREVENTIVO Y/O CORRECTIVO INCLUIDA BOLSA DE REPUESTOS DE EQUIPOS DE LABORATORIO DE LAS DEPENDENCIAS DEL ICA”
A6: INSITITUTO COLOMBIANO AGROPECUARIO - ICA
A7: ANEXO ESTUDIO DE MERCADO
A9: LOTE 9. SERVICIO DE MANTENIMIENTO CON BOLSA DE REPUESTOS DE LOS LECTORES DE FPA
A10: SERVICIOS DE MANTENIMIENTO | F10: HISTORICO 2025 + IPC (5,1%) | H10: ADVANCED INSTRUMENTS S.A.S | K10: INSTRUMENTACION & METROLOGIA S.A.S. | N10: KASSEL GROUP | Q10: DESVIACION ESTANDAR | R10: % DISPERSIÓN | S10: PROMEDIO
A11: Ítem | B11: Laboratorio | C11: Equipo | D11: Modelo | E11: Cantidad | F11: VALOR UNITARIO CON IVA 2025 | G11: VALOR ACTUALIZADO CON IPC | H11: VALOR UNITARIO SIN IVA | I11: IVA | J11: VALOR UNITARIO IVA INCLUIDO | K11: VALOR UNITARIO SIN IVA | L11: IVA | M11: VALOR UNITARIO IVA INCLUIDO | N11: VALOR UNITARIO SIN IVA | O11: IVA | P11: VALOR UNITARIO IVA INCLUIDO | Q11: VALOR UNITARIO IVA INCLUIDO | R11: VALOR UNITARIO IVA INCLUIDO | S11: VALOR UNITARIO IVA INCLUIDO
A12: 2 | B12: LDV ARMENIA | C12: LECTOR FPA | D12: Synergy 2 | E12: 1 | H12: 3112706 | I12: =H12*19% -> 591414.14 | J12: =+H12+I12 -> 3704120.1 | K12: 3200000 | L12: =K12*19% -> 608000 | M12: =+K12+L12 -> 3808000 | N12: 3080000 | O12: =N12*19% -> 585200 | P12: =+N12+O12 -> 3665200 | Q12: =IFERROR(STDEVA(J12,M12,P12)," ") -> 73821.454 | R12: =IFERROR(Q12/S12," ") -> 0.019813728 | S12: =ROUND(IFERROR(AVERAGE(J12,M12,P12)," "),0) -> 3725773
A13: 4 | B13: LDV BARRANQUILLA | C13: LECTOR FPA | D13: H1 | E13: 1 | H13: 3112706 | I13: =H13*19% -> 591414.14 | J13: =+H13+I13 -> 3704120.1 | K13: 3200000 | L13: =K13*19% -> 608000 | M13: =+K13+L13 -> 3808000 | N13: 3080000 | O13: =N13*19% -> 585200 | P13: =+N13+O13 -> 3665200 | Q13: =IFERROR(STDEVA(J13,M13,P13)," ") -> 73821.454 | R13: =IFERROR(Q13/S13," ") -> 0.019813728 | S13: =ROUND(IFERROR(AVERAGE(J13,M13,P13)," "),0) -> 3725773
A14: 7 | B14: LDV BELLO | C14: LECTOR FPA | D14: H1 | E14: 1 | H14: 3112706 | I14: =H14*19% -> 591414.14 | J14: =+H14+I14 -> 3704120.1 | K14: 3200000 | L14: =K14*19% -> 608000 | M14: =+K14+L14 -> 3808000 | N14: 3080000 | O14: =N14*19% -> 585200 | P14: =+N14+O14 -> 3665200 | Q14: =IFERROR(STDEVA(J14,M14,P14)," ") -> 73821.454 | R14: =IFERROR(Q14/S14," ") -> 0.019813728 | S14: =ROUND(IFERROR(AVERAGE(J14,M14,P14)," "),0) -> 3725773
A15: 10 | B15: LDV FLORENCIA | C15: LECTOR FPA | D15: Synergy 2 | E15: 1 | H15: 3112706 | I15: =H15*19% -> 591414.14 | J15: =+H15+I15 -> 3704120.1 | K15: 3200000 | L15: =K15*19% -> 608000 | M15: =+K15+L15 -> 3808000 | N15: 3080000 | O15: =N15*19% -> 585200 | P15: =+N15+O15 -> 3665200 | Q15: =IFERROR(STDEVA(J15,M15,P15)," ") -> 73821.454 | R15: =IFERROR(Q15/S15," ") -> 0.019813728 | S15: =ROUND(IFERROR(AVERAGE(J15,M15,P15)," "),0) -> 3725773
A16: 15 | B16: LDV POPAYAN | C16: LECTOR FPA | D16: Synergy 2 | E16: 1 | H16: 3112706 | I16: =H16*19% -> 591414.14 | J16: =+H16+I16 -> 3704120.1 | K16: 3200000 | L16: =K16*19% -> 608000 | M16: =+K16+L16 -> 3808000 | N16: 3080000 | O16: =N16*19% -> 585200 | P16: =+N16+O16 -> 3665200 | Q16: =IFERROR(STDEVA(J16,M16,P16)," ") -> 73821.454 | R16: =IFERROR(Q16/S16," ") -> 0.019813728 | S16: =ROUND(IFERROR(AVERAGE(J16,M16,P16)," "),0) -> 3725773
A17: 16 | B17: LDV SINCELEJO | C17: LECTOR FPA | D17: Synergy 2 | E17: 1 | H17: 3112706 | I17: =H17*19% -> 591414.14 | J17: =+H17+I17 -> 3704120.1 | K17: 3200000 | L17: =K17*19% -> 608000 | M17: =+K17+L17 -> 3808000 | N17: 3080000 | O17: =N17*19% -> 585200 | P17: =+N17+O17 -> 3665200 | Q17: =IFERROR(STDEVA(J17,M17,P17)," ") -> 73821.454 | R17: =IFERROR(Q17/S17," ") -> 0.019813728 | S17: =ROUND(IFERROR(AVERAGE(J17,M17,P17)," "),0) -> 3725773
A18: 20 | B18: LDV VILLAVICENCIO | C18: LECTOR FPA | D18: Synergy 2 | E18: 1 | H18: 3112706 | I18: =H18*19% -> 591414.14 | J18: =+H18+I18 -> 3704120.1 | K18: 3200000 | L18: =K18*19% -> 608000 | M18: =+K18+L18 -> 3808000 | N18: 3080000 | O18: =N18*19% -> 585200 | P18: =+N18+O18 -> 3665200 | Q18: =IFERROR(STDEVA(J18,M18,P18)," ") -> 73821.454 | R18: =IFERROR(Q18/S18," ") -> 0.019813728 | S18: =ROUND(IFERROR(AVERAGE(J18,M18,P18)," "),0) -> 3725773
A19: 22 | B19: LNDV - BOGOTA | C19: LECTOR FPA | D19: Synergy 2 | E19: 1 | H19: 2112706 | I19: =H19*19% -> 401414.14 | J19: =+H19+I19 -> 2514120.1 | K19: 2420000 | L19: =K19*19% -> 459800 | M19: =+K19+L19 -> 2879800 | N19: 2092000 | O19: =N19*19% -> 397480 | P19: =+N19+O19 -> 2489480 | Q19: =IFERROR(STDEVA(J19,M19,P19)," ") -> 218585.83 | R19: =IFERROR(Q19/S19," ") -> 0.083182066 | S19: =ROUND(IFERROR(AVERAGE(J19,M19,P19)," "),0) -> 2627800
A20: 23 | B20: LNDV - BOGOTA | C20: LECTOR FPA | D20: H1 | E20: 1 | H20: 2112706 | I20: =H20*19% -> 401414.14 | J20: =+H20+I20 -> 2514120.1 | K20: 2420000 | L20: =K20*19% -> 459800 | M20: =+K20+L20 -> 2879800 | N20: 2112706 | O20: =N20*19% -> 401414.14 | P20: =+N20+O20 -> 2514120.1 | Q20: =IFERROR(STDEVA(J20,M20,P20)," ") -> 211125.37 | R20: =IFERROR(Q20/S20," ") -> 0.080092688 | S20: =ROUND(IFERROR(AVERAGE(J20,M20,P20)," "),0) -> 2636013
A21: SUBTOTAL MANTENIMIENTOS (Sumatoria valores unitarios y totales) | F21: =SUM(F12:F20) -> 0 | G21: =SUM(G12:G20) -> 0 | H21: =SUM(H12:H20) -> 26014354 | I21: =SUM(I12:I20) -> 4942727.3 | J21: =SUM(J12:J20) -> 30957081 | K21: =SUM(K12:K20) -> 27240000 | L21: =SUM(L12:L20) -> 5175600 | M21: =SUM(M12:M20) -> 32415600 | ... P21: =SUM(P12:P20) -> 30660000 | S21: =SUM(S12:S20) -> 31344224
A22: BOLSA DE REPUESTOS | F22: HISTORICO 2025 + IPC (5,1%) | H22: ADVANCED INSTRUMENTS S.A.S | K22: INSTRUMENTACION & METROLOGIA S.A.S. | N22: KASSEL GROUP | Q22: DESVIACION ESTANDAR | R22: % DISPERSIÓN | S22: PROMEDIO
A23: Ítem | B23: Descripción | D23: No parte | E23: Cantidad | F23: VALOR UNITARIO CON IVA 2025 | G23: VALOR ACTUALIZADO CON IPC | H23: VALOR UNITARIO SIN IVA | I23: IVA | J23: VALOR UNITARIO IVA INCLUIDO | K23: VALOR UNITARIO SIN IVA | L23: IVA | M23: VALOR UNITARIO IVA INCLUIDO | N23: VALOR UNITARIO SIN IVA | O23: IVA | P23: VALOR UNITARIO IVA INCLUIDO | Q23: VALOR UNITARIO IVA INCLUIDO | R23: VALOR UNITARIO IVA INCLUIDO | S23: VALOR UNITARIO IVA INCLUIDO
A24: 1 | B24: Rodamiento para Synergy 2, HT, HTX | D24: 41155 | E24: 1 | F24: 535067 | G24: =F24+(F24*5.1%) -> 562355.42 | H24: 774897.84 | I24: =H24*19% -> 147230.59 | J24: =+H24+I24 -> 922128.43 | K24: 766500 | L24: =K24*19% -> 145635 | M24: =+K24+L24 -> 912135 | N24: 756840 | O24: =N24*19% -> 143799.6 | P24: =+N24+O24 -> 900639.6 | Q24: =IFERROR(STDEVA(G24,J24,M24,P24)," ") -> 174860.03 | R24: =IFERROR(Q24/S24," ") -> 0.21212768 | S24: =ROUND(IFERROR(AVERAGE(G24,J24,M24,P24)," "),0) -> 824315
A25: 2 | B25: Tubería de entrada | D25: 7082121 | E25: 1 | F25: 1442547 | G25: =F25+(F25*5.1%) -> 1516116.9 | H25: 2099474.6 | I25: =H25*19% -> 398900.18 | J25: =+H25+I25 -> 2498374.8 | K25: 2029400 | L25: =K25*19% -> 385586 | M25: =+K25+L25 -> 2414986 | N25: 2003824 | O25: =N25*19% -> 380726.56 | P25: =+N25+O25 -> 2384550.6 | Q25: =IFERROR(STDEVA(G25,J25,M25,P25)," ") -> 460779.17 | R25: =IFERROR(Q25/S25," ") -> 0.20911173 | S25: =ROUND(IFERROR(AVERAGE(G25,J25,M25,P25)," "),0) -> 2203507
A26: 3 | B26: Tubería de salida | D26: 7082120 | E26: 1 | F26: 1441863 | G26: =F26+(F26*5.1%) -> 1515398 | H26: 1734007.5 | I26: =H26*19% -> 329461.42 | J26: =+H26+I26 -> 2063468.9 | K26: 2029400 | L26: =K26*19% -> 385586 | M26: =+K26+L26 -> 2414986 | N26: 2003824 | O26: =N26*19% -> 380726.56 | P26: =+N26+O26 -> 2384550.6 | Q26: =IFERROR(STDEVA(G26,J26,M26,P26)," ") -> 417597.33 | R26: =IFERROR(Q26/S26," ") -> 0.19936844 | S26: =ROUND(IFERROR(AVERAGE(G26,J26,M26,P26)," "),0) -> 2094601
A27: 4 | B27: Tubería interna larga Synergy | D27: 7092123 | E27: 1 | F27: 889507 | G27: =F27+(F27*5.1%) -> 934871.86 | H27: 1220542 | I27: =H27*19% -> 231902.98 | J27: =+H27+I27 -> 1452445 | K27: 1423500 | L27: =K27*19% -> 270465 | M27: =+K27+L27 -> 1693965 | N27: 1405560 | O27: =N27*19% -> 267056.4 | P27: =+N27+O27 -> 1672616.4 | Q27: =IFERROR(STDEVA(G27,J27,M27,P27)," ") -> 353038.54 | R27: =IFERROR(Q27/S27," ") -> 0.24542556 | S27: =ROUND(IFERROR(AVERAGE(G27,J27,M27,P27)," "),0) -> 1438475
A28: 5 | B28: Tubería externa inyector | D28: 8042156 | E28: 1 | F28: 1397793 | G28: =F28+(F28*5.1%) -> 1469080.4 | H28: 2146093.4 | I28: =H28*19% -> 407757.74 | J28: =+H28+I28 -> 2553851.1 | K28: 2029400 | L28: =K28*19% -> 385586 | M28: =+K28+L28 -> 2414986 | N28: 2003824 | O28: =N28*19% -> 380726.56 | P28: =+N28+O28 -> 2384550.6 | Q28: =IFERROR(STDEVA(G28,J28,M28,P28)," ") -> 496523.15 | R28: =IFERROR(Q28/S28," ") -> 0.22511757 | S28: =ROUND(IFERROR(AVERAGE(G28,J28,M28,P28)," "),0) -> 2205617
A29: 6 | B29: Filtro de Fluorescencia Excitación 485/20nm | D29: 7082221 | E29: 1 | F29: 5544067 | G29: =F29+(F29*5.1%) -> 5826814.4 | H29: 6346051.9 | I29: =H29*19% -> 1205749.9 | J29: =+H29+I29 -> 7551801.8 | K29: 6169960 | L29: =K29*19% -> 1172292.4 | M29: =+K29+L29 -> 7342252.4 | N29: 6092201.6 | O29: =N29*19% -> 1157518.3 | P29: =+N29+O29 -> 7249719.9 | Q29: =IFERROR(STDEVA(G29,J29,M29,P29)," ") -> 787428.32 | R29: =IFERROR(Q29/S29," ") -> 0.11260805 | S29: =ROUND(IFERROR(AVERAGE(G29,J29,M29,P29)," "),0) -> 6992647
A30: 7 | B30: Filtro de Fluorescencia Emisión 528/20nm | D30: 7082247 | E30: 1 | F30: 5544067 | G30: =F30+(F30*5.1%) -> 5826814.4 | H30: 6346053.5 | I30: =H30*19% -> 1205750.2 | J30: =+H30+I30 -> 7551803.7 | K30: 5840000 | L30: =K30*19% -> 1109600 | M30: =+K30+L30 -> 6949600 | N30: 5766400 | O30: =N30*19% -> 1095616 | P30: =+N30+O30 -> 6862016 | Q30: =IFERROR(STDEVA(G30,J30,M30,P30)," ") -> 716124.13 | R30: =IFERROR(Q30/S30," ") -> 0.10535019 | S30: =ROUND(IFERROR(AVERAGE(G30,J30,M30,P30)," "),0) -> 6797559
A31: 8 | B31: Sistema de válvula 3 vías | D31: 7080540 | E31: 1 | F31: 5525467 | G31: =F31+(F31*5.1%) -> 5807265.8 | H31: 7774205 | I31: =H31*19% -> 1477099 | J31: =+H31+I31 -> 9251304 | K31: 8468000 | L31: =K31*19% -> 1608920 | M31: =+K31+L31 -> 10076920 | N31: 8361280 | O31: =N31*19% -> 1588643.2 | P31: =+N31+O31 -> 9949923.2 | Q31: =IFERROR(STDEVA(G31,J31,M31,P31)," ") -> 2009120.8 | R31: =IFERROR(Q31/S31," ") -> 0.22905483 | S31: =ROUND(IFERROR(AVERAGE(G31,J31,M31,P31)," "),0) -> 8771353
A32: 9 | B32: Sistema de jeringa 250uL | D32: 7083000 | E32: 1 | F32: 3159137 | G32: =F32+(F32*5.1%) -> 3320253 | H32: 4134994.9 | I32: =H32*19% -> 785649.03 | J32: =+H32+I32 -> 4920644 | K32: 3905500 | L32: =K32*19% -> 742045 | M32: =+K32+L32 -> 4647545 | N32: 3856280 | O32: =N32*19% -> 732693.2 | P32: =+N32+O32 -> 4588973.2 | Q32: =IFERROR(STDEVA(G32,J32,M32,P32)," ") -> 714179.34 | R32: =IFERROR(Q32/S32," ") -> 0.16345193 | S32: =ROUND(IFERROR(AVERAGE(G32,J32,M32,P32)," "),0) -> 4369354
A33: 10 | B33: Solución verde 125mL para calificación de módulo de inyectores | D33: 7773003 | E33: 1 | F33: 1115133 | G33: =F33+(F33*5.1%) -> 1172004.8 | H33: 1195012.4 | I33: =H33*19% -> 227052.36 | J33: =+H33+I33 -> 1422064.8 | K33: 1227860 | L33: =K33*19% -> 233293.4 | M33: =+K33+L33 -> 1461153.4 | N33: 1212385.6 | O33: =N33*19% -> 230353.26 | P33: =+N33+O33 -> 1442738.9 | Q33: =IFERROR(STDEVA(G33,J33,M33,P33)," ") -> 135931.45 | R33: =IFERROR(Q33/S33," ") -> 0.098895918 | S33: =ROUND(IFERROR(AVERAGE(G33,J33,M33,P33)," "),0) -> 1374490
A34: 11 | B34: Ventilador electrónico 24V – 0.09A | D34: 7130507 | E34: 1 | F34: 609883 | G34: =F34+(F34*5.1%) -> 640987.03 | H34: 818785.26 | I34: =H34*19% -> 155569.2 | J34: =+H34+I34 -> 974354.46 | K34: 803000 | L34: =K34*19% -> 152570 | M34: =+K34+L34 -> 955570 | N34: 792880 | O34: =N34*19% -> 150647.2 | P34: =+N34+O34 -> 943527.2 | Q34: =IFERROR(STDEVA(G34,J34,M34,P34)," ") -> 158922.16 | R34: =IFERROR(Q34/S34," ") -> 0.18087907 | S34: =ROUND(IFERROR(AVERAGE(G34,J34,M34,P34)," "),0) -> 878610
A35: 12 | B35: Gen5 Secure – cumple con la normative internacional CRF21 Parte 11 | D35: GEN5SECURE | E35: 1 | F35: 32227000 | G35: =F35+(F35*5.1%) -> 33870577 | H35: 51798664 | I35: =H35*19% -> 9841746.2 | J35: =+H35+I35 -> 61640410 | K35: 44968000 | L35: =K35*19% -> 8543920 | M35: =+K35+L35 -> 53511920 | N35: 44401280 | O35: =N35*19% -> 8436243.2 | P35: =+N35+O35 -> 52837523 | Q35: =IFERROR(STDEVA(G35,J35,M35,P35)," ") -> 11764031 | R35: =IFERROR(Q35/S35," ") -> 0.23311217 | S35: =ROUND(IFERROR(AVERAGE(G35,J35,M35,P35)," "),0) -> 50465108
A36: 13 | B36: Filtro para equipo Synergy2 | D36: 48639 | E36: 1 | F36: 245180 | G36: =F36+(F36*5.1%) -> 257684.18 | H36: 367550.46 | I36: =H36*19% -> 69834.587 | J36: =+H36+I36 -> 437385.05 | K36: 357700 | L36: =K36*19% -> 67963 | M36: =+K36+L36 -> 425663 | N36: 353192 | O36: =N36*19% -> 67106.48 | P36: =+N36+O36 -> 420298.48 | Q36: =IFERROR(STDEVA(G36,J36,M36,P36)," ") -> 85347.736 | R36: =IFERROR(Q36/S36," ") -> 0.22153397 | S36: =ROUND(IFERROR(AVERAGE(G36,J36,M36,P36)," "),0) -> 385258
A37: 14 | B37: Placa de dispensado para Synergy2 | D37: 7132158 | E37: 1 | F37: 1309000 | G37: =F37+(F37*5.1%) -> 1375759 | H37: 5529316 | I37: =H37*19% -> 1050570 | J37: =+H37+I37 -> 6579886 | K37: 5518800 | L37: =K37*19% -> 1048572 | M37: =+K37+L37 -> 6567372 | N37: 5449248 | O37: =N37*19% -> 1035357.1 | P37: =+N37+O37 -> 6484605.1 | Q37: =IFERROR(STDEVA(G37,J37,M37,P37)," ") -> 2584443.5 | R37: =IFERROR(Q37/S37," ") -> 0.49209629 | S37: =ROUND(IFERROR(AVERAGE(G37,J37,M37,P37)," "),0) -> 5251906
A38: SUBTOTAL BOLSA DE REPUESTOS (Sumatoria valores unitarios y totales) | F38: =SUM(F24:F37) -> 60985711 | G38: =SUM(G24:G37) -> 64095982 | H38: =SUM(H24:H37) -> 92285649 | I38: =SUM(I24:I37) -> 17534273 | J38: =SUM(J24:J37) -> 1.0981992e+08 | K38: =SUM(K24:K37) -> 85537020 | L38: =SUM(L24:L37) -> 16252034 | M38: =SUM(M24:M37) -> 1.0178905e+08 | ... P38: =SUM(P24:P37) -> 1.0050623e+08 | S38: =SUM(S24:S37) -> 94052800
A39: TOTAL | F39: =+F21+F38 -> 60985711 | G39: =+G21+G38 -> 64095982 | H39: =+H21+H38 -> 1.183e+08 | I39: =+I21+I38 -> 22477001 | J39: =+J21+J38 -> 1.40777e+08 | K39: =+K21+K38 -> 112777020 | L39: =+L21+L38 -> 21427634 | M39: =+M21+M38 -> 1.3420465e+08 | ... P39: =+P21+P38 -> 1.3116623e+08 | S39: =+S21+S38 -> 125397024
I41: se ajusta lote 9

Sheet PRESUPUESTO 
B5: LABORATORIO | C5: PRESUPUESTO | D5: LOTE 1 | E5: LOTE 2 | F5: LOTE 3 | G5: LOTE 4 | H5: LOTE 5 | I5: LOTE 6 | J5: LOTE 7 | K5: LOTE 8 | L5: LOTE 9
B6: LNDV | C6: 100000000 | D6: 1898732 | F6: 0 | G6: 3405811 | H6: 0 | I6: 7168957 | J6: 48254500 | L6: 5263813 | M6: =SUM(D6:L6) -> 65991813
B7: RED LDV | C7: 70000000 | D7: 0 | E7: 0 | F7: 0 | G7: 0 | H7: 3069383 | K7: 24196666 | L7: 26080411 | M7: =SUM(D7:L7) -> 53346460
B8: LANIP | C8: 80000000 | D8: 0 | E8: 0 | F8: 13544577 | H8: 0 | L8: 0 | M8: =SUM(D8:L8) -> 13544577
B9: RED LDF | C9: 230000000 | D9: 18674353 | E9: 0 | F9: 40311641 | G9: 10302806 | H9: 0 | I9: 11602858 | M9: =SUM(D9:L9) -> 80891658
B10: RED LASE | C10: 45000000 | D10: 0 | E10: 0 | G10: 0 | H10: 0 | K10: 31098667 | M10: =SUM(D10:L10) -> 31098667
B11: LANIA | C11: 45000000 | D11: 0 | E11: 0 | G11: 0 | H11: 0 | M11: =SUM(D11:L11) -> 0
B12: LDF & MR | C12: 100000000 | D12: 0 | E12: 2561066 | F12: 33422343 | G12: 2078430 | H12: 0 | I12: 5163371 | K12: 16572733 | M12: =SUM(D12:L12) -> 59797943
B13: SPF | C13: 50000000 | D13: 0 | E13: 0 | F13: 37949100 | G13: 0 | H13: 0 | I13: 0 | J13: 0 | K13: 0 | L13: 0 | M13: =SUM(D13:L13) -> 37949100
B14: TOTAL | C14: =SUM(C6:C13) -> 720000000 | D14: ='LOTE 1'!S19 -> 20573085 | E14: ='LOTE 2'!S13 -> 2561066 | F14: ='LOTE 3'!U70 -> 125227661 | G14: ='LOTE 4'!U21 -> 15787047 | H14: ='LOTE 5'!S13 -> 3069383 | I14: ='LOTE 6'!S21 -> 23935186 | J14: ='LOTE 7'!S13 -> 48254500 | K14: ='LOTE 8'!U19 -> 71868066 | L14: ='LOTE 9'!S21 -> 31344224 | M14: =SUM(D14:L14) -> 342620218
C15: BOLSA DE REPUESTOS | D15: 5426915 | E15: 5438934 | F15: 64772339 | G15: 29212953 | H15: 12730617 | I15: 0 | J15: 0 | K15: 140131934 | L15: 119666090 | M15: =SUM(D15:L15) -> 377379782
C16: VALOR TOTAL DEL PROCESO | D16: =D14+D15 -> 26000000 | E16: =E14+E15 -> 8000000 | F16: =F14+F15 -> 190000000 | G16: =G14+G15 -> 45000000 | H16: =H14+H15 -> 15800000 | I16: =I14+I15 -> 23935186 | J16: =J14+J15 -> 48254500 | K16: =K14+K15 -> 212000000 | L16: =L14+L15 -> 151010314 | M16: =SUM(D16:L16) -> 720000000
