Workbook

Sheet Indicadores
I3: Fuente Datos/Indicador | J3: Tipo empresa | K3: Tamaño Muestra | L3: Formula | T3: Indicadores Financieros | W3: Indicadores Organizacionales
T4: Indice de Liquidez | U4: Indice de Endeudamiento | V4: Razón de Cobertura de Intereses | W4: Rentabilidad del Patrimonio | X4: Rentabilidad del Activo
I5: Super Sociedades | J5: Plenas Ind. Plenas Sep. Pymes Ind. Pymes Sep | K5: Total empresas (504) + 4 | L5: Desviación Estandar | T5: =STDEVA(T12:T519) -> 51.424878 | U5: =STDEVA(U12:U519) -> 0.44990255 | V5: =STDEVA(V12:V519) -> 477.05843 | W5: =STDEVA(W12:W519) -> 20.77976 | X5: =STDEVA(X12:X519) -> 0.12806426
L6: Promedio | T6: =AVERAGE(T12:T519) -> 16.764096 | U6: =AVERAGE(U12:U519) -> 0.53227756 | V6: =AVERAGE(V12:V519) -> 51.930244 | W6: =AVERAGE(W12:W519) -> 1.0817845 | X6: =AVERAGE(X12:X519) -> 0.095184487
L7: Mediana | T7: =MEDIAN(T12:T519) -> 3.3593541 | U7: =MEDIAN(U12:U519) -> 0.51327552 | V7: =MEDIAN(V12:V519) -> 2.7602121 | W7: =MEDIAN(W12:W519) -> 0.18554601 | X7: =MEDIAN(X12:X519) -> 0.086265278
L8: Menor Valor | T8: =MIN(T12:T519) -> 0.043373314 | U8: =MIN(U12:U519) -> 0.0013063695 | V8: =MIN(V12:V519) -> -310.41869 | W8: =MIN(W12:W519) -> -55.700284 | X8: =MIN(X12:X519) -> -0.48545942
L9: Mayor Valor | T9: =MAX(T12:T519) -> 611.76962 | U9: =MAX(U12:U519) -> 8.3079207 | V9: =MAX(V12:V519) -> 6339.9449 | W9: =MAX(W12:W519) -> 464.2909 | X9: =MAX(X12:X519) -> 0.86537469
B11: Punto de entrada | C11: Formulario | D11: NIT | E11: Fecha de Corte | F11: Razón social de la sociedad | G11: Clasificación Industrial Internacional Uniforme Versión 4 A.C (CIIU) | H11: Tipo societario | I11: Dirección de notificación judicial registrada en Cámara de Comercio | J11: Departamento de la dirección del domicilio | K11: Ciudad de la dirección del domicilio | L11: Periodo | M11: Activos corrientes totales (CurrentAssets) | N11: Total de activos (Assets) | O11: Pasivos corrientes totales (CurrentLiabilities) | P11: Total pasivos (Liabilities) | Q11: Patrimonio total (Equity) | R11: Ganancia (pérdida) por actividades de operación (ProfitLossFromOperatingActivities) | S11: Costos financieros (FinanceCosts) | T11: Indice de Liquidez | U11: Indice de Endeudamiento | V11: Razón de Cobertura de Intereses | W11: Rentabilidad del Patrimonio | X11: Rentabilidad del Activo
A12: 93 | B12: Plenas-Individuales | C12: Estado de situación financiera, corriente/no corriente | D12: 800026212 | E12: 2024-12-31 | F12: RICOH COLOMBIA S.A. | G12: G4659 - Comercio al por mayor de otros tipos de maquinaria y equipo n.c.p. | H12: 01. SOCIEDAD ANÓNIMA | I12: Av Cra 45 108 27 T2 | J12: BOGOTA D.C. | K12: BOGOTA D.C. | L12: Periodo Actual | M12: 52756828 | N12: 72854435 | O12: 27317034 | P12: 29530921 | Q12: 43323514 | R12: -3295506 | S12: 1663274 | T12: =M12/O12 -> 1.9312795 | U12: =P12/N12 -> 0.40534143 | V12: =R12/S12 -> -1.9813368 | W12: =R12/Q12 -> -0.076067375 | X12: =R12/N12 -> -0.045234116
F13: INGENIERIA EN EQUIPOS DE TEMPERATURA SAS | G13: EMPRESA OFERENTE PROCESO 2025 | M13: 737761496 | N13: 804145134 | O13: 199293692 | P13: 199293692 | Q13: 604851442 | R13: 446839583 | S13: 7405003 | T13: =M13/O13 -> 3.7018808 | U13: =P13/N13 -> 0.24783299 | V13: =R13/S13 -> 60.342931 | W13: =R13/Q13 -> 0.73875923 | X13: =R13/N13 -> 0.55567032
F14: EQUIPOS Y LABORATORIO DE COLOMBIA S.A.S | G14: EMPRESA OFERENTE PROCESO 2025 | M14: 16881955955 | N14: 30585810220 | O14: 5055316658 | P14: 16364220709 | Q14: 14221589511 | R14: 3121069800 | S14: 1538145989 | T14: =M14/O14 -> 3.3394458 | U14: =P14/N14 -> 0.53502656 | V14: =R14/S14 -> 2.0291116 | W14: =R14/Q14 -> 0.21945998 | X14: =R14/N14 -> 0.10204306
F15: ADVANCED INSTRUMENTS SAS | G15: EMPRESA OFERENTE PROCESO 2025 | M15: 2114597968 | N15: 3111413552 | O15: 228622347 | P15: 428816112 | Q15: 2682597440 | R15: 863528015 | S15: 27406580 | T15: =M15/O15 -> 9.2493057 | U15: =P15/N15 -> 0.13782035 | V15: =R15/S15 -> 31.508054 | W15: =R15/Q15 -> 0.32189996 | X15: =R15/N15 -> 0.2775356
F16: INSTRUMENTACION Y METROLOGIA SAS | G16: EMPRESA OFERENTE PROCESO 2025 | M16: 1592658104 | N16: 2137614271 | O16: 466203606 | P16: 634766121 | Q16: 1502848150 | R16: 1849837284 | S16: 24525692 | T16: =M16/O16 -> 3.4162286 | U16: =P16/N16 -> 0.29695073 | V16: =R16/S16 -> 75.424469 | W16: =R16/Q16 -> 1.2308877 | X16: =R16/N16 -> 0.86537469
A17: 105 | B17: Plenas-Individuales | C17: Estado de situación financiera, corriente/no corriente | D17: 800029447 | E17: 2024-12-31 | F17: GE ENERGY COLOMBIA S.A. | G17: 900098586-1 | H17: 01. SOCIEDAD ANÓNIMA | I17: CALLE 100 # 19-54 Oficina 303 | J17: BOGOTA D.C. | K17: BOGOTA D.C. | L17: Periodo Actual | M17: 74455241 | N17: 76661386 | O17: 61306635 | P17: 111494801 | Q17: -34833415 | R17: -19380706 | S17: 2920169 | T17: =M17/O17 -> 1.2144728 | U17: =P17/N17 -> 1.4543802 | V17: =R17/S17 -> -6.636844 | W17: =R17/Q17 -> 0.5563826 | X17: =R17/N17 -> -0.25280923
A18: 155 | B18: Plenas-Individuales | C18: Estado de situación financiera, corriente/no corriente | D18: 800051319 | E18: 2024-12-31 | F18: ENERGIA Y POTENCIA S.A.S | G18: G4659 - Comercio al por mayor de otros tipos de maquinaria y equipo n.c.p. | H18: 08. SOCIEDAD POR ACCIONES SIMPLIFICADA SAS | I18: CR 45A NO 66A 100 | J18: ANTIOQUIA | K18: ITAGUI-ANTIOQUIA | L18: Periodo Actual | M18: 38103064 | N18: 57894848 | O18: 11608524 | P18: 23290496 | Q18: 34604352 | R18: 336028 | S18: 1153434 | T18: =M18/O18 -> 3.2823349 | U18: =P18/N18 -> 0.40228961 | V18: =R18/S18 -> 0.29132833 | W18: =R18/Q18 -> 0.0097105705 | X18: =R18/N18 -> 0.0058041089
A19: 173 | B19: Plenas-Individuales | C19: Estado de situación financiera, corriente/no corriente | D19: 800061357 | E19: 2024-12-31 | F19: IMPLANTES Y SISTEMAS ORTOPEDICOS SA | G19: G4659 - Comercio al por mayor de otros tipos de maquinaria y equipo n.c.p. | H19: 01. SOCIEDAD ANÓNIMA | I19: AV Calle 116 70D 53 | J19: BOGOTA D.C. | K19: BOGOTA D.C. | L19: Periodo Actual | M19: 77593348 | N19: 99393091 | O19: 27595938 | P19: 31289839 | Q19: 68103252 | R19: -888406 | T19: =M19/O19 -> 2.811767 | U19: =P19/N19 -> 0.31480899 | W19: =R19/Q19 -> -0.013044986 | X19: =R19/N19 -> -0.0089383074
A20: 201 | B20: Plenas-Individuales | C20: Estado de situación financiera, corriente/no corriente | D20: 800077635 | E20: 2024-12-31 | F20: LM INSTRUMENTS SA | G20: G4659 - Comercio al por mayor de otros tipos de maquinaria y equipo n.c.p. | H20: 01. SOCIEDAD ANÓNIMA | I20: CRA 68D 25B 86 OF 518 | J20: BOGOTA D.C. | K20: BOGOTA D.C. | L20: Periodo Actual | M20: 68188942 | N20: 80270712 | O20: 25821103 | P20: 26327384 | Q20: 53943328 | R20: 15061965 | T20: =M20/O20 -> 2.6408222 | U20: =P20/N20 -> 0.32798244 | W20: =R20/Q20 -> 0.27921831 | X20: =R20/N20 -> 0.18763961
A21: 269 | B21: Plenas-Individuales | C21: Estado de situación financiera, corriente/no corriente | D21: 800105706 | E21: 2024-12-31 | F21: UPSISTEMAS SAS | G21: G4659 - Comercio al por mayor de otros tipos de maquinaria y equipo n.c.p. | H21: 08. SOCIEDAD POR ACCIONES SIMPLIFICADA SAS | I21: AV CL24 No 95 12 BDG 53 | J21: BOGOTA D.C. | K21: BOGOTA D.C. | L21: Periodo Actual | M21: 90143741 | N21: 100373295 | O21: 64234958 | P21: 78295373 | Q21: 22077922 | R21: 17080262 | T21: =M21/O21 -> 1.403344 | U21: =P21/N21 -> 0.78004187 | W21: =R21/Q21 -> 0.7736354 | X21: =R21/N21 -> 0.17016739
A22: 361 | B22: Plenas-Individuales | C22: Estado de situación financiera, corriente/no corriente | D22: 800139348 | E22: 2024-12-31 | F22: .KRONES ANDINA SAS | G22: C3312 - Mantenimiento y reparación especializado de maquinaria y equipo | H22: 08. SOCIEDAD POR ACCIONES SIMPLIFICADA SAS | I22: AV CL 80 69 70 LC 30 | J22: BOGOTA D.C. | K22: BOGOTA D.C. | L22: Periodo Actual | M22: 54690613 | N22: 58555123 | O22: 25720664 | P22: 25811563 | Q22: 32743560 | R22: 18225824 | S22: 1766641 | T22: =M22/O22 -> 2.1263297 | U22: =P22/N22 -> 0.44080794 | V22: =R22/S22 -> 10.316654 | W22: =R22/Q22 -> 0.55662316 | X22: =R22/N22 -> 0.31125926
A23: 511 | B23: Plenas-Individuales | C23: Estado de situación financiera, corriente/no corriente | D23: 800200493 | E23: 2024-12-31 | F23: WARTSILA COLOMBIA S.A. | G23: C3312 - Mantenimiento y reparación especializado de maquinaria y equipo | H23: 01. SOCIEDAD ANÓNIMA | I23: Carrera 7 71 21 Oficina 407-2Torre B | J23: BOGOTA D.C. | K23: BOGOTA D.C. | L23: Periodo Actual | M23: 25563848 | N23: 31259961 | O23: 11659552 | P23: 19012984 | Q23: 12246977 | R23: 2971082 | T23: =M23/O23 -> 2.192524 | U23: =P23/N23 -> 0.60822162 | W23: =R23/Q23 -> 0.24259717 | X23: =R23/N23 -> 0.095044328
A24: 663 | B24: Plenas-Individuales | C24: Estado de situación financiera, corriente/no corriente | D24: 800249678 | E24: 2024-12-31 | F24: JUNGHEINRICH COLOMBIA SAS | G24: G4659 - Comercio al por mayor de otros tipos de maquinaria y equipo n.c.p. | H24: 08. SOCIEDAD POR ACCIONES SIMPLIFICADA SAS | I24: CLL 2 18 93 VIA MOSQUERA PARQUE IND SAN JORGE BG 57 58 | J24: CUNDINAMARCA | K24: MOSQUERA-CUNDINAMARCA | L24: Periodo Actual | M24: 43894593 | N24: 105105108 | O24: 38764010 | P24: 85283740 | Q24: 19821368 | R24: 15361211 | T24: =M24/O24 -> 1.1323543 | U24: =P24/N24 -> 0.81141385 | W24: =R24/Q24 -> 0.77498238 | X24: =R24/N24 -> 0.14615095
A25: 723 | B25: Plenas-Individuales | C25: Estado de situación financiera, corriente/no corriente | D25: 802010521 | E25: 2024-12-31 | F25: ARNEG ANDINA LTDA | G25: G4659 - Comercio al por mayor de otros tipos de maquinaria y equipo n.c.p. | H25: 03. SOCIEDAD LIMITADA | I25: CL 30 11 10 | J25: ATLANTICO | K25: SOLEDAD-ATLANTICO | L25: Periodo Actual | M25: 12568655 | N25: 24131611 | O25: 9287398 | P25: 15524451 | Q25: 8607160 | R25: 683231 | S25: 1947844 | T25: =M25/O25 -> 1.3533021 | U25: =P25/N25 -> 0.64332427 | V25: =R25/S25 -> 0.35076269 | W25: =R25/Q25 -> 0.079379377 | X25: =R25/N25 -> 0.028312697
A26: 919 | B26: Plenas-Individuales | C26: Estado de situación financiera, corriente/no corriente | D26: 811001646 | E26: 2024-12-31 | F26: Nordson Andina Ltda | G26: G4659 - Comercio al por mayor de otros tipos de maquinaria y equipo n.c.p. | H26: 03. SOCIEDAD LIMITADA | I26: CRA 50 Nro. 79Sur-101 BD 38 | J26: ANTIOQUIA | K26: LA-ESTRELLA-ANTIOQUIA | L26: Periodo Actual | M26: 11899481 | N26: 13434180 | O26: 2242987 | P26: 2974660 | Q26: 10459520 | R26: 5889619 | S26: 2582603 | T26: =M26/O26 -> 5.3051939 | U26: =P26/N26 -> 0.22142475 | V26: =R26/S26 -> 2.2804972 | W26: =R26/Q26 -> 0.56308693 | X26: =R26/N26 -> 0.43840554
A27: 979 | B27: Plenas-Individuales | C27: Estado de situación financiera, corriente/no corriente | D27: 811021765 | E27: 2024-12-31 | F27: ST JUDE MEDICAL COLOMBIA LTDA | G27: G4659 - Comercio al por mayor de otros tipos de maquinaria y equipo n.c.p. | H27: 03. SOCIEDAD LIMITADA | I27: Cra 25A 1 31 int 1801 Ed parque empresarial | J27: ANTIOQUIA | K27: MEDELLIN-ANTIOQUIA | L27: Periodo Actual | M27: 122981128 | N27: 144497245 | O27: 57836155 | P27: 59756224 | Q27: 84741021 | R27: 6854248 | S27: 975595 | T27: =M27/O27 -> 2.1263711 | U27: =P27/N27 -> 0.41354577 | V27: =R27/S27 -> 7.0257105 | W27: =R27/Q27 -> 0.080884652 | X27: =R27/N27 -> 0.047435147
A28: 1199 | B28: Plenas-Individuales | C28: Estado de situación financiera, corriente/no corriente | D28: 830002560 | E28: 2024-12-31 | F28: FMC TECHNOLOGIES INC | G28: G4659 - Comercio al por mayor de otros tipos de maquinaria y equipo n.c.p. | H28: 02. SUCURSAL EXTRANJERA | I28: CR 7 114 33 OF 703 ED SCOTIABANK PH | J28: BOGOTA D.C. | K28: BOGOTA D.C. | L28: Periodo Actual | M28: 43511138 | N28: 54746225 | O28: 8699204 | P28: 11817999 | Q28: 42928226 | R28: 8964141 | S28: 1486590 | T28: =M28/O28 -> 5.0017379 | U28: =P28/N28 -> 0.21586875 | V28: =R28/S28 -> 6.0300022 | W28: =R28/Q28 -> 0.20881694 | X28: =R28/N28 -> 0.16373989
A29: 1313 | B29: Plenas-Individuales | C29: Estado de situación financiera, corriente/no corriente | D29: 830025149 | E29: 2024-12-31 | F29: MEDTRONIC COLOMBIA S.A | G29: G4659 - Comercio al por mayor de otros tipos de maquinaria y equipo n.c.p. | H29: 01. SOCIEDAD ANÓNIMA | I29: AVENIDA CALLE 116 NO. 7 - 15 PISO 11 OF 1101 | J29: BOGOTA D.C. | K29: BOGOTA D.C. | L29: Periodo Actual | M29: 558144231 | N29: 618935642 | O29: 199026896 | P29: 204574632 | Q29: 414361010 | R29: 20957514 | T29: =M29/O29 -> 2.8043659 | U29: =P29/N29 -> 0.3305265 | W29: =R29/Q29 -> 0.05057791 | X29: =R29/N29 -> 0.033860571
A30: 1349 | B30: Plenas-Individuales | C30: Estado de situación financiera, corriente/no corriente | D30: 830036006 | E30: 2024-12-31 | F30: MAYEKAWA COLOMBIA SAS | G30: G4659 - Comercio al por mayor de otros tipos de maquinaria y equipo n.c.p. | H30: 08. SOCIEDAD POR ACCIONES SIMPLIFICADA SAS | I30: TV 93 53 48 INTERIOR 37 PARQUE INDUSTRIAL EL DORADO | J30: BOGOTA D.C. | K30: BOGOTA D.C. | L30: Periodo Actual | M30: 88995293 | N30: 99737366 | O30: 39965660 | P30: 44126137 | Q30: 55611229 | R30: 14788346 | S30: 7776469 | T30: =M30/O30 -> 2.226794 | U30: =P30/N30 -> 0.44242332 | V30: =R30/S30 -> 1.9016788 | W30: =R30/Q30 -> 0.26592374 | X30: =R30/N30 -> 0.14827287
A31: 1391 | B31: Plenas-Individuales | C31: Estado de situación financiera, corriente/no corriente | D31: 830041688 | E31: 2024-12-31 | F31: COMMSCOPE CONNECTIVITY COLOMBIA SAS | G31: G4659 - Comercio al por mayor de otros tipos de maquinaria y equipo n.c.p. | H31: 08. SOCIEDAD POR ACCIONES SIMPLIFICADA SAS | I31: AK 9 113 52 OF 1606 ED TORRES UNIDAS DOS | J31: BOGOTA D.C. | K31: BOGOTA D.C. | L31: Periodo Actual | M31: 12786948 | N31: 14662001 | O31: 14734084 | P31: 15296867 | Q31: -634866 | R31: 2346382 | S31: 1512741 | T31: =M31/O31 -> 0.86784818 | U31: =P31/N31 -> 1.0433001 | V31: =R31/S31 -> 1.5510798 | W31: =R31/Q31 -> -3.6958697 | X31: =R31/N31 -> 0.1600315
A32: 1413 | B32: Plenas-Individuales | C32: Estado de situación financiera, corriente/no corriente | D32: 830046068 | E32: 2024-12-31 | F32: GE ENERGIAS RENOVAVEIS LTDA SUCURSAL COLOMBIA | G32: C3312 - Mantenimiento y reparación especializado de maquinaria y equipo | H32: 02. SUCURSAL EXTRANJERA | I32: CALLE 100 NO 19-54 OF 303 | J32: BOGOTA D.C. | K32: BOGOTA D.C. | L32: Periodo Actual | M32: 30582133 | N32: 58709908 | O32: 28346979 | P32: 33720243 | Q32: 24989665 | R32: 4394446 | T32: =M32/O32 -> 1.0788498 | U32: =P32/N32 -> 0.57435353 | W32: =R32/Q32 -> 0.17585054 | X32: =R32/N32 -> 0.07485016
A33: 1487 | B33: Plenas-Individuales | C33: Estado de situación financiera, corriente/no corriente | D33: 830060331 | E33: 2024-12-31 | F33: Komatsu Colombia SAS | G33: G4659 - Comercio al por mayor de otros tipos de maquinaria y equipo n.c.p. | H33: 08. SOCIEDAD POR ACCIONES SIMPLIFICADA SAS | I33: Autopista Norte KM 21 Via chia | J33: CUNDINAMARCA | K33: CHIA-CUNDINAMARCA | L33: Periodo Actual | M33: 383180781 | N33: 524928584 | O33: 347268080 | P33: 385140335 | Q33: 139788249 | R33: 47932548 | S33: 1211701 | T33: =M33/O33 -> 1.1034149 | U33: =P33/N33 -> 0.73370044 | V33: =R33/S33 -> 39.558066 | W33: =R33/Q33 -> 0.34289397 | X33: =R33/N33 -> 0.091312513
A34: 1515 | B34: Plenas-Individuales | C34: Estado de situación financiera, corriente/no corriente | D34: 830067414 | E34: 2024-12-31 | F34: KAESER COMPRESORES DE COLOMBIA SAS | G34: G4659 - Comercio al por mayor de otros tipos de maquinaria y equipo n.c.p. | H34: 08. SOCIEDAD POR ACCIONES SIMPLIFICADA SAS | I34: AUTOPISTA MEDELLIN KM 6.3 COSTADO SUR VDA LA PUNTA | J34: CUNDINAMARCA | K34: TENJO-CUNDINAMARCA | L34: Periodo Actual | M34: 92848627 | N34: 175586677 | O34: 38281997 | P34: 80993785 | Q34: 94592892 | R34: 26418945 | S34: 3438197 | T34: =M34/O34 -> 2.4253862 | U34: =P34/N34 -> 0.46127523 | V34: =R34/S34 -> 7.6839532 | W34: =R34/Q34 -> 0.27929102 | X34: =R34/N34 -> 0.15046099
A35: 1523 | B35: Plenas-Individuales | C35: Estado de situación financiera, corriente/no corriente | D35: 830070192 | E35: 2024-12-31 | F35: UCIPHARMA S.A. | G35: G4659 - Comercio al por mayor de otros tipos de maquinaria y equipo n.c.p. | H35: 01. SOCIEDAD ANÓNIMA | I35: CARRERA 7 No 99 - 53 TORRE 2 PISO 19 - 20 | J35: BOGOTA D.C. | K35: BOGOTA D.C. | L35: Periodo Actual | M35: 32538252 | N35: 47357948 | O35: 24199426 | P35: 24290562 | Q35: 23067386 | R35: 12492803 | S35: 717889 | T35: =M35/O35 -> 1.3445878 | U35: =P35/N35 -> 0.51291416 | V35: =R35/S35 -> 17.402137 | W35: =R35/Q35 -> 0.54157862 | X35: =R35/N35 -> 0.26379528
A36: 1585 | B36: Plenas-Individuales | C36: Estado de situación financiera, corriente/no corriente | D36: 830083714 | E36: 2024-12-31 | F36: NOVOMATIC GAMING COLOMBIA SAS | G36: G4659 - Comercio al por mayor de otros tipos de maquinaria y equipo n.c.p. | H36: 08. SOCIEDAD POR ACCIONES SIMPLIFICADA SAS | I36: AUTONORTE 122 N 45 | J36: BOGOTA D.C. | K36: BOGOTA D.C. | L36: Periodo Actual | M36: 104316919 | N36: 113066931 | O36: 91312808 | P36: 95452129 | Q36: 17614802 | R36: -15524429 | T36: =M36/O36 -> 1.1424128 | U36: =P36/N36 -> 0.84420907 | W36: =R36/Q36 -> -0.88132861 | X36: =R36/N36 -> -0.137303
A37: 1623 | B37: Plenas-Individuales | C37: Estado de situación financiera, corriente/no corriente | D37: 830091939 | E37: 2024-12-31 | F37: NOVAFRIOS SAS | G37: C3319 - Mantenimiento y reparación de otros tipos de equipos y sus componentes n.c.p. | H37: 08. SOCIEDAD POR ACCIONES SIMPLIFICADA SAS | I37: CRA 63 14 75 | J37: BOGOTA D.C. | K37: BOGOTA D.C. | L37: Periodo Actual | M37: 25363233 | N37: 36628125 | O37: 11989761 | P37: 13771430 | Q37: 22856695 | R37: 9512016 | T37: =M37/O37 -> 2.1154077 | U37: =P37/N37 -> 0.37597966 | W37: =R37/Q37 -> 0.41615885 | X37: =R37/N37 -> 0.25969159
A38: 1625 | B38: Plenas-Individuales | C38: Estado de situación financiera, corriente/no corriente | D38: 830092234 | E38: 2024-12-31 | F38: ANDRITZ HYDRO LTDA | G38: G4659 - Comercio al por mayor de otros tipos de maquinaria y equipo n.c.p. | H38: 03. SOCIEDAD LIMITADA | I38: CR 67 100 20OF 801 | J38: BOGOTA D.C. | K38: BOGOTA D.C. | L38: Periodo Actual | M38: 25290724 | N38: 27775616 | O38: 20039401 | P38: 21604522 | Q38: 6171094 | R38: 818507 | S38: 788459 | T38: =M38/O38 -> 1.2620499 | U38: =P38/N38 -> 0.77782333 | V38: =R38/S38 -> 1.0381098 | W38: =R38/Q38 -> 0.13263564 | X38: =R38/N38 -> 0.029468545
A39: 1631 | B39: Plenas-Individuales | C39: Estado de situación financiera, corriente/no corriente | D39: 830093986 | E39: 2024-12-31 | F39: JOHN CRANE COLOMBIA SA | G39: G4659 - Comercio al por mayor de otros tipos de maquinaria y equipo n.c.p. | H39: 01. SOCIEDAD ANÓNIMA | I39: CL 46 A 82 54 INT 14 | J39: BOGOTA D.C. | K39: BOGOTA D.C. | L39: Periodo Actual | M39: 27991460 | N39: 31594974 | O39: 14601221 | P39: 15197289 | Q39: 16397685 | R39: 24031679 | S39: 526272 | T39: =M39/O39 -> 1.917063 | U39: =P39/N39 -> 0.48100337 | V39: =R39/S39 -> 45.663989 | W39: =R39/Q39 -> 1.4655532 | X39: =R39/N39 -> 0.76061715
A40: 1715 | B40: Plenas-Individuales | C40: Estado de situación financiera, corriente/no corriente | D40: 830117139 | E40: 2024-12-31 | F40: NIPRO MEDICAL CORPORATION | G40: G4659 - Comercio al por mayor de otros tipos de maquinaria y equipo n.c.p. | H40: 02. SUCURSAL EXTRANJERA | I40: AV CLL 26 N 59-41 OF 710 | J40: BOGOTA D.C. | K40: BOGOTA D.C. | L40: Periodo Actual | M40: 49949968 | N40: 67026624 | O40: 7048088 | P40: 7934618 | Q40: 59092006 | R40: 2103961 | T40: =M40/O40 -> 7.0870239 | U40: =P40/N40 -> 0.11838009 | W40: =R40/Q40 -> 0.035604833 | X40: =R40/N40 -> 0.031389929
A41: 1753 | B41: Plenas-Individuales | C41: Estado de situación financiera, corriente/no corriente | D41: 830128434 | E41: 2024-12-31 | F41: WEG COLOMBIA S.A.S. | G41: G4659 - Comercio al por mayor de otros tipos de maquinaria y equipo n.c.p. | H41: 08. SOCIEDAD POR ACCIONES SIMPLIFICADA SAS | I41: KM 2 VIA SIBERIA - COTA | J41: CUNDINAMARCA | K41: COTA-CUNDINAMARCA | L41: Periodo Actual | M41: 346936867 | N41: 452705626 | O41: 274129003 | P41: 274214684 | Q41: 178490942 | R41: 48876966 | S41: 69777122 | T41: =M41/O41 -> 1.2655971 | U41: =P41/N41 -> 0.60572405 | V41: =R41/S41 -> 0.70047266 | W41: =R41/Q41 -> 0.27383443 | X41: =R41/N41 -> 0.10796633
A42: 1833 | B42: Plenas-Individuales | C42: Estado de situación financiera, corriente/no corriente | D42: 830511110 | E42: 2024-12-31 | F42: SKF Latin Trade SAS | G42: G4659 - Comercio al por mayor de otros tipos de maquinaria y equipo n.c.p. | H42: 08. SOCIEDAD POR ACCIONES SIMPLIFICADA SAS | I42: Calle 100 19 54 Ofc 501 | J42: BOGOTA D.C. | K42: BOGOTA D.C. | L42: Periodo Actual | M42: 189533924 | N42: 201177579 | O42: 121271990 | P42: 130237214 | Q42: 70940365 | R42: 25132000 | T42: =M42/O42 -> 1.5628829 | U42: =P42/N42 -> 0.6473744 | W42: =R42/Q42 -> 0.35426939 | X42: =R42/N42 -> 0.12492446
A43: 1909 | B43: Plenas-Individuales | C43: Estado de situación financiera, corriente/no corriente | D43: 860001911 | E43: 2024-12-31 | F43: KAIKA SAS | G43: G4659 - Comercio al por mayor de otros tipos de maquinaria y equipo n.c.p. | H43: 08. SOCIEDAD POR ACCIONES SIMPLIFICADA SAS | I43: KR 7 69 53 | J43: BOGOTA D.C. | K43: BOGOTA D.C. | L43: Periodo Actual | M43: 31127959 | N43: 34737221 | O43: 17701889 | P43: 17978713 | Q43: 16758508 | R43: 6054136 | S43: 1083461 | T43: =M43/O43 -> 1.7584541 | U43: =P43/N43 -> 0.51756337 | V43: =R43/S43 -> 5.5877747 | W43: =R43/Q43 -> 0.36125746 | X43: =R43/N43 -> 0.17428383
...

Sheet Liq
I3: Fuente Datos/Indicador | J3: Tipo empresa | K3: Tamaño Muestra | L3: Formula | T3: Indicadores Financieros | W3: Indicadores Organizacionales
T4: Indice de Liquidez | U4: Indice de Endeudamiento | V4: Razón de Cobertura de Intereses | W4: Rentabilidad del Patrimonio | X4: Rentabilidad del Activo
I5: Super Sociedades | J5: Plenas Ind. Plenas Sep. Pymes Ind. Pymes Sep | K5: Total empresas (504) + 4 | L5: Desviación Estandar | T5: =STDEVA(T12:T519) -> 51.424878 | U5: =STDEVA(U12:U519) -> 0.44990255 | V5: =STDEVA(V12:V519) -> 477.05843 | W5: =STDEVA(W12:W519) -> 20.77976 | X5: =STDEVA(X12:X519) -> 0.12806426
L6: Promedio | T6: =AVERAGE(T12:T519) -> 16.764096 | U6: =AVERAGE(U12:U519) -> 0.53227756 | V6: =AVERAGE(V12:V519) -> 51.930244 | W6: =AVERAGE(W12:W519) -> 1.0817845 | X6: =AVERAGE(X12:X519) -> 0.095184487
L7: Mediana | T7: =MEDIAN(T12:T519) -> 3.3593541 | U7: =MEDIAN(U12:U519) -> 0.51327552 | V7: =MEDIAN(V12:V519) -> 2.7602121 | W7: =MEDIAN(W12:W519) -> 0.18554601 | X7: =MEDIAN(X12:X519) -> 0.086265278
L8: Menor Valor | T8: =MIN(T12:T519) -> 0.043373314 | U8: =MIN(U12:U519) -> 0.0013063695 | V8: =MIN(V12:V519) -> -310.41869 | W8: =MIN(W12:W519) -> -55.700284 | X8: =MIN(X12:X519) -> -0.48545942
L9: Mayor Valor | T9: =MAX(T12:T519) -> 611.76962 | U9: =MAX(U12:U519) -> 8.3079207 | V9: =MAX(V12:V519) -> 6339.9449 | W9: =MAX(W12:W519) -> 464.2909 | X9: =MAX(X12:X519) -> 0.86537469
T10: 2.02 | U10: 0.56 | V10: 1.91 | W10: 0.12 | X10: 0.06
B11: Punto de entrada | C11: Formulario | D11: NIT | E11: Fecha de Corte | F11: Razón social de la sociedad | G11: Clasificación Industrial Internacional Uniforme Versión 4 A.C (CIIU) | H11: Tipo societario | I11: Dirección de notificación judicial registrada en Cámara de Comercio | J11: Departamento de la dirección del domicilio | K11: Ciudad de la dirección del domicilio | L11: Periodo | M11: Activos corrientes totales (CurrentAssets) | N11: Total de activos (Assets) | O11: Pasivos corrientes totales (CurrentLiabilities) | P11: Total pasivos (Liabilities) | Q11: Patrimonio total (Equity) | R11: Ganancia (pérdida) por actividades de operación (ProfitLossFromOperatingActivities) | S11: Costos financieros (FinanceCosts) | T11: Indice de Liquidez | U11: Indice de Endeudamiento | V11: Razón de Cobertura de Intereses | W11: Rentabilidad del Patrimonio | X11: Rentabilidad del Activo
A12: 16233 | B12: Pymes-Individuales | C12: Estado de situación financiera, corriente/no corriente | D12: 860351760 | E12: 2024-12-31 | F12: HOSPIMEDICS S.A.S EN LIQUIDACION | G12: G4659 - Comercio al por mayor de otros tipos de maquinaria y equipo n.c.p. | H12: 08. SOCIEDAD POR ACCIONES SIMPLIFICADA SAS | I12: CARRERA 14 N 75-77 OFICINA 604 | J12: BOGOTA D.C. | K12: BOGOTA D.C. | L12: Periodo Actual | M12: 188100 | N12: 188100 | O12: 4336768 | P12: 80283 | Q12: 107817 | R12: 146686 | T12: =M12/O12 -> 0.043373314 | U12: =P12/N12 -> 0.42681021 | W12: =R12/Q12 -> 1.360509 | X12: =R12/N12 -> 0.77982988
A13: 38305 | B13: Pymes-Individuales | C13: Estado de situación financiera, corriente/no corriente | D13: 900809570 | E13: 2024-12-31 | F13: Parque industrial y zona franca induenergy (induenergy sas) | G13: G4659 - Comercio al por mayor de otros tipos de maquinaria y equipo n.c.p. | H13: 08. SOCIEDAD POR ACCIONES SIMPLIFICADA SAS | I13: Centro sector la matuna cll 33 820 edificio caja agraria of 404 | J13: BOLIVAR | K13: CARTAGENA-BOLIVAR | L13: Periodo Actual | M13: 208342 | N13: 26756550 | O13: 3170245 | P13: 1795727 | Q13: 24960823 | R13: -28272 | T13: =M13/O13 -> 0.065717949 | U13: =P13/N13 -> 0.067113548 | W13: =R13/Q13 -> -0.001132655 | X13: =R13/N13 -> -0.0010566385
A14: 9501 | B14: Pymes-Individuales | C14: Estado de situación financiera, corriente/no corriente | D14: 829000170 | E14: 2024-12-31 | F14: TECS S.A.S. EN REORGANIZACION | G14: C3312 - Mantenimiento y reparación especializado de maquinaria y equipo | H14: 08. SOCIEDAD POR ACCIONES SIMPLIFICADA SAS | I14: CR 19 NRO. 51 34 | J14: SANTANDER | K14: BARRANCABERMEJA-SANTANDER | L14: Periodo Actual | M14: 38757 | N14: 3777299 | O14: 516186 | P14: 838863 | Q14: 2938436 | R14: 216 | T14: =M14/O14 -> 0.0750834 | U14: =P14/N14 -> 0.22208012 | W14: =R14/Q14 -> 7.3508492e-05 | X14: =R14/N14 -> 5.7183718e-05
A15: 29375 | B15: Pymes-Individuales | C15: Estado de situación financiera, corriente/no corriente | D15: 900368459 | E15: 2024-12-31 | F15: MAKELO INVERSIONES SAS | G15: C3312 - Mantenimiento y reparación especializado de maquinaria y equipo | H15: 08. SOCIEDAD POR ACCIONES SIMPLIFICADA SAS | I15: ANILLO VIAL 23-41 VEREDA RIO FRIO | J15: SANTANDER | K15: FLORIDABLANCA-SANTANDER | L15: Periodo Actual | M15: 1794545 | N15: 2637572 | O15: 20892440 | P15: 4902240 | Q15: -2264668 | R15: -206574 | S15: 616766 | T15: =M15/O15 -> 0.085894467 | U15: =P15/N15 -> 1.8586185 | V15: =R15/S15 -> -0.33493091 | W15: =R15/Q15 -> 0.091216019 | X15: =R15/N15 -> -0.078319758
A16: 23099 | B16: Pymes-Individuales | C16: Estado de situación financiera, corriente/no corriente | D16: 900117307 | E16: 2024-12-31 | F16: PT ENGINEERING SUPLIES SAS | G16: G4659 - Comercio al por mayor de otros tipos de maquinaria y equipo n.c.p. | H16: 08. SOCIEDAD POR ACCIONES SIMPLIFICADA SAS | I16: CR 96 BIS B 24 C 32 | J16: BOGOTA D.C. | K16: BOGOTA D.C. | L16: Periodo Actual | M16: 2085820 | N16: 4407273 | O16: 20892440 | P16: 2365055 | Q16: 2042218 | R16: 305690 | S16: 11053 | T16: =M16/O16 -> 0.099836113 | U16: =P16/N16 -> 0.53662548 | V16: =R16/S16 -> 27.656745 | W16: =R16/Q16 -> 0.14968529 | X16: =R16/N16 -> 0.06936035
A17: 16605 | B17: Pymes-Individuales | C17: Estado de situación financiera, corriente/no corriente | D17: 860507111 | E17: 2024-12-31 | F17: iINTER SERVICIOS ELECTRICOS ISE SAS | G17: C3312 - Mantenimiento y reparación especializado de maquinaria y equipo | H17: 05. SOCIEDAD EN COMANDITA POR ACCIONES | I17: VIA SIBERIA COTA KM 2.7 PARCELA 20 LOTE 6 | J17: CUNDINAMARCA | K17: COTA-CUNDINAMARCA | L17: Periodo Actual | M17: 2201485 | N17: 5009495 | O17: 20892440 | P17: 2177963 | Q17: 2831532 | R17: 481657 | T17: =M17/O17 -> 0.10537233 | U17: =P17/N17 -> 0.43476698 | W17: =R17/Q17 -> 0.17010473 | X17: =R17/N17 -> 0.096148813
A18: 12897 | B18: Pymes-Individuales | C18: Estado de situación financiera, corriente/no corriente | D18: 830119211 | E18: 2024-12-31 | F18: VEYALTHI GROUP S.A.S VEYALTHI GROUP S.A.S | G18: G4659 - Comercio al por mayor de otros tipos de maquinaria y equipo n.c.p. | H18: 08. SOCIEDAD POR ACCIONES SIMPLIFICADA SAS | I18: CL 51 No. 72A-28 CL 51 No. 72A-28 | J18: BOGOTA D.C. | K18: BOGOTA D.C. | L18: Periodo Actual | M18: 2265547 | N18: 4158343 | O18: 20892440 | P18: 361790 | Q18: 3796553 | R18: 193204 | T18: =M18/O18 -> 0.1084386 | U18: =P18/N18 -> 0.087003405 | W18: =R18/Q18 -> 0.05088932 | X18: =R18/N18 -> 0.046461776
A19: 2095 | B19: Plenas-Separados | C19: Estado de situación financiera, corriente/no corriente | D19: 900818280 | E19: 2024-12-31 | F19: S & N HOLDINGS S A S | G19: G4659 - Comercio al por mayor de otros tipos de maquinaria y equipo n.c.p. | H19: 08. SOCIEDAD POR ACCIONES SIMPLIFICADA SAS | I19: CALLE 100 NO 7-33 TORRE 1 PISO 3 | J19: BOGOTA D.C. | K19: BOGOTA D.C. | L19: Periodo Actual | M19: 28330 | N19: 141303649 | O19: 258112 | P19: 666535 | Q19: 140637114 | R19: 4723793 | T19: =M19/O19 -> 0.10975855 | U19: =P19/N19 -> 0.0047170403 | W19: =R19/Q19 -> 0.033588523 | X19: =R19/N19 -> 0.033430085
A20: 36959 | B20: Pymes-Individuales | C20: Estado de situación financiera, corriente/no corriente | D20: 900688449 | E20: 2024-12-31 | F20: AIRE Y REFRIGERACION DE COLOMBIA SAS | G20: C3312 - Mantenimiento y reparación especializado de maquinaria y equipo | H20: 08. SOCIEDAD POR ACCIONES SIMPLIFICADA SAS | I20: CL 46 21 27 BR LA CONCORDIA | J20: SANTANDER | K20: BUCARAMANGA-SANTANDER | L20: Periodo Actual | M20: 2310259 | N20: 3535175 | O20: 20892440 | P20: 827207 | Q20: 2707968 | R20: 713255 | S20: 61496 | T20: =M20/O20 -> 0.11057871 | U20: =P20/N20 -> 0.23399323 | V20: =R20/S20 -> 11.598397 | W20: =R20/Q20 -> 0.26339122 | X20: =R20/N20 -> 0.20175946
A21: 9941 | B21: Pymes-Individuales | C21: Estado de situación financiera, corriente/no corriente | D21: 830015673 | E21: 2024-12-31 | F21: DOTACIONES Y EQUIPOS INDUSTRIALES DE COLOMBIA DOTAEQUIP LTDA | G21: G4659 - Comercio al por mayor de otros tipos de maquinaria y equipo n.c.p. | H21: 03. SOCIEDAD LIMITADA | I21: TV 35A 29B 52 SUR | J21: BOGOTA D.C. | K21: BOGOTA D.C. | L21: Periodo Actual | M21: 2714323 | N21: 2723641 | O21: 20892440 | P21: 669730 | Q21: 2053911 | R21: 218490 | T21: =M21/O21 -> 0.12991891 | U21: =P21/N21 -> 0.24589511 | W21: =R21/Q21 -> 0.10637754 | X21: =R21/N21 -> 0.080219823
A22: 20571 | B22: Pymes-Individuales | C22: Estado de situación financiera, corriente/no corriente | D22: 900007095 | E22: 2024-12-31 | F22: AQUAPLACE DESALINATION S.A.S. | G22: G4659 - Comercio al por mayor de otros tipos de maquinaria y equipo n.c.p. | H22: 08. SOCIEDAD POR ACCIONES SIMPLIFICADA SAS | I22: KRA 9 #4-76 SWAM GROUND | J22: SAN ANDRES Y PROVIDENCIA | K22: SAN-ANDRES-SAN ANDRES Y PROVIDENCIA | L22: Periodo Actual | M22: 2736354 | N22: 3614868 | O22: 20892440 | P22: 1906628 | Q22: 1708240 | R22: 358767 | S22: 133332 | T22: =M22/O22 -> 0.1309734 | U22: =P22/N22 -> 0.52744056 | V22: =R22/S22 -> 2.6907794 | W22: =R22/Q22 -> 0.21002143 | X22: =R22/N22 -> 0.099247607
A23: 26275 | B23: Pymes-Individuales | C23: Estado de situación financiera, corriente/no corriente | D23: 900246871 | E23: 2024-12-31 | F23: GRUPO LYSCO SAS | G23: G4659 - Comercio al por mayor de otros tipos de maquinaria y equipo n.c.p. | H23: 08. SOCIEDAD POR ACCIONES SIMPLIFICADA SAS | I23: Autopista Medellin Km 3.5 Costado Sur Terminal Terrestre De Carga Oikos Modulo 5 Bodega 8 | J23: CUNDINAMARCA | K23: COTA-CUNDINAMARCA | L23: Periodo Actual | M23: 3078199 | N23: 9870220 | O23: 20892440 | P23: 5605056 | Q23: 4265164 | R23: 1028117 | T23: =M23/O23 -> 0.14733554 | U23: =P23/N23 -> 0.56787549 | W23: =R23/Q23 -> 0.24104982 | X23: =R23/N23 -> 0.10416353
A24: 13939 | B24: Pymes-Individuales | C24: Estado de situación financiera, corriente/no corriente | D24: 830507646 | E24: 2024-12-31 | F24: SERVICIOS E IMPORTACIONES SAS | G24: C3312 - Mantenimiento y reparación especializado de maquinaria y equipo | H24: 08. SOCIEDAD POR ACCIONES SIMPLIFICADA SAS | I24: CL 44 42 188 | J24: VALLE | K24: PALMIRA-VALLE | L24: Periodo Actual | M24: 928736 | N24: 2823684 | O24: 4336768 | P24: 2799074 | Q24: 24610 | R24: -1370784 | T24: =M24/O24 -> 0.21415395 | U24: =P24/N24 -> 0.99128444 | W24: =R24/Q24 -> -55.700284 | X24: =R24/N24 -> -0.48545942
A25: 39403 | B25: Pymes-Individuales | C25: Estado de situación financiera, corriente/no corriente | D25: 900935511 | E25: 2024-12-31 | F25: PRECISUR SAS | G25: G4659 - Comercio al por mayor de otros tipos de maquinaria y equipo n.c.p. | H25: 08. SOCIEDAD POR ACCIONES SIMPLIFICADA SAS | I25: CRA 71 52 29 | J25: BOGOTA D.C. | K25: BOGOTA D.C. | L25: Periodo Actual | M25: 4807313 | N25: 4947452 | O25: 20892440 | P25: 3035911 | Q25: 1911541 | R25: 833013 | S25: 333479 | T25: =M25/O25 -> 0.23009821 | U25: =P25/N25 -> 0.61363122 | V25: =R25/S25 -> 2.4979474 | W25: =R25/Q25 -> 0.43578087 | X25: =R25/N25 -> 0.16837212
A26: 4015 | B26: Pymes-Individuales | C26: Estado de situación financiera, corriente/no corriente | D26: 800214805 | E26: 2024-12-31 | F26: INVERSIONES UCARO SAS | G26: G4659 - Comercio al por mayor de otros tipos de maquinaria y equipo n.c.p. | H26: 08. SOCIEDAD POR ACCIONES SIMPLIFICADA SAS | I26: AK 68 39 I 65 SUR AK 68 39 I 65 SUR | J26: BOGOTA D.C. | K26: BOGOTA D.C. | L26: Periodo Actual | M26: 722952 | N26: 4475014 | O26: 2124862 | P26: 2175862 | Q26: 2299152 | R26: 341546 | S26: 69996 | T26: =M26/O26 -> 0.3402348 | U26: =P26/N26 -> 0.48622462 | V26: =R26/S26 -> 4.8795074 | W26: =R26/Q26 -> 0.14855303 | X26: =R26/N26 -> 0.07632289
A27: 28599 | B27: Pymes-Individuales | C27: Estado de situación financiera, corriente/no corriente | D27: 900340930 | E27: 2024-12-31 | F27: BRUECKNER COLOMBIA SAS | G27: C3312 - Mantenimiento y reparación especializado de maquinaria y equipo | H27: 08. SOCIEDAD POR ACCIONES SIMPLIFICADA SAS | I27: Cr 106 No 15A-25 Bod 24 Mz 9 | J27: BOGOTA D.C. | K27: BOGOTA D.C. | L27: Periodo Actual | M27: 7597278 | N27: 8302107 | O27: 20892440 | P27: 4844981 | Q27: 3457126 | R27: 584400 | S27: 411908 | T27: =M27/O27 -> 0.36363766 | U27: =P27/N27 -> 0.5835845 | V27: =R27/S27 -> 1.4187634 | W27: =R27/Q27 -> 0.16904215 | X27: =R27/N27 -> 0.070391769
A28: 393 | B28: Plenas-Separados | C28: Estado de situación financiera, corriente/no corriente | D28: 805031746 | E28: 2024-12-31 | F28: Carval Internacional Limitada | G28: G4659 - Comercio al por mayor de otros tipos de maquinaria y equipo n.c.p. | H28: 03. SOCIEDAD LIMITADA | I28: Cra 1 Nro 58-41 | J28: VALLE | K28: CALI-VALLE | L28: Periodo Actual | M28: 5126 | N28: 20769009 | O28: 12754 | P28: 27132 | Q28: 20741877 | R28: -11609 | T28: =M28/O28 -> 0.40191313 | U28: =P28/N28 -> 0.0013063695 | W28: =R28/Q28 -> -0.00055968898 | X28: =R28/N28 -> -0.00055895782
A29: 12579 | B29: Pymes-Individuales | C29: Estado de situación financiera, corriente/no corriente | D29: 830108265 | E29: 2024-12-31 | F29: ABCONTROL INGENIERIA SAS | G29: G4659 - Comercio al por mayor de otros tipos de maquinaria y equipo n.c.p. | H29: 08. SOCIEDAD POR ACCIONES SIMPLIFICADA SAS | I29: CALLE 54 A 72 60 | J29: BOGOTA D.C. | K29: BOGOTA D.C. | L29: Periodo Actual | M29: 1756635 | N29: 5035898 | O29: 4336768 | P29: 3322293 | Q29: 1713605 | R29: -362210 | S29: 25317 | T29: =M29/O29 -> 0.40505625 | U29: =P29/N29 -> 0.65972206 | V29: =R29/S29 -> -14.306987 | W29: =R29/Q29 -> -0.2113731 | X29: =R29/N29 -> -0.071925603
A30: 11779 | B30: Pymes-Individuales | C30: Estado de situación financiera, corriente/no corriente | D30: 830080022 | E30: 2024-12-31 | F30: 830080022 | G30: G4659 - Comercio al por mayor de otros tipos de maquinaria y equipo n.c.p. | H30: 08. SOCIEDAD POR ACCIONES SIMPLIFICADA SAS | I30: CL 25 G 85 C 45 | J30: BOGOTA D.C. | K30: BOGOTA D.C. | L30: Periodo Actual | M30: 1467900 | N30: 3522800 | O30: 3466556 | P30: 2332837 | Q30: 1189963 | R30: 37456 | T30: =M30/O30 -> 0.42344621 | U30: =P30/N30 -> 0.66221103 | W30: =R30/Q30 -> 0.031476609 | X30: =R30/N30 -> 0.010632451
A31: 12985 | B31: Pymes-Individuales | C31: Estado de situación financiera, corriente/no corriente | D31: 830122576 | E31: 2024-12-31 | F31: METRICOM LIMITADA | G31: G4659 - Comercio al por mayor de otros tipos de maquinaria y equipo n.c.p. | H31: 03. SOCIEDAD LIMITADA | I31: CL 25 A 32 45 | J31: BOGOTA D.C. | K31: BOGOTA D.C. | L31: Periodo Actual | M31: 1615378 | N31: 2056677 | O31: 3466556 | P31: 544128 | Q31: 1512549 | R31: -791245 | S31: 82070 | T31: =M31/O31 -> 0.4659893 | U31: =P31/N31 -> 0.26456658 | V31: =R31/S31 -> -9.6410991 | W31: =R31/Q31 -> -0.52312024 | X31: =R31/N31 -> -0.38472011
A32: 27785 | B32: Pymes-Individuales | C32: Estado de situación financiera, corriente/no corriente | D32: 900314721 | E32: 2024-12-31 | F32: RENSER COLOMBIA SAS | G32: C3312 - Mantenimiento y reparación especializado de maquinaria y equipo | H32: 08. SOCIEDAD POR ACCIONES SIMPLIFICADA SAS | I32: CL 1 A 7A 69 CA 4 | J32: CUNDINAMARCA | K32: CHIA-CUNDINAMARCA | L32: Periodo Actual | M32: 821610 | N32: 864270 | O32: 1730981 | P32: 23630 | Q32: 840640 | R32: 18808 | T32: =M32/O32 -> 0.47464992 | U32: =P32/N32 -> 0.027340993 | W32: =R32/Q32 -> 0.02237343 | X32: =R32/N32 -> 0.021761718
A33: 29209 | B33: Pymes-Individuales | C33: Estado de situación financiera, corriente/no corriente | D33: 900362587 | E33: 2024-12-31 | F33: APS LIGHTING & SAFETY PRODUCTS DE COLOMBIA S.A.S | G33: G4659 - Comercio al por mayor de otros tipos de maquinaria y equipo n.c.p. | H33: 08. SOCIEDAD POR ACCIONES SIMPLIFICADA SAS | I33: CLL 70 SUR No 38 - 380 LOCAL 101 | J33: ANTIOQUIA | K33: SABANETA-ANTIOQUIA | L33: Periodo Actual | M33: 2178611 | N33: 2391829 | O33: 4336768 | P33: 1281264 | Q33: 1110565 | R33: 107556 | T33: =M33/O33 -> 0.50235821 | U33: =P33/N33 -> 0.53568378 | W33: =R33/Q33 -> 0.096848001 | X33: =R33/N33 -> 0.044968098
A34: 19641 | B34: Pymes-Individuales | C34: Estado de situación financiera, corriente/no corriente | D34: 890927986 | E34: 2024-12-31 | F34: LINEAS Y DISEÑOS S.A.S | G34: G4659 - Comercio al por mayor de otros tipos de maquinaria y equipo n.c.p. | H34: 08. SOCIEDAD POR ACCIONES SIMPLIFICADA SAS | I34: CRA 50 C 10 SUR 141 | J34: ANTIOQUIA | K34: MEDELLIN-ANTIOQUIA | L34: Periodo Actual | M34: 2347839 | N34: 2392061 | O34: 4336768 | P34: 430431 | Q34: 1961630 | R34: 60175 | T34: =M34/O34 -> 0.54137989 | U34: =P34/N34 -> 0.17994148 | W34: =R34/Q34 -> 0.030676019 | X34: =R34/N34 -> 0.025156131
A35: 28605 | B35: Pymes-Individuales | C35: Estado de situación financiera, corriente/no corriente | D35: 900341056 | E35: 2024-12-31 | F35: SOLUCIONES HYTORC COLOMBIA SAS | G35: G4659 - Comercio al por mayor de otros tipos de maquinaria y equipo n.c.p. | H35: 08. SOCIEDAD POR ACCIONES SIMPLIFICADA SAS | I35: Parque Industrial Ciem Oikos Occidente Bg G 106 Aut Bogota - Medellin | J35: CUNDINAMARCA | K35: COTA-CUNDINAMARCA | L35: Periodo Actual | M35: 1895819 | N35: 3402155 | O35: 3466556 | P35: 1784969 | Q35: 1617186 | R35: 1030973 | S35: 435809 | T35: =M35/O35 -> 0.54688832 | U35: =P35/N35 -> 0.52465834 | V35: =R35/S35 -> 2.3656533 | W35: =R35/Q35 -> 0.63751047 | X35: =R35/N35 -> 0.30303528
A36: 15375 | B36: Pymes-Individuales | C36: Estado de situación financiera, corriente/no corriente | D36: 860042811 | E36: 2024-12-31 | F36: DISAM SAS | G36: G4659 - Comercio al por mayor de otros tipos de maquinaria y equipo n.c.p. | H36: 08. SOCIEDAD POR ACCIONES SIMPLIFICADA SAS | I36: CL 19 12 90 | J36: BOGOTA D.C. | K36: BOGOTA D.C. | L36: Periodo Actual | M36: 1199973 | N36: 6864023 | O36: 2057884 | P36: 123366 | Q36: 6740657 | R36: 38544 | T36: =M36/O36 -> 0.58311013 | U36: =P36/N36 -> 0.017972842 | W36: =R36/Q36 -> 0.005718137 | X36: =R36/N36 -> 0.0056153658
A37: 39275 | B37: Pymes-Individuales | C37: Estado de situación financiera, corriente/no corriente | D37: 900924778 | E37: 2024-12-31 | F37: OIL & GAS MAINTENANCE AND SERVICE SAS | G37: C3312 - Mantenimiento y reparación especializado de maquinaria y equipo | H37: 08. SOCIEDAD POR ACCIONES SIMPLIFICADA SAS | I37: CR 23 63 15 ED EL CASTILLO OF 405 - Rambla | J37: CALDAS | K37: MANIZALES-CALDAS | L37: Periodo Actual | M37: 46885 | N37: 254939 | O37: 80161 | P37: 2118013 | Q37: -1863074 | R37: -16297 | T37: =M37/O37 -> 0.58488542 | U37: =P37/N37 -> 8.3079207 | W37: =R37/Q37 -> 0.0087473713 | X37: =R37/N37 -> -0.063925096
A38: 157 | B38: Pymes-Separados | C38: Estado de situación financiera, corriente/no corriente | D38: 800052699 | E38: 2024-12-31 | F38: REPRESENTACIONES OPTICAS COLOMBIANAS S.A. | G38: G4659 - Comercio al por mayor de otros tipos de maquinaria y equipo n.c.p. | H38: 01. SOCIEDAD ANÓNIMA | I38: CL 77 B No 57 - 141 OF 207 | J38: ATLANTICO | K38: BARRANQUILLA-ATLANTICO | L38: Periodo Actual | M38: 1957460 | N38: 52193607 | O38: 3062384 | P38: 26432637 | Q38: 25760970 | R38: -239042 | S38: 857640 | T38: =M38/O38 -> 0.63919482 | U38: =P38/N38 -> 0.50643438 | V38: =R38/S38 -> -0.27872068 | W38: =R38/Q38 -> -0.0092792313 | X38: =R38/N38 -> -0.0045799096
A39: 23919 | B39: Pymes-Individuales | C39: Estado de situación financiera, corriente/no corriente | D39: 900150235 | E39: 2024-12-31 | F39: DC TEKNICALDERAS LTDA | G39: G4659 - Comercio al por mayor de otros tipos de maquinaria y equipo n.c.p. | H39: 03. SOCIEDAD LIMITADA | I39: CR 73 A 0 24 | J39: BOGOTA D.C. | K39: BOGOTA D.C. | L39: Periodo Actual | M39: 2879892 | N39: 3090536 | O39: 4336768 | P39: 1578553 | Q39: 1511983 | R39: 511517 | S39: 85807 | T39: =M39/O39 -> 0.66406411 | U39: =P39/N39 -> 0.51076998 | V39: =R39/S39 -> 5.9612502 | W39: =R39/Q39 -> 0.3383087 | X39: =R39/N39 -> 0.16551077
A40: 12533 | B40: Pymes-Individuales | C40: Estado de situación financiera, corriente/no corriente | D40: 830106465 | E40: 2024-12-31 | F40: AIRE Y ENERGIA LIMITADA | G40: G4659 - Comercio al por mayor de otros tipos de maquinaria y equipo n.c.p. | H40: 03. SOCIEDAD LIMITADA | I40: CALLE 116 A 71 A 45 | J40: BOGOTA D.C. | K40: BOGOTA D.C. | L40: Periodo Actual | M40: 1041905 | N40: 2309700 | O40: 1484025 | P40: 271716 | Q40: 2037984 | R40: 136987 | S40: 4612 | T40: =M40/O40 -> 0.70208049 | U40: =P40/N40 -> 0.11764125 | V40: =R40/S40 -> 29.702298 | W40: =R40/Q40 -> 0.067216916 | X40: =R40/N40 -> 0.059309434
A41: 27387 | B41: Pymes-Individuales | C41: Estado de situación financiera, corriente/no corriente | D41: 900297138 | E41: 2024-12-31 | F41: DISEÑO PETROMECANICO SAS EN REORGANIZACION | G41: G4659 - Comercio al por mayor de otros tipos de maquinaria y equipo n.c.p. | H41: 08. SOCIEDAD POR ACCIONES SIMPLIFICADA SAS | I41: calle 5 No 20 - 30 | J41: BOGOTA D.C. | K41: BOGOTA D.C. | L41: Periodo Actual | M41: 2603573 | N41: 3471692 | O41: 3466556 | P41: 3254138 | Q41: 217554 | R41: 54251 | S41: 26346 | T41: =M41/O41 -> 0.75105465 | U41: =P41/N41 -> 0.93733488 | V41: =R41/S41 -> 2.0591741 | W41: =R41/Q41 -> 0.24936797 | X41: =R41/N41 -> 0.015626674
A42: 29465 | B42: Pymes-Individuales | C42: Estado de situación financiera, corriente/no corriente | D42: 900371896 | E42: 2024-12-31 | F42: ITAL DESIGN SAS | G42: G4659 - Comercio al por mayor de otros tipos de maquinaria y equipo n.c.p. | H42: 08. SOCIEDAD POR ACCIONES SIMPLIFICADA SAS | I42: CR 27 12 26 | J42: BOGOTA D.C. | K42: BOGOTA D.C. | L42: Periodo Actual | M42: 2609340 | N42: 2612562 | O42: 3466556 | P42: 1651969 | Q42: 960593 | R42: 759669 | S42: 184473 | T42: =M42/O42 -> 0.75271826 | U42: =P42/N42 -> 0.63231763 | V42: =R42/S42 -> 4.1180498 | W42: =R42/Q42 -> 0.79083337 | X42: =R42/N42 -> 0.29077549
...

Sheet End
I3: Fuente Datos/Indicador | J3: Tipo empresa | K3: Tamaño Muestra | L3: Formula | T3: Indicadores Financieros | W3: Indicadores Organizacionales
T4: Indice de Liquidez | U4: Indice de Endeudamiento | V4: Razón de Cobertura de Intereses | W4: Rentabilidad del Patrimonio | X4: Rentabilidad del Activo
I5: Super Sociedades | J5: Plenas Ind. Plenas Sep. Pymes Ind. Pymes Sep | K5: Total empresas (504) + 4 | L5: Desviación Estandar | T5: =STDEVA(T12:T519) -> 51.424878 | U5: =STDEVA(U12:U519) -> 0.44990255 | V5: =STDEVA(V12:V519) -> 477.05843 | W5: =STDEVA(W12:W519) -> 20.77976 | X5: =STDEVA(X12:X519) -> 0.12806426
L6: Promedio | T6: =AVERAGE(T12:T519) -> 16.764096 | U6: =AVERAGE(U12:U519) -> 0.53227756 | V6: =AVERAGE(V12:V519) -> 51.930244 | W6: =AVERAGE(W12:W519) -> 1.0817845 | X6: =AVERAGE(X12:X519) -> 0.095184487
L7: Mediana | T7: =MEDIAN(T12:T519) -> 3.3593541 | U7: =MEDIAN(U12:U519) -> 0.51327552 | V7: =MEDIAN(V12:V519) -> 2.7602121 | W7: =MEDIAN(W12:W519) -> 0.18554601 | X7: =MEDIAN(X12:X519) -> 0.086265278
L8: Menor Valor | T8: =MIN(T12:T519) -> 0.043373314 | U8: =MIN(U12:U519) -> 0.0013063695 | V8: =MIN(V12:V519) -> -310.41869 | W8: =MIN(W12:W519) -> -55.700284 | X8: =MIN(X12:X519) -> -0.48545942
L9: Mayor Valor | T9: =MAX(T12:T519) -> 611.76962 | U9: =MAX(U12:U519) -> 8.3079207 | V9: =MAX(V12:V519) -> 6339.9449 | W9: =MAX(W12:W519) -> 464.2909 | X9: =MAX(X12:X519) -> 0.86537469
T10: 2.02 | U10: 0.56 | V10: 1.91 | W10: 0.12 | X10: 0.06
B11: Punto de entrada | C11: Formulario | D11: NIT | E11: Fecha de Corte | F11: Razón social de la sociedad | G11: Clasificación Industrial Internacional Uniforme Versión 4 A.C (CIIU) | H11: Tipo societario | I11: Dirección de notificación judicial registrada en Cámara de Comercio | J11: Departamento de la dirección del domicilio | K11: Ciudad de la dirección del domicilio | L11: Periodo | M11: Activos corrientes totales (CurrentAssets) | N11: Total de activos (Assets) | O11: Pasivos corrientes totales (CurrentLiabilities) | P11: Total pasivos (Liabilities) | Q11: Patrimonio total (Equity) | R11: Ganancia (pérdida) por actividades de operación (ProfitLossFromOperatingActivities) | S11: Costos financieros (FinanceCosts) | T11: Indice de Liquidez | U11: Indice de Endeudamiento | V11: Razón de Cobertura de Intereses | W11: Rentabilidad del Patrimonio | X11: Rentabilidad del Activo
A12: 393 | B12: Plenas-Separados | C12: Estado de situación financiera, corriente/no corriente | D12: 805031746 | E12: 2024-12-31 | F12: Carval Internacional Limitada | G12: G4659 - Comercio al por mayor de otros tipos de maquinaria y equipo n.c.p. | H12: 03. SOCIEDAD LIMITADA | I12: Cra 1 Nro 58-41 | J12: VALLE | K12: CALI-VALLE | L12: Periodo Actual | M12: 5126 | N12: 20769009 | O12: 12754 | P12: 27132 | Q12: 20741877 | R12: -11609 | T12: =M12/O12 -> 0.40191313 | U12: =P12/N12 -> 0.0013063695 | W12: =R12/Q12 -> -0.00055968898 | X12: =R12/N12 -> -0.00055895782
A13: 2095 | B13: Plenas-Separados | C13: Estado de situación financiera, corriente/no corriente | D13: 900818280 | E13: 2024-12-31 | F13: S & N HOLDINGS S A S | G13: G4659 - Comercio al por mayor de otros tipos de maquinaria y equipo n.c.p. | H13: 08. SOCIEDAD POR ACCIONES SIMPLIFICADA SAS | I13: CALLE 100 NO 7-33 TORRE 1 PISO 3 | J13: BOGOTA D.C. | K13: BOGOTA D.C. | L13: Periodo Actual | M13: 28330 | N13: 141303649 | O13: 258112 | P13: 666535 | Q13: 140637114 | R13: 4723793 | T13: =M13/O13 -> 0.10975855 | U13: =P13/N13 -> 0.0047170403 | W13: =R13/Q13 -> 0.033588523 | X13: =R13/N13 -> 0.033430085
A14: 4655 | B14: Pymes-Individuales | C14: Estado de situación financiera, corriente/no corriente | D14: 800247023 | E14: 2024-12-31 | F14: Crediservicios y Tecnologia Ltda | G14: G4659 - Comercio al por mayor de otros tipos de maquinaria y equipo n.c.p. | H14: 03. SOCIEDAD LIMITADA | I14: cl 9 36 80 of 501 | J14: BOGOTA D.C. | K14: BOGOTA D.C. | L14: Periodo Actual | M14: 2183209 | N14: 4349111 | O14: 20826 | P14: 22697 | Q14: 4326414 | R14: 23249 | S14: 4400 | T14: =M14/O14 -> 104.83093 | U14: =P14/N14 -> 0.0052187677 | V14: =R14/S14 -> 5.2838636 | W14: =R14/Q14 -> 0.0053737345 | X14: =R14/N14 -> 0.0053456902
A15: 15375 | B15: Pymes-Individuales | C15: Estado de situación financiera, corriente/no corriente | D15: 860042811 | E15: 2024-12-31 | F15: DISAM SAS | G15: G4659 - Comercio al por mayor de otros tipos de maquinaria y equipo n.c.p. | H15: 08. SOCIEDAD POR ACCIONES SIMPLIFICADA SAS | I15: CL 19 12 90 | J15: BOGOTA D.C. | K15: BOGOTA D.C. | L15: Periodo Actual | M15: 1199973 | N15: 6864023 | O15: 2057884 | P15: 123366 | Q15: 6740657 | R15: 38544 | T15: =M15/O15 -> 0.58311013 | U15: =P15/N15 -> 0.017972842 | W15: =R15/Q15 -> 0.005718137 | X15: =R15/N15 -> 0.0056153658
A16: 28515 | B16: Pymes-Individuales | C16: Estado de situación financiera, corriente/no corriente | D16: 900337874 | E16: 2024-12-31 | F16: Solucion tecnica sas | G16: C3312 - Mantenimiento y reparación especializado de maquinaria y equipo | H16: 08. SOCIEDAD POR ACCIONES SIMPLIFICADA SAS | I16: calle 172 n 22a-42 | J16: BOGOTA D.C. | K16: BOGOTA D.C. | L16: Periodo Actual | M16: 20543406 | N16: 24760184 | O16: 80161 | P16: 489207 | Q16: 24270977 | R16: -1510932 | S16: 9501 | T16: =M16/O16 -> 256.27682 | U16: =P16/N16 -> 0.01975781 | V16: =R16/S16 -> -159.02873 | W16: =R16/Q16 -> -0.062252624 | X16: =R16/N16 -> -0.061022648
A17: 27785 | B17: Pymes-Individuales | C17: Estado de situación financiera, corriente/no corriente | D17: 900314721 | E17: 2024-12-31 | F17: RENSER COLOMBIA SAS | G17: C3312 - Mantenimiento y reparación especializado de maquinaria y equipo | H17: 08. SOCIEDAD POR ACCIONES SIMPLIFICADA SAS | I17: CL 1 A 7A 69 CA 4 | J17: CUNDINAMARCA | K17: CHIA-CUNDINAMARCA | L17: Periodo Actual | M17: 821610 | N17: 864270 | O17: 1730981 | P17: 23630 | Q17: 840640 | R17: 18808 | T17: =M17/O17 -> 0.47464992 | U17: =P17/N17 -> 0.027340993 | W17: =R17/Q17 -> 0.02237343 | X17: =R17/N17 -> 0.021761718
A18: 28761 | B18: Pymes-Individuales | C18: Estado de situación financiera, corriente/no corriente | D18: 900346138 | E18: 2024-12-31 | F18: ET SERVICES SAS | G18: G4659 - Comercio al por mayor de otros tipos de maquinaria y equipo n.c.p. | H18: 08. SOCIEDAD POR ACCIONES SIMPLIFICADA SAS | I18: CL 59A SUR 74 61 | J18: BOGOTA D.C. | K18: BOGOTA D.C. | L18: Periodo Actual | M18: 17292576 | N18: 22830038 | O18: 2057884 | P18: 897157 | Q18: 21932881 | R18: 770516 | S18: 44814 | T18: =M18/O18 -> 8.4030859 | U18: =P18/N18 -> 0.039297219 | V18: =R18/S18 -> 17.193645 | W18: =R18/Q18 -> 0.035130633 | X18: =R18/N18 -> 0.033750097
A19: 31115 | B19: Pymes-Individuales | C19: Estado de situación financiera, corriente/no corriente | D19: 900422058 | E19: 2024-12-31 | F19: REFRIPARTES Y MOTORES AS | G19: G4659 - Comercio al por mayor de otros tipos de maquinaria y equipo n.c.p. | H19: 08. SOCIEDAD POR ACCIONES SIMPLIFICADA SAS | I19: CL 45 # 43 - 66 | J19: ATLANTICO | K19: BARRANQUILLA-ATLANTICO | L19: Periodo Actual | M19: 669113 | N19: 3483806 | O19: 80161 | P19: 223933 | Q19: 3259873 | R19: 67261 | S19: 7747 | T19: =M19/O19 -> 8.3471139 | U19: =P19/N19 -> 0.064278263 | V19: =R19/S19 -> 8.6821996 | W19: =R19/Q19 -> 0.020633012 | X19: =R19/N19 -> 0.019306758
A20: 38305 | B20: Pymes-Individuales | C20: Estado de situación financiera, corriente/no corriente | D20: 900809570 | E20: 2024-12-31 | F20: Parque industrial y zona franca induenergy (induenergy sas) | G20: G4659 - Comercio al por mayor de otros tipos de maquinaria y equipo n.c.p. | H20: 08. SOCIEDAD POR ACCIONES SIMPLIFICADA SAS | I20: Centro sector la matuna cll 33 820 edificio caja agraria of 404 | J20: BOLIVAR | K20: CARTAGENA-BOLIVAR | L20: Periodo Actual | M20: 208342 | N20: 26756550 | O20: 3170245 | P20: 1795727 | Q20: 24960823 | R20: -28272 | T20: =M20/O20 -> 0.065717949 | U20: =P20/N20 -> 0.067113548 | W20: =R20/Q20 -> -0.001132655 | X20: =R20/N20 -> -0.0010566385
A21: 24805 | B21: Pymes-Individuales | C21: Estado de situación financiera, corriente/no corriente | D21: 900185676 | E21: 2024-12-31 | F21: EXIMEDICAL SAS | G21: G4659 - Comercio al por mayor de otros tipos de maquinaria y equipo n.c.p. | H21: 08. SOCIEDAD POR ACCIONES SIMPLIFICADA SAS | I21: CR 51B 76 178 | J21: ATLANTICO | K21: BARRANQUILLA-ATLANTICO | L21: Periodo Actual | M21: 2875770 | N21: 4027025 | O21: 97578 | P21: 316220 | Q21: 3710805 | R21: 221445 | S21: 8268 | T21: =M21/O21 -> 29.4715 | U21: =P21/N21 -> 0.078524469 | V21: =R21/S21 -> 26.783382 | W21: =R21/Q21 -> 0.059675731 | X21: =R21/N21 -> 0.054989726
A22: 4603 | B22: Pymes-Individuales | C22: Estado de situación financiera, corriente/no corriente | D22: 800243987 | E22: 2024-12-31 | F22: IBT IMPORTACION Y EXPORTACION DE PRODUCTOS AGRICOLAS E INDUSTRIALES INTERNATIONAL BUSINESS TRADE SAS | G22: G4659 - Comercio al por mayor de otros tipos de maquinaria y equipo n.c.p. | H22: 08. SOCIEDAD POR ACCIONES SIMPLIFICADA SAS | I22: CL 61 35 A 48 | J22: BOGOTA D.C. | K22: BOGOTA D.C. | L22: Periodo Actual | M22: 872385 | N22: 939876 | O22: 75186 | P22: 78127 | Q22: 861749 | R22: 91237 | S22: 18107 | T22: =M22/O22 -> 11.603024 | U22: =P22/N22 -> 0.083124795 | V22: =R22/S22 -> 5.0387695 | W22: =R22/Q22 -> 0.10587422 | X22: =R22/N22 -> 0.097073444
A23: 1555 | B23: Pymes-Individuales | C23: Estado de situación financiera, corriente/no corriente | D23: 800085606 | E23: 2024-12-31 | F23: BCI INGENIERIA SAS | G23: G4659 - Comercio al por mayor de otros tipos de maquinaria y equipo n.c.p. | H23: 08. SOCIEDAD POR ACCIONES SIMPLIFICADA SAS | I23: CR 88A 64D 90 BG 23 | J23: BOGOTA D.C. | K23: BOGOTA D.C. | L23: Periodo Actual | M23: 12528330 | N23: 15444952 | O23: 1209719 | P23: 1328898 | Q23: 14116054 | R23: 2499183 | T23: =M23/O23 -> 10.356397 | U23: =P23/N23 -> 0.086040928 | W23: =R23/Q23 -> 0.17704544 | X23: =R23/N23 -> 0.16181229
A24: 1957 | B24: Plenas-Individuales | C24: Estado de situación financiera, corriente/no corriente | D24: 860003437 | E24: 2024-12-31 | F24: CENTRAL SAS | G24: G4659 - Comercio al por mayor de otros tipos de maquinaria y equipo n.c.p. | H24: 08. SOCIEDAD POR ACCIONES SIMPLIFICADA SAS | I24: AV AMERICAS 36 11 | J24: BOGOTA D.C. | K24: BOGOTA D.C. | L24: Periodo Actual | M24: 18511641 | N24: 30112856 | O24: 1006304 | P24: 2598309 | Q24: 27514547 | R24: 2691141 | T24: =M24/O24 -> 18.395675 | U24: =P24/N24 -> 0.086285705 | W24: =R24/Q24 -> 0.097807934 | X24: =R24/N24 -> 0.089368508
A25: 12897 | B25: Pymes-Individuales | C25: Estado de situación financiera, corriente/no corriente | D25: 830119211 | E25: 2024-12-31 | F25: VEYALTHI GROUP S.A.S VEYALTHI GROUP S.A.S | G25: G4659 - Comercio al por mayor de otros tipos de maquinaria y equipo n.c.p. | H25: 08. SOCIEDAD POR ACCIONES SIMPLIFICADA SAS | I25: CL 51 No. 72A-28 CL 51 No. 72A-28 | J25: BOGOTA D.C. | K25: BOGOTA D.C. | L25: Periodo Actual | M25: 2265547 | N25: 4158343 | O25: 20892440 | P25: 361790 | Q25: 3796553 | R25: 193204 | T25: =M25/O25 -> 0.1084386 | U25: =P25/N25 -> 0.087003405 | W25: =R25/Q25 -> 0.05088932 | X25: =R25/N25 -> 0.046461776
A26: 14629 | B26: Pymes-Individuales | C26: Estado de situación financiera, corriente/no corriente | D26: 860002079 | E26: 2024-12-31 | F26: RADIOCOM SAS | G26: G4659 - Comercio al por mayor de otros tipos de maquinaria y equipo n.c.p. | H26: 08. SOCIEDAD POR ACCIONES SIMPLIFICADA SAS | I26: AK 9 108 A 86 | J26: BOGOTA D.C. | K26: BOGOTA D.C. | L26: Periodo Actual | M26: 5689886 | N26: 7793697 | O26: 97578 | P26: 705867 | Q26: 7087830 | R26: 69123 | S26: 26573 | T26: =M26/O26 -> 58.311156 | U26: =P26/N26 -> 0.090568956 | V26: =R26/S26 -> 2.6012494 | W26: =R26/Q26 -> 0.0097523502 | X26: =R26/N26 -> 0.00886909
A27: 2371 | B27: Plenas-Individuales | C27: Estado de situación financiera, corriente/no corriente | D27: 860511571 | E27: 2024-12-31 | F27: ELECTRICAS BOGOTA LTDA | G27: G4659 - Comercio al por mayor de otros tipos de maquinaria y equipo n.c.p. | H27: 03. SOCIEDAD LIMITADA | I27: CL 16 No. 12 54 / 56 | J27: BOGOTA D.C. | K27: BOGOTA D.C. | L27: Periodo Actual | M27: 61619479 | N27: 84574004 | O27: 3087267 | P27: 7689766 | Q27: 76884238 | R27: 12224443 | S27: 428926 | T27: =M27/O27 -> 19.959232 | U27: =P27/N27 -> 0.090923518 | V27: =R27/S27 -> 28.500121 | W27: =R27/Q27 -> 0.15899804 | X27: =R27/N27 -> 0.14454138
A28: 16509 | B28: Pymes-Individuales | C28: Estado de situación financiera, corriente/no corriente | D28: 860502682 | E28: 2024-12-31 | F28: INVERSIONES DRILLTEX SAS | G28: G4659 - Comercio al por mayor de otros tipos de maquinaria y equipo n.c.p. | H28: 08. SOCIEDAD POR ACCIONES SIMPLIFICADA SAS | I28: AV CLL 80 69 70 OF 18 | J28: BOGOTA D.C. | K28: BOGOTA D.C. | L28: Periodo Actual | M28: 28689810 | N28: 29813175 | O28: 80161 | P28: 2954995 | Q28: 26858180 | R28: 4219011 | T28: =M28/O28 -> 357.90235 | U28: =P28/N28 -> 0.099117085 | W28: =R28/Q28 -> 0.15708477 | X28: =R28/N28 -> 0.14151498
A29: 10991 | B29: Pymes-Individuales | C29: Estado de situación financiera, corriente/no corriente | D29: 830053900 | E29: 2024-12-31 | F29: KASSEL GROUP S.A.S. | G29: G4659 - Comercio al por mayor de otros tipos de maquinaria y equipo n.c.p. | H29: 08. SOCIEDAD POR ACCIONES SIMPLIFICADA SAS | I29: CR 27B 73-24 | J29: BOGOTA D.C. | K29: BOGOTA D.C. | L29: Periodo Actual | M29: 4588539 | N29: 6431355 | O29: 516186 | P29: 645787 | Q29: 5785568 | R29: 388595 | S29: 109330 | T29: =M29/O29 -> 8.8893132 | U29: =P29/N29 -> 0.10041228 | V29: =R29/S29 -> 3.5543309 | W29: =R29/Q29 -> 0.067166266 | X29: =R29/N29 -> 0.060421948
A30: 28905 | B30: Pymes-Individuales | C30: Estado de situación financiera, corriente/no corriente | D30: 900352229 | E30: 2024-12-31 | F30: COINSTOR S.A.S. | G30: G4659 - Comercio al por mayor de otros tipos de maquinaria y equipo n.c.p. | H30: 08. SOCIEDAD POR ACCIONES SIMPLIFICADA SAS | I30: CL 66 47 17 | J30: SANTANDER | K30: BUCARAMANGA-SANTANDER | L30: Periodo Actual | M30: 2788274 | N30: 2924507 | O30: 1730981 | P30: 325664 | Q30: 2598843 | R30: 574450 | S30: 14962 | T30: =M30/O30 -> 1.6108057 | U30: =P30/N30 -> 0.11135689 | V30: =R30/S30 -> 38.393931 | W30: =R30/Q30 -> 0.22104067 | X30: =R30/N30 -> 0.19642627
A31: 23025 | B31: Pymes-Individuales | C31: Estado de situación financiera, corriente/no corriente | D31: 900114653 | E31: 2024-12-31 | F31: STEIN & CIA S.A.S. | G31: G4659 - Comercio al por mayor de otros tipos de maquinaria y equipo n.c.p. | H31: 08. SOCIEDAD POR ACCIONES SIMPLIFICADA SAS | I31: AV 19 No 120-71 OF 414 | J31: BOGOTA D.C. | K31: BOGOTA D.C. | L31: Periodo Actual | M31: 15404396 | N31: 19535855 | O31: 80161 | P31: 2220327 | Q31: 17315528 | R31: 713392 | S31: 8282 | T31: =M31/O31 -> 192.16821 | U31: =P31/N31 -> 0.11365395 | V31: =R31/S31 -> 86.137648 | W31: =R31/Q31 -> 0.041199552 | X31: =R31/N31 -> 0.036517061
A32: 12533 | B32: Pymes-Individuales | C32: Estado de situación financiera, corriente/no corriente | D32: 830106465 | E32: 2024-12-31 | F32: AIRE Y ENERGIA LIMITADA | G32: G4659 - Comercio al por mayor de otros tipos de maquinaria y equipo n.c.p. | H32: 03. SOCIEDAD LIMITADA | I32: CALLE 116 A 71 A 45 | J32: BOGOTA D.C. | K32: BOGOTA D.C. | L32: Periodo Actual | M32: 1041905 | N32: 2309700 | O32: 1484025 | P32: 271716 | Q32: 2037984 | R32: 136987 | S32: 4612 | T32: =M32/O32 -> 0.70208049 | U32: =P32/N32 -> 0.11764125 | V32: =R32/S32 -> 29.702298 | W32: =R32/Q32 -> 0.067216916 | X32: =R32/N32 -> 0.059309434
A33: 1715 | B33: Plenas-Individuales | C33: Estado de situación financiera, corriente/no corriente | D33: 830117139 | E33: 2024-12-31 | F33: NIPRO MEDICAL CORPORATION | G33: G4659 - Comercio al por mayor de otros tipos de maquinaria y equipo n.c.p. | H33: 02. SUCURSAL EXTRANJERA | I33: AV CLL 26 N 59-41 OF 710 | J33: BOGOTA D.C. | K33: BOGOTA D.C. | L33: Periodo Actual | M33: 49949968 | N33: 67026624 | O33: 7048088 | P33: 7934618 | Q33: 59092006 | R33: 2103961 | T33: =M33/O33 -> 7.0870239 | U33: =P33/N33 -> 0.11838009 | W33: =R33/Q33 -> 0.035604833 | X33: =R33/N33 -> 0.031389929
A34: 18061 | B34: Pymes-Individuales | C34: Estado de situación financiera, corriente/no corriente | D34: 890306166 | E34: 2024-12-31 | F34: ESSEN SAS | G34: G4659 - Comercio al por mayor de otros tipos de maquinaria y equipo n.c.p. | H34: 08. SOCIEDAD POR ACCIONES SIMPLIFICADA SAS | I34: CL 34 8 43 | J34: VALLE | K34: CALI-VALLE | L34: Periodo Actual | M34: 2716548 | N34: 2785011 | O34: 774590 | P34: 341374 | Q34: 2443637 | R34: 39893 | T34: =M34/O34 -> 3.5070786 | U34: =P34/N34 -> 0.12257546 | W34: =R34/Q34 -> 0.016325256 | X34: =R34/N34 -> 0.01432418
