Workbook

Sheet PRESUPUESTO
C3: Formulario 1 - Propuesta económica - Documento tipo de obra pública - versión 3
C4: Código | D4: CCE-EICP-FM-14
C5: FORMULARIO 1
C6: PRESUPUESTO OFICIAL
C7: [La entidad puede utilizar este formulario de detalle del presupuesto oficial para determinar las condiciones bajo las cuales los proponentes analizarán y presentarán su propuesta económica de forma detallada, sin perjuicio que la entidad pueda modificarlo o establecer la presentación de la oferta económica con un formulario distinto al indicado.]
C9: Adicionalmente, cuando el proceso de contratación es estructurado por precios unitarios, la Entidad debe aplicar las notas 1, 2 y 3 del presente formulario y las casillas de "Descripción", "Porcentaje" de la Administración y Utilidad y total A.U. resaltadas en color amarillo. Tratándose de otras modalidades de precio, la Entidad puede o no configurar los mismos aspectos.
C11: MEJORAMIENTO DE LA PLANTA FÍSICA DEL ESTABLECIMIENTO EDUCATIVO OFICIAL: PRESUPUESTO OBRA CIVIL - INSTITUCION EDUCATIVA ESTAMBUL
C12: Nº | D12: ITEM DE PAGO | E12: DESCRIPCION | F12: UND. | G12: CANTIDAD | H12: VALOR UNITARIO | I12: VALOR TOTAL
D13: 001 | E13: PRELIMINARES
C14: 1 | D14: 001.049 | E14: SUMINISTRO, TRANSPORTE E INSTALACIÓN CERRAMIENTO EN YUTE H= 2 M | F14: ML | G14: 300 | H14: 15699 | I14: =ROUND(H14*G14,0) -> 4709700
C15: 2 | D15: 001.054 | E15: SUMINISTRO, TRANSPORTE E INSTALACION SEÑAL PREVENTIVA, REGLAMENTARIA E INFORMATIVA | F15: UND | G15: 4 | H15: 257265 | I15: =ROUND(H15*G15,0) -> 1029060
C16: Subtotal | I16: =SUM(I13:I15) -> 5738760
D17: 002 | E17: MOVIMIENTO DE TIERRAS
C18: 3 | D18: 002.089 | E18: RETIRO DE MATERIAL SOBRANTE EN VOLQUETA, CARGUE MANUAL, DISPOSICIÓN EN BOTADERO (HASTA 25 KM) | F18: M3-Suelto | G18: 45 | H18: 44658 | I18: =ROUND(H18*G18,0) -> 2009610
C19: Subtotal | I19: =SUM(I18) -> 2009610
D20: 003 | E20: DESAGUES E INSTALACIONES SANITARIAS
C21: 4 | D21: 003.011 | E21: SUMINISTRO, TRANSPORTE E INSTALACION BAJANTE AGUAS LLUVIAS PVC 4" (INCLUYE CODO, UNION Y ACCESORIOS DE FIJACION) | F21: ML | G21: 50 | H21: 42672 | I21: =ROUND(H21*G21,0) -> 2133600
I22: =SUM(I21) -> 2133600
D23: 005 | E23: ESTRUCTURAS EN CONCRETO, METALICAS Y DE MADERA
C24: 5 | D24: 005.113 | E24: SUMINISTRO, TRANSPORTE E INSTALACION ESTRUCTURA METALICA PARA CUBIERTA (INCLUYE SOLDADURA, ANTICORROSIVO Y ESMALTE). | F24: KG | G24: 580 | H24: 23495 | I24: =G24*H24 -> 13627100
C25: Subtotal | I25: =SUM(I24) -> 13627100
D26: 007 | E26: INSTALACIONES HIDRAULICAS
C27: 6 | D27: 007.116 | E27: SUMINISTRO, TRANSPORTE E INSTALACION LAVAMANOS DE EMPOTRAR LINEA SAN LORENZO COLOR BLANCO DE CORONA REF: O19001001 O SIMILAR. (INCLUYE ELEMENTOS DE GRIFERÍA PARA INSTALACIÓN). | F27: UND | G27: 10 | H27: 523495 | I27: =G27*H27 -> 5234950
C28: 7 | D28: 007.120 | E28: SONDEO DE TUBERÍAS Y BAJANTES DE AGUAS LLUVIA | F28: ML | G28: 16 | H28: 9537 | I28: =G28*H28 -> 152592
C29: Subtotal | I29: =SUM(I27:I28) -> 5387542
D30: 08B | E30: INSTALACIONES ELECTRICAS
D31: 08B.111 | E31: SUMINISTRO E INSTALACION DE TABLERO DE 12 CIRCUITOS 2F4H, CON PUERTA. BARRAJE PARA 200A BARRA NEUTRO Y BARRA TIERRA CALIDAD LEGRAND, SIEMENS, SQARED O SUPERIOR DE MARCA RECONOCIDA Y HOMOLOGADA POR EL CIDET | F31: UND | G31: 1 | H31: 581212 | I31: =G31*H31 -> 581212
D32: 08B.176 | E32: SUMINISTRO, TRANSPORTE E INSTALACION SALIDA TOMACORRIENTE NORMAL DOBLE PT EN TUBERIA CONDUIT EMT 3/4", ALAMBRE NO 12 AWG | F32: UND | G32: 16 | H32: 175249 | I32: =G32*H32 -> 2803984
D33: 08B.197 | E33: SUMINISTRO, TRANSPORTE E INSTALACION SALIDA INTERRUPTOR SENCILLO EN TUBERIA CONDUIT EMT 3/4", ALAMBRE NO 12 AWG. | F33: UND | G33: 3 | H33: 171384 | I33: =G33*H33 -> 514152
D34: 08B.278 | E34: SUMINISTRO E INSTALACION DE BREAKER 1X20 A | F34: UND | G34: 10 | H34: 54220 | I34: =G34*H34 -> 542200
D35: 08B.179 | E35: SUMINISTRO, TRANSPORTE E INSTALACION SALIDA TOMACORRIENTE GFCI DOBLE EN TUBERIA CONDUIT EMT 3/4", ALAMBRE NO 12 AWG | F35: UND | G35: 1 | H35: 190744 | I35: =G35*H35 -> 190744
D36: 08B.203 | E36: SUMINISTRO, TRANSPORTE E INSTALACION SALIDA INTERRUPTOR DOBLE EN TUBERIA CONDUIT EMT 3/4", ALAMBRE NO 12 AWG. | F36: UND | G36: 3 | H36: 184590 | I36: =G36*H36 -> 553770
D37: 08B.304 | E37: DESMONTE DE LÁMPARAS DE SOBREPONER, INCRUSTAR O SIMILAR. ALTURA < 3 METROS (INCLUYE ESCALERA CERTIFICADA) | F37: UND | G37: 119 | H37: 26116 | I37: =G37*H37 -> 3107804
D38: 08B.307 | E38: DESMONTE DE INTERRUPTORES (DOBLE O SENCILLOS), TOMACORRIENTES (DOBLES O SENCILLOS), PUNTOS TELEFÓNICOS, DE DATOS O SIMILARES | F38: UND | G38: 27 | H38: 9772 | I38: =G38*H38 -> 263844
D39: 08B.311 | E39: DESMONTE Y RETIRO DE REDES ELÉCTRICAS PARÁSITAS. INCLUYE ANDAMIO CERTIFICADO | F39: ML | G39: 270 | H39: 8966 | I39: =G39*H39 -> 2420820
D40: 08B.325 | E40: SUMINISTRO, TRANSPORTE E INSTALACION PANEL LED REDONDO DE INCRUSTAR 18W LUZ BLANCA NEUTRA 1080 LÚMENES TIPO SYLVANA O SIMILAR | F40: UND | G40: 3 | H40: 68616 | I40: =G40*H40 -> 205848
D41: 08B.330 | E41: SUMINISTRO, TRANSPORTE E INSTALACION DE LUMINARIA DE EMPOTRAR TIPO PANEL LED CUADRADO 60 X 60, 48W BLANCO OPAL. INCLUYE DRIVER SC CLAVIJA Y TODOS LOS ACCESORIOS PARA SU CORRECTA INSTALACIÓN Y MONTAJE | F41: UND | G41: 42 | H41: 119062 | I41: =G41*H41 -> 5000604
D42: 08B.456 | E42: SUMINISTRO, TRANSPORTE E INSTALACIÓN LUMINARIA HERMETICA 36W - SYLVANIA O SIMILAR | F42: UND | G42: 8 | H42: 149154 | I42: 149154
D43: 08B.557 | E43: SUMINISTRO, TRANSPORTE E INSTALACION SALIDA INTERRUPTOR SENCILLO CONMUTABLE EN TUBERIA CONDUIT EMT 3/4", CABLE N° 12 AWG HFFR LS | F43: UND | G43: 2 | H43: 202660 | I43: =G43*H43 -> 405320
D44: 08B.558 | E44: SUMINISTRO, TRANSPORTE E INSTALACION SALIDA INTERRUPTOR CONMUTABLE DOBLE EN TUBERIA CONDUIT EMT 3/4", CABLE N° 12 AWG HFFR LS | F44: UND | G44: 1 | H44: 219517 | I44: =G44*H44 -> 219517
...

Sheet ANALISIS AU
A1: ANALISIS DEL AIU
A3: Valor estimado de la Obra (Costo Directo). | D3: Valor | E3: =PRESUPUESTO!I212 -> 5.4248856e+08
A4: Plazo estimado de ejecución. | D4: Meses | E4: 3
A6: CAPITULO | B6: TIPO DE GASTO | C6: UN | D6: CANTIDAD. | E6: DEDICACION | F6: VLOR UNITARIO (mes) | G6: FACTOR PRESTACIONAL O FACTOR AIU (PARA INDIRECTOS) | H6: VALOR TOTAL | I6: SUMA | J6: PORCENTAJE
A7: 1 | B7: GASTOS GENERALES. | J7: =+J8 -> 0.095036696
A8: 1.1 | B8: MANO DE OBRA Y GASTOS DE OFICINA | I8: =SUM(H9:H14) -> 51556320 | J8: =+I8/$E$3 -> 0.095036696
B9: Ingeniero Residente | C9: Un | D9: 1 | E9: 1 | F9: 4500000 | G9: 0.6556 | H9: =+D9*E9*$E$4*F9*(1+G9) -> 22350600 | J9: =+H9/$E$3 -> 0.041200132
B10: Maestro de Obra | C10: Un | D10: 1 | E10: 1 | F10: 3600000 | G10: 0.6556 | H10: =+D10*E10*$E$4*F10*(1+G10) -> 17880480 | J10: =+H10/$E$3 -> 0.032960105
B11: Residente de Salud Ocupacional | C11: Un | D11: 1 | E11: 0.5 | F11: 3600000 | G11: 0.6556 | H11: =+D11*E11*$E$4*F11*(1+G11) -> 8940240 | J11: =+H11/$E$3 -> 0.016480053
B12: Plan de Salud ocupacional y seguridad industrial | C12: Mes | D12: =+$E$4 -> 3 | E12: 1 | F12: 200000 | H12: =+D12*E12*$E$4*F12*(1+G12) -> 1800000 | J12: =+H12/$E$3 -> 0.0033180423
B13: Costos financiero | C13: Mes | D13: =+$E$4 -> 3 | E13: 1 | F13: 65000 | H13: =+D13*E13*$E$4*F13*(1+G13) -> 585000 | J13: =+H13/$E$3 -> 0.0010783638
H14: =F14 -> 0 | J14: =+H14/$E$3 -> 0
A15: 2 | B15: GASTOS INDIRECTOS. | J15: =+J16+J18+J29+J25 -> 0.20895435
A16: 2.1 | B16: LEGALIZACION. | I16: =SUM(H17:H17) -> 0 | J16: =+I16/$E$3 -> 0
B17: AIU ITERACION | G17: 1.3721 | H17: =+F17*D17*G17 -> 0
A18: 2.2 | B18: POLIZAS | I18: =SUM(H19:H23) -> 6336808.5 | J18: =+I18/$E$3 -> 0.011680999
B19: Anticipo | C19: % | D19: 0.0006 | E19: 0.2 | F19: =+$E$3*E19 -> 1.0849771e+08 | G19: =+$G$17 -> 1.3721 | H19: =+(((F19*G19*D19)/365)*($E$4*30+120))*1.19 -> 61154.861 | J19: =+H19/$E$3 -> 0.00011273023
B20: Cumplimiento | C20: % | D20: 0.0006 | F20: =+$E$3 -> 5.4248856e+08 | G20: =+$G$17 -> 1.3721 | H20: =+(((F20*G20*D20)/365)*($E$4*30+120))*1.19 -> 305774.31 | J20: =+H20/$E$3 -> 0.00056365116
B21: Estabilidad | C21: % | D21: 0.0009 | F21: =+$E$3 -> 5.4248856e+08 | G21: =+$G$17 -> 1.3721 | H21: =+(((F21*G21*D21)/365)*(1825))*1.19 -> 3985986.5 | J21: =+H21/$E$3 -> 0.0073475955
B22: Prestaciones Sociales | C22: % | D22: 0.0005 | F22: =+$E$3 -> 5.4248856e+08 | G22: =+$G$17 -> 1.3721 | H22: =+(((F22*G22*D22)/365)*($E$4*30+1095))*1.19 -> 1437867.3 | J22: =+H22/$E$3 -> 0.0026505025
B23: Responsabilidad Civil | C23: % | D23: 0.0025 | F23: =+$E$3 -> 5.4248856e+08 | G23: =+$G$17 -> 1.3721 | H23: =+(((F23*G23*D23)/365)*($E$4*30+0))*1.19 -> 546025.55 | J23: =+H23/$E$3 -> 0.0010065199
A25: 2.3 | B25: VALLAS Y SEÑALIZACION | I25: =SUM(H26:H28) -> 800000 | J25: =+I25/$E$3 -> 0.0014746855
B26: Vallas incluye estructura de fijacion | C26: M2 | D26: 2 | E26: 200000 | F26: =E26*D26 -> 400000 | H26: =+F26*D26 -> 800000 | J26: =+H26/$E$3 -> 0.0014746855
H27: =+F27*D27 -> 0 | J27: =+H27/$E$3 -> 0
A29: 2.4 | B29: IMPUESTOS Y CONTRIBUCIONES | I29: =SUM(H30:H37) -> 1.0621854e+08 | J29: =+I29/$E$3 -> 0.19579867
B30: Contribuación Especial | C30: % | D30: 0.05 | F30: =+$E$3 -> 5.4248856e+08 | G30: =+$G$17 -> 1.3721 | H30: =+F30*D30*G30 -> 37217427 | J30: =+H30/$E$3 -> 0.068605
B31: Estampillas para el bienestar del adulto mayor | C31: % | D31: 0.02 | F31: =+$E$3 -> 5.4248856e+08 | G31: =+$G$17 -> 1.3721 | H31: =+F31*D31*G31 -> 14886971 | J31: =+H31/$E$3 -> 0.027442
B32: Estampillas Pro - Universidades. | C32: % | D32: 0.02 | F32: =+$E$3 -> 5.4248856e+08 | G32: =+$G$17 -> 1.3721 | H32: =+F32*D32*G32 -> 14886971 | J32: =+H32/$E$3 -> 0.027442
B33: Estampilla pro cultura | C33: % | D33: 0.02 | F33: =+$E$3 -> 5.4248856e+08 | G33: =+$G$17 -> 1.3721 | H33: =+F33*D33*G33 -> 14886971 | J33: =+H33/$E$3 -> 0.027442
B34: Estampilla pro justicia familiar | C34: % | D34: 0.02 | F34: =+$E$3 -> 5.4248856e+08 | G34: =+$G$17 -> 1.3721 | H34: =+F34*D34*G34 -> 14886971 | J34: =+H34/$E$3 -> 0.027442
B35: Gasto bancarios4x1000 y retiros | C35: % | D35: 0.004 | F35: =+$E$3 -> 5.4248856e+08 | G35: =+$G$17 -> 1.3721 | H35: =+F35*D35*G35 -> 2977394.2 | J35: =+H35/$E$3 -> 0.0054884
B36: Industria y Comercio 3,7 x 1.000 sobre valor total | C36: % | D36: 0.0037 | F36: =+$E$3 -> 5.4248856e+08 | G36: =+$G$17 -> 1.3721 | H36: =+F36*D36*G36 -> 2754089.6 | J36: =+H36/$E$3 -> 0.00507677
B37: Tasa pro deporte y recreación | C37: % | D37: 0.005 | F37: =+$E$3 -> 5.4248856e+08 | G37: =+$G$17 -> 1.3721 | H37: =+F37*D37*G37 -> 3721742.7 | J37: =+H37/$E$3 -> 0.0068605
B38: TOTAL GASTOS INDIRECTOS DE ADMINISTRACION. | I38: =SUM(I8:I37) -> 1.6491167e+08 | J38: =ROUND(SUM(J7:J37)/3,4) -> 0.304
B39: UTILIDAD: | J39: 0.06
B40: A.U. | J40: =SUM(J38:J39) -> 0.364
I42: NO MOVER | J42: =1+J40 -> 1.364
