Workbook
Name \0: #REF!
Name \0: #REF!
Name \0: #REF!
Name \00: #REF!
Name \00: #REF!
Name \00: #REF!
Name \1: #REF!
Name \a: #REF!
Name \AA: #REF!
Name \b: #REF!
Name \bb: #REF!
Name \c: #REF!
Name \c: #REF!
Name \c: #REF!
Name \d: #REF!
Name \d: #REF!
Name \d: #REF!
Name \E: #REF!
Name \E: #REF!
Name \EE: #REF!
Name \eliminar: #REF!
Name \eliminar1: #REF!
Name \f: #REF!
Name \G: #REF!
Name \G: #REF!
Name \h: #REF!
Name \h: #REF!
Name \i: #REF!
Name \i: #REF!
Name \k: #REF!
Name \k: #REF!
Name \L: #REF!
Name \L: #REF!
Name \L: #REF!
Name \LL: #REF!
Name \LL: #REF!
Name \LL: #REF!
Name \m: #REF!
Name \m: #REF!
Name \m: #REF!
Name \n: #REF!
Name \n: #REF!
Name \n: #REF!
Name \ñ: #REF!
Name \ñ: #REF!
Name \ñ: #REF!
Name \O: #REF!
Name \O: #REF!
Name \O: #REF!
Name \P: #REF!
Name \P: #REF!
Name \P: #REF!
Name \PP: #N/A
Name \q: #REF!
Name \q: #REF!
Name \q: #REF!
Name \r: #REF!
Name \r: #REF!
Name \r: #REF!
Name \s: #REF!

Sheet PRESUPUESTO
A1: OBJETO: DESARROLLAR ACTIVIDADES PARA LA RECUPERACION DE CUERPOS DE AGUA ASOCIADOS AL RIO MAGDALENA EN LOS MUNICIPIOS RIBEREÑOS DE JURISDICCIÓN DE CORMAGDALENA.
A3: No. | B3: NOMBRE DE LA ACTIVIDAD | C3: ESTIMACION DE LA ENTIDAD CON BASE EN CAPACIDAD DE INTERVENCIONES 2023-2025 | G3: VALOR A OFERTAR POR EL PROPONENTE | I3: ESTIMACION PARA PRESUPUESTO
A5: 1 | B5: EVALUACION PREVIA DE INTERVENCIÓNES | C5: UNIDAD | D5: TIEMPO meses | E5: CANTIDAD | G5: VALOR UNITARIO | I5: VALOR ITEM
A6: 1.1. | B6: Localización, trazado y replanteo | C6: m2 | D6: 3 | E6: =Cantidades!J2*D11*0.9 -> 157320 | G6: ='APUs ACT 1'!G43 -> 1746 | I6: =E6*G6 -> 274680720
A7: 1.2. | B7: Modelación hidráulica | C7: global | D7: 3 | E7: 1 | G7: =+'APUs ACT 1'!G70 -> 56567658 | I7: =E7*G7 -> 56567658
A8: SUBTOTAL EVALUACION PREVIA INTERVENCION | I8: =+I6+I7 -> 331248378
A10: 2 | B10: RECUPERACIÓN DE LOS CUERPOS DE AGUA | C10: UNIDAD | D10: TIEMPO meses | E10: CANTIDAD | G10: VALOR UNITARIO | I10: VALOR ITEM
A11: 2.1. | B11: Limpieza manual de cuerpo de agua | C11: m2 | D11: 5 | E11: =Cantidades!J2*D11*0.9 -> 157320 | G11: ='APUs ACT 2'!J39 -> 9108 | I11: =ROUND(E11*G11,0) -> 1432870560
A12: 2.2. | B12: Remoción mecanica de sedimentos y/o material firmal | C12: m3 | D12: 5 | E12: =Cantidades!J3*D12*0.5 -> 24800 | G12: =+'APUs ACT 2'!J77 -> 39109 | I12: =ROUND(+E12*G12,0) -> 969903200
A13: SUBTOTAL DE RECUPERACIÓN DE LOS CUERPOS DE AGUA | I13: =I11+I12 -> 2402773760
A16: 3 | B16: REPOBLAMIENTO ICTICO | C16: UNIDAD | D16: TIEMPO meses | E16: CANTIDAD | G16: VALOR UNITARIO | I16: VALOR ITEM
A17: 3.1. | B17: Repoblamiento ictiológico con alevinos de la especie nativa Bocachico (Prochilodus magdalenae) (incluye permisos, transporte, siembra y acompañamiento de especialista) | C17: und | D17: 3 | E17: =MROUND(Cantidades!J4*D17,500) -> 192000 | G17: ='APUs ACT 3'!P3 -> 365 | I17: =E17*G17 -> 70080000
A18: 3.2. | B18: Repoblamiento ictiológico con alevinos de la especie nativa Dorada (Brycon moorei) (incluye permisos, transporte, siembra y acompañamiento de especialista) | C18: und | D18: 3 | E18: =E17 -> 192000 | G18: ='APUs ACT 3'!P4 -> 695 | I18: =E18*G18 -> 133440000
A19: 3.3. | B19: Repoblamiento ictiológico con alevinos de la especie nativa Blanquillo (Sorubim cuspicaudus) (incluye permisos, transporte, siembra y acompañamiento de especialista) | C19: und | D19: 3 | E19: =E18*0.3 -> 57600 | G19: ='APUs ACT 3'!P5 -> 6013 | I19: =E19*G19 -> 346348800
A20: SUBTOTAL DE REPOBLAMIENTO ICTICO | I20: =+I17+I18+I19 -> 549868800
A22: VALOR TOTAL COSTO DIRECTO | I22: =I8+I13+I20 -> 3283890938
G24: 3398841 | I24: =G24-#REF! -> #REF!
B26: 1631443680 | I26: 14682928861
B28: =B26-#REF!-#REF! -> #REF! | H28: =#REF!*#REF!*2 -> #REF!
I29: =I26-I22 -> 11399037923
H31: Md facctor multiiplicador | I31: 40075560
H33: monitores | I33: 149661600
F35: ADMINISTRACION | H35: =I35/I22 -> 0.26696487 | I35: =+ADMON!I31 -> 8.7668351e+08
F36: IMPREV ISTOS | H36: 0.01 | I36: =I22*H36 -> 32838909
F37: UTILIDAD | H37: 0.05 | I37: =I22*H37 -> 1.6419455e+08
A39: VALOR TOTAL COSTO DIRECTO + AIU | I39: =I22+I35+I36+I37 -> 4.3576079e+09
A41: PLAN DE MANEJO AMBIENTAL Y DE GESTION SOCIAL (5,6%) | I41: =I22*0.05554146107 -> 1.823921e+08
A43: PRESUPUESTO DEL CONTRATO PRINCIPAL | I43: =+I39+I41 -> 4.54e+09

Sheet Cantidades
A1: INTERVENCIONES REALIZADAS POR CORMAGDALENA DURANTE LAS VIGENCIAS 2023, 2024 y 2025 (DE FORMA COMPLEMENTARIA A LAS OBLIGACIONES DE LEY DE BMEJA Y PTO COLOMBIA) | I1: CAPACIDAD DE EJECUCION DE ACUERDO CON EL PROMEDIO DE LOS ULTIMOS 3 AÑOS
A2: Año | B2: Municipio | C2: Cuerpo de agua | D2: Actividad | E2: Cantidad | F2: unidad | G2: Tiempo de ejec. (meses) | I2: Limpieza Manual | J2: =MROUND(SUMIFS(E3:E28,F3:F28,"m2")/SUMIFS(G3:G28,F3:F28,"m2"),10) -> 34960 | K2: m2/mes
A3: 2025 | B3: San Fernando | C3: Ciénaga Menchiquejo y Guatizo | D3: Limpieza manual | E3: 109890 | F3: m2 | G3: 4 | I3: Limpieza Mecanica | J3: =MROUND(SUMIFS(E3:E28,F3:F28,"m3")/SUMIFS(G3:G28,F3:F28,"m3"),10) -> 9920 | K3: m3/mes
A4: 2025 | B4: San Fernando | C4: Cienaga Guatizo | D4: Repoblamiento ictico | E4: 30000 | F4: alevinos | G4: 4 | I4: Repoblamiento Ictico | J4: =MROUND(SUMIFS(E3:E28,F3:F28,"alevinos")/SUMIFS(G3:G28,F3:F28,"alevinos"),10) -> 63950 | K4: alevinos/mes
A5: 2025 | B5: Banco | C5: Caño - Cienaga Chilloa | D5: Limpieza manual | E5: 180000 | F5: m2 | G5: 4
A6: 2024 | B6: Rio viejo | C6: Caño Ratoncito | D6: Limpieza manual | E6: 40228 | F6: m2 | G6: 5
A7: 2024 | B7: Rio viejo | C7: Caño Guadual | D7: Limpieza manual | E7: 45000 | F7: m2 | G7: 5
A8: 2024 | B8: San Fernando | C8: Ciénaga Menchiquejo | D8: Repoblamiento ictico | E8: 136000 | F8: alevinos | G8: 5
A9: 2024 | B9: Mompox | C9: Caño Guataca | D9: Limpieza manual | E9: 40000 | F9: m2 | G9: 5
A10: 2023 | B10: Pinillos | C10: Ciénaga de Chicagua | D10: Repoblamiento ictico | E10: 368000 | F10: alevinos | G10: 2
A11: 2025 | B11: Pinillos | C11: Caño Tapoa | D11: Limpieza manual | E11: 30000 | F11: m2 | G11: 4
A12: 2024 | B12: El Banco | C12: Caño Guamal | D12: Limpieza manual | E12: 33050 | F12: m2 | G12: 5
A13: 2024 | B13: El Banco | C13: Caño Belen | D13: Limpieza manual | E13: 32300 | F13: m2 | G13: 5
A14: 2023 | B14: El Banco | C14: Caño Guamal | D14: Limpieza manual | E14: 30000 | F14: m2 | G14: 2
A15: 2023 | B15: El Banco | C15: Cienaga de la Zapatosa | D15: Repoblamiento ictico | E15: 370000 | F15: alevinos | G15: 2
A16: 2024 | B16: Puerto Wilches | C16: Ciénaga Manati Blanci | D16: Repoblamiento ictico | E16: 136000 | F16: alevinos | G16: 4
... A24: 2025 | B24: Puerto Wilches | C24: Cienaga Manati | D24: Limpieza Manual | E24: 43000 | F24: m2 | G24: 3
A25: 2025 | B25: Cimitarra | C25: Caño Negro | D25: Limpieza Manual | E25: 52800 | F25: m2 | G25: 3 | I25: 2097768
A26: 2025-2026 | B26: Zambrano | C26: Caño Zapote | D26: Limpieza mecanica | E26: 89319 | F26: m3 | G26: 9
A27: 2025-2026 | B27: Zambrano | C27: Cienaga de Zambrano | D27: Limpieza manual | E27: =130.4*10000 -> 1304000 | F27: m2 | G27: 9 | I27: =I25/10000 -> 209.7768
A28: 2025-2026 | B28: Zambrano | C28: Cienaga de Zambrano | D28: Repoblamiento ictico | E28: 1000000 | F28: alevinos | G28: 4

Sheet APUs ACT 1
A1: ANEXO 1 - ANALISIS DE PRECIOS UNITARIOS
A2: CONTRATANTE | C2: CORMAGDALENA
A3: OBJETO: DESARROLLAR ACTIVIDADES PARA LA RECUPERACIÓN DE CUERPOS DE AGUA ASOCIADOS AL RIO MAGDALENA EN LOS MUNICIPIOS RIBEREÑOS DE JURISDICCIÓN DE CORMAGDALENA.
A4: ACTIVIDAD | C4: =PRESUPUESTO!B6 -> Localización, trazado y replanteo
A5: ITEM: | B5: 1.1 | C5: Lozalización, trazado y replanteo | F5: UND: | G5: m2
A7: A. EQUIPO
H8: 1.0584351
A9: DESCRIPCION | D9: CANTIDAD | E9: TARIFA/HORA | F9: RENDIMIENTO | G9: VR PARCIAL
A10: HERRAMIENTO MENOR | D10: % | E10: =+G41 -> 358.3354 | F10: 0.1 | G10: 24.3
A11: EQUIPOS DE TOPOGRAFIA | D11: DIA | E11: =300000*H8 -> 317530.54 | F11: 1200 | G11: =+E11/F11 -> 264.60879
A12: EQUIPOS DE BATIMETRIA | D12: DIA | E12: =MROUND(36820000/30/8,10) -> 153420 | F12: =6000/8 -> 750 | G12: =+E12/F12 -> 204.56
A13: EMBARCACION FLUVIAL MENOR | D13: DIA | E13: =1200000/8 -> 150000 | F13: =6000/8 -> 750 | G13: =+E13/F13 -> 200
D18: SUB-TOTAL VALOR EQUIPO | G18: =SUM(G10:G17) -> 693.46879
A20: B. MATERIALES
A22: DESCRIPCION | D22: UNIDAD | E22: CANTIDAD | F22: VR.UNITARIO | G22: VR PARCIAL
A23: ESTACA | D23: UND | E23: 1 | F23: =300*H8 -> 317.53054 | G23: =+F23*E23 -> 317.53054
A24: PUNTILLA DE 2 A 3" | D24: LIBRA | E24: 0.01 | F24: =4000*H8 -> 4233.7406 | G24: =+F24*E24 -> 42.337406
A25: PINTURA | D25: GALON | E25: 0.01 | F25: =15000*H8 -> 15876.527 | G25: =+F25*E25 -> 158.76527
A26: NYLON | D26: UN | E26: 0.01 | F26: =10300*H8 -> 10901.882 | G26: =+F26*E26 -> 109.01882
A27: COMBUSTIBLE | D27: GALON | E27: =25/F39 -> 0.0041666667 | F27: 16000 | G27: =+F27*E27 -> 66.666667
D32: SUB-TOTAL VALOR MATERIALES | G32: =SUM(G23:G31) -> 694.31871
A34: C. MANO DE OBRA
A36: DESCRIPCION | B36: JORNAL | C36: F.PRST. | D36: Nro. | E36: TOTAL JORNAL | F36: RENDIMIENTO | G36: VALOR TOTAL
A37: TOPOGRAFO | B37: 113357.47 | C37: 0.65253718 | D37: 1 | E37: =+B37*D37*(1+C37) -> 187327.43 | F37: 1500 | G37: =+E37/F37 -> 124.88495
A38: CADENERO | B38: 66666.667 | C38: 0.7482202 | D38: 2 | E38: =+B38*D38*(1+C38) -> 233096.03 | F38: 1500 | G38: =+E38/F38 -> 155.39735
A39: HIDROGRAFO | B39: =B37*1.5 -> 170036.2 | C39: 0.65253718 | D39: 1 | E39: =+B39*D39*(1+C39) -> 280991.14 | F39: 6000 | G39: =+E39/F39 -> 46.831857
A40: PILOTO FLUVIAL | B40: =B37 -> 113357.47 | C40: 0.65253718 | D40: 1 | E40: =+B40*D40*(1+C40) -> 187327.43 | F40: 6000 | G40: =+E40/F40 -> 31.221238
D41: SUBTOTAL MANO DE OBRA | G41: =SUM(G37:G40) -> 358.3354
D43: TOTAL COSTO DIRECTO | G43: =ROUND(G18+G32+G41,0) -> 1746
A45: CONTRATANTE | C45: CORMAGDALENA
A46: OBJETO: DESARROLLAR ACTIVIDADES PARA LA RECUPERACIÓN DE CUERPOS DE AGUA ASOCIADOS AL RIO MAGDALENA EN LOS MUNICIPIOS RIBEREÑOS DE JURISDICCIÓN DE CORMAGDALENA.
A47: ACTIVIDAD | C47: =PRESUPUESTO!B7 -> Modelación hidráulica
A48: ITEM: | B48: 1.2. | C48: =PRESUPUESTO!B7 -> Modelación hidráulica | F48: UND: | G48: unidad (global)
A50: A. EQUIPO
H51: 1.0584351
A52: DESCRIPCION | D52: CANTIDAD | E52: VALOR / MES | F52: RENDIMIENTO | G52: VR PARCIAL
A53: ALQUILER DE EQUIPO DE COMPUTO DE ALTO RENDIMIENTO | D53: 1 | E53: 600000 | F53: 5 | G53: =E53*F53 -> 3000000
A54: LICENCIAS DE SOFTWARE | D54: 1 | E54: =6000*3800/12 -> 1900000 | F54: 5 | G54: =E54*F54 -> 9500000
D56: SUB-TOTAL VALOR EQUIPO | G56: =SUM(G53:G55) -> 12500000
A58: B. MATERIALES
...

Sheet APUs ACT 2
A2: ANEXO 1 - ANALISIS DE PRECIOS UNITARIOS
A3: CONTRATANTE | C3: CORMAGDALENA
A4: OBJETO: DESARROLLAR ACCIONES PARA LA RECUPERACIÓN DE LOS CUERPOS DE AGUA DEL DISTRITO DE BARRANCABERMEJA DENTRO DEL MARCO DE INVERSIÓN DE RECURSOS PARA DESCONTAMINACIÓN DEL DISTRITO ESPECIAL DE BARRANCABERMEJA LEY 161 DE 1994
A5: ACTIVIDAD | C5: =PRESUPUESTO!B10 -> RECUPERACIÓN DE LOS CUERPOS DE AGUA | J5: UNIDAD
A6: ITEM: | B6: 1.1.1 | C6: =PRESUPUESTO!B11 -> Limpieza manual de cuerpo de agua | J6: m2
A8: I. EQUIPOS/HERRAMIENTAS
B9: DESCRIPCION | G9: UNID. | H9: CANT. | I9: REND.% | J9: VR. UNIT. | K9: VR. PARCIAL
B10: HERRAMIENTA MENOR | G10: 15% MO | H10: 0.2 | I10: 0.15 | J10: =K37 -> 4911.7385 | K10: =ROUND(+J10*I10*H10,0) -> 147
B12: SUBTOTAL EQUIPOS/HERRAMIENTAS | K12: =SUM(K10:K10) -> 147
B13: VALOR REDONDEADO SUBTOTAL DE EQUIPOS/HERRAMIENTAS | K13: =ROUND(K10,0) -> 147
A15: II. MATERIALES E INSUMOS
B16: DESCRIPCION | G16: UNID. | H16: CANT. | I16: REND. | J16: VR. UNIT. | K16: VR. PARCIAL
B17: LONA TELA VERDE 50M LARGO x 2.10M ANCHO | G17: METRO | H17: 0.2 | I17: 0.01 | J17: =MERCADO!AD6*105.1% -> 257996.33 | K17: =ROUND(+J17*H17*I17,0) -> 516
B19: SUBTOTAL SIN DESPERDICIO | K19: =SUM(K17:K17) -> 516
B20: FACTOR DE DESPERDICIO | J20: 0.05 | K20: =K19*J20 -> 25.8
B21: SUBTOTAL DE MATERIALES | K21: =K20+K19 -> 541.8
B22: VALOR REDONDEADO SUBTOTAL DE MATERIALES E INSUMOS | K22: =ROUND(K21,0) -> 542
A24: III. TRANSPORTE
B25: DESCRIPCION | G25: CANT. | H25: UNID. | I25: REND. | J25: PRECIO | K25: VR. PARCIAL
B26: ALQUILER DE VOLQUETA 8 M3 | G26: 1 | H26: DIA | I26: =0.025668484945826/5 -> 0.005133697 | J26: =MERCADO!AD5*105.1% -> 683150 | K26: =+(G26*J26)*I26 -> 3507.0851
B28: SUBTOTAL TRANSPORTE | K28: =SUM(K26:K27) -> 3507.0851
B29: VALOR REDONDEADO SUBTOTAL TRANSPORTE | K29: =ROUND(K28,0) -> 3507
A31: IV. MANO DE OBRA
B32: DESCRIPCION | F32: CANT. | G32: UNID. | H32: RDTO. | I32: %. PREST. | J32: P.UNIT | K32: VR. PARCIAL
B33: CAPATAZ | F33: 1 | G33: DIA | H33: =17.1191303837405*5 -> 85.595652 | I33: ='SALARIOS Y PRESTACIONES'!F31 -> 0.65253718 | J33: ='SALARIOS Y PRESTACIONES'!F28 -> 113357.47 | K33: =+F33*J33*(1+I33)/H33 -> 2188.5157
B34: AYUDANTES | F34: 2 | G34: DIA | H34: =17.1191303837405*5 -> 85.595652 | I34: ='SALARIOS Y PRESTACIONES'!C31 -> 0.7482202 | J34: ='SALARIOS Y PRESTACIONES'!C28 -> 66666.667 | K34: =+F34*J34*(1+I34)/H34 -> 2723.2228
B36: SUBTOTAL MANO DE OBRA | K36: =SUM(K33:K35) -> 4911.7385
B37: VALOR REDONDEADO SUBTOTAL DE MANO DE OBRA | K37: =K36 -> 4911.7385
B39: TOTAL COSTO DIRECTO | J39: =ROUND(K13+K22+K29+K37,0) -> 9108
A42: CONTRATANTE | C42: CORMAGDALENA
A43: =PRESUPUESTO!A1:I1 -> OBJETO: DESARROLLAR ACTIVIDADES PARA LA RECUPERACION DE CUERPOS DE AGUA ASOCIADOS AL RIO MAGDALENA EN LOS MUNICIPIOS RIBEREÑOS DE JURISDICCIÓN DE CORMAGDALENA.
A44: ACTIVIDAD: | C44: =PRESUPUESTO!#REF! -> #REF! | J44: UNIDAD
A45: ITEM: | B45: =+PRESUPUESTO!A12 -> 2.2. | C45: =+PRESUPUESTO!B12 -> Remoción mecanica de sedimentos y/o material firmal | J45: m3
A47: No. ART. | B47: DESCRIPCION | H47: UNID. | I47: REND./HORA | J47: VR. UNIT. | K47: VR. PARCIAL
B48: EXCAVADORA DE BRAZO LARGO (ALCANCE HORIZONTAL 18MTS). INCLUYE: OPERADOR, COMBUSTIBLE, LUBRICANTES Y MTO. | H48: HORA | I48: 18 | J48: =545000*105.1% -> 572795 | K48: =ROUND(+J48/I48,0) -> 31822
B49: HERRAMIENTA MENOR | H49: 5% MO | I49: 1 | J49: 155.1 | K49: =ROUND(+J49/I49,0) -> 155
B51: SUBTOTAL EQUIPOS/HERRAMIENTAS | K51: =ROUND(SUM(K48:K50),0) -> 31977
B52: VALOR REDONDEADO SUBTOTAL DE EQUIPOS/HERRAMIENTAS | K52: =K51 -> 31977
A54: II. MATERIALES E INSUMOS
A55: No. ART. | B55: DESCRIPCION | H55: UNID. | I55: CANT. | J55: VR. UNIT. | K55: VR. PARCIAL
...

Sheet APUs ACT 3
C1: ANALISIS DE PRECIOS UNITARIOS RECUPERACION Y CONSERVACIÓN DE LA CIENAGA DE ZAMBRANO EN EL MUNICIPIO DE ZAMBRANO, EN EL DEPARTAMENTO DE BOLIVAR | J1: INSUMO | K1: UND | L1: ANALISIS DE MERCADO | P1: PROMEDIO redondeado
B2: ITEM: | C2: 3.1. | D2: =PRESUPUESTO!B17 -> Repoblamiento ictiológico con alevinos de la especie nativa Bocachico (Prochilodus magdalenae) (incluye permisos, transporte, siembra y acompañamiento de especialista) | G2: UND: | H2: UND | L2: AGUAPECES S.A.S | M2: PISICOLA SAN SILVESTRE | N2: CONTRATO HUMEDALES CESAR | O2: CONTRATO ZAMBRANO
B3: 3 | J3: Alevinos de la especie nativa Bocachico (Prochilodus magdalenae) | K3: und | L3: 370 | M3: 300 | N3: 350 | O3: 440 | P3: =ROUND(+AVERAGE(L3:O3),0) -> 365
B4: A. EQUIPO | J4: Alevinos de la especie nativa Dorada (Brycon moorei) | K4: und | L4: 420 | M4: 500 | N4: 890 | O4: 970 | P4: =ROUND(+AVERAGE(L4:O4),0) -> 695
J5: Alevinos de la especie nativa Blanquillo (Sorubim cuspicaudus) | K5: und | L5: 2700 | M5: 3400 | N5: 8900 | O5: 9050 | P5: =ROUND(+AVERAGE(L5:O5),0) -> 6013
B6: DESCRIPCION | E6: CANTIDAD | F6: TARIFA/DIA | G6: RENDIMIENTO | H6: VR PARCIAL
B7: herramienta menor | E7: 1 | F7: 0.8 | G7: 1 | H7: =+F7/G7 -> 0.8
B8: Plan de analisis de agua para repoblamiento | E8: 1 | F8: 1800000 | G8: =+[1]PPTO!D19 -> 300000 | H8: =+F8/G8 -> 6
E10: SUB-TOTAL VALOR EQUIPO | H10: =SUM(H7:H9) -> 6.8
B12: B. MATERIALES
B14: DESCRIPCION | E14: UNIDAD | F14: CANTIDAD | G14: VR.UNITARIO | H14: VR PARCIAL
B15: Alevino Bocachico | E15: und | F15: 1 | G15: =+P3 -> 365 | H15: =F15*G15 -> 365
E22: SUB-TOTAL VALOR MATERIALES | H22: =SUM(H15:H21) -> 365 | I22: =+H22/H40 -> 0.78692686
B24: C. TRANSPORTE
B26: MATERILA | C26: Vol. Peso ó Cant. | D26: Distancia | E26: M3-Km | F26: Tarifa | G26: Valor-Unit. | H26: VALOR TOTAL
B27: Ayudante | C27: 0.0006 | D27: 52 | E27: 0.0312 | F27: 1500 | G27: 46.8 | H27: 47
E29: SUBTOTAL TRANSPORTE | H29: =SUM(H27:H28) -> 47
B30: D. MANO DE OBRA
B32: DESCRIPCION | C32: JORNAL | D32: F.PRST. | E32: Nro. | F32: TOTAL JORNAL | G32: RENDIMIENTO | H32: VALOR TOTAL
B33: Ayudante | C33: 41749 | D33: 0.8 | E33: 1 | F33: =+C33*E33*(1+D33) -> 75148.2 | G33: 5000 | H33: =+F33/G33 -> 15.02964
B34: tecnico o tecnolofo en acuiculuira | C34: =2500000/30 -> 83333.333 | D34: 0.8 | E34: 1 | F34: =+C34*E34*(1+D34) -> 150000 | G34: 5000 | H34: =+F34/G34 -> 30
E38: SUBTOTAL MANO DE OBRA | H38: =SUM(H33:H37) -> 45.02964
E40: TOTAL COSTO DIRECTO | H40: =H10+H22+H29+H38 -> 463.82964
B42: ANALISIS DE PRECIOS UNITARIOS RECUPERACION Y CONSERVACIÓN DE LA CIENAGA DE ZAMBRANO EN EL MUNICIPIO DE ZAMBRANO, EN EL DEPARTAMENTO DE BOLIVAR
B43: ITEM: | C43: 3.2. | D43: =PRESUPUESTO!B18 -> Repoblamiento ictiológico con alevinos de la especie nativa Dorada (Brycon moorei) (incluye permisos, transporte, siembra y acompañamiento de especialista) | G43: UND: | H43: UND
B45: A. EQUIPO
B47: DESCRIPCION | E47: CANTIDAD | F47: TARIFA/DIA | G47: RENDIMIENTO | H47: VR PARCIAL
B48: herramienta menor | E48: 1 | F48: 0.8 | G48: 1 | H48: 0.8
B49: Plan de analisis de agua para repoblamiento | E49: 1 | F49: 1800000 | G49: =+[1]PPTO!D20 -> 100000 | H49: =+F49/G49 -> 18
E51: SUB-TOTAL VALOR EQUIPO | H51: =SUM(H48:H50) -> 18.8
B53: B. MATERIALES
B55: DESCRIPCION | E55: UNIDAD | F55: CANTIDAD | G55: VR.UNITARIO | H55: 6381
B56: Alevines de Dorada | E56: und | F56: 1 | G56: =P4 -> 695 | H56: =+G56*F56 -> 695
E63: SUB-TOTAL VALOR MATERIALES | H63: =SUM(H56:H62) -> 695
B65: C. TRANSPORTE
B67: MATERILA | C67: Vol. Peso ó Cant. | D67: Distancia | E67: M3-Km | F67: Tarifa | G67: Valor-Unit. | H67: VALOR TOTAL
B68: Ayudante | C68: 0.0006 | D68: 52 | E68: 0.0312 | F68: 1500 | G68: 46.8 | H68: 47
E70: SUBTOTAL TRANSPORTE | H70: =SUM(H68:H69) -> 47
B71: D. MANO DE OBRA
B73: DESCRIPCION | C73: JORNAL | D73: F.PRST. | E73: Nro. | F73: TOTAL JORNAL | G73: RENDIMIENTO | H73: VALOR TOTAL
...

Sheet ADMON
A1: I. PERSONAL
B2: Cargo | C2: Unidad | D2: Meses | E2: Cantidad pers. | F2: Vr UNIT (incl FP) | H2: Dedicación | I2: Vr TOTAL
B3: Director(a) | C3: persona / mes | D3: 5 | E3: 1 | F3: 12000000 | H3: 0.5 | I3: =D3*E3*F3*H3 -> 30000000
B4: Residente Civil | C4: persona / mes | D4: 5 | E4: 1 | F4: 10000000 | H4: 1 | I4: =D4*E4*F4*H4 -> 50000000
B5: Abogado | C5: persona / mes | D5: 5 | E5: 1 | F5: 8800000 | H5: 0.5 | I5: =D5*E5*F5*H5 -> 22000000
B6: Residente Ambiental | C6: persona / mes | D6: 5 | E6: 1 | F6: 8800000 | H6: 1 | I6: =D6*E6*F6*H6 -> 44000000
B7: Residente Social | C7: persona / mes | D7: 5 | E7: 1 | F7: 8000000 | H7: 1 | I7: =D7*E7*F7*H7 -> 40000000
B8: Contador(a) | C8: persona / mes | D8: 5 | E8: 1 | F8: 5000000 | H8: 1 | I8: =D8*E8*F8*H8 -> 25000000
B9: Coordinador repoblamiento | C9: persona / mes | D9: 5 | E9: 1 | F9: 6400000 | H9: 0.5 | I9: =D9*E9*F9*H9 -> 16000000
B10: Auxilar Administrativo | C10: persona / mes | D10: 5 | E10: 1 | F10: 5000000 | H10: 1 | I10: =D10*E10*F10*H10 -> 25000000
B11: Residente SST | C11: persona / mes | D11: 5 | E11: 1 | F11: 8800000 | H11: 1 | I11: =D11*E11*F11*H11 -> 44000000
A12: Sub Total Personal | I12: =SUM(I3:J11) -> 296000000
A13: II. OFICINA
C14: Unidad | D14: Meses | E14: Cantidad | F14: Vr UNIT | I14: Vr TOTAL
B15: Arriendo oficina | C15: mes | D15: 5 | E15: 1 | F15: 6200000 | I15: =D15*E15*F15 -> 31000000
B16: Costo papeleria, fotocopias, etc | C16: und | D16: 5 | E16: 1 | F16: 2500000 | I16: =D16*E16*F16 -> 12500000
B17: Servicios publicos y operacionales | C17: mes | D17: 5 | E17: 1 | F17: 2600000 | I17: =D17*E17*F17 -> 13000000
B18: Alquiler de equipos de computo y software | C18: mes | D18: 5 | E18: 1 | F18: 4000000 | I18: =D18*E18*F18 -> 20000000
B19: Alquiler de camioneta (incluye conductor, combustible, Mto) | C19: mes | D19: 5 | E19: 2 | F19: 12500000 | I19: =D19*E19*F19 -> 125000000
B20: Servicios de comunicaciones | C20: mes | D20: 5 | E20: 1 | F20: 3000000 | I20: =D20*E20*F20 -> 15000000
A21: Sub Total Oficina | I21: =SUM(I15:J20) -> 216500000
A22: III. LEGALIZACIÓN E IMPUESTOS
B23: DESCRIPCIÓN | F23: UNIDAD | G23: CANTIDAD | I23: VALOR TOTAL
B24: Polizas | F24: % | G24: 0.01 | I24: =PRESUPUESTO!$I$22*ADMON!G24 -> 32838909
B25: Estampilla contratos de obra | F25: % | G25: 0.02 | I25: =PRESUPUESTO!$I$22*ADMON!G25 -> 65677819
B26: Industria y Comercio | F26: % | G26: 0.03 | I26: =PRESUPUESTO!$I$22*ADMON!G26 -> 98516728
B27: Fosecon | F27: % | G27: 0.05 | I27: =PRESUPUESTO!$I$22*ADMON!G27 -> 1.6419455e+08
B28: Fiducia | F28: % | G28: 0.003 | I28: =PRESUPUESTO!$I$22*ADMON!G28*0.3 -> 2955501.8
A29: Sub Total Legalizacion e impuestos | I29: =SUM(I24:J28) -> 3.6418351e+08
F31: VALOR TOTAL ADMINISTRACION | H31: =I31/PRESUPUESTO!I22 -> 0.26696487 | I31: =I12+I21+I29 -> 8.7668351e+08

Sheet Priorizacion Indicativa Inicial
A1: No. | B1: Municipio(s) | C1: Complejo
A2: 1 | B2: Yondó | C2: Barbacoas
A3: 2 | B3: Banco, Tamalameque | C3: Zapatosa – Chilloa
A4: 3 | B4: Plato y Santa Bárbara de Pinto | C4: Zarate, Malibú y Veladero
A5: 4 | B5: Arjona | C5: María La Baja
A6: 5 | B6: Magangué | C6: Ciénaga Grande y cascajal
A7: 6 | B7: La Dorada | C7: Guaranicito
A8: 7 | B8: Barrancabermeja | C8: Chucuri
A9: 8 | B9: Cicuco Y Talaigua | C9: Pajaral
A10: 9 | B10: San Pablo | C10: Canaletal
A11: 10 | B11: Soplaviento | C11: Capote, Tupe, Zarzal
A12: 11 | B12: La Gloria y Tamalameque | C12: Zahaya
A13: 12 | B13: Puerto Boyacá | C13: Palagua
... A27: 26 | B27: Simiti | C27: Simiti

Sheet SALARIOS
B2: CATEGORIA | C2: PERFIL ACADEMICO | D2: EXPERIENCIA PROFESIONAL | E2: DESDE | F2: HASTA
B3: 1.1.1 | C3: Maestria | D3: Mayor a 5 años | E3: 15850107 | F3: 17338798
B4: 1.1.2 | C4: Maestria | D4: De 4 a 5 años | E4: 15095340 | F4: 15850106
B5: 1.1.3 | C5: Maestria | D5: De 3 a 4 años | E5: 14376514 | F5: 15095339
B6: 1.1.4 | C6: Maestria | D6: De 2 a 3 años | E6: 13691918 | F6: 14376513
B7: 1.1.5 | C7: Maestria | D7: De 1 a 2 años | E7: 13039922 | F7: 13691916
B8: 1.1.6 | C8: Maestria | D8: De 0 a 1 años | E8: 12418973 | F8: 13039921
B9: 1.1.7 | C9: Especialización | D9: Mayor a 5 años | E9: 11177076 | F9: 12418973
B10: 1.1.8 | C10: Especialización | D10: De 4 a 5 años | E10: 10566739 | F10: 11177075
B11: 1.1.9 | C11: Especialización | D11: De 3 a 4 años | E11: 10063560 | F11: 10566739
B12: 1.1.10 | C12: Especialización | D12: De 2 a 3 años | E12: 9584343 | F12: 10063558
B13: 1.1.11 | C13: Especialización | D13: De 1 a 2 años | E13: 9127946 | F13: 9584342
B14: 1.1.12 | C14: Especialización | D14: De 0 a 1 años | E14: 8693281 | F14: 9127946
B19: CATEGORIA | C19: EXPERIENCIA PROFESIONAL | D19: DESDE | E19: HASTA
B20: 1.2.1 | C20: Mayor a 5 años | D20: 7455012 | E20: 8693281
B21: 1.2.2 | C21: De 4 a 5 años | D21: 6511496 | E21: 6967301
B22: 1.2.3 | C22: De 3 a 4 años | D22: 6085510 | E22: 6511495
B23: 1.2.4 | C23: De 2 a 3 años | D23: 5687394 | E23: 6085509
B24: 1.2.5 | C24: De 1 a 2 años | D24: 5315321 | E24: 5687392
B25: 1.2.6 | C25: De 0 a 1 años | D25: 4967589 | E25: 5315319
B28: CATEGORIA | C28: PERFIL ACADEMICO | D28: EXPERIENCIA PROFESIONAL | E28: DESDE | F28: HASTA
B29: 1.3.1 | C29: Titulo tecnologo con experiencia | D29: Mayor a 5 años | E29: 3582390 | F29: 4418289
B30: 1.3.2 | C30: Titulo tecnologo | D30: De 0 a 5 años | E30: 3343570 | F30: 3582396
B31: 1.3.3 | C31: Titulo de formación técnica | D31: No aplica | E31: 2842034 | F31: 3439100
B32: 1.3.4 | C32: Aprobación de 3 años de educación superior | D32: 6 meses de experiencia relacionada o laboral | E32: 3080861 | F32: 3582396
B33: 1.3.5 | C33: Aprobación de 3 años de educación superior en la modalidad de formación tecnológica o profesional universitaria | D33: No aplica | E33: 2746504 | F33: 3080860
B37: CATEGORIA | C37: PERFIL ACADEMICO | D37: EXPERIENCIA PROFESIONAL | E37: DESDE | F37: HASTA
B38: 1.4.1 | C38: Titulo de bachiller en cualquier modalidad | D38: Mayor de 2 años | E38: 2483795 | F38: 2732174
B39: 1.4.2 | C39: Titulo de bachiller en cualquier modalidad | D39: De 0 a 2 años | E39: 2235415 | F39: 2483796
B43: CATEGORIA | C43: PERFIL ACADEMICO | D43: EXPERIENCIA PROFESIONAL | E43: DESDE | F43: HASTA
B44: 2.1.1 | C44: Maestria | D44: Mayor de 10 años | E44: 11177078 | F44: 12418973
C45: Especialización | E45: 99352179 | F45: 11177076
B46: 2.1.2 | C46: Maestria | D46: De 8 a 10 años | E46: 9935179 | F46: 11177076
C47: Especialización | E47: 8693281 | F47: 9935178
B48: 2.1.3 | C48: Maestria | D48: De 6 a 8 años | E48: 8693281 | F48: 9935178
C49: Especialización | E49: 7451384 | F49: 8693281
B50: 2.1.4 | C50: Maestria | D50: De 4 a 6 años | E50: 7451384 | F50: 8693281
C51: Especialización | E51: 6209487 | F51: 7451384
B52: 2.1.5 | C52: Maestria | D52: De 2 a 4 años | E52: 6209487 | F52: 7451382
C53: Especialización | E53: 4967589 | F53: 6209485
...

Sheet SALARIOS Y PRESTACIONES
B1: SUELDOS Y PARAFISCALES PERSONAL POR SALARIO MINIMO
B2: 46054
B3: CARGO | D3: AYUDANTES | E3: VIGILANTE | F3: CAPATAZ | G3: OFICIAL | H3: Topografo / Oficial Electricista | I3: MAESTRO / SOLDADOR | J3: ING. RESIDENTE | K3: DIRECTOR OBRA
B4: SALARIO ANUAL SMMLV | C4: 1 | D4: 1.2 | E4: 1.5 | F4: 1.8 | G4: 2.1 | H4: 2.5 | I4: 2.5 | J4: 3.5 | K4: 4
B5: AUX TRANS ANUAL SIN DESC (B*12) | C5: =+C6*12 -> 2989140 | D5: =+D6*12 -> 2989140 | E5: =+E6*12 -> 2989140 | F5: =+F6*12 -> 2989140 | G5: =+G6*12 -> 0 | H5: =+H6*12 -> 0 | I5: =+I6*12 -> 0 | J5: =+J6*12 -> 0 | K5: =+K6*12 -> 0
B6: (B) AUX TRANS MES | C6: 249095 | D6: =C6 -> 249095 | E6: =D6 -> 249095 | F6: =E6 -> 249095 | H6: 0 | I6: 0 | J6: 0 | K6: 0
B7: (A) SALARIO MES | C7: 1750905 | D7: =ROUND($C$7*D4,0) -> 2101086 | E7: =ROUND($C$7*E4,0) -> 2626358 | F7: =ROUND($C$7*F4,0) -> 3151629 | G7: =ROUND($C$7*G4,0) -> 3676901 | H7: =ROUND($C$7*H4,0) -> 4377263 | I7: =ROUND($C$7*I4,0) -> 4377263 | J7: =ROUND($C$7*J4,0) -> 6128168 | K7: =ROUND($C$7*K4,0) -> 7003620
B8: SUELDO ANUAL (Ax 12) | C8: =+ROUND(C7*12,0) -> 21010860 | D8: =+ROUND(D7*12,0) -> 25213032 | E8: =+ROUND(E7*12,0) -> 31516296 | F8: =+ROUND(F7*12,0) -> 37819548 | G8: =+ROUND(G7*12,0) -> 44122812 | H8: =+ROUND(H7*12,0) -> 52527156 | I8: =+ROUND(I7*12,0) -> 52527156 | J8: =+ROUND(J7*12,0) -> 73538016 | K8: =+ROUND(K7*12,0) -> 84043440
B9: (C ) CESANTIAS (A+B)*10% | C9: =+C7+C6 -> 2000000 | D9: =+D7+D6 -> 2350181 | E9: =+E7+E6 -> 2875453 | F9: =+F7+F6 -> 3400724 | G9: =+G7+G6 -> 3676901 | H9: =+H7+H6 -> 4377263 | I9: =+I7+I6 -> 4377263 | J9: =+J7+J6 -> 6128168 | K9: =+K7+K6 -> 7003620
B10: VACACIONES (A+B) | C10: =+ROUND(C7/2,0) -> 875453 | D10: =+ROUND(D7/2,0) -> 1050543 | E10: =+ROUND(E7/2,0) -> 1313179 | F10: =+ROUND(F7/2,0) -> 1575815 | G10: =+ROUND(G7/2,0) -> 1838451 | H10: =+ROUND(H7/2,0) -> 2188632 | I10: =+ROUND(I7/2,0) -> 2188632 | J10: =+ROUND(J7/2,0) -> 3064084 | K10: =+ROUND(K7/2,0) -> 3501810
B11: PRIMA (A+B) | C11: =+C7+C6 -> 2000000 | D11: =+D7+D6 -> 2350181 | E11: =+E7+E6 -> 2875453 | F11: =+F7+F6 -> 3400724 | G11: =+G7+G6 -> 3676901 | H11: =+H7 -> 4377263 | I11: =+I7 -> 4377263 | J11: =+J7 -> 6128168 | K11: =+K7 -> 7003620
B12: INTERÉS DE CESANTÍA (CX12%) | C12: =+ROUND(C9*(1%*12),0) -> 240000 | D12: =+ROUND(D9*(1%*12),0) -> 282022 | E12: =+ROUND(E9*(1%*12),0) -> 345054 | F12: =+ROUND(F9*(1%*12),0) -> 408087 | G12: =+ROUND(G9*(1%*12),0) -> 441228 | H12: =+ROUND(H9*(1%*12),0) -> 525272 | I12: =+ROUND(I9*(1%*12),0) -> 525272 | J12: =+ROUND(J9*(1%*12),0) -> 735380 | K12: =+ROUND(K9*(1%*12),0) -> 840434
B13: FONDO FORMACIÓN PROFESIONAL DEL SENA (A+12/40) | C13: =+ROUND((C7*12)/40,0) -> 525272 | D13: =+ROUND((C7*12)/40,0) -> 525272 | E13: =+ROUND((C7*12)/40,0) -> 525272 | F13: =+ROUND((C7*12)/40,0) -> 525272 | G13: =+ROUND((C7*12)/40,0) -> 525272 | H13: =+ROUND((C7*12)/40,0) -> 525272 | I13: =+ROUND(($C$6*12)/40,0) -> 74729 | J13: =+ROUND(($C$6*12)/40,0) -> 74729 | K13: =+ROUND(($C$6*12)/40,0) -> 74729
B14: AUX TRANSP CON DESC | C14: =(C6/30)*(360-18) -> 2839683 | D14: =(D6/30)*(365-20) -> 2864592.5 | E14: =(E6/30)*(360-18) -> 2839683 | F14: =(F6/30)*(360-18) -> 2839683 | H14: =(H6/30)*(360-18) -> 0 | I14: =(I6/30)*(360-18) -> 0 | J14: =(J6/30)*(360-18) -> 0 | K14: =(K6/30)*(360-18) -> 0
B15: SALUD (8,5%) | C15: =+C8*8.5% -> 1785923.1 | D15: =+D8*8.5% -> 2143107.7 | E15: =+E8*8.5% -> 2678885.2 | F15: =+F8*8.5% -> 3214661.6 | G15: =+G8*8.5% -> 3750439 | H15: =+H8*8.5% -> 4464808.3 | I15: =+I8*8.5% -> 4464808.3 | J15: =+J8*8.5% -> 6250731.4 | K15: =+K8*8.5% -> 7143692.4
B16: PENSION ((A*12)*12%) | C16: =+ROUND(C8*12%,0) -> 2521303 | D16: =+ROUND(D8*12%,0) -> 3025564 | E16: =+ROUND(E8*12%,0) -> 3781956 | F16: =+ROUND(F8*12%,0) -> 4538346 | G16: =+ROUND(G8*12%,0) -> 5294737 | H16: =+ROUND(H8*12%,0) -> 6303259 | I16: =+ROUND(I8*12%,0) -> 6303259 | J16: =+ROUND(J8*12%,0) -> 8824562 | K16: =+ROUND(K8*12%,0) -> 10085213
B17: RIESGOS PROFESIONALES ((A*12)*6,96) | C17: =+ROUND((C7*12)*6.96%,0) -> 1462356 | D17: =+ROUND(D8*6.96%,0) -> 1754827 | E17: =+ROUND((E7*12)*6.96%,0) -> 2193534 | F17: =+ROUND((F7*12)*6.96%,0) -> 2632241 | G17: =+ROUND((G7*12)*6.96%,0) -> 3070948 | H17: =+ROUND((H7*12)*6.96%,0) -> 3655890 | I17: =+ROUND((I7*12)*6.96%,0) -> 3655890 | J17: =+ROUND((J7*12)*6.96%,0) -> 5118246 | K17: =+ROUND((K7*12)*6.96%,0) -> 5849423
B18: CAJA DE COMPENSACIÓN (A*12)*4%) | C18: =+ROUND((C7*12)*4%,0) -> 840434 | D18: =+ROUND((D7*12)*4%,0) -> 1008521 | E18: =+ROUND((E7*12)*4%,0) -> 1260652 | F18: =+ROUND((F7*12)*4%,0) -> 1512782 | G18: =+ROUND((G7*12)*4%,0) -> 1764912 | H18: =+ROUND((H7*12)*4%,0) -> 2101086 | I18: =+ROUND((I7*12)*4%,0) -> 2101086 | J18: =+ROUND((J7*12)*4%,0) -> 2941521 | K18: =+ROUND((K7*12)*4%,0) -> 3361738
B19: SENA SEGÚN CREE | C19: 0 | D19: 0 | E19: 0 | F19: 0 | G19: 0 | H19: 0 | I19: 0 | J19: 0 | K19: 0
B20: ICBF SEGÚN CREE | C20: 0 | D20: 0 | E20: 0 | F20: 0 | G20: 0 | H20: 0 | I20: 0 | J20: 0 | K20: 0
B21: DOTACIÓN (3,5%) | C21: =+$C$7*3%*12 -> 630325.8 | D21: =+$C$7*3%*12 -> 630325.8 | E21: =+$C$7*3%*12 -> 630325.8 | F21: =+$C$7*3%*12 -> 630325.8 | G21: =+$C$7*3%*12 -> 630325.8 | H21: 0 | I21: 0 | J21: 0 | K21: 0
B22: EXAMEN MÉDICO
B23: SALARIO ANUAL CON PRESTACIONES | C23: =SUM(C8:C22) -> 36731610 | D23: =SUM(D8:D22) -> 43198169 | E23: =SUM(E8:E22) -> 52835743 | F23: =SUM(F8:F22) -> 62498209 | G23: =SUM(G8:G22) -> 68792927 | H23: =SUM(H8:H22) -> 81045901 | I23: =SUM(I8:I22) -> 80595358 | J23: =SUM(J8:J22) -> 1.1280361e+08 | K23: =SUM(K8:K22) -> 1.2890772e+08
B25: SALARIO NOMINAL
B26: ANUAL | C26: =+C5+C8 -> 24000000 | D26: =+D5+D8 -> 28202172 | E26: =+E5+E8 -> 34505436 | F26: =+F5+F8 -> 40808688 | G26: =+G5+G8 -> 44122812 | H26: =+H5+H8 -> 52527156 | I26: =+I5+I8 -> 52527156 | J26: =+J5+J8 -> 73538016 | K26: =+K5+K8 -> 84043440
B27: MENSUAL | C27: =+C6+C7 -> 2000000 | D27: =+D7 -> 2101086 | E27: =+E6+E7 -> 2875453 | F27: =+F6+F7 -> 3400724 | G27: =+G6+G7 -> 3676901 | H27: =+H6+H7 -> 4377263 | I27: =+I6+I7 -> 4377263 | J27: =+J6+J7 -> 6128168 | K27: =+K6+K7 -> 7003620
B28: DIA | C28: =+C27/30 -> 66666.667 | D28: =+D27/30 -> 70036.2 | E28: =+E27/30 -> 95848.433 | F28: =+F27/30 -> 113357.47 | G28: =+G27/30 -> 122563.37 | H28: =+H27/30 -> 145908.77 | I28: =+I27/30 -> 145908.77 | J28: =+J27/30 -> 204272.27 | K28: =+K27/30 -> 233454
B29: HORA | C29: =+ROUND(C28/8,0) -> 8333 | D29: =+ROUND(D28/8,0) -> 8755 | E29: =+ROUND(E28/8,0) -> 11981 | F29: =+ROUND(F28/8,0) -> 14170 | G29: =+ROUND(G28/8,0) -> 15320 | H29: =+ROUND(H28/8,0) -> 18239 | I29: =+ROUND(I28/8,0) -> 18239 | J29: =+ROUND(J28/8,0) -> 25534 | K29: =+ROUND(K28/8,0) -> 29182
C30: =C8 -> 21010860 | D30: =D8 -> 25213032 | E30: =E8 -> 31516296 | F30: =F8 -> 37819548 | G30: =G8 -> 44122812 | H30: =H8 -> 52527156 | I30: =I8 -> 52527156 | J30: =J8 -> 73538016 | K30: =K8 -> 84043440
B31: FACTOR PRESTACIONAL | C31: =(C23-C30)/C30 -> 0.7482202 | D31: =(D23-D30)/D30 -> 0.71332702 | E31: =(E23-E30)/E30 -> 0.67645789 | F31: =(F23-F30)/F30 -> 0.65253718 | G31: =(G23-G30)/G30 -> 0.55912381 | H31: =(H23-H30)/H30 -> 0.54293336 | I31: =(I23-I30)/I30 -> 0.53435602 | J31: =(J23-J30)/J30 -> 0.53394953 | K31: =(K23-K30)/K30 -> 0.5338225
B33: CARG | C33: DIA | D33: DIA + FACTOR PRESTACIONAL | E33: VALOR MENSUAL
C34: =C28 -> 66666.667 | D34: =+C28*(1+C31) -> 116548.01 | E34: =ROUND(+D34*30,0) -> 3496440
B36: CUADRILLAS | C36: UND | D36: JORNAL | E36: F.P | F36: JORNAL + PRESTACIONES
B37: OPERADOR DE MOTOSIERRA | C37: DIA | D37: =C28 -> 66666.667 | E37: =C31 -> 0.7482202 | F37: =+D37*(1+E37) -> 116548.01

Sheet MERCADO
A1: ID | B1: INSUMO | C1: UND | D1: PISCÍCOLA MORA PEZ. | E1: AGUAPECES S.A.S | F1: PISICOLA SAN SILVESTRE | G1: AFROTARUYA | H1: N/N | I1: IVANESCA | J1: D&E INGENIERIA Y CONTRUCCION | K1: INCODEXCA SAS | L1: SERVIBOL | M1: TECNIAGRO | N1: INPROSEG | O1: HIERROS Y LAMINAS | P1: AGROCOL | Q1: AMERICANA DE SERVICIOS | R1: MATERIALES COLOMBIA LTDA | S1: R&R GLOBAL | T1: GLP MULTISERVICIOS | U1: E&J | V1: MARIA ALEJANDRA ROJAS | W1: DORYNEL | X1: KREA MONSAING S.A.S | Y1: INPROTEG S.A. | Z1: AMSTRA SAS | AA1: Llitodiseños | AB1: PROMEDIOS llevados a ceros | AD1: PROMEDIOS llevados a ceros
A4: 1.1.1 | B4: Sacos en fibra | C4: und | N4: 2700 | P4: 2000 | Q4: 3000 | R4: 1800 | V4: 1900 | AB4: =+AVERAGE(D4:AA4) -> 2280 | AD4: =ROUND(AVERAGE(D4:AA4),0) -> 2280
B5: Alquiler de volqueta de 8 m3 | C5: dia | J5: 1000000 | K5: 1000000 | AB5: =+AVERAGE(D5:AA5) -> 1000000 | AD5: 650000
A6: 1.1.2 | B6: Lona tela verde 50 mt largo x 2.10 mt ancho | C6: mtr | M6: 268908 | O6: 370000 | Q6: 300000 | V6: 43000 | AB6: =+AVERAGE(D6:AA6) -> 245477 | AD6: =ROUND(AVERAGE(D6:AA6),0) -> 245477
B7: Transporte en motorcanoa (incluye combustible) | C7: dia | G7: 600000 | H7: 680000 | AB7: =+AVERAGE(D7:AA7) -> 640000 | AD7: =ROUND(AVERAGE(D7:AA7),0) -> 640000
A8: 1.1.3 | B8: Servicio de motosierra | C8: dia | M8: 200000 | N8: 240000 | Q8: 250000 | T8: 420000 | AB8: =+AVERAGE(D8:AA8) -> 277500 | AD8: =ROUND(AVERAGE(D8:AA8),0) -> 277500
B9: Servicio de guadañadora | C9: dia | M9: 250000 | N9: 190000 | Q9: 200000 | T9: 300000 | AB9: =+AVERAGE(D9:AA9) -> 235000 | AD9: =ROUND(AVERAGE(D9:AA9),0) -> 235000
B10: Transporte en motorcanoa (incluye combustible) | C10: dia | G10: 600000 | H10: 680000 | AB10: =+AVERAGE(D10:AA10) -> 640000 | AD10: =ROUND(AVERAGE(D10:AA10),0) -> 640000
A11: 2.1.1 | B11: Servicio de motosierra | C11: dia | M11: 200000 | N11: 240000 | Q11: 250000 | T11: 420000 | AB11: =+AVERAGE(D11:AA11) -> 277500 | AD11: =ROUND(AVERAGE(D11:AA11),0) -> 277500
B12: Servicio de guadañadora | C12: dia | M12: 250000 | N12: 190000 | Q12: 200000 | T12: 300000 | AB12: =+AVERAGE(D12:AA12) -> 235000 | AD12: =ROUND(AVERAGE(D12:AA12),0) -> 235000
B13: Soga de 5/8 * 150 mt | C13: rollo | L13: 1933 | AB13: =+AVERAGE(D13:AA13) -> 1933 | AD13: =ROUND(AVERAGE(D13:AA13),0) -> 1933
B14: Lona plastica 6,4 mt x 20 mt | C14: rollo | N14: 450000 | V14: 473326 | AB14: =+AVERAGE(D14:AA14) -> 461663 | AD14: =ROUND(AVERAGE(D14:AA14),0) -> 461663
B15: Overol impermeable tipo escafranda bajo norma, botas + guantes | C15: und | V15: 350000 | AB15: =+AVERAGE(D15:AA15) -> 350000 | AD15: =ROUND(AVERAGE(D15:AA15),0) -> 350000
B16: Transporte en motorcanoa (incluye combustible) | C16: dia | G16: 600000 | H16: 680000 | AB16: =+AVERAGE(D16:AA16) -> 640000 | AD16: =ROUND(AVERAGE(D16:AA16),0) -> 640000
B17: Transporte canoa (trabajadores) | C17: dia | G17: 100000 | H17: 100000 | AB17: =+AVERAGE(D17:AA17) -> 100000 | AD17: =ROUND(AVERAGE(D17:AA17),0) -> 100000
B18: Canoa de pesca fibra de 11 varas, canalete, palanca, chaleco, y operario. | C18: dia | G18: 200000 | H18: 180000 | AB18: =+AVERAGE(D18:AA18) -> 190000 | AD18: =ROUND(AVERAGE(D18:AA18),0) -> 190000
B19: Alquiler de volqueta de 8 m3 | C19: dia | I19: 0 | J19: 1000000 | K19: 1000000 | AB19: =+AVERAGE(D19:AA19) -> 666666.67 | AD19: =ROUND(AVERAGE(D19:AA19),0) -> 666667
A20: 3 | B20: Elaboracion de valla estructural | C20: und | X20: 1200000 | Y20: 1400000 | Z20: 1950000 | AB20: =+AVERAGE(D20:AA20) -> 1516666.7 | AD20: =ROUND(AVERAGE(D20:AB20),0) -> 1516667
A21: 5.1 | B21: Excavadora de brazo largo. incluye: operador, combustible, lubricantes y mto. | C21: hora | I21: 0 | J21: 250000 | K21: 275000 | AB21: =+AVERAGE(D21:AA21) -> 175000 | AD21: =ROUND(AVERAGE(D21:AB21),0) -> 175000
B22: minicargador ( incluye combustible ) | C22: hora | I22: 160000 | J22: 140000 | K22: 175000 | AB22: =+AVERAGE(D22:AA22) -> 158333.33 | AD22: =ROUND(AVERAGE(D22:AB22),0) -> 158333
B23: Transporte de residuos a la escombrera (disposicion) - Alquiler de volqueta de 8 m3 | C23: viaje | I23: 0 | J23: 1000000 | K23: 1000000 | AB23: =+AVERAGE(D23:AA23) -> 666666.67 | AD23: =ROUND(AVERAGE(D23:AA23),0) -> 666667
B24: Transporte excavadora en cama baja | C24: viaje | S24: 1500000 | T24: 1800000 | U24: 3400000 | AB24: =+AVERAGE(D24:AA24) -> 2233333.3 | AD24: =ROUND(AVERAGE(D24:AB24),0) -> 2233333
B25: FERRI | I25: 200000 | J25: 200000 | AB25: =+AVERAGE(D25:AA25) -> 200000
A26: 4 | B26: Alevinos de la especie nativa Bocachico (Prochilodus magdalenae) | C26: und | D26: 600 | E26: 550 | F26: 500 | AB26: =+AVERAGE(D26:AA26) -> 550 | AD26: =ROUND(AVERAGE(D26:AB26),0) -> 550
B27: Alevinos de la especie nativa Dorada (Brycon moorei) | C27: und | D27: 700 | E27: 650 | F27: 600 | AB27: =+AVERAGE(D27:AA27) -> 650 | AD27: =ROUND(AVERAGE(D27:AB27),0) -> 650
B28: Alevinos de la especie nativa Blanquillo (Sorubim cuspicaudus) | C28: und | D28: 3800 | E28: 3500 | F28: 3200 | AB28: =+AVERAGE(D28:AA28) -> 3500 | AD28: =ROUND(AVERAGE(D28:AB28),0) -> 3500
A29: 5.1 | B29: video beam | C29: dia | W29: 100000 | AB29: =+AVERAGE(D29:AA29) -> 100000 | AD29: =ROUND(AVERAGE(D29:AB29),0) -> 100000
B30: alquiler capata de evetnos 6x4 m | C30: dia | W30: 90000 | AB30: =+AVERAGE(D30:AA30) -> 90000 | AD30: =ROUND(AVERAGE(D30:AB30),0) -> 90000
B31: alquiler de mesa plegable de 1,80 m de larga | C31: dia | W31: 16000 | AB31: =+AVERAGE(D31:AA31) -> 16000 | AD31: =ROUND(AVERAGE(D31:AB31),0) -> 16000
B32: alquiler de sillas rimax | C32: dia | W32: 1000 | AB32: =+AVERAGE(D32:AA32) -> 1000 | AD32: =ROUND(AVERAGE(D32:AB32),0) -> 1000
B33: material didactico por taller(folletos,memoria,etc) | C33: und | AA33: 5000 | AB33: =+AVERAGE(D33:AA33) -> 5000 | AD33: =ROUND(AVERAGE(D33:AB33),0) -> 5000

Sheet MERCADO.
A1: ID | B1: INSUMO | C1: UND | D1: CONTRATOS SECOP 2022 ALCALDIA DE BARRANCABERMEJA | F1: CONTRATO SECOP 2023 ALCALDIA DE BARRANCABERMEJA | G1: SEFLULL | H1: APALL | I1: CORPOSPA | J1: SIPESA | K1: FERRETERIA LA 20 | L1: RENTAK | M1: R&R GLOBAL | O1: TECNIAGRO | P1: INPROSEG | Q1: HIERROS Y LAMINAS | R1: AGROCOL | S1: AMERICANA DE SERVICIOS | T1: AGROTODO | U1: GLP MULTISERVICIOS | V1: AR & SAN | W1: E&J | X1: PROMEDIOS llevados a ceros
D2: CONTRATO 4044-22 U.T. CENAGOSOS | E2: CONTRATO 5623-22 U.T. REHABILITACION AMBIENTAL | F2: CONTRATO 4051-2023 UNIÓN TEMPORAL CUERPOS HÍDRICOS | N2: AR&SAN
A4: 1.1 | B4: TRANSPORTE DE MOTOR CANOA (INLCUYE COMBUSTIBLE) | C4: dia | E4: 1833.33 | G4: 650000 | H4: 600000 | I4: 500000 | M4: 780000 | X4: =ROUND(AVERAGE(G4:W4),0) -> 632500
A5: 1.2 | B5: TRANSPORTE CANOA (TRABAJADORES) | C5: dia | E5: 550000 | G5: 350000 | H5: 300000 | I5: 200000 | M5: 170000 | X5: =ROUND(AVERAGE(G5:W5),0) -> 255000
A6: 1.1 | B6: MINICARGADOR CON PALA | C6: dia | D6: 350000 | J6: 950000 | L6: 700000 | M6: 960000 | T6: 800000 | U6: 160000 | X6: =ROUND(AVERAGE(G6:W6),0) -> 714000
A7: 1.2 | B7: ALQUILER VOLQUETA | C7: dia | D7: 100000 | H7: 0 | M7: 600000 | T7: 500000 | U7: 600000 | V7: 600000 | X7: =ROUND(AVERAGE(G7:W7),0) -> 460000
A8: 1.3 | B8: EXCAVADORA DE BRAZO LARGO, INCLUYE: OPERADOR,COMBUSTIBLE,LIBURICANTES Y MTO | C8: hora | D8: 476663 | H8: 0 | T8: 200000 | V8: 260000 | W8: 170000 | X8: =ROUND(AVERAGE(G8:W8),0) -> 157500
A9: 1.4 | B9: TRANSPORTE EXCAVADORA EN CAMA BAJA | C9: und | E9: 550000 | J9: 550000 | M9: 1800000 | T9: 1500000 | V9: 3400000 | X9: =ROUND(AVERAGE(D9:W9),0) -> 1560000
A10: 1.5 | B10: MOTOSIERRA | C10: und | M10: 300000 | X10: =ROUND(AVERAGE(G10:W10),0) -> 300000
A11: 1.6 | B11: SERVICIO DE GUADAÑADORA | C11: dia | M11: 300000 | O11: 190000 | R11: 200000 | X11: =ROUND(AVERAGE(D11:W11),0) -> 230000
A13: 1.6 | B13: SOGA - MANILA POLIPROPILENO DE 5/8* 150MT | C13: m | K13: 3235.29 | N13: 2700 | O13: 450 | R13: 480000 | X13: =ROUND(AVERAGE(G13:W13),0) -> 121596
A14: 1.7 | B14: SACOS EN FIBRA | C14: und | K14: 840.34 | O14: 2700 | Q14: 2000 | R14: 2000 | S14: 1500 | W14: 1900 | X14: =ROUND(AVERAGE(D14:W14),0) -> 1823
A15: 1.8 | B15: LONA TELA VERDE 5,0M LARGO X 3,10 M ANCHO | C15: und | K15: 2016 | N15: 2200 | P15: 370000 | R15: 270000 | W15: 43000 | X15: =ROUND(AVERAGE(D15:W15),0) -> 137443
A16: 1.9 | B16: LONA PLASTICA 6,4MX20M | C16: und | K16: 6135 | N16: 6300 | O16: 450000 | W16: 473326 | X16: =ROUND(AVERAGE(D16:W16),0) -> 233940
A17: 1.10 | B17: OVEROL IMPERMEHABKE TIPO ESCAFRANDA BAJO NORA, BOTAS+GUANTES | C17: und | W17: 350000 | X17: =ROUND(AVERAGE(D17:W17),0) -> 350000
D18: PISCICOLA S.A.S | E18: ACUAPECES
A19: 4 | B19: Alevinos de la especie nativa Bocachico (Prochilodus magdalenae) | C19: und | D19: 600 | E19: 550 | F19: 500 | AB19: =+AVERAGE(D19:AA19) -> 550 | AD19: =ROUND(AVERAGE(D19:AB19),0) -> 550
B20: Alevinos de la especie nativa Dorada (Brycon moorei) | C20: und | D20: 700 | E20: 650 | F20: 600 | AB20: =+AVERAGE(D20:AA20) -> 650 | AD20: =ROUND(AVERAGE(D20:AB20),0) -> 650
B21: Alevinos de la especie nativa Blanquillo (Sorubim cuspicaudus) | C21: und | D21: 3800 | E21: 3500 | F21: 3200 | AB21: =+AVERAGE(D21:AA21) -> 3500 | AD21: =ROUND(AVERAGE(D21:AB21),0) -> 3500
