Workbook
Name \0: #REF!
Name \00: #REF!
Name \a: #REF!
Name \a: #REF!
Name \AA: [1]LIQUIDACION!#REF!
Name \b: [2]STRSUMM0!#REF!
Name \bb: [2]STRSUMM0!#REF!
Name \E: #REF!
Name \EE: #REF!
Name \G: #REF!
Name \k: '[3]7422CW00'!#REF!
Name \l: [4]STRSUMM0!#REF!
Name \M: #REF!
Name \ñ: '[5]7422CW00'!#REF!
Name \P: #REF!
Name \R: #REF!
Name \s: #REF!
Name \s: #REF!
Name \V: #REF!
Name \X: 'INDICAR CÓDIGO DEL ITEM DE PAGO'!ERR
Name \X: [0]!ERR
Name \Z: 'INDICAR CÓDIGO DEL ITEM DE PAGO'!ERR
Name \Z: [0]!ERR
Name _________AFC1: [6]INV!$A$25:$D$28
Name _________AFC3: [6]INV!$F$25:$I$28
Name _________AFC5: [6]INV!$K$25:$N$28
Name _________BGC1: [6]INV!$A$5:$D$8
Name _________BGC3: [6]INV!$F$5:$I$8
Name _________BGC5: [6]INV!$K$5:$N$8
Name _________CAC1: [6]INV!$A$19:$D$22
Name _________CAC3: [6]INV!$F$19:$I$22
Name _________CAC5: [6]INV!$K$19:$N$22
Name _________PJ50: #REF!
Name _________PJ50: #REF!
Name _________SBC1: [6]INV!$A$12:$D$15
Name _________SBC3: [6]INV!$F$12:$I$15
Name _________SBC5: [6]INV!$K$12:$N$15
Name ________AFC1: [6]INV!$A$25:$D$28
Name ________AFC3: [6]INV!$F$25:$I$28
Name ________AFC5: [6]INV!$K$25:$N$28
Name ________BGC1: [6]INV!$A$5:$D$8
Name ________BGC3: [6]INV!$F$5:$I$8
Name ________BGC5: [6]INV!$K$5:$N$8
Name ________CAC1: [6]INV!$A$19:$D$22
Name ________CAC3: [6]INV!$F$19:$I$22
Name ________CAC5: [6]INV!$K$19:$N$22
Name ________MA2: #REF!
Name ________MA2: #REF!
Name ________PJ50: #REF!
Name ________PJ50: #REF!
Name ________SBC1: [6]INV!$A$12:$D$15
Name ________SBC3: [6]INV!$F$12:$I$15
Name ________SBC5: [6]INV!$K$12:$N$15
Name _______AFC1: [6]INV!$A$25:$D$28
Name _______AFC3: [6]INV!$F$25:$I$28
Name _______AFC5: [6]INV!$K$25:$N$28
Name _______BGC1: [6]INV!$A$5:$D$8
Name _______BGC3: [6]INV!$F$5:$I$8
Name _______BGC5: [6]INV!$K$5:$N$8
Name _______CAC1: [6]INV!$A$19:$D$22

Sheet PRESUPUESTO OFICIAL (Entidad)
C3: Formulario 1 - Propuesta económica - Licitación de obra pública de infraestructura social
C4: Código | D4: CCE-EICP-FM-116 | E4: Versión | F4: 1
C6: PRESUPUESTO OFICIAL
C7: [La Entidad puede utilizar este Formulario de detalle del Presupuesto Oficial para determinar las condiciones bajo las cuales los Proponentes analizarán y presentarán su propuesta económica de forma detallada, sin perjuicio que la Entidad pueda modificarlo o establecer la presentación de la oferta económica con un Formulario distinto al indicado.]
C9: Adicionalmente, cuando el Proceso de Contratación es estructurado por Precios Unitarios, la Entidad debe aplicar las notas 1, 2 y 3 del presente Formulario y las casillas de "Descripción", "Porcentaje" de la Administración, Imprevisto, Utilidad y total A.I.U. resaltadas en color amarillo. Tratándose de otras modalidades de precio, la Entidad puede o no configurar los mismos aspectos.
C11: Nº | D11: ÍTEM DE PAGO | E11: ESPECIFICACIONES | G11: DESCRIPCIÓN | H11: UND. | I11: CANTIDAD | J11: VALOR UNITARIO | K11: VALOR TOTAL | O11: VALOR UNITARIO SIN AIU
E12: GENERAL | F12: PARTICULAR
C14: 1.01 | D14: 600.4 P | E14: Invias | F14: Cartilla ICCU 2022 VT2 | G14: Excavaciones varias en material común seco a mano (incluye retiro de sobrantes a una distancia menor de 5 km) | H14: M3 | I14: ='PRESUPUESTO OFICIAL (Entidad)1'!I16+'PRESUPUESTO OFICIAL (Entidad)2'!I14 -> 17.05 | J14: =O14*(1+$K$38) -> 64284.22 | K14: =I14*J14 -> 1096046 | O14: 48334
C15: 1.02 | D15: 630.4 | E15: Invias | F15: Cartilla ICCU 2022 VT2 | G15: Concretos clase D, F´C =3000 PSI (bases) | H15: M3 | I15: ='PRESUPUESTO OFICIAL (Entidad)1'!I17+'PRESUPUESTO OFICIAL (Entidad)2'!I15 -> 62 | J15: =O15*(1+$K$38) -> 925504.44 | K15: =I15*J15 -> 57381275 | O15: 695868
C16: 1.03 | D16: 630.7 | E16: Invias | F16: Cartilla ICCU 2022 VT2 | G16: Concreto ciclópeo clase G, 2000 PSI 40% rajón para bases | H16: M3 | I16: ='PRESUPUESTO OFICIAL (Entidad)1'!I18+'PRESUPUESTO OFICIAL (Entidad)2'!I16 -> 40.92 | J16: =O16*(1+$K$38) -> 616987 | K16: =I16*J16 -> 25247108 | O16: 463900
C17: 1.04 | D17: 671.1 | E17: Invias | F17: Cartilla ICCU 2022 VT2 | G17: Cuneta de concreto clase E, 2500 PSI fundida en el lugar | H17: M3 | I17: ='PRESUPUESTO OFICIAL (Entidad)1'!I19+'PRESUPUESTO OFICIAL (Entidad)2'!I17 -> 38 | J17: =O17*(1+$K$38) -> 784093.52 | K17: =I17*J17 -> 29795554 | O17: 589544
C18: 1.05 | D18: 640.1 | E18: Invias | F18: Cartilla ICCU 2022 VT2 | G18: Suministro figurado y armado de acero de refuerzo 60000 PSI | H18: KG | I18: ='PRESUPUESTO OFICIAL (Entidad)1'!I20+'PRESUPUESTO OFICIAL (Entidad)2'!I18 -> 6595.4 | J18: =O18*(1+$K$38) -> 11282.39 | K18: =I18*J18 -> 74411875 | O18: 8483
G20: AJUSTE AL PESO | K20: -164
C21: Subtotal | K21: =ROUND(SUM(K14:K20),0) -> 187931694
C22: SUBTOTAL OBRAS | K22: =K21 -> 187931694
G27: SUBTOTAL OBRAS (INCLUYE IVA) | K27: 0
G31: VALOR TOTAL | K31: =K22+K27 -> 187931694
C34: NOTA 1: Se debe tener en cuenta que el PRECIO UNITARIO incluye el valor de A.I.U. | H34: DESCRIPCION | K34: PORCENTAJE
C35: NOTA 2: Cuando la fracción decimal del peso sea igual o superior a 5 se aproximará por exceso al número entero siguiente del peso y cuando la fracción decimal del peso sea inferior a 5 se aproximará por defecto al número entero del peso. | H35: ADMINISTRACIÓN | J35: A= | K35: 0.25
C36: NOTA 3: El A.I.U y su discriminación deben estar en porcentaje (%). | H36: IMPREVISTO | J36: I= | K36: 0.03
H37: UTILIDAD | J37: U= | K37: 0.05
H38: TOTAL A.I.U | J38: A.I.U.= | K38: =SUM(K35:K37) -> 0.33

Sheet PRESUPUESTO OFICIAL (Entidad)1
C3: Formulario 1 - Propuesta económica - Licitación de obra pública de infraestructura social
C4: Código | D4: CCE-EICP-FM-116 | E4: Versión | F4: 1
C6: PRESUPUESTO OFICIAL
C7: LINEA 125 MEJORAMIENTO DE LA VIA QUE COMUNICA EL CASCO URBANO CON LA VEREDA LLANO DEL TRIGO, SECTOR TIENDA DOÑA CECILIA DEL MUNICIPIO DE PACHO, CUNDINAMARCA DERIVADO DEL CONVENIO ICCU-CTO-858-2025
C9: [La Entidad puede utilizar este Formulario de detalle del Presupuesto Oficial para determinar las condiciones bajo las cuales los Proponentes analizarán y presentarán su propuesta económica de forma detallada, sin perjuicio que la Entidad pueda modificarlo o establecer la presentación de la oferta económica con un Formulario distinto al indicado.]
C11: Adicionalmente, cuando el Proceso de Contratación es estructurado por Precios Unitarios, la Entidad debe aplicar las notas 1, 2 y 3 del presente Formulario y las casillas de "Descripción", "Porcentaje" de la Administración, Imprevisto, Utilidad y total A.I.U. resaltadas en color amarillo. Tratándose de otras modalidades de precio, la Entidad puede o no configurar los mismos aspectos.
C13: Nº | D13: ÍTEM DE PAGO | E13: ESPECIFICACIONES | G13: DESCRIPCIÓN | H13: UND. | I13: CANTIDAD | J13: VALOR UNITARIO | K13: VALOR TOTAL | O13: VALOR UNITARIO SIN AIU
E14: GENERAL | F14: PARTICULAR
C15: CONVENIO ICCU-CTO-858-2025 MEJORAMIENTO DE LA VIA QUE COMUNICA EL CASCO URBANO CON LA VEREDA LLANO DEL TRIGO, SECTOR DOÑA CECILIA DEL MUNICIPIO DE PACHO, CUNDINAMARCA
C16: 1 | D16: 600.4 P | E16: 600.4 P | F16: 600.4 P | G16: Excavaciones varias en material común seco a mano (incluye retiro de sobrantes a una distancia menor de 5 km) | H16: M3 | I16: 8.12 | J16: 86910.18 | K16: =ROUND(I16*J16,0) -> 705711 | O16: 65346 | P16: 0.33 | Q16: =+O16*P16 -> 21564.18 | R16: =+O16+Q16 -> 86910.18
C17: 2 | D17: 630.4 | E17: 630.4 | F17: 630.4 | G17: Concretos clase D, F´C =3000 PSI (bases) | H17: M3 | I17: 30.05 | J17: 1108285 | K17: =ROUND(I17*J17,0) -> 33303965 | O17: 833297 | P17: 0.33 | Q17: =+O17*P17 -> 274988.01 | R17: =+O17+Q17 -> 1108285
C18: 3 | D18: 630.7 | E18: 630.7 | F18: 630.7 | G18: Concreto ciclópeo clase G, 2000 PSI 40% rajón para bases | H18: M3 | I18: 12.7 | J18: 755471.39 | K18: =ROUND(I18*J18,0) -> 9594487 | O18: 567983 | P18: 0.33 | Q18: =+O18*P18 -> 187434.39 | R18: =+O18+Q18 -> 755417.39
C19: 4 | D19: 671.1 | E19: 671.1 | F19: 671.1 | G19: Cuneta de concreto clase E, 2500 PSI fundida en el lugar | H19: M3 | I19: 19 | J19: 960059.17 | K19: =ROUND(I19*J19,0) -> 18241124 | O19: 721849 | P19: 0.33 | Q19: =+O19*P19 -> 238210.17 | R19: =+O19+Q19 -> 960059.17
C20: 5 | D20: 640.1 | E20: 640.1 | F20: 640.1 | G20: Suministro figurado y armado de acero de refuerzo 60000 PSI | H20: KG | I20: 3267.47 | J20: 11677.4 | K20: =ROUND(I20*J20,0) -> 38155554 | O20: 8780 | P20: 0.33 | Q20: =+O20*P20 -> 2897.4 | R20: =+O20+Q20 -> 11677.4
C21: Subtotal | K21: =+SUM(K16:K20) -> 100000841
C22: AJUSTE AL PESO | K22: -841
C23: SUBTOTAL OBRAS | K23: =+K21+K22 -> 100000000 | O23: =+K16+K17+K18+K19+K20 -> 100000841
G29: SUBTOTAL OBRAS (INCLUYE IVA) | K29: =+K23 -> 100000000
G33: VALOR TOTAL | K33: =+K29 -> 100000000
C36: NOTA 1: Se debe tener en cuenta que el PRECIO UNITARIO incluye el valor de A.I.U. | H36: DESCRIPCION | K36: PORCENTAJE
C37: NOTA 2: Cuando la fracción decimal del peso sea igual o superior a 5 se aproximará por exceso al número entero siguiente del peso y cuando la fracción decimal del peso sea inferior a 5 se aproximará por defecto al número entero del peso. | H37: ADMINISTRACIÓN | J37: A= | K37: 0.25
C38: NOTA 3: El A.I.U y su discriminación deben estar en porcentaje (%). | H38: IMPREVISTO | J38: I= | K38: 0.03
H39: UTILIDAD | J39: U= | K39: 0.05
H40: TOTAL A.I.U | J40: A.I.U.= | K40: =SUM(K37:K39) -> 0.33

Sheet PRESUPUESTO OFICIAL (Entidad)2
C3: Formulario 1 - Propuesta económica - Licitación de obra pública de infraestructura social
C4: Código | D4: CCE-EICP-FM-116 | E4: Versión | F4: 1
C6: PRESUPUESTO OFICIAL
C7: [La Entidad puede utilizar este Formulario de detalle del Presupuesto Oficial para determinar las condiciones bajo las cuales los Proponentes analizarán y presentarán su propuesta económica de forma detallada, sin perjuicio que la Entidad pueda modificarlo o establecer la presentación de la oferta económica con un Formulario distinto al indicado.]
C9: Adicionalmente, cuando el Proceso de Contratación es estructurado por Precios Unitarios, la Entidad debe aplicar las notas 1, 2 y 3 del presente Formulario y las casillas de "Descripción", "Porcentaje" de la Administración, Imprevisto, Utilidad y total A.I.U. resaltadas en color amarillo. Tratándose de otras modalidades de precio, la Entidad puede o no configurar los mismos aspectos.
C11: Nº | D11: ÍTEM DE PAGO | E11: ESPECIFICACIONES | G11: DESCRIPCIÓN | H11: UND. | I11: CANTIDAD | J11: VALOR UNITARIO | K11: VALOR TOTAL | O11: VALOR UNITARIO SIN AIU
E12: GENERAL | F12: PARTICULAR
C14: 1.01 | D14: 600.4 P | E14: Invias | F14: Cartilla ICCU 2022 VT2 | G14: Excavaciones varias en material común seco a mano (incluye retiro de sobrantes a una distancia menor de 5 km) | H14: M3 | I14: 8.93 | J14: =O14*(1+$K$38) -> 64284.22 | K14: =I14*J14 -> 574058.08 | O14: 48334
C15: 1.02 | D15: 630.4 | E15: Invias | F15: Cartilla ICCU 2022 VT2 | G15: Concretos clase D, F´C =3000 PSI (bases) | H15: M3 | I15: 31.95 | J15: =O15*(1+$K$38) -> 925504.44 | K15: =I15*J15 -> 29569867 | O15: 695868
C16: 1.03 | D16: 630.7 | E16: Invias | F16: Cartilla ICCU 2022 VT2 | G16: Concreto ciclópeo clase G, 2000 PSI 40% rajón para bases | H16: M3 | I16: 28.22 | J16: =O16*(1+$K$38) -> 616987 | K16: =I16*J16 -> 17411373 | O16: 463900
C17: 1.04 | D17: 671.1 | E17: Invias | F17: Cartilla ICCU 2022 VT2 | G17: Cuneta de concreto clase E, 2500 PSI fundida en el lugar | H17: M3 | I17: 19 | J17: =O17*(1+$K$38) -> 784093.52 | K17: =I17*J17 -> 14897777 | O17: 589544
C18: 1.05 | D18: 640.1 | E18: Invias | F18: Cartilla ICCU 2022 VT2 | G18: Suministro figurado y armado de acero de refuerzo 60000 PSI | H18: KG | I18: 3327.93 | J18: =O18*(1+$K$38) -> 11282.39 | K18: =I18*J18 -> 37547004 | O18: 8483
G20: AJUSTE AL PESO | K20: -79.12
C21: Subtotal | K21: =(SUM(K14:K20)) -> 1e+08
C22: SUBTOTAL OBRAS | K22: =K21 -> 1e+08
G27: SUBTOTAL OBRAS (INCLUYE IVA) | K27: 0
G31: VALOR TOTAL | K31: =K22+K27 -> 1e+08
C34: NOTA 1: Se debe tener en cuenta que el PRECIO UNITARIO incluye el valor de A.I.U. | H34: DESCRIPCION | K34: PORCENTAJE
C35: NOTA 2: Cuando la fracción decimal del peso sea igual o superior a 5 se aproximará por exceso al número entero siguiente del peso y cuando la fracción decimal del peso sea inferior a 5 se aproximará por defecto al número entero del peso. | H35: ADMINISTRACIÓN | J35: A= | K35: 0.25
C36: NOTA 3: El A.I.U y su discriminación deben estar en porcentaje (%). | H36: IMPREVISTO | J36: I= | K36: 0.03
H37: UTILIDAD | J37: U= | K37: 0.05
H38: TOTAL A.I.U | J38: A.I.U.= | K38: =SUM(K35:K37) -> 0.33

Sheet PROPUESTA ECONOMICA(Proponente)
C3: Formulario 1 - Propuesta económica - Licitación de obra pública de infraestructura social
C4: Código | D4: CCE-EICP-FM-116 | E4: Versión | F4: 1
C5: FORMULARIO 1
C6: PROPUESTA ECONÓMICA
C7: [La Entidad puede utilizar este Formulario de presentación de Propuesta Económica de forma detallada, sin perjuicio que la Entidad pueda modificarlo o establecer la presentación de la oferta económica con un Formulario distinto al indicado.] [Los Proponentes emplearán el Formulario establecido por la Entidad para determinar su propuesta económica conforme al Formulario 1 - Presupuesto Oficial publicado por la Entidad]
C9: Cuando el Proceso de Contratación es estructurado por Precios Unitarios, la Entidad debe aplicar las notas 1, 2 y 3 del presente formato y las casillas de "Descripción", "Porcentaje" de la Administración, Imprevisto, Utilidad y total A.I.U. resaltadas en color amarillo.
C11: Nº | D11: ÍTEM DE PAGO | E11: ESPECIFICACIONES | G11: DESCRIPCIÓN | H11: UND. | I11: CANTIDAD | J11: VALOR UNITARIO | K11: VALOR TOTAL
E12: GENERAL | F12: PARTICULAR
C15: Subtotal
C21: Subtotal
C31: Subtotal
C36: Subtotal
C39: Subtotal
C40: SUBTOTAL OBRAS
G45: SUBTOTAL OBRAS (INCLUYE IVA)
G49: VALOR TOTAL
C52: NOTA 1: Se debe tener en cuenta que el PRECIO UNITARIO incluye el valor de A.I.U. | H52: DESCRIPCIÓN | K52: PORCENTAJE
C53: NOTA 2: Cuando la fracción decimal del peso sea igual o superior a 5 se aproximara por exceso al número entero siguiente del peso y cuando la fracción decimal del peso sea inferior a 5 se aproximará por defecto al número entero del peso. | H53: ADMINISTRACIÓN | J53: A= | K53: [Ofrecimiento del Proponente]
C54: NOTA 3: El A.I.U y su discriminación deben estar en porcentaje (%). | H54: IMPREVISTO | J54: I= | K54: [Ofrecimiento del Proponente]
H55: UTILIDAD | J55: U= | K55: [Ofrecimiento del Proponente]
H56: TOTAL A.I.U | J56: A.I.U.= | K56: [Ofrecimiento del Proponente]
G59: Firma del Proponente o de su representante legal

Sheet INDICAR CÓDIGO DEL ITEM DE PAGO
C3: Formulario 1 - Propuesta económica - Licitación de obra pública de infraestructura social
C4: Código | D4: CCE-EICP-FM-116 | E4: Versión | F4: 1
C6: [La Entidad podrá utilizar este Formato para la presentación de los análisis de Precios Unitarios del Contratista en la oportunidad prevista en el numeral 8.1. del Documento Base]
D9: [NOMBRE DE LA ENTIDAD]
L10: VERSIÓN
D11: [NÚMERO DEL PROCESO]
L12: PÁGINA | M12: 1 | N12: DE | O12: 1
D14: ANÁLISIS DE PRECIOS UNITARIOS
L16: FECHA | M16: DD | N16: MM | O16: AA
C18: ÍTEMS DE LA PROPUESTA ECONÓMICA | I18: ÍTEMS NO PREVISTOS
C22: DATOS ESPECÍFICOS
C24: ÍTEM | D24: DESCRIPCIÓN | M24: UNIDAD | O24: CANTIDAD
C26: I. EQUIPO
C29: DESCRIPCIÓN | H29: MARCA | J29: TIPO | L29: TARIFA/HORA | M29: RENDIMIENTO | O29: Vr. UNITARIO
C33: SUBTOTAL $
C34: II. MATERIALES
C37: DESCRIPCIÓN | K37: UNIDAD | L37: CANTIDAD | M37: PRECIO UNIT. | O37: Vr. UNITARIO
C40: SUBTOTAL $ | O40: 0
C41: III. TRANSPORTES
C44: MATERIAL | J44: VOL. o PESO | K44: DISTANCIA | L44: M3 o Ton/Km | M44: TARIFA | O44: Vr. UNITARIO
C47: SUBTOTAL $
C48: IV. MANO DE OBRA
C51: TRABAJADOR | J51: JORNAL | K51: PRESTACIONES | L51: JORNAL TOTAL | M51: RENDIMIENTO | O51: Vr. UNITARIO
C56: SUBTOTAL $
C58: TOTAL COSTO DIRECTO $
C59: V. COSTOS INDIRECTOS
C62: Descripción | L62: Porcentaje | M62: Valor Total
C63: ADMINISTRACION
C64: IMPREVISTOS
C65: UTILIDAD
C66: SUBTOTAL $
C68: Precio Unitario Total Aproximado al peso $
H70: Firma
H71: Nombre:
H72: Representante legal del Contratista o su apoderado
H73: Matricula:
C75: OBSERVACIONES INTERVENTORÍA
C79: APROBACIÓN POR INTERVENTORÍA
C80: Nota 1: Cuando se trate de análisis de Precios Unitarios correspondientes a ítems de la propuesta económica aprobada, el Interventor aprueba el desglose de los componentes manteniendo el mismo Precio Unitario de cada ítem, cumpliendo con las especificaciones de construcción vigentes para el proyecto.
C82: Nota 2: Cuando se trate de análisis de Precios Unitarios de ítems no previstos, el Interventor aprueba el desglose y Precio Unitario de cada ítem no previsto, exigiendo la aplicación de los costos correspondientes a insumos y tarifas de la propuesta económica inicial cuando estén contemplados, cumpliendo con las especificaciones de construcción vigente para el proyecto.
...
