Workbook
Name AÑO: [1]Hoja1!$G$4:$G$23
Name Cumplimiento: [2]Hoja2!$B$2:$B$3
Name Cumplimiento: [2]Hoja2!$B$2:$B$3
Name DIA: [1]Hoja1!$E$4:$E$35
Name ESTADO: [3]Hoja2!$B$3:$B$6
Name ESTADO: [3]Hoja2!$B$3:$B$6
Name FECHA: [4]Hoja1!$E$4:$G$16,[4]Hoja1!$E$17:$E$35,[4]Hoja1!$G$17:$G$23
Name FECHA: [5]Hoja1!$E$4:$G$16,[5]Hoja1!$E$17:$E$35,[5]Hoja1!$G$17:$G$23
Name LOCAL: [1]SUBDIRECIONES!$A$3:$A$18
Name MES: [1]Hoja1!$F$4:$F$16
Name OBSERVACION: [3]Hoja2!$D$3:$D$5
Name OBSERVACION: [3]Hoja2!$D$3:$D$5

Sheet ALTA DEPENDENCIA
E2: PROCESO GESTION DE BIENES Y SERVICIOS FORMATO No. 7 CALIFICACIÓN TÉCNICA DE INMUEBLES (COMPONENTE URBANÍSTICO Y DE INFRAESTRUCTURA) - COMUNIDAD DE CUIDADO - ADULTEZ
B7: 1. OBJETIVO: Verificar la infraestructura ofertada por el proponente , mediante una visita de inspección ocular a la edificación y determinar si es APTA o NO para prestar los servicios que ofrece la Secretaría Distrital de Integración Social.
B9: PARTE I INFORMACIÓN GENERAL DEL PREDIO
B10: PROPONENTE: | E10: No. DE PROCESO: | H10: CAPACIDAD MÍNIMA DEL PLIEGO: | K10: PROYECTO:
B11: FECHA DE DILIGENCIAMIENTO: | E11: LOCALIDAD: | H11: BARRIO: | K11: MODALIDAD:
B12: DIRECCIÓN: | H12: CHIP: | K12: SECTOR CATASTRAL:
B13: TELÉFONO: | E13: TIPO DE CLIMA: | H13: USO ACTUAL: | K13: MATRICULA INMOBILIARIA:
B15: 2. PARAMETROS URBANISTICOS
B17: ITEM | C17: ESPACIO | E17: DESCRIPCION | H17: REQUISITO MÌNIMO | I17: REQUISITO NECESARIO | J17: CUMPLIMIENTO | L17: N/A | M17: OBSERVACIONES
J18: SI | K18: NO
B19: 2.1. | C19: Esquema básico de los espacios ofertados | E19: "Deben presentarse en el momento de la visita los planos arquitectónicos básicos (pueden ser solo las plantas), en formato DWG preferiblemente en versión 2016 o anterior a esta. Especificando el nombre, las medidas y las áreas en m2 de cada uno los espacios ofertados, con el fin de verificar la capacidad de usuarios en cumplimiento del estándar establecido. Al momento de la visita deben ser presentados en físico en tamaño carta, teniendo en cuenta que al finalizar, el proponente firmara a modo de aceptación los espacios y áreas expuestos." | H19: X
B20: 2.2. | C20: Certificado de Riesgos | E20: Para este proceso es válido el concepto emitido por la página oficial de la secretaria Distrital de Planeación - SINUPOT, mediante el cual conste que el predio no se encuentra en zona de amenaza alta. | H20: X
B21: 2.3 | C21: Concepto de uso del suelo | E21: El oferente deberá presentar el concepto de uso del suelo expedido por la Secretaría Distrital de Planeación, SINUPOT o Curaduría Urbana, donde conste que de acuerdo con la norma urbanística vigente se permite uno de los siguientes usos: a. Dotacional equipamiento colectivo de bienestar social. b. dotacional equipamiento colectivo. c. Institucional clase I o II | H21: X
B22: 2.4 | C22: Distancia del inmueble respecto de Líneas de transmisión eléctrica de alta tensión | E22: Si se evidencian redes eléctricas con líneas de alta y extra alta tensión, se evaluarán de acuerdo con el anexo general del Reglamento Técnico de Instalaciones Eléctricas (RETIE) vigente, “...cumplir con el ancho de la zona de Servidumbre de líneas de transmisión para líneas de alta y extra alta tensión de las Tablas 13,1 y 22.1”. En dado caso de ser líneas de media tensión se deberán garantizar las distancias mínimas de seguridad respecto a las construcciones según lo expuesto en el RETIE. | H22: X
B23: 2.5 | C23: Recibos de servicios públicos domiciliarios y certificaciones | E23: El oferente deberá presentar los recibos de servicios públicos de energía eléctrica, acueducto y alcantarillado. | H23: X
E24: Se deberá aportar el recibo de gas natural en caso que el predio cuente con este servicio junto con los certificados de lavado de tanques, fumigación y control de plagas vigente. | I24: X
B25: 2.6 | C25: Localización del predio | E25: El predio se encuentra dentro de las ubicado dentro de las localizaciones estipuladas en anexo técnico. | H25: X
E26: Si el predio se encuentra ubicado fuera de Bogotá esta a una distancia máxima de 60 km desde los limites viales principales del Distrito Capital. | H26: X
B28: PARTE II INFORMACIÓN TECNICA DEL PREDIO
B30: 3. AFECTACIONES
B31: 3.1. AMENAZAS NATURALES
B32: No. | C32: AMENAZA
B34: 3.1.1. | C34: Remoción en masa
B35: 3.1.2. | C35: Inundación
B36: 3.1.3. | C36: Redes de Energía (Requisito mínimo)
B38: 4. DIAGNOSTICO TÉCNICO
B39: 4.1 UPZ | H39: 4.2 SECTOR NORMATIVO
B40: 4.3 TRATAMIENTO SEGÚN UPZ | H40: 4.4 ÁREA DE ACTIVIDAD
B41: 4.5 ZONA | H41: 4.6 USOS DOTACIONALES DE BIENESTAR SOCIAL PERMITIDOS (D. 120 DE 2018)
B42: 4.7 CLASIFICACIÓN DE ESCALA DEL EQUIPAMIENTO OBJETO DEL ESTUDIO
B44: 4.8 LOCALIZACIÓN
B48: Fuente: | C48: https://www.google.com/maps/place/Peaje+Chinauta/@4.2686637,-74.5047022,218m/data=!3m1!1e3!4m6!3m5!1s0x8e3f1e787256f2a5:0xb5a80cf3463f14bf!8m2!3d4.26945!4d-74.50003!16s%2Fg%2F11b88qnsj4?hl=es&entry=ttu&g_ep=EgoyMDI0MTAwMS4wIKXMDSoASAFQAw%3D%3D
B50: PARTE III CARACTERISTICAS ESPACIOS FISICOS
B52: 5. CUADRO DE AREAS (M2)
B53: No. | C53: ASPECTO | K53: M2 | M53: UNIDAD
B55: 5.1. | C55: Áreas de construcción | E55: AREA CONTRUIDA TOTAL PARA LA PRESTACIÒN DEL SERVICIO (CATASTRAL) | M55: M2
B57: 6. ASPECTOS GENERALES - OBSERVACIONES DEL ESTADO ACTUAL DE LA EDIFICACION
B59: ITEM | C59: DESCRIPCION | H59: REQUISITO MÌNIMO | I59: REQUISITO NECESARIO | J59: CUMPLIMIENTO | L59: N/A | M59: CANTIDAD
J60: SI | K60: NO
B61: 6.1 | C61: El inmueble cuenta con servicio de acueducto y alcantarillado y deberá garantizar la prestación de dicho servicio en la Unidad Operativa de manera ininterrumpida. | H61: X
...

Sheet REGISTRO FOTOGRAFICO
F2: SECRETARIA DISTRITAL DE INTEGRACION SOCIAL DIRECCION DE GESTION CORPORATIVA SUBDIRECCION DE PLANTAS FISICAS FORMATO CALIFICACION TECNICA DE INMUEBLES | O2: IDENTIFICACION
O3: PROYECTO :
O4: PROCESO COMPETITIVO:
O5: NOMBRE PROPONENTE | Q5: =+'ALTA DEPENDENCIA'!D10 -> 0
O6: DIRECCION DEL PREDIO
B8: PARTE V
B9: 11. REGISTRO FOTOGRAFICO ANEXO
B11: 13.1. FECHA ELABORACIÓN: | F11: =+'ALTA DEPENDENCIA'!D11 -> 0 | J11: 13.2. MODALIDAD:
B12: 13.3 LOCALIDAD | F12: =+'ALTA DEPENDENCIA'!F11:G11 -> 0 | J12: 13.4. CHIP
B19: DESCRIPCIÓN: INGRESO - COMEDOR | K19: DESCRIPCIÓN: COCINA - DESPENSA
B26: DESCRIPCIÓN: ATENCION PRIMARIA - HABITACION | K26: DESCRIPCIÓN: PLANTA ELECTRICA - BAÑOS
B33: DESCRIPCIÓN: HABITACIONES | K33: DESCRIPCIÓN: ATENCION PROFESIONAL - TALLER
B40: DESCRIPCIÓN: TALLER - BODEGA ELEMENTOS DE ASEO | K40: DESCRIPCIÓN: ROPERIA - LAVANDERIA

Sheet PLANOS
F2: SECRETARIA DISTRITAL DE INTEGRACION SOCIAL DIRECCION DE GESTION CORPORATIVA SUBDIRECCION DE PLANTAS FISICAS FORMATO CALIFICACION TECNICA DE INMUEBLES | O2: IDENTIFICACION
O3: PROYECTO : | Q3: ='REGISTRO FOTOGRAFICO'!Q3 -> 0
O4: PROCESO COMPETITIVO: | Q4: ='REGISTRO FOTOGRAFICO'!Q4 -> 0
O5: NOMBRE PROPONENTE | Q5: ='REGISTRO FOTOGRAFICO'!Q5 -> 0
O6: DIRECCION DEL PREDIO | Q6: ='REGISTRO FOTOGRAFICO'!Q6 -> 0
B8: PARTE VI
B9: 12. PLANOS
B11: 13.1. FECHA ELABORACIÓN: | F11: ='REGISTRO FOTOGRAFICO'!F11:I11 -> 0 | J11: 13.2. MODALIDAD: | O11: ='REGISTRO FOTOGRAFICO'!O11:Q11 -> 0
B12: 13.3 LOCALIDAD | F12: ='REGISTRO FOTOGRAFICO'!F12:I12 -> 0 | J12: 13.4. CHIP | O12: ='REGISTRO FOTOGRAFICO'!O12:Q12 -> 0

Sheet FCTI JURI
F2: PROCESO GESTION DE BIENES Y SERVICIOS FORMATO CALIFICACION TECNICA DE INMUEBLES (COMPONENTE JURIDICO)
B7: PARTE I INFORMACIÓN GENERAL DEL PREDIO
B8: NOMBRE DEL PROPONENTE: | O8: N° PROCESO | S8: SDIS-DCT-
B9: FECHA DE DILIGENCIAMIENTO: | F9: LOCALIDAD: | L9: MATRICULA INMOBILIARIA
B10: DIRECCIÓN: | M10: CHIP
B12: PARTE II
B14: 1. INFORMACIÓN JURIDICA DEL PREDIO
S16: CUENTA CON EL DOCUMENTO | U16: NATURALEZA DEL PREDIO
B17: No. | C17: ASPECTO | F17: CONDICIÓN | S17: SI | T17: NO | U17: PUBLICO | V17: PRIVADO
B19: 1.1 | C19: Certificado de Tradición y libertad o Folio de Matricula Inmobiliaria | F19: Los oferentes deberán presentar con su propuesta el CERTIFICADO DE TRADICIÓN Y LIBERTAD documento expedido por la Oficina de Registro de Instrumentos Públicos correspondiente al predio ofertado, con fecha no mayor a un (1) mes de expedición, en caso de no expedición del mismos, deber´pa suministar dato del folio de matrrícula inmibioiaria para su consulta en bases públicas de información. De la revisión del mismo se debe concluir si el inmueble es de propiedad de un privado o por el contrario es de propiedad del Distrito Capital. En el evento de pertenecer al Distrito Capital no se reconocerá el pago del rubro asignado para espacio físico funcional en la estructura de costos; si la infraestructura o construcción propuesta se localiza en más de un inmueble debe presentarse el certificado de tradición y libertad por cada uno de tales predios. Para los bienes inmuebles ofertados que presenten medidas cautelares como embargos, prohibición de enajenar, declaratorias de utilidad pública, declaratoria de interés social, oferta de compra, expropiación u otros actos que puedan llegar a afectar la prestación del servicio, la Secretaría Distrital de Integración Social – SDIS puede solicitar en la etapa de subsanación el documento por medio del cual se garantice la No Afectación del servicio, en caso que el oferente no subsane se calificará NO CUMPLE. | W19: QUE EL OFERENTE NO APORTO EL CERTIFICADO DE TRADICION Y NLIBERTAD VIGENTE
B21: 1.2 | C21: Certtificado catastral o impuesto predial | F21: Los oferentes deberán presentar con su propuesta, por cada Unidad Predial el certificado catastral o boletín de nomenclatura expedido por la Unidad Administrativa Especial de Catastro Distrital (UAECD), documento por medio del cual, la autoridad catastral hace constar la inscripción del predio, sus características y condiciones físicas, según la base de datos de información catastral con una vigencia no superior a tres (3) meses). En caso de no contar con dicho documento se podrá anexar copia del recibo de pago del impuesto predial del año en curso, en donde consten claramente los siguientes datos del predio: código catastral, CHIP y nomenclatura oficial, de no presentar este documento con la oferta será calificada como NO CUMPLE.
B22: 1.3 | C22: Acto administrativo o civil | F22: Si el proponente no es el titular de derecho de dominio del inmueble presentado, deberá allegar con la propuesta la carta de intención de suscripción de convenio de arriendo, comodato o cualquier acto administrativo o civil -por cada Unidad Predial- expedida por el (los) respectivo(s) titular(es) que garantice la disposición y uso del inmueble, en la que se obligue a que, en el caso de ser adjudicado al proponente el presente proceso competitivo, éste realizará el correspondiente convenio de arrendamiento. Con la Carta de Intención, se deberá anexar la copia del documento de identidad del (los) propietario(s) persona natural, en caso en que el (los) propietario(s) actúe(n) mediante apoderado se debe allegar el poder debidamente autenticado por el(los) propietario(s), para el caso de personas jurídicas se debe allegar el certificado de existencia y representación legal junto con copia de la cédula del representante legal. En el evento en que el propietario del inmueble no mantenga la intención de arrendamiento al OFERENTE la propuesta quedará RECHAZADA.
B23: 5.2. VERIFICACIÓN DE LA INSTALACIÓN ELÉCTRICA
B25: No. | C25: ASPECTO | F25: CONDICIÓN | S25: SI | V25: NO
B27: 5.2.1 | C27: Instalaciones eléctricas | F27: La instalación eléctrica se encuentra en buen estado y funcionando (Requisito mínimo)
B28: 5.2.2 | C28: Información sobre la cuenta | F28: DATOS
F29: Número de cuenta de cliente según factura:
F30: Carga aprobada/aforada según factura (kW):
B33: PARTE VI CARACTERISTICAS PARTICULARES DEL SERVICIO A IMPLEMENTAR
B35: 6.1. REQUERIMIENTOS GENERALES PARA EL FUNCIONAMIENTO DE UN SERVICIO SOCIAL DE LA SECRETARIA DISTRITAL DE INTEGRACION SOCIAL
B37: ITEM | C37: ELEMENTO | F37: DESCRIPCIÓN ACTIVIDAD | S37: SI | V37: NO
B39: 6.1.1 | C39: Accesibilidad, señalizacion y señaletica | F39: Rampas de acceso o medios alternativos mecanicos para el ingreso a los espacios de la unidad operativa
F40: Todos los espacion de la unidad operativa se encuentran con señalizacion y señaletica
B41: 6.1.2 | C41: Iluminación y ventilación | F41: El inmueble cuenta con adecuada ventilacion (Requisito mínimo)
F42: El inmueble cuenta con adecuada Iluminacion (Requisito mínimo)
F43: El inmueble cuenta con adecuada circulación de aire de la cocina protegidas con mallas de materal no corrosivo (angeo)
F44: Los baños del inmueble no podrán compartir una ventana para ventilación con la cocina. En ningún caso deberán existir ventilación cruzada entre baños y cocina
F45: Las lámparas protegidas para evitar el riesgo de contaminación física en caso de ruptura accidental de las bombillas
B46: 6.1.3 | C46: Escaleras (en caso de que existan) | F46: Las escaleras estables (Requisito mínimo)
F47: Cinta antideslizante en los escalones de la escalera.
F48: Pasamanos de escaleras a una altura de +-90 cm.
F49: Proteccion con barandas en zonas de circulacion y zonas comunes que puedan evitar riesgo de caida durante su transito
B50: 6.1.4 | C50: Ventanería | F50: Marcos de ventana en buen estado sin oxido o elementos sueltos.
F51: Vidrios de ventanas con películas de seguridad
B52: 6.1.5 | C52: Puertas | F52: Puerta de cocina y despensa metalica
F53: Suplementos para reducir las aberturas entre las puertas y los pisos las cuales deben ser menores a un centímetro
F54: Puertas de baños en buen estado
B55: 6.1.6 | C55: Cocina y despensa | F55: La cocina cuenta con sifòn y rejilla para la evacuaciòn de residuos lìquidos en el piso (Requisito mínimo)
F56: Los acabados de piso en cocina y despensa son en baldosa y se encuentran en buen estado, sin fracturas ni vencimientos y debidamente emboquillados
F57: Los muros de cocina y despensa son en baldosa o pintura epoxica permitiendo la facil limpieza y desinfeccion
...

Sheet Hoja4
D2: PROCESO GESTION DE BIENES Y SERVICIOS FORMATO CALIFICACION TECNICA DE INMUEBLES (COMPONENTE URBANISTICO E INFRAESTRUCTURA) PARA SERVICIO DE VEJEZ EN LA MODALIDAD DE CENTROS DE PROTECCIÓN SOCIAL ADULTO MAYOR (MODALIDAD SEVEROS - MODERADOS) - CENTROS DÍA - CENTROS DÍA Y NOCHE
A7: 1. OBJETIVO: Verificar la infraestructura ofertada por el proponente , mediante una visita de inspección ocular a la edificación y determinar si es APTA o NO para prestar los servicios que ofrece la Secretaría Distrital de Integración Social.
A9: PARTE I INFORMACIÓN GENERAL DEL PREDIO
A10: PROPONENTE: | D10: No. DE PROCESO:
A11: FECHA DE DILIGENCIAMIENTO: | D11: LOCALIDAD:
A12: DIRECCIÓN:
A13: TELÉFONO: | D13: TIPO DE CLIMA:
A15: 2. PARAMETROS URBANISTICOS
A17: No. | B17: ASPECTO | J17: SI | K17: NO | L17: OBSERVACIONES
A19: 2.1. | B19: Esquema básico de los espacios ofertados (Requisito mínimo)
A20: 2.2. | B20: Licencia de Construccion
A21: 2.3. | B21: Concepto de uso del suelo (Requisito mínimo)
A23: PARTE II INFORMACIÓN TECNICA DEL PREDIO
A25: 3. AFECTACIONES
A26: 3.1. AMENAZAS NATURALES
A27: No. | B27: AMENAZA
A29: 3.1.1. | B29: Remoción en masa
A30: 3.1.2. | B30: Inundación
A31: 3.1.3. | B31: Redes de Energia (Requisito mínimo)
A33: 4. DIAGNOSTICO TÉCNICO
A35: 4.1 UPZ | G35: 4.2 SECTOR NORMATIVO | J35: N/A
A36: 4.3 TRATAMIENTO SEGÚN UPZ | G36: 4.4 ÁREA DE ACTIVIDAD | J36: N/A
A37: 4.5 ZONA | G37: 4.6 USOS DOTACIONALES DE BIENESTAR SOCIAL PERMITIDOS (D. 120 DE 2018) | J37: N/A
A38: 4.7 CLASIFICACIÓN DE ESCALA DEL EQUIPAMIENTO OBJETO DEL ESTUDIO | G38: N/A
A40: 4.8 LOCALIZACIÓN
A45: Fuente: | B45: https://www.google.com/maps/place/4%C2%B029'09.1%22N+74%C2%B022'39.3%22W/@4.4858498,-74.3797752,1152m/data=!3m2!1e3!4b1!4m5!3m4!1s0x0:0x0!8m2!3d4.4858498!4d-74.3775865?hl=es
A47: PARTE III CARACTERISTICAS ESPACIOS FISICOS
A49: 5. CUADRO DE AREAS (M2)
A50: No. | B50: ASPECTO | J50: M2 | L50: UNIDAD
A52: 5.1. | B52: Areas de construcción | J52: 1360 | L52: M2
A53: NOTA: CUANDO EL SERVICIO SE PRESTE EN ÀREAS PARCIALES SE DEBERÀ DISCRIMINAR EL ÀREA POR PISO
