Workbook
Name \0: #REF!
Name \00: #REF!
Name \a: #REF!
Name \a: #REF!
Name \AA: #REF!
Name \b: #REF!
Name \bb: #REF!
Name \E: #REF!
Name \EE: #REF!
Name \G: #REF!
Name \k: #REF!
Name \l: #REF!
Name \M: #REF!
Name \ñ: #REF!
Name \P: #REF!
Name \R: #REF!
Name \s: #REF!
Name \s: #REF!
Name \V: #REF!
Name \X: #REF!
Name \X: #REF!
Name \X: 'INDICAR CÓDIGO DEL ITEM DE PAGO'!ERR
Name \X: [0]!ERR
Name \Z: #REF!
Name \Z: #REF!
Name \Z: 'INDICAR CÓDIGO DEL ITEM DE PAGO'!ERR
Name \Z: [0]!ERR
Name _________AFC1: #REF!
Name _________AFC1: #REF!
Name _________AFC1: #REF!
Name _________AFC3: #REF!
Name _________AFC3: #REF!
Name _________AFC3: #REF!
Name _________AFC5: #REF!
Name _________AFC5: #REF!
Name _________AFC5: #REF!
Name _________BGC1: #REF!
Name _________BGC1: #REF!
Name _________BGC1: #REF!
Name _________BGC3: #REF!
Name _________BGC3: #REF!
Name _________BGC3: #REF!
Name _________BGC5: #REF!
Name _________BGC5: #REF!
Name _________BGC5: #REF!
Name _________CAC1: #REF!
Name _________CAC1: #REF!
Name _________CAC1: #REF!
Name _________CAC3: #REF!
Name _________CAC3: #REF!
Name _________CAC3: #REF!
Name _________CAC5: #REF!
Name _________CAC5: #REF!
Name _________CAC5: #REF!
Name _________FS01: #REF!
Name _________PJ50: #REF!
Name _________PJ50: #REF!
Name _________SBC1: #REF!
Name _________SBC1: #REF!
Name _________SBC1: #REF!

Sheet PRESUPUESTO OFICIAL (Entidad)
C3: Formulario 1 - Propuesta económica - Licitación de obra pública de infraestructura social
C4: Código | D4: CCE-EICP-FM-116 | E4: Versión | F4: 1
C6: PRESUPUESTO OFICIAL
C7: [La Entidad puede utilizar este Formulario de detalle del Presupuesto Oficial para determinar las condiciones bajo las cuales los Proponentes analizarán y presentarán su propuesta económica de forma detallada, sin perjuicio que la Entidad pueda modificarlo o establecer la presentación de la oferta económica con un Formulario distinto al indicado.]
C9: Adicionalmente, cuando el Proceso de Contratación es estructurado por Precios Unitarios, la Entidad debe aplicar las notas 1, 2 y 3 del presente Formulario y las casillas de "Descripción", "Porcentaje" de la Administración, Imprevisto, Utilidad y total A.I.U. resaltadas en color amarillo. Tratándose de otras modalidades de precio, la Entidad puede o no configurar los mismos aspectos.
C11: Nº | D11: ÍTEM DE PAGO | E11: ESPECIFICACIONES | G11: DESCRIPCIÓN | H11: UND. | I11: CANTIDAD | J11: VALOR UNITARIO | K11: VALOR TOTAL
E12: GENERAL | F12: PARTICULAR
C13: 1 | G13: ESTACION DE BOMBEROS
C14: 1.1 | G14: ACTIVIDADES PRELIMINARES
C15: 1.1.1 | G15: CERRAMIENTO EN VARA ROLLIZA Y LONA H = 1.50 M . DISTANCIA ENTRE POSTES 2 M | H15: ML | I15: 251.23 | J15: =+'APUS GOBER'!J55 -> 60859.37 | K15: =+ROUND(I15*J15,0) -> 15289700
C16: Subtotal | K16: =SUM(K15:K15) -> 15289700
C17: 1.2 | G17: MOVIMIENTO DE TIERRAS
C18: 1.2.1 | G18: EXCAVACIÓN MANUAL EN MATERIAL COMUN | H18: M3 | I18: 351.36 | J18: =+'APUS GOBER'!J108 -> 91751 | K18: =+ROUND(I18*J18,0) -> 32237631
C19: 1.2.2 | G19: TRANSPORTE DE MATERIAL SUELTO. (DESPUPES DE 5 KM). | H19: M3-KM | I19: 801.09 | J19: =+'APUS GOBER'!J153 -> 2765 | K19: =+ROUND(I19*J19,0) -> 2215014
C20: 1.2.3 | G20: RELLENO CON MATERIAL DE AFIRMADO COMPACTADO RANA Y/O VIBROCOMPACTADOR. (INCLUYE ACARREO LIBRE HASTA 5 KM.) | H20: M3 | I20: 670.34 | J20: =+'APUS GOBER'!J223 -> 155997 | K20: =+ROUND(I20*J20,0) -> 104571029
C21: 1.2.4 | G21: RELLENO CON MATERIAL DE SITIO, COMPACTADO CON PLANCHA VIBRATORIA (RANA) | H21: M3 | I21: 150 | J21: =+'APUS GOBER'!J286 -> 36095 | K21: =+ROUND(I21*J21,0) -> 5414250
C22: 1.2.5 | G22: EXCAVACIÓNES MECANICAS Y CORTES EN MATERIAL COMÚN (INCLUYE ACARREO LIBRE HASTA 5 KM.) | H22: M3 | I22: 430 | J22: =+'APUS GOBER'!J346 -> 35042 | K22: =+ROUND(I22*J22,0) -> 15068060
C23: Subtotal | K23: =SUM(K18:K22) -> 159505984
C24: 1.3 | G24: ZAPATAS
C25: 1.3.1 | G25: CONCRETO PARA ZAPATAS DE 21 MPa (3000 PSI) + FORMALETA MADERA | H25: M3 | I25: 10.64 | J25: =+'APUS GOBER'!J408 -> 1193929 | K25: =+ROUND(I25*J25,0) -> 12703405
C26: 1.3.2 | G26: SUMINISTRO E INSTALACIÓN DE CONCRETO DE 14 MPA (2000 PSI) SOLADOS Y ATRAQUES | H26: M3 | I26: 2.81 | J26: =+'APUS GOBER'!J470 -> 725594 | K26: =+ROUND(I26*J26,0) -> 2038919
C27: Subtotal | K27: =SUM(K25:K26) -> 14742324
C28: 1.4 | G28: VIGAS DE CIMENTACIÓN
C29: 1.4.1 | G29: CONCRETO PARA VIGA DE AMARRE 21 MPa (3000 PSI) SECCION RECTANGULAR | H29: M3 | I29: 22.49 | J29: =+'APUS GOBER'!J531 -> 1153484 | K29: =+ROUND(I29*J29,0) -> 25941855
C30: 1.4.2 | G30: SUMINISTRO E INSTALACIÓN DE CONCRETO DE 14 MPA (2000 PSI) SOLADOS Y ATRAQUES | H30: M3 | I30: 3.39 | J30: =+J26 -> 725594 | K30: =+ROUND(I30*J30,0) -> 2459764
C31: Subtotal | K31: =SUM(K29:K30) -> 28401619
C32: 1.5 | G32: ESTRUCTURA
C33: 1.5.1 | G33: CONCRETO SIMPLE DE 21 MPa - (3000 PSI) IMPERMEABILIZADO PARA PLACAS PISOS | H33: M3 | I33: 39.26 | J33: =+'APUS GOBER'!J592 -> 1339573 | K33: =+ROUND(I33*J33,0) -> 52591636
C34: 1.5.2 | G34: COLUMNAS Y PEDESTALES EN CONCRETO DE 21 MPa - (3000 PSI), H < 3.00 M. (FORMALETA MADERA) | H34: M3 | I34: 17.82 | J34: =+'APUS GOBER'!J657 -> 1477547 | K34: =+ROUND(I34*J34,0) -> 26329888
C35: 1.5.3 | G35: VIGA AÉREA EN CONCRETO DE 21 MPa - (3000 PSI). | H35: M3 | I35: 19.07 | J35: =+'APUS GOBER'!J720 -> 1913096 | K35: =+ROUND(I35*J35,0) -> 36482741
C36: 1.5.4 | G36: CONCRETO SIMPLE DE 28 MPa - (4000 PSI) IMPERMEABILIZADO PARA MUROS | H36: M3 | I36: 74.97 | J36: =+'APUS GOBER'!J781 -> 1768826 | K36: =+ROUND(I36*J36,0) -> 132608885
C37: 1.5.5 | G37: PLACA EN CONCRETO DE 21 MPa - (3000 PSI) E = 0.10 M. CON LÁMINA COLABORANTE TIPO METALDECK | H37: M3 | I37: 47.53 | J37: =+'APUS GOBER'!J843 -> 221107 | K37: =+ROUND(I37*J37,0) -> 10509216
C38: Subtotal | K38: =SUM(K33:K37) -> 258522366
C39: 1.6 | G39: ACERO DE REFUERZO
C40: 1.6.1 | G40: SUMINISTRO, FIGURADA Y AMARRE DE ACERO DE 420 MPa (60000 PSI) | H40: KG | I40: 21129.41 | J40: =+'APUS GOBER'!J906 -> 9978 | K40: =+ROUND(I40*J40,0) -> 210829253
C41: 1.6.2 | G41: SUMINISTRO E INSTALACIÓN DE MALLA ELECTROSOLDADA | H41: KG | I41: 4382.16 | J41: =+'APUS GOBER'!J968 -> 9651 | K41: =+ROUND(I41*J41,0) -> 42292226
C42: Subtotal | K42: =SUM(K40:K41) -> 253121479
C43: 1.7 | G43: SISTEMA DE RED HIDRAULICA
C44: 1.7.1 | G44: LOCALIZACIÓN Y REPLANTEO DE REDES | H44: ML | I44: 181.25 | J44: =+'APUS GOBER'!J1032 -> 6190 | K44: =+ROUND(I44*J44,0) -> 1121938
C45: 1.7.2 | G45: EXCAVACIÓN MANUAL EN MATERIAL COMUN | H45: M3 | I45: 66.19 | J45: =+'APUS GOBER'!J1085 -> 91751 | K45: =+ROUND(I45*J45,0) -> 6072999
...

Sheet PROPUESTA ECONOMICA(Proponente)
C3: Formulario 1 - Propuesta económica - Licitación de obra pública de infraestructura social
C4: Código | D4: CCE-EICP-FM-116 | E4: Versión | F4: 1
C5: FORMULARIO 1
C6: PROPUESTA ECONÓMICA
C7: [La Entidad puede utilizar este Formulario de presentación de Propuesta Económica de forma detallada, sin perjuicio que la Entidad pueda modificarlo o establecer la presentación de la oferta económica con un Formulario distinto al indicado.] [Los Proponentes emplearán el Formulario establecido por la Entidad para determinar su propuesta económica conforme al Formulario 1 - Presupuesto Oficial publicado por la Entidad]
C9: Cuando el Proceso de Contratación es estructurado por Precios Unitarios, la Entidad debe aplicar las notas 1, 2 y 3 del presente formato y las casillas de "Descripción", "Porcentaje" de la Administración, Imprevisto, Utilidad y total A.I.U. resaltadas en color amarillo.
C11: Nº | D11: ÍTEM DE PAGO | E11: ESPECIFICACIONES | G11: DESCRIPCIÓN | H11: UND. | I11: CANTIDAD | J11: VALOR UNITARIO | K11: VALOR TOTAL
E12: GENERAL | F12: PARTICULAR
C15: Subtotal
C21: Subtotal
C31: Subtotal
C36: Subtotal
C39: Subtotal
C40: SUBTOTAL OBRAS
G45: SUBTOTAL OBRAS (INCLUYE IVA)
G49: VALOR TOTAL
C52: NOTA 1: Se debe tener en cuenta que el PRECIO UNITARIO incluye el valor de A.I.U. | H52: DESCRIPCIÓN | K52: PORCENTAJE
C53: NOTA 2: Cuando la fracción decimal del peso sea igual o superior a 5 se aproximara por exceso al número entero siguiente del peso y cuando la fracción decimal del peso sea inferior a 5 se aproximará por defecto al número entero del peso. | H53: ADMINISTRACIÓN | J53: A= | K53: [Ofrecimiento del Proponente]
C54: NOTA 3: El A.I.U y su discriminación deben estar en porcentaje (%). | H54: IMPREVISTO | J54: I= | K54: [Ofrecimiento del Proponente]
H55: UTILIDAD | J55: U= | K55: [Ofrecimiento del Proponente]
H56: TOTAL A.I.U | J56: A.I.U.= | K56: [Ofrecimiento del Proponente]
G59: Firma del Proponente o de su representante legal

Sheet INDICAR CÓDIGO DEL ITEM DE PAGO
C3: Formulario 1 - Propuesta económica - Licitación de obra pública de infraestructura social
C4: Código | D4: CCE-EICP-FM-116 | E4: Versión | F4: 1
C6: [La Entidad podrá utilizar este Formato para la presentación de los análisis de Precios Unitarios del Contratista en la oportunidad prevista en el numeral 8.1. del Documento Base]
D9: [NOMBRE DE LA ENTIDAD]
L10: VERSIÓN
D11: [NÚMERO DEL PROCESO]
L12: PÁGINA | M12: 1 | N12: DE | O12: 1
D14: ANÁLISIS DE PRECIOS UNITARIOS
L16: FECHA | M16: DD | N16: MM | O16: AA
C18: ÍTEMS DE LA PROPUESTA ECONÓMICA | I18: ÍTEMS NO PREVISTOS
C22: DATOS ESPECÍFICOS
C24: ÍTEM | D24: DESCRIPCIÓN | M24: UNIDAD | O24: CANTIDAD
C26: I. EQUIPO
C29: DESCRIPCIÓN | H29: MARCA | J29: TIPO | L29: TARIFA/HORA | M29: RENDIMIENTO | O29: Vr. UNITARIO
C33: SUBTOTAL $
C34: II. MATERIALES
C37: DESCRIPCIÓN | K37: UNIDAD | L37: CANTIDAD | M37: PRECIO UNIT. | O37: Vr. UNITARIO
C40: SUBTOTAL $ | O40: 0
C41: III. TRANSPORTES
C44: MATERIAL | J44: VOL. o PESO | K44: DISTANCIA | L44: M3 o Ton/Km | M44: TARIFA | O44: Vr. UNITARIO
C47: SUBTOTAL $
C48: IV. MANO DE OBRA
C51: TRABAJADOR | J51: JORNAL | K51: PRESTACIONES | L51: JORNAL TOTAL | M51: RENDIMIENTO | O51: Vr. UNITARIO
C56: SUBTOTAL $
C58: TOTAL COSTO DIRECTO $
C59: V. COSTOS INDIRECTOS
C62: Descripción | L62: Porcentaje | M62: Valor Total
C63: ADMINISTRACION
C64: IMPREVISTOS
C65: UTILIDAD
C66: SUBTOTAL $
C68: Precio Unitario Total Aproximado al peso $
H70: Firma
H71: Nombre:
H72: Representante legal del Contratista o su apoderado
H73: Matricula:
C75: OBSERVACIONES INTERVENTORÍA
C79: APROBACIÓN POR INTERVENTORÍA
C80: Nota 1: Cuando se trate de análisis de Precios Unitarios correspondientes a ítems de la propuesta económica aprobada, el Interventor aprueba el desglose de los componentes manteniendo el mismo Precio Unitario de cada ítem, cumpliendo con las especificaciones de construcción vigentes para el proyecto.
C82: Nota 2: Cuando se trate de análisis de Precios Unitarios de ítems no previstos, el Interventor aprueba el desglose y Precio Unitario de cada ítem no previsto, exigiendo la aplicación de los costos correspondientes a insumos y tarifas de la propuesta económica inicial cuando estén contemplados, cumpliendo con las especificaciones de construcción vigente para el proyecto.
...

Sheet APUS GOBER
F4: FORMATO | I4: VERSIÓN: 1
I5: CÓDIGO: M-PD-ID-F-001
D6: GOBERNACIÓN DE BOYACÁ - SECRETARÍA DE INFRAESTRUCTURA PÚBLICA | I6: FECHA: 30/abril/2025
D7: ANÁLISIS DE PRECIOS UNITARIOS
D9: No. CAPÍTULO | E9: C A P Í T U L O
D10: 3 | E10: I N F R A E S T R U C T U R A V I A L
D11: No. SUB-CAPÍTULO | E11: S U B - C A P Í T U L O
D12: 3.13 | E12: V A R I O S ( V Í A S ).
D13: REF. PRECIO GOB. BOYACÁ | E13: DESCRIPCIÓN DE LA ACTIVIDAD | J13: Unidad
D14: 3.13.08
D15: No. ÍTEM PRESUPUESTO | E15: CERRAMIENTO EN VARA ROLLIZA Y LONA H = 1.50 M . DISTANCIA ENTRE POSTES 2 M | J15: ML
D16: 3.13.08
D18: 1. MATERIAL
D19: Descripción | G19: Unidad | H19: Valor Unitario | I19: Cantidad | J19: Valor parcial
D20: TELA CERRAMIENTO OBRA (VERDE) | G20: ML | H20: 1825.5 | I20: 1 | J20: =ROUND((+IF(D20="","",H20*I20)),2) -> 1825.5
D21: MADERA VARA DE CLAVO | G21: ML | H21: 7000 | I21: 2.5 | J21: =+IF(D21="","",H21*I21) -> 17500
D22: REPISA ORDINARIO 3m. | G22: ML | H22: 5950 | I22: 1.5 | J22: =+IF(D22="","",H22*I22) -> 8925
D23: PUNTILLA CON Y SIN CABEZA 2 | G23: LB | H23: 5094.67 | I23: 0.03 | J23: =+IF(D23="","",H23*I23) -> 152.8401
J24: =+IF(D24="","",H24*I24)
J25: =+IF(D25="","",H25*I25)
J26: =+IF(D26="","",H26*I26)
G27: SUBTOTAL MATERIALES | J27: =+ROUND(SUM(J20:J26),2) -> 28403.34
D29: 2. EQUIPO
D30: Descripción | G30: Unidad | H30: Vr. Unitario | I30: Cantidad | J30: Valor parcial
D31: HERRAMIENTA Y EQUIPO MENOR (%M.O.) | G31: % | H31: 17534.82 | I31: 0.05 | J31: =+IF(D31="","",H31*I31) -> 876.741
J32: =+IF(D32="","",H32*I32)
J33: =+IF(D33="","",H33*I33)
J34: =+IF(D34="","",H34*I34)
G35: SUBTOTAL EQUIPO | J35: =ROUND(+SUM(J31:J34),2) -> 876.74
D37: 3. MANO DE OBRA
D38: Descripción | G38: Unidad | H38: Vr. Unitario | I38: Cantidad | J38: Valor parcial
D39: CUADRILLA DE ALBAÑILERIA (AA) | G39: HC | H39: 29224.692 | I39: 0.6 | J39: =(+IF(D39="","",(H39*I39))) -> 17534.815
J40: =(+IF(D40="","",(H40*I40)))
J41: =(+IF(D41="","",(H41*I41)))
G43: SUBTOTAL MANO DE OBRA | J43: =+ROUND(SUM(J39:J42),2) -> 17534.82
D45: COSTO DIRECTO | J45: =ROUND((SUM(+J27+J35+J43)),2) -> 46814.9
D47: INCREMENTO POR DISTANCIA (F.I.D.) | I47: 0 | J47: =+J45*I47 -> 0
D48: TOTAL COSTO DIRECTO + INCREMENTO POR DISTANCIA | J48: =+J47+J45 -> 46814.9
D50: ADMINISTRACIÓN | I50: 0.24 | J50: =+J45*I50 -> 11235.576
D51: IMPREVISTOS | I51: 0.01 | J51: =+J45*I51 -> 468.149
...

Sheet APUs ADICIONALES
A2: 1.7.7 | B2: MEDIDOR INCLUYE ACCESORIOS | C2: UN | F2: =ROUND(SUM(F3:F8),0) -> 198687 | H2: =ROUND(F2*1.3,0) -> 258293
B3: MEDIDOR AGUA 1/2" R-160 ACUATUBOS C/CERTIFICADO | C3: UN | D3: 1 | E3: 134074 | F3: =+D3*E3 -> 134074 | J3: Descripción | K3: Unidad | L3: Vr. Unitario ($)
B4: LLAVE BOLA 1/2 PVC ANTIF ROSCA METAL PCP | C4: UN | D4: 1 | E4: 16017 | F4: =+D4*E4 -> 16017 | J4: CUADRILLA DE ALBAÑILERIA (AA) | K4: HC | L4: 29224.692
B5: ACCESORIOS-LIMPIADOR Y SOLDADURA PVC | C5: % | D5: 0.08 | E5: 150091 | F5: =+D5*E5 -> 12007.28 | J5: CUADRILLA DE ALBAÑILERIA (AA1) | K5: HC | L5: 40914.569
B6: EQUIPOS-HERRAMIEN P/PRUEBA HIDROSTÁTICA | C6: M | D6: 467 | E6: 1 | F6: =+D6*E6 -> 467 | J6: CUADRILLA DE INSTALACIÓNES (BB) | K6: HC | L6: 35069.629
B7: HERRAMIENTAS MENORES | C7: %MO | D7: 0.03 | E7: =+F8 -> 35069.629 | F7: =+D7*E7 -> 1052.0889 | J7: CUADRILLA DE PINTURAS Y ESTUCOS (CC) | K7: HC | L7: 49097.481
B8: MANO DE OBRA BB | C8: hc | D8: 1 | E8: =+L6 -> 35069.629 | F8: =+D8*E8 -> 35069.629 | J8: CUADRILLA DE CARPINTERIA EN MADERA (DD) | K8: HC | L8: 49097.481
J9: CUADRILLA DE CABLEADO ESTRUCTURADO (EE) | K9: HC | L9: 51248.966
J10: CUADRILLA DE INSTALACIÓNES ELÉCTRICAS (FF) | K10: HC | L10: 46759.507
A11: 1.7.12 | B11: LOSA INFERIOR BASE PARA CAMARA (POZO) DE INSPECCION EN CONCRETO DE 4000 PSI, D=1.80 M E=0.20 M. INCLUYE CAÑUELAS. | C11: UN | F11: =ROUND(SUM(F12:F14),0) -> 293746 | H11: =ROUND(F11*1.3,0) -> 381870 | J11: CUADRILLA DE INSTALACIÓNES ELÉCTRICAS ESPECIALIZADAS (FF1) | K11: HC | L11: 60694.112
B12: CONCRETO 1:2:2 ELABORADO EN OBRA-4.000PSI CLASE D | C12: M3 | D12: 0.5 | E12: 551370 | F12: =+E12*D12 -> 275685 | J12: CUADRILLA DE DRY WALL (GG) | K12: HC | L12: 50266.469
B13: HERRAMIENTAS MENORES | C13: %MO | D13: 0.03 | E13: =+F14 -> 17534.815 | F13: =(D13*E13) -> 526.04445 | J13: CUADRILLA DE ESTRUCTURA METÁLICA (HH) | K13: HC | L13: 72693
B14: MANO DE OBRA AA | C14: hc | D14: 0.6 | E14: =+L4 -> 29224.692 | F14: =+D14*E14 -> 17534.815 | J14: CUADRILLA CARPINTERÍA METÁLICA (HH1) | K14: HC | L14: 64294.321
J15: CUADRILLA DE TOPOGRAFÍA (II) | K15: HC | L15: 94408.263
A16: 1.7.18 | B16: SALIDA SANITARIA LAVAMANOS 2" SUMINISTRO E INSTALACIÓN | C16: UN | F16: =ROUND(SUM(F17:F23),0) -> 55534 | H16: =ROUND(F16*1.3,0) -> 72194 | J16: CUADRILLA DE ASEO (KK) | K16: HC | L16: 23379.754
B17: SOLDADURA PVC LIQUIDA 1/4 | C17: UN | D17: 0.04 | E17: 47276 | F17: =+D17*E17 -> 1891.04 | J17: CUADRILLA DE JARDINERÍA (NN) | K17: HC | L17: 32731.655
B18: LIMPIADOR PVC LIQUIDA 1/4 | C18: UN | D18: 0.04 | E18: 50901 | F18: =+D18*E18 -> 2036.04 | J18: CUADRILLA DE MANEJO DE EXPLOSIVOS (OO) | K18: HC | L18: 35069.629
B19: TUBO PVC SANITARIO 2 | C19: ML | D19: 2 | E19: 9500 | F19: =+D19*E19 -> 19000 | J19: CUADRILLA DE SEÑALIZACIÓN VIAL (PP) | K19: HC | L19: 29224.692
B20: YEE SANITARIA 2 | C20: UN | D20: 0.5 | E20: 8200 | F20: =+D20*E20 -> 4100 | J20: CUADRILLA ESPECIALIZADA TERMOFUSIONES (QQ) | K20: HC | L20: 94323.658
B21: DESPERDICIO | C21: % | D21: 0.03 | E21: 47194 | F21: =+D21*E21 -> 1415.82
B22: HERRAMIENTAS MENORES | C22: %MO | D22: 0.03 | E22: =+F23 -> 26302.222 | F22: =(D22*E22) -> 789.06666
B23: MANO DE OBRA BB | C23: hc | D23: 0.75 | E23: =+L6 -> 35069.629 | F23: =+D23*E23 -> 26302.222
A25: 1.7.19 | B25: SALIDA SANITARIA DUCHA 2" SUMINISTRO E INSTALACIÓN | C25: UN | F25: =ROUND(SUM(F26:F32),0) -> 55534 | H25: =ROUND(F25*1.3,0) -> 72194
B26: SOLDADURA PVC LIQUIDA 1/4 | C26: UN | D26: 0.04 | E26: 47276 | F26: =+D26*E26 -> 1891.04
B27: LIMPIADOR PVC LIQUIDA 1/4 | C27: UN | D27: 0.04 | E27: 50901 | F27: =+D27*E27 -> 2036.04
B28: TUBO PVC SANITARIO 2 | C28: ML | D28: 2 | E28: 9500 | F28: =+D28*E28 -> 19000
B29: YEE SANITARIA 2 | C29: UN | D29: 0.5 | E29: 8200 | F29: =+D29*E29 -> 4100
B30: DESPERDICIO | C30: % | D30: 0.03 | E30: 47194 | F30: =+D30*E30 -> 1415.82
B31: HERRAMIENTAS MENORES | C31: %MO | D31: 0.03 | E31: =+F32 -> 26302.222 | F31: =(D31*E31) -> 789.06666
B32: MANO DE OBRA BB | C32: hc | D32: 0.75 | E32: =+E23 -> 35069.629 | F32: =+D32*E32 -> 26302.222
A34: 1.7.20 | B34: SALIDA SANITARIA GRIFERIA 2" | C34: UN | F34: =ROUND(SUM(F35:F41),0) -> 55534 | H34: =ROUND(F34*1.3,0) -> 72194
B35: SOLDADURA PVC LIQUIDA 1/4 | C35: UN | D35: 0.04 | E35: 47276 | F35: =+D35*E35 -> 1891.04
B36: LIMPIADOR PVC LIQUIDA 1/4 | C36: UN | D36: 0.04 | E36: 50901 | F36: =+D36*E36 -> 2036.04
B37: TUBO PVC SANITARIO 2 | C37: ML | D37: 2 | E37: 9500 | F37: =+D37*E37 -> 19000
B38: YEE SANITARIA 2 | C38: UN | D38: 0.5 | E38: 8200 | F38: =+D38*E38 -> 4100
B39: DESPERDICIO | C39: % | D39: 0.03 | E39: 47194 | F39: =+D39*E39 -> 1415.82
B40: HERRAMIENTAS MENORES | C40: %MO | D40: 0.03 | E40: =+F41 -> 26302.222 | F40: =(D40*E40) -> 789.06666
B41: MANO DE OBRA BB | C41: hc | D41: 0.75 | E41: =+E32 -> 35069.629 | F41: =+D41*E41 -> 26302.222
A43: 1.7.21 | B43: SALIDA SANITARIA LAVAPLATOS 2" | C43: UN | F43: =ROUND(SUM(F44:F51),0) -> 150086 | H43: =ROUND(F43*1.3,0) -> 195112
B44: SOLDADURA PVC LIQUIDA 1/4 | C44: UN | D44: 0.04 | E44: 47276 | F44: =+D44*E44 -> 1891.04
...
