Workbook
Name \a: #REF!
Name \L: #REF!
Name \P: #REF!
Name \s: #REF!
Name \X: [0]!err
Name \Z: [0]!err
Name _________________________________________________i1: #REF!
Name ________________________________________________i1: #REF!
Name _______________________________________________i1: #REF!
Name ______________________________________________i1: #REF!
Name _____________________________________________i1: #REF!
Name ____________________________________________i1: #REF!
Name ___________________________________________i1: #REF!
Name __________________________________________i1: #REF!
Name _________________________________________i1: #REF!
Name ________________________________________i1: #REF!
Name _______________________________________i1: #REF!
Name ______________________________________i1: #REF!
Name _____________________________________i1: #REF!
Name ____________________________________i1: #REF!
Name ___________________________________i1: #REF!
Name __________________________________i1: #REF!
Name _________________________________i1: #REF!
Name ________________________________i1: #REF!
Name _______________________________i1: #REF!
Name ______________________________i1: #REF!
Name _____________________________i1: #REF!
Name ____________________________i1: #REF!
Name ___________________________i1: #REF!
Name __________________________i1: #REF!
Name _________________________i1: #REF!
Name ________________________i1: #REF!
Name _______________________i1: #REF!
Name ______________________i1: #REF!
Name _____________________i1: #REF!
Name ____________________i1: #REF!
Name ___________________i1: #REF!
Name __________________A1: IF([0]!Values_Entered,[0]!Header_Row+[0]!Number_of_Payments,[0]!Header_Row)
Name __________________A17000: #REF!
Name __________________A20000: #REF!
Name __________________A30000: #REF!
Name __________________AFC1: [1]INV!$A$25:$D$28
Name __________________AFC3: [1]INV!$F$25:$I$28
Name __________________AFC5: [1]INV!$K$25:$N$28
Name __________________BGC1: [1]INV!$A$5:$D$8
Name __________________BGC3: [1]INV!$F$5:$I$8
Name __________________BGC5: [1]INV!$K$5:$N$8
Name __________________CAC1: [1]INV!$A$19:$D$22
Name __________________CAC3: [1]INV!$F$19:$I$22
Name __________________CAC5: [1]INV!$K$19:$N$22
Name __________________G1: #N/A
Name __________________i1: #REF!
Name __________________MA2: #REF!
Name __________________PJ50: #REF!
Name __________________SBC1: [1]INV!$A$12:$D$15
Name __________________SBC3: [1]INV!$F$12:$I$15
Name __________________SBC5: [1]INV!$K$12:$N$15
Name __________________v1: IF(__________________v8,[0]!Header_Row+__________________v4,[0]!Header_Row)
Name __________________v2: IF(__________________v8,[0]!Header_Row+__________________v4,[0]!Header_Row)
Name __________________v4: #N/A

Sheet PRESUPUESTO OFICIAL
B2: Formulario 1 - Formulario propuesta económica -Consultoría de estudios de ingeniería de infraestructura social
C3: Versión 1 del 15 de diciembre de 2025
C6: FORMULARIO 1 - PRESUPUESTO OFICIAL
C7: La Entidad detallará, en el Formulario o Formato que considere pertinente, el detalle del PRESUPUESTO OFICIAL del Proceso de Contratación.
C8: [La Entidad puede utilizar este Formulario para determinar las condiciones bajo las cuales los Proponentes presentarán su propuesta económica de forma detallada, sin perjuicio que puedan modificarlo o alleguen la oferta económica con un Formulario distinto. Es presentado a modo ilustrativo y como una sugerencia] [En caso de modificar el formulario, es importante tener en cuenta que no se deben incluir causales de rechazo, reglas o parámetros. Los términos el proceso solo se encuentran en el Documento Base, por lo que la Entidad no deberá incluir ningún tipo de notas que se configuren en reglas contrarias a las definidas en dicho documento, las notas únicamente pueden ser aclaratorias para efectos del diligenciamiento del formato]
C10: CANT. | D10: CARGO / OFICIO | E10: COSTOS | F10: TIEMPO | G10: PARTICIPACIÓN | H10: VALOR
E11: DE PERSONAL | F11: MES | G11: (h-mes) | H11: PARCIAL ($)
C12: (1) | E12: (2) | F12: (3) | G12: (4) | H12: (1)*((2)+(3))*(4) = (5)
C13: COSTOS DIRECTOS DE PERSONAL | L13: Distribución de cargas
C14: PERSONAL PROFESIONAL | L14: MES 1 | M14: MES 2 | N14: MES 3 | O14: MES 4
C15: 1 | D15: DIRECTOR GENERAL DEL PROYECTO | E15: 5500000 | F15: 4 | G15: =+SUM(L15:O15)/4 -> 1 | H15: =+C15*E15*F15*G15 -> 22000000 | L15: 1 | M15: 1 | N15: 1 | O15: 1
C16: 1 | D16: PROFESIONAL EN INGENIERÍA ELÉCTRICA | E16: 5000000 | F16: 4 | G16: =+SUM(L16:O16)/4 -> 0.5 | H16: =+C16*E16*F16*G16 -> 10000000 | L16: 0 | M16: 1 | N16: 1
C17: 1 | D17: INGENIERO CIVIL ESPECIALISTA EN ESTRUCTURAS | E17: 5000000 | F17: 4 | G17: =+SUM(L17:O17)/4 -> 0.625 | H17: =+C17*E17*F17*G17 -> 12500000 | L17: 0 | M17: 1 | N17: 1 | O17: 0.5
C18: 1 | D18: INGENIERO CIVIL ESPECIALISTA EN HIDRÁULICA | E18: 5000000 | F18: 4 | G18: =+SUM(L18:O18)/4 -> 0.5 | H18: =+C18*E18*F18*G18 -> 10000000 | L18: 0 | M18: 0 | N18: 1 | O18: 1
C19: 1 | D19: INGENIERO CIVIL ESPECIALISTA EN GEOTECNIA | E19: 5000000 | F19: 4 | G19: =+SUM(L19:O19)/4 -> 0.375 | H19: =+C19*E19*F19*G19 -> 7500000 | L19: 1 | M19: 0.5 | O19: -
C20: 1 | D20: INGENIERO CIVIL ESTIMADOR DE COSTOS Y PRESUPUESTOS | E20: 3500000 | F20: 4 | G20: =+SUM(L20:O20)/4 -> 0.5 | H20: =+C20*E20*F20*G20 -> 7000000 | M20: 0 | N20: 1 | O20: 1
C21: 1 | D21: ARQUITECTO ESPECIALISTA EN BIOCLIMÁTICA | E21: 6000000 | F21: 4 | G21: =+SUM(L21:O21)/4 -> 0.875 | H21: =+C21*E21*F21*G21 -> 21000000 | L21: 1 | M21: 1 | N21: 1 | O21: 0.5
C22: 1 | D22: TOPOGRAFO | E22: 4500000 | F22: 4 | G22: =+SUM(L22:O22)/4 -> 0.25 | H22: =+C22*E22*F22*G22 -> 4500000 | L22: 1
C23: 1 | D23: MODELADOR BIM ESTRUCTUTAL | E23: 3000000 | F23: 4 | G23: =+SUM(L23:O23)/4 -> 0.625 | H23: =+C23*E23*F23*G23 -> 7500000 | M23: 1 | N23: 1 | O23: 0.5
C24: 1 | D24: MODELADOR BIM ARQUITECTONICO | E24: 3000000 | F24: 4 | G24: =+SUM(L24:O24)/4 -> 0.875 | H24: =+C24*E24*F24*G24 -> 10500000 | L24: 1 | M24: 1 | N24: 1 | O24: 0.5
C25: PERSONAL TÉCNICO
C26: 2 | D26: CADENEROS | E26: 2300000 | F26: 4 | G26: =+G22 -> 0.25 | H26: =+C26*E26*F26*G26 -> 4600000
C27: SUBTOTAL COSTOS DE PERSONAL = SUMATORIA DE (5) = (6) | H27: =+SUM(H15:H24)+H26 -> 117100000 | J27: =+H27/630 -> 185873.02
C28: FACTOR MULTIPLICADOR (7) | H28: 1.92 | M28: =+SUM(E15:E21) -> 35000000
C29: SUBTOTAL COSTOS DE PERSONAL = (6) * (7) = (A) | H29: =H28*H27 -> 224832000 | J29: =+H29/630 -> 356876.19 | M29: =+M28*0.1 -> 3500000 | N29: =+M29*6 -> 21000000
C30: CANT. | D30: CONCEPTO | E30: UNIDAD | F30: COSTO | G30: UTILIZACION | H30: VALOR | K30: =+H27*1.25 -> 146375000
F31: ($) | H31: PARCIAL ($)
C32: (8) | F32: (9) | G32: (10) | H32: (8)*(9)*(10) = (11)
C33: OTROS COSTOS DIRECTOS
C34: VIÁTICOS | L34: MES 1 | M34: MES 2 | N34: MES 3 | O34: MES 4
L35: 3 | M35: 3 | N35: 3 | O35: 3
C36: COSTOS DE ALQUILER DE EQUIPOS Y OFICINA
C37: 1 | D37: Alquiler mensual de oficina incluye todos los servicio | E37: UND | F37: 2500000 | G37: 4 | H37: =+C37*F37*G37 -> 10000000
C38: OTROS COSTOS
C39: 1 | D39: Plan de gestion ambiental | E39: UND | F39: 4000000 | G39: 1 | H39: =+C39*F39*G39 -> 4000000
C40: 1 | D40: Laboratorios para geotecnia | E40: GBL | F40: 5000000 | G40: 1 | H40: =+C40*F40*G40 -> 5000000
C41: 1 | D41: Carpeta de planos impresos finales | E41: UND | F41: 2000000 | G41: 1 | H41: =+C41*F41*G41 -> 2000000
C42: 1 | D42: Tramites de licencias, permisos y autorizaciones | E42: GBL | F42: 4000000 | G42: 1 | H42: =+C42*F42*G42 -> 4000000 | J42: =+H29+SUM(H37:H37)+SUM(H39:H42) -> 249832000 | K42: =+J42/0.875 -> 2.8552229e+08
C43: OTROS COSTOS (D)
C44: 1 | D44: RETEFUENTE, RETE-ICA, ESTAMPILLAS PRO-UNIVERSIDADES, CONTRIBUCION DE OBRA PUBLICA | E44: UND | F44: 2.8552229e+08 | G44: 0.125 | H44: =+C44*F44*G44 -> 35690286 | K44: 2.8552229e+08
...

Sheet FORMULARIO 1 - DETALLADO
B2: Formulario 1 - Formulario propuesta económica -Consultoría de estudios de ingeniería de infraestructura social
C3: Versión 1 del 15 de diciembre de 2025
C6: FORMULARIO 1 - DETALLADO
C7: [La Entidad puede utilizar este Formulario para determinar las condiciones bajo las cuales los Proponentes presentarán su propuesta económica de forma detallada, sin perjuicio que puedan modificarlo o alleguen la oferta económica con un Formulario distinto. Es presentado a modo ilustrativo y como una sugerencia] [En caso de modificar el formulario, es importante tener en cuenta que no se deben incluir causales de rechazo, reglas o parámetros. Los términos el proceso solo se encuentran en el Documento Base, por lo que la Entidad no deberá incluir ningún tipo de notas que se configuren en reglas contrarias a las definidas en dicho documento, las notas únicamente pueden ser aclaratorias para efectos del diligenciamiento del formato]
C9: CANT. | D9: CARGO / OFICIO | E9: COSTOS | F9: TIEMPO | G9: PARTICIPACIÓN | H9: VALOR
E10: DE PERSONAL | F10: MES | G10: (h-mes) | H10: PARCIAL ($)
C11: (1) | E11: (2) | F11: (3) | G11: (4) | H11: (1)*((2)+(3))*(4) = (5)
C12: COSTOS DIRECTOS DE PERSONAL
C13: PERSONAL PROFESIONAL
C14: 1 | D14: DIRECTOR GENERAL DEL PROYECTO | E14: =+'PRESUPUESTO OFICIAL'!E15 -> 5500000 | G14: =+'PRESUPUESTO OFICIAL'!G15 -> 1 | H14: =+C14*F14*G14*E14 -> 0 | L14: Distribución de cargas
C15: 1 | D15: PROFESIONAL EN INGENIERÍA ELÉCTRICA | E15: =+'PRESUPUESTO OFICIAL'!E16 -> 5000000 | G15: =+'PRESUPUESTO OFICIAL'!G16 -> 0.5 | H15: =+C15*F15*G15*E15 -> 0 | L15: MES 1 | M15: MES 2 | N15: MES 3 | O15: MES 4
C16: 1 | D16: INGENIERO CIVIL ESPECIALISTA EN ESTRUCTURAS | E16: =+'PRESUPUESTO OFICIAL'!E17 -> 5000000 | G16: =+'PRESUPUESTO OFICIAL'!G17 -> 0.625 | H16: =+C16*F16*G16*E16 -> 0 | L16: 1 | M16: 1 | N16: 1 | O16: 1
C17: 1 | D17: INGENIERO CIVIL ESPECIALISTA EN HIDRÁULICA | E17: =+'PRESUPUESTO OFICIAL'!E18 -> 5000000 | G17: =+'PRESUPUESTO OFICIAL'!G18 -> 0.5 | H17: =+C17*F17*G17*E17 -> 0 | L17: 0 | M17: 1 | N17: 1
C18: 1 | D18: INGENIERO CIVIL ESPECIALISTA EN GEOTECNIA | E18: =+'PRESUPUESTO OFICIAL'!E19 -> 5000000 | G18: =+'PRESUPUESTO OFICIAL'!G19 -> 0.375 | H18: =+C18*F18*G18*E18 -> 0 | L18: 0 | M18: 1 | N18: 1 | O18: 0.5
C19: 1 | D19: INGENIERO CIVIL ESTIMADOR DE COSTOS Y PRESUPUESTOS | E19: =+'PRESUPUESTO OFICIAL'!E20 -> 3500000 | G19: =+'PRESUPUESTO OFICIAL'!G20 -> 0.5 | H19: =+C19*F19*G19*E19 -> 0 | L19: 0 | M19: 0 | N19: 1 | O19: 1
C20: 1 | D20: ARQUITECTO ESPECIALISTA EN BIOCLIMÁTICA | E20: =+'PRESUPUESTO OFICIAL'!E21 -> 6000000 | G20: =+'PRESUPUESTO OFICIAL'!G21 -> 0.875 | H20: =+C20*F20*G20*E20 -> 0 | L20: 1 | M20: 0.5 | O20: -
C21: 1 | D21: TOPOGRAFO | E21: =+'PRESUPUESTO OFICIAL'!E22 -> 4500000 | G21: =+'PRESUPUESTO OFICIAL'!G22 -> 0.25 | H21: =+C21*F21*G21*E21 -> 0 | M21: 0 | N21: 1 | O21: 1
C22: 1 | D22: MODELADOR BIM ESTRUCTUTAL | E22: =+'PRESUPUESTO OFICIAL'!E23 -> 3000000 | G22: =+'PRESUPUESTO OFICIAL'!G23 -> 0.625 | H22: =+C22*F22*G22*E22 -> 0 | L22: 1 | M22: 1 | N22: 1 | O22: 0.5
C23: 1 | D23: MODELADOR BIM ARQUITECTONICO | E23: =+'PRESUPUESTO OFICIAL'!E24 -> 3000000 | G23: =+'PRESUPUESTO OFICIAL'!G24 -> 0.875 | H23: =+C23*F23*G23*E23 -> 0 | L23: 1
C24: PERSONAL TÉCNICO | M24: 1 | N24: 1 | O24: 0.5
C25: 2 | D25: CADENEROS | E25: 2300000 | G25: =+'PRESUPUESTO OFICIAL'!G26 -> 0.25 | H25: =+C25*F25*G25*E25 -> 0 | L25: 1 | M25: 1 | N25: 1 | O25: 0.5
C26: SUBTOTAL COSTOS DE PERSONAL = SUMATORIA DE (5) = (6) | H26: =+SUM(H14:H22)+H25 -> 0
C27: FACTOR MULTIPLICADOR (7) | H27: 1.92
C28: SUBTOTAL COSTOS DE PERSONAL = (6) * (7) = (A) | H28: =H27*H26 -> 0
C29: CANT. | D29: CONCEPTO | E29: UNIDAD | F29: COSTO | G29: UTILIZACION | H29: VALOR
F30: ($) | H30: PARCIAL ($)
C31: (8) | F31: (9) | G31: (10) | H31: (8)*(9)*(10) = (11)
C32: OTROS COSTOS DIRECTOS
C34: COSTOS DE ALQUILER DE EQUIPOS Y OFICINA
C35: 1 | D35: Alquiler mensual de oficina incluye todos los servicio | E35: UND | G35: 4 | H35: =+C35*F35*G35 -> 0
C36: OTROS COSTOS
C37: 1 | D37: Plan de gestion ambiental | E37: UND | G37: 1 | H37: =+C37*F37*G37 -> 0
C38: 1 | D38: Laboratorios para geotecnia | E38: GBL | G38: 1 | H38: =+C38*F38*G38 -> 0
C39: 1 | D39: Carpeta de planos impresos finales | E39: UND | G39: 1 | H39: =+C39*F39*G39 -> 0
C40: 1 | D40: Tramites de licencias, permisos y autorizaciones | E40: GBL | G40: 1 | H40: =+C40*F40*G40 -> 0
C41: OTROS COSTOS
C42: 1 | D42: RETEFUENTE, RETE-ICA, ESTAMPILLAS PRO-UNIVERSIDADES, CONTRIBUCION DE OBRA PUBLICA | E42: UND | G42: 0.125 | H42: =+C42*F42*G42 -> 0
C43: SUBTOTAL OTROS COSTOS DIRECTOS = SUMATORIA DE (11) = (B) | H43: =+H33+SUM(H35:H35)+SUM(H37:H40) -> 0
C44: SUBTOTAL COSTOS BASICOS = (A) + (B) = (C) | H44: =+H43+H28 -> 0
C45: VALOR TOTAL BASICO = (C) + (D) = (E) | H45: =+H44+H42 -> 0
...

Sheet FORMULARIO1 - GLOBAL
C2: Formulario 1 - Formulario propuesta económica - Consultoría de estudios de ingeniería de infraestructura social
D3: Versión 1 del 15 de diciembre de 2025
C10: FORMULARIO 1 - GLOBAL
C11: [La Entidad puede utilizar este Formulario para determinar las condiciones bajo las cuales los Proponentes presentarán su propuesta económica de forma detallada, sin perjuicio que puedan modificarlo o alleguen la oferta económica con un Formulario distinto. Es presentado a modo ilustrativo y como una sugerencia] [En caso de modificar el formulario, es importante tener en cuenta que no se deben incluir causales de rechazo, reglas o parámetros. Los términos el proceso solo se encuentran en el Documento Base, por lo que la Entidad no deberá incluir ningún tipo de notas que se configuren en reglas contrarias a las definidas en dicho documento, las notas únicamente pueden ser aclaratorias para efectos del diligenciamiento del formato]
C12: VALOR GLOBAL DE LA CONSULTORÍA
C13: ÍTEM | D13: DESCRIPCIÓN | F13: VALOR OFERTA
C15: 1 | D15: Valor de su propuesta sin IVA
C16: 2 | D16: Valor del IVA
C17: 3 | D17: Valor Total de la Propuesta | F17: =SUM(F15:G16) -> 0
C19: VALORES OFICIALES PARA LOS ITEMS A PAGAR POR PRECIOS UNITARIOS PARA LOS ENSAYOS DE LABORATORIO (en caso de aplicar)
C20: ÍTEM | D20: DESCRIPCIÓN | E20: UNIDAD | F20: VALOR BASICO UNITARIO OFICIAL (sin IVA) | G20: VALOR BASICO UNITARIO PROPUESTO (sin IVA)
C34: FIRMAS:
C38: Nombre y firma del representante legal del Proponente | G38: Nombre y firma del Proponente
