Workbook

Sheet GENERAL (2)
A1: CONTRATAR A TODO COSTO LOS ARREGLOS LOCATIVOS EN ELGIMNASIO DEL SECTOR POLIDEPORTIVO PROPIEDAD DEL MINICIPIO
B2: DETALLE | C2: UNIDAD | D2: CANTIDAD | E2: V. UNITARIP | F2: VALOR TOTAL
A3: 1 | B3: PRELIMINARES | F3: =F5+F4 -> 1445488
A4: 1.01 | B4: REPLANTEO | C4: M2 | D4: =GIMNASIO!D4 -> 147.2 | E4: =GIMNASIO!E4 -> 4915 | F4: =D4*E4 -> 723488
A5: 1.02 | B5: TRANSPORTE E INSTALACION CAJA DE INSPECCIÓN EMPALME DOMICILIARIO TIPO I (0,60X0,60 M) EN CONCRETO CLASE II | C5: ML | D5: =GIMNASIO!D5 -> 1 | E5: =GIMNASIO!E5 -> 722000 | F5: =E5*D5 -> 722000
A6: 2 | B6: MUROS | F6: =F7 -> 2998685.4
A7: 2.01 | B7: SUMINISTRO, TRANSPORTE E INSTALACIÓN A TODO COSTO DE MURO EN SUPERBOARD 8 MM PINTADO, INPERMEABILISADO Y TERMINADO (DOS CARAS). INCLUYE PERFILERÍA Y TODO LO NECESARIO PARA SU CORRECTA INSTALACIÓN | C7: M2 | D7: =GIMNASIO!D7 -> 20.04 | E7: =GIMNASIO!E7 -> 149635 | F7: =D7*E7 -> 2998685.4
A8: 3 | B8: PISOS | F8: =F9 -> 13401750
A9: 3.01 | B9: SUMINISTRO E INSTALACION A TODO COSTO DE BALDOSA EVO ESTANDARD O SIMILAR, PLACA 50*50 - 1 CM DE GROSOR COLOR NEGRO, DISEÑO; CUADRICULA, ALTURA 10MM, VENTA 1 M2 ( 4 PIEZAS ) INCLUYE TODO LO NECESARIO PARA SU CORRECTA INSTALACION | C9: M2 | D9: =GIMNASIO!D9 -> 125.25 | E9: =GIMNASIO!E9 -> 107000 | F9: =D9*E9 -> 13401750
A10: 4 | B10: PINTURA | F10: =F13+F12+F11 -> 15151942
A11: 4.01 | B11: REPARACION MUROS (INCLUYE RESANE Y PINTURA VINILO 3 MANOS SOBRE MURO INTERIOR EN PINTURA TIPO 2 Y DOS MANOS EN PINTURA TIPO 1, FILOS Y DILATACIONES). COLOR SEGÚN DISEÑO POR M2 | C11: M2 | D11: =GIMNASIO!D11 -> 308 | E11: =GIMNASIO!E11 -> 34043 | F11: =E11*D11 -> 10485244
A12: 4.02 | B12: SUMINISTRO, TRANSPORTE E INSTALACION PINTURA ESMALTE PARA PUERTAS, REJAS, VENTANAS Y DEMÁS SUPERFICIES METÁLICAS. AMBAS CARAS. INCLUYE FILOS Y DILATACIONES. INCLUYE ANDAMIOS CERTIFICADOS PARA TRABAJO EN ALTURAS. | C12: M2 | D12: =GIMNASIO!D12 -> 25 | E12: =GIMNASIO!E12 -> 34418 | F12: =E12*D12 -> 860450
A13: 4.03 | B13: SUMINISTRO, TRANSPORTE E INSTALACION SIKA MONOTOP 123, O SIMILAR SOBRE MURO, FILOS Y DILATACIONES EN AREAS DE INTERVENCION PARA CONTROL DE HUMEDAD). | C13: M2 | D13: =GIMNASIO!D13 -> 106 | E13: =GIMNASIO!E13 -> 35908 | F13: =E13*D13 -> 3806248
A14: 5 | B14: INSTALACIONES ELECTRICAS - REDES INTERNAS | F14: =F15+F16 -> 2999184
A15: 5.01 | B15: SUMINISTRO, TRANSPORTE E INSTALACION LAMPARA HERMETICA POLICARBONATO IP65, 2X32W. BALASTO ELECTRONICO 2X32T8. INCLUYE 2 TUBOS FLUORESCENTE 32W T8. O SIMILAR, Y DEMAS ACCESORIOS PARA SU CORRECTO FUNCIONAMIENTO | C15: UND | D15: 8 | E15: 275398 | F15: =E15*D15 -> 2203184
A16: 5.02 | B16: SUMINISTRO, TRANSPORTE E INSTALACIÓN LUMINARIA PANEL LED CIRCULAR SOBREPONER 30W - LUZ NEUTRA, BLANCO 100-240V 2100 LUMENES CERTIFICADO | C16: UND | D16: 8 | E16: 99500 | F16: =D16*E16 -> 796000
A17: 6 | B17: CUBIERTA | F17: =F18 -> 1811920
A18: 6.01 | B18: RECORRIDO DE CUBIERTA (INC. GANCHOS, AMARRAS, REMCHES Y SIKAFLEX) | C18: M2 | D18: 80 | E18: 22649 | F18: =E18*D18 -> 1811920
A19: 7 | B19: DOTACIONES | F19: =F20 -> 1212000
A20: 7.01 | B20: SUMINISTRO, TRANSPORTE E INSTALACION ESPEJO 6 MM. FLOTADO BISELADO Y SIN MARCO. (INCLUYE LOS ELEMENTOS DE FIJACIÓN AL MURO). | C20: M2 | D20: 6 | E20: 202000 | F20: =E20*D20 -> 1212000
A21: 8 | B21: CIELORASOS | F21: =SUM(F22) -> 1684800
A22: 8.01 | B22: SUMINISTRO, TRANSPORTE E INSTALACION CIELO RASO SUSPENDIDO DRYWALL JUNTA PERDIDA DE 0-0,6M (PERFILERIA METÁLICA CL. 26. ESTRUCTURA CADA 40 CMS.) INCLUYE TRES (3) MANOS DE PINTURA | C22: M2 | D22: =6*1.5*2 -> 18 | E22: 93600 | F22: =D22*E22 -> 1684800
E23: SUB TOTAL | F23: =F3+F6+F8+F10+F14+F17+F19+F21 -> 40705769
A25: CONTRATAR A TODO COSTO LOS ARREGLOS LOCATIVOS EN LA PISCINA, DEL SECTOR POLIDEPORTIVO PROPIEDAD DEL MUNICIPIO
B26: DETALLE | C26: UNIDAD | D26: CANTIDAD | E26: V. UNITARIP | F26: VALOR TOTAL
A27: 1 | B27: PRELIMINARES | F27: =F28 -> 122875
A28: 1.01 | B28: REPLANTEO | C28: M2 | D28: =PISCINA!D4 -> 25 | E28: =PISCINA!E4 -> 4915 | F28: =D28*E28 -> 122875
A29: 2 | B29: DEMOLICION | F29: =F31+F30 -> 277084
A30: 2.01 | B30: DESMONTE DE PUERTAS EN BAÑOS DE CAMERINOS DE HOMBRE Y MUJERES | C30: UNIDAD | D30: =PISCINA!D6 -> 2 | E30: =PISCINA!E6 -> 58088 | F30: =D30*E30 -> 116176
A31: 2.02 | B31: DESMONTE APARATOS SANITARIOS EN CAMERINOS DE HOMBRES Y MUJERES | C31: UNIDAD | D31: =PISCINA!D7 -> 2 | E31: =PISCINA!E7 -> 80454 | F31: =D31*E31 -> 160908
A32: 3 | B32: ENCHAPES | F32: =F36+F35+F34+F33 -> 1398937
A33: 3.01 | B33: SUMINISTRO, TRANSPORTE E INSTALACION ENCHAPE PISO BAÑO CORONA o SIMILAR.COLOR BLANCO, (Incluye mortero de nivelación, boquilla y pegante) | C33: M2 | D33: =PISCINA!D9 -> 3.5 | E33: =PISCINA!E9 -> 84116 | F33: =E33*D33 -> 294406
A34: 3.02 | B34: SUMINISTRO, TRANSPORTE E INSTALACION CERAMICA, PARED COLOR BLANCO (INCLUYE BOQUILLA, GARANTIZANDO UN EXELENTE ACABADO | C34: M2 | D34: =PISCINA!D10 -> 6 | E34: =PISCINA!E10 -> 83558 | F34: =E34*D34 -> 501348
A35: 3.03 | B35: SUMINISTRO, TRANSPORTE E INSTALACION TABLON DE GRES DE10*10 CM. TIPO ALFA O SIMILAR. COLORES ROJO, SALMÓN O SAHARA SEGÚN DISEÑO. (INCLUYE BOQUILLA COLOR Y MORTERO DE NIVELACIÓN.) | C35: M2 | D35: =PISCINA!D11 -> 3 | E35: =PISCINA!E11 -> 74887 | F35: =E35*D35 -> 224661
A36: 3.04 | B36: SUMINISTRO, TRANSPORTE E INSTALACION ENCHAPE PISO EN PISCINA CORONA o SIMILAR.COLOR BLANCO, (Incluye mortero de nivelación, boquilla y pegante) | C36: M2 | D36: =PISCINA!D12 -> 4.5 | E36: =PISCINA!E12 -> 84116 | F36: =E36*D36 -> 378522
A37: 4 | B37: APARATOS | F37: =F38+F39 -> 1007374
A38: 4.01 | B38: SUMINISTRO, TRANSPORTE E INSTALACION SANITARIO, COLOR BLANCO, CORONA O SIMILAR. CONJUNTO SANITARIO QUE INCLUYE SANITARIO, TAPA, TANQUE, ACCESORIOS DE CONEXIÓN E INSTALACIÓN. | C38: UNDIDAD | D38: =PISCINA!D14 -> 2 | E38: =PISCINA!E14 -> 392000 | F38: =D38*E38 -> 784000
A39: 4.02 | B39: REPARACIÓN DE PUNTO SANITARIO OBSTRUIDO INCLUYE SONDEO DE TUBERÍA, RETIRO REVISIÓN Y REINSTALACIÓN DE HASTA 4 ML PARA INSTALACIÓN DE APARATO SANITARIO. | C39: UNDIDAD | D39: =PISCINA!D15 -> 2 | E39: =PISCINA!E15 -> 111687 | F39: =D39*E39 -> 223374
A40: 5 | B40: CARPINTERIA METALICA | F40: =F41 -> 2414187
A41: 5.01 | B41: SUMINISTRO, TRANSPORTE E INSTALACION MARCO METALICO PUERTAS E= 12 CM SENCILLO EN LÁMINA GALVANIZADA CAL. 20 PARA HOJA DE PUERTA CON ANCHO 0.76 A 1.10 M. Y ALTURA 1.80 A 2.10 M. ACABADO CON ANTICORROSIVO Y ESMALTE. INCLUYE EL SUMINISTRO DE TODOS LOS ACCESORIOS REQUERIDOS PARA EL CORRECTO MONTAJE | C41: UNDIDAD | D41: =PISCINA!D17 -> 9 | E41: =PISCINA!E17 -> 268243 | F41: =D41*E41 -> 2414187
A42: 6 | B42: CUBIERTA | F42: =F43+F46 -> 1021600
A43: 6.01 | B43: RECORRIDO DE CUBIERTA EN FIBROCEMENTO INCLUYE GANCHOS Y AMARRAS, REEMPLAZO DE LAS TEJAS QUE ESTEN EN MAL ESTADO, Y LIMATES | C43: M2 | D43: =PISCINA!D19 -> 40 | E43: =PISCINA!E19 -> 25540 | F43: =D43*E43 -> 1021600
A44: 7 | B44: OBRAS VARIAS | F44: =SUM(F45) -> 1296000
A45: 7.01 | B45: SUMINISTRO, TRANSPORTE E INSTALACION DE MADERA EN CEDRO ROJO Ó ALAMO Ó ABETO PARA SAUNA, INCLUYE PINTURA SINTETICA, TORNILLERIA Y ACCESORIOS DE FIJACION PARA SU CORRECTA INSTALACIÓN | C45: M2 | D45: =PISCINA!D21 -> 8 | E45: =PISCINA!E21 -> 162000 | F45: =D45*E45 -> 1296000
E47: SUBTOTAL | F47: =F27+F29+F32+F37+F42+F40+F44 -> 7538057
A49: CONTRATAR EL SUMINISTRO DEL CAUCHO PARA EL MANTENIMIENTO RUTINARIO DE LA CANCHA DE FUTBOL 5 Y EL ESTADIO MUNICIPAL
B50: DETALLE | C50: UNIDAD | D50: CANTIDAD | E50: V. UNITARIP | F50: VALOR TOTAL
A51: 1.00 | B51: PRELIMINARES | F51: =F52 -> 5000000
A52: 1.01 | B52: Granulo de caucho para gramas sintéticas SBR (Styrene-Butadiene Rubber) | C52: KG | D52: =sintetico!D4 -> 2000 | E52: =sintetico!E4 -> 2500 | F52: =D52*E52 -> 5000000
E54: SUBTOTAL | F54: =F51 -> 5000000
A55: CONTRATAR A TODO COSTA, LA REPARACION LA PUERTAS Y LAS ZONAS HUMEDAS DEL COLISEO CUBIERTO, PROPIEDAD DEL MUNICIPIO
B56: DETALLE | C56: UNIDAD | D56: CANTIDAD | E56: V. UNITARIP | F56: VALOR TOTAL
A57: 1.00 | B57: CARPINTERIA METALICA | F57: =F58 -> 2967132
A58: 1.01 | B58: DESMONTE REPARACION Y REINSTALACION DE PUERTA METALICA INCLUYE ANTICORROSIVO Y PINTURA | C58: UND | D58: =COLISEO!D4 -> 6 | E58: =COLISEO!E4 -> 494522 | F58: =D58*E58 -> 2967132
A59: 2.00 | B59: ENCHAPES | F59: =SUM(F60) -> 584906
A60: 2.01 | B60: SUMINISTRO, TRANSPORTE E INSTALACION CERAMICA, PARED COLOR BLANCO (INCLUYE BOQUILLA, GARANTIZANDO UN EXELENTE ACABADO | C60: M2 | D60: =COLISEO!D6 -> 7 | E60: =COLISEO!E6 -> 83558 | F60: =D60*E60 -> 584906
A61: 3.00 | B61: CUBIERTA | F61: =SUM(F62) -> 1323099.7
A62: 3.01 | B62: RECORRIDO DE CUBIERTA EN FIBROCEMENTO INCLUYE GANCHOS Y AMARRAS, REEMPLAZO DE LAS TEJAS QUE ESTEN EN MAL ESTADO, Y LIMATES | C62: M2 | D62: 51.805 | E62: 25540 | F62: =D62*E62 -> 1323099.7
E63: SUB TOTAL | F63: =F57+F59+F61 -> 4875137.7
B64: CONTRATAR A TODO COSTA, LA REPARACION DE LA CUBIERTA DE LA CANCHA MULTIPLE, PROPIEDAD DEL MUNICIPIO
B65: CUBIERTA
B66: SUMINISTRO, TRANSPORTE E INSTALACION TEJA CUBIERTA ARQUITECTONICA POLICARBONATO OPALIZADA PARA UPVC 5.9x1.13m o similar. (Incluye instalación, ganchos de fijación y el suministro de todos los accesorios requeridos para el correcto montaje.) | C66: M2 | D66: 30 | E66: 126163 | F66: =E66*D66 -> 3784890
E67: SUB TOTAL | F67: =F66 -> 3784890
C70: GRAN TOTAL | F70: =F23+F47+F54+F63+F67 -> 61903854
C71: ADMINISTRACIÓN | E71: 0.3 | F71: =F70*E71 -> 18571156
C72: UTILIDAD | E72: 0.05 | F72: =F70*E72 -> 3095192.7
E73: TOTAL | F73: =F70+F71+F72 -> 83570203

Sheet GENERAL
A1: CONTRATAR A TODO COSTO LOS ARREGLOS LOCATIVOS EN ELGIMNASIO DEL SECTOR POLIDEPORTIVO PROPIEDAD DEL MINICIPIO
B2: DETALLE | C2: UNIDAD | D2: CANTIDAD | E2: V. UNITARIP | F2: VALOR TOTAL
A3: 1 | B3: PRELIMINARES | F3: =F5+F4 -> 1445488
A4: 1.01 | B4: REPLANTEO | C4: M2 | D4: =GIMNASIO!D4 -> 147.2 | E4: =GIMNASIO!E4 -> 4915 | F4: =D4*E4 -> 723488
A5: 1.02 | B5: TRANSPORTE E INSTALACION CAJA DE INSPECCIÓN EMPALME DOMICILIARIO TIPO I (0,60X0,60 M) EN CONCRETO CLASE II | C5: ML | D5: =GIMNASIO!D5 -> 1 | E5: =GIMNASIO!E5 -> 722000 | F5: =E5*D5 -> 722000
A6: 2 | B6: MUROS | F6: =F7 -> 2998685.4
A7: 2.01 | B7: SUMINISTRO, TRANSPORTE E INSTALACIÓN A TODO COSTO DE MURO EN SUPERBOARD 8 MM PINTADO, INPERMEABILISADO Y TERMINADO (DOS CARAS). INCLUYE PERFILERÍA Y TODO LO NECESARIO PARA SU CORRECTA INSTALACIÓN | C7: M2 | D7: =GIMNASIO!D7 -> 20.04 | E7: =GIMNASIO!E7 -> 149635 | F7: =D7*E7 -> 2998685.4
A8: 3 | B8: PISOS | F8: =F9 -> 13401750
A9: 3.01 | B9: SUMINISTRO E INSTALACION A TODO COSTO DE BALDOSA EVO ESTANDARD O SIMILAR, PLACA 50*50 - 1 CM DE GROSOR COLOR NEGRO, DISEÑO; CUADRICULA, ALTURA 10MM, VENTA 1 M2 ( 4 PIEZAS ) INCLUYE TODO LO NECESARIO PARA SU CORRECTA INSTALACION | C9: M2 | D9: =GIMNASIO!D9 -> 125.25 | E9: =GIMNASIO!E9 -> 107000 | F9: =D9*E9 -> 13401750
A10: 4 | B10: PINTURA | F10: =F13+F12+F11 -> 15151942
A11: 4.01 | B11: REPARACION MUROS (INCLUYE RESANE Y PINTURA VINILO 3 MANOS SOBRE MURO INTERIOR EN PINTURA TIPO 2 Y DOS MANOS EN PINTURA TIPO 1, FILOS Y DILATACIONES). COLOR SEGÚN DISEÑO POR M2 | C11: M2 | D11: =GIMNASIO!D11 -> 308 | E11: =GIMNASIO!E11 -> 34043 | F11: =E11*D11 -> 10485244
A12: 4.02 | B12: SUMINISTRO, TRANSPORTE E INSTALACION PINTURA ESMALTE PARA PUERTAS, REJAS, VENTANAS Y DEMÁS SUPERFICIES METÁLICAS. AMBAS CARAS. INCLUYE FILOS Y DILATACIONES. INCLUYE ANDAMIOS CERTIFICADOS PARA TRABAJO EN ALTURAS. | C12: M2 | D12: =GIMNASIO!D12 -> 25 | E12: =GIMNASIO!E12 -> 34418 | F12: =E12*D12 -> 860450
A13: 4.03 | B13: SUMINISTRO, TRANSPORTE E INSTALACION SIKA MONOTOP 123, O SIMILAR SOBRE MURO, FILOS Y DILATACIONES EN AREAS DE INTERVENCION PARA CONTROL DE HUMEDAD). | C13: M2 | D13: =GIMNASIO!D13 -> 106 | E13: =GIMNASIO!E13 -> 35908 | F13: =E13*D13 -> 3806248
A14: 5 | B14: INSTALACIONES ELECTRICAS - REDES INTERNAS | F14: =F15+F16 -> 2999184
A15: 5.01 | B15: SUMINISTRO, TRANSPORTE E INSTALACION LAMPARA HERMETICA POLICARBONATO IP65, 2X32W. BALASTO ELECTRONICO 2X32T8. INCLUYE 2 TUBOS FLUORESCENTE 32W T8. O SIMILAR, Y DEMAS ACCESORIOS PARA SU CORRECTO FUNCIONAMIENTO | C15: UND | D15: 8 | E15: 275398 | F15: =E15*D15 -> 2203184
A16: 5.02 | B16: SUMINISTRO, TRANSPORTE E INSTALACIÓN LUMINARIA PANEL LED CIRCULAR SOBREPONER 30W - LUZ NEUTRA, BLANCO 100-240V 2100 LUMENES CERTIFICADO | C16: UND | D16: 8 | E16: 99500 | F16: =D16*E16 -> 796000
A17: 6 | B17: CUBIERTA | F17: =F18 -> 1811920
A18: 6.01 | B18: RECORRIDO DE CUBIERTA (INC. GANCHOS, AMARRAS, REMCHES Y SIKAFLEX) | C18: M2 | D18: 80 | E18: 22649 | F18: =E18*D18 -> 1811920
A19: 7 | B19: DOTACIONES | F19: =F20 -> 1212000
A20: 7.01 | B20: SUMINISTRO, TRANSPORTE E INSTALACION ESPEJO 6 MM. FLOTADO BISELADO Y SIN MARCO. (INCLUYE LOS ELEMENTOS DE FIJACIÓN AL MURO). | C20: M2 | D20: 6 | E20: 202000 | F20: =E20*D20 -> 1212000
A21: 8 | B21: CIELORASOS | F21: =SUM(F22) -> 1684800
A22: 8.01 | B22: SUMINISTRO, TRANSPORTE E INSTALACION CIELO RASO SUSPENDIDO DRYWALL JUNTA PERDIDA DE 0-0,6M (PERFILERIA METÁLICA CL. 26. ESTRUCTURA CADA 40 CMS.) INCLUYE TRES (3) MANOS DE PINTURA | C22: M2 | D22: =6*1.5*2 -> 18 | E22: 93600 | F22: =D22*E22 -> 1684800
E23: SUB TOTAL | F23: =F3+F6+F8+F10+F14+F17+F19+F21 -> 40705769
A25: CONTRATAR A TODO COSTO LOS ARREGLOS LOCATIVOS EN LA PISCINA, DEL SECTOR POLIDEPORTIVO PROPIEDAD DEL MUNICIPIO
B26: DETALLE | C26: UNIDAD | D26: CANTIDAD | E26: V. UNITARIP | F26: VALOR TOTAL
A27: 1 | B27: PRELIMINARES | F27: =F28 -> 122875
A28: 1.01 | B28: REPLANTEO | C28: M2 | D28: =PISCINA!D4 -> 25 | E28: =PISCINA!E4 -> 4915 | F28: =D28*E28 -> 122875
A29: 2 | B29: DEMOLICION | F29: =F31+F30 -> 277084
A30: 2.01 | B30: DESMONTE DE PUERTAS EN BAÑOS DE CAMERINOS DE HOMBRE Y MUJERES | C30: UNIDAD | D30: =PISCINA!D6 -> 2 | E30: =PISCINA!E6 -> 58088 | F30: =D30*E30 -> 116176
A31: 2.02 | B31: DESMONTE APARATOS SANITARIOS EN CAMERINOS DE HOMBRES Y MUJERES | C31: UNIDAD | D31: =PISCINA!D7 -> 2 | E31: =PISCINA!E7 -> 80454 | F31: =D31*E31 -> 160908
A32: 3 | B32: ENCHAPES | F32: =F36+F35+F34+F33 -> 1398937
A33: 3.01 | B33: SUMINISTRO, TRANSPORTE E INSTALACION ENCHAPE PISO BAÑO CORONA o SIMILAR.COLOR BLANCO, (Incluye mortero de nivelación, boquilla y pegante) | C33: M2 | D33: =PISCINA!D9 -> 3.5 | E33: =PISCINA!E9 -> 84116 | F33: =E33*D33 -> 294406
A34: 3.02 | B34: SUMINISTRO, TRANSPORTE E INSTALACION CERAMICA, PARED COLOR BLANCO (INCLUYE BOQUILLA, GARANTIZANDO UN EXELENTE ACABADO | C34: M2 | D34: =PISCINA!D10 -> 6 | E34: =PISCINA!E10 -> 83558 | F34: =E34*D34 -> 501348
A35: 3.03 | B35: SUMINISTRO, TRANSPORTE E INSTALACION TABLON DE GRES DE10*10 CM. TIPO ALFA O SIMILAR. COLORES ROJO, SALMÓN O SAHARA SEGÚN DISEÑO. (INCLUYE BOQUILLA COLOR Y MORTERO DE NIVELACIÓN.) | C35: M2 | D35: =PISCINA!D11 -> 3 | E35: =PISCINA!E11 -> 74887 | F35: =E35*D35 -> 224661
A36: 3.04 | B36: SUMINISTRO, TRANSPORTE E INSTALACION ENCHAPE PISO EN PISCINA CORONA o SIMILAR.COLOR BLANCO, (Incluye mortero de nivelación, boquilla y pegante) | C36: M2 | D36: =PISCINA!D12 -> 4.5 | E36: =PISCINA!E12 -> 84116 | F36: =E36*D36 -> 378522
A37: 4 | B37: APARATOS | F37: =F38+F39 -> 1007374
A38: 4.01 | B38: SUMINISTRO, TRANSPORTE E INSTALACION SANITARIO, COLOR BLANCO, CORONA O SIMILAR. CONJUNTO SANITARIO QUE INCLUYE SANITARIO, TAPA, TANQUE, ACCESORIOS DE CONEXIÓN E INSTALACIÓN. | C38: UNDIDAD | D38: =PISCINA!D14 -> 2 | E38: =PISCINA!E14 -> 392000 | F38: =D38*E38 -> 784000
A39: 4.02 | B39: REPARACIÓN DE PUNTO SANITARIO OBSTRUIDO INCLUYE SONDEO DE TUBERÍA, RETIRO REVISIÓN Y REINSTALACIÓN DE HASTA 4 ML PARA INSTALACIÓN DE APARATO SANITARIO. | C39: UNDIDAD | D39: =PISCINA!D15 -> 2 | E39: =PISCINA!E15 -> 111687 | F39: =D39*E39 -> 223374
A40: 5 | B40: CARPINTERIA METALICA | F40: =F41 -> 2414187
A41: 5.01 | B41: SUMINISTRO, TRANSPORTE E INSTALACION MARCO METALICO PUERTAS E= 12 CM SENCILLO EN LÁMINA GALVANIZADA CAL. 20 PARA HOJA DE PUERTA CON ANCHO 0.76 A 1.10 M. Y ALTURA 1.80 A 2.10 M. ACABADO CON ANTICORROSIVO Y ESMALTE. INCLUYE EL SUMINISTRO DE TODOS LOS ACCESORIOS REQUERIDOS PARA EL CORRECTO MONTAJE | C41: UNDIDAD | D41: =PISCINA!D17 -> 9 | E41: =PISCINA!E17 -> 268243 | F41: =D41*E41 -> 2414187
A42: 6 | B42: CUBIERTA | F42: =F43+F46 -> 1021600
A43: 6.01 | B43: RECORRIDO DE CUBIERTA EN FIBROCEMENTO INCLUYE GANCHOS Y AMARRAS, REEMPLAZO DE LAS TEJAS QUE ESTEN EN MAL ESTADO, Y LIMATES | C43: M2 | D43: =PISCINA!D19 -> 40 | E43: =PISCINA!E19 -> 25540 | F43: =D43*E43 -> 1021600
A44: 7 | B44: OBRAS VARIAS | F44: =SUM(F45) -> 1296000
A45: 7.01 | B45: SUMINISTRO, TRANSPORTE E INSTALACION DE MADERA EN CEDRO ROJO Ó ALAMO Ó ABETO PARA SAUNA, INCLUYE PINTURA SINTETICA, TORNILLERIA Y ACCESORIOS DE FIJACION PARA SU CORRECTA INSTALACIÓN | C45: M2 | D45: =PISCINA!D21 -> 8 | E45: =PISCINA!E21 -> 162000 | F45: =D45*E45 -> 1296000
E47: SUBTOTAL | F47: =F27+F29+F32+F37+F42+F40+F44 -> 7538057
A49: CONTRATAR EL SUMINISTRO DEL CAUCHO PARA EL MANTENIMIENTO RUTINARIO DE LA CANCHA DE FUTBOL 5 Y EL ESTADIO MUNICIPAL
B50: DETALLE | C50: UNIDAD | D50: CANTIDAD | E50: V. UNITARIP | F50: VALOR TOTAL
A51: 1.00 | B51: PRELIMINARES | F51: =F52 -> 5000000
A52: 1.01 | B52: Granulo de caucho para gramas sintéticas SBR (Styrene-Butadiene Rubber) | C52: KG | D52: =sintetico!D4 -> 2000 | E52: =sintetico!E4 -> 2500 | F52: =D52*E52 -> 5000000
E54: SUBTOTAL | F54: =F51 -> 5000000
A55: CONTRATAR A TODO COSTA, LA REPARACION LA PUERTAS Y LAS ZONAS HUMEDAS DEL COLISEO CUBIERTO, PROPIEDAD DEL MUNICIPIO
B56: DETALLE | C56: UNIDAD | D56: CANTIDAD | E56: V. UNITARIP | F56: VALOR TOTAL
A57: 1.00 | B57: CARPINTERIA METALICA | F57: =F58 -> 2967132
A58: 1.01 | B58: DESMONTE REPARACION Y REINSTALACION DE PUERTA METALICA INCLUYE ANTICORROSIVO Y PINTURA | C58: UND | D58: =COLISEO!D4 -> 6 | E58: =COLISEO!E4 -> 494522 | F58: =D58*E58 -> 2967132
A59: 2.00 | B59: ENCHAPES | F59: =SUM(F60) -> 584906
A60: 2.01 | B60: SUMINISTRO, TRANSPORTE E INSTALACION CERAMICA, PARED COLOR BLANCO (INCLUYE BOQUILLA, GARANTIZANDO UN EXELENTE ACABADO | C60: M2 | D60: =COLISEO!D6 -> 7 | E60: =COLISEO!E6 -> 83558 | F60: =D60*E60 -> 584906
A61: 3.00 | B61: CUBIERTA | F61: =SUM(F62) -> 5108000
A62: 3.01 | B62: RECORRIDO DE CUBIERTA EN FIBROCEMENTO INCLUYE GANCHOS Y AMARRAS, REEMPLAZO DE LAS TEJAS QUE ESTEN EN MAL ESTADO, Y LIMATES | C62: M2 | D62: 200 | E62: 25540 | F62: =D62*E62 -> 5108000
E63: SUB TOTAL | F63: =F57+F59+F61 -> 8660038
C65: GRAN TOTAL | F65: =F23+F47+F54+F63 -> 61903864
C66: ADMINISTRACIÓN | E66: 0.3 | F66: =F65*E66 -> 18571159
C67: UTILIDAD | E67: 0.05 | F67: =F65*E67 -> 3095193.2
E68: TOTAL | F68: =F65+F66+F67 -> 83570217

Sheet GIMNASIO
A1: CONTRATAR A TODO COSTO LOS ARREGLOS LOCATIVOS EN ELGIMNASIO DEL SECTOR POLIDEPORTIVO PROPIEDAD DEL MINICIPIO
B2: DETALLE | C2: UNIDAD | D2: CANTIDAD | E2: V. UNITARIP | F2: VALOR TOTAL
A3: 1 | B3: PRELIMINARES | F3: =F5+F4 -> 1445488
A4: 1.01 | B4: REPLANTEO | C4: M2 | D4: 147.2 | E4: 4915 | F4: =D4*E4 -> 723488
A5: 1.02 | B5: TRANSPORTE E INSTALACION CAJA DE INSPECCIÓN EMPALME DOMICILIARIO TIPO I (0,60X0,60 M) EN CONCRETO CLASE II | C5: ML | D5: 1 | E5: 722000 | F5: =E5*D5 -> 722000
A6: 2 | B6: MUROS | F6: =F7 -> 2998685.4
A7: 2.01 | B7: SUMINISTRO, TRANSPORTE E INSTALACIÓN A TODO COSTO DE MURO EN SUPERBOARD 8 MM PINTADO, INPERMEABILISADO Y TERMINADO (DOS CARAS). INCLUYE PERFILERÍA Y TODO LO NECESARIO PARA SU CORRECTA INSTALACIÓN | C7: M2 | D7: 20.04 | E7: 149635 | F7: =D7*E7 -> 2998685.4
A8: 3 | B8: PISOS | F8: =F9 -> 13401750
A9: 3.01 | B9: SUMINISTRO E INSTALACION A TODO COSTO DE BALDOSA EVO ESTANDARD O SIMILAR, PLACA 50*50 - 1 CM DE GROSOR COLOR NEGRO, DISEÑO; CUADRICULA, ALTURA 10MM, VENTA 1 M2 ( 4 PIEZAS ) INCLUYE TODO LO NECESARIO PARA SU CORRECTA INSTALACION | C9: M2 | D9: 125.25 | E9: 107000 | F9: =D9*E9 -> 13401750
A10: 4 | B10: PINTURA | F10: =F13+F12+F11 -> 15151942
A11: 4.01 | B11: REPARACION MUROS (INCLUYE RESANE Y PINTURA VINILO 3 MANOS SOBRE MURO INTERIOR EN PINTURA TIPO 2 Y DOS MANOS EN PINTURA TIPO 1, FILOS Y DILATACIONES). COLOR SEGÚN DISEÑO POR M2 | C11: M2 | D11: 308 | E11: 34043 | F11: =E11*D11 -> 10485244
A12: 4.02 | B12: SUMINISTRO, TRANSPORTE E INSTALACION PINTURA ESMALTE PARA PUERTAS, REJAS, VENTANAS Y DEMÁS SUPERFICIES METÁLICAS. AMBAS CARAS. INCLUYE FILOS Y DILATACIONES. INCLUYE ANDAMIOS CERTIFICADOS PARA TRABAJO EN ALTURAS. | C12: M2 | D12: 25 | E12: 34418 | F12: =E12*D12 -> 860450
A13: 4.03 | B13: SUMINISTRO, TRANSPORTE E INSTALACION SIKA MONOTOP 123, O SIMILAR SOBRE MURO, FILOS Y DILATACIONES EN AREAS DE INTERVENCION PARA CONTROL DE HUMEDAD). | C13: M2 | D13: 106 | E13: 35908 | F13: =E13*D13 -> 3806248
A14: 5 | B14: INSTALACIONES ELECTRICAS - REDES INTERNAS | F14: =F15+F16 -> 2999184
A15: 5.01 | B15: SUMINISTRO, TRANSPORTE E INSTALACION LAMPARA HERMETICA POLICARBONATO IP65, 2X32W. BALASTO ELECTRONICO 2X32T8. INCLUYE 2 TUBOS FLUORESCENTE 32W T8. O SIMILAR, Y DEMAS ACCESORIOS PARA SU CORRECTO FUNCIONAMIENTO | C15: UND | D15: 8 | E15: 275398 | F15: =E15*D15 -> 2203184
A16: 5.02 | B16: SUMINISTRO, TRANSPORTE E INSTALACIÓN LUMINARIA PANEL LED CIRCULAR SOBREPONER 30W - LUZ NEUTRA, BLANCO 100-240V 2100 LUMENES CERTIFICADO | C16: UND | D16: 8 | E16: 99500 | F16: =D16*E16 -> 796000
A17: 6 | B17: CUBIERTA | F17: =F18 -> 1811920
A18: 6.01 | B18: RECORRIDO DE CUBIERTA (INC. GANCHOS, AMARRAS, REMCHES Y SIKAFLEX) | C18: M2 | D18: 80 | E18: 22649 | F18: =E18*D18 -> 1811920
A19: 7 | B19: DOTACIONES | F19: =F20 -> 1212000
A20: 7.01 | B20: SUMINISTRO, TRANSPORTE E INSTALACION ESPEJO 6 MM. FLOTADO BISELADO Y SIN MARCO. (INCLUYE LOS ELEMENTOS DE FIJACIÓN AL MURO). | C20: M2 | D20: 6 | E20: 202000 | F20: =E20*D20 -> 1212000
A21: 8 | B21: CIELORASOS | F21: =SUM(F22) -> 1684800
A22: 8.01 | B22: SUMINISTRO, TRANSPORTE E INSTALACION CIELO RASO SUSPENDIDO DRYWALL JUNTA PERDIDA DE 0-0,6M (PERFILERIA METÁLICA CL. 26. ESTRUCTURA CADA 40 CMS.) INCLUYE TRES (3) MANOS DE PINTURA | C22: M2 | D22: =6*1.5*2 -> 18 | E22: 93600 | F22: =D22*E22 -> 1684800
E23: SUB TOTAL | F23: =F3+F6+F8+F10+F14+F17+F19+F21 -> 40705769
E24: AU 35% | F24: =F23*35% -> 14247019
E25: TOTAL | F25: =F23+F24 -> 54952789

Sheet PISCINA
A1: CONTRATAR A TODO COSTO LOS ARREGLOS LOCATIVOS EN LA PISCINA, DEL SECTOR POLIDEPORTIVO PROPIEDAD DEL MUNICIPIO
B2: DETALLE | C2: UNIDAD | D2: CANTIDAD | E2: V. UNITARIP | F2: VALOR TOTAL
A3: 1 | B3: PRELIMINARES | F3: =F4 -> 122875
A4: 1.01 | B4: REPLANTEO | C4: M2 | D4: 25 | E4: 4915 | F4: =D4*E4 -> 122875
A5: 2 | B5: DEMOLICION | F5: =F7+F6 -> 277084
A6: 2.01 | B6: DESMONTE DE PUERTAS EN BAÑOS DE CAMERINOS DE HOMBRE Y MUJERES | C6: UNIDAD | D6: 2 | E6: 58088 | F6: =D6*E6 -> 116176
A7: 2.02 | B7: DESMONTE APARATOS SANITARIOS EN CAMERINOS DE HOMBRES Y MUJERES | C7: UNIDAD | D7: 2 | E7: 80454 | F7: =D7*E7 -> 160908
A8: 3 | B8: ENCHAPES | F8: =F12+F11+F10+F9 -> 1398937
A9: 3.01 | B9: SUMINISTRO, TRANSPORTE E INSTALACION ENCHAPE PISO BAÑO CORONA o SIMILAR.COLOR BLANCO, (Incluye mortero de nivelación, boquilla y pegante) | C9: M2 | D9: 3.5 | E9: 84116 | F9: =E9*D9 -> 294406
A10: 3.02 | B10: SUMINISTRO, TRANSPORTE E INSTALACION CERAMICA, PARED COLOR BLANCO (INCLUYE BOQUILLA, GARANTIZANDO UN EXELENTE ACABADO | C10: M2 | D10: 6 | E10: 83558 | F10: =E10*D10 -> 501348
A11: 3.03 | B11: SUMINISTRO, TRANSPORTE E INSTALACION TABLON DE GRES DE10*10 CM. TIPO ALFA O SIMILAR. COLORES ROJO, SALMÓN O SAHARA SEGÚN DISEÑO. (INCLUYE BOQUILLA COLOR Y MORTERO DE NIVELACIÓN.) | C11: M2 | D11: 3 | E11: 74887 | F11: =E11*D11 -> 224661 | G11: =F11*E11 -> 16824188307
A12: 3.04 | B12: SUMINISTRO, TRANSPORTE E INSTALACION ENCHAPE PISO EN PISCINA CORONA o SIMILAR.COLOR BLANCO, (Incluye mortero de nivelación, boquilla y pegante) | C12: M2 | D12: 4.5 | E12: 84116 | F12: =E12*D12 -> 378522
A13: 4 | B13: APARATOS | F13: =F14+F15 -> 1007374
A14: 4.01 | B14: SUMINISTRO, TRANSPORTE E INSTALACION SANITARIO, COLOR BLANCO, CORONA O SIMILAR. CONJUNTO SANITARIO QUE INCLUYE SANITARIO, TAPA, TANQUE, ACCESORIOS DE CONEXIÓN E INSTALACIÓN. | C14: UNDIDAD | D14: 2 | E14: 392000 | F14: =D14*E14 -> 784000
A15: 4.02 | B15: REPARACIÓN DE PUNTO SANITARIO OBSTRUIDO INCLUYE SONDEO DE TUBERÍA, RETIRO REVISIÓN Y REINSTALACIÓN DE HASTA 4 ML PARA INSTALACIÓN DE APARATO SANITARIO. | C15: UNDIDAD | D15: 2 | E15: 111687 | F15: =D15*E15 -> 223374
A16: 5 | B16: CARPINTERIA METALICA | F16: =F17 -> 2414187
A17: 5.01 | B17: SUMINISTRO, TRANSPORTE E INSTALACION MARCO METALICO PUERTAS E= 12 CM SENCILLO EN LÁMINA GALVANIZADA CAL. 20 PARA HOJA DE PUERTA CON ANCHO 0.76 A 1.10 M. Y ALTURA 1.80 A 2.10 M. ACABADO CON ANTICORROSIVO Y ESMALTE. INCLUYE EL SUMINISTRO DE TODOS LOS ACCESORIOS REQUERIDOS PARA EL CORRECTO MONTAJE | C17: UNDIDAD | D17: 9 | E17: 268243 | F17: =D17*E17 -> 2414187
A18: 6 | B18: CUBIERTA | F18: =F19 -> 1021600
A19: 6.01 | B19: RECORRIDO DE CUBIERTA EN FIBROCEMENTO INCLUYE GANCHOS Y AMARRAS, REEMPLAZO DE LAS TEJAS QUE ESTEN EN MAL ESTADO, Y LIMATES | C19: M2 | D19: 40 | E19: 25540 | F19: =D19*E19 -> 1021600
A20: 7 | B20: OBRAS VARIAS | F20: =SUM(F21) -> 1296000
A21: 7.01 | B21: SUMINISTRO, TRANSPORTE E INSTALACION DE MADERA EN CEDRO ROJO Ó ALAMO Ó ABETO PARA SAUNA, INCLUYE PINTURA SINTETICA, TORNILLERIA Y ACCESORIOS DE FIJACION PARA SU CORRECTA INSTALACIÓN | C21: M2 | D21: 8 | E21: 162000 | F21: =D21*E21 -> 1296000
E22: SUBTOTAL | F22: =F3+F5+F8+F13+F18+F16+F20 -> 7538057 | G22: =G3+G5+G8+G13+G16 -> 0
D23: A.U | E23: 0.35 | F23: =F22*E23 -> 2638319.9
E24: TOTAL | F24: =F22+F23 -> 10176377

Sheet sintetico
A1: CONTRATAR A TODO COSTA, EL SUMINISTRO DEL CAUCHO PARA EL CORRECTO FUNCIONAMIENTO DE LAS CANCHAS SINTETICAS, PROPIEDAD DEL MUNICIPIO
B2: DETALLE | C2: UNIDAD | D2: CANTIDAD | E2: V. UNITARIP | F2: VALOR TOTAL
A3: 1.00 | B3: PRELIMINARES | F3: =F4 -> 5000000
A4: 1.01 | B4: SUMINISTRO, TRANSPORTE DE CAUCHO SBR PARA GRAMA SINTETICA CON FIBRAS DE POLIETILENO MONOFILAMENTADO BICOLOR CON UNA ALTURA DE 50MM | C4: KG | D4: 2000 | E4: 2500 | F4: =D4*E4 -> 5000000
E6: SUB TOTAL | F6: =F3 -> 5000000
E7: APU 35% | F7: =F6*35% -> 1750000
E8: TOTAL | F8: =F6+F7 -> 6750000

Sheet COLISEO
A1: CONTRATAR A TODO COSTA, LA REPARACION LA PUERTAS Y LAS ZONAS HUMEDAS DEL COLISEO CUBIERTO, PROPIEDAD DEL MUNICIPIO
B2: DETALLE | C2: UNIDAD | D2: CANTIDAD | E2: V. UNITARIP | F2: VALOR TOTAL
A3: 1.00 | B3: CARPINTERIA METALICA | F3: =F4 -> 2967132
A4: 1.01 | B4: DESMONTE REPARACION Y REINSTALACION DE PUERTA METALICA INCLUYE ANTICORROSIVO Y PINTURA | C4: UND | D4: 6 | E4: 494522 | F4: =D4*E4 -> 2967132
A5: 2.00 | B5: ENCHAPES | F5: =SUM(F6) -> 584906
A6: 2.01 | B6: SUMINISTRO, TRANSPORTE E INSTALACION CERAMICA, PARED COLOR BLANCO (INCLUYE BOQUILLA, GARANTIZANDO UN EXELENTE ACABADO | C6: M2 | D6: 7 | E6: 83558 | F6: =D6*E6 -> 584906
A7: 3.00 | B7: CUBIERTA | F7: =SUM(F8) -> 5108000
A8: 3.01 | B8: RECORRIDO DE CUBIERTA EN FIBROCEMENTO INCLUYE GANCHOS Y AMARRAS, REEMPLAZO DE LAS TEJAS QUE ESTEN EN MAL ESTADO, Y LIMATES | C8: M2 | D8: 200 | E8: 25540 | F8: =D8*E8 -> 5108000
E9: SUB TOTAL | F9: =F3+F5+F8 -> 8660038
E10: APU 35% | F10: =F9*35% -> 3031013.3
E11: TOTAL | F11: =F9+F10 -> 11691051
I16: =GIMNASIO!F25 -> 54952789
I17: =PISCINA!F24 -> 10176377
I18: =sintetico!F8 -> 6750000
I19: =F11 -> 11691051
I20: =SUM(I16:I19) -> 83570217
