Workbook
Name \0: #REF!
Name \0: #REF!
Name \00: #REF!
Name \00: #REF!
Name \a: #REF!
Name \a: #REF!
Name \AA: #REF!
Name \AA: #REF!
Name \b: #REF!
Name \b: #REF!
Name \bb: #REF!
Name \bb: #REF!
Name \E: #REF!
Name \E: #REF!
Name \EE: #REF!
Name \EE: #REF!
Name \G: #REF!
Name \G: #REF!
Name \k: #REF!
Name \k: #REF!
Name \l: #REF!
Name \l: #REF!
Name \M: #REF!
Name \M: #REF!
Name \ñ: #REF!
Name \ñ: #REF!
Name \P: #REF!
Name \P: #REF!
Name \R: #REF!
Name \R: #REF!
Name \s: #REF!
Name \s: #REF!
Name \V: #REF!
Name \V: #REF!
Name \X: [0]!ERR
Name \Z: [0]!ERR
Name _________AFC1: #REF!
Name _________AFC1: #REF!
Name _________AFC3: #REF!
Name _________AFC3: #REF!
Name _________AFC5: #REF!
Name _________AFC5: #REF!
Name _________BGC1: #REF!
Name _________BGC1: #REF!
Name _________BGC3: #REF!
Name _________BGC3: #REF!
Name _________BGC5: #REF!
Name _________BGC5: #REF!
Name _________CAC1: #REF!
Name _________CAC1: #REF!
Name _________CAC3: #REF!
Name _________CAC3: #REF!
Name _________CAC5: #REF!
Name _________CAC5: #REF!
Name _________PJ50: #REF!
Name _________PJ50: #REF!
Name _________SBC1: #REF!
Name _________SBC1: #REF!
Name _________SBC3: #REF!
Name _________SBC3: #REF!

Sheet Actividades
A3: BUSCAR:
A6: CODIGO | B6: DESCRIPCION | C6: CATEGORIA | D6: UNIDAD | E6: VR. UNIT (CD)
A7: AB | B7: ANALISIS BASICOS | C7: Capitulo | E7: --
A8: AB1 | B8: ACERO 60.000 PSI (INCLUYE ALAMBRE NEGRO Y FIGURACIÓN ) | C8: Actividad | D8: KG | E8: 7381
A9: AB2 | B9: CONCRETO 1500 psi - 10.5 Mpa | C9: Actividad | D9: M3 | E9: 422219
A10: AB3 | B10: CONCRETO 2000 PSI - 14 MPA | C10: Actividad | D10: M3 | E10: 439058
A11: AB4 | B11: CONCRETO 2500 psi - 17.5 Mpa | C11: Actividad | D11: M3 | E11: 503581
A12: AB5 | B12: CONCRETO 3000 psi - 21 Mpa | C12: Actividad | D12: M3 | E12: 561725
A13: AB6 | B13: CONCRETO 3500 psi - 24.5 Mpa | C13: Actividad | D13: M3 | E13: 619549
A14: AB7 | B14: CONCRETO 4000 psi - 28 Mpa | C14: Actividad | D14: M3 | E14: 639845
A15: AB8 | B15: CONCRETO 1500 psi - 10.5 Mpa Impermeabilizado | C15: Actividad | D15: M3 | E15: 438036
A16: AB9 | B16: CONCRETO 2000 psi - 14 Mpa Impermeabilizado | C16: Actividad | D16: M3 | E16: 456381
A17: AB10 | B17: CONCRETO 2500 psi - 17.5 Mpa Impermeabilizado | C17: Actividad | D17: M3 | E17: 526176
A18: AB11 | B18: CONCRETO 3000 psi - 21 Mpa Impermeabilizado | C18: Actividad | D18: M3 | E18: 588086
A19: AB12 | B19: CONCRETO 3500 psi - 24.5 Mpa Impermeabilizado | C19: Actividad | D19: M3 | E19: 651182
... A31: AB24 | B31: MORTERO 1:4 Impermeabilizado | C31: Actividad | D31: M3 | E31: 557832
A32: 001 | B32: PRELIMINARES | C32: Capitulo | E32: --
A33: 001.001 | B33: LOCALIZACION Y REPLANTEO EDIFICIO | C33: Actividad | D33: M2 | E33: 4726
A34: 001.006 | B34: DESCAPOTE MECANICO e=0.20 m. | C34: Actividad | D34: M2 | E34: 1924
A35: 001.032 | B35: TALA DE ARBOLES H=5mts 2,5 mts DE RADIO DE FOLLAJE APROX (INCLUYE RETIRO) | C35: Actividad | D35: UND | E35: 345276
A36: 001.041 | B36: TRAZADO SOBRE TERRENO | C36: Actividad | D36: M2 | E36: 2791
A37: 001.042 | B37: LOCALIZACION Y REPLANTEO REDES (INCLUYE PLANO RECORD) | C37: Actividad | D37: DIA | E37: 1226233
A38: 001.043 | B38: ROCERIA Y LIMPIEZA | C38: Actividad | D38: M2 | E38: 1525
A39: 001.044 | B39: DESCAPOTE MANUAL e=0.20 m. | C39: Actividad | D39: M2 | E39: 2857
A40: 001.045 | B40: NIVELACION Y LIMPIEZA | C40: Actividad | D40: M2 | E40: 9362
A41: 001.046 | B41: SUMINISTRO, TRANSPORTE E INSTALACION CAMPAMENTO PROVISIONAL | C41: Actividad | D41: M2 | E41: 188472
A42: 001.047 | B42: BODEGA PARA CAMPAMENTO (INCLUYE ADECUACIONES) | C42: Actividad | D42: M2 - MES | E42: 27344
A43: 001.048 | B43: CAMPAMENTO CONTENEDOR | C43: Actividad | D43: UND | E43: 2279343
A44: 001.049 | B44: SUMINISTRO, TRANSPORTE E INSTALACIÓN CERRAMIENTO EN YUTE H= 2 M | C44: Actividad | D44: ML | E44: 14195
... A72: 001.094 | B72: SOBREACARREO EN VEHICULO AUTOMOTOR HASTA 5 KM | C72: Actividad | D72: M3 | E72: 98144
A73: 002 | B73: MOVIMIENTO DE TIERRAS | C73: Capitulo | E73: --
A74: 002.001 | B74: EXCAVACIÓN EN ZANJA - MATERIAL COMÚN - 0.0 A 2.0 M | C74: Actividad | D74: M3 | E74: 36872
A75: 002.002 | B75: EXCAVACIÓN EN ZANJA - MATERIAL COMÚN - 2.01 A 4.00 M | C75: Actividad | D75: M3 | E75: 41125
A76: 002.003 | B76: EXCAVACIÓN EN ZANJA - MATERIAL COMÚN - 4.01 A 6.00 M | C76: Actividad | D76: M3 | E76: 108050
A77: 002.004 | B77: EXCAVACIÓN EN ZANJA - CONGLOMERADO - 0.0 A 2.0 M | C77: Actividad | D77: M3 | E77: 56881
A78: 002.005 | B78: EXCAVACIÓN EN ZANJA - CONGLOMERADO - 2.01 A 4.00 M | C78: Actividad | D78: M3 | E78: 68124
A79: 002.006 | B79: EXCAVACIÓN EN ZANJA - CONGLOMERADO - 4.01 A 6.00 M | C79: Actividad | D79: M3 | E79: 109006
A80: 002.007 | B80: SUMINISTRO, TRANSPORTE E INSTALACION EXCAVACIÓN EN ZANJA - ROCA - CON EXPLOSIVOS - 0.0 A 2.0 M | C80: Actividad | D80: M3 | E80: 334175
A81: 002.008 | B81: SUMINISTRO, TRANSPORTE E INSTALACION EXCAVACIÓN EN ZANJA - ROCA - CON EXPLOSIVOS - 2.01 A 4.0 MT | C81: Actividad | D81: M3 | E81: 348497
A82: 002.009 | B82: SUMINISTRO, TRANSPORTE E INSTALACION EXCAVACIÓN EN ZANJA - ROCA - CON EXPLOSIVOS - 4.01 A 6.0 M | C82: Actividad | D82: M3 | E82: 424948
...

Sheet Insumos
H1: 0.052
A2: CODIGO INSUMO | B2: INSUMO, EQUIPO O HERRAMIENTA | C2: TIPO | D2: UNIIDAD | E2: VR. IVA INCLUIDO | F2: VR. ANTES DE IVA | G2: IMPUESTO IVA | H2: INSUMOS 2024 | I2: Columna3 | J2: Columna4
A3: I1 | B3: ACERO 37.000 PSI | C3: Insumos | D3: KG | E3: =ROUNDUP(H3*(1+$H$1),0) -> 4551 | F3: 3635 | G3: 0.19 | H3: 4326
A4: I2 | B4: ACERO 60.000 PSI | C4: Insumos | D4: KG | E4: 4251 | F4: =+E4/1.19 -> 3572.2689 | I4: DIACO ENERO 2025
A5: I3 | B5: ALAMBRE NEGRO NO. 18 | C5: Insumos | D5: KG | E5: =ROUNDUP(H5*(1+$H$1),0) -> 5938 | F5: 4743 | G5: 0.19 | H5: 5644
A6: I4 | B6: GRAFIL 5.5 MM | C6: Insumos | D6: KG | E6: =ROUNDUP(H6*(1+$H$1),0) -> 4380 | F6: 3498 | G6: 0.19 | H6: 4163
A7: I5 | B7: MALLA ELECTROSOLDADA (CUALQUIER REFERENCIA) | C7: Insumos | D7: KG | E7: 5200 | F7: 3460 | G7: 0.19 | H7: 4117
A8: I6 | B8: MALLA ELECTROSOLDADA M-084 Q-2 4 MM 15 X 15 CM. | C8: Insumos | D8: KG | E8: 5058 | I8: DIACO ENERO 2025
A9: I7 | B9: MALLA ELECTROSOLDADA M-106 Q-3 4.5 MM 15 X 15 CM. | C9: Insumos | D9: KG | E9: 5058 | F9: 3460 | G9: 0.19 | H9: 4117
A10: I8 | B10: MALLA ELECTROSOLDADA XX-131 5.0MM C/ 15 CM EN AMBOS SENTIDOS | C10: Insumos | D10: KG | E10: 5058 | I10: DIACO ENERO 2025
A11: I9 | B11: MALLA ELECTROSOLDADA M-159 Q-4 5.5 MM 15 X 15 CM. | C11: Insumos | D11: KG | E11: 5058 | F11: 3460 | G11: 0.19 | H11: 4117
A12: I10 | B12: MALLA ELECTROSOLDADA M-188. Q-5 6.0MM 15 X 15CM. | C12: Insumos | D12: KG | E12: 5058 | I12: DIACO ENERO 2025
A13: I11 | B13: MALLA ELECTROSOLDADA M-221 Q-6 6.5 MM 15 X 15 CM. | C13: Insumos | D13: KG | E13: 5058 | F13: 3460 | G13: 0.19 | H13: 4117
A14: I12 | B14: MALLA ELECTROSOLDADA M-257 F 7,0MM C/.15M EN AMBOS SENTIDOS | C14: Insumos | D14: KG | E14: 5058 | I14: DIACO ENERO 2025
A15: I13 | B15: VARILLA LISA 5/8" | C15: Insumos | D15: M | E15: 7145 | I15: DIACO ENERO 2025
A16: I14 | B16: VARILLA LISA 3/8" | C16: Insumos | D16: M | E16: =ROUNDUP(H16*(1+$H$1),0) -> 5417 | F16: 4327 | G16: 0.19 | H16: 5149
A17: I15 | B17: VARILLA LISA 1/2" | C17: Insumos | D17: M | E17: 4591 | I17: DIACO ENERO 2025
A18: I20 | B18: BARRAS CORRUGADAS W60X6M D: 3/8" | C18: Insumos | D18: UND | E18: 14075 | I18: DIACO ENERO 2025
A19: I21 | B19: GANCHO DE AGARRE DE 5/8" DE FY 420 MPA | C19: Insumos | D19: UND | E19: =ROUNDUP(H19*(1+$H$1),0) -> 3921 | F19: 3132 | G19: 0.19 | H19: 3727
A20: I22 | B20: ESCALONES EN 3/8 DE FY 420 MPA | C20: Insumos | D20: UND | E20: =ROUNDUP(H20*(1+$H$1),0) -> 3821 | F20: 3052 | G20: 0.19 | H20: 3632
A21: I23 | B21: MARCO REJA DE VARILLA 1" A.R/ ANGULO/PLATINA | C21: Insumos | D21: UND | E21: =ROUNDUP(H21*(1+$H$1),0) -> 216706 | F21: 173104 | G21: 0.19 | H21: 205994
A22: I24 | B22: ARO-TAPA HD DE 0,60 M SELLO ELASTICO- LLAVE-ANTIRUIDO | C22: Insumos | D22: UND | E22: =ROUNDUP(H22*(1+$H$1),0) -> 1332732 | F22: 1064584 | G22: 0.19 | H22: 1266855
A23: I25 | B23: ARO-TAPA HD DE 0,58 M SELLO ELASTICO- LLAVE-ANTIRUIDO | C23: Insumos | D23: UND | E23: =ROUNDUP(H23*(1+$H$1),0) -> 650112 | F23: 519308 | G23: 0.19 | H23: 617977
A24: I26 | B24: TAPA D 0.58 M EN POLIPROPILENO RECICLADO Y ARO EN HF | C24: Insumos | D24: UND | E24: =ROUNDUP(H24*(1+$H$1),0) -> 281716 | F24: 225034 | G24: 0.19 | H24: 267790
A25: I27 | B25: HIERRO LISO (DOVELAS) | C25: Insumos | D25: KG | E25: 5465 | I25: DIACO ENERO 2025
A26: I28 | B26: ANCLAJES 1/2" X 8" (INCLUYE PERFORACIÓN Y ADHESIVO EPÓXICO) | C26: Insumos | D26: UND | E26: =ROUNDUP(H26*(1+$H$1),0) -> 17336 | F26: 13848 | G26: 0.19 | H26: 16479
A27: I29 | B27: CABLE 1/2" PARA ANCLAJES - ALTA RESISTENCIA | C27: Insumos | D27: ML | E27: 8930 | I27: CORPOCALDAS
A28: I30 | B28: ALAMBRE DE PUA X 350 MTS CL 12 | C28: Insumos | D28: ROLLO | E28: =ROUNDUP(H28*(1+$H$1),0) -> 282800 | F28: 225900 | G28: 0.19 | H28: 268821
A29: I31 | B29: ARENA GRUESA (Inc Transporte hasta 39 km) | C29: Insumos | D29: M3 | E29: 106670 | I29: TRITURADOS Y ARENAS DE COLOMBIA S.A.S.
A30: I32 | B30: ARENA DELGADA (Inc Transporte hasta 39 km) | C30: Insumos | D30: M3 | E30: 106670 | I30: TRITURADOS Y ARENAS DE COLOMBIA S.A.S.
A31: I33 | B31: ARENA GRUESA (Inc Transporte hasta 39 km) | C31: Insumos | D31: M3 | E31: 106670 | I31: TRITURADOS Y ARENAS DE COLOMBIA S.A.S.
A32: I34 | B32: TRITURADO DE 3/4" (Inc. Transporte hasta 39 km) | C32: Insumos | D32: M3 | E32: 136420 | I32: TRITURADOS Y ARENAS DE COLOMBIA S.A.S.
A33: I37 | B33: PIEDRA MEDIA ZONGA | C33: Insumos | D33: M3 | E33: 95000
A34: I38 | B34: PIEDRA DE MANO | C34: Insumos | D34: M3 | E34: 95000
A35: I39 | B35: BASE GRANULAR (Incluye transporte hasta 39 Km) | C35: Insumos | D35: M3 | E35: 120950 | I35: TRITURADOS Y ARENAS DE COLOMBIA S.A.S.
A36: I43 | B36: SUB BASE GRANULAR (Incluye transporte hasta 39 km) | C36: Insumos | D36: M3 | E36: 118570 | I36: TRITURADOS Y ARENAS DE COLOMBIA S.A.S.
A37: I45 | B37: AGUA M3 | C37: Insumos | D37: M3 | E37: =ROUNDUP(H37*(1+$H$1),0) -> 2808 | F37: 2669 | G37: 0 | H37: 2669
A38: I47 | B38: MATERIAL DE PRESTAMO CARGADO Y PUESTO EN OBRA | C38: Insumos | D38: M3 | E38: =ROUNDUP(H38*(1+$H$1),0) -> 29138 | F38: 27697 | G38: 0 | H38: 27697
A39: I48 | B39: PIEDRA FILTRO | C39: Insumos | D39: M3 | E39: 120950 | I39: TRITURADOS Y ARENAS DE COLOMBIA S.A.S.
A40: I49 | B40: AGUA LITRO | C40: Insumos | D40: LT | E40: =ROUNDUP(H40*(1+$H$1),0) -> 33 | F40: 31 | G40: 0 | H40: 31
...

Sheet PRESUPUESTO CT
C3: Formulario 1 - Propuesta económica - Documento tipo de selección abreviada de menor cuantía - versión 2
C4: Código | D4: CCE-EICP-FM-25
C5: FORMULARIO 1
C6: PRESUPUESTO OFICIAL
C7: [La entidad puede utilizar este formulario de detalle del presupuesto oficial para determinar las condiciones bajo las cuales los proponentes analizarán y presentarán su propuesta económica de forma detallada, sin perjuicio que la entidad pueda modificarlo o establecer la presentación de la oferta económica con un formulario distinto al indicado.]
C9: Adicionalmente, cuando el proceso de contratación es estructurado por precios unitarios, la Entidad debe aplicar las notas 1, 2 y 3 del presente formulario y las casillas de "Descripción", "Porcentaje" de la Administración, Imprevisto, Utilidad y total A.U. resaltadas en colo amarillo. Tratándose de otras modalidades de precio, la Entidad puede o no configurar los mismos aspectos.
C10: CISCO AMERICAS
C11: No | D11: ITEM DE PAGO | E11: DESCRIPCION | F11: UND. | G11: CANTIDAD | H11: VALOR UNITARIO | I11: VALOR TOTAL
C13: CAPITULO 1 - NUEVO CISCO LAS AMERICAS
E14: PRELIMINARES
D15: 001.001 | E15: LOCALIZACION Y REPLANTEO EDIFICIO | F15: M2 | G15: 400
D16: 001.046 | E16: SUMINISTRO, TRANSPORTE E INSTALACION CAMPAMENTO PROVISIONAL CON PISO EN PLACA DE CONCRETO DE 2500 PSI E=8CM Y MALLA ELECTROSOLDADA 15X15 4,0MM | F16: M2 | G16: 36
D17: 001.049 | E17: SUMINISTRO, TRANSPORTE E INSTALACIÓN CERRAMIENTO EN YUTE H= 2 M | F17: ML | G17: 71.6
D18: 001.050 | E18: INSTALACION PROVISIONAL DE ACUEDUCTO | F18: UND | G18: 5
D19: 001.051 | E19: INSTALACION PROVISIONAL DE ENERGIA | F19: UND | G19: 5
D20: 001.087 | E20: AVISOS DE SEÑALIZACION TEMPORAL PARA IMPLEMENTACIÓN DE PMT | F20: UND | G20: 20
D21: X | E21: DEMOLICION INCLUYE (DESMANTELAMIENTO, DEMOLICION MANUAL, DEMOLICION MECANICA, TRANSPORTE DE ESCOMBROS Y DISPOSICION FINAL EN ESCOMBERA AUTORIZADA | F21: GL | G21: 1
E23: MOVIMIENTO DE TIERRAS
D24: 002.001 | E24: EXCAVACIÓN EN ZANJA - MATERIAL COMÚN - 0.0 A 2.0 M | F24: M3 | G24: 179
D25: 002.010 | E25: EXCAVACIÓN PARA ESTRUCTURAS - MATERIAL COMÚN - 0.0 A 2.0 M | F25: M3 | G25: 23
D26: 002.016 | E26: EXCAVACIÓN A CIELO ABIERTO - MATERIAL COMÚN - 0.0 A 2.0 M | F26: M3 | G26: 370
D27: 002.033 | E27: LLENO COMPACTADO MUROS DE CONTENCION INCLUYE GEOTEXTIL Y TUBODRENANTE | F27: M3 | G27: 48
D28: 002.050 | E28: RELLENO EN MATERIAL SELECCIONADO PROVENIENTE DE LA EXCAVACION (CANGURO) | F28: M3 | G28: 500
D29: 002.086 | E29: RETIRO DE MATERIAL SOBRANTE EN VOLQUETA, CARGUE MECANICO, DISPOSICIÓN EN BOTADERO (HASTA 25 KM) | F29: M3-Suelto | G29: 550
E31: CIMIENTOS
D32: 002A.003 | E32: SUMINISTRO, TRANSPORTE E INSTALACION SOLADO DE LIMPIEZA 2.000 PSI E = 5 CM | F32: M2 | G32: 100
D33: 002A.004 | E33: SUMINISTRO, TRANSPORTE E INSTALACION ZAPATA CONCRETO 3000 PSI | F33: M3 | G33: 15
D34: 002A.005 | E34: SUMINISTRO, TRANSPORTE E INSTALACION VIGA CIMENTACION CONCRETO 3000 PSI | F34: M3 | G34: 15.18
D35: 002A.008 | E35: SUMINISTRO, TRANSPORTE E INSTALACION ZARPA PARA MURO DE CONTENCION CONCRETO 3000 PSI | F35: M3 | G35: 48
D36: 002A.014 | E36: SUSTITUCION CON AFIRMADO COMPACTADO CON CILINDRO | F36: M3 | G36: 180
E38: DESAGUES E INSTALACIONES SANITARIAS
D39: 003.013 | E39: SUMINISTRO, TRANSPORTE E INSTALACION PUNTO DESAGUE PVC 2" APARATOS SANITARIOS Y DESAGUES (INCLUYE CODO, YEE Y ACCESORIOS) | F39: UND | G39: 14
D40: 003.015 | E40: SUMINISTRO, TRANSPORTE E INSTALACION PUNTO DESAGUE PVC 4" APARATOS SANITARIOS (INCLUYE CODO, YEE Y ACCESORIOS) | F40: UND | G40: 12
D41: 003.016 | E41: SUMINISTRO, TRANSPORTE E INSTALACION PUNTO DESAGUE PVC 3" AGUAS LLUVIAS (INCLUYE CODO, YEE Y ACCESORIOS) | F41: UND | G41: 20
D42: 003.024 | E42: SUMINISTRO, TRANSPORTE E INSTALACION TUBERIA PVC-S 3" (VENTILACION Y AGUAS LLUVIAS, INCLUYE ACCESORIOS) | F42: ML | G42: 78
D43: 003.025 | E43: SUMINISTRO, TRANSPORTE E INSTALACION TUBERIA PVC-S 4" (VENTILACION Y AGUAS LLUVIAS, INCLUYE ACCESORIOS) | F43: ML | G43: 178
D44: 003.063 | E44: SUMINISTRO, TRANSPORTE E INSTALACION CARCAMO A=0.30 M. H=0.20 M. CON REJILLA PREFABRICADA (INCLUYE REJILLA PREFABRICADA CONCRETO) | F44: ML | G44: 57
D45: 003.108 | E45: SUMINISTRO, TRANSPORTE E INSTALACION SANITARIO INSTITUCIONAL DE TAZA BÁLTICA DE ENTRADA POSTERIOR REFERENCIA 113121001 CORONA O SIMILAR VÁLVULA ANTIBANDÁLICA DE BAJO CONSUMO. INCLUYE PUSH GLIFERÍA Y DEMÁS ELEMENTOS PARA SU CORRECTA INSTALACIÓN Y FUNCIONAMIENTO. | F45: UND | G45: 10
D46: 003.140 | E46: SUMINISTRO, TRANSPORTE E INSTALACION DE TRAGANTE DE AGUAS LLUVIAS 4X3" | F46: UND | G46: 8
E48: PISOS-BASES-RELLENOS
...

Sheet Analisis AU
A1: ANALISIS DEL AIU
A3: Valor estimado de la Obra (Costo Directo). | D3: Valor | E3: 2681156779
A4: Plazo estimado de ejecución. | D4: Meses | E4: 8
A6: CAPITULO | B6: TIPO DE GASTO | C6: UN | D6: CANTIDAD. | E6: DEDICACION | F6: VLOR UNITARIO (mes) | G6: FACTOR PRESTACIONAL O FACTOR AIU (PARA INDIRECTOS) | H6: VALOR TOTAL | I6: SUMA | J6: PORCENTAJE
A7: 1 | B7: GASTOS GENERALES. | J7: =+J8 -> 0.095378205
A8: 1.1 | B8: MANO DE OBRA Y GASTOS DE OFICINA | I8: =SUM(H9:H20) -> 2.5572392e+08 | J8: =+I8/$E$3 -> 0.095378205
B9: Ingeniero Director | C9: Un | D9: 1 | E9: 0.5 | F9: 6700000 | G9: 0.6556 | H9: =+D9*E9*$E$4*F9*(1+G9) -> 44370080 | J9: =+H9/$E$3 -> 0.016548857
B10: Ingeniero Residente | C10: Un | D10: 1 | E10: 1 | F10: 4500000 | G10: 0.6556 | H10: =+D10*E10*$E$4*F10*(1+G10) -> 59601600 | J10: =+H10/$E$3 -> 0.022229808
B11: Maestro de Obra | C11: Un | D11: 1 | E11: 1 | F11: 3600000 | G11: 0.6556 | H11: =+D11*E11*$E$4*F11*(1+G11) -> 47681280 | J11: =+H11/$E$3 -> 0.017783846
B12: Residente de Salud Ocupacional | C12: Un | D12: 1 | E12: 1 | F12: 3600000 | G12: 0.6556 | H12: =+D12*E12*$E$4*F12*(1+G12) -> 47681280 | J12: =+H12/$E$3 -> 0.017783846
B13: Trabajador social | C13: Un | D13: 0 | E13: 0.2 | F13: 3600000 | G13: 0.6556 | H13: =+D13*E13*$E$4*F13*(1+G13) -> 0 | J13: =+H13/$E$3 -> 0
B14: Ingeniero Electrico Residente con prestaciones | C14: Un | D14: 1 | E14: 0.5 | F14: 4450000 | G14: 0.6556 | H14: =+D14*E14*$E$4*F14*(1+G14) -> 29469680 | J14: =+H14/$E$3 -> 0.010991405
B15: Oficina y/o campamento (Incluye Equipo de Oficina, Escritorio, pc, impresora, sillas, papeleria, consumo servicios publicos etc) | C15: Mes | D15: 1 | E15: 1 | F15: 300000 | H15: =+D15*E15*$E$4*F15*(1+G15) -> 2400000 | J15: =+H15/$E$3 -> 0.00089513602
B16: Plan de Salud ocupacional y seguridad industrial | C16: Mes | D16: 1 | E16: 0 | F16: 400000 | H16: =+D16*E16*$E$4*F16*(1+G16) -> 0 | J16: =+H16/$E$3 -> 0
B17: Sistema de gestion ambiental | C17: Mes | D17: 1 | E17: 0 | F17: 300000 | H17: =+D17*E17*$E$4*F17*(1+G17) -> 0 | J17: =+H17/$E$3 -> 0
B18: Sistema de gestion de calidad incluye ensayos de laboratorio solicitados por norma | C18: Mes | D18: 1 | E18: 1 | F18: 3000000 | H18: =+D18*E18*$E$4*F18*(1+G18) -> 24000000 | J18: =+H18/$E$3 -> 0.0089513602
B19: Costos financiero | C19: Mes | D19: 1 | E19: 1 | F19: 65000 | H19: =+D19*E19*$E$4*F19*(1+G19) -> 520000 | J19: =+H19/$E$3 -> 0.00019394614
H20: =F20 -> 0 | J20: =+H20/$E$3 -> 0
A21: 2 | B21: GASTOS INDIRECTOS. | J21: =+J22+J24+J35+J31 -> 0.20889408
A22: 2.1 | B22: LEGALIZACION. | I22: =SUM(H23:H23) -> 0 | J22: =+I22/$E$3 -> 0
B23: AIU ITERACION | G23: 1.3643 | H23: =+F23*D23*G23 -> 0
A24: 2.2 | B24: POLIZAS | I24: =SUM(H25:H29) -> 37795129 | J24: =+I24/$E$3 -> 0.014096576
B25: Anticipo | C25: % | D25: 0.0006 | E25: 0.2 | F25: =+$E$3*E25 -> 5.3623136e+08 | G25: =+$G$23 -> 1.3643 | H25: =+(((F25*G25*D25)/365)*($E$4*30+120))*1.19 -> 515192.98 | J25: =+H25/$E$3 -> 0.00019215324
B26: Cumplimiento | C26: % | D26: 0.0006 | F26: =+$E$3 -> 2681156779 | G26: =+$G$23 -> 1.3643 | H26: =+(((F26*G26*D26)/365)*($E$4*30+120))*1.19 -> 2575964.9 | J26: =+H26/$E$3 -> 0.00096076622
B27: Estabilidad | C27: % | D27: 0.0009 | F27: =+$E$3 -> 2681156779 | G27: =+$G$23 -> 1.3643 | H27: =+(((F27*G27*D27)/365)*(1825))*1.19 -> 19588066 | J27: =+H27/$E$3 -> 0.0073058265
B28: Prestaciones Sociales | C28: % | D28: 0.0005 | F28: =+$E$3 -> 2681156779 | G28: =+$G$23 -> 1.3643 | H28: =+(((F28*G28*D28)/365)*($E$4*30+1095))*1.19 -> 7960447 | J28: =+H28/$E$3 -> 0.0029690345
B29: Responsabilidad Civil | C29: % | D29: 0.0025 | F29: =+$E$3 -> 2681156779 | G29: =+$G$23 -> 1.3643 | H29: =+(((F29*G29*D29)/365)*($E$4*30+0))*1.19 -> 7155458 | J29: =+H29/$E$3 -> 0.0026687951
A31: 2.3 | B31: VALLAS Y SEÑALIZACION | I31: =SUM(H32:H34) -> 300000 | J31: =+I31/$E$3 -> 0.000111892
B32: Vallas incluye estructura de fijacion | C32: M2 | D32: 2 | E32: 150000 | F32: =E32*D32 -> 300000 | H32: =+F32 -> 300000 | J32: =+H32/$E$3 -> 0.000111892
H33: =+F33*D33 -> 0 | J33: =+H33/$E$3 -> 0
A35: 2.4 | B35: IMPUESTOS Y CONTRIBUCIONES | I35: =SUM(H36:H43) -> 5.2198264e+08 | J35: =+I35/$E$3 -> 0.19468561
B36: Contribuación Especial | C36: % | D36: 0.05 | F36: =+$E$3 -> 2681156779 | G36: =+$G$23 -> 1.3643 | H36: =+F36*D36*G36 -> 1.8289511e+08 | J36: =+H36/$E$3 -> 0.068215
B37: Estampillas para el bienestar del adulto mayor | C37: % | D37: 0.02 | F37: =+$E$3 -> 2681156779 | G37: =+$G$23 -> 1.3643 | H37: =+F37*D37*G37 -> 73158044 | J37: =+H37/$E$3 -> 0.027286
B38: Estampillas Pro - Universidades. | C38: % | D38: 0.02 | F38: =+$E$3 -> 2681156779 | G38: =+$G$23 -> 1.3643 | H38: =+F38*D38*G38 -> 73158044 | J38: =+H38/$E$3 -> 0.027286
B39: Estampilla pro cultura | C39: % | D39: 0.02 | F39: =+$E$3 -> 2681156779 | G39: =+$G$23 -> 1.3643 | H39: =+F39*D39*G39 -> 73158044 | J39: =+H39/$E$3 -> 0.027286
B40: Estampilla pro justicia familiar | C40: % | D40: 0.02 | F40: =+$E$3 -> 2681156779 | G40: =+$G$23 -> 1.3643 | H40: =+F40*D40*G40 -> 73158044 | J40: =+H40/$E$3 -> 0.027286
B41: Gasto bancarios4x1000 y retiros | C41: % | D41: 0.004 | F41: =+$E$3 -> 2681156779 | G41: =+$G$23 -> 1.3643 | H41: =+F41*D41*G41 -> 14631609 | J41: =+H41/$E$3 -> 0.0054572
B42: Industria y Comercio 3,7 x 1.000 sobre valor total | C42: % | D42: 0.0037 | F42: =+$E$3 -> 2681156779 | G42: =+$G$23 -> 1.3643 | H42: =+F42*D42*G42 -> 13534238 | J42: =+H42/$E$3 -> 0.00504791
B43: Tasa pro deporte y recreación | C43: % | D43: 0.005 | F43: =+$E$3 -> 2681156779 | G43: =+$G$23 -> 1.3643 | H43: =+F43*D43*G43 -> 18289511 | J43: =+H43/$E$3 -> 0.0068215
B44: TOTAL GASTOS INDIRECTOS DE ADMINISTRACION. | I44: =SUM(I8:I43) -> 8.1580169e+08 | J44: =ROUND(SUM(J7:J43)/3,4) -> 0.3043
...

Sheet APU 2
A2: 001.046 | B2: - | C2: SUMINISTRO, TRANSPORTE E INSTALACION CAMPAMENTO PROVISIONAL CON PISO EN PLACA DE CONCRETO DE 2500 PSI E=8CM Y MALLA ELECTROSOLDADA 15X15 4,0MM | D2: Actividad | E2: M2 | I2: 241972
A3: 001.046 | B3: AB4 | C3: CONCRETO 2500 psi - 17.5 Mpa | D3: Analisis Basico | E3: M3 | F3: 0.08 | G3: 535318 | H3: 42825
A4: 001.046 | B4: C15 | C4: CUADRILLA AA TIPO 3 (1 OFICIAL + 3 AYUDANTE) (Albañileria) | D4: Cuadrilla | E4: HR | F4: 0.85 | G4: 66987 | H4: 56939
A5: 001.046 | B5: AB26 | C5: SUMINISTRO, TRANSPORTE E INSTALACION MALLA ELECTROSOLDADA CUALQUIER REFERENCIA (Incluye alambre negro, colocación y traslapo). | D5: Analisis Basico | E5: KG | F5: 2.5 | G5: 8886 | H5: 22215
A6: 001.046 | B6: H1 | C6: EQUIPO BASICO ( CONSTRUCCIÓN ) | D6: Herramienta | E6: UND | F6: 0.85 | G6: 3623 | H6: 3080
A7: 001.046 | B7: I1614 | C7: PUERTAS Y VENTANAS EN TABLA PARA CAMPAMENTO | D7: Insumos | E7: M2 | F7: 0.515 | G7: 4626 | H7: 2382
A8: 001.046 | B8: I1619 | C8: INSTALACIONES PROVISIONALES | D8: Insumos | E8: UND | F8: 1.03 | G8: 23749 | H8: 24461
A9: 001.046 | B9: I1620 | C9: GUADUA-TABLA-CUARTÓN-LISTÓN-VARILLÓN PARA CAMPAMENTO | D9: Insumos | E9: M2 | F9: 0.515 | G9: 145647 | H9: 75008
A10: 001.046 | B10: I302 | C10: TEJA DE ZINC ONDULADA TZO L=2.44X0.80 | D10: Insumos | E10: UND | F10: 0.35 | G10: 43033 | H10: 15062
A11: 001.049 | B11: - | C11: SUMINISTRO, TRANSPORTE E INSTALACIÓN CERRAMIENTO EN YUTE H= 2 M | D11: Actividad | E11: ML | I11: 15699
A12: 001.049 | B12: C1 | C12: CUADRILLA AA TIPO 1 (1 OFICIAL + 1 AYUDANTE) (Albañileria) | D12: Cuadrilla | E12: HR | F12: 0.16 | G12: 37863 | H12: 6058
A13: 001.049 | B13: H2 | C13: EQUIPO BASICO (HERRAMIENTA MENOR) | D13: Herramienta | E13: UND | F13: 0.16 | G13: 3623 | H13: 580
A14: 001.049 | B14: I425 | C14: PUNTILLA CON CABEZA 2" | D14: Insumos | E14: LB | F14: 0.2 | G14: 5304 | H14: 1061
A15: 001.049 | B15: I447 | C15: FIBRA PARA CERRAMIENTO PROVISIONAL H=2,1M | D15: Insumos | E15: M | F15: 1 | G15: 4505 | H15: 4505
A16: 001.049 | B16: I986 | C16: GUADUA CEPA DE 5 VARAS | D16: Insumos | E16: UND | F16: 0.35 | G16: 9987 | H16: 3495
A17: 001.050 | B17: - | C17: INSTALACION PROVISIONAL DE ACUEDUCTO | D17: Actividad | E17: UND | I17: 89885
A18: 001.050 | B18: I1558 | C18: SERVICIO DE AGUA | D18: Insumos | E18: MES | F18: 1 | G18: 89885 | H18: 89885
A19: 001.051 | B19: - | C19: INSTALACION PROVISIONAL DE ENERGIA | D19: Actividad | E19: UND | I19: 79895
A20: 001.051 | B20: I1559 | C20: SERVICIO DE ENERGIA | D20: Insumos | E20: MES | F20: 1 | G20: 79895 | H20: 79895
A21: 001.087 | B21: - | C21: AVISOS DE SEÑALIZACION TEMPORAL PARA IMPLEMENTACIÓN DE PMT | D21: Actividad | E21: UND | I21: 257265
A22: 001.087 | B22: AB4 | C22: CONCRETO 2500 psi - 17.5 Mpa | D22: Analisis Basico | E22: M3 | F22: 0.01 | G22: 535318 | H22: 5353
A23: 001.087 | B23: C1 | C23: CUADRILLA AA TIPO 1 (1 OFICIAL + 1 AYUDANTE) (Albañileria) | D23: Cuadrilla | E23: HR | F23: 2 | G23: 37863 | H23: 75726
A24: 001.087 | B24: E111 | C24: FORMALETA PARA BASE DE CONCRETO | D24: Equipos | E24: UND | F24: 0.5 | G24: 5929 | H24: 2965
A25: 001.087 | B25: E12 | C25: EQUIPO DE TRANSPORTE | D25: Equipos | E25: DIA | F25: 0.228 | G25: 187426 | H25: 42733
A26: 001.087 | B26: H2 | C26: EQUIPO BASICO (HERRAMIENTA MENOR) | D26: Herramienta | E26: UND | F26: 2 | G26: 3623 | H26: 7246
A27: 001.087 | B27: I1565 | C27: ACARREO INTERNO | D27: Insumos | E27: UND | F27: 0.158 | G27: 1897 | H27: 300
A28: 001.087 | B28: I450 | C28: ALQUILER DE SEÑAL PREVENTIVA, REGLAMENTARIA E INFORMATIVA | D28: Insumos | E28: UND | F28: 0.6 | G28: 204903 | H28: 122942
A29: 002.001 | B29: - | C29: EXCAVACIÓN EN ZANJA - MATERIAL COMÚN - 0.0 A 2.0 M | D29: Actividad | E29: M3 | I29: 44781
A30: 002.001 | B30: C1 | C30: CUADRILLA AA TIPO 1 (1 OFICIAL + 1 AYUDANTE) (Albañileria) | D30: Cuadrilla | E30: HR | F30: 1.1 | G30: 37863 | H30: 41649
A31: 002.001 | B31: I282 | C31: SUELO CEMENTO 10:1 | D31: Insumos | E31: M3 | F31: 0.01 | G31: 202837 | H31: 2028
A32: 002.001 | B32: H2 | C32: EQUIPO BASICO (HERRAMIENTA MENOR) | D32: Herramienta | E32: UND | F32: 0.2 | G32: 3623 | H32: 725
A33: 002.001 | B33: I1565 | C33: ACARREO INTERNO | D33: Insumos | E33: UND | F33: 0.2 | G33: 1897 | H33: 379
A34: 002.010 | B34: - | C34: EXCAVACIÓN PARA ESTRUCTURAS - MATERIAL COMÚN - 0.0 A 2.0 M | D34: Actividad | E34: M3 | I34: 62544
A35: 002.010 | B35: C1 | C35: CUADRILLA AA TIPO 1 (1 OFICIAL + 1 AYUDANTE) (Albañileria) | D35: Cuadrilla | E35: HR | F35: 1.55 | G35: 37863 | H35: 58688
A36: 002.010 | B36: I282 | C36: SUELO CEMENTO 10:1 | D36: Insumos | E36: M3 | F36: 0.01 | G36: 202837 | H36: 2028
A37: 002.010 | B37: H2 | C37: EQUIPO BASICO (HERRAMIENTA MENOR) | D37: Herramienta | E37: UND | F37: 0.4 | G37: 3623 | H37: 1449
A38: 002.010 | B38: I1565 | C38: ACARREO INTERNO | D38: Insumos | E38: UND | F38: 0.2 | G38: 1897 | H38: 379
A39: 002.016 | B39: - | C39: EXCAVACIÓN A CIELO ABIERTO - MATERIAL COMÚN - 0.0 A 2.0 M | D39: Actividad | E39: M3 | I39: 48534
A40: 002.016 | B40: C1 | C40: CUADRILLA AA TIPO 1 (1 OFICIAL + 1 AYUDANTE) (Albañileria) | D40: Cuadrilla | E40: HR | F40: 1.18 | G40: 37863 | H40: 44678
A41: 002.016 | B41: I282 | C41: SUELO CEMENTO 10:1 | D41: Insumos | E41: M3 | F41: 0.01 | G41: 202837 | H41: 2028
...

Sheet FACTOR MULTIPLICADOR
A1: FACTOR MULTIPLICADOR
A2: “INTERVENTORÍA TÉCNICA, ADMINISTRATIVA Y FINANCIERA “FASE II DEL MANTENIMIENTO Y ADECUACIONES LOCATIVAS DE LA INFRAESTRUCTURA INSTITUCIONAL PARA LA NUEVA CASA DE LA CULTURA DE LA COMUNA PALOGRANDE”
A3: 1. | B3: Salarios y Prestaciones Sociales de Personal Facturable
A4: 1.1. | B4: Salarios | I4: 1
A5: 1.2. | B5: Prima anual (legal) | I5: =1/12 -> 0.083333333
A6: 1.3. | B6: Cesantías | I6: =1/12 -> 0.083333333
A7: 1.4. | B7: Intereses de las cesantías | I7: 0.01
A8: 1.5. | B8: Vacaciones | I8: =+I6/2 -> 0.041666667 | S8: 12,5 salud y pension 16
A9: 1.6. | B9: Seguridad Social (salud + pensión) | I9: 0.12 | S9: 8,5 salud y pensión 12
A10: 1.7. | B10: Caja de Compensación Familiar | I10: 0.04
A11: 1.8. | B11: ARL | I11: 0.0696
A12: 1.9. | B12: Otros (Auxilios varios, prestaciones extralegales, Indemnización por despido, Incapacidades no cubiertas, examenes de ingreso y egreso) | I12: 0.0226
A13: 1.10. | B13: Dotación | I13: 0.06
F14: Sub-total | I14: =SUM(I4:I13) -> 1.5305333
A16: 2 | B16: Gastos Generales
A17: 2.1 | B17: Equipos y mantenimiento Oficina | I17: 0.02
A18: 2.2 | B18: Gastos de vehículo | I18: 0.01
A19: 2.3 | B19: Seguros de robo e incendio | I19: 0.005
A20: 2.4 | B20: Costos de personal Administrativo no facturable | I20: 0.01
A21: 2.5 | B21: Asesorias Profesionales en otras areas, no facturable | I21: 0.01
A22: 2.6 | B22: Depreciación de muebles y equipos | I22: 0.005
A23: 2.7 | B23: Actualización tecnologica (Sofware, correo electronico, etc). | I23: 0.02
A24: 2.8 | B24: Gastos bancarios | I24: 0.0048
A25: 2.9 | B25: Gastos de Representación | I25: 0.01
A26: 2.1 | B26: Asesoria Contable Tributaria y Juridica | I26: 0.035
F27: Sub-total | I27: =SUM(I17:I26) -> 0.1298
A29: 3 | B29: Costos Directos no Reembolsables
A30: 3.01 | B30: Garantia de seriedad | I30: 0.0004
A31: 3.02 | B31: Poliza de Calidad | I31: =0.5*1.21% -> 0.00605 | J31: =20%*10%*12 -> 0.24
A32: 3.03 | B32: Póliza Cumplimiento | I32: 0.0121
A33: 3.04 | B33: Póliza Salarios y prestaciones Sociales | I33: =2.5*1.21% -> 0.03025
A34: 3.05 | B34: Póliza buen manejo y correcta inversión del anticipo | I34: 0
A35: 3.06 | B35: Estampillas Pro Universidad | I35: 0.02
A36: 3.07 | B36: Estampillas Pro Adulto Mayor | I36: 0.02
A37: 3.08 | B37: Estampilla pro cultura | I37: 0.02
A38: 3.09 | B38: Tasa pro deporte y recreación | I38: 0.005
A39: 3.1 | B39: Estampilla Pro justicia familiar (Acuerdo No 1156 30/01/2024) | I39: 0.02
A40: 3.11 | B40: Impuesto de industria y comercio | I40: 0.0035
A41: 3.12 | B41: Impuesto de timbre (decreto 0175 de 2025) | I41: 0.005
A42: 3.13 | B42: Acompañamiento posterior a la entrega | I42: 0.1174
...

Sheet Analisis Mano de Obra
B1: ANALISIS DE MANO DE OBRA
B3: =+'Analisis Factor Prestacional'!A3:A5 -> Datos Basicos año 2024 | C3: Días del año | D3: 366
C4: Subsidio Transporte 2024 | D4: =+'Analisis Factor Prestacional'!$C$4 -> 200000
C5: Salario mínimo 2024 | D5: =+'Analisis Factor Prestacional'!$C$5 -> 1423500
B7: Mano de Obra AA - Albañileria
B8: Trabajador | C8: Valor Base Mes | D8: Valor Base Dia | E8: Valor Base Hora | F8: Factor Prestacional | G8: Valor Total Hora
B9: Oficial | C9: =+$D$5*1.6 -> 2277600 | D9: =+C9/30 -> 75920 | E9: =+D9/7.33 -> 10357.435 | F9: =+IF(C9>2*$D$5,'Analisis Factor Prestacional'!$D$28+1,'Analisis Factor Prestacional'!$C$28+1) -> 1.829 | G9: =+F9*E9 -> 18943.749
B10: Ayudante | C10: =+$D$5 -> 1423500 | D10: =+C10/30 -> 47450 | E10: =+D10/7.33 -> 6473.397 | F10: =+IF(C10>2*$D$5,'Analisis Factor Prestacional'!$D$28+1,'Analisis Factor Prestacional'!$C$28+1) -> 1.829 | G10: =+F10*E10 -> 11839.843
B11: Cuadrilla 1 Oficial + 1 Ayudante | C11: =SUM(C9:C10) -> 3701100 | D11: =SUM(D9:D10) -> 123370 | E11: =SUM(E9:E10) -> 16830.832 | G11: =ROUND(SUM(G9:G10),0) -> 30784
B13: Mano de Obra BB - Instalaciones
B14: Trabajador | C14: Valor Base Mes | D14: Valor Base Dia | E14: Valor Base Hora | F14: Factor Prestacional | G14: Valor Total Hora
B15: Oficial | C15: =+$D$5*1.6*1.1 -> 2505360 | D15: =+C15/30 -> 83512 | E15: =+D15/7.33 -> 11393.179 | F15: =+IF(C15>2*$D$5,'Analisis Factor Prestacional'!$D$28+1,'Analisis Factor Prestacional'!$C$28+1) -> 1.829 | G15: =+F15*E15 -> 20838.124
B16: Ayudante | C16: =+$D$5*1.1 -> 1565850 | D16: =+C16/30 -> 52195 | E16: =+D16/7.33 -> 7120.7367 | F16: =+IF(C16>2*$D$5,'Analisis Factor Prestacional'!$D$28+1,'Analisis Factor Prestacional'!$C$28+1) -> 1.829 | G16: =+F16*E16 -> 13023.827
B17: Cuadrilla 1 Oficial + 1 Ayudante | C17: =SUM(C15:C16) -> 4071210 | D17: =SUM(D15:D16) -> 135707 | E17: =SUM(E15:E16) -> 18513.915 | G17: =ROUND(SUM(G15:G16),0) -> 33862
B19: Mano de Obra CC - Pintura
B20: Trabajador | C20: Valor Base Mes | D20: Valor Base Dia | E20: Valor Base Hora | F20: Factor Prestacional | G20: Valor Total Hora
B21: Oficial | C21: =+$D$5*1.6*1.15 -> 2619240 | D21: =+C21/30 -> 87308 | E21: =+D21/7.33 -> 11911.05 | F21: =+IF(C21>2*$D$5,'Analisis Factor Prestacional'!$D$28+1,'Analisis Factor Prestacional'!$C$28+1) -> 1.829 | G21: =+F21*E21 -> 21785.311
B22: Ayudante | C22: =+$D$5*1.15 -> 1637025 | D22: =+C22/30 -> 54567.5 | E22: =+D22/7.33 -> 7444.4065 | F22: =+IF(C22>2*$D$5,'Analisis Factor Prestacional'!$D$28+1,'Analisis Factor Prestacional'!$C$28+1) -> 1.829 | G22: =+F22*E22 -> 13615.82
B23: Cuadrilla 1 Oficial + 1 Ayudante | C23: =SUM(C21:C22) -> 4256265 | D23: =SUM(D21:D22) -> 141875.5 | E23: =SUM(E21:E22) -> 19355.457 | G23: =ROUND(SUM(G21:G22),0) -> 35401
B25: Mano de Obra DD - Carpinteria
B26: Trabajador | C26: Valor Base Mes | D26: Valor Base Dia | E26: Valor Base Hora | F26: Factor Prestacional | G26: Valor Total Hora
B27: Oficial | C27: =+$D$5*1.6*1.15 -> 2619240 | D27: =+C27/30 -> 87308 | E27: =+D27/7.33 -> 11911.05 | F27: =+IF(C27>2*$D$5,'Analisis Factor Prestacional'!$D$28+1,'Analisis Factor Prestacional'!$C$28+1) -> 1.829 | G27: =+F27*E27 -> 21785.311
B28: Ayudante | C28: =+$D$5*1.15 -> 1637025 | D28: =+C28/30 -> 54567.5 | E28: =+D28/7.33 -> 7444.4065 | F28: =+IF(C28>2*$D$5,'Analisis Factor Prestacional'!$D$28+1,'Analisis Factor Prestacional'!$C$28+1) -> 1.829 | G28: =+F28*E28 -> 13615.82
B29: Cuadrilla 1 Oficial + 1 Ayudante | C29: =SUM(C27:C28) -> 4256265 | D29: =SUM(D27:D28) -> 141875.5 | E29: =SUM(E27:E28) -> 19355.457 | G29: =ROUND(SUM(G27:G28),0) -> 35401
B31: Mano de Obra EE - Muros Secos
B32: Trabajador | C32: Valor Base Mes | D32: Valor Base Dia | E32: Valor Base Hora | F32: Factor Prestacional | G32: Valor Total Hora
B33: Oficial | C33: =+$D$5*1.6*1.12 -> 2550912 | D33: =+C33/30 -> 85030.4 | E33: =+D33/7.33 -> 11600.327 | F33: =+IF(C33>2*$D$5,'Analisis Factor Prestacional'!$D$28+1,'Analisis Factor Prestacional'!$C$28+1) -> 1.829 | G33: =+F33*E33 -> 21216.999
B34: Ayudante | C34: =+$D$5*1.12 -> 1594320 | D34: =+C34/30 -> 53144 | E34: =+D34/7.33 -> 7250.2046 | F34: =+IF(C34>2*$D$5,'Analisis Factor Prestacional'!$D$28+1,'Analisis Factor Prestacional'!$C$28+1) -> 1.829 | G34: =+F34*E34 -> 13260.624
B35: Cuadrilla 1 Oficial + 1 Ayudante | C35: =SUM(C33:C34) -> 4145232 | D35: =SUM(D33:D34) -> 138174.4 | E35: =SUM(E33:E34) -> 18850.532 | G35: =ROUND(SUM(G33:G34),0) -> 34478
B37: Mano de Obra FF - Instalaciones Electricas Internas
B38: Trabajador | C38: Valor Base Mes | D38: Valor Base Dia | E38: Valor Base Hora | F38: Factor Prestacional | G38: Valor Total Hora
B39: Oficial | C39: =+$D$5*1.6*1.5 -> 3416400 | D39: =+C39/30 -> 113880 | E39: =+D39/7.33 -> 15536.153 | F39: =+IF(C39>2*$D$5,'Analisis Factor Prestacional'!$D$28+1,'Analisis Factor Prestacional'!$C$28+1) -> 1.6556 | G39: =+F39*E39 -> 25721.655
B40: Ayudante | C40: =+$D$5*1.5 -> 2135250 | D40: =+C40/30 -> 71175 | E40: =+D40/7.33 -> 9710.0955 | F40: =+IF(C40>2*$D$5,'Analisis Factor Prestacional'!$D$28+1,'Analisis Factor Prestacional'!$C$28+1) -> 1.829 | G40: =+F40*E40 -> 17759.765
B41: Cuadrilla 1 Oficial + 1 Ayudante | C41: =SUM(C39:C40) -> 5551650 | D41: =SUM(D39:D40) -> 185055 | E41: =SUM(E39:E40) -> 25246.248 | G41: =ROUND(SUM(G39:G40),0) -> 43481
B43: Mano de Obra GG - Instalaciones Alumbrado Publico
B44: Trabajador | C44: Valor Base Mes | D44: Valor Base Dia | E44: Valor Base Hora | F44: Factor Prestacional | G44: Valor Total Hora
B45: Oficial | C45: =+$D$5*1.6*2.5 -> 5694000 | D45: =+C45/30 -> 189800 | E45: =+D45/7.33 -> 25893.588 | F45: =+IF(C45>2*$D$5,'Analisis Factor Prestacional'!$D$28+1,'Analisis Factor Prestacional'!$C$28+1) -> 1.6556 | G45: =+F45*E45 -> 42869.424
B46: Ayudante | C46: =+$D$5*2 -> 2847000 | D46: =+C46/30 -> 94900 | E46: =+D46/7.33 -> 12946.794 | F46: =+IF(C46>2*$D$5,'Analisis Factor Prestacional'!$D$28+1,'Analisis Factor Prestacional'!$C$28+1) -> 1.829 | G46: =+F46*E46 -> 23679.686
B47: Cuadrilla 1 Oficial + 1 Ayudante | C47: =SUM(C45:C46) -> 8541000 | D47: =SUM(D45:D46) -> 284700 | E47: =SUM(E45:E46) -> 38840.382 | G47: =ROUND(SUM(G45:G46),0) -> 66549
C49: Base Mes copiado de G50 | D49: Base Día | E49: Base Hora | G49: Valor Base Mes | H49: 1.5483 | I49: VALOR TOTAL
...

Sheet Analisis Herramienta Menor
B1: ESTIMATIVO GENERAL DE HERRAMIENTAS MENORES DE UN PROYECTO
B3: Descripción | C3: Unidad | D3: IVA | E3: Valor unitario Antes de IVA | F3: Valor Total
B4: PALA CON CABO | C4: und | D4: 0.19 | E4: 17442.308 | F4: =ROUNDUP($E4*(1+$D4),0) -> 20757
B5: PICA CON CABO | C5: und | D5: 0.19 | E5: 26635.446 | F5: =ROUNDUP($E5*(1+$D5),0) -> 31697
B6: PALÍN CON CABO | C6: und | D6: 0.19 | E6: 18316.532 | F6: =ROUNDUP($E6*(1+$D6),0) -> 21797
B7: ALMADANA CON CABO | C7: und | D7: 0.19 | E7: 59422.899 | F7: =ROUNDUP($E7*(1+$D7),0) -> 70714
B8: BARRA METÁLICA | C8: und | D8: 0.19 | E8: 67114.123 | F8: =ROUNDUP($E8*(1+$D8),0) -> 79866
B9: BALDE PLÁSTICO | C9: und | D9: 0.19 | E9: 3005.4489 | F9: =ROUNDUP($E9*(1+$D9),0) -> 3577
B10: CARRETA BUGGY | C10: und | D10: 0.19 | E10: 137793.26 | F10: =ROUNDUP($E10*(1+$D10),0) -> 163974
B11: MANILA DE 1/2" | C11: ml | D11: 0.19 | E11: 1537.5961 | F11: =ROUNDUP($E11*(1+$D11),0) -> 1830
B12: PLÁSTICO PARA COBERTORES | C12: m2 | D12: 0.19 | E12: 2470.2098 | F12: =ROUNDUP($E12*(1+$D12),0) -> 2940
B13: SEGUETA | C13: und | D13: 0.19 | E13: 3634.7604 | F13: =ROUNDUP($E13*(1+$D13),0) -> 4326
B14: ESCOBA | C14: und | D14: 0.19 | E14: 4541.4231 | F14: =ROUNDUP($E14*(1+$D14),0) -> 5405
B15: PALUSTRE | C15: und | D15: 0.19 | E15: 11184.876 | F15: =ROUNDUP($E15*(1+$D15),0) -> 13311
... B17: FLEXOMETRO | C17: und | D17: 0.19 | E17: 13981.095 | F17: =ROUNDUP($E17*(1+$D17),0) -> 16638
B18: COSTO TOTAL | F18: =SUM(F4:F17) -> 450143
B19: NO. ESTIMADO DE USOS | D19: 10
B20: COSTO TOTAL POR USO | F20: =+F18/D19 -> 45014.3
B21: NO. DE HERRAMIENTAS | D21: =+COUNT(D4:D17) -> 14
B22: COSTO UNITARIO HERRAMIENTA MENOR | F22: =+ROUND(F20/D21,0) -> 3215
E23: IVA | F23: 0
B24: EQUIPO BASICO ( CONSTRUCCIÓN ) | D24: Incluye IVA | F24: =+(F22*F23)+F22 -> 3215
B25: EQUIPO BASICO ( HERRAMIENTA MENOR ) | D25: Incluye IVA | F25: =+F24 -> 3215

Sheet Analisis Factor Prestacional
A1: ANALISIS FACTOR PRESTACIONAL
A3: Datos Basicos año 2024 | B3: Días del año | C3: 360 | E3: IPC 2024
B4: Subsidio Transporte 2024 | C4: 200000 | E4: 0.052
B5: Salario mínimo 2019 | C5: 1423500
C8: Riesgo Alto | E8: Riesgo Bajo
A9: Datos Básicos | B9: Número días trabajados | C9: =C3 -> 360 | D9: =+C3 -> 360 | E9: =+C3 -> 360 | F9: =+C3 -> 360
B10: Salario Básico | C10: 1-2 SMMLV | D10: >2 SMMLV | E10: 1-2 SMMLV | F10: >2 SMMLV
A11: Prestaciones Sociales | B11: Subsidio de Transporte | C11: 0.1053 | D11: 0 | E11: 0.1053 | F11: 0
B12: Cesantías | C12: 0.0833 | D12: 0.0833 | E12: 0.0833 | F12: 0.0833
B13: Intereses cesantías | C13: 0.01 | D13: 0.01 | E13: 0.01 | F13: 0.01
B14: Prima | C14: 0.0833 | D14: 0.0833 | E14: 0.0833 | F14: 0.0833
B15: Vacaciones | C15: 0.0417 | D15: 0.0417 | E15: 0.0417 | F15: 0.0417
B16: Dotaciones | C16: 0.06 | D16: 0.0267 | E16: 0.06 | F16: 0.0267
B17: Servicio Medico Primer Mes | C17: 0.0016 | D17: 0.0016 | E17: 0.0016 | F17: 0.0016
A18: Examenes medicos | B18: Examenes de ingreso y egreso | C18: 0.0339 | D18: 0.0121 | E18: 0.0339 | F18: 0.0121
A19: Certificados para trabajos | B19: Certificado en trabajo de alturas | C19: 0.0203 | D19: 0.0073
A20: Salud. Pension y ARP | B20: Salud | C20: 0.085 | D20: 0.085 | E20: 0.085 | F20: 0.085
B21: Pensión | C21: 0.12 | D21: 0.12 | E21: 0.12 | F21: 0.12
B22: ARL | C22: 0.0696 | D22: 0.0696 | E22: 0.0696 | F22: 0.0696
A23: Parafiscales | B23: SENA | C23: 0.02 | D23: 0.02 | E23: 0.02 | F23: 0.02
B24: ICBF | C24: 0.03 | D24: 0.03 | E24: 0.03 | F24: 0.03
B25: FIC | C25: 0.025 | D25: 0.025 | E25: 0.025 | F25: 0.025
B26: Caja de compensacion | C26: 0.04 | D26: 0.04 | E26: 0.04 | F26: 0.04
A28: TOTAL | C28: =SUM(C11:C27) -> 0.829 | D28: =SUM(D11:D27) -> 0.6556 | E28: =SUM(E11:E27) -> 0.8087 | F28: =SUM(F11:F27) -> 0.6483
A31: ANALISIS INGRESO BASE DE COTIIZACION - IBC (Solo aplica para contratistas personas naturales)
A33: Descripcion | C33: Valor
A34: Costo directo del contrato | C34: =+#REF! -> #REF!
A35: AIU en porcentaje | C35: =+#REF! -> #REF!
A36: AIU en pesos | C36: =+C35*C34 -> #REF!
A37: Costo total del contrato antes de iva | C37: =C36+C34 -> #REF!
A38: Plazo (meses) | C38: =+#REF! -> #REF!
A39: Valor del salario minimo | C39: =+$C$5 -> 1423500
A40: Valor del IBC según el Decreto 510 de 2003 (smmlv<=IBC<=25 smmlv) | C40: =25*C39 -> 35587500
A41: IBC | C41: =ROUND(IF((C37*40%/C38)<C40,(C37*40%/C38),C40),) -> #REF!
A42: =+B20 -> Salud | B42: 0.125 | C42: =ROUND($C$41*B42,0) -> #REF!
A43: =+B21 -> Pensión | B43: 0.16 | C43: =ROUND($C$41*B43,0) -> #REF!
A44: =+B22 -> ARL | B44: 0.0696 | C44: =ROUND($C$41*B44,0) -> #REF!
A45: Valor total de aportes mensual | C45: =C42+C43+C44 -> #REF!
A46: Valor total de aporte durante el contrato | C46: =C45*C38 -> #REF!
A48: Nota: La ARL la debe pagar la entidad contratante al contratista de acuerdo a lo estipulado en la ley 723 de 2013 y el art 2 de la ley 1562 de 2012.
