Workbook
Name \a: #REF!
Name \b: #REF!
Name \c: #REF!
Name \l: #REF!
Name A_impresión_IM: #REF!
Name aiu_mat: [2]PRESUPUESTO!$AD$891
Name ATenerEnCuenta: '[3]IMPUESTOS Y VR TOTAL'!$B$74:$E$104
Name Calidad: 'COSTOS INDIRECTOS (3)'!#REF!
Name Campamento: 'COSTOS INDIRECTOS (3)'!#REF!
Name campamentos: [2]PRESUPUESTO!$AD$883
Name cc: [4]PERSONAL!$D$8
Name CdadCalidad: 'COSTOS INDIRECTOS (3)'!#REF!
Name CdadCalidades: 'COSTOS INDIRECTOS (3)'!#REF!
Name CdadNoFactura: 'COSTOS INDIRECTOS (3)'!$B$10:$B$11
Name CdadNoFacturables: 'COSTOS INDIRECTOS (3)'!$B$9
Name CdadProfesional: 'COSTOS INDIRECTOS (3)'!#REF!
Name CdadProfesionales: 'COSTOS INDIRECTOS (3)'!#REF!
Name CdadTecnico: 'COSTOS INDIRECTOS (3)'!#REF!
Name CdadTecnicos: 'COSTOS INDIRECTOS (3)'!#REF!
Name CostoDirecto: 'COSTOS INDIRECTOS (3)'!#REF!
Name CostoDirectoObra: '[3]COSTEO TOTAL OBRA'!$D$7
Name CotizacionARP: '[3]INFORMACION DEL FP'!$G$36:$J$40
Name CUAESTRUCT: #REF!
Name CUAPRUEBAS: #REF!
Name DestinoConsultoria: '[3]IMPUESTOS Y VR TOTAL'!$F$60
Name DestinoObra: '[3]IMPUESTOS Y VR TOTAL'!$D$10
Name DuracionMeses: 'COSTOS INDIRECTOS (3)'!$B$7
Name DuracionSemanas: 'COSTOS INDIRECTOS (3)'!#REF!
Name EFECTIVO: [5]BAL.GRAL!#REF!
Name Ensayos: 'COSTOS INDIRECTOS (3)'!#REF!
Name Equipo: 'COSTOS INDIRECTOS (3)'!#REF!
Name equipos: [2]PRESUPUESTO!$AD$876
Name Equipos: 'COSTOS INDIRECTOS (3)'!#REF!
Name FactorMultFinal: [3]FM!$E$61
Name FactorMultiplicaCalculado: [3]FM!$D$49
Name FM: #REF!
Name FMA: #REF!
Name FMB: #REF!
Name FMC: #REF!
Name FMD: #REF!
Name FME: #REF!
Name gastos_contrato: [2]PRESUPUESTO!$AD$885
Name GastosViajes: 'COSTOS INDIRECTOS (3)'!$A$574:$A$583
Name herramientas: [2]PRESUPUESTO!$AD$878
Name HonoraProfesionales: '[3]INFORMACION DEL FP'!$D$25
Name HonoraTecnicos: '[3]INFORMACION DEL FP'!$D$27
Name ImpPolizasConsultoria: '[3]IMPUESTOS Y VR TOTAL'!$E$43:$E$57
Name ImpPolizasObra: '[3]IMPUESTOS Y VR TOTAL'!$E$11:$E$28
Name INDI1: #REF!
Name inst_provis: [2]PRESUPUESTO!$AD$882
Name IVAConsultoria: '[3]IMPUESTOS Y VR TOTAL'!$E$45
Name IVASobreUtilidad: '[3]IMPUESTOS Y VR TOTAL'!$E$15
Name mano_obra_apoyo: [2]PRESUPUESTO!$AD$881
Name mano_obra_direccion: [2]PRESUPUESTO!$AD$880
Name mano_obra_directa: [2]PRESUPUESTO!$AD$872
Name materiales: [2]PRESUPUESTO!$AD$873
Name MOD: #REF!
Name NoFacturable: 'COSTOS INDIRECTOS (3)'!#REF!
Name Oficina: 'COSTOS INDIRECTOS (3)'!#REF!
Name OrigenObra: '[3]IMPUESTOS Y VR TOTAL'!$F$31

Sheet INSTRUCCIONES 
A1: INSTRUCCIONES DE DILIGENCIAMIENTO - PROPUESTA ECONÓMICA BAJO ESQUEMA DE FACTOR MULTIPLICADOR
A3: 1. Estructura General de la Propuesta Económica
A5: La propuesta económica para la interventoría para la limplementacion de Infraestructura de Recarga Eléctrica (IRE) en los patios Calle Sexta y Portal El Vínculo (Licitación Pública TMSA-LP-09-2024) se compone de tres elementos integrados en un plazo de 18 meses:
A7: 1. Personal Profesional Mínimo Requerido (Afectado por el F.M. %): Los salarios básicos de los 14 perfiles profesionales solicitados.
A8: 2. Personal Técnico (Si aplica): Personal de apoyo técnico. No se requieren dentro del equipo minimo requerido por la entidad, sin embargo es el oferente responsable de calcular cualquier costo asociado al adecuado cumplimiento contractual objeto del presente proceso de selccion.
A9: 3. Costos Indirectos (Subtotal 3): Desglosados en una pestaña independiente que incluye personal administrativo no facturable, arriendos, vehículos, telecomunicaciones, elementos de protección personal (EPP) especializados, exámenes ocupacionales y ensayos de laboratorio. , sin embargo es el oferente responsable de calcular cualquier costo asociado al adecuado cumplimiento contractual objeto del presente proceso de selccion.
A11: El cálculo del valor mensual de cada profesional se realiza aplicando directamente su Factor Multiplicador (F.M. %) de la siguiente manera:
A12: Valores Mes (E)=Sueldo Mes Básico (B)×% Dedicación (C)×F.M. % (D)
A13: Total Parcial=Valores Mes (E)×No. de Meses (18)
A17: 2. Paso a Paso para el Diligenciamiento de las Hojas del Formato
A19: Paso A: Diligenciamiento de la Pestaña "COSTOS INDIRECTOS (3)"
A21: Antes de consolidar la hoja principal, el proponente debe analizar, proponer, complementar y diligenciar la pestaña de Costos Indirectos (cuyo subtotal se trasladará automáticamente a la hoja principal). Deberá cotizar y tener en cuenta los valores mensuales (Costo/Mes) para los siguientes ítems respetando el plazo de 18 meses:
... A95: 4. Costos Indirectos Obligatorios: El proponente debe cotizar obligatoriamente todos los ítems de la pestaña de Costos Indirectos. Dejar celdas en blanco o cotizar valores de cero ($0,00) en elementos esenciales (como la dotación dieléctrica especializada o el vehículo) se entenderá como una omisión que pone en riesgo la ejecución y será tratada conforme a las reglas de subsanabilidad del pliego.

Sheet DATOS ENTRADA OK
C2: SECRETARIA DISTRITAL DE MOVILIDAD
C3: TRANSMILENIO S.A.
C4: DIRECCIÓN DE CONSTRUCCIONES Y MANTENIMIENTO
B6: OBJETO DE LA CONTRATACIÓN | C6: CONTRATAR LA INTERVENTORÍA TÉCNICA, ADMINISTRATIVA, AMBIENTAL Y DE SEGURIDAD Y SALUD EN EL TRABAJO (SST) PARA LAS ADECUACIONES ASOCIADAS A LA IMPLEMENTACIÓN DE LA INFRAESTRUCTURA DE RECARGA ELÉCTRICA (IRE) EN EL PATIO CALLE SEXTA Y EL PATIO PORTAL EL VÍNCULO DEL CONTRATO QUE RESULTE ADJUDICADO EN EL PROCESO DE LICITACIÓN PÚBLICA TMSA-LP-09-2024.
B8: CONTRATO N. | C8: TMSA-CM-XX-2026
B9: FRECUENCIA | C9: Mensual
B10: FASE 1: ESTUDIOS, DISEÑOS, PERMISOS, TRAMITES Y LICENCIAS | C10: Elaboración de diagnósticos, estudios y diseños, incluyendo el trámite de licencias y permisos ante las entidades competentes y empresas de servicios públicos, así como las validaciones requeridas por la interventoría | D10: Hasta cuatro (4) meses
B11: FASE 2: ADECUACIONES IRE PATIO CALLE SEXTA Y PATIO PORTAL EL VÍNCULO | C11: Ejecución, recibo de las Adecuaciones, pruebas de conectividad y SGE de la Infraestructura de Recarga Eléctrica del patio Calle Sexta - Ocho (8) meses Simultáneos con patio Troncal El Vínculo | D11: Hasta trece (13) meses
C12: Ejecución, recibo de las Adecuaciones, pruebas de conectividad y SGE de la Infraestructura de Recarga Eléctrica del patio Portal El Vínculo - Trece (13) meses Simultáneos con patio Calle Sexta
B13: LIQUIDACION CTO DE INTERVENTORIA | C13: Periodo determinado para la liquidación del contrato de interventoría | D13: Un (1) mes
B14: TOTAL MESES | C14: Dieciocho (18) meses

Sheet COSTOS INDIRECTOS (3)
A1: =+'[3]INFORMACION DEL FP'!A2:D2 -> 0
A3: COSTOS INDIRECTOS
A5: PROYECTO: | B5: CONTRATAR LA INTERVENTORÍA TÉCNICA, ADMINISTRATIVA, AMBIENTAL Y DE SEGURIDAD Y SALUD EN EL TRABAJO (SST) PARA LAS ADECUACIONES ASOCIADAS A LA IMPLEMENTACIÓN DE LA INFRAESTRUCTURA DE RECARGA ELÉCTRICA (IRE) EN EL PATIO CALLE SEXTA Y EL PATIO PORTAL EL VÍNCULO DEL CONTRATO QUE RESULTE ADJUDICADO EN EL PROCESO DE LICITACIÓN PÚBLICA TMSA-LP-09-2024.
A7: PLAZO: | B7: 18 | D7: MESES
A9: PERSONAL ADMON NO FACTURABLE (AFECTADO POR EL FACTOR MULTIPLICADOR) | B9: CANT | C9: % DEDICACION MENSUAL | D9: COSTO/MES | E9: VALOR PARCIAL
A10: Contador | B10: 1
A11: Secretaria | B11: 1
E13: =SUM(E10:E11) -> 0
A14: OFICINA PRINCIPAL (AFECTADO POR EL FACTOR MULTIPLICADOR) | B14: CANT | C14: DESCRIPCION | D14: COSTO/MES | E14: VALOR PARCIAL
C15: Arrendamiento ($/mes)
C16: Computador + Programas ($/mes)
C17: Muebles ($/mes)
C18: Servicios públicos ($/mes)
C19: Administración ($/mes)
E22: =SUM(E15:E19) -> 0
A23: EQUIPOS-VEHICULOS-OTROS (COSTOS INDIRECTOS) | B23: CANT | C23: DESCRIPCION | D23: COSTO/MES | E23: VALOR PARCIAL
C24: >2000cc Gasolina+Conductor
C25: Alquiler mensual de equipo de comunicación móvil (teléfono celular o su equivalente comercial) con cámara de 48 mpx mínimo, memoria ram de 4gb mínimo, memoria interna de mínimo 128gb, batería de 5000 mah mínimo, dual sim y navegación red 4g lte.
C26: Dron
C27: Plan voz ilimitado y datos móviles 60gb mínimo
C28: Internet fijo banda ancha - 10mbps a 20 mbps
C29: Chaleco en drill multibolsillos con cinta reflectiva-con logos
C30: Chaqueta impermeable en poliéster con forro térmico interno en poliéster según manual de imagen de TransMilenio
C31: Bota de trabajo con puntera composite norma en20345, dieléctrica norma ASTM 2413-11, resistente al aceite y abrasión, antideslizante
C32: Lentes de seguridad - lente claro antiespumante
B33: 0
B35: 0
B36: 0 | E36: =SUM(E24:E35) -> 0
A37: EXAMENES OCUPACIONALES | B37: CANT | C37: DESCRIPCION | D37: COSTO/MES | E37: VALOR PARCIAL
C38: Examen médico ocupacional de ingreso o retiro
C39: Examen de audiometría de ingreso o egreso
B40: 0 | C40: Examen de optometría de ingreso o egreso
B41: 0 | C41: Examen de espirometría de ingreso o egreso
E44: =SUM(E38:E43) -> 0
A45: ENSAYOS, PRUEBAS | B45: CANT | C45: DESCRIPCION | D45: COSTO/MES | E45: VALOR PARCIAL
C46: ENSAYOS DE SUELOS, CAMPO, ESTRUCTURAS Y LABORATORIO
E48: =SUM(E46:E47) -> 0
A50: SUBTOTAL COSTOS INDIRECTOS | E50: =+E48+E44+E36+E22+E13 -> 0
A62: PERSONAL PROFESIONAL | C62: CODIGOS PROFESIONALES | D62: Columna1
A63: Director Interventoría | C63: A1 15-12
...

Sheet % de dedicación personal
A1: TOTSL DISD | B1: =DuracionMeses*30 -> 540
A4: PORCENTAJES DE DEDICACION PARA EL OPTIMO CUMPLIMIENTO DEL OBJETO CONTRACTUAL
A5: % DE DEDICACION
A6: PERSONAL PROFESIONAL | B6: INTERVENTORIA ESTUDIOS Y DISEÑOS FASE 1 | J6: INTERVENTORIA A LAS ADECUACIONES FASE 2 | AJ6: LIQUIDACION | AL6: TOTAL
B7: 1 | D7: 2 | F7: 3 | H7: 4 | J7: 5 | L7: 6 | N7: 7 | P7: 8 | R7: 9 | T7: 10 | V7: 11 | X7: 12 | Z7: 13 | AB7: 14 | AD7: 15 | AF7: 16 | AH7: 17 | AJ7: 18
A9: =+'PROPUESTA ECONOMICA'!B14 -> Director Interventoría | C9: =+$B$1*B9/DuracionMeses -> 0 | E9: =+$B$1*D9/DuracionMeses -> 0 | G9: =+$B$1*F9/DuracionMeses -> 0 | I9: =+$B$1*H9/DuracionMeses -> 0 | K9: =+$B$1*J9/DuracionMeses -> 0 | M9: =+$B$1*L9/DuracionMeses -> 0 | O9: =+$B$1*N9/DuracionMeses -> 0 | Q9: =+$B$1*P9/DuracionMeses -> 0 | S9: =+$B$1*R9/DuracionMeses -> 0 | U9: =+$B$1*T9/DuracionMeses -> 0 | W9: =+$B$1*V9/DuracionMeses -> 0 | Y9: =+$B$1*X9/DuracionMeses -> 0 | AA9: =+$B$1*Z9/DuracionMeses -> 0 | AC9: =+$B$1*AB9/DuracionMeses -> 0 | AE9: =+$B$1*AD9/DuracionMeses -> 0 | AG9: =+$B$1*AF9/DuracionMeses -> 0 | AI9: =+$B$1*AH9/DuracionMeses -> 0 | AK9: =+$B$1*AJ9/DuracionMeses -> 0 | AL9: =+(T9+V9+X9+Z9+AB9+AD9+B9+D9+F9+H9+J9+L9+N9+P9+R9+AF9+AH9+AJ9)/DuracionMeses -> 0 | AM9: =+U9+W9+Y9+AA9+AC9+AE9+C9+E9+G9+I9+K9+M9+O9+Q9+S9+AG9+AI9+AK9 -> 0
A10: =+'PROPUESTA ECONOMICA'!B15 -> Ingeniero Residente 1 | C10: =+$B$1*B10/DuracionMeses -> 0 | E10: =+$B$1*D10/DuracionMeses -> 0 | G10: =+$B$1*F10/DuracionMeses -> 0 | I10: =+$B$1*H10/DuracionMeses -> 0 | K10: =+$B$1*J10/DuracionMeses -> 0 | M10: =+$B$1*L10/DuracionMeses -> 0 | O10: =+$B$1*N10/DuracionMeses -> 0 | Q10: =+$B$1*P10/DuracionMeses -> 0 | S10: =+$B$1*R10/DuracionMeses -> 0 | U10: =+$B$1*T10/DuracionMeses -> 0 | W10: =+$B$1*V10/DuracionMeses -> 0 | Y10: =+$B$1*X10/DuracionMeses -> 0 | AA10: =+$B$1*Z10/DuracionMeses -> 0 | AC10: =+$B$1*AB10/DuracionMeses -> 0 | AE10: =+$B$1*AD10/DuracionMeses -> 0 | AG10: =+$B$1*AF10/DuracionMeses -> 0 | AI10: =+$B$1*AH10/DuracionMeses -> 0 | AK10: =+$B$1*AJ10/DuracionMeses -> 0 | AL10: =+(T10+V10+X10+Z10+AB10+AD10+B10+D10+F10+H10+J10+L10+N10+P10+R10+AF10+AH10+AJ10)/DuracionMeses -> 0 | AM10: =+U10+W10+Y10+AA10+AC10+AE10+C10+E10+G10+I10+K10+M10+O10+Q10+S10+AG10+AI10+AK10 -> 0
A11: =+'PROPUESTA ECONOMICA'!B16 -> Ingeniero Residente 2 | C11: =+$B$1*B11/DuracionMeses -> 0 | E11: =+$B$1*D11/DuracionMeses -> 0 | G11: =+$B$1*F11/DuracionMeses -> 0 | I11: =+$B$1*H11/DuracionMeses -> 0 | K11: =+$B$1*J11/DuracionMeses -> 0 | M11: =+$B$1*L11/DuracionMeses -> 0 | O11: =+$B$1*N11/DuracionMeses -> 0 | Q11: =+$B$1*P11/DuracionMeses -> 0 | S11: =+$B$1*R11/DuracionMeses -> 0 | U11: =+$B$1*T11/DuracionMeses -> 0 | W11: =+$B$1*V11/DuracionMeses -> 0 | Y11: =+$B$1*X11/DuracionMeses -> 0 | AA11: =+$B$1*Z11/DuracionMeses -> 0 | AC11: =+$B$1*AB11/DuracionMeses -> 0 | AE11: =+$B$1*AD11/DuracionMeses -> 0 | AG11: =+$B$1*AF11/DuracionMeses -> 0 | AI11: =+$B$1*AH11/DuracionMeses -> 0 | AK11: =+$B$1*AJ11/DuracionMeses -> 0 | AL11: =+(T11+V11+X11+Z11+AB11+AD11+B11+D11+F11+H11+J11+L11+N11+P11+R11+AF11+AH11+AJ11)/DuracionMeses -> 0 | AM11: =+U11+W11+Y11+AA11+AC11+AE11+C11+E11+G11+I11+K11+M11+O11+Q11+S11+AG11+AI11+AK11 -> 0
A12: =+'PROPUESTA ECONOMICA'!B17 -> Abogado | C12: =+$B$1*B12/DuracionMeses -> 0 | E12: =+$B$1*D12/DuracionMeses -> 0 | G12: =+$B$1*F12/DuracionMeses -> 0 | I12: =+$B$1*H12/DuracionMeses -> 0 | K12: =+$B$1*J12/DuracionMeses -> 0 | M12: =+$B$1*L12/DuracionMeses -> 0 | O12: =+$B$1*N12/DuracionMeses -> 0 | Q12: =+$B$1*P12/DuracionMeses -> 0 | S12: =+$B$1*R12/DuracionMeses -> 0 | U12: =+$B$1*T12/DuracionMeses -> 0 | W12: =+$B$1*V12/DuracionMeses -> 0 | Y12: =+$B$1*X12/DuracionMeses -> 0 | AA12: =+$B$1*Z12/DuracionMeses -> 0 | AC12: =+$B$1*AB12/DuracionMeses -> 0 | AE12: =+$B$1*AD12/DuracionMeses -> 0 | AG12: =+$B$1*AF12/DuracionMeses -> 0 | AI12: =+$B$1*AH12/DuracionMeses -> 0 | AK12: =+$B$1*AJ12/DuracionMeses -> 0 | AL12: =+(T12+V12+X12+Z12+AB12+AD12+B12+D12+F12+H12+J12+L12+N12+P12+R12+AF12+AH12+AJ12)/DuracionMeses -> 0 | AM12: =+U12+W12+Y12+AA12+AC12+AE12+C12+E12+G12+I12+K12+M12+O12+Q12+S12+AG12+AI12+AK12 -> 0
A13: =+'PROPUESTA ECONOMICA'!B18 -> Coordinador de interventoría | C13: =+$B$1*B13/DuracionMeses -> 0 | E13: =+$B$1*D13/DuracionMeses -> 0 | G13: =+$B$1*F13/DuracionMeses -> 0 | I13: =+$B$1*H13/DuracionMeses -> 0 | K13: =+$B$1*J13/DuracionMeses -> 0 | M13: =+$B$1*L13/DuracionMeses -> 0 | O13: =+$B$1*N13/DuracionMeses -> 0 | Q13: =+$B$1*P13/DuracionMeses -> 0 | S13: =+$B$1*R13/DuracionMeses -> 0 | U13: =+$B$1*T13/DuracionMeses -> 0 | W13: =+$B$1*V13/DuracionMeses -> 0 | Y13: =+$B$1*X13/DuracionMeses -> 0 | AA13: =+$B$1*Z13/DuracionMeses -> 0 | AC13: =+$B$1*AB13/DuracionMeses -> 0 | AE13: =+$B$1*AD13/DuracionMeses -> 0 | AG13: =+$B$1*AF13/DuracionMeses -> 0 | AI13: =+$B$1*AH13/DuracionMeses -> 0 | AK13: =+$B$1*AJ13/DuracionMeses -> 0 | AL13: =+(T13+V13+X13+Z13+AB13+AD13+B13+D13+F13+H13+J13+L13+N13+P13+R13+AF13+AH13+AJ13)/DuracionMeses -> 0 | AM13: =+U13+W13+Y13+AA13+AC13+AE13+C13+E13+G13+I13+K13+M13+O13+Q13+S13+AG13+AI13+AK13 -> 0
A14: =+'PROPUESTA ECONOMICA'!B19 -> Ingeniero Geotecnia y pavimentos | C14: =+$B$1*B14/DuracionMeses -> 0 | E14: =+$B$1*D14/DuracionMeses -> 0 | G14: =+$B$1*F14/DuracionMeses -> 0 | I14: =+$B$1*H14/DuracionMeses -> 0 | K14: =+$B$1*J14/DuracionMeses -> 0 | M14: =+$B$1*L14/DuracionMeses -> 0 | O14: =+$B$1*N14/DuracionMeses -> 0 | Q14: =+$B$1*P14/DuracionMeses -> 0 | S14: =+$B$1*R14/DuracionMeses -> 0 | U14: =+$B$1*T14/DuracionMeses -> 0 | W14: =+$B$1*V14/DuracionMeses -> 0 | Y14: =+$B$1*X14/DuracionMeses -> 0 | AA14: =+$B$1*Z14/DuracionMeses -> 0 | AC14: =+$B$1*AB14/DuracionMeses -> 0 | AE14: =+$B$1*AD14/DuracionMeses -> 0 | AG14: =+$B$1*AF14/DuracionMeses -> 0 | AI14: =+$B$1*AH14/DuracionMeses -> 0 | AK14: =+$B$1*AJ14/DuracionMeses -> 0 | AL14: =+(T14+V14+X14+Z14+AB14+AD14+B14+D14+F14+H14+J14+L14+N14+P14+R14+AF14+AH14+AJ14)/DuracionMeses -> 0 | AM14: =+U14+W14+Y14+AA14+AC14+AE14+C14+E14+G14+I14+K14+M14+O14+Q14+S14+AG14+AI14+AK14 -> 0
A15: =+'PROPUESTA ECONOMICA'!B20 -> Especialista hidrosanitario | C15: =+$B$1*B15/DuracionMeses -> 0 | E15: =+$B$1*D15/DuracionMeses -> 0 | G15: =+$B$1*F15/DuracionMeses -> 0 | I15: =+$B$1*H15/DuracionMeses -> 0 | K15: =+$B$1*J15/DuracionMeses -> 0 | M15: =+$B$1*L15/DuracionMeses -> 0 | O15: =+$B$1*N15/DuracionMeses -> 0 | Q15: =+$B$1*P15/DuracionMeses -> 0 | S15: =+$B$1*R15/DuracionMeses -> 0 | U15: =+$B$1*T15/DuracionMeses -> 0 | W15: =+$B$1*V15/DuracionMeses -> 0 | Y15: =+$B$1*X15/DuracionMeses -> 0 | AA15: =+$B$1*Z15/DuracionMeses -> 0 | AC15: =+$B$1*AB15/DuracionMeses -> 0 | AE15: =+$B$1*AD15/DuracionMeses -> 0 | AG15: =+$B$1*AF15/DuracionMeses -> 0 | AI15: =+$B$1*AH15/DuracionMeses -> 0 | AK15: =+$B$1*AJ15/DuracionMeses -> 0 | AL15: =+(T15+V15+X15+Z15+AB15+AD15+B15+D15+F15+H15+J15+L15+N15+P15+R15+AF15+AH15+AJ15)/DuracionMeses -> 0 | AM15: =+U15+W15+Y15+AA15+AC15+AE15+C15+E15+G15+I15+K15+M15+O15+Q15+S15+AG15+AI15+AK15 -> 0
A16: =+'PROPUESTA ECONOMICA'!B21 -> Especialista Eléctrico | C16: =+$B$1*B16/DuracionMeses -> 0 | E16: =+$B$1*D16/DuracionMeses -> 0 | G16: =+$B$1*F16/DuracionMeses -> 0 | I16: =+$B$1*H16/DuracionMeses -> 0 | K16: =+$B$1*J16/DuracionMeses -> 0 | M16: =+$B$1*L16/DuracionMeses -> 0 | O16: =+$B$1*N16/DuracionMeses -> 0 | Q16: =+$B$1*P16/DuracionMeses -> 0 | S16: =+$B$1*R16/DuracionMeses -> 0 | U16: =+$B$1*T16/DuracionMeses -> 0 | W16: =+$B$1*V16/DuracionMeses -> 0 | Y16: =+$B$1*X16/DuracionMeses -> 0 | AA16: =+$B$1*Z16/DuracionMeses -> 0 | AC16: =+$B$1*AB16/DuracionMeses -> 0 | AE16: =+$B$1*AD16/DuracionMeses -> 0 | AG16: =+$B$1*AF16/DuracionMeses -> 0 | AI16: =+$B$1*AH16/DuracionMeses -> 0 | AK16: =+$B$1*AJ16/DuracionMeses -> 0 | AL16: =+(T16+V16+X16+Z16+AB16+AD16+B16+D16+F16+H16+J16+L16+N16+P16+R16+AF16+AH16+AJ16)/DuracionMeses -> 0 | AM16: =+U16+W16+Y16+AA16+AC16+AE16+C16+E16+G16+I16+K16+M16+O16+Q16+S16+AG16+AI16+AK16 -> 0
A17: =+'PROPUESTA ECONOMICA'!B22 -> Especialista BIM | C17: =+$B$1*B17/DuracionMeses -> 0 | E17: =+$B$1*D17/DuracionMeses -> 0 | G17: =+$B$1*F17/DuracionMeses -> 0 | I17: =+$B$1*H17/DuracionMeses -> 0 | K17: =+$B$1*J17/DuracionMeses -> 0 | M17: =+$B$1*L17/DuracionMeses -> 0 | O17: =+$B$1*N17/DuracionMeses -> 0 | Q17: =+$B$1*P17/DuracionMeses -> 0 | S17: =+$B$1*R17/DuracionMeses -> 0 | U17: =+$B$1*T17/DuracionMeses -> 0 | W17: =+$B$1*V17/DuracionMeses -> 0 | Y17: =+$B$1*X17/DuracionMeses -> 0 | AA17: =+$B$1*Z17/DuracionMeses -> 0 | AC17: =+$B$1*AB17/DuracionMeses -> 0 | AE17: =+$B$1*AD17/DuracionMeses -> 0 | AG17: =+$B$1*AF17/DuracionMeses -> 0 | AI17: =+$B$1*AH17/DuracionMeses -> 0 | AK17: =+$B$1*AJ17/DuracionMeses -> 0 | AL17: =+(T17+V17+X17+Z17+AB17+AD17+B17+D17+F17+H17+J17+L17+N17+P17+R17+AF17+AH17+AJ17)/DuracionMeses -> 0 | AM17: =+U17+W17+Y17+AA17+AC17+AE17+C17+E17+G17+I17+K17+M17+O17+Q17+S17+AG17+AI17+AK17 -> 0
A18: =+'PROPUESTA ECONOMICA'!B23 -> Profesional Ambiental | C18: =+$B$1*B18/DuracionMeses -> 0 | E18: =+$B$1*D18/DuracionMeses -> 0 | G18: =+$B$1*F18/DuracionMeses -> 0 | I18: =+$B$1*H18/DuracionMeses -> 0 | K18: =+$B$1*J18/DuracionMeses -> 0 | M18: =+$B$1*L18/DuracionMeses -> 0 | O18: =+$B$1*N18/DuracionMeses -> 0 | Q18: =+$B$1*P18/DuracionMeses -> 0 | S18: =+$B$1*R18/DuracionMeses -> 0 | U18: =+$B$1*T18/DuracionMeses -> 0 | W18: =+$B$1*V18/DuracionMeses -> 0 | Y18: =+$B$1*X18/DuracionMeses -> 0 | AA18: =+$B$1*Z18/DuracionMeses -> 0 | AC18: =+$B$1*AB18/DuracionMeses -> 0 | AE18: =+$B$1*AD18/DuracionMeses -> 0 | AG18: =+$B$1*AF18/DuracionMeses -> 0 | AI18: =+$B$1*AH18/DuracionMeses -> 0 | AK18: =+$B$1*AJ18/DuracionMeses -> 0 | AL18: =+(T18+V18+X18+Z18+AB18+AD18+B18+D18+F18+H18+J18+L18+N18+P18+R18+AF18+AH18+AJ18)/DuracionMeses -> 0 | AM18: =+U18+W18+Y18+AA18+AC18+AE18+C18+E18+G18+I18+K18+M18+O18+Q18+S18+AG18+AI18+AK18 -> 0
A19: =+'PROPUESTA ECONOMICA'!B24 -> Residente Seguridad y Salud en el Trabajo (SST) | C19: =+$B$1*B19/DuracionMeses -> 0 | E19: =+$B$1*D19/DuracionMeses -> 0 | G19: =+$B$1*F19/DuracionMeses -> 0 | I19: =+$B$1*H19/DuracionMeses -> 0 | K19: =+$B$1*J19/DuracionMeses -> 0 | M19: =+$B$1*L19/DuracionMeses -> 0 | O19: =+$B$1*N19/DuracionMeses -> 0 | Q19: =+$B$1*P19/DuracionMeses -> 0 | S19: =+$B$1*R19/DuracionMeses -> 0 | U19: =+$B$1*T19/DuracionMeses -> 0 | W19: =+$B$1*V19/DuracionMeses -> 0 | Y19: =+$B$1*X19/DuracionMeses -> 0 | AA19: =+$B$1*Z19/DuracionMeses -> 0 | AC19: =+$B$1*AB19/DuracionMeses -> 0 | AE19: =+$B$1*AD19/DuracionMeses -> 0 | AG19: =+$B$1*AF19/DuracionMeses -> 0 | AI19: =+$B$1*AH19/DuracionMeses -> 0 | AK19: =+$B$1*AJ19/DuracionMeses -> 0 | AL19: =+(T19+V19+X19+Z19+AB19+AD19+B19+D19+F19+H19+J19+L19+N19+P19+R19+AF19+AH19+AJ19)/DuracionMeses -> 0 | AM19: =+U19+W19+Y19+AA19+AC19+AE19+C19+E19+G19+I19+K19+M19+O19+Q19+S19+AG19+AI19+AK19 -> 0
A20: =+'PROPUESTA ECONOMICA'!B25 -> Profesional en Costos, Programación y Presupuestos | C20: =+$B$1*B20/DuracionMeses -> 0 | E20: =+$B$1*D20/DuracionMeses -> 0 | G20: =+$B$1*F20/DuracionMeses -> 0 | I20: =+$B$1*H20/DuracionMeses -> 0 | K20: =+$B$1*J20/DuracionMeses -> 0 | M20: =+$B$1*L20/DuracionMeses -> 0 | O20: =+$B$1*N20/DuracionMeses -> 0 | Q20: =+$B$1*P20/DuracionMeses -> 0 | S20: =+$B$1*R20/DuracionMeses -> 0 | U20: =+$B$1*T20/DuracionMeses -> 0 | W20: =+$B$1*V20/DuracionMeses -> 0 | Y20: =+$B$1*X20/DuracionMeses -> 0 | AA20: =+$B$1*Z20/DuracionMeses -> 0 | AC20: =+$B$1*AB20/DuracionMeses -> 0 | AE20: =+$B$1*AD20/DuracionMeses -> 0 | AG20: =+$B$1*AF20/DuracionMeses -> 0 | AI20: =+$B$1*AH20/DuracionMeses -> 0 | AK20: =+$B$1*AJ20/DuracionMeses -> 0 | AL20: =+(T20+V20+X20+Z20+AB20+AD20+B20+D20+F20+H20+J20+L20+N20+P20+R20+AF20+AH20+AJ20)/DuracionMeses -> 0 | AM20: =+U20+W20+Y20+AA20+AC20+AE20+C20+E20+G20+I20+K20+M20+O20+Q20+S20+AG20+AI20+AK20 -> 0
... A22: =+'PROPUESTA ECONOMICA'!B27 -> Ingeniero Tester de Sistema de Gestion de Energía (SGE) | C22: =+$B$1*B22/DuracionMeses -> 0 | E22: =+$B$1*D22/DuracionMeses -> 0 | G22: =+$B$1*F22/DuracionMeses -> 0 | I22: =+$B$1*H22/DuracionMeses -> 0 | K22: =+$B$1*J22/DuracionMeses -> 0 | M22: =+$B$1*L22/DuracionMeses -> 0 | O22: =+$B$1*N22/DuracionMeses -> 0 | Q22: =+$B$1*P22/DuracionMeses -> 0 | S22: =+$B$1*R22/DuracionMeses -> 0 | U22: =+$B$1*T22/DuracionMeses -> 0 | W22: =+$B$1*V22/DuracionMeses -> 0 | Y22: =+$B$1*X22/DuracionMeses -> 0 | AA22: =+$B$1*Z22/DuracionMeses -> 0 | AC22: =+$B$1*AB22/DuracionMeses -> 0 | AE22: =+$B$1*AD22/DuracionMeses -> 0 | AG22: =+$B$1*AF22/DuracionMeses -> 0 | AI22: =+$B$1*AH22/DuracionMeses -> 0 | AK22: =+$B$1*AJ22/DuracionMeses -> 0 | AL22: =+(T22+V22+X22+Z22+AB22+AD22+B22+D22+F22+H22+J22+L22+N22+P22+R22+AF22+AH22+AJ22)/DuracionMeses -> 0 | AM22: =+U22+W22+Y22+AA22+AC22+AE22+C22+E22+G22+I22+K22+M22+O22+Q22+S22+AG22+AI22+AK22 -> 0
A24: PERSONAL TECNICO | B24: 1 | D24: =+D7 -> 2 | F24: 3 | H24: =+H7 -> 4 | J24: =+J7 -> 5 | L24: =+L7 -> 6 | N24: =+N7 -> 7 | P24: =+P7 -> 8 | R24: =+R7 -> 9 | T24: 11 | V24: 12 | X24: 12 | Z24: 13 | AB24: 14 | AD24: 15 | AF24: 16 | AH24: 17 | AJ24: 18 | AL24: TOTAL
C25: =+$B$1*B25/DuracionMeses -> 0 | E25: =+$B$1*D25/DuracionMeses -> 0 | G25: =+$B$1*F25/DuracionMeses -> 0 | I25: =+$B$1*H25/DuracionMeses -> 0 | K25: =+$B$1*J25/DuracionMeses -> 0 | M25: =+$B$1*L25/DuracionMeses -> 0 | O25: =+$B$1*N25/DuracionMeses -> 0 | Q25: =+$B$1*P25/DuracionMeses -> 0 | S25: =+$B$1*R25/DuracionMeses -> 0 | U25: =+$B$1*T25/DuracionMeses -> 0 | W25: =+$B$1*V25/DuracionMeses -> 0 | Y25: =+$B$1*X25/DuracionMeses -> 0 | AA25: =+$B$1*Z25/DuracionMeses -> 0 | AC25: =+$B$1*AB25/DuracionMeses -> 0 | AE25: =+$B$1*AD25/DuracionMeses -> 0 | AG25: =+$B$1*AF25/DuracionMeses -> 0 | AI25: =+$B$1*AH25/DuracionMeses -> 0 | AK25: =+$B$1*AJ25/DuracionMeses -> 0 | AL25: =+(T25+V25+X25+Z25+AB25+AD25+B25+D25+F25+H25+J25+L25+N25+P25+R25+AF25+AH25+AJ25)/DuracionMeses -> 0 | AM25: =+U25+W25+Y25+AA25+AC25+AE25+C25+E25+G25+I25+K25+M25+O25+Q25+S25+AG25+AI25+AK25 -> 0
C26: =+$B$1*B26/DuracionMeses -> 0 | E26: =+$B$1*D26/DuracionMeses -> 0 | G26: =+$B$1*F26/DuracionMeses -> 0 | I26: =+$B$1*H26/DuracionMeses -> 0 | K26: =+$B$1*J26/DuracionMeses -> 0 | M26: =+$B$1*L26/DuracionMeses -> 0 | O26: =+$B$1*N26/DuracionMeses -> 0 | Q26: =+$B$1*P26/DuracionMeses -> 0 | S26: =+$B$1*R26/DuracionMeses -> 0 | U26: =+$B$1*T26/DuracionMeses -> 0 | W26: =+$B$1*V26/DuracionMeses -> 0 | Y26: =+$B$1*X26/DuracionMeses -> 0 | AA26: =+$B$1*Z26/DuracionMeses -> 0 | AC26: =+$B$1*AB26/DuracionMeses -> 0 | AE26: =+$B$1*AD26/DuracionMeses -> 0 | AG26: =+$B$1*AF26/DuracionMeses -> 0 | AI26: =+$B$1*AH26/DuracionMeses -> 0 | AK26: =+$B$1*AJ26/DuracionMeses -> 0 | AL26: =+(T26+V26+X26+Z26+AB26+AD26+B26+D26+F26+H26+J26+L26+N26+P26+R26+AF26+AH26+AJ26)/DuracionMeses -> 0 | AM26: =+U26+W26+Y26+AA26+AC26+AE26+C26+E26+G26+I26+K26+M26+O26+Q26+S26+AG26+AI26+AK26 -> 0
C27: =+$B$1*B27/DuracionMeses -> 0 | E27: =+$B$1*D27/DuracionMeses -> 0 | G27: =+$B$1*F27/DuracionMeses -> 0 | I27: =+$B$1*H27/DuracionMeses -> 0 | K27: =+$B$1*J27/DuracionMeses -> 0 | M27: =+$B$1*L27/DuracionMeses -> 0 | O27: =+$B$1*N27/DuracionMeses -> 0 | Q27: =+$B$1*P27/DuracionMeses -> 0 | S27: =+$B$1*R27/DuracionMeses -> 0 | U27: =+$B$1*T27/DuracionMeses -> 0 | W27: =+$B$1*V27/DuracionMeses -> 0 | Y27: =+$B$1*X27/DuracionMeses -> 0 | AA27: =+$B$1*Z27/DuracionMeses -> 0 | AC27: =+$B$1*AB27/DuracionMeses -> 0 | AE27: =+$B$1*AD27/DuracionMeses -> 0 | AG27: =+$B$1*AF27/DuracionMeses -> 0 | AI27: =+$B$1*AH27/DuracionMeses -> 0 | AK27: =+$B$1*AJ27/DuracionMeses -> 0 | AL27: =+(T27+V27+X27+Z27+AB27+AD27+B27+D27+F27+H27+J27+L27+N27+P27+R27+AF27+AH27+AJ27)/DuracionMeses -> 0 | AM27: =+U27+W27+Y27+AA27+AC27+AE27+C27+E27+G27+I27+K27+M27+O27+Q27+S27+AG27+AI27+AK27 -> 0
A32: FIRMA REPRESENTANTE LEGAL
A33: C.C.

Sheet PROPUESTA ECONOMICA
B2: FORMATO 14 - PROPUESTA ECONOMICA
B4: PROPONENTE:
B6: TRANSMILENIO S.A.
B7: SUBGERENCIA DE INFRAESTRUCTURA - DIRECCIÓN DE CONSTRUCCIONES Y MANTENIMIENTO
B9: "CONTRATAR LA INTERVENTORÍA TÉCNICA, ADMINISTRATIVA, AMBIENTAL Y DE SEGURIDAD Y SALUD EN EL TRABAJO (SST) PARA LAS ADECUACIONES ASOCIADAS A LA IMPLEMENTACIÓN DE LA INFRAESTRUCTURA DE RECARGA ELÉCTRICA (IRE) EN EL PATIO CALLE SEXTA Y EL PATIO PORTAL EL VÍNCULO DEL CONTRATO QUE RESULTE ADJUDICADO EN EL PROCESO DE LICITACIÓN PÚBLICA TMSA-LP-09-2024".
B10: PERSONAL PROFESIONAL MINIMO REQUERIDO
B11: CONCEPTO | C11: TARIFA TMSA (MÁXIMA A OFERTAR) | D11: A | E11: B | F11: C | G11: D | H11: E | I11: F | J11: TOTAL PARCIAL
B12: PERSONAL PROFESIONAL | D12: CANT. | E12: SUELDO MES BÁSICO | F12: % DEDICACIÓN | G12: F.M. % | H12: VALORES MES | I12: No. DE MESES
B14: Director Interventoría | C14: 13619401 | D14: 1 | F14: =+'% de dedicación personal'!AL9 -> 0 | H14: =+ROUND(G14*F14*E14*D14,0) -> 0 | I14: 18 | J14: =+ROUND(I14*H14,0) -> 0
B15: Ingeniero Residente 1 | C15: 8615441.2 | D15: 1 | F15: =+'% de dedicación personal'!AL10 -> 0 | H15: =+ROUND(G15*F15*E15*D15,0) -> 0 | I15: 18 | J15: =+ROUND(I15*H15,0) -> 0
B16: Ingeniero Residente 2 | C16: 8615441.2 | D16: 1 | F16: =+'% de dedicación personal'!AL11 -> 0 | H16: =+ROUND(G16*F16*E16*D16,0) -> 0 | I16: 18 | J16: =+ROUND(I16*H16,0) -> 0
B17: Abogado | C17: 11195281 | D17: 1 | F17: =+'% de dedicación personal'!AL12 -> 0 | H17: =+ROUND(G17*F17*E17*D17,0) -> 0 | I17: 18 | J17: =+ROUND(I17*H17,0) -> 0
B18: Coordinador de interventoría | C18: 9859311.2 | D18: 1 | F18: =+'% de dedicación personal'!AL13 -> 0 | H18: =+ROUND(G18*F18*E18*D18,0) -> 0 | I18: 18 | J18: =+ROUND(I18*H18,0) -> 0
B19: Ingeniero Geotecnia y pavimentos | C19: 11195281 | D19: 1 | F19: =+'% de dedicación personal'!AL14 -> 0 | H19: =+ROUND(G19*F19*E19*D19,0) -> 0 | I19: 18 | J19: =+ROUND(I19*H19,0) -> 0
B20: Especialista hidrosanitario | C20: 11195281 | D20: 1 | F20: =+'% de dedicación personal'!AL15 -> 0 | H20: =+ROUND(G20*F20*E20*D20,0) -> 0 | I20: 18 | J20: =+ROUND(I20*H20,0) -> 0
B21: Especialista Eléctrico | C21: 12796826 | D21: 1 | F21: =+'% de dedicación personal'!AL16 -> 0 | H21: =+ROUND(G21*F21*E21*D21,0) -> 0 | I21: 18 | J21: =+ROUND(I21*H21,0) -> 0
B22: Especialista BIM | C22: 9859311.2 | D22: 1 | F22: =+'% de dedicación personal'!AL17 -> 0 | H22: =+ROUND(G22*F22*E22*D22,0) -> 0 | I22: 18 | J22: =+ROUND(I22*H22,0) -> 0
B23: Profesional Ambiental | C23: 8615441.2 | D23: 1 | F23: =+'% de dedicación personal'!AL18 -> 0 | H23: =+ROUND(G23*F23*E23*D23,0) -> 0 | I23: 18 | J23: =+ROUND(I23*H23,0) -> 0
B24: Residente Seguridad y Salud en el Trabajo (SST) | C24: 8615441.2 | D24: 1 | F24: =+'% de dedicación personal'!AL19 -> 0 | H24: =+ROUND(G24*F24*E24*D24,0) -> 0 | I24: 18 | J24: =+ROUND(I24*H24,0) -> 0
B25: Profesional en Costos, Programación y Presupuestos | C25: 8615441.2 | D25: 1 | F25: =+'% de dedicación personal'!AL20 -> 0 | H25: =+ROUND(G25*F25*E25*D25,0) -> 0 | I25: 18 | J25: =+ROUND(I25*H25,0) -> 0
... B28: Especialista Estructural | C28: 11195281 | D28: 1 | F28: =+'% de dedicación personal'!AL23 -> 0 | H28: =+ROUND(G28*F28*E28*D28,0) -> 0 | I28: 19 | J28: =+ROUND(I28*H28,0) -> 0
B29: SUBTOTAL COSTO PERSONAL PROFESIONAL MINIMO REQUERIDO (1) | J29: =SUM(J14:J28) -> 0
B30: PERSONAL TECNICO
B31: SUBTOTAL COSTO PERSONAL TECNICO (2) | J31: 0
B33: COSTOS INDIRECTOS
B34: SUB TOTAL COSTOS INDIRECTOS* (3) | J34: =+'COSTOS INDIRECTOS (3)'!E50 -> 0
B35: COSTO TOTAL | J35: =+J34+J31+J29 -> 0
B36: IVA 19% | J36: =+ROUND(J35*0.19,0) -> 0
B37: VALOR PARCIAL - INTERVENTORIA | J37: =+J36+J35 -> 0
B38: PORCENTAJE ESTIMADO POR CAMBIO DE VIGENCIA (2026-2027) | J38: 174384839
B39: VALOR TOTAL - INTERVENTORIA | J39: =+ROUND(J38+J37,0) -> 174384839
B44: FIRMA REPRESENTANTE LEGAL
B45: C.C.
