Workbook
Name ______PR1: [1]PRECIOS!$A:$E
Name _____PR1: [2]PRECIOS!$A$1:$E$65536
Name _____TS20: [3]APU!$J$2245
Name _____TS24: [3]APU!$J$2609
Name _____TS27: [3]APU!$J$2661
Name ____PR1: [4]PRECIOS!$A$1:$E$65536
Name ____PR1: [5]PRECIOS!$A$1:$E$65536
Name ____TS30: [3]APU!$J$2713
Name ___PR1: [6]PRECIOS!$A$1:$E$65536
Name ___PR1: [7]PRECIOS!$A$1:$E$65536
Name ___TS20: [8]APU!$J$2245
Name ___TS24: [8]APU!$J$2609
Name ___TS27: [8]APU!$J$2661
Name __PR1: [9]PRECIOS!$A$1:$E$65536
Name __TS30: [8]APU!$J$2713
Name _EMC2: [10]APU!$J$1594
Name _EMC4: [10]APU!$J$1646
Name _PR1: [12]PRECIOS!$A$1:$E$65536
Name _PR2: [13]PRECIOS!$A:$E
Name _PZ20: [10]APU!$J$3326
Name _PZ30: [10]APU!$J$3378
Name _PZ40: [10]APU!$J$3430
Name _PZ50: [10]APU!$J$3482
Name _SY106: [10]APU!$J$2338
Name _SY126: [10]APU!$J$2390
Name _SY166: [10]APU!$J$2442
Name _SY186: [10]APU!$J$2494
Name _SY206: [10]APU!$J$2546
Name _SY86: [10]APU!$J$2286
Name _TS10: [10]APU!$J$2014
Name _TS12: [10]APU!$J$1018
Name _TS16: [10]APU!$J$2128
Name _TS18: [10]APU!$J$2181
Name _TS20: [10]APU!$J$2234
Name _TS24: [10]APU!$J$2598
Name _TS27: [10]APU!$J$2650
Name _TS30: [10]APU!$J$2702
Name _TS33: [10]APU!$J$2754
Name _TS36: [10]APU!$J$2806
Name _TS39: [10]APU!$J$2858
Name _TS42: [10]APU!$J$2910
Name _TS45: [10]APU!$J$2962
Name _TS6: [10]APU!$J$1908
Name _TS8: [10]APU!$J$1961
Name A: [12]PRECIOS!$J$62
Name AA: [14]PRECIOS!$G$1
Name AA_APUS: '[15]09'!$A:$N
Name AA_Cuadrillas: '[15]10'!$A$22:$O$68
Name AA_Equipos: '[15]12'!$C$5:$M$45
Name AA_Materiales: '[15]11'!$C:$N
Name AA_Unitarios: '[15]08'!$B:$M
Name AAA: [16]PRECIOS!$G$8
Name ad: [17]MATERIALES!$H$4
Name AHER: [18]HER!$A:$C
Name AIU: [19]PRECIOS!$B$2
Name AMAT: [18]MAT!$A:$C
Name ap: [20]Planilla!$D$58
Name APB: [12]PRECIOS!$G$71:$J$153
Name APER: [18]PER!$A:$C
Name ART: #REF!,#REF!,#REF!,#REF!,#REF!,#REF!,#REF!

Sheet PRESUP. OBRA PEÑO REDONDO
A2: DEPARTAMENTO ADMINISTRATIVO DE PLANEACION MUNICIPAL
A4: PRESUPUESTO DE OBRA
A6: OBJETO: CONSTRUCCIÓN PARQUE BIBLIOTECA "PEÑON REDONDO" - COMUNA 8 - MUNICIPIO DE NEIVA - HUILA
B7: ITEM | C7: DESCRIPCION | D7: UND | E7: Cantidad | F7: VR/UNIT | G7: VR/TOTAL
B8: 1 | C8: ACTIVIDADES PRELIMINARES
B9: 1.1 | C9: Localización y replanteo | D9: M2 | E9: 4750 | F9: =+#REF! -> #REF! | G9: =+F9*E9 -> #REF!
C10: SUB-TOTAL CAPITULO | G10: =SUM(G9:G9) -> #REF!
C11: CONSTRUCCIÓN DE PISCINA
B12: 1 | C12: CIMENTACIÓN - CONCRETOS
B13: 2.1 | C13: Excavación Manual a todo factor. Inc. Retiro de material sobrante | D13: M3 | E13: =122.4*0.25 -> 30.6 | F13: =+#REF! -> #REF! | G13: =+E13*F13 -> #REF!
B14: 2.21 | C14: Relleno en recebo seleccionado - compactado mecánicamente | D14: M3 | E14: =122.4*0.18 -> 22.032 | F14: =+#REF! -> #REF! | G14: =+E14*F14 -> #REF!
B15: 2.3 | C15: Placa de piso en concreto de 2500 psi e=0.08 para pisos exteriores. | D15: M2 | E15: 122.44 | F15: 35500 | G15: =+E15*F15 -> 4346620
B16: 2.4 | C16: Placa para fondo de piscina en concreto armado de 3500 P.S.I - e=0.18 mts, incluye aditivo para impermeabilizacion. | D16: M3 | E16: =319.62*0.18 -> 57.5316 | F16: =+#REF! -> #REF! | G16: =+F16*E16 -> #REF!
B17: 2.4 | C17: Muro para piscinas en concreto curvo armado de 3500 P.S.I - e: 0,18 mts incluye aditivo para impermeabilizacion. | D17: M3 | E17: 18.8 | F17: =+#REF! -> #REF! | G17: =+F17*E17 -> #REF!
B18: 2.5 | C18: Acero de refuerzo Fy=60.000 P.S.I. | D18: Kg | E18: 15370 | F18: 3650 | G18: =+E18*F18 -> 56100500
C19: SUB-TOTAL CAPITULO | G19: =SUM(G13:G18) -> #REF!
B20: 3 | C20: INSTALACIONES HIDRAULICAS
B21: 3.1 | C21: Suministro e instalación de Tuberia de Presion de 1 1/2" para suministro y desague de la piscina | D21: ML | E21: 250 | F21: 8500 | G21: =+F21*E21 -> 2125000
B22: 3.2 | C22: Suministro e instalacion de tuberia pvc sanitaria de 2" incluye accesorios. | D22: ML | E22: 80 | F22: 58159 | G22: =+F22*E22 -> 4652720
B23: 3.3 | C23: Suministro e instalacion de tuberia pvc de 3/4" incluye accesorios. | D23: ML | E23: 25 | F23: 5444 | G23: =+F23*E23 -> 136100
C24: SUB-TOTAL CAPITULO | G24: =SUM(G21:G23) -> 6913820
B25: 4 | C25: ENCHAPES Y PISOS
B26: 4.1 | C26: Enchape de pared 0,20x0,25 eurocerámica | D26: M2 | E26: 100.36 | F26: =+#REF! -> #REF! | G26: =+E26*F26 -> #REF!
B27: 4.2 | C27: Enchape de piso 0,20x0,25 eurocerámica | D27: M2 | E27: 310 | F27: =+#REF! -> #REF! | G27: =+E27*F27 -> #REF!
B28: 4.3 | C28: Piso en Granito lavado para bordillo piscina | D28: M2 | E28: 40.5 | F28: =+#REF! -> #REF! | G28: =+E28*F28 -> #REF!
B29: 4.4 | C29: Piso en Gravilla lavada | D29: M2 | E29: 82.83 | F29: =+#REF! -> #REF! | G29: =+E29*F29 -> #REF!
B30: 4.5 | C30: Suministro e instalación de losetas prefabricadas en concreto color gris claro a cuadros de e= .08 mts. de .40x.40. Incluye: concreto 2500 psi e=.04cms, colchón de arena e=.03 y sello juntas | D30: ML | E30: 87.63 | F30: 15900 | G30: =+E30*F30 -> 1393317
C31: SUB-TOTAL CAPITULO | G31: =SUM(G26:G30) -> #REF!
B32: 5 | C32: PLANTA DE TRATAMIENTO
B33: 5.1 | C33: Filtro de 36" PETAIRN con valvula multipor lateral de 2" | D33: UND | E33: 1 | F33: 3976000 | G33: =+E33*F33 -> 3976000
B34: 5.2 | C34: Trampa de Cabello. | D34: UND | E34: 1 | F34: 180900 | G34: =+E34*F34 -> 180900
B35: 5.3 | C35: Electro bomba de 3" HP | D35: UND | E35: 1 | F35: 1164000 | G35: =+E35*F35 -> 1164000
B36: 5.4 | C36: Arrancador | D36: UND | E36: 1 | F36: 387000 | G36: =+F36*E36 -> 387000
B37: 5.5 | C37: Material filtrante bultos | D37: UND | E37: 14 | F37: 30400 | G37: =+E37*F37 -> 425600
B38: 5.6 | C38: Alarma de inmercion | D38: UND | E38: 1 | F38: 2500000 | G38: =+F38*E38 -> 2500000
C39: SUB-TOTAL CAPITULO | G39: =SUM(G33:G38) -> 8633500
B40: 6 | C40: ACCESORIOS Y EQUIPOS
B41: 6.1 | C41: Desnatadores. | D41: UND | E41: 10 | F41: 197300 | G41: =+E41*F41 -> 1973000
B42: 6.2 | C42: Boquillas de succion | D42: UND | E42: 6 | F42: 30700 | G42: =+E42*F42 -> 184200
B43: 6.3 | C43: Inyectores | D43: UND | E43: 12 | F43: 25700 | G43: =+E43*F43 -> 308400
...

Sheet RESUMEN ELECTRICO CUBIERTA
A2: PRESUPUESTO DE INSTALACIÓN REDES EXCLUSIVAS DE ALUMBRADO PÚBLICO Y LUMINARIAS DEL POLIDEPORTIVO BARRIO CAMPO NUNEZ
A4: CAP1 | B4: OBRAS PRELIMINARES | C4: UNID. | D4: CANT. | E4: V.UNIT. | F4: V.TOTAL
A5: 1.1 | B5: LOCALIZACION Y REPLANTEO | C5: ML | D5: 110 | E5: 327 | F5: =ROUND(D5*E5,0) -> 35970
A6: 1.2 | B6: SUMINISTRO, EXCAVACIÓN, HINCADA Y PLOMADA DE POSTES DE CONCRETO DE 8 MTS X 510 KG-F ARMADO Y CENTRIFUGADO | C6: UNID. | E6: 630363 | F6: =ROUND(D6*E6,0) -> 0
A7: 1.2.1 | B7: SUMINISTRO , EXCAVACION HINCADA Y PLOMADA DE POSTES DE CONCRETO DE 10 MTS X 510 KGF. ARMADO Y CENTRIFUGADO | C7: UNID. | D7: 0 | E7: 833943 | F7: =ROUND(D7*E7,0) -> 0
A8: 1.3 | B8: SUMINISTRO, EXCAVACIÓN, HINCADA Y PLOMADA DE POSTES DE CONCRETO DE 8 MTS X 750 KG-F ARMADO Y CENTRIFUGADO | C8: UNID. | D8: 0 | E8: 735923 | F8: =ROUND(D8*E8,0) -> 0
A9: 1.3.1 | B9: SUMINISTRO, EXCAVACIÓN, HINCADA Y PLOMADA DE POSTES DE CONCRETO DE 10 MTS X 750 KG-F ARMADO Y CENTRIFUGADO | C9: UNID. | D9: 0 | E9: 981727 | F9: =ROUND(D9*E9,0) -> 0
A10: 1.4 | B10: SUMINISTRO, EXCAVACIÓN, HINCADA Y PLOMADA DE POSTES DE CONCRETO DE 8 MTS X 1050 KG-F ARMADO Y CENTRIFUGADO | C10: UNID. | E10: 978711 | F10: =ROUND(D10*E10,0) -> 0
A11: 1.5 | B11: RETIRO DE MATERIAL SOBRANTE | C11: M3 | D11: 1 | E11: 20000 | F11: =ROUND(D11*E11,0) -> 20000
A12: 1.6 | B12: SUMINISTRO E INSTALACION DE RETENIDA PARA RED TRENZADA DE BAJA TENSION | C12: UNID. | D12: 0 | E12: 178086 | F12: =ROUND(D12*E12,0) -> 0
A13: 1.6.1 | B13: SUMINISTRO E INSTALACION DE RETENIDA PARA RED TRENZADA DE BAJA TENSION CON BRAZO CUERDA DE GUITARRA | C13: UNID. | D13: 0 | E13: 268086 | F13: =ROUND(D13*E13,0) -> 0
A14: 1.7 | B14: SUMINISTRO, EXCAVACIÓN, HINCADA Y PLOMADA DE POSTES DE CONCRETO DE 12MTS X 750 KG-F ARMADO Y CENTRIFUGADO | C14: UNID. | D14: 0 | E14: 1228285 | F14: =ROUND(D14*E14,0) -> 0
A15: 1.7.1 | B15: SUMINISTRO, EXCAVACION , HINCADA Y PLOMADA DE POSTES DE CONCRETO DE 12 MTS X 1050KG/F ARMADO Y CENTRIFUGADO | C15: UNID. | E15: 1541195 | F15: =ROUND(D15*E15,0) -> 0
A16: 1.7.2 | B16: SUMINISTRO, EXCAVACION , HINCADA Y PLOMADA DE POSTES DE CONCRETO DE 12 MTS X 510KG/F ARMADO Y CENTRIFUGADO | C16: UNID. | D16: 0 | E16: 1078239 | F16: =ROUND(D16*E16,0) -> 0
A17: 1.8 | B17: MATERIALES PARA EL CONCRETO DE 3000 PSI (1:2:3) | C17: UNID. | D17: 0 | E17: 220900 | F17: =ROUND(D17*E17,0) -> 0
A18: 1.8.1 | B18: MATERIALES PARA MORTERO 1:4 | C18: UNID. | D18: 0 | E18: 184440 | F18: =ROUND(D18*E18,0) -> 0
A19: 1.8.2 | B19: CAJA DE INSPECCION DE ALUMBRADO PUBLICO DE 40X40X70 CM, FUNDIDA EN CONCRETO DE 3000 PSI Y TAPA EN LAMINA ALFAJOR. | C19: UNID. | D19: 4 | E19: 228439 | F19: =ROUND(D19*E19,0) -> 913756
A20: 1.8.3 | B20: CAJA DE INSPECCION DE ALUMBRADO PUBLICO DE 70X70X70 CM, FUNDIDA EN CONCRETO DE 3000 PSI Y TAPA EN LAMINA ALFAJOR. | C20: UNID. | D20: 0 | E20: 355291 | F20: =ROUND(D20*E20,0) -> 0
A21: 1.8.4 | B21: MURETE PARA EQUIPO DE MEDIDA, EN MUROS CON LADRILLO PRENSADO A LA VISTA (0,65X0,50X1,60 MT) | C21: UNID. | D21: 0 | E21: 336295 | F21: =ROUND(D21*E21,0) -> 0
A22: 1.8.5 | B22: MURETE PARA EQUIPO DE MEDIDA Y CONTROL, EN MUROS CON LADRILLO PRENSADO A LA VISTA (1,03X0,53X1,75 MT) | C22: UNID. | D22: 2 | E22: 454009 | F22: =ROUND(D22*E22,0) -> 908018
A23: 1.8.6 | B23: PEDESTAL EN CONCRETO DE 3000 PSI, PARA SOPORTE DE POSTE METALICO. | C23: UNID. | D23: 0 | E23: 115697 | F23: =ROUND(D23*E23,0) -> 0
A24: 1.8.7 | B24: DEMOLICION Y CONSTRUCCION DE PLACA EN CONCRETO DE 3000 PSI, A=0,40MT-E=0,10MT Y RETIRO DE SOBRANTES. | C24: ML | D24: 0 | E24: 114427 | F24: =ROUND(D24*E24,0) -> 0
A25: 1.8.8 | B25: EXCAVACION MANUAL. | C25: M3 | D25: 60 | E25: 30150 | F25: =ROUND(D25*E25,0) -> 1809000
A26: 1.9 | B26: CANALIZACION EN DUCTOS CONDUIT PVC TIPO PESADO, DOS DUCTOS DE 2" PARA BAJA TENSION. INCLUYE COMPACTACION Y TAPADA DE BRECHA. A=0,40 MT. | C26: ML | D26: 60 | E26: 33466 | F26: =ROUND(D26*E26,0) -> 2007960
A27: 1.10 | B27: CANALIZACION EN DUCTOS CONDUIT EMT DE 11/4" PARA BAJA TENSION. INCLUYE FIJACION. | C27: ML | D27: 160 | E27: 36689 | F27: =ROUND(D27*E27,0) -> 5870240
B28: SUBTOTAL | F28: =SUM(F5:F27) -> 11564944
A30: CAP2 | B30: ACOMETIDAS, REDES AÉREAS DE BAJA TENSION | C30: UND | D30: CANT. | E30: V.UNIT. | F30: V.TOTAL
A31: 2.1 | B31: VESTIDA DE ESTRUCTURA DE PASO SENCILLA EN BAJA TENSIÒN CON GRAPA DE SUSPENSION PARA CABLE TRENZADO Y PERNO DE GANCHO ABIERTO | C31: UND | E31: 40502 | F31: =ROUND(D31*E31,0) -> 0
A32: 2.1.1 | B32: VESTIDA DE ESTRUCTURA DE PASO SENCILLA EN BAJA TENSIÒN PARA RED ABIERTA | C32: UND | D32: 0 | E32: 88893 | F32: =ROUND(D32*E32,0) -> 0
A33: 2.1.2 | B33: VESTIDA DE ESTRUCTURA DE PASO SENCILLA EN BAJA TENSIÒN CON GRAPA DE SUSPENSION PARA CABLE TRENZADO Y PERCHA DE GANCHO ABIERTO | C33: UND | D33: 0 | E33: 52499 | F33: =ROUND(D33*E33,0) -> 0
A34: 2.2 | B34: VESTIDA DE ESTRUCTURA DE RETENCION EN BAJA TENSIÒN CON GRAPA DE RETENCION PARA CABLE TRENZADO Y PERNO DE GANCHO ABIERTO | C34: UND | D34: 0 | E34: 117539 | F34: =ROUND(D34*E34,0) -> 0
A35: 2.3 | B35: VESTIDA DE ESTRUCTURA DE RETENCION EN BAJA TENSIÒN CON GRAPA DE RETENCION PARA CABLE TRENZADO Y PERCHA DE GANCHO ABIERTO PARA CONEXIÓN A RED DESNUDA | C35: UND | D35: 0 | E35: 64882 | F35: =ROUND(D35*E35,0) -> 0
A36: 2.3.1 | B36: VESTIDA DE ESTRUCTURA DE RETENCION EN BAJA TENSIÒN CON GRAPA DE RETENCION PARA CABLE TRENZADO Y PERCHA DE GANCHO ABIERTO PARA CONEXIÓN A RED TRENZADA | C36: UND | E36: 56540 | F36: =ROUND(D36*E36,0) -> 0
A37: 2.4 | B37: VESTIDA DE ESTRUCTURA DE RETENCION EN BAJA TENSIÒN CON CUATRO GRAPAS DE RETENCION PARA CABLE TRENZADO CON PERCHA DE GANCHO ABIERTO Y PERNO DE GANCHO ABIERTO | C37: UND | D37: 0 | E37: 181530 | F37: =ROUND(D37*E37,0) -> 0
A38: 2.5 | B38: TENDIDO Y TENSIONADO EN CONDUCTOR DE ALUMINIO AISLADO 3 No. 4 THHW 600 VAC | C38: UND | D38: 220 | E38: 12650 | F38: =ROUND(D38*E38,0) -> 2783000
A39: 2.6 | B39: INSTALACION DE LUMINARIA TIPO ALUMBRADO PUBLICO DE 70W DE POTENCIA, REPARTO ASIMETRICO, INTENSIDAD COMO MINIMO 470 CANDELAS, CON UN ANGULO DE APERTURA NO MINIMO A 63º IP66 TANTO EN BLOQUE OPTICO COMO EN BLOQUE ELECTRICO, IK 08, CUERPO Y CUBIERTA EN INYECCION DE ALUMINIO, VIDRIO POLICURVO TEMPLADO DE SEGURIDAD, SISTEMA DE APERTURA CON UN CLIP PROVISTO DE SISTEMA DE SEGURIDAD PARA EVITAR LA APERTURA DE LA LUMINARIA, CON TORNILLOS ESPECIALES Y SISTEMA ANTIROBO PARA EVITAR LA EXTRACCION DE LA LUMINARIA DEL BRAZO, INCLUYE BASE PARA FOTOCELDA Y BALASTRO. CONECTORES DE PERFORACIÓN, BRAZO GALVANIZADO Y COLLARÍN DE 4" A 5" PARA POSTE DE CONCRETO DE 8MTS 510KG/F | C39: UND | D39: 0 | E39: 559654 | F39: =ROUND(D39*E39,0) -> 0
A40: 2,6.1 | B40: INSTALACION DE 2 LUMINARIAS TIPO ALUMBRADO PUBLICO DE 70W DE POTENCIA, REPARTO ASIMETRICO, INTENSIDAD COMO MINIMO 470 CANDELAS, CON UN ANGULO DE APERTURA NO MINIMO A 63º IP66 TANTO EN BLOQUE OPTICO COMO EN BLOQUE ELECTRICO, IK 08, CUERPO Y CUBIERTA EN INYECCION DE ALUMINIO, VIDRIO POLICURVO TEMPLADO DE SEGURIDAD, SISTEMA DE APERTURA CON UN CLIP PROVISTO DE SISTEMA DE SEGURIDAD PARA EVITAR LA APERTURA DE LA LUMINARIA, CON TORNILLOS ESPECIALES Y SISTEMA ANTIROBO PARA EVITAR LA EXTRACCION DE LA LUMINARIA DEL BRAZO, INCLUYE BASE PARA FOTOCELDA Y BALASTRO. CONECTORES DE PERFORACIÓN, BRAZO GALVANIZADO Y COLLARÍN DE 4" A 5" PARA POSTE DE CONCRETO DE 8MTS 510KG/F | C40: UND | D40: 0 | E40: 1028562 | F40: =ROUND(D40*E40,0) -> 0
A41: 2,6,2 | B41: INSTALACION DE LUMINARIA TIPO ALUMBRADO PUBLICO DE 70W DE POTENCIA, REPARTO ASIMETRICO, INTENSIDAD COMO MINIMO 470 CANDELAS, CON UN ANGULO DE APERTURA NO MINIMO A 63º IP66 TANTO EN BLOQUE OPTICO COMO EN BLOQUE ELECTRICO, IK 08, CUERPO Y CUBIERTA EN INYECCION DE ALUMINIO, VIDRIO POLICURVO TEMPLADO DE SEGURIDAD, SISTEMA DE APERTURA CON UN CLIP PROVISTO DE SISTEMA DE SEGURIDAD PARA EVITAR LA APERTURA DE LA LUMINARIA, CON TORNILLOS ESPECIALES Y SISTEMA ANTIROBO PARA EVITAR LA EXTRACCION DE LA LUMINARIA DEL BRAZO, INCLUYE BASE PARA FOTOCELDA Y BALASTRO. CONECTORES DBH, BRAZO GALVANIZADO Y COLLARÍN DE 4" A 5" PARA POSTE DE CONCRETO DE 8MTS 510KG/F EN RED DESNUDA. | C41: UND | D41: 0 | E41: 529156 | F41: =ROUND(D41*E41,0) -> 0
A42: 2.7 | B42: INSTALACION DE LUMINARIA TIPO ALUMBRADO PUBLICO DE 70W DE POTENCIA, REPARTO ASIMETRICO, INTENSIDAD COMO MINIMO 470 CANDELAS, CON UN ANGULO DE APERTURA NO MINIMO A 63º IP66 TANTO EN BLOQUE OPTICO COMO EN BLOQUE ELECTRICO, IK 08, CUERPO Y CUBIERTA EN INYECCION DE ALUMINIO, VIDRIO POLICURVO TEMPLADO DE SEGURIDAD, SISTEMA DE APERTURA CON UN CLIP PROVISTO DE SISTEMA DE SEGURIDAD PARA EVITAR LA APERTURA DE LA LUMINARIA, CON TORNILLOS ESPECIALES Y SISTEMA ANTIROBO PARA EVITAR LA EXTRACCION DE LA LUMINARIA DEL BRAZO, INCLUYE BASE PARA FOTOCELDA Y BALASTRO. BRAZO GALVANIZADO Y COLLARÍN DE 5"A7" PARA POSTE DE CONCRETO DE 750KG/F O 1050KG/F | C42: UND | E42: 562938 | F42: =ROUND(D42*E42,0) -> 0
A43: 2.7.0 | B43: INSTALACION Y CABLEADO DE TRES REFLECTORES DE 400W DE POTENCIA, REPARTO ASIMETRICO, IP65 TANTO EN EL BLOQUE OPTICO COMO EN EL BLOQUE ELECTRICO, IK 08, CUERPO EN INYECCION DE ALUMINIO, VIDRIO TEMPLADO DE SEGURIDAD, SISTEMA DE APERTURA CON UN CLIP PROVISTO DE SISTEMA DE SEGURIDAD PARA EVITAR LA APERTURA DEL PROYECTOR, CON TORNILLOS ESPECIALES Y SISTEMA ANTIROBO PARA EVITAR LA EXTRACCION DEL PROYECTOR, INCLUYE BASE PARA FOTOCELDA Y BALASTRO. PARA RED TRENZADA AEREA | C43: UND | E43: 3905784 | F43: =ROUND(D43*E43,0) -> 0
...

Sheet PRESUPUESTO ELECTRICO BIBLIO
A1: MUNICIPIO DE NEIVA DEPARTAMENTO DEL HUILA
A3: PRESUPUESTO OBRAS ELECTRICAS AUDITORIO Y BIBLIOTECA PEÑO REDONDO NEIVA - HUILA
A4: ITEM | B4: DESCRIPCION | C4: UND | D4: CANT | E4: V/UNITARIO | F4: VALOR TOTAL
A5: 1 | B5: RED ELECTRICA DE FUERZA
A6: 1.1 | B6: LÁMPARA 2X48W | C6: UN | D6: 28 | E6: ='APUS FASE 1'!H46 -> 220000 | F6: =E6*D6 -> 6160000
A7: 1.2 | B7: LÁMPARA 2X32W | C7: UN | D7: 24 | E7: ='APUS FASE 1'!H96 -> 189475 | F7: =E7*D7 -> 4547400
A8: 1.3 | B8: BALA 50W AHORRADORA | C8: UN | D8: 36 | E8: ='APUS FASE 1'!H148 -> 112457 | F8: =E8*D8 -> 4048452
A9: 1.4 | B9: LAMPARA DE TECHO 25W AHORRADORA | C9: UN | D9: 12 | E9: ='APUS FASE 1'!H200 -> 79120 | F9: =E9*D9 -> 949440
A10: 1.5 | B10: TABLERO DE DISTRIBUCION DE 12 CTS | C10: UN | D10: 7 | E10: ='APUS FASE 1'!H248 -> 1154660 | F10: =E10*D10 -> 8082620
A11: 1.6 | B11: LAMPARA DE PISO 25 W | C11: UN | D11: 0 | E11: 0 | F11: =E11*D11 -> 0
A12: 1.7 | B12: LAMPARA APLIQUE MURO 25W | C12: UN | D12: 10 | E12: ='APUS FASE 1'!H299 -> 97721 | F12: =E12*D12 -> 977210
A13: 1.8 | B13: LÁMPARA DE SODIO 70W | C13: UN | D13: 0 | E13: ='APUS FASE 1'!H351 -> 575108 | F13: =E13*D13 -> 0
A14: 1.9 | B14: TOMA NORMAL 100W CON POLO A TIERRA. | C14: UN | D14: 88 | E14: ='APUS FASE 1'!H403 -> 67360 | F14: =E14*D14 -> 5927680
A15: 1.1 | B15: TOMA ESPECIAL 110/220 CON POLO A TIERRA. | C15: UN | D15: 3 | E15: ='APUS FASE 1'!H455 -> 75225 | F15: =E15*D15 -> 225675
A16: 1.11 | B16: TOMA GFCI 100W | C16: GL | D16: 8 | E16: ='APUS FASE 1'!H507 -> 89935 | F16: =E16*D16 -> 719480
A17: 1.12 | B17: TOMA REGULADA 300W | C17: GL | D17: 38 | E17: ='APUS FASE 1'!H559 -> 112282 | F17: =E17*D17 -> 4266716
A18: 1.13 | B18: AIRES ACONDICIONADOS | C18: GL | D18: 10 | E18: ='APUS FASE 1'!H611 -> 75225 | F18: =E18*D18 -> 752250
A19: 1.14 | B19: TOMA TRIFASICA. | C19: UN | D19: 2 | E19: ='APUS FASE 1'!H663 -> 57426 | F19: =E19*D19 -> 114852
A20: 1.15 | B20: TABLERO DE AUTOMÁTICOS TRIFÁSICO DE 18 CIRCUITOS | C20: GL | D20: 3 | E20: ='APUS FASE 1'!H714 -> 1323460 | F20: =E20*D20 -> 3970380
A21: 1.16 | B21: ACOMETIDA DE SUBESTACION A TABLERO GENERAL | C21: MT | D21: 50 | E21: ='APUS FASE 1'!H765 -> 123843 | F21: =E21*D21 -> 6192150
A22: 1.17 | B22: TABLERO GENERAL DE DISTRIBUCION | C22: UN | D22: 1 | E22: ='APUS FASE 1'!H816 -> 3976450 | F22: =E22*D22 -> 3976450
A23: 1.18 | B23: ACOMETIDA DE TABLERO GENERAL A TABLEROS DE DISTRUBUCION | C23: MT | D23: 100 | E23: ='APUS FASE 1'!H865 -> 63899 | F23: =E23*D23 -> 6389900
B25: SUBTOTAL | F25: =SUM(F6:F24) -> 57300655
A26: 2 | B26: INSTALACIÓN RED VOZ Y DATOS
A27: 2.1 | B27: TOMA DE DATOS CAT 6E | C27: UN | D27: 38 | E27: 491259 | F27: =E27*D27 -> 18667842
A28: 2.2 | B28: TOMA TELEFÓNICO RJ45 DE INCRUSTAR | C28: UN | D28: 38 | E28: 78332 | F28: =E28*D28 -> 2976616
A29: 2.5 | B29: SUMINISTRO E INSTALACION DE UPS de 6 KVA | C29: UN | D29: 1 | E29: 9512000 | F29: =E29*D29 -> 9512000
B30: SUBTOTAL | F30: =SUM(F27:F29) -> 31156458
A31: 3 | B31: CONTROL DE ILUMINACION
A32: 3.1 | B32: Interuptor y/o control de iluminacion sensillo S1 | C32: UN | D32: 40 | E32: ='APUS FASE 1'!H1116 -> 63925 | F32: =E32*D32 -> 2557000
A33: 3.2 | B33: Interuptor y/o control de iluminacion doble S2 | C33: UN | D33: 12 | E33: ='APUS FASE 1'!H1164 -> 74325 | F33: =E33*D33 -> 891900
A34: 3.3 | B34: Interuptor y/o control de iluminacion triple S3 | C34: UN | D34: 6 | E34: ='APUS FASE 1'!H1215 -> 84225 | F34: =E34*D34 -> 505350
A35: 3.4 | B35: Interuptor y/o control de iluminacion conmutable S4 | C35: UN | D35: 4 | E35: ='APUS FASE 1'!H1267 -> 84255 | F35: =E35*D35 -> 337020
B36: SUBTOTAL | F36: =SUM(F32:F35) -> 4291270
B38: TOTAL COSTOS DIRECTOS | F38: =ROUND((F30+F25+F36),0) -> 92748383
B39: ADMINISTRACIÓN | C39: 0.2 | F39: =ROUND((F38*C39),0) -> 18549677
B40: IMPREVISTOS | C40: 0.02 | F40: =ROUND((F38*C40),0) -> 1854968
B41: UTILIDADES | C41: 0.03 | F41: =ROUND((F38*C41),0) -> 2782451
B42: TOTAL PRESUPUESTO | F42: =SUM(F38:F41) -> 115935479

Sheet APUS  FASE 1
F1: No.
F2: ANALISIS DE PRECIOS UNITARIOS (APU)
A4: MUNICIPIO DE TARQUI | F4: =NOW() -> 46191.422
A6: 1 | B6: RED ELECTRICA DE FUERZA | G6: UNIDAD: | H6: UND
A7: 1.1 | B7: LÁMPARA 2X48 W
A10: I. EQUIPO
A11: REF. | C11: DESCRIPCION | E11: $ / DIA | F11: RENDIM. | G11: VALOR UNIT. | H11: VALOR PARC.
B12: Herramienta menor: | G12: 1200 | H12: =+G12 -> 1200
G15: Sub-Total: | H15: =ROUND(SUM(H12:H14),0) -> 1200
A17: II. MATERIALES EN LA OBRA
A18: REF. | C18: DESCRIPCION | E18: UNIDAD | F18: CANTIDAD | G18: VALOR UNIT. | H18: VALOR PARC.
B19: Cable de Cobre aislado THHN No. 12 AWG | E19: ml | F19: 30 | G19: 1500 | H19: =+ROUND(F19*G19,0) -> 45000
B20: Tuberia PVC tipo pesado de 1/2" | E20: ml | F20: 10 | G20: 1400 | H20: =+ROUND(F20*G20,0) -> 14000
B21: Caja plastica 5800 | E21: UND | F21: 1 | G21: 900 | H21: =+ROUND(F21*G21,0) -> 900
B22: curva PVC tipo pesado | E22: UND | F22: 4 | G22: 700 | H22: =+ROUND(F22*G22,0) -> 2800
B23: Luminaria aHorradora de 2x32 | E23: UND | F23: 1 | G23: 124450 | H23: =+ROUND(F23*G23,0) -> 124450
H26: =+ROUND(F26*G26,0) -> 0
G28: Sub-Total: | H28: =ROUND(SUM(H19:H27),0) -> 187150
A30: III. TRANSPORTE
A31: REF. | B31: MATERIAL | D31: Cant | E31: UND | F31: TARIFA | G31: VALOR UNIT. | H31: VALOR TOTAL
B32: materiales varios | D32: 0.005 | E32: ton | F32: 1 | G32: 380000 | H32: =+ROUND(D32*G32,0) -> 1900
G35: Sub-Total: | H35: =ROUND(SUM(H32:H34),0) -> 1900
A37: III. MANO DE OBRA
A38: CANT. | B38: TRABAJADOR | D38: JORNAL | E38: PREST. 75% | F38: J. TOTAL | G38: RENDIMIENTO | H38: VALOR UNIT.
A39: 1 | B39: Ingeniero Electricista | D39: 80000 | E39: =D39*75% -> 60000 | F39: =(D39+E39)*A39 -> 140000 | G39: 10 | H39: =+ROUND(F39/G39,0) -> 14000
A40: 1 | B40: Tecnico electricista T5 | D40: 40000 | E40: =D40*75% -> 30000 | F40: =(D40+E40)*A40 -> 70000 | G40: 10 | H40: =+ROUND(F40/G40,0) -> 7000
A41: 2 | B41: Alludante | D41: 25000 | E41: =D41*75% -> 18750 | F41: =(D41+E41)*A41 -> 87500 | G41: 10 | H41: =+ROUND(F41/G41,0) -> 8750
G44: Sub-Total: | H44: =ROUND(SUM(H39:H43),0) -> 29750
E46: TOTAL COSTO DIRECTO: | H46: =+ROUND(H15+H28+H35+H44,0) -> 220000
F52: No.
F53: ANALISIS DE PRECIOS UNITARIOS (APU)
A56: 1 | B56: RED ELECTRICA DE FUERZA | G56: UNIDAD: | H56: UND
A57: 1.2 | B57: LÁMPARA 2X32W
A60: I. EQUIPO
A61: REF. | C61: DESCRIPCION | E61: $ / DIA | F61: RENDIM. | G61: VALOR UNIT. | H61: VALOR PARC.
B62: Herramienta menor: | G62: 1200 | H62: =+G62 -> 1200
G65: Sub-Total: | H65: =ROUND(SUM(H62:H64),0) -> 1200
A67: II. MATERIALES EN LA OBRA
A68: REF. | C68: DESCRIPCION | E68: UNIDAD | F68: CANTIDAD | G68: VALOR UNIT. | H68: VALOR PARC.
B69: Cable de Cobre aislado THHN No. 12 AWG | E69: ml | F69: 30 | G69: 1500 | H69: =+ROUND(F69*G69,0) -> 45000
...

Sheet 5 - ESTRUCTURA - INDER 
A7: ALCALDIA DE NEIVA
A8: DEPENDENCIA CONTRATANTE
A10: OBJETO: PRECIOS UNITARIOS OFICIALES - ALCALDIA DE NEIVA | D10: ITEM: ACERO DE REFUERZO A-37 - Fy= 2400 Kg/cm2
D12: UNIDAD: | E12: KG
A13: I. EQUIPO
A14: Descripción | D14: Tarifa/Hora | E14: Rendimiento | F14: Valor-Unit.
A15: HERRAMIENTA MENOR. | D15: 2062.5 | E15: =+E32 -> 0.050071429 | F15: =+E15*D15 -> 103.27232
A17: SUB-TOTAL | G17: =SUM(F15:F16) -> 103.27232
A18: II. MATERIALES
A19: Descripción | C19: Unidad | D19: Precio-Unit. | E19: Cantidad | F19: Valor-Unit.
A20: ACERO Fy= 2400 Kg/cm2 | C20: KG | D20: 2650 | E20: 1.05 | F20: =+E20*D20 -> 2782.5
A21: ALAMBRE NEGRO No. 18 | C21: KG | D21: 3800 | E21: 0.08 | F21: =+E21*D21 -> 304
A22: SEGUETA (Sin marco) | C22: UND | D22: 3400 | E22: 0.05 | F22: =+E22*D22 -> 170
A24: SUB-TOTAL | F24: Sub-Total | G24: =SUM(F20:F23) -> 3256.5
A25: III. TRANSPORTES
A26: Descripción | C26: Unidad | D26: Precio-Unit. | E26: Cantidad | F26: Valor-Unit.
A27: VOLQUETA (5-6)M3 | C27: VJ | D27: 60714.286 | E27: 0 | F27: =D27*E27 -> 0
F28: =D28*E28 -> 0
A29: SUB-TOTAL | F29: Sub-Total | G29: =SUM(F28:F28) -> 0
A30: IV. MANO DE OBRA
A31: Trabajador | C31: Jornal/H-H | D31: Unidad | E31: Cantidad | F31: Valor-Unit.
A32: Oficial (Incl. Prestaciones) | C32: 7410.9601 | D32: 1 | E32: 0.050071429 | F32: =+(C32*D32)*E32 -> 371.07736
A33: Ayudante (Incl. Prestaciones) | C33: 4374.7824 | D33: 1 | E33: =+E32 -> 0.050071429 | F33: =+(C33*D33)*E33 -> 219.0516
A34: =+A29 -> SUB-TOTAL | F34: Sub-Total | G34: =SUM(F32:F33) -> 590.12896
A36: TOTAL UNITARIO | G36: =ROUND(G17+G24+G29+G34,0) -> 3950
A39: ALCALDIA DE NEIVA
A40: DEPENDENCIA CONTRATANTE
A42: OBJETO: PRECIOS UNITARIOS OFICIALES - ALCALDIA DE NEIVA | D42: ITEM: ACERO DE REFUERZO PR60 - Fy= 4200 Kg/cm2
D44: UNIDAD: | E44: KG
A45: I. EQUIPO
A46: Descripción | D46: Tarifa/Hora | E46: Rendimiento | F46: Valor-Unit.
A47: HERRAMIENTA MENOR. | D47: 2062.5 | E47: =+E64 -> 0.050071429 | F47: =+E47*D47 -> 103.27232
A49: SUB-TOTAL | G49: =SUM(F47:F48) -> 103.27232
A50: II. MATERIALES
A51: Descripción | C51: Unidad | D51: Precio-Unit. | E51: Cantidad | F51: Valor-Unit.
A52: ACERO Fy= 4200 Kg/cm2 | C52: KG | D52: 2650 | E52: 1.05 | F52: =+E52*D52 -> 2782.5
A53: ALAMBRE NEGRO No. 18 | C53: KG | D53: 3800 | E53: 0.08 | F53: =+E53*D53 -> 304
A54: SEGUETA (Sin marco) | C54: UND | D54: 3400 | E54: 0.05 | F54: =+E54*D54 -> 170
A56: SUB-TOTAL | F56: Sub-Total | G56: =SUM(F52:F55) -> 3256.5
A57: III. TRANSPORTES
...

Sheet PRES.GENERAL
D1: AGUAS DEL HUILA S.A. E.S.P.
B2: CONTRATO DE CONSULTORIA No. 059 DEL 01 DE MARZO DE 2021 CUYO OBJETO ES “CONTRATO DE CONSULTORIA PARA LA ELABORACION DE ESTUDIOS Y DISEÑOS PARA LA OPTIMIZACION DEL SISTEMA DE ACUEDUCTO DEL MUNICIPIO DE TESALIA”.
B3: PRESUPUESTO GENERAL DE OBRA
B4: ='M.CANTID.GENERAL'!A5 -> CAPITULO 1: ACUEDUCTO
F5: FECHA: | G5: AGOSTO/2024
B6: ITEM | C6: DESCRIPCION | D6: UND. | E6: CANT. | F6: VALOR UNITARIO | G6: VALOR TOTAL
B7: ='M.CANTID.GENERAL'!A7 -> 1.1. BOCATOMA - CAPTACION
B8: ='M.CANTID.GENERAL'!B9 -> 1.1.1. | C8: ='M.CANTID.GENERAL'!C9 -> CAPTACION QUEBRADA LA VENTA
C9: ='M.CANTID.GENERAL'!C10 -> OBRA CIVIL
B10: ='M.CANTID.GENERAL'!B12 -> 1.1.1.1. | C10: ='M.CANTID.GENERAL'!C12 -> #REF! | D10: ='M.CANTID.GENERAL'!P14 -> ML | E10: ='M.CANTID.GENERAL'!O14 -> 25 | F10: =#REF! -> #REF! | G10: =ROUND((+E10*F10),0) -> #REF!
B11: ='M.CANTID.GENERAL'!B15 -> 1.1.1.2. | C11: ='M.CANTID.GENERAL'!C15 -> #REF! | D11: ='M.CANTID.GENERAL'!P17 -> UND | E11: ='M.CANTID.GENERAL'!O17 -> 1 | F11: =#REF! -> #REF! | G11: =ROUND((+E11*F11),0) -> #REF!
B12: ='M.CANTID.GENERAL'!B18 -> 1.1.1.3. | C12: ='M.CANTID.GENERAL'!C18 -> #REF! | D12: ='M.CANTID.GENERAL'!P20 -> UND | E12: ='M.CANTID.GENERAL'!O20 -> 1 | F12: =#REF! -> #REF! | G12: =ROUND((+E12*F12),0) -> #REF!
B13: ='M.CANTID.GENERAL'!B21 -> 1.1.1.4. | C13: ='M.CANTID.GENERAL'!C21 -> #REF! | D13: ='M.CANTID.GENERAL'!P23 -> UND | E13: ='M.CANTID.GENERAL'!O23 -> 1 | F13: =#REF! -> #REF! | G13: =ROUND((+E13*F13),0) -> #REF!
B14: ='M.CANTID.GENERAL'!B24 -> 1.1.1.5. | C14: ='M.CANTID.GENERAL'!C24 -> #REF! | D14: ='M.CANTID.GENERAL'!P26 -> UND | E14: ='M.CANTID.GENERAL'!O26 -> 1 | F14: =#REF! -> #REF! | G14: =ROUND((+E14*F14),0) -> #REF!
B15: ='M.CANTID.GENERAL'!B27 -> 1.1.1.6. | C15: ='M.CANTID.GENERAL'!C27 -> #REF! | D15: ='M.CANTID.GENERAL'!P29 -> UND | E15: ='M.CANTID.GENERAL'!O29 -> 1 | F15: =#REF! -> #REF! | G15: =ROUND((+E15*F15),0) -> #REF!
B16: ='M.CANTID.GENERAL'!B30 -> 1.1.1.7. | C16: ='M.CANTID.GENERAL'!C30 -> #REF! | D16: ='M.CANTID.GENERAL'!P32 -> VIAJE | E16: ='M.CANTID.GENERAL'!O32 -> 20 | F16: =#REF! -> #REF! | G16: =ROUND((+E16*F16),0) -> #REF!
C17: ='M.CANTID.GENERAL'!C35 -> SUMINISTROS
B18: ='M.CANTID.GENERAL'!B36 -> 1.1.1.8. | C18: ='M.CANTID.GENERAL'!C36 -> #REF! | D18: ='M.CANTID.GENERAL'!P38 -> ML | E18: ='M.CANTID.GENERAL'!O38 -> 25 | F18: =#REF! -> #REF! | G18: =ROUND((+E18*F18),0) -> #REF!
B19: SUB-TOTAL OBRA CIVIL BOCATOMA-CAPTACION | G19: =SUM(G10:G16) -> #REF!
B20: SUB-TOTAL SUMINISTROS BOCATOMA-CAPTACION | G20: =SUM(G18) -> #REF!
B21: TOTAL: BOCATOMA | G21: =SUM(G19:G20) -> #REF! | I21: =G19+G20 -> #REF!
B22: ='M.CANTID.GENERAL'!A40 -> 1.2. ADUCCIONES
B23: ='M.CANTID.GENERAL'!B42 -> 1.2.1. | C23: ='M.CANTID.GENERAL'!C42 -> ADUCCION BOCATOMA - DESARENADOR
C24: ='M.CANTID.GENERAL'!C43 -> OBRA CIVIL
B25: ='M.CANTID.GENERAL'!B45 -> 1.2.1.1. | C25: ='M.CANTID.GENERAL'!C45 -> #REF! | D25: ='M.CANTID.GENERAL'!P47 -> ML | E25: ='M.CANTID.GENERAL'!O47 -> 166.98 | F25: =#REF! -> #REF! | G25: =ROUND((+E25*F25),0) -> #REF!
B26: ='M.CANTID.GENERAL'!B48 -> 1.2.1.2. | C26: ='M.CANTID.GENERAL'!C48 -> #REF! | D26: ='M.CANTID.GENERAL'!P50 -> M3 | E26: ='M.CANTID.GENERAL'!O50 -> 390.73 | F26: =#REF! -> #REF! | G26: =ROUND((+E26*F26),0) -> #REF!
B27: ='M.CANTID.GENERAL'!B51 -> 1.2.1.3. | C27: ='M.CANTID.GENERAL'!C51 -> #REF! | D27: ='M.CANTID.GENERAL'!P53 -> M3 | E27: ='M.CANTID.GENERAL'!O53 -> 77.27 | F27: =#REF! -> #REF! | G27: =ROUND((+E27*F27),0) -> #REF!
B28: ='M.CANTID.GENERAL'!B54 -> 1.2.1.4. | C28: ='M.CANTID.GENERAL'!C54 -> #REF! | D28: ='M.CANTID.GENERAL'!P56 -> M3-Km | E28: ='M.CANTID.GENERAL'!O56 -> 434.15 | F28: =#REF! -> #REF! | G28: =ROUND((+E28*F28),0) -> #REF!
B29: ='M.CANTID.GENERAL'!B57 -> 1.2.1.5. | C29: ='M.CANTID.GENERAL'!C57 -> #REF! | D29: ='M.CANTID.GENERAL'!P59 -> M3 | E29: ='M.CANTID.GENERAL'!O59 -> 303.9 | F29: =#REF! -> #REF! | G29: =ROUND((+E29*F29),0) -> #REF!
B30: ='M.CANTID.GENERAL'!B60 -> 1.2.1.6. | C30: ='M.CANTID.GENERAL'!C60 -> #REF! | D30: ='M.CANTID.GENERAL'!P62 -> ML | E30: ='M.CANTID.GENERAL'!O62 -> 166.98 | F30: =#REF! -> #REF! | G30: =ROUND((+E30*F30),0) -> #REF!
B31: ='M.CANTID.GENERAL'!B63 -> 1.2.1.7. | C31: ='M.CANTID.GENERAL'!C63 -> #REF! | D31: ='M.CANTID.GENERAL'!P65 -> UND | E31: ='M.CANTID.GENERAL'!O65 -> 1 | F31: =#REF! -> #REF! | G31: =ROUND((+E31*F31),0) -> #REF!
B32: ='M.CANTID.GENERAL'!B66 -> 1.2.1.8. | C32: ='M.CANTID.GENERAL'!C66 -> #REF! | D32: ='M.CANTID.GENERAL'!P68 -> UND | E32: ='M.CANTID.GENERAL'!O68 -> 2 | F32: =#REF! -> #REF! | G32: =ROUND((+E32*F32),0) -> #REF!
B33: ='M.CANTID.GENERAL'!B69 -> 1.2.1.9. | C33: ='M.CANTID.GENERAL'!C69 -> #REF! | D33: ='M.CANTID.GENERAL'!P71 -> UND | E33: ='M.CANTID.GENERAL'!O71 -> 1 | F33: =#REF! -> #REF! | G33: =ROUND((+E33*F33),0) -> #REF!
B34: ='M.CANTID.GENERAL'!B72 -> 1.2.1.10. | C34: ='M.CANTID.GENERAL'!C72 -> #REF! | D34: ='M.CANTID.GENERAL'!P74 -> UND | E34: ='M.CANTID.GENERAL'!O74 -> 2 | F34: =#REF! -> #REF! | G34: =ROUND((+E34*F34),0) -> #REF!
B35: ='M.CANTID.GENERAL'!B75 -> 1.2.1.11. | C35: ='M.CANTID.GENERAL'!C75 -> #REF! | D35: ='M.CANTID.GENERAL'!P77 -> UND | E35: ='M.CANTID.GENERAL'!O77 -> 1 | F35: =#REF! -> #REF! | G35: =ROUND((+E35*F35),0) -> #REF!
B36: ='M.CANTID.GENERAL'!B78 -> 1.2.1.12. | C36: ='M.CANTID.GENERAL'!C78 -> #REF! | D36: ='M.CANTID.GENERAL'!P80 -> ML | E36: ='M.CANTID.GENERAL'!O80 -> 50 | F36: =#REF! -> #REF! | G36: =ROUND((+E36*F36),0) -> #REF!
B37: ='M.CANTID.GENERAL'!B81 -> 1.2.1.13. | C37: ='M.CANTID.GENERAL'!C81 -> #REF! | D37: ='M.CANTID.GENERAL'!P84 -> UND | E37: ='M.CANTID.GENERAL'!O84 -> 3 | F37: =#REF! -> #REF! | G37: =ROUND((+E37*F37),0) -> #REF!
C38: ='M.CANTID.GENERAL'!C87 -> SUMINISTROS
B39: ='M.CANTID.GENERAL'!B88 -> 1.2.1.14. | C39: ='M.CANTID.GENERAL'!C88 -> #REF! | D39: ='M.CANTID.GENERAL'!P90 -> ML | E39: ='M.CANTID.GENERAL'!O90 -> 166.98 | F39: =#REF! -> #REF! | G39: =ROUND((+E39*F39),0) -> #REF!
B40: SUB-TOTAL OBRA CIVIL ADUCCION BOCATOMA-DESARENADOR | G40: =SUM(G25:G37) -> #REF!
...

Sheet PRES.FASE 1-ADUCCION
D1: AGUAS DEL HUILA S.A. E.S.P.
B2: CONTRATO DE CONSULTORIA No. 059 DEL 01 DE MARZO DE 2021 CUYO OBJETO ES “CONTRATO DE CONSULTORIA PARA LA ELABORACION DE ESTUDIOS Y DISEÑOS PARA LA OPTIMIZACION DEL SISTEMA DE ACUEDUCTO DEL MUNICIPIO DE TESALIA”.
B3: PRESUPUESTO GENERAL DE OBRA FASE I
B4: ='M.CANTID.FASE 1-ADUCCION'!A5 -> CAPITULO 1: ACUEDUCTO
F5: FECHA: | G5: AGOSTO/2024
B6: ITEM | C6: DESCRIPCION | D6: UND. | E6: CANT. | F6: VALOR UNITARIO | G6: VALOR TOTAL
B7: ='M.CANTID.FASE 1-ADUCCION'!A7 -> 1.1. BOCATOMA - CAPTACION
B8: ='M.CANTID.FASE 1-ADUCCION'!B9 -> 1.1.1. | C8: ='M.CANTID.FASE 1-ADUCCION'!C9 -> CAPTACION QUEBRADA LA VENTA
C9: ='M.CANTID.FASE 1-ADUCCION'!C10 -> OBRA CIVIL
B10: ='M.CANTID.FASE 1-ADUCCION'!B12 -> 1.1.1.1. | C10: ='M.CANTID.FASE 1-ADUCCION'!C12 -> #REF! | D10: ='M.CANTID.FASE 1-ADUCCION'!P14 -> ML | E10: ='M.CANTID.FASE 1-ADUCCION'!O14 -> 25 | F10: =#REF! -> #REF! | G10: =ROUND((+E10*F10),0) -> #REF!
B11: ='M.CANTID.FASE 1-ADUCCION'!B15 -> 1.1.1.2. | C11: ='M.CANTID.FASE 1-ADUCCION'!C15 -> #REF! | D11: ='M.CANTID.FASE 1-ADUCCION'!P17 -> UND | E11: ='M.CANTID.FASE 1-ADUCCION'!O17 -> 1 | F11: =#REF! -> #REF! | G11: =ROUND((+E11*F11),0) -> #REF!
B12: ='M.CANTID.FASE 1-ADUCCION'!B18 -> 1.1.1.3. | C12: ='M.CANTID.FASE 1-ADUCCION'!C18 -> #REF! | D12: ='M.CANTID.FASE 1-ADUCCION'!P20 -> UND | E12: ='M.CANTID.FASE 1-ADUCCION'!O20 -> 1 | F12: =#REF! -> #REF! | G12: =ROUND((+E12*F12),0) -> #REF!
B13: ='M.CANTID.FASE 1-ADUCCION'!B21 -> 1.1.1.4. | C13: ='M.CANTID.FASE 1-ADUCCION'!C21 -> #REF! | D13: ='M.CANTID.FASE 1-ADUCCION'!P23 -> UND | E13: ='M.CANTID.FASE 1-ADUCCION'!O23 -> 1 | F13: =#REF! -> #REF! | G13: =ROUND((+E13*F13),0) -> #REF!
B14: ='M.CANTID.FASE 1-ADUCCION'!B24 -> 1.1.1.5. | C14: ='M.CANTID.FASE 1-ADUCCION'!C24 -> #REF! | D14: ='M.CANTID.FASE 1-ADUCCION'!P26 -> UND | E14: ='M.CANTID.FASE 1-ADUCCION'!O26 -> 1 | F14: =#REF! -> #REF! | G14: =ROUND((+E14*F14),0) -> #REF!
B15: ='M.CANTID.FASE 1-ADUCCION'!B27 -> 1.1.1.6. | C15: ='M.CANTID.FASE 1-ADUCCION'!C27 -> #REF! | D15: ='M.CANTID.FASE 1-ADUCCION'!P29 -> UND | E15: ='M.CANTID.FASE 1-ADUCCION'!O29 -> 1 | F15: =#REF! -> #REF! | G15: =ROUND((+E15*F15),0) -> #REF!
B16: ='M.CANTID.FASE 1-ADUCCION'!B30 -> 1.1.1.7. | C16: ='M.CANTID.FASE 1-ADUCCION'!C30 -> #REF! | D16: ='M.CANTID.FASE 1-ADUCCION'!P32 -> VIAJE | E16: ='M.CANTID.FASE 1-ADUCCION'!O32 -> 20 | F16: =#REF! -> #REF! | G16: =ROUND((+E16*F16),0) -> #REF!
C17: ='M.CANTID.FASE 1-ADUCCION'!C35 -> SUMINISTROS
B18: ='M.CANTID.FASE 1-ADUCCION'!B36 -> 1.1.1.8. | C18: ='M.CANTID.FASE 1-ADUCCION'!C36 -> #REF! | D18: ='M.CANTID.FASE 1-ADUCCION'!P38 -> ML | E18: ='M.CANTID.FASE 1-ADUCCION'!O38 -> 25 | F18: =#REF! -> #REF! | G18: =ROUND((+E18*F18),0) -> #REF!
B19: SUB-TOTAL OBRA CIVIL BOCATOMA-CAPTACION | G19: =SUM(G10:G16) -> #REF!
B20: SUB-TOTAL SUMINISTROS BOCATOMA-CAPTACION | G20: =SUM(G18) -> #REF!
B21: TOTAL: BOCATOMA | G21: =SUM(G19:G20) -> #REF! | I21: =G19+G20 -> #REF!
B22: ='M.CANTID.FASE 1-ADUCCION'!A40 -> 1.2. ADUCCIONES
B23: ='M.CANTID.FASE 1-ADUCCION'!B42 -> 1.2.1. | C23: ='M.CANTID.FASE 1-ADUCCION'!C42 -> ADUCCION BOCATOMA - DESARENADOR
C24: ='M.CANTID.FASE 1-ADUCCION'!C43 -> OBRA CIVIL
B25: ='M.CANTID.FASE 1-ADUCCION'!B45 -> 1.2.1.1. | C25: ='M.CANTID.FASE 1-ADUCCION'!C45 -> #REF! | D25: ='M.CANTID.FASE 1-ADUCCION'!P47 -> ML | E25: ='M.CANTID.FASE 1-ADUCCION'!O47 -> 166.98 | F25: =#REF! -> #REF! | G25: =ROUND((+E25*F25),0) -> #REF!
B26: ='M.CANTID.FASE 1-ADUCCION'!B48 -> 1.2.1.2. | C26: ='M.CANTID.FASE 1-ADUCCION'!C48 -> #REF! | D26: ='M.CANTID.FASE 1-ADUCCION'!P50 -> M3 | E26: ='M.CANTID.FASE 1-ADUCCION'!O50 -> 390.73 | F26: =#REF! -> #REF! | G26: =ROUND((+E26*F26),0) -> #REF!
B27: ='M.CANTID.FASE 1-ADUCCION'!B51 -> 1.2.1.3. | C27: ='M.CANTID.FASE 1-ADUCCION'!C51 -> #REF! | D27: ='M.CANTID.FASE 1-ADUCCION'!P53 -> M3 | E27: ='M.CANTID.FASE 1-ADUCCION'!O53 -> 77.27 | F27: =#REF! -> #REF! | G27: =ROUND((+E27*F27),0) -> #REF!
B28: ='M.CANTID.FASE 1-ADUCCION'!B54 -> 1.2.1.4. | C28: ='M.CANTID.FASE 1-ADUCCION'!C54 -> #REF! | D28: ='M.CANTID.FASE 1-ADUCCION'!P56 -> M3-Km | E28: ='M.CANTID.FASE 1-ADUCCION'!O56 -> 434.15 | F28: =#REF! -> #REF! | G28: =ROUND((+E28*F28),0) -> #REF!
B29: ='M.CANTID.FASE 1-ADUCCION'!B57 -> 1.2.1.5. | C29: ='M.CANTID.FASE 1-ADUCCION'!C57 -> #REF! | D29: ='M.CANTID.FASE 1-ADUCCION'!P59 -> M3 | E29: ='M.CANTID.FASE 1-ADUCCION'!O59 -> 303.9 | F29: =#REF! -> #REF! | G29: =ROUND((+E29*F29),0) -> #REF!
B30: ='M.CANTID.FASE 1-ADUCCION'!B60 -> 1.2.1.6. | C30: ='M.CANTID.FASE 1-ADUCCION'!C60 -> #REF! | D30: ='M.CANTID.FASE 1-ADUCCION'!P62 -> ML | E30: ='M.CANTID.FASE 1-ADUCCION'!O62 -> 166.98 | F30: =#REF! -> #REF! | G30: =ROUND((+E30*F30),0) -> #REF!
B31: ='M.CANTID.FASE 1-ADUCCION'!B63 -> 1.2.1.7. | C31: ='M.CANTID.FASE 1-ADUCCION'!C63 -> #REF! | D31: ='M.CANTID.FASE 1-ADUCCION'!P65 -> UND | E31: ='M.CANTID.FASE 1-ADUCCION'!O65 -> 1 | F31: =#REF! -> #REF! | G31: =ROUND((+E31*F31),0) -> #REF!
B32: ='M.CANTID.FASE 1-ADUCCION'!B66 -> 1.2.1.8. | C32: ='M.CANTID.FASE 1-ADUCCION'!C66 -> #REF! | D32: ='M.CANTID.FASE 1-ADUCCION'!P68 -> UND | E32: ='M.CANTID.FASE 1-ADUCCION'!O68 -> 2 | F32: =#REF! -> #REF! | G32: =ROUND((+E32*F32),0) -> #REF!
B33: ='M.CANTID.FASE 1-ADUCCION'!B69 -> 1.2.1.9. | C33: ='M.CANTID.FASE 1-ADUCCION'!C69 -> #REF! | D33: ='M.CANTID.FASE 1-ADUCCION'!P71 -> UND | E33: ='M.CANTID.FASE 1-ADUCCION'!O71 -> 1 | F33: =#REF! -> #REF! | G33: =ROUND((+E33*F33),0) -> #REF!
B34: ='M.CANTID.FASE 1-ADUCCION'!B72 -> 1.2.1.10. | C34: ='M.CANTID.FASE 1-ADUCCION'!C72 -> #REF! | D34: ='M.CANTID.FASE 1-ADUCCION'!P74 -> UND | E34: ='M.CANTID.FASE 1-ADUCCION'!O74 -> 2 | F34: =#REF! -> #REF! | G34: =ROUND((+E34*F34),0) -> #REF!
B35: ='M.CANTID.FASE 1-ADUCCION'!B75 -> 1.2.1.11. | C35: ='M.CANTID.FASE 1-ADUCCION'!C75 -> #REF! | D35: ='M.CANTID.FASE 1-ADUCCION'!P77 -> UND | E35: ='M.CANTID.FASE 1-ADUCCION'!O77 -> 1 | F35: =#REF! -> #REF! | G35: =ROUND((+E35*F35),0) -> #REF!
B36: ='M.CANTID.FASE 1-ADUCCION'!B78 -> 1.2.1.12. | C36: ='M.CANTID.FASE 1-ADUCCION'!C78 -> #REF! | D36: ='M.CANTID.FASE 1-ADUCCION'!P80 -> ML | E36: ='M.CANTID.FASE 1-ADUCCION'!O80 -> 50 | F36: =#REF! -> #REF! | G36: =ROUND((+E36*F36),0) -> #REF!
B37: ='M.CANTID.FASE 1-ADUCCION'!B81 -> 1.2.1.13. | C37: ='M.CANTID.FASE 1-ADUCCION'!C81 -> #REF! | D37: ='M.CANTID.FASE 1-ADUCCION'!P84 -> UND | E37: ='M.CANTID.FASE 1-ADUCCION'!O84 -> 3 | F37: =#REF! -> #REF! | G37: =ROUND((+E37*F37),0) -> #REF!
C38: ='M.CANTID.FASE 1-ADUCCION'!C87 -> SUMINISTROS
B39: ='M.CANTID.FASE 1-ADUCCION'!B88 -> 1.2.1.14. | C39: ='M.CANTID.FASE 1-ADUCCION'!C88 -> #REF! | D39: ='M.CANTID.FASE 1-ADUCCION'!P90 -> ML | E39: ='M.CANTID.FASE 1-ADUCCION'!O90 -> 166.98 | F39: =#REF! -> #REF! | G39: =ROUND((+E39*F39),0) -> #REF!
B40: SUB-TOTAL OBRA CIVIL ADUCCION BOCATOMA-DESARENADOR | G40: =SUM(G25:G37) -> #REF!
...

Sheet 01
B2: Formulario 1 - Propuesta económica - Documento tipo de licitación de obra pública de agua potable y saneamiento básico
B3: Código | C3: CCE-EICP-FM-47 | D3: Versión
D5: FORMULARIO 1
D6: PRESUPUESTO OFICIAL
A7: [La entidad puede utilizar este formulario de detalle del presupuesto oficial para determinar las condiciones bajo las cuales los proponentes analizarán y presentarán su propuesta económica de forma detallada, sin perjuicio que la entidad pueda modificarlo o establecer la presentación de la oferta económica con un formulario distinto al indicado.]
A9: Adicionalmente, cuando el proceso de contratación es estructurado por precios unitarios, la Entidad debe aplicar las notas 1, 2 y 3 del presente formulario y las casillas de "Descripción", "Porcentaje" de la Administración, Imprevisto, Utilidad y total A.I.U. resaltadas en color amarillo. Tratándose de otras modalidades de precio, la Entidad puede o no configurar los mismos aspectos.
A10: Nº | B10: ÍTEM DE PAGO | C10: ESPECIFICACIONES | D10: DESCRIPCIÓN | I10: UND. | J10: CANTIDAD | L10: VALOR UNITARIO | M10: VALOR TOTAL
C11: GENERAL
A12: "CONSTRUCCION SISTEMA DE ACUEDUCTO FASE II DEL MUNICIPIO DE TESALIA DPTO DEL HUILA" | P12: 0.29430391 | Q12: =+T12 -> 0
O14: OBRA | P14: SUMINISTRO
A15: CANTERA | B15: 5 | D15: RESIDUOS | E15: 5 | O15: 1.2943039 | P15: 0
H16: A -EMPATE CON LÍNEA DE ADUCCIÓN | M16: =SUM(M17:N31) -> 49302901
A17: A-01 | B17: APU COD | C17: PRELIMINARES
A18: A-01-01 | B18: =VLOOKUP(C18,'06'!$B$8:$N$225,13,FALSE) -> G001 | C18: LOCALIZACIÓN Y REPLANTEO DE REDES (NO INCLUYE EQUIPO DE TOPOGRAFÍA) | I18: =VLOOKUP(C18,'06'!$B$8:$N$225,7,FALSE) -> M | J18: =+'07'!N5 -> 6122.3552 | L18: ='08'!AF34 -> 5 | M18: =ROUND((+L18*J18),2) -> 30611.78 | O18: 5602.045 | P18: 28010.225
A19: A-02 | B19: APU COD | C19: EXCAVACIONES
A20: A-02-01 | B20: =VLOOKUP(C20,'06'!$B$8:$N$225,13,FALSE) -> G005 | C20: EXCAVACIÓN MECÁNICA EN MATERIAL COMÚN (INCLUYE MAQUINARIA) | I20: =VLOOKUP(C20,'06'!$B$8:$N$225,7,FALSE) -> M3 | J20: =+'07'!N49 -> 25587.553 | L20: ='08'!AF71 -> 4.5 | M20: =ROUND((+L20*J20),2) -> 115143.99 | O20: 25587.553 | P20: 115143.99
A21: A-03 | B21: APU COD | C21: RELLENOS
A22: A-03-01 | B22: =VLOOKUP(C22,'06'!$B$8:$N$225,13,FALSE) -> G008 | C22: RELLENO CON ARENA PARA BASE DE TUBERÍA | I22: =VLOOKUP(C22,'06'!$B$8:$N$225,7,FALSE) -> M3 | J22: =+'07'!N95 -> 114043.89 | L22: ='08'!AF108 -> 0.75 | M22: =ROUND((+L22*J22),2) -> 85532.92 | O22: 111398.91 | P22: 83549.18
A23: A-03-02 | B23: =VLOOKUP(C23,'06'!$B$8:$N$225,13,FALSE) -> G009 | C23: RELLENO CON TRITURADO PASANTE DE 3/4" | I23: =VLOOKUP(C23,'06'!$B$8:$N$225,7,FALSE) -> M3 | J23: =+'07'!N140 -> 175652.75 | L23: ='08'!AF145 -> 0.75 | M23: =ROUND((+L23*J23),2) -> 131739.57 | O23: 173007.77 | P23: 129755.83
A24: A-03-03 | B24: =VLOOKUP(C24,'06'!$B$8:$N$225,13,FALSE) -> G011 | C24: RELLENO CON MATERIAL SELECCIONADO DE LA EXCAVACIÓN, COMPACTADO CON EQUIPO MECÁNICO EN CAPAS DE 0,20 m | I24: =VLOOKUP(C24,'06'!$B$8:$N$225,7,FALSE) -> M3 | J24: =+'07'!N185 -> 30956.641 | L24: ='08'!AF182 -> 3 | M24: =ROUND((+L24*J24),2) -> 92869.92 | O24: 27555.986 | P24: 82667.959
A25: A-04 | B25: APU COD | C25: DISPOSICIÓN DE MATERIAL SOBRANTE
A26: A-04-01 | B26: =VLOOKUP(C26,'06'!$B$8:$N$225,13,FALSE) -> G013 | C26: RETIRO DE MATERIAL SOBRANTE HASTA BOTADERO AUTORIZADO (INCLUYE FACTOR DE EXPANSIÓN) | I26: =VLOOKUP(C26,'06'!$B$8:$N$225,7,FALSE) -> M3-KM | J26: =+'07'!N229 -> 3271.256 | L26: ='08'!AF219 -> 9.38 | M26: =ROUND((+L26*J26),2) -> 30684.38 | O26: 3271.256 | P26: 30684.382
A27: A-04-02 | B27: =VLOOKUP(C27,'06'!$B$8:$N$225,13,FALSE) -> G014 | C27: DISPOSICIÓN DE MATERIAL PROVENIENTE DE EXCAVACIÓN (NO INCLUYE TRANSPORTE) | I27: =VLOOKUP(C27,'06'!$B$8:$N$225,7,FALSE) -> M3 | J27: =+'07'!N274 -> 5824.3676 | L27: ='08'!AF256 -> 1.88 | M27: =ROUND((+L27*J27),2) -> 10949.81 | O27: 5824.3676 | P27: 10949.811
A28: A-05 | B28: APU COD | C28: TUBERIAS
A29: A-05-01 | B29: =VLOOKUP(C29,'06'!$B$8:$N$225,13,FALSE) -> G015 | C29: SUMINISTRO E INSTALACIÓN DE TUBERÍA PVC UM Ø6" RDE 21 (INCLUYE PEGAMENTO, LIMPIADOR, HERRAMIENTA MENOR Y MANO DE OBRA) | I29: =VLOOKUP(C29,'06'!$B$8:$N$225,7,FALSE) -> ML | J29: =+'07'!N319 -> 176933.22 | L29: ='08'!AF293 -> 5 | M29: =ROUND((+L29*J29),2) -> 884666.09 | O29: 175389.18 | P29: 876945.9
A30: A-06 | B30: APU COD | C30: ACCESORIOS Y OBRAS COMPLEMENTARIAS
A31: A-06-01 | B31: =VLOOKUP(C31,'06'!$B$8:$N$225,13,FALSE) -> G071 | C31: ESTACIÓN DE MACROMEDICIÓN L=1.90M, A=1.60M DE Ø6" A TODO COSTO (INCLUYE CONFORMACIÓN DE CAJA EN CONCRETO DE 4000 PSI, ACERO DE REFUERZO, TUBERÍA, ACCESORIOS, MATERIALES, HERRRAMIENTA MENOR Y MANO DE OBRA) | I31: =VLOOKUP(C31,'06'!$B$8:$N$225,7,FALSE) -> UND | J31: =+'07'!N2901 -> 47920703 | L31: ='08'!AF330 -> 1 | M31: =ROUND((+L31*J31),2) -> 47920703 | O31: 46325656 | P31: 46325656
H33: B - CÁMARA DE LLEGADA Y AQUIETAMIENTO DEL AGUA | M33: =SUM(M36:N61) -> 1.5153543e+08
A34: ITEM | B34: CAPITULO/DESCRIPCION | I34: UNID | J34: VALOR UNITARIO | L34: CANTIDAD | M34: VALOR PARCIAL
A35: B-01 | B35: APU COD | C35: PRELIMINARES
A36: B-01-01 | B36: =VLOOKUP(C36,'06'!$B$8:$N$225,13,FALSE) -> G978 | C36: LOCALIZACIÓN Y REPLANTEO. INCLUYE: MATERIALES, EQUIPOS, COMISIÓN TOPOGRÁFICA PARA CONTROL DE NIVELES PERMANENTES Y PLANOS RECORD. | I36: =VLOOKUP(C36,'06'!$B$8:$N$225,7,FALSE) -> M2 | J36: =+'07'!N1562 -> 5158.3411 | L36: ='08'!AF404 -> 47.23 | M36: =ROUND((+L36*J36),2) -> 243628.45 | O36: 4596.0306 | P36: 217070.53
A37: B-02 | B37: APU COD | C37: EXCAVACIONES
A38: B-02-01 | B38: =VLOOKUP(C38,'06'!$B$8:$N$225,13,FALSE) -> G005 | C38: EXCAVACIÓN MECÁNICA EN MATERIAL COMÚN (INCLUYE MAQUINARIA) | I38: =VLOOKUP(C38,'06'!$B$8:$N$225,7,FALSE) -> M3 | J38: =+'07'!N49 -> 25587.553 | L38: ='08'!AF442 -> 85.39 | M38: =ROUND((+L38*J38),2) -> 2184921.2 | O38: 25587.553 | P38: 2184921.2
A39: B-03 | B39: APU COD | C39: RELLENOS
A40: B-03-01 | B40: =VLOOKUP(C40,'06'!$B$8:$N$225,13,FALSE) -> G008 | C40: RELLENO CON ARENA PARA BASE DE TUBERÍA | I40: =VLOOKUP(C40,'06'!$B$8:$N$225,7,FALSE) -> M3 | J40: =+'07'!N95 -> 114043.89 | L40: ='08'!AF480 -> 1.64 | M40: =ROUND((+L40*J40),2) -> 187031.98 | O40: 111398.91 | P40: 182694.21
A41: B-03-02 | B41: =VLOOKUP(C41,'06'!$B$8:$N$225,13,FALSE) -> G004 | C41: RELLENO EN RECEBO COMUN PROVENIENTE DE MATERIAL DE PRESTAMO, COMPACTADO MECANICAMENTE. | I41: =VLOOKUP(C41,'06'!$B$8:$N$225,7,FALSE) -> M3 | J41: =+'07'!N409 -> 124202.22 | L41: ='08'!AF518 -> 11.93 | M41: =ROUND((+L41*J41),2) -> 1481732.5 | O41: 121563.24 | P41: 1450249.4
A42: B-03-03 | B42: =VLOOKUP(C42,'06'!$B$8:$N$225,13,FALSE) -> G011 | C42: RELLENO CON MATERIAL SELECCIONADO DE LA EXCAVACIÓN, COMPACTADO CON EQUIPO MECÁNICO EN CAPAS DE 0,20 m | I42: =VLOOKUP(C42,'06'!$B$8:$N$225,7,FALSE) -> M3 | J42: =+'07'!N185 -> 30956.641 | L42: ='08'!AF556 -> 26.4 | M42: =ROUND((+L42*J42),2) -> 817255.33 | O42: 27555.986 | P42: 727478.04
A43: B-04 | B43: APU COD | C43: DISPOSICIÓN DE MATERIAL SOBRANTE
A44: B-04-01 | B44: =VLOOKUP(C44,'06'!$B$8:$N$225,13,FALSE) -> G013 | C44: RETIRO DE MATERIAL SOBRANTE HASTA BOTADERO AUTORIZADO (INCLUYE FACTOR DE EXPANSIÓN) | I44: =VLOOKUP(C44,'06'!$B$8:$N$225,7,FALSE) -> M3-KM | J44: =+'07'!N229 -> 3271.256 | L44: ='08'!AF594 -> 368.69 | M44: =ROUND((+L44*J44),2) -> 1206079.4 | O44: 3271.256 | P44: 1206079.4
A45: B-04-02 | B45: =VLOOKUP(C45,'06'!$B$8:$N$225,13,FALSE) -> G014 | C45: DISPOSICIÓN DE MATERIAL PROVENIENTE DE EXCAVACIÓN (NO INCLUYE TRANSPORTE) | I45: =VLOOKUP(C45,'06'!$B$8:$N$225,7,FALSE) -> M3 | J45: =+'07'!N274 -> 5824.3676 | L45: ='08'!AF632 -> 73.74 | M45: =ROUND((+L45*J45),2) -> 429488.87 | O45: 5824.3676 | P45: 429488.87
...

Sheet 07
A1: LOCALIZACIÓN Y REPLANTEO DE REDES (NO INCLUYE EQUIPO DE TOPOGRAFÍA) | M1: =+'01'!$M$13 -> 0
A3: 1 | B3: 2 | C3: 3 | D3: 4 | E3: 5 | F3: 6 | G3: 7 | H3: 8 | I3: 9 | J3: 10 | K3: 11 | L3: 12 | M3: 13 | N3: 14
A4: G001 | B4: =A1 -> LOCALIZACIÓN Y REPLANTEO DE REDES (NO INCLUYE EQUIPO DE TOPOGRAFÍA) | C4: UNIDAD: | D4: M | E4: TOTAL | F4: =ROUNDUP(H4+J4+L4+N4,2) -> 4730.23 | G4: EQUIPO | H4: =M22 -> 124.0927 | I4: MATERIAL | J4: =M13 -> 2058.796 | K4: TRANSP. | L4: =M31 -> 65.486661 | M4: M.O. | N4: =M40 -> 2481.854
M5: AIU | N5: =+F4*'01'!$O$15 -> 6122.3552
A6: A - MATERIALES
A7: DESCRIPCIÓN | H7: UNIDAD | I7: TARIFA | K7: CANTIDAD | M7: SUB - TOTAL
A8: Estaca | H8: =IF(A8="","",VLOOKUP(A8,'10'!$C$6:$E$1152,2,FALSE)) -> Unidad | I8: =IF(A8="","",VLOOKUP(A8,'10'!$C$6:$E$1152,3,FALSE)) -> 3075 | K8: 0.3 | M8: =IF(A8="","",I8*K8) -> 922.5
A9: Pintura en aceite | H9: =IF(A9="","",VLOOKUP(A9,'10'!$C$6:$E$1152,2,FALSE)) -> Galón | I9: =IF(A9="","",VLOOKUP(A9,'10'!$C$6:$E$1152,3,FALSE)) -> 100912 | K9: 0.008 | M9: =IF(A9="","",I9*K9) -> 807.296
A10: Clavo de alta velocidad 1/4"X2" | H10: =IF(A10="","",VLOOKUP(A10,'10'!$C$6:$E$1152,2,FALSE)) -> Libra | I10: =IF(A10="","",VLOOKUP(A10,'10'!$C$6:$E$1152,3,FALSE)) -> 10000 | K10: 0.012 | M10: =IF(A10="","",I10*K10) -> 120
A11: Cinta señalización | H11: =IF(A11="","",VLOOKUP(A11,'10'!$C$6:$E$1152,2,FALSE)) -> ml | I11: =IF(A11="","",VLOOKUP(A11,'10'!$C$6:$E$1152,3,FALSE)) -> 209 | K11: 1 | M11: =IF(A11="","",I11*K11) -> 209
H12: =IF(A12="","",VLOOKUP(A12,'10'!$C$6:$E$1152,2,FALSE)) | I12: =IF(A12="","",VLOOKUP(A12,'10'!$C$6:$E$1152,3,FALSE)) | M12: =IF(A12="","",I12*K12)
K13: SUBTOTAL | M13: =SUM(M8:N12) -> 2058.796
A15: B - HERRAMIENTA, MAQUINARIA Y EQUIPO
A16: DESCRIPCIÓN | H16: UNIDAD | I16: TARIFA | K16: CANTIDAD | M16: SUB - TOTAL
A17: Herramienta Menor | H17: =IF(A17="","",VLOOKUP(A17,'11'!$C$6:$E$1012,2,FALSE)) -> #N/A | I17: =M40 -> 2481.854 | K17: 0.05 | M17: =IF(A17="","",I17*K17) -> 124.0927
H18: =IF(A18="","",VLOOKUP(A18,'11'!$C$6:$E$1012,2,FALSE)) | M18: =IF(A18="","",I18*K18)
H19: =IF(A19="","",VLOOKUP(A19,'11'!$C$6:$E$1012,2,FALSE)) | M19: =IF(A19="","",I19*K19)
H20: =IF(A20="","",VLOOKUP(A20,'11'!$C$6:$E$1012,2,FALSE)) | M20: =IF(A20="","",I20*K20)
H21: =IF(A21="","",VLOOKUP(A21,'11'!$C$6:$E$1012,2,FALSE)) | M21: =IF(A21="","",I21*K21)
K22: SUBTOTAL | M22: =SUM(M17:N21) -> 124.0927
A24: C - TRANSPORTE
A25: DESCRIPCIÓN | H25: UNIDAD | I25: TARIFA | K25: CANTIDAD | M25: SUB - TOTAL
A26: Transporte de herramienta | H26: % Mat | I26: =M13+M22 -> 2182.8887 | K26: 0.03 | M26: =IF(A26="","",I26*K26) -> 65.486661
M27: =IF(A27="","",I27*K27)
M28: =IF(A28="","",I28*K28)
M29: =IF(A29="","",I29*K29)
M30: =IF(A30="","",I30*K30)
K31: SUBTOTAL | M31: =SUM(M26:N30) -> 65.486661
A33: D - MANO DE OBRA
A34: DESCRIPCIÓN | H34: UNIDAD | I34: TARIFA | K34: F.M. | L34: REND. | M34: SUB - TOTAL
A35: Comisión de Topografía | H35: =IF(A35="","",VLOOKUP(A35,'09'!$A$22:$O$168,4,FALSE)) -> Cuadrilla | I35: =IF(A35="","",VLOOKUP(A35,'09'!$A$22:$O$168,5,FALSE)) -> 262637 | K35: =IF(A35="","",'03'!$I$2) -> 1.88995 | L35: 0.005 | M35: =IF(A35="","",I35*K35*L35) -> 2481.854
H36: =IF(A36="","",VLOOKUP(A36,'09'!$A$22:$O$168,4,FALSE)) | I36: =IF(A36="","",VLOOKUP(A36,'09'!$A$22:$O$168,5,FALSE)) | K36: =IF(A36="","",'03'!$I$2) | M36: =IF(A36="","",I36*K36*L36)
H37: =IF(A37="","",VLOOKUP(A37,'09'!$A$22:$O$168,4,FALSE)) | I37: =IF(A37="","",VLOOKUP(A37,'09'!$A$22:$O$168,5,FALSE)) | K37: =IF(A37="","",'03'!$I$2) | M37: =IF(A37="","",I37*K37*L37)
H38: =IF(A38="","",VLOOKUP(A38,'09'!$A$22:$O$168,4,FALSE)) | I38: =IF(A38="","",VLOOKUP(A38,'09'!$A$22:$O$168,5,FALSE)) | K38: =IF(A38="","",'03'!$I$2) | M38: =IF(A38="","",I38*K38*L38)
H39: =IF(A39="","",VLOOKUP(A39,'09'!$A$22:$O$168,4,FALSE)) | I39: =IF(A39="","",VLOOKUP(A39,'09'!$A$22:$O$168,5,FALSE)) | K39: =IF(A39="","",'03'!$I$2) | M39: =IF(A39="","",I39*K39*L39)
K40: SUBTOTAL | M40: =SUM(M35:N39) -> 2481.854
I43: Elaboración | K43: MARIO FERNANDO ESTRADA MORA
I44: Ingeniero Civil
A45: EXCAVACIÓN MECÁNICA EN MATERIAL COMÚN (INCLUYE MAQUINARIA) | M45: =+'01'!$M$13 -> 0
A48: G005 | B48: =A45 -> EXCAVACIÓN MECÁNICA EN MATERIAL COMÚN (INCLUYE MAQUINARIA) | C48: UNIDAD: | D48: M3 | E48: TOTAL | F48: =H48+J48+L48+N48 -> 19769.355 | G48: EQUIPO | H48: =M67 -> 19193.548 | I48: MATERIAL | J48: =M58 -> 0 | K48: TRANSP. | L48: =M76 -> 575.80645 | M48: M.O. | N48: =M85 -> 0
...

Sheet AIU
A1: ='01'!A12 -> "CONSTRUCCION SISTEMA DE ACUEDUCTO FASE II DEL MUNICIPIO DE TESALIA DPTO DEL HUILA" | K1: FECHA | M1: =N56 -> 4.4285295e+08
K2: 2026
A5: ESTRUCTURA DE COSTOS DE LA ADMINISTRACIÓN
B8: COSTO DIRECTO OC | D8: ='01'!M268 -> 2.2791768e+09
A10: A | B10: COSTOS DIRECTOS DE PERSONAL | P10: 2.1823726e+09
A11: ÍTEM | B11: CARGO/OFICIO | H11: CANTIDAD | I11: DEDICAC. (Mes) | J11: SUELDO Y/O TARIFA MENSUAL | L11: DURAC. (Meses) | M11: IMPACTO (%) | N11: VALOR PARCIAL ($)
A13: A.01 | B13: Director de obra | H13: 1 | I13: 0.3 | J13: 6500000 | L13: 5 | M13: =N13/$N$54 -> 0.022016337 | N13: =L13*I13*J13*H13 -> 9750000
A14: A.02 | B14: Especialista Estructural | H14: 1 | I14: 0.2 | J14: 6000000 | L14: 4 | M14: =N14/$N$54 -> 0.010838812 | N14: =L14*I14*J14*H14 -> 4800000
A15: A.04 | B15: Especialista Hidráulico | H15: 1 | I15: 0.2 | J15: 6000000 | L15: 4 | M15: =N15/$N$54 -> 0.010838812 | N15: =L15*I15*J15*H15 -> 4800000
A16: A.05 | B16: Profesional Civil (Residente de Obra) | H16: 1 | I16: 1 | J16: 3500000 | L16: 5 | M16: =N16/$N$54 -> 0.039516503 | N16: =L16*I16*J16*H16 -> 17500000
A17: A.06 | B17: Profesional Topógrafo | H17: 1 | I17: 0.5 | J17: 3500000 | L17: 4 | M17: =N17/$N$54 -> 0.015806601 | N17: =L17*I17*J17*H17 -> 7000000
A18: A.08 | B18: Profesional SST | H18: 1 | I18: 1 | J18: 3500000 | L18: 4 | M18: =N18/$N$54 -> 0.031613202 | N18: =L18*I18*J18*H18 -> 14000000
B20: PERSONAL ADMINISTRATIVO
B21: Personal de vigilancia en obra | H21: 1 | I21: 1 | J21: 2000000 | L21: 4 | M21: =N21/$N$54 -> 0.018064687 | N21: =I21*J21*L21 -> 8000000
H22: Subtotal Costos Directos de Personal | N22: =SUM(N13:N21) -> 65850000
H23: Factor Prestacional | N23: ='03'!$I$2 -> 1.88995
H24: Total Costos Directos de Personal Incluyendo Factor Prestacional | N24: =+N22*N23 -> 1.2445321e+08
A26: B | B26: OTROS COSTOS DIRECTOS
B27: DESCRIPCIÓN | H27: UNIDAD | I27: CANTIDAD | J27: SUELDO Y/O TARIFA MENSUAL | L27: DURACIÓN (Meses) | M27: IMPACTO (%) | N27: VALOR PARCIAL ($)
A29: B.01 | B29: Alquiler oficina | H29: MES | I29: 1 | J29: 800000 | L29: 5 | M29: =N29/$N$54 -> 0.0090323435 | N29: =J29*I29*L29 -> 4000000
A30: B.03 | B30: Gastos de oficina (papelería, mensajería, alquiler equipos de computo) | H30: MES | I30: 1 | J30: 500000 | L30: 5 | M30: =N30/$N$54 -> 0.0056452147 | N30: =J30*I30*L30 -> 2500000
A31: B.04 | B31: Vehículo camionetas pick up doble cabina | H31: MES | I31: 1 | J31: 6500000 | L31: 4 | M31: =N31/$N$54 -> 0.058710233 | N31: =J31*I31*L31 -> 26000000
A32: B.05 | B32: Ensayos y pruebas:asentamiento, ensayo de resistencia a compresión y ensayos de compactación | H32: MES | I32: 1 | J32: 974632.91 | L32: 4 | M32: =N32/$N$54 -> 0.0088032192 | N32: =J32*I32*L32 -> 3898531.6
A33: B.07 | B33: Instalaciones provisionales movilización y desmovilización | H33: MES | I33: 1 | J33: 2500000 | L33: 1 | M33: =N33/$N$54 -> 0.0056452147 | N33: =J33*L33*I33 -> 2500000
A34: B.09 | B34: Alquiler de equipo de topografía | H34: MES | I34: 0.5 | J34: 2000000 | L34: 4 | M34: =N34/$N$54 -> 0.0090323435 | N34: =J34*L34*I34 -> 4000000
B35: Valla del proyecto | H35: UND | I35: 1 | J35: 2000000 | L35: 1 | M35: =N35/$N$54 -> 0.0045161718 | N35: =J35*L35*I35 -> 2000000
H36: Subtotal Otros Costos Directos | N36: =SUM(N29:N35) -> 44898532
A38: C | B38: GARANTÍAS
B39: DESCRIPCIÓN | H39: cant | I39: CANTIDAD | J39: VALOR | L39: TARIFA | M39: IMPACTO (%) | N39: VALOR PARCIAL ($)
A41: C.01 | B41: Garantías | H41: UND | I41: 1 | J41: =D8 -> 2.2791768e+09 | L41: 0.015 | M41: =N41/$N$54 -> 0.077198653 | N41: =J41*I41*L41 -> 34187652
H42: Subtotal Otros Costos Directos | N42: =SUM(N41) -> 34187652
A44: D | B44: ESTAMPILLAS
B45: DESCRIPCIÓN | H45: UNIDAD | I45: CANTIDAD | J45: SUELDO Y/O TARIFA MENSUAL | L45: DURACIÓN (Meses) | M45: IMPACTO (%) | N45: VALOR PARCIAL ($)
A47: D.01 | B47: Pro desarrollo | H47: Unidad | I47: 0.02 | J47: =ROUND((I47*$D$8),0) -> 45583536 | L47: 1 | M47: =N47/$N$54 -> 0.10293154 | N47: =+J47*L47 -> 45583536
A48: D.02 | B48: Pro Cultura | H48: Unidad | I48: 0.015 | J48: =ROUND((I48*$D$8),0) -> 34187652 | L48: 1 | M48: =N48/$N$54 -> 0.077198654 | N48: =+J48*L48 -> 34187652
A49: D.03 | B49: Pro USCO | H49: Unidad | I49: 0.005 | J49: =ROUND((I49*$D$8),0) -> 11395884 | L49: 1 | M49: =N49/$N$54 -> 0.025732885 | N49: =+J49*L49 -> 11395884
A50: D.04 | B50: Pro deporte | H50: Unidad | I50: 0.015 | J50: =ROUND((I50*$D$8),0) -> 34187652 | L50: 1 | M50: =N50/$N$54 -> 0.077198654 | N50: =+J50*L50 -> 34187652
A51: D.04 | B51: Contribución | H51: Unidad | I51: 0.05 | J51: =ROUND((I51*$D$8),0) -> 113958839 | L51: 1 | M51: =N51/$N$54 -> 0.25732884 | N51: =+J51*L51 -> 113958839
H52: Subtotal Otros Costos Directos | N52: =SUM(N47:N51) -> 239313563
A54: NOTA: El director de obra y el Residente de Obra cuentan con un mes más de plazo , para que puedan liquidar contrato | H54: TOTAL COSTOS DIRECTOS DE PERSONAL + OTROS COSTOS DIRECTOS (A+B) | N54: =N24+N36+N42+N52 -> 4.4285295e+08
...

Sheet Hoja1
C1: TUBERIA | G1: TOTAL PROYECTO | I1: {=+'01'!I330:J330} -> 0 | J1: 0
C2: =+M4 -> 2353371.8 | P2: =+N4/2 -> 256.7
G3: % | I3: =(C2/I1)*100 -> #DIV/0!
M4: =+L7+L10+L13+L14+L15+L18+L21+L22+L23+L26+L27+L30+L33+L34+L35 -> 2353371.8 | N4: =+N7+N10+N13+N14+N15+N18+N21+N22+N23+N26+N27+N30+N33+N34+N35 -> 513.4 | O4: ML
C6: A-05 | D6: APU COD | E6: TUBERIAS
C7: A-05-01 | D7: =VLOOKUP(E7,'06'!$B$8:$N$225,13,FALSE) -> G015 | E7: SUMINISTRO E INSTALACIÓN DE TUBERÍA PVC UM Ø6" RDE 21 (INCLUYE PEGAMENTO, LIMPIADOR, HERRAMIENTA MENOR Y MANO DE OBRA) | K7: =VLOOKUP(E7,'06'!$B$8:$N$225,7,FALSE) -> ML | L7: 136401.88 | N7: 5
C9: B-07 | D9: APU COD | E9: TUBERIAS
C10: B-07-01 | D10: =VLOOKUP(E10,'06'!$B$8:$N$225,13,FALSE) -> G999 | E10: SUMINISTRO E INSTALACIÓN DE TUBERIA PVC UNION MECANICA DE 8". PRESIÓN DE TRABAJO 200 PSI. | K10: =VLOOKUP(E10,'06'!$B$8:$N$225,7,FALSE) -> ML | L10: 230829.94 | N10: 24
C12: C-07 | D12: APU COD | E12: TUBERIAS
C13: C-07-01 | D13: =VLOOKUP(E13,'06'!$B$8:$N$225,13,FALSE) -> G990 | E13: SUMINISTRO E INSTALACIÓN DE TUBERIA PVC UNION MECANICA DE 4". PRESIÓN DE TRABAJO 200 PSI. | K13: =VLOOKUP(E13,'06'!$B$8:$N$225,7,FALSE) -> ML | L13: 68862.265 | N13: 22
C14: C-07-02 | D14: =VLOOKUP(E14,'06'!$B$8:$N$225,13,FALSE) -> G989 | E14: SUMINISTRO E INSTALACIÓN DE TUBERIA PVC UNION MECANICA DE 6". PRESIÓN DE TRABAJO 200 PSI. | K14: =VLOOKUP(E14,'06'!$B$8:$N$225,7,FALSE) -> ML | L14: 139135.3 | N14: 30.5
C15: C-07-03 | D15: =VLOOKUP(E15,'06'!$B$8:$N$225,13,FALSE) -> G999 | E15: SUMINISTRO E INSTALACIÓN DE TUBERIA PVC UNION MECANICA DE 8". PRESIÓN DE TRABAJO 200 PSI. | K15: =VLOOKUP(E15,'06'!$B$8:$N$225,7,FALSE) -> ML | L15: 230829.94 | N15: 18
C17: D-07 | D17: APU COD | E17: TUBERIAS
C18: D-07-01 | D18: =VLOOKUP(E18,'06'!$B$8:$N$225,13,FALSE) -> G999 | E18: SUMINISTRO E INSTALACIÓN DE TUBERIA PVC UNION MECANICA DE 8". PRESIÓN DE TRABAJO 200 PSI. | K18: =VLOOKUP(E18,'06'!$B$8:$N$225,7,FALSE) -> ML | L18: 230829.94 | N18: 5 | P18: No. | Q18: Bien nacional relevante | R18: Fecha de inscripción | S18: Fecha de vigencia | T18: No. de partida arancelaria | U18: % de participación | V18: Puntaje individual de cada bien
P19: 1. | Q19: Cemento | R19: 45797 | S19: 46213 | T19: 2523210000 | U19: =+Hoja2!J3 -> #DIV/0! | V19: =+(U19*20)/(U19+U20) -> #DIV/0!
C20: E-07 | D20: APU COD | E20: TUBERIAS | P20: 2 | Q20: Tubería | R20: 45797 | S20: 46371 | T20: 3917239000 | U20: =+I3 -> #DIV/0! | V20: =+(U20*20)/(U20+U19) -> #DIV/0!
C21: E-07-01 | D21: =VLOOKUP(E21,'06'!$B$8:$N$225,13,FALSE) -> G990 | E21: SUMINISTRO E INSTALACIÓN DE TUBERIA PVC UNION MECANICA DE 4". PRESIÓN DE TRABAJO 200 PSI. | K21: =VLOOKUP(E21,'06'!$B$8:$N$225,7,FALSE) -> ML | L21: 68862.265 | N21: 16 | V21: 20
C22: E-07-02 | D22: =VLOOKUP(E22,'06'!$B$8:$N$225,13,FALSE) -> G989 | E22: SUMINISTRO E INSTALACIÓN DE TUBERIA PVC UNION MECANICA DE 6". PRESIÓN DE TRABAJO 200 PSI. | K22: =VLOOKUP(E22,'06'!$B$8:$N$225,7,FALSE) -> ML | L22: 139135.3 | N22: 75.5
C23: E-07-03 | D23: =VLOOKUP(E23,'06'!$B$8:$N$225,13,FALSE) -> G999 | E23: SUMINISTRO E INSTALACIÓN DE TUBERIA PVC UNION MECANICA DE 8". PRESIÓN DE TRABAJO 200 PSI. | K23: =VLOOKUP(E23,'06'!$B$8:$N$225,7,FALSE) -> ML | L23: 230829.94 | N23: 36
C25: F-07 | D25: APU COD | E25: TUBERIAS | V25: 17.549112
C26: F-07-01 | D26: =VLOOKUP(E26,'06'!$B$8:$N$225,13,FALSE) -> G990 | E26: SUMINISTRO E INSTALACIÓN DE TUBERIA PVC UNION MECANICA DE 4". PRESIÓN DE TRABAJO 200 PSI. | K26: =VLOOKUP(E26,'06'!$B$8:$N$225,7,FALSE) -> ML | L26: 68862.265 | N26: 31.4
C27: F-07-02 | D27: =VLOOKUP(E27,'06'!$B$8:$N$225,13,FALSE) -> G989 | E27: SUMINISTRO E INSTALACIÓN DE TUBERIA PVC UNION MECANICA DE 6". PRESIÓN DE TRABAJO 200 PSI. | K27: =VLOOKUP(E27,'06'!$B$8:$N$225,7,FALSE) -> ML | L27: 139135.3 | N27: 15
C29: H-07 | D29: APU COD | E29: TUBERIAS
C30: H-07-01 | D30: =VLOOKUP(E30,'06'!$B$8:$N$225,13,FALSE) -> G999 | E30: SUMINISTRO E INSTALACIÓN DE TUBERIA PVC UNION MECANICA DE 8". PRESIÓN DE TRABAJO 200 PSI. | K30: =VLOOKUP(E30,'06'!$B$8:$N$225,7,FALSE) -> ML | L30: 230829.94 | N30: 90
C32: I-05 | D32: APU COD | E32: TUBERIAS
C33: I-05-01 | D33: =VLOOKUP(E33,'06'!$B$8:$N$225,13,FALSE) -> G990 | E33: SUMINISTRO E INSTALACIÓN DE TUBERIA PVC UNION MECANICA DE 4". PRESIÓN DE TRABAJO 200 PSI. | K33: =VLOOKUP(E33,'06'!$B$8:$N$225,7,FALSE) -> ML | L33: 68862.265 | N33: 10
C34: I-05-02 | D34: =VLOOKUP(E34,'06'!$B$8:$N$225,13,FALSE) -> G989 | E34: SUMINISTRO E INSTALACIÓN DE TUBERIA PVC UNION MECANICA DE 6". PRESIÓN DE TRABAJO 200 PSI. | K34: =VLOOKUP(E34,'06'!$B$8:$N$225,7,FALSE) -> ML | L34: 139135.3 | N34: 20
C35: I-05-03 | D35: =VLOOKUP(E35,'06'!$B$8:$N$225,13,FALSE) -> G999 | E35: SUMINISTRO E INSTALACIÓN DE TUBERIA PVC UNION MECANICA DE 8". PRESIÓN DE TRABAJO 200 PSI. | K35: =VLOOKUP(E35,'06'!$B$8:$N$225,7,FALSE) -> ML | L35: 230829.94 | N35: 115

Sheet Hoja2
D1: CEMENTO | H1: TOTAL PROYECTO | L1: {=+'01'!I330:J330} -> 0 | M1: 0 | Q1: PRESUPUESTO | R1: APU | S1: CONCRETO
D2: =+U5 -> 2.3844597e+08
H3: % | J3: =+(D2/L1)*100 -> #DIV/0!
U5: =+U7+U8+U11+U12+U15+U16+U19+U20+U23+U24+U27+U28+U31+U32 -> 2.3844597e+08
A6: B-05 | B6: APU COD | C6: CONCRETOS | M6: APU COD | O6: APU
A7: B-05-01 | B7: =VLOOKUP(C7,'06'!$B$8:$N$225,13,FALSE) -> G018 | C7: CONCRETO PARA SOLADO, LIMPIEZA Y/O RELLENOS FLUIDOS (140KG/CM2) - ESPESOR=0.05 METROS. | I7: =VLOOKUP(C7,'06'!$B$8:$N$225,7,FALSE) -> M3 | J7: 550931.45 | L7: 1.49 | M7: G018 | N7: 2000 | O7: 230 | Q7: =+L7 -> 1.49 | R7: =+O7 -> 230 | S7: 800 | U7: =+Q7*R7*S7 -> 274160
