Workbook
Name \a: #REF!
Name \a: #REF!
Name \a: #REF!
Name \a: #N/A
Name \a: #REF!
Name \b: #REF!
Name \b: #REF!
Name \b: #REF!
Name \b: #REF!
Name \b: #REF!
Name \eliminar: [1]RESUM96!#REF!
Name \eliminar: [1]RESUM96!#REF!
Name \eliminar: [1]RESUM96!#REF!
Name \eliminar: [1]RESUM96!#REF!
Name \eliminar: [1]RESUM96!#REF!
Name \eliminar1: [1]RESUM96!#REF!
Name \eliminar1: [1]RESUM96!#REF!
Name \eliminar1: [1]RESUM96!#REF!
Name \i: [2]INSUMOS!#REF!
Name \i: [2]INSUMOS!#REF!
Name \i: [2]INSUMOS!#REF!
Name \m: [2]INSUMOS!#REF!
Name \m: [2]INSUMOS!#REF!
Name \m: [2]INSUMOS!#REF!
Name \q: #REF!
Name \q: #REF!
Name \q: #REF!
Name \q: #REF!
Name \q: #REF!
Name \r: [2]INSUMOS!#REF!
Name \r: [2]INSUMOS!#REF!
Name \r: [2]INSUMOS!#REF!
Name \r: [2]INSUMOS!#REF!
Name \s: #N/A
Name \t: [2]INSUMOS!#REF!
Name \t: [2]INSUMOS!#REF!
Name \t: [2]INSUMOS!#REF!
Name \t: [2]INSUMOS!#REF!
Name \X: [3]!ERR
Name \X: [3]!ERR
Name \Z: [3]!ERR
Name \Z: [3]!ERR
Name _: #REF!
Name _: #REF!
Name _: #REF!
Name _: #REF!
Name _: #REF!
Name _: #REF!
Name _________________________________apu1: [2]INSUMOS!#REF!
Name _________________________________apu1: [2]INSUMOS!#REF!
Name _________________________________apu1: [2]INSUMOS!#REF!
Name _________________________________apu1: [2]INSUMOS!#REF!
Name ________________________________apu1: [2]INSUMOS!#REF!
Name ________________________________apu1: [2]INSUMOS!#REF!
Name ________________________________apu1: [2]INSUMOS!#REF!
Name ________________________________apu1: [2]INSUMOS!#REF!
Name _______________________________apu1: [2]INSUMOS!#REF!
Name _______________________________apu1: [2]INSUMOS!#REF!
Name _______________________________apu1: [2]INSUMOS!#REF!
Name _______________________________apu1: [2]INSUMOS!#REF!

Sheet PRESUPUESTO
B3: DEPARTAMENTO DE LA GUAJIRA
B4: MUNICIPIO DE FONSECA
B5: SECRETARIA DE PLANEACIÓN MUNICIPAL
A6: PRESUPUESTO OFICIAL
A7: EJECUCIÓN DE OBRAS Y ACTIVIDADES DE MANTENIMIENTO INTEGRAL DEL SISTEMA DE DRENAJE PLUVIAL DEL MUNICIPIO DE FONSECA, DEPARTAMENTO DE LA GUAJIRA, MEDIANTE LA LIMPIEZA, DESCOLMATACIÓN, REMOCIÓN DE SEDIMENTOS Y RESIDUOS, INTERVENCIÓN DE ESTRUCTURAS EXISTENTES Y ACCIONES CORRECTIVAS EN EL ALCANTARILLADO PLUVIAL, CANAL A CIELO ABIERTO (EL CEQUIÓN) Y CANAL DEL ZAINO, CON EL PROPÓSITO DE OPTIMIZAR SU FUNCIONAMIENTO Y MITIGAR RIESGOS DE INUNDACIÓN.
A10: 1. ALCANTARILLADO PLUVIAL PRINCIPAL
A11: ÍTEM | B11: DESCRIPCIÓN | C11: UND | D11: CANT. | E11: VR. UNIT | F11: VR.TOTAL
A12: 1.1 | B12: Limpieza manual de sumideros, incluye monte y desmonte de rejilla en hierro pesada y retiro de material contaminado | C12: M2 | D12: 73.3 | E12: 71600 | F12: =D12*E12 -> 5248280
A13: 1.2 | B13: Limpieza manual de pozos de inspeccion, incluye retiro de material contaminado | C13: Und | D13: 28 | E13: 629000 | F13: =D13*E13 -> 17612000
A14: 1.3 | B14: Remocion de sedimentos de la red de alcantarillado pluvial mediante empleo de metodos mecanicos | C14: Dia | D14: 1 | E14: 5300000 | F14: =E14*D14 -> 5300000
A15: 1.4 | B15: Señalizacion preventiva para manejo de trafico | C15: ml | D15: 300 | E15: 11000 | F15: =D15*E15 -> 3300000
A16: 1.5 | B16: Eliminacion de conexiones sanitarias fraudulentas en el alcantarillado pluvial incluye sellado | C16: Und | D16: 15 | E16: 598913.38 | F16: =D16*E16 -> 8983700.7
E17: SUBTOTAL ALCANTARILLADO PLUVIAL | F17: =SUM(F12:F16) -> 40443981
A18: 2. CANAL A CIELO ABIERTO EL CEQUION
A19: 2.1 | B19: Limpieza manual de Canal Abierto Natural, incluye retiro de material contaminado | C19: m2 | D19: 720 | E19: 46682 | F19: =D19*E19 -> 33611040
A20: 2.2 | B20: Suministro e instalacion de vallas de 1.2 X 1 metro Incluye estructura metalica y plastificado para el sol y lluvias | C20: Und | D20: 2 | E20: 1255000 | F20: =E20*D20 -> 2510000
A21: 2.3 | B21: Señalizacion preventiva para manejo de trafico | C21: ml | D21: 80 | E21: 11000 | F21: =D21*E21 -> 880000
E22: SUBTOTAL CANAL EL CEQUION | F22: =SUM(F19:F21) -> 37001040
A23: 3. CANAL DEL ZAINO
A24: 3.1 | B24: Remoción de lodos y sedimentos del canal el zaino incluye retiro de material hasta sitio de disposición autorizado por la Secretaria de Planeación | C24: Ml | D24: 2500 | E24: 15300 | F24: =E24*D24 -> 38250000
A25: 3.2 | B25: Limpieza General y roceria manual en el perimetro del canal | C25: Glb | D25: 1 | E25: 4320000 | F25: =E25*D25 -> 4320000
A26: 3.3 | B26: Suministro e instalacion de vallas de 1.2 X 1 metro Incluye estructura metalica y plastificado para el sol y lluvias | C26: Und | D26: 5 | E26: 1255000 | F26: =E26*D26 -> 6275000
E27: SUBTOTAL CANAL DEL ZAINO | F27: =SUM(F24:F26) -> 48845000
A28: 4. SOCIALIZACION Y SENSIBILIZACION
A29: 4.1 | B29: Desarrollar jornadas de socializacion del proyecto con la comunidad | C29: Und | D29: 1 | E29: 1800000 | F29: =E29*D29 -> 1800000
A30: 4.2 | B30: Realizar talleres de educacion y sensibilizacion ambiental | C30: Und | D30: 4 | E30: 3870000 | F30: =E30*D30 -> 15480000
A31: 4.3 | B31: Realizar publicidad y divulgacion | C31: UND | D31: 1 | E31: 4800000 | F31: =E31*D31 -> 4800000
E32: SUBTOTAL SOCIALIZACION Y SENSIBILIZACION | F32: =F29+F31+F30 -> 22080000
B34: TOTAL COSTOS DIRECTOS | F34: =F32+F27+F22+F17 -> 1.4837002e+08
B35: DESCRIPCIÓN | E35: Porcentaje | F35: Valor Total
B36: ADMINISTRACIÓN | E36: 0.29 | F36: =E36*F34 -> 43027306
B37: IMPREVISTOS | E37: 0.01 | F37: =F34*E37 -> 1483700.2
B38: UTILIDAD | E38: 0.05 | F38: =F34*E38 -> 7418501
B39: TOTAL AIU | E39: =E36+E37+E38 -> 0.35 | F39: =SUM(F36:F38) -> 51929507
B40: VALOR TOTAL OBRAS | F40: =F39+F34 -> 200299528
B44: HERNANDO QUINTERO MANOTAS
B45: SECRETARIO DE PLANEACION MUNICIPAL

Sheet Ppto Interventoria
B4: DEPARTAMENTO DE LA GUAJIRA
B5: MUNICIPIO DE DISTRACCION
B6: SECRETARIA DE PLANEACIÓN MUNICIPAL
A7: PRESUPUESTO INTERVENTORIA
A8: CONSTRUCCIÓN CANCHA MULTIFUNCIONAL EN EL CORREGIMIENTO LOS HORNITOS DEL MUNICIPIO DE DISTRACCION, DEPARTAMENTO DE LA GUAJIRA.
C11: A | D11: B | E11: C | F11: D | G11: E | H11: F | I11: K
A12: No. | B12: Concepto | C12: SUELDO MES BASICO | D12: CANTIDAD | E12: % DEDICACIÓN | F12: F.M | G12: VALOR MES (A*B*C*D) | H12: NO. MESES | I12: TOTAL PARCIAL (E*F)
A13: 1 | B13: PERSONAL TECNICO
A14: 1.1 | B14: Director de Interventoria | C14: 2500000 | D14: 1 | E14: 0.4 | F14: 1.5797 | G14: =C14*D14*E14*F14 -> 1579700 | H14: 3 | I14: =G14*H14 -> 4739100
A15: 1.3 | B15: Ingeniiero/Arquitecto Residente de Interventoria | C15: 1800000 | D15: 1 | E15: 1 | F15: 1.5797 | G15: =C15*D15*E15*F15 -> 2843460 | H15: 3 | I15: =G15*H15 -> 8530380
B16: PERSONAL APOYO | G16: =C16*D16*E16*F16 -> 0 | I16: =G16*H16 -> 0
A17: 1.4 | B17: Contador | C17: 800000 | D17: 1 | E17: 0.3 | F17: 1.5797 | G17: =C17*D17*E17*F17 -> 379128 | H17: 3 | I17: =G17*H17 -> 1137384
F18: SUBTOTAL COSTOS PERSONAL | I18: =SUM(I14:I17) -> 14406864
B20: OTROS COSTOS DIRECTOS
A21: 2 | B21: OTROS COSTOS DIRECTOS | C21: UNIDAD | D21: CANTIDAD | E21: VALOR UNITARIO | I21: VALOR TOTAL
A22: 2.4 | B22: Alquiler computadores | C22: Mes | D22: 3 | E22: 50000 | I22: =D22*E22 -> 150000
A23: 2.6 | B23: Ensayos de Laboratorio 1 | C23: Mes | D23: 3 | E23: 100000 | I23: =D23*E23 -> 300000
F26: SUBTOTAL OTROS COSTOS DIRECTOS | I26: =SUM(I22:I25) -> 450000
F27: COSTO TOTAL | I27: =I18+I26 -> 14856864
G28: IVA (19%) | I28: =I27*0.19 -> 2822804.2
F29: VALOR TOTAL OFERTA | I29: =+I27+I28 -> 17679668
B34: JHONATAN ARLEY ROMERO POSSO | D34: LUIS GUSTAVO DAZA MURILLO
B35: Arquitecto. | D35: SECRETARIO DE PLANEACION MUNICIPAL

Sheet 1.1
A2: REPUBLICA DE COLOMBIA
A3: MUNICIPIO DE FONSECA | D3: ANÁLISIS DE PRECIOS UNITARIOS
A5: EJECUCIÓN DE OBRAS Y ACTIVIDADES DE MANTENIMIENTO INTEGRAL DEL SISTEMA DE DRENAJE PLUVIAL DEL MUNICIPIO DE FONSECA, DEPARTAMENTO DE LA GUAJIRA, MEDIANTE LA LIMPIEZA, DESCOLMATACIÓN, REMOCIÓN DE SEDIMENTOS Y RESIDUOS, INTERVENCIÓN DE ESTRUCTURAS EXISTENTES Y ACCIONES CORRECTIVAS EN EL ALCANTARILLADO PLUVIAL, CANAL A CIELO ABIERTO (EL CEQUIÓN) Y CANAL DEL ZAINO, CON EL PROPÓSITO DE OPTIMIZAR SU FUNCIONAMIENTO Y MITIGAR RIESGOS DE INUNDACIÓN.
A6: OBRA: | F6: ESPECIFICACIÓN:
A7: ITEM: | B7: =+PRESUPUESTO!A12 -> 1.1 | F7: UNIDAD : | G7: =+PRESUPUESTO!C12 -> M2
A8: =+PRESUPUESTO!B12 -> Limpieza manual de sumideros, incluye monte y desmonte de rejilla en hierro pesada y retiro de material contaminado
A9: I. EQUIPO
A10: Descripción | C10: Unidad | D10: Cantidad | E10: Valor-Unit. | F10: Valor-Total
A11: HIDROLAVADORA | C11: dia | D11: 0.1 | E11: 60000 | F11: =+D11*E11 -> 6000
A12: HERRAMIENTAS MENORES | C12: % S/M.0 | D12: 0.05 | E12: =+G37 -> 58586.929 | F12: =+E12*D12 -> 2929.3465
F17: Sub-Total | G17: =+F11+F12 -> 8929.3465
A18: II. MATERIALES EN OBRA
A19: Descripción | C19: Unidad | D19: Precio-Unit. | E19: Cantidad | F19: Valor-Unit.
F24: Sub-Total
A25: III. TRANSPORTES
A26: Material | B26: Vol. Peso ó Cant. | C26: Distancia | D26: M3-Km | E26: Tarifa | F26: Valor-Unit.
A27: DISPOSICION FINAL | B27: 0.5 | C27: 5 | D27: =+B27*C27 -> 2.5 | E27: 1600 | F27: =+D27*E27 -> 4000
F30: Sub-Total | G30: =+F27 -> 4000
A31: IV. MANO DE OBRA
A32: Trabajador | B32: Unidad | C32: Cantidad | D32: V. Unitario. | E32: Rendimiento/dia | F32: Valor-Unit.
A33: OFICIAL | B33: HH | C33: 50 | D33: 169492.88 | E33: =1/C33*8 -> 0.16 | F33: =+E33*D33 -> 27118.86
A34: AYUDANTE | B34: HH | C34: 35 | D34: 137672.8 | E34: =1/C34*8 -> 0.22857143 | F34: =+E34*D34 -> 31468.069
F37: Sub-Total | G37: =+F33+F34 -> 58586.929
D39: Total Costo Directo | G39: =+G17++G24+G30+G37 -> 71516.276
A40: V. COSTOS INDIRECTOS
A41: Descripción | E41: Porcentaje | F41: Valor Total
A42: ADMINISTRACION | E42: 0.28 | F42: =+$G$39*E42 -> 20024.557
A43: IMPREVISTOS | E43: 0.01 | F43: =+$G$39*E43 -> 715.16276
A44: UTILIDAD | E44: 0.04 | F44: =+$G$39*E44 -> 2860.651
F45: Sub-Total | G45: =+F42+F43+F44 -> 23600.371
C47: Precio unitario total aproximado al peso | G47: =+G39+G45 -> 95116.646

Sheet 1.2
A2: REPUBLICA DE COLOMBIA
A3: MUNICIPIO DE FONSECA | D3: ANÁLISIS DE PRECIOS UNITARIOS
A5: EJECUCIÓN DE OBRAS Y ACTIVIDADES DE MANTENIMIENTO INTEGRAL DEL SISTEMA DE DRENAJE PLUVIAL DEL MUNICIPIO DE FONSECA, DEPARTAMENTO DE LA GUAJIRA, MEDIANTE LA LIMPIEZA, DESCOLMATACIÓN, REMOCIÓN DE SEDIMENTOS Y RESIDUOS, INTERVENCIÓN DE ESTRUCTURAS EXISTENTES Y ACCIONES CORRECTIVAS EN EL ALCANTARILLADO PLUVIAL, CANAL A CIELO ABIERTO (EL CEQUIÓN) Y CANAL DEL ZAINO, CON EL PROPÓSITO DE OPTIMIZAR SU FUNCIONAMIENTO Y MITIGAR RIESGOS DE INUNDACIÓN.
A6: OBRA: | F6: ESPECIFICACIÓN:
A7: ITEM: | B7: =+PRESUPUESTO!A13 -> 1.2 | F7: UNIDAD : | G7: =+PRESUPUESTO!C13 -> Und
A8: =+PRESUPUESTO!B13 -> Limpieza manual de pozos de inspeccion, incluye retiro de material contaminado
A9: I. EQUIPO
A10: Descripción | C10: Unidad | D10: Cantidad | E10: Valor-Unit. | F10: Valor-Total
A11: Compresor (barrido y soplado) | C11: Hr | D11: 2 | E11: 77500 | F11: =+D11*E11 -> 155000
A12: HERRAMIENTAS MENORES | C12: % S/M.0 | D12: 0.05 | E12: =+G37 -> 413982.63 | F12: =+E12*D12 -> 20699.131
F17: Sub-Total | G17: =+F11+F12 -> 175699.13
A18: II. MATERIALES EN OBRA
A19: Descripción | C19: Unidad | D19: Precio-Unit. | E19: Cantidad | F19: Valor-Unit.
F24: Sub-Total
A25: III. TRANSPORTES
A26: Material | B26: Vol. Peso ó Cant. | C26: Distancia | D26: M3-Km | E26: Tarifa | F26: Valor-Unit.
A27: DISPOSICION FINAL | B27: 5 | C27: 5 | D27: =+B27*C27 -> 25 | E27: 1600 | F27: =+D27*E27 -> 40000
F30: Sub-Total | G30: =+F27 -> 40000
A31: IV. MANO DE OBRA
A32: Trabajador | B32: Unidad | C32: Cantidad | D32: V. Unitario. | E32: Rendimiento/dia | F32: Valor-Unit.
A33: OFICIAL | B33: HH | C33: 7 | D33: 169492.88 | E33: =1/C33*8 -> 1.1428571 | F33: =+E33*D33 -> 193706.15
A34: AYUDANTE | B34: HH | C34: 5 | D34: 137672.8 | E34: =1/C34*8 -> 1.6 | F34: =+E34*D34 -> 220276.48
F37: Sub-Total | G37: =+F33+F34 -> 413982.63
D39: Total Costo Directo | G39: =+G17++G24+G30+G37 -> 629681.76
A40: V. COSTOS INDIRECTOS
A41: Descripción | E41: Porcentaje | F41: Valor Total
A42: ADMINISTRACION | E42: 0.28 | F42: =+$G$39*E42 -> 176310.89
A43: IMPREVISTOS | E43: 0.01 | F43: =+$G$39*E43 -> 6296.8176
A44: UTILIDAD | E44: 0.04 | F44: =+$G$39*E44 -> 25187.27
F45: Sub-Total | G45: =+F42+F43+F44 -> 207794.98
C47: Precio unitario total aproximado al peso | G47: =+G39+G45 -> 837476.74

Sheet 1.3
A2: REPUBLICA DE COLOMBIA
A3: MUNICIPIO DE FONSECA | D3: ANÁLISIS DE PRECIOS UNITARIOS
A5: EJECUCIÓN DE OBRAS Y ACTIVIDADES DE MANTENIMIENTO INTEGRAL DEL SISTEMA DE DRENAJE PLUVIAL DEL MUNICIPIO DE FONSECA, DEPARTAMENTO DE LA GUAJIRA, MEDIANTE LA LIMPIEZA, DESCOLMATACIÓN, REMOCIÓN DE SEDIMENTOS Y RESIDUOS, INTERVENCIÓN DE ESTRUCTURAS EXISTENTES Y ACCIONES CORRECTIVAS EN EL ALCANTARILLADO PLUVIAL, CANAL A CIELO ABIERTO (EL CEQUIÓN) Y CANAL DEL ZAINO, CON EL PROPÓSITO DE OPTIMIZAR SU FUNCIONAMIENTO Y MITIGAR RIESGOS DE INUNDACIÓN.
A6: OBRA: | F6: ESPECIFICACIÓN:
A7: ITEM: | B7: =+PRESUPUESTO!A16 -> 1.5 | F7: UNIDAD : | G7: =+PRESUPUESTO!C16 -> Und
A8: =+PRESUPUESTO!B16 -> Eliminacion de conexiones sanitarias fraudulentas en el alcantarillado pluvial incluye sellado
A9: I. EQUIPO
A10: Descripción | C10: Unidad | D10: Cantidad | E10: Valor-Unit. | F10: Valor-Total
A11: Alquiler equipo Vactor | C11: Dia | D11: 1 | E11: 5000000 | F11: =+D11*E11 -> 5000000
A12: HERRAMIENTAS MENORES | C12: % S/M.0 | D12: 0.05 | E12: =+G36 -> 275345.6 | F12: =+D12*E12 -> 13767.28
F17: Sub-Total | G17: =+F11+F12 -> 5013767.3
A18: II. MATERIALES EN OBRA
A19: Descripción | C19: Unidad | D19: Precio-Unit. | E19: Cantidad | F19: Valor-Unit.
F24: Sub-Total
A25: III. TRANSPORTES
A26: Material | B26: Vol. Peso ó Cant. | C26: Distancia | D26: M3-Km | E26: Tarifa | F26: Valor-Unit.
F30: Sub-Total | G30: =+F27 -> 0
A31: IV. MANO DE OBRA
A32: Trabajador | B32: Unidad | C32: Cantidad | D32: V. Unitario. | E32: Rendimiento/dia | F32: Valor-Unit.
A33: AYUDANTE | B33: HH | C33: 4 | D33: 137672.8 | E33: =1/C33*8 -> 2 | F33: =+E33*D33 -> 275345.6
F36: Sub-Total | G36: =F33 -> 275345.6
D38: Total Costo Directo | G38: =+G17++G24+G30+G36 -> 5289112.9
A39: V. COSTOS INDIRECTOS
A40: Descripción | E40: Porcentaje | F40: Valor Total
A41: ADMINISTRACION | E41: 0.28 | F41: =+$G$38*E41 -> 1480951.6
A42: IMPREVISTOS | E42: 0.01 | F42: =+$G$38*E42 -> 52891.129
A43: UTILIDAD | E43: 0.04 | F43: =+$G$38*E43 -> 211564.52
F44: Sub-Total | G44: =+F41+F42+F43 -> 1745407.3
C46: Precio unitario total aproximado al peso | G46: =+G38+G44 -> 7034520.1

Sheet 2,1
A2: REPUBLICA DE COLOMBIA
A3: MUNICIPIO DE FONSECA | D3: ANÁLISIS DE PRECIOS UNITARIOS
A5: EJECUCIÓN DE OBRAS Y ACTIVIDADES DE MANTENIMIENTO INTEGRAL DEL SISTEMA DE DRENAJE PLUVIAL DEL MUNICIPIO DE FONSECA, DEPARTAMENTO DE LA GUAJIRA, MEDIANTE LA LIMPIEZA, DESCOLMATACIÓN, REMOCIÓN DE SEDIMENTOS Y RESIDUOS, INTERVENCIÓN DE ESTRUCTURAS EXISTENTES Y ACCIONES CORRECTIVAS EN EL ALCANTARILLADO PLUVIAL, CANAL A CIELO ABIERTO (EL CEQUIÓN) Y CANAL DEL ZAINO, CON EL PROPÓSITO DE OPTIMIZAR SU FUNCIONAMIENTO Y MITIGAR RIESGOS DE INUNDACIÓN.
A6: OBRA: | F6: ESPECIFICACIÓN:
A7: ITEM: | B7: =+PRESUPUESTO!A19 -> 2.1 | F7: UNIDAD : | G7: =+PRESUPUESTO!C19 -> m2
A8: =+PRESUPUESTO!B19 -> Limpieza manual de Canal Abierto Natural, incluye retiro de material contaminado
A9: I. EQUIPO
A10: Descripción | C10: Unidad | D10: Cantidad | E10: Valor-Unit. | F10: Valor-Total
A11: HERRAMIENTAS MENORES | C11: % S/M.0 | D11: 0.05 | E11: =+G36 -> 33047.619 | F11: =+E11*D11 -> 1652.381
F16: Sub-Total | G16: =F11 -> 1652.381
A17: II. MATERIALES EN OBRA
A18: Descripción | C18: Unidad | D18: Precio-Unit. | E18: Cantidad | F18: Valor-Unit.
F23: Sub-Total
A24: III. TRANSPORTES
A25: Material | B25: Vol. Peso ó Cant. | C25: Distancia | D25: M3-Km | E25: Tarifa | F25: Valor-Unit.
A26: DISPOSICION FINAL | B26: 0.4 | C26: 5 | D26: =+B26*C26 -> 2 | E26: 1600 | F26: =+D26*E26 -> 3200
F29: Sub-Total | G29: =+F26 -> 3200
A30: IV. MANO DE OBRA
A31: Trabajador | B31: Unidad | C31: Cantidad | D31: V. Unitario. | E31: Rendimiento/dia | F31: Valor-Unit.
A32: OFICIAL | B32: HH | C32: 8 | D32: 169492.88 | E32: 0.105 | F32: =+E32*D32 -> 17796.752
A33: AYUDANTE | B33: HH | C33: 32 | D33: 137672.8 | E33: 0.11077618 | F33: =+E33*D33 -> 15250.867
F36: Sub-Total | G36: =F33+F32 -> 33047.619
D38: Total Costo Directo | G38: =+G16++G23+G29+G36 -> 37900
A39: V. COSTOS INDIRECTOS
A40: Descripción | E40: Porcentaje | F40: Valor Total
A41: ADMINISTRACION | E41: 0.28 | F41: =+$G$38*E41 -> 10612
A42: IMPREVISTOS | E42: 0.01 | F42: =+$G$38*E42 -> 379
A43: UTILIDAD | E43: 0.04 | F43: =+$G$38*E43 -> 1516
F44: Sub-Total | G44: =+F41+F42+F43 -> 12507
C46: Precio unitario total aproximado al peso | G46: =+G38+G44 -> 50407

Sheet 3,1
A2: REPUBLICA DE COLOMBIA
A3: MUNICIPIO DE FONSECA | D3: ANÁLISIS DE PRECIOS UNITARIOS
A5: EJECUCIÓN DE OBRAS Y ACTIVIDADES DE MANTENIMIENTO INTEGRAL DEL SISTEMA DE DRENAJE PLUVIAL DEL MUNICIPIO DE FONSECA, DEPARTAMENTO DE LA GUAJIRA, MEDIANTE LA LIMPIEZA, DESCOLMATACIÓN, REMOCIÓN DE SEDIMENTOS Y RESIDUOS, INTERVENCIÓN DE ESTRUCTURAS EXISTENTES Y ACCIONES CORRECTIVAS EN EL ALCANTARILLADO PLUVIAL, CANAL A CIELO ABIERTO (EL CEQUIÓN) Y CANAL DEL ZAINO, CON EL PROPÓSITO DE OPTIMIZAR SU FUNCIONAMIENTO Y MITIGAR RIESGOS DE INUNDACIÓN.
A6: OBRA: | F6: ESPECIFICACIÓN:
A7: ITEM: | B7: 3.1 | F7: UNIDAD : | G7: =+PRESUPUESTO!C19 -> m2
A8: Remoción de lodos y sedimentos del canal el zaino incluye retiro de material hasta sitio de disposición autorizado por la Secretaria de Planeación
A9: I. EQUIPO
A10: Descripción | C10: Unidad | D10: Cantidad | E10: Valor-Unit. | F10: Valor-Total
A11: HERRAMIENTAS MENORES | C11: % S/M.0 | D11: 0.05 | E11: =+G36 -> 33047.619 | F11: =+E11*D11 -> 1652.381
F16: Sub-Total | G16: =F11 -> 1652.381
A17: II. MATERIALES EN OBRA
A18: Descripción | C18: Unidad | D18: Precio-Unit. | E18: Cantidad | F18: Valor-Unit.
F23: Sub-Total
A24: III. TRANSPORTES
A25: Material | B25: Vol. Peso ó Cant. | C25: Distancia | D25: M3-Km | E25: Tarifa | F25: Valor-Unit.
A26: DISPOSICION FINAL | B26: 0.4 | C26: 5 | D26: =+B26*C26 -> 2 | E26: 1600 | F26: =+D26*E26 -> 3200
F29: Sub-Total | G29: =+F26 -> 3200
A30: IV. MANO DE OBRA
A31: Trabajador | B31: Unidad | C31: Cantidad | D31: V. Unitario. | E31: Rendimiento/dia | F31: Valor-Unit.
A32: OFICIAL | B32: HH | C32: 8 | D32: 169492.88 | E32: 0.105 | F32: =+E32*D32 -> 17796.752
A33: AYUDANTE | B33: HH | C33: 32 | D33: 137672.8 | E33: 0.11077618 | F33: =+E33*D33 -> 15250.867
F36: Sub-Total | G36: =F33+F32 -> 33047.619
D38: Total Costo Directo | G38: =+G16++G23+G29+G36 -> 37900
A39: V. COSTOS INDIRECTOS
A40: Descripción | E40: Porcentaje | F40: Valor Total
A41: ADMINISTRACION | E41: 0.28 | F41: =+$G$38*E41 -> 10612
A42: IMPREVISTOS | E42: 0.01 | F42: =+$G$38*E42 -> 379
A43: UTILIDAD | E43: 0.04 | F43: =+$G$38*E43 -> 1516
F44: Sub-Total | G44: =+F41+F42+F43 -> 12507
C46: Precio unitario total aproximado al peso | G46: =+G38+G44 -> 50407

Sheet 3,2
A2: REPUBLICA DE COLOMBIA
A3: MUNICIPIO DE FONSECA | D3: ANÁLISIS DE PRECIOS UNITARIOS
A5: EJECUCIÓN DE OBRAS Y ACTIVIDADES DE MANTENIMIENTO INTEGRAL DEL SISTEMA DE DRENAJE PLUVIAL DEL MUNICIPIO DE FONSECA, DEPARTAMENTO DE LA GUAJIRA, MEDIANTE LA LIMPIEZA, DESCOLMATACIÓN, REMOCIÓN DE SEDIMENTOS Y RESIDUOS, INTERVENCIÓN DE ESTRUCTURAS EXISTENTES Y ACCIONES CORRECTIVAS EN EL ALCANTARILLADO PLUVIAL, CANAL A CIELO ABIERTO (EL CEQUIÓN) Y CANAL DEL ZAINO, CON EL PROPÓSITO DE OPTIMIZAR SU FUNCIONAMIENTO Y MITIGAR RIESGOS DE INUNDACIÓN.
A6: OBRA: | F6: ESPECIFICACIÓN:
A7: ITEM: | B7: 3.2 | F7: UNIDAD : | G7: =+PRESUPUESTO!C19 -> m2
A8: Limpieza General y roceria manual en el perimetro del canal
A9: I. EQUIPO
A10: Descripción | C10: Unidad | D10: Cantidad | E10: Valor-Unit. | F10: Valor-Total
A11: HERRAMIENTAS MENORES | C11: % S/M.0 | D11: 0.05 | E11: =+G35 -> 4152.381 | F11: =+E11*D11 -> 207.61905
F16: Sub-Total | G16: =F11 -> 207.61905
A17: II. MATERIALES EN OBRA
A18: Descripción | C18: Unidad | D18: Precio-Unit. | E18: Cantidad | F18: Valor-Unit.
F23: Sub-Total
A24: III. TRANSPORTES
A25: Material | B25: Vol. Peso ó Cant. | C25: Distancia | D25: M3-Km | E25: Tarifa | F25: Valor-Unit.
A26: DISPOSICION FINAL | B26: 0.4 | C26: 1 | D26: =+B26*C26 -> 0.4 | E26: 1600 | F26: =+D26*E26 -> 640
F29: Sub-Total | G29: =+F26 -> 640
A30: IV. MANO DE OBRA
A31: Trabajador | B31: Unidad | C31: Cantidad | D31: V. Unitario. | E31: Rendimiento/dia | F31: Valor-Unit.
A32: AYUDANTE | B32: HH | C32: 24 | D32: 137672.8 | E32: 0.03016123 | F32: =+E32*D32 -> 4152.381
F35: Sub-Total | G35: =F32 -> 4152.381
D37: Total Costo Directo | G37: =+G16++G23+G29+G35 -> 5000
A38: V. COSTOS INDIRECTOS
A39: Descripción | E39: Porcentaje | F39: Valor Total
A40: ADMINISTRACION | E40: 0.28 | F40: =+$G$37*E40 -> 1400
A41: IMPREVISTOS | E41: 0.01 | F41: =+$G$37*E41 -> 50
A42: UTILIDAD | E42: 0.04 | F42: =+$G$37*E42 -> 200
F43: Sub-Total | G43: =+F40+F41+F42 -> 1650
C45: Precio unitario total aproximado al peso | G45: =+G37+G43 -> 6650

Sheet 4,1
A2: REPUBLICA DE COLOMBIA
A3: MUNICIPIO DE FONSECA | D3: ANÁLISIS DE PRECIOS UNITARIOS
A5: EJECUCIÓN DE OBRAS Y ACTIVIDADES DE MANTENIMIENTO INTEGRAL DEL SISTEMA DE DRENAJE PLUVIAL DEL MUNICIPIO DE FONSECA, DEPARTAMENTO DE LA GUAJIRA, MEDIANTE LA LIMPIEZA, DESCOLMATACIÓN, REMOCIÓN DE SEDIMENTOS Y RESIDUOS, INTERVENCIÓN DE ESTRUCTURAS EXISTENTES Y ACCIONES CORRECTIVAS EN EL ALCANTARILLADO PLUVIAL, CANAL A CIELO ABIERTO (EL CEQUIÓN) Y CANAL DEL ZAINO, CON EL PROPÓSITO DE OPTIMIZAR SU FUNCIONAMIENTO Y MITIGAR RIESGOS DE INUNDACIÓN.
A6: OBRA: | F6: ESPECIFICACIÓN:
A7: ITEM: | B7: =+PRESUPUESTO!A29 -> 4.1 | F7: UNIDAD : | G7: =+PRESUPUESTO!C29 -> Und
A8: =+PRESUPUESTO!B29 -> Desarrollar jornadas de socializacion del proyecto con la comunidad
A9: I. EQUIPO
A10: Descripción | C10: Unidad | D10: Cantidad | E10: Valor-Unit. | F10: Valor-Total
A11: HERRAMIENTAS MENORES | C11: % S/M.0 | D11: 0.05 | E11: =+G35 -> 5506.912 | F11: =+E11*D11 -> 275.3456
F16: Sub-Total | G16: =F11 -> 275.3456
A17: II. MATERIALES EN OBRA
A18: Descripción | C18: Unidad | D18: Precio-Unit. | E18: Cantidad | F18: Valor-Unit.
A19: Elementos de señalización (conos, vallas, cinta,barricadas ) | C19: Und | D19: 50000 | E19: 0.1 | F19: =+D19*E19 -> 5000
F23: Sub-Total | G23: =+F19 -> 5000
A24: III. TRANSPORTES
A25: Material | B25: Vol. Peso ó Cant. | C25: Distancia | D25: M3-Km | E25: Tarifa | F25: Valor-Unit.
F29: Sub-Total | G29: =+F26 -> 0
A30: IV. MANO DE OBRA
A31: Trabajador | B31: Unidad | C31: Cantidad | D31: V. Unitario. | E31: Rendimiento/dia | F31: Valor-Unit.
A32: AYUDANTE | B32: HH | C32: 200 | D32: 137672.8 | E32: =1/C32*8 -> 0.04 | F32: =+E32*D32 -> 5506.912
F35: Sub-Total | G35: =F32 -> 5506.912
D37: Total Costo Directo | G37: =+G16++G23+G29+G35 -> 10782.258
A38: V. COSTOS INDIRECTOS
A39: Descripción | E39: Porcentaje | F39: Valor Total
A40: ADMINISTRACION | E40: 0.28 | F40: =+$G$37*E40 -> 3019.0321
A41: IMPREVISTOS | E41: 0.01 | F41: =+$G$37*E41 -> 107.82258
A42: UTILIDAD | E42: 0.04 | F42: =+$G$37*E42 -> 431.2903
F43: Sub-Total | G43: =+F40+F41+F42 -> 3558.145
C45: Precio unitario total aproximado al peso | G45: =+G37+G43 -> 14340.403

Sheet 4,2
A2: EJECUCIÓN DE OBRAS Y ACTIVIDADES DE MANTENIMIENTO INTEGRAL DEL SISTEMA DE DRENAJE PLUVIAL DEL MUNICIPIO DE FONSECA, DEPARTAMENTO DE LA GUAJIRA, MEDIANTE LA LIMPIEZA, DESCOLMATACIÓN, REMOCIÓN DE SEDIMENTOS Y RESIDUOS, INTERVENCIÓN DE ESTRUCTURAS EXISTENTES Y ACCIONES CORRECTIVAS EN EL ALCANTARILLADO PLUVIAL, CANAL A CIELO ABIERTO (EL CEQUIÓN) Y CANAL DEL ZAINO, CON EL PROPÓSITO DE OPTIMIZAR SU FUNCIONAMIENTO Y MITIGAR RIESGOS DE INUNDACIÓN.
A5: ITEMS | B5: 4.2 | C5: Socialización y Sensibilización ambiental en el AID del proyecto | E5: UNIDAD | F5: UN
A7: I. EQUIPO
A8: DESCRIPCION | C8: UNIDAD | D8: TARIFA/MES | E8: CANT | F8: VR. UNIT
A9: VIDEOBEAM Y OTROS | C9: GL | D9: 302000 | E9: 1 | F9: =D9*E9 -> 302000
E12: SUBTOTAL | F12: =SUM(F9:F11) -> 302000
A14: II. MATERIALES
A15: DESCRIPCION | C15: UNIDAD | D15: PRECIO UNIT | E15: CANT | F15: VR. UNITARIO
A16: PAPELERIA | C16: GL | D16: 600000 | E16: 1 | F16: 500000
E20: SUBTOTAL | F20: =SUM(F16:F19) -> 500000
A22: II. TRANSPORTE
A23: DESCRIPCION | C23: UNIDAD | D23: PRECIO UNIT | E23: CANT | F23: VR. UNITARIO
E28: SUBTOTAL | F28: =SUM(F24:F27) -> 0
A30: IV. MANO DE OBRA
A31: DESCRIPCION | B31: JORNADA/DIA | C31: PRESTACIONES | D31: TOTAL/JORNADA DIA | E31: REND/DIA | F31: VR. UNIT
A32: INGENIERO AMBIENTAL | B32: 500000 | C32: 1.98 | D32: =B32*C32 -> 990000 | E32: 0.9 | F32: =E32*D32 -> 891000
A33: TRABAJADORA SOCIAL | B33: 396745.23 | C33: 1.98 | D33: =B33*C33 -> 785555.56 | E33: 0.9 | F33: =E33*D33 -> 707000
E36: SUBTOTAL | F36: =SUM(F32:F35) -> 1598000
D38: TOTAL COSTO DIRECTO | F38: =F20+F36+F12 -> 2400000

Sheet AIU 
D1: DESGLOCE AIU
B2: MANTENIMIENTO PREVENTIVO Y CORRECTIVO DEL SISTEMA DE ALCANTARILLADO PLUVIAL Y CANAL PLUVIAL A CIELO ABIERTO (EL CEQUION) DEL MUNICIPIO DE FONSECA, DEPARTAMENTO DE LA GUAJIRA
B3: DESCRIPCION | D3: CANTIDAD | E3: % DEDICACION | F3: TIEMPO (MESES) | G3: ASIGNACION BASICA | H3: FACTOR Prestacional | I3: VALOR
B6: 1 | C6: PERSONAL
B7: 1.1 | C7: PERSONAL DIRECTIVO
B8: 1.1.2 | C8: Residente De Obra | D8: 1 | E8: 1 | F8: 2 | G8: 2120219.7 | H8: =+'[234]Factor Prestacional '!F33 -> 1.7057 | I8: =ROUND(+D8*E8*F8*G8*H8,2) -> 7232917.5
B9: 1.2 | C9: =+F98 -> 0
B10: 1.2.1 | C10: Profesional Siso | D10: 1 | E10: 0.4 | F10: 2 | G10: 1900000 | H10: =+'[234]Factor Prestacional '!G33 -> 1.6467 | I10: =ROUND(+D10*E10*F10*G10*H10,2) -> 2502984
B11: 1.3 | C11: PERSONAL DE STAFF
B12: 1.3.1 | C12: Especialistas En Estructura | D12: 1 | E12: 0.3 | F12: =+#REF! -> #REF! | G12: =+'[235]Factor Prestacional'!S10 -> 6500000 | H12: =+'[234]Factor Prestacional '!G33 -> 1.6467
B13: 1.3.2 | C13: Especialista En Geotecnio O Suelos | D13: 1 | E13: 0.3 | F13: =+F12 -> #REF! | G13: =+G12 -> 6500000 | H13: =H12 -> 1.6467
B14: 1.3.3 | C14: Especialistas Ambiental | D14: 1 | E14: 0.3 | F14: =+F13 -> #REF! | G14: =+G13 -> 6500000 | H14: =H13 -> 1.6467
B15: Subtotal Personal Técnico Administrativo | I15: =SUM(I8:I14) -> 9735901.5
B16: 2 | C16: COSTOS INDIRECTOS
B17: 2.1 | C17: Seguridad Indistrial
B18: 2.1.1 | C18: Elementos de Seguridad Industrial | D18: 1 | F18: 1 | G18: 100000 | I18: =G18*F18 -> 100000
B19: 2.3 | C19: COSTO OFICINA CENTRAL
B20: 2.3.1 | C20: Costo de Oficina Central | D20: 1 | F20: 2 | G20: 200000 | I20: =ROUND(D20*F20*G20,2) -> 400000
B21: 2.4 | C21: VARIOS
B22: 2.4.1 | C22: Papeleria y Copia, etc | D22: 1 | F22: 1 | G22: 150000 | I22: =ROUND(D22*F22*G22,2) -> 150000
B23: 2.5 | C23: IMPUESTOS
B24: 2.5.1 | C24: impuesto municipal | D24: 0.01 | F24: 1 | G24: =PRESUPUESTO!F34 -> 1.4837002e+08 | I24: =(ROUND(D24*F24*G24,2)) -> 1483700.2
B25: 2.5.2 | C25: Reteica | D25: 0.02 | F25: 1 | G25: =+G24 -> 1.4837002e+08 | I25: =(ROUND(D25*F25*G25,2)) -> 2967400.4
B26: 2.5.3 | C26: Contribucion especial para seguridad 5% | D26: 0.05 | F26: 1 | G26: =G25 -> 1.4837002e+08 | I26: =(ROUND(D26*F26*G26,2)) -> 7418501
B27: 2.5.4 | C27: Contribucion especial Pro Desarrollo Fronterizo | D27: 0.02 | F27: 1 | G27: =+G26 -> 1.4837002e+08 | I27: =(ROUND(D27*F27*G27,2)) -> 2967400.4
B28: 2.5.5 | C28: Contribucion especial Pro Deporte y recreacion | D28: 0.02 | F28: 1 | G28: =+G27 -> 1.4837002e+08 | I28: =(ROUND(D28*F28*G28,2)) -> 2967400.4
B29: 2.5.6 | C29: Contribucion especial Pro Cultura | D29: 0.02 | F29: 1 | G29: =+G28 -> 1.4837002e+08 | I29: =(ROUND(D29*F29*G29,2)) -> 2967400.4
B30: 2.5.7 | C30: Contribucion especial Pro Bienestar de Adulto Mayor | D30: 0.02 | F30: 1 | G30: =+G29 -> 1.4837002e+08 | I30: =(ROUND(D30*F30*G30,2)) -> 2967400.4
B31: 2.5.8 | C31: Contribucion especial Pro Departamento | D31: 0.02 | F31: 1 | G31: =+G30 -> 1.4837002e+08 | I31: =(ROUND(D31*F31*G31,2)) -> 2967400.4
B32: 2.5.9 | C32: Contribucion especial Pro justicia familiar | D32: 0.02 | F32: 1 | G32: =+G31 -> 1.4837002e+08 | I32: =(ROUND(D32*F32*G32,2)) -> 2967400.4
B33: 2.5.10 | C33: Contribucion especial Universidades Publica | D33: 0.02 | F33: 1 | G33: =+G31 -> 1.4837002e+08 | I33: =(ROUND(D33*F33*G33,2)) -> 2967400.4
C34: TOTAL GASTOS ADMINISTRATIVOS | I34: =+SUM(I17:I33) -> 33291405
F36: ADMINISTRACION | H36: 0.29 | I36: =+ROUND((I34+I15),2) -> 43027306
F37: IMPREVISTOS | H37: 0.01 | I37: =+G33*H37 -> 1483700.2
F38: UTILIDAD | H38: 0.05 | I38: =+H38*G33 -> 7418501
F40: TOTAL A. I. U. | H40: =SUM(H36:H38) -> 0.35 | I40: =ROUND(SUM(I36:I38),0) -> 51929507
C41: RETENCION EN LA FUENTE | G41: 0.02
C42: ESTAMPILLA PRO UNIVERSITARIO | G42: 0.01
C43: ESTAMPILLA PRO ADULTO MAYOR | G43: 0.03
C44: ESTAMPILLA PRO HOSPITAL | G44: 0.01
...

Sheet CANT 1.1 
A1: MEMORIAS DE CANTIDADES LIMPIEZA DE SUMIDEROS (1.1.)
A2: Ubicación | B2: Concepto | C2: Referencia | D2: Largo | E2: Ancho | F2: m2
A3: Diagonal 12 con 21 | B3: Sumidero Longitudinal 3 Margen derecha | C3: Frente al negocio de alarmas | D3: 2.375 | E3: 0.2 | F3: =D3*E3 -> 0.475
A4: Diagonal 12 con 21 | B4: Sumidero Longitudinal 4 Margen derecha | C4: Frente al negocio de alarmas | D4: 3.4 | E4: 0.6 | F4: =D4*E4 -> 2.04
A5: Carrera 21 con diagonal 12 | B5: Sumidero transversal Margen derecha | C5: frente a la tienda la 12 | D5: 7.3 | E5: 0.4 | F5: =D5*E5 -> 2.92
A6: Carrera 21 con diagonal 12 | B6: Sumidero longitudinal Margen derecha | C6: frente a metalvidrio | D6: 3.2 | E6: 0.6 | F6: =D6*E6 -> 1.92
A7: Carrera 21 con diagonal 12 | B7: Sumidero longitudinal Margen derecha | C7: frente a metalvidrio | D7: 3.8 | E7: 0.6 | F7: =D7*E7 -> 2.28
A8: Carrera 21 con diagonal 12 | B8: Sumidero longitudinal Margen izquierda | C8: diagonal a la renata parodi | D8: 3 | E8: 0.6 | F8: =D8*E8 -> 1.8
A9: Carrera 21 con diagonal 12 | B9: Sumidero longitudinal Margen izquierda | C9: diagonal a la renata parodi | D9: 3.6 | E9: 0.6 | F9: =D9*E9 -> 2.16
A10: carrera 20 glorieta monumento de fonseca | B10: Sumidero longitudinal Margen izquierda | C10: frente a drogas la rebaja | D10: 2.5 | E10: 0.5 | F10: =D10*E10 -> 1.25
A11: carrera 20 con calle 13 glorieta | B11: Sumidero longitudinal Margen derecha | C11: frente a supergiros | D11: 3.5 | E11: 0.6 | F11: =D11*E11 -> 2.1
A12: carrera 20 con calle 13 glorieta carril estacion | B12: Sumidero longitudinal Margen derecha | C12: carril estacion de riohacha | D12: 5 | E12: 0.5 | F12: =D12*E12 -> 2.5
A13: carrera 20 con calle 13 glorieta carril estacion | B13: Sumidero longitudinal Margen derecha | C13: carril estacion de riohacha | D13: 2.6 | E13: 0.5 | F13: =D13*E13 -> 1.3
A14: carrera 20 glorieta monumento de fonseca | B14: Sumidero longitudinal Margen izquierda | C14: frente a drogas la rebaja | D14: 3.5 | E14: 0.5 | F14: =D14*E14 -> 1.75
... A31: carrera 16 con calle 13 | B31: Sumidero longitudinal Margen izquierda | C31: frente al esquinazo | D31: 1.95 | E31: 0.5 | F31: =D31*E31 -> 0.975
A32: TOTAL SUMIDEROS | F32: =SUM(F3:F31) -> 60 | H32: 60
G33: =F32-H32 -> 0

Sheet CANT 1.2
A1: MEMORIAS DE CANTIDADES LIMPIEZA DE POZOS (1.2)
A2: Ubicación | B2: Cantidad de pozos | C2: Diametro | D2: Estado
A3: calle 13 entre carrera 21 y carrera 20 | B3: 3 | C3: 2.5
A4: calle 13 entre carrera 20 y carrera 19 | B4: MARGEN IZQUIERDA =3 | C4: 2.5
A5: calle 13 entre carrera 19 y carrera 18 | B5: MARGEN IZQUIERDA =2 | C5: 2.5
A6: calle 13 entre carrera 18 y carrera 17 | B6: MARGEN IZQUIERDA =1 | C6: 2.5
A7: calle 13 entre carrera 17 y carrera 16 | B7: MARGEN IZQUIERDA =1 | C7: 2.5
A8: calle 13 entre carrera 16 y carrera 15 | B8: MARGEN IZQUIERDA =2 | C8: 2.5
A9: tramo desde el cequion hacia la desembocadura | B9: 2 | C9: 2.5
A11: TOTAL POZOS | B11: 12

Sheet CANT 2
A1: MEMORIAS DE CANTIDADES LIMPIEZA DE CANAL EL CEQUION
A2: Ubicación | B2: DISTANCIA (ML) | C2: ANCHO CANAL | D2: TOTAL M2
A3: RECORRIDO CANAL EL CEQUION CARRERA 15 ENTRE CALLE 13 Y 11 | B3: 210 | C3: 2.2 | D3: =B3*C3 -> 462
A4: RECORRIDO CANAL CEQUION ENTRE EL REPOSO Y FINCAS ALEDAÑAS | B4: 129 | C4: 2 | D4: =B4*C4 -> 258
A5: TOTAL M2 | D5: =D3+D4 -> 720

Sheet CANT 3
A2: MEMORIAS DE CANTIDADES LIMPIEZA DE CANAL EL ZAINO
A3: 3,1 Remoción de lodos y sedimentos del canal el zaino incluye retiro de material hasta sitio de disposición autorizado por la Secretaria de Planeación
A4: Ubicación | B4: DISTANCIA (ML) | C4: ANCHO CANAL | D4: TOTAL M2
A5: RECORRIDO CANAL EL ZAINO | B5: 913.04348 | C5: 2.3 | D5: =B5*C5 -> 2100
A6: TOTAL M2 | D6: =D5 -> 2100
A8: 3,2 Limpieza General y roceria manual en el perimetro del canal
A9: Ubicación | B9: DISTANCIA (ML) | C9: ANCHO LIMPIEZA | D9: TOTAL M2
A10: RECORRIDO CANAL EL ZAINO LADO DERECHO | B10: 1320 | C10: 1.326 | D10: =C10*B10 -> 1750.32
A11: RECORRIDO CANAL EL ZAINO LADO IZQUIERDO | B11: 1320 | C11: 1.3255152 | D11: =C11*B11 -> 1749.68
A12: TOTAL M2 | D12: =D11+D10 -> 3500

Sheet CANT 4,1
A2: MEMORIAS DE CANTIDADES SEÑALIZACION (4,1)
A3: Ubicación | B3: ML DE SUMIDEROS | C3: TOTAL ML
A4: TOTAL SENALIZACION SUMIDEROS DURANTE SU LIMPIEZA | B4: 70 | C4: =B4 -> 70
A5: TOTAL SENALIZACION CANAL EL CEQUION DURANTE SU LIMPIEZA | B5: 50 | C5: =B5 -> 50
A6: TOTAL SENALIZACION CANAL DEL ZAINO DURANTE SU LIMPIEZA | B6: 55 | C6: =B6 -> 55
A7: TOTAL ML | C7: =C6+C5+C4 -> 175
A12: MEMORIAS DE CANTIDADES Socialización y Sensibilización ambiental en el AID del proyecto (4,2)
A13: Ubicación | B13: CANT | C13: TOTAL (UND)
A14: SOCIALIZACION DEL PROYECTO CHARLA INICIAL | B14: 1 | C14: =B14 -> 1
A15: CAMPAÑAS DE SENSIBILIZACION AMBIENTAL | B15: 2 | C15: =B15 -> 2
A16: TOTAL | C16: =C14+C15 -> 3

Sheet Factor Prestacional 
A1: CALCULO DEL FACTOR PRESTACIONAL
A2: VALOR REAL DEL SALARIO 2024 - AFECTACIÓN PRESTACIONAL ANUAL
A4: Salario minimo vigente | C4: 1750000 | D4: 2026
A5: Subsidio de transporte | C5: 250000 | D5: 2026
C6: SALARIO <= 2 SMMLV | F6: SALARIO > 2 SMMLV
A7: SALARIO | C7: PERSONAL TÉCNICO, OPERATIVO riesgo clase V | D7: PERSONAL OFICINA riesgo clase II | F7: PERSONAL TÉCNICO, OPERATIVO riesgo clase V | G7: PERSONAL OFICINA riesgo clase II
A8: Salario | C8: 1 | D8: 1 | F8: 1 | G8: 1
A9: PRESTACIONES SOCIALES
A10: Cesantias anuales | C10: 0.0833 | D10: 0.0833 | F10: 0.0833 | G10: 0.0833
A11: Interes sobre cesantia | C11: 0.01 | D11: 0.01 | F11: 0.01 | G11: 0.01
A12: Prima - 30 días | C12: 0.0833 | D12: 0.0833 | F12: 0.0833 | G12: 0.0833
A13: Vacaciones - 15 días | C13: 0.05 | D13: 0.05 | F13: 0.05 | G13: 0.05
A14: SUBTOTAL PRESTACIONES SOCIALES
A15: SEGURIDAD SOCIAL
A16: Pensiones | C16: 0.12 | D16: 0.12 | F16: 0.12 | G16: 0.12
A17: Salud (Afectado por la reforma tributaria) | C17: 0.085 | D17: 0.085 | F17: 0.085 | G17: 0.085
A18: Riesgos Profesionales (ARL) Personal De Obra | C18: 0.0694 | F18: 0.0694
A19: Riesgos Profesionales (ARL) Personal Oficina | D19: 0.0104 | G19: 0.0104
A20: Certificado trabajo seguro en alturas | C20: 0.0212
A21: SUBTOTAL SEGURIDAD SOCIAL
A22: APORTES PARAFISCALES
A23: SENA (Afectado por la reforma tributaria) - asumido por el CREE | C23: 0.02 | D23: 0.02 | F23: 0.02 | G23: 0.02
A24: ICBF (Afectado por la reforma tributaria) - asumido por el CREE | C24: 0.03 | D24: 0.03 | F24: 0.03 | G24: 0.03
A25: Caja de compensación familiar | C25: 0.04 | D25: 0.04 | F25: 0.04 | G25: 0.04
A26: FIC (Fondo Nacional de Formación Profesional de la Industria de la Construcción) | C26: 0.025 | D26: 0.025 | F26: 0.025 | G26: 0.025
A27: Subsidio de Transporte | C27: 0.1246 | D27: 0.1246
A28: Otros (Incapacidad no cubiertas EPS, Auxilios Varios) | C28: 0.0897 | D28: 0.0897 | F28: 0.0897 | G28: 0.0897
A29: SUBTOTAL PARAFISCALES
A30: DOTACIÓN
A31: Dotación | C31: 0.0417 | D31: 0.0417
A32: SUBTOTAL DOTACIÓN
A33: VALOR REAL DEL SALARIO | C33: =+SUM(C8:C31) -> 1.8932 | D33: =+SUM(D8:D31) -> 1.813 | F33: =+SUM(F8:F31) -> 1.7057 | G33: =+SUM(G8:G31) -> 1.6467

Sheet Personal 
C2: No. en salarios mínimos
A3: 1 AYUDANTE A | B3: SMMLV | C3: Factor sobre el SMMLV de la región | D3: (SMMLV FINAL+1 AT) | E3: día
A4: 2025 | B4: 1423500 | C4: 1.5 | D4: =IF([234]Cuadrillas!C4<=2,(B4*C4)+'[236]Salarios y prestaciones'!$C$13,(B4*C4)) -> 2218390 | E4: =+ROUND(D4/30,0) -> 73946
A6: 1 OFICIAL A | B6: SMMLV | D6: (SMMLV FINAL+1 AT) | E6: día
A7: =+A4 -> 2025 | B7: =+B4 -> 1423500 | C7: 2 | D7: =IF([234]Cuadrillas!C7<=2,(B7*C7)+'[236]Salarios y prestaciones'!$C$13,(B7*C7)) -> 2930140 | E7: =+ROUND(D7/30,0) -> 97671
A9: 1 OFICIAL A | B9: SMMLV | D9: (SMMLV FINAL+1 AT) | E9: día
A10: =+A7 -> 2025 | B10: =+B7 -> 1423500 | C10: 2.5 | D10: =IF([234]Cuadrillas!C10<=2,(B10*C10)+'[236]Salarios y prestaciones'!$C$13,(B10*C10)) -> 3558750 | E10: =+ROUND(D10/30,0) -> 118625
A18: Personal | B18: Und | C18: V. Jornal | D18: Prestaciones
A19: Ayudante Albañilería | B19: Dia | C19: =+E4 -> 73946 | D19: =+'[234]Factor Prestacional '!$C$33 -> 1.8932
A20: Oficial Albañilería | B20: Dia | C20: =+E7 -> 97671 | D20: =+D19 -> 1.8932
A21: Ayudante Pavimento | B21: Dia | C21: =+E4 -> 73946 | D21: =+'[234]Factor Prestacional '!$C$33 -> 1.8932
A22: Oficial Pavimento | B22: Dia | C22: =+E10 -> 118625 | D22: =+'[234]Factor Prestacional '!$F$33 -> 1.7057
A23: Ayudante Soldadura | B23: Dia | C23: =+E4 -> 73946 | D23: =+D21 -> 1.8932
A24: Soldador | B24: Dia | C24: =+E10 -> 118625 | D24: =+D22 -> 1.7057
A25: Ayudante Pintura | B25: Dia | C25: =+E4 -> 73946 | D25: =+D23 -> 1.8932
A26: Oficial Pintura | B26: Dia | C26: =+E7 -> 97671 | D26: =+D24 -> 1.7057

Sheet FACTOR MULTIPLICADOR 
B3: ANALISIS FACTOR MULTIPLICADOR | G3: ANALISIS FACTOR MULTIPLICADOR MAYORES DE 2SMMLV
B5: ANALISIS DEL FACTOR MULTIPLICADOR - COSTOS DIRECTOS | G5: ANALISIS DEL FACTOR MULTIPLICADOR - COSTOS DIRECTOS
B7: DESCRIPCION | C7: BASE | D7: FACTOR (%) | G7: DESCRIPCION | H7: BASE | I7: FACTOR (%)
B8: 1. SALARIO | G8: 1. SALARIO
B9: Salario | D9: 1 | G9: Salario | I9: 1
B11: SUB-TOTAL SALARIO | D11: =SUM(D9:D9) -> 1 | G11: SUB-TOTAL SALARIO | I11: =SUM(I9:I9) -> 1
B13: 2. CALCULOS PRESTACIONALES | G13: 2. CALCULOS PRESTACIONALES
B14: PRESTACIONES | G14: PRESTACIONES
B15: Cesantías por Ley | C15: E | D15: 0.0833 | G15: Cesantías por Ley | H15: E | I15: 0.0833
B16: Intereses sobre cesantías | D16: 0.01 | G16: Intereses sobre cesantías | I16: 0.01
B17: Vacaciones | C17: A | D17: 0.0417 | G17: Vacaciones | H17: A | I17: 0.0417
B18: Primas Anuales | C18: C | D18: 0.0833 | G18: Primas Anuales | H18: C | I18: 0.0833
B19: Subsidio familiar | D19: 0.04 | G19: Subsidio familiar | I19: 0.04
B20: APORTES SENA | G20: APORTES SENA
B21: Aporte Ordinario | D21: 0.02 | G21: Aporte Ordinario | I21: 0.02
B22: OTROS APORTES | G22: OTROS APORTES
B23: Caja de compensación | D23: 0.04 | G23: Caja de compensación | I23: 0.04
B24: ICBF | D24: 0.03 | G24: ICBF | I24: 0.03
B25: SEGURIDAD SOCIAL | G25: SEGURIDAD SOCIAL
B26: Pensión | C26: D | D26: 0.12 | G26: Pensión | H26: D | I26: 0.12
B27: Salud | C27: D | D27: 0.085 | G27: Salud | H27: D | I27: 0.085
B28: Aseguradora de Riesgos Laborales | C28: D | D28: 0.01044 | G28: Aseguradora de Riesgos Laborales | H28: D | I28: 0.01044
B29: GASTOS GENERALES | G29: GASTOS GENERALES
B30: Servicios Públicos | D30: 0.005 | G30: Servicios Públicos | I30: 0.005
B31: Cafetería General | D31: 0.01 | G31: Cafetería General | I31: 0.01
B32: Seguro Colectivo | C32: D | D32: 0.01 | G32: Seguro Colectivo | H32: D | I32: 0.01
B33: Auxilio de transporte | D33: 0.1246 | G33: Auxilio de transporte
B34: Fondo industria de la construcción | D34: 0.025 | G34: Fondo industria de la construcción | I34: 0.025
B35: Incapacidad no cubierta EPS y Medicina Prepagada | D35: 0.02 | G35: Incapacidad no cubierta EPS y Medicina Prepagada | I35: 0.02
B36: Seguros Oficina consultor | D36: 0.02 | G36: Seguros Oficina consultor | I36: 0.02
B38: Gastos Bancarios | D38: 0.01 | G38: Gastos Bancarios | I38: 0.01
B39: SUB-TOTAL C. PRESTACIONALES | D39: =SUM(D15:D38) -> 0.78834 | G39: SUB-TOTAL C. PRESTACIONALES | I39: =SUM(I15:I38) -> 0.66374
B41: SUB-TOTAL (1 + 2) | D41: =D39+D11 -> 1.78834 | G41: SUB-TOTAL (1 + 2) | I41: =I39+I11 -> 1.66374
B43: 3. COSTOS INDIRECTOS | G43: 3. COSTOS INDIRECTOS
B44: Alquiler Mobiliario Basico | D44: 0.02 | G44: Alquiler Mobiliario Basico | I44: 0.02
B45: Personal Administrativo y Profesional no facturado | D45: 0.02 | G45: Personal Administrativo y Profesional no facturado | I45: 0.02
B46: Equipos y Mantenimiento de Oficina | D46: 0.02 | G46: Equipos y Mantenimiento de Oficina | I46: 0.02
B47: Depreciación de muebles y equipos | D47: 0.02 | G47: Depreciación de muebles y equipos | I47: 0.02
B48: Capacitacion Personal (Cursos, Congresos, Seminarios) | D48: 0.015 | G48: Capacitacion Personal (Cursos, Congresos, Seminarios) | I48: 0.015
B49: Vigilancia y aseo | D49: 0.025 | G49: Vigilancia y aseo | I49: 0.025
...

Sheet PROGRAMACION 
A2: EJECUCIÓN DE OBRAS Y ACTIVIDADES DE MANTENIMIENTO INTEGRAL DEL SISTEMA DE DRENAJE PLUVIAL DEL MUNICIPIO DE FONSECA, DEPARTAMENTO DE LA GUAJIRA, MEDIANTE LA LIMPIEZA, DESCOLMATACIÓN, REMOCIÓN DE SEDIMENTOS Y RESIDUOS, INTERVENCIÓN DE ESTRUCTURAS EXISTENTES Y ACCIONES CORRECTIVAS EN EL ALCANTARILLADO PLUVIAL, CANAL A CIELO ABIERTO (EL CEQUIÓN) Y CANAL DEL ZAINO, CON EL PROPÓSITO DE OPTIMIZAR SU FUNCIONAMIENTO Y MITIGAR RIESGOS DE INUNDACIÓN.
A3: PROGRAMACIÓN Y FLUJO DE INVERSION SEMANAL
A5: ITEM | B5: DESCRIPCION | C5: VALOR TOTAL | D5: DURACION/ SEMANAS | E5: MES 1 | I5: MES 2
E6: semana 1 | F6: semana 2 | G6: semana 3 | H6: semana 4 | I6: semana 5 | J6: semana 6 | K6: semana 7 | L6: semana 8 | M6: TOTAL ACUMULADO
A8: EJECUCIÓN DE OBRAS Y ACTIVIDADES DE MANTENIMIENTO INTEGRAL DEL SISTEMA DE DRENAJE PLUVIAL DEL MUNICIPIO DE FONSECA, DEPARTAMENTO DE LA GUAJIRA, MEDIANTE LA LIMPIEZA, DESCOLMATACIÓN, REMOCIÓN DE SEDIMENTOS Y RESIDUOS, INTERVENCIÓN DE ESTRUCTURAS EXISTENTES Y ACCIONES CORRECTIVAS EN EL ALCANTARILLADO PLUVIAL, CANAL A CIELO ABIERTO (EL CEQUIÓN) Y CANAL DEL ZAINO, CON EL PROPÓSITO DE OPTIMIZAR SU FUNCIONAMIENTO Y MITIGAR RIESGOS DE INUNDACIÓN. | C8: =PRESUPUESTO!F40 -> 200299528 | D8: 8 | M8: =+SUM(E8:H8) -> 0
A12: =+'[234]PPTO GRAL'!B13 -> 1.1 | B12: =PRESUPUESTO!B12 -> Limpieza manual de sumideros, incluye monte y desmonte de rejilla en hierro pesada y retiro de material contaminado | C12: =PRESUPUESTO!F12 -> 5248280 | D12: 3 | F12: =C12/3 -> 1749426.7 | G12: =F12 -> 1749426.7 | H12: =F12 -> 1749426.7 | M12: =+SUM(E12:H12) -> 5248280
C14: =+VLOOKUP(D13,'[237]PPTO FONSECA'!$B$7:$H$30,3,0) -> #N/A
A16: 1.2 | B16: =PRESUPUESTO!B13 -> Limpieza manual de pozos de inspeccion, incluye retiro de material contaminado | C16: =PRESUPUESTO!F13 -> 17612000 | D16: 2 | H16: {=G16:G17} -> 0 | J16: =G16/3 -> 0 | K16: =J16 -> 0 | L16: {=K16:K17} -> 0 | M16: =+SUM(E16:H16) -> 0
H17: 0 | L17: 0
C18: =+VLOOKUP(D17,'[237]PPTO FONSECA'!$B$7:$H$30,3,0) -> #N/A
A20: 1.3 | B20: =PRESUPUESTO!B16 -> Eliminacion de conexiones sanitarias fraudulentas en el alcantarillado pluvial incluye sellado | C20: =PRESUPUESTO!F16 -> 8983700.7 | D20: 1 | E20: =C20 -> 8983700.7 | I20: =G20 -> 0 | M20: =+SUM(E20:H20) -> 8983700.7
C22: =+VLOOKUP(D21,'[237]PPTO FONSECA'!$B$7:$H$30,3,0) -> #N/A
A24: 2.1 | B24: =PRESUPUESTO!B19 -> Limpieza manual de Canal Abierto Natural, incluye retiro de material contaminado | C24: =PRESUPUESTO!F19 -> 33611040 | D24: 3 | F24: =C24/3 -> 11203680 | G24: =F24 -> 11203680 | H24: =G24 -> 11203680 | J24: =G24/3 -> 3734560 | K24: =J24 -> 3734560 | L24: =K24 -> 3734560 | M24: =+SUM(E24:H24) -> 33611040
C26: =+VLOOKUP(D25,'[237]PPTO FONSECA'!$B$7:$H$30,3,0) -> #N/A
A28: 3.1 | B28: Remoción de lodos y sedimentos del canal el zaino incluye retiro de material hasta sitio de disposición autorizado por la Secretaria de Planeación | C28: =PRESUPUESTO!F24 -> 38250000 | D28: 3
A32: 3.2 | B32: Limpieza General y roceria manual en el perimetro del canal | C32: =PRESUPUESTO!F25 -> 4320000 | D32: 3
A36: 4.1 | B36: Señalizacion preventiva para manejo de trafico | C36: =PRESUPUESTO!F29 -> 1800000 | D36: 4
A40: 4.2 | B40: Socialización y Sensibilización ambiental en el AID del proyecto | C40: =PRESUPUESTO!F31 -> 4800000 | D40: 3 | F40: =C40/3 -> 1600000 | G40: =F40 -> 1600000 | H40: =G40 -> 1600000 | J40: =G40/3 -> 533333.33 | K40: =J40 -> 533333.33 | L40: =K40 -> 533333.33 | M40: =+SUM(E40:H40) -> 4800000
A44: COSTOS DIRECTOS | C44: =C40+C24+C20+C16+C12+C36+C32+C28 -> 1.1462502e+08 | D44: 4 | E44: =E20 -> 8983700.7 | F44: =F12+F16+F24+F40 -> 14553107 | G44: =G12+G16+G24+G40 -> 14553107 | H44: =H12+H16+H24+H40 -> 14553107 | I44: =I20 -> 0 | J44: =J12+J16+J24+J40 -> 4267893.3 | K44: =K12+K16+K24+K40 -> 4267893.3 | L44: =L12+L16+L24+L40 -> 4267893.3
A45: AIU 33% | C45: =C44*33% -> 37826257 | D45: 4 | E45: =E44*35% -> 3144295.3 | F45: =F44*35% -> 5093587.3 | G45: =G44*35% -> 5093587.3 | H45: =H44*35% -> 5093587.3 | I45: =I44*35% -> 0 | J45: =J44*35% -> 1493762.7 | K45: =K44*35% -> 1493762.7 | L45: =L44*35% -> 1493762.7
A46: COSTOS TOTALES | C46: =C44+C45 -> 1.5245128e+08 | D46: =+D8 -> 8 | E46: =E44+E45 -> 12127996 | F46: =F44+F45 -> 19646694 | G46: =G44+G45 -> 19646694 | H46: =H44+H45 -> 19646694 | I46: =I44+I45 -> 0 | J46: =J44+J45 -> 5761656 | K46: =K44+K45 -> 5761656 | L46: =L44+L45 -> 5761656
A47: PROGRAMADO | B47: Valor Semana | E47: =E46 -> 12127996 | F47: =F46 -> 19646694 | G47: =G46 -> 19646694 | H47: =H46 -> 19646694 | I47: =I46 -> 0 | J47: =J46 -> 5761656 | K47: =K46 -> 5761656 | L47: =L46 -> 5761656 | M47: =SUM(E48:H48) -> 0.46616912
B48: % Semana | E48: =+E47/$C$46 -> 0.079553259 | F48: =+F47/$C$46 -> 0.12887195 | G48: =+G47/$C$46 -> 0.12887195 | H48: =+H47/$C$46 -> 0.12887195 | I48: =+I47/$C$46 -> 0 | J48: =+J47/$C$46 -> 0.037793425 | K48: =+K47/$C$46 -> 0.037793425 | L48: =+L47/$C$46 -> 0.037793425
B49: Valor Acumulado Semana | E49: =+E47 -> 12127996 | F49: =+E49+F47 -> 31774690 | G49: =+F49+G47 -> 51421384 | H49: =+G49+H47 -> 71068078 | I49: =+I47 -> 0 | J49: =+I49+J47 -> 5761656 | K49: =+J49+K47 -> 11523312 | L49: =+K49+L47 -> 17284968
B50: % Acumulado Semana | E50: =+E48 -> 0.079553259 | F50: =+F48+E50 -> 0.20842521 | G50: =+G48+F50 -> 0.33729717 | H50: =+H48+G50 -> 0.46616912 | I50: =+I48 -> 0 | J50: =+J48+I50 -> 0.037793425 | K50: =+K48+J50 -> 0.075586851 | L50: =+L48+K50 -> 0.11338028
A51: INVERSION MENSUAL PROGRAMADA
A53: EJECUTADO | B53: Valor Semana | E53: =E49 -> 12127996 | F53: =F47 -> 19646694 | G53: =G47 -> 19646694 | H53: =H47 -> 19646694 | I53: =I49 -> 0 | J53: =J47 -> 5761656 | K53: =K47 -> 5761656 | L53: =L47 -> 5761656 | M53: =+SUM(E54:H54) -> 0.46616912
B54: % Semana | E54: =+E53/$C$46 -> 0.079553259 | F54: =+F53/$C$46 -> 0.12887195 | G54: =+G53/$C$46 -> 0.12887195 | H54: =+H53/$C$46 -> 0.12887195 | I54: =+I53/$C$46 -> 0 | J54: =+J53/$C$46 -> 0.037793425 | K54: =+K53/$C$46 -> 0.037793425 | L54: =+L53/$C$46 -> 0.037793425
B55: Valor Acumulado Semana | E55: =+E53 -> 12127996 | F55: =+F53+E55 -> 31774690 | G55: =+G53+F55 -> 51421384 | H55: =+H53+G55 -> 71068078 | I55: =+I53 -> 0 | J55: =+J53+I55 -> 5761656 | K55: =+K53+J55 -> 11523312 | L55: =+L53+K55 -> 17284968
B56: % Acumulado Semana | E56: =+E54 -> 0.079553259 | F56: =+F54+E56 -> 0.20842521 | G56: =+G54+F56 -> 0.33729717 | H56: =+H54+G56 -> 0.46616912 | I56: =+I54 -> 0 | J56: =+J54+I56 -> 0.037793425 | K56: =+K54+J56 -> 0.075586851 | L56: =+L54+K56 -> 0.11338028
E57: SEMANA 1 | F57: SEMANA 2 | G57: SEMANA 3 | H57: SEMANA 4 | I57: SEMANA 5 | J57: SEMANA 6 | K57: SEMANA 7 | L57: SEMANA 8
